{"text_format":"1","workbook":"xlsx","n_sheets":4,"sheets":["Instructions","Time","Lookups","Template"],"not_rendered":{"charts":0,"images":0,"macros":1,"external_links":0,"defined_names":6,"comments":1,"pivot_tables":0},"unopened":[],"bounds":{"document_bytes":16777216,"sheet_cells":100000,"rows_first":2000,"rows_last":500,"rows_between":2000,"halvings":0,"cell_chars":16384,"cell_head_chars":4096},"cells_cut":0,"cells_raw":0,"read":"whole","date_system":"1900"}

{"sheet":"Instructions","index":0,"n_rows":39,"n_cols":11,"rows_kept":39,"cut":false,"hidden":false,"merged":[[2,10,2,20],[1,1,2,8],[31,0,34,9],[20,1,25,8],[26,1,27,8],[3,1,6,8],[7,1,11,8],[12,1,19,8]]}
["Instructions for usage"]
[1,"In the yellow box to the right, set a folder where you want to save time details to support invoices you send to your clients.",null,null,null,null,null,null,null,null,"Invoice Folder:"]
[]
[{"$f":"A2+1","v":2},"On the Lookups sheet, list the different clients you are working with in column A.  You can also just enter your name if you want to track your personal time spent on different projects.  As you add new clients to this list, they will be options in the drop-down list in column A on the Time sheet."]
[]
[]
[]
[{"$f":"A4+1","v":3},"Next, also on the Lookups sheet, list the different projects you are working on, and select the client associated with each project.  Include enough descriptions to distinguish each project, such as a date range, category, etc.  You can optionally include the default hourly rate you would charge for each project and that will flow into the hourly rate (column M) on the Time sheet."]
[]
[]
[]
[]
[{"$f":"A8+1","v":4},"On the Time sheet, select/enter the client, project, date, start/finish time, and add a description as to how the time was spent.  This way you have an accurate log should your client ask, and you have a record of how much time you are spending per client/project.  This will also help with invoicing clients accurately and timely.\n\nNote: the columns with yellow header fields are where you should select/enter data and the columns with green header fields have formulas that you likely don't want to change."]
[]
[]
[]
[]
[]
[]
[]
[{"$f":"A13+1","v":5},"To save off a separate file of time details to include with invoices, go to the Time sheet and select a row containing time that has not yet been invoiced.  Then from this sheet, click the blue Create Invoice Details button (or run it from the macro list).  It will group all lines with a blank invoice number and the same client and project value, then assign the next incremental invoice number and save all the lines to a separate file.  If a line has already been saved to a file, it will alert you."]
[]
[]
[]
[]
[]
[{"$f":"A21+1","v":6},"When you send an invoice to a client, on the Time sheet, mark the status as \"Billed\" for the lines with that invoice number.  When they are paid, mark the status as \"Paid.\""]
[]
[]
[]
["Development Notes",null,null,null,null,null,null,"Last updated:",null,"2022-06-02"]
["This template was developed by Derek Henry, CPA, CFE to use for tracking freelance finance and other consulting work.  It can be used, modified, and distributed without limitation.  The developer and any affiliates assume no liability for any damages caused based on the reliance of this file.  Adequate testing for your use case is highly recommended."]
[]
[]
[]
["The live version of this file is hosted at:"]
["https://excelevate.co/wp/wp-content/uploads/2022/07/Time-Tracker-Template_2022-06-02.xlsm"]
["For comments, questions, and suggestions, please submit them at:"]
["https://excelevate.co/wp/index.php/home/support/feedback-form/"]

{"sheet":"Time","index":1,"n_rows":5000,"n_cols":17,"rows_kept":5000,"cut":false,"hidden":false,"merged":[]}
[null,null,null,null,null,{"$f":"SUM(F3:F502)","v":4},null,{"$f":"SUM(H3:H502)","v":3},null,null,{"$f":"SUM(K3:K502)","v":0},{"$f":"SUM(L3:L502)","v":3},null,null,null,"Unpaid $",{"$f":"SUMPRODUCT($L$3:$L$504,$M$3:$M$504)","v":150}]
["Client","Project","Date","Start","Finish","Hours","Travel/meal adj.","Adj Hours","Status","Inv #","Paid","Unpaid","Hourly Rate","Extended $","Notes","Invoice_Group"]
["Client 1","Project 1","2022-06-02","10:00:00","12:00:00",{"$f":"IF(OR(D3=\"\",E3=\"\"),\"\",ROUND((E3-D3)*24,2))","v":2},0.5,{"$f":"IF(F3=\"\",\"\",IF(G3<>\"\",F3*G3,F3))","v":1},null,101,{"$f":"IF(AND(H3<>\"\",I3=\"Paid\"),H3,\"\")","v":""},{"$f":"IF(H3=\"\",\"\",IF(K3=\"\",H3,H3-K3))","v":1},{"$f":"IF(OR(A3=\"\",B3=\"\"),\"\",VLOOKUP(A3&\"_\"&B3,Lookups!$E:$F,2,FALSE))","v":50},{"$f":"IF(AND(K3=\"\",L3=\"\"),\"\",IF(K3=\"\",L3*M3,SUM(K3,L3)*M3))","v":50},"[This row is an example, clear data in yellow header columns before using]",{"$f":"IF(OR(A3=\"\",B3=\"\"),\"\",A3&\"_\"&B3)","v":"Client 1_Project 1"}]
["Client 1","Project 1","2022-06-02","10:00:00","12:00:00",{"$f":"IF(OR(D4=\"\",E4=\"\"),\"\",ROUND((E4-D4)*24,2))","v":2},null,{"$f":"IF(F4=\"\",\"\",IF(G4<>\"\",F4*G4,F4))","v":2},null,101,{"$f":"IF(AND(H4<>\"\",I4=\"Paid\"),H4,\"\")","v":""},{"$f":"IF(H4=\"\",\"\",IF(K4=\"\",H4,H4-K4))","v":2},{"$f":"IF(OR(A4=\"\",B4=\"\"),\"\",VLOOKUP(A4&\"_\"&B4,Lookups!$E:$F,2,FALSE))","v":50},{"$f":"IF(AND(K4=\"\",L4=\"\"),\"\",IF(K4=\"\",L4*M4,SUM(K4,L4)*M4))","v":100},"[This row is an example, clear data in yellow header columns before using]",{"$f":"IF(OR(A4=\"\",B4=\"\"),\"\",A4&\"_\"&B4)","v":"Client 1_Project 1"}]
[null,null,null,null,null,{"$f":"IF(OR(D5=\"\",E5=\"\"),\"\",ROUND((E5-D5)*24,2))","v":""},null,{"$f":"IF(F5=\"\",\"\",IF(G5<>\"\",F5*G5,F5))","v":""},null,null,{"$f":"IF(AND(H5<>\"\",I5=\"Paid\"),H5,\"\")","v":""},{"$f":"IF(H5=\"\",\"\",IF(K5=\"\",H5,H5-K5))","v":""},{"$f":"IF(OR(A5=\"\",B5=\"\"),\"\",VLOOKUP(A5&\"_\"&B5,Lookups!$E:$F,2,FALSE))","v":""},{"$f":"IF(AND(K5=\"\",L5=\"\"),\"\",IF(K5=\"\",L5*M5,SUM(K5,L5)*M5))","v":""}]
[null,null,null,null,null,"",null,"",null,null,"","",{"$f":"IF(OR(A6=\"\",B6=\"\"),\"\",VLOOKUP(A6&\"_\"&B6,Lookups!$E:$F,2,FALSE))","v":""},""]
[null,null,null,null,null,"",null,"",null,null,"","",{"$f":"IF(OR(A7=\"\",B7=\"\"),\"\",VLOOKUP(A7&\"_\"&B7,Lookups!$E:$F,2,FALSE))","v":""},""]
[null,null,null,null,null,"",null,"",null,null,"","",{"$f":"IF(OR(A8=\"\",B8=\"\"),\"\",VLOOKUP(A8&\"_\"&B8,Lookups!$E:$F,2,FALSE))","v":""},""]
[null,null,null,null,null,"",null,"",null,null,"","",{"$f":"IF(OR(A9=\"\",B9=\"\"),\"\",VLOOKUP(A9&\"_\"&B9,Lookups!$E:$F,2,FALSE))","v":""},""]
[null,null,null,null,null,"",null,"",null,null,"","",{"$f":"IF(OR(A10=\"\",B10=\"\"),\"\",VLOOKUP(A10&\"_\"&B10,Lookups!$E:$F,2,FALSE))","v":""},""]
[null,null,null,null,null,"",null,"",null,null,"","",{"$f":"IF(OR(A11=\"\",B11=\"\"),\"\",VLOOKUP(A11&\"_\"&B11,Lookups!$E:$F,2,FALSE))","v":""},""]
[null,null,null,null,null,"",null,"",null,null,"","",{"$f":"IF(OR(A12=\"\",B12=\"\"),\"\",VLOOKUP(A12&\"_\"&B12,Lookups!$E:$F,2,FALSE))","v":""},""]
[null,null,null,null,null,"",null,"",null,null,"","",{"$f":"IF(OR(A13=\"\",B13=\"\"),\"\",VLOOKUP(A13&\"_\"&B13,Lookups!$E:$F,2,FALSE))","v":""},""]
[null,null,null,null,null,"",null,"",null,null,"","",{"$f":"IF(OR(A14=\"\",B14=\"\"),\"\",VLOOKUP(A14&\"_\"&B14,Lookups!$E:$F,2,FALSE))","v":""},""]
[null,null,null,null,null,"",null,"",null,null,"","",{"$f":"IF(OR(A15=\"\",B15=\"\"),\"\",VLOOKUP(A15&\"_\"&B15,Lookups!$E:$F,2,FALSE))","v":""},""]
[null,null,null,null,null,"",null,"",null,null,"","",{"$f":"IF(OR(A16=\"\",B16=\"\"),\"\",VLOOKUP(A16&\"_\"&B16,Lookups!$E:$F,2,FALSE))","v":""},""]
[null,null,null,null,null,"",null,"",null,null,"","",{"$f":"IF(OR(A17=\"\",B17=\"\"),\"\",VLOOKUP(A17&\"_\"&B17,Lookups!$E:$F,2,FALSE))","v":""},""]
[null,null,null,null,null,"",null,"",null,null,"","",{"$f":"IF(OR(A18=\"\",B18=\"\"),\"\",VLOOKUP(A18&\"_\"&B18,Lookups!$E:$F,2,FALSE))","v":""},""]
[null,null,null,null,null,"",null,"",null,null,"","",{"$f":"IF(OR(A19=\"\",B19=\"\"),\"\",VLOOKUP(A19&\"_\"&B19,Lookups!$E:$F,2,FALSE))","v":""},""]
[null,null,null,null,null,"",null,"",null,null,"","",{"$f":"IF(OR(A20=\"\",B20=\"\"),\"\",VLOOKUP(A20&\"_\"&B20,Lookups!$E:$F,2,FALSE))","v":""},""]
[null,null,null,null,null,"",null,"",null,null,"","",{"$f":"IF(OR(A21=\"\",B21=\"\"),\"\",VLOOKUP(A21&\"_\"&B21,Lookups!$E:$F,2,FALSE))","v":""},""]
[null,null,null,null,null,"",null,"",null,null,"","",{"$f":"IF(OR(A22=\"\",B22=\"\"),\"\",VLOOKUP(A22&\"_\"&B22,Lookups!$E:$F,2,FALSE))","v":""},""]
[null,null,null,null,null,"",null,"",null,null,"","",{"$f":"IF(OR(A23=\"\",B23=\"\"),\"\",VLOOKUP(A23&\"_\"&B23,Lookups!$E:$F,2,FALSE))","v":""},""]
[null,null,null,null,null,"",null,"",null,null,"","",{"$f":"IF(OR(A24=\"\",B24=\"\"),\"\",VLOOKUP(A24&\"_\"&B24,Lookups!$E:$F,2,FALSE))","v":""},""]
[null,null,null,null,null,"",null,"",null,null,"","",{"$f":"IF(OR(A25=\"\",B25=\"\"),\"\",VLOOKUP(A25&\"_\"&B25,Lookups!$E:$F,2,FALSE))","v":""},""]
[null,null,null,null,null,"",null,"",null,null,"","",{"$f":"IF(OR(A26=\"\",B26=\"\"),\"\",VLOOKUP(A26&\"_\"&B26,Lookups!$E:$F,2,FALSE))","v":""},""]
[null,null,null,null,null,"",null,"",null,null,"","",{"$f":"IF(OR(A27=\"\",B27=\"\"),\"\",VLOOKUP(A27&\"_\"&B27,Lookups!$E:$F,2,FALSE))","v":""},""]
[null,null,null,null,null,"",null,"",null,null,"","",{"$f":"IF(OR(A28=\"\",B28=\"\"),\"\",VLOOKUP(A28&\"_\"&B28,Lookups!$E:$F,2,FALSE))","v":""},""]
[null,null,null,null,null,"",null,"",null,null,"","",{"$f":"IF(OR(A29=\"\",B29=\"\"),\"\",VLOOKUP(A29&\"_\"&B29,Lookups!$E:$F,2,FALSE))","v":""},""]
[null,null,null,null,null,"",null,"",null,null,"","",{"$f":"IF(OR(A30=\"\",B30=\"\"),\"\",VLOOKUP(A30&\"_\"&B30,Lookups!$E:$F,2,FALSE))","v":""},""]
[null,null,null,null,null,"",null,"",null,null,"","",{"$f":"IF(OR(A31=\"\",B31=\"\"),\"\",VLOOKUP(A31&\"_\"&B31,Lookups!$E:$F,2,FALSE))","v":""},""]
[null,null,null,null,null,"",null,"",null,null,"","",{"$f":"IF(OR(A32=\"\",B32=\"\"),\"\",VLOOKUP(A32&\"_\"&B32,Lookups!$E:$F,2,FALSE))","v":""},""]
[null,null,null,null,null,"",null,"",null,null,"","",{"$f":"IF(OR(A33=\"\",B33=\"\"),\"\",VLOOKUP(A33&\"_\"&B33,Lookups!$E:$F,2,FALSE))","v":""},""]
[null,null,null,null,null,"",null,"",null,null,"","",{"$f":"IF(OR(A34=\"\",B34=\"\"),\"\",VLOOKUP(A34&\"_\"&B34,Lookups!$E:$F,2,FALSE))","v":""},""]
[null,null,null,null,null,"",null,"",null,null,"","",{"$f":"IF(OR(A35=\"\",B35=\"\"),\"\",VLOOKUP(A35&\"_\"&B35,Lookups!$E:$F,2,FALSE))","v":""},""]
[null,null,null,null,null,"",null,"",null,null,"","",{"$f":"IF(OR(A36=\"\",B36=\"\"),\"\",VLOOKUP(A36&\"_\"&B36,Lookups!$E:$F,2,FALSE))","v":""},""]
[null,null,null,null,null,"",null,"",null,null,"","",{"$f":"IF(OR(A37=\"\",B37=\"\"),\"\",VLOOKUP(A37&\"_\"&B37,Lookups!$E:$F,2,FALSE))","v":""},""]
[null,null,null,null,null,"",null,"",null,null,"","",{"$f":"IF(OR(A38=\"\",B38=\"\"),\"\",VLOOKUP(A38&\"_\"&B38,Lookups!$E:$F,2,FALSE))","v":""},""]
[null,null,null,null,null,"",null,"",null,null,"","",{"$f":"IF(OR(A39=\"\",B39=\"\"),\"\",VLOOKUP(A39&\"_\"&B39,Lookups!$E:$F,2,FALSE))","v":""},""]
[null,null,null,null,null,"",null,"",null,null,"","",{"$f":"IF(OR(A40=\"\",B40=\"\"),\"\",VLOOKUP(A40&\"_\"&B40,Lookups!$E:$F,2,FALSE))","v":""},""]
[null,null,null,null,null,"",null,"",null,null,"","",{"$f":"IF(OR(A41=\"\",B41=\"\"),\"\",VLOOKUP(A41&\"_\"&B41,Lookups!$E:$F,2,FALSE))","v":""},""]
[null,null,null,null,null,"",null,"",null,null,"","",{"$f":"IF(OR(A42=\"\",B42=\"\"),\"\",VLOOKUP(A42&\"_\"&B42,Lookups!$E:$F,2,FALSE))","v":""},""]
[null,null,null,null,null,"",null,"",null,null,"","",{"$f":"IF(OR(A43=\"\",B43=\"\"),\"\",VLOOKUP(A43&\"_\"&B43,Lookups!$E:$F,2,FALSE))","v":""},""]
[null,null,null,null,null,"",null,"",null,null,"","",{"$f":"IF(OR(A44=\"\",B44=\"\"),\"\",VLOOKUP(A44&\"_\"&B44,Lookups!$E:$F,2,FALSE))","v":""},""]
[null,null,null,null,null,"",null,"",null,null,"","",{"$f":"IF(OR(A45=\"\",B45=\"\"),\"\",VLOOKUP(A45&\"_\"&B45,Lookups!$E:$F,2,FALSE))","v":""},""]
[null,null,null,null,null,"",null,"",null,null,"","",{"$f":"IF(OR(A46=\"\",B46=\"\"),\"\",VLOOKUP(A46&\"_\"&B46,Lookups!$E:$F,2,FALSE))","v":""},""]
[null,null,null,null,null,"",null,"",null,null,"","",{"$f":"IF(OR(A47=\"\",B47=\"\"),\"\",VLOOKUP(A47&\"_\"&B47,Lookups!$E:$F,2,FALSE))","v":""},""]
[null,null,null,null,null,"",null,"",null,null,"","",{"$f":"IF(OR(A48=\"\",B48=\"\"),\"\",VLOOKUP(A48&\"_\"&B48,Lookups!$E:$F,2,FALSE))","v":""},""]
[null,null,null,null,null,"",null,"",null,null,"","",{"$f":"IF(OR(A49=\"\",B49=\"\"),\"\",VLOOKUP(A49&\"_\"&B49,Lookups!$E:$F,2,FALSE))","v":""},""]
[null,null,null,null,null,"",null,"",null,null,"","",{"$f":"IF(OR(A50=\"\",B50=\"\"),\"\",VLOOKUP(A50&\"_\"&B50,Lookups!$E:$F,2,FALSE))","v":""},""]
[null,null,null,null,null,"",null,"",null,null,"","",{"$f":"IF(OR(A51=\"\",B51=\"\"),\"\",VLOOKUP(A51&\"_\"&B51,Lookups!$E:$F,2,FALSE))","v":""},""]
[null,null,null,null,null,"",null,"",null,null,"","",{"$f":"IF(OR(A52=\"\",B52=\"\"),\"\",VLOOKUP(A52&\"_\"&B52,Lookups!$E:$F,2,FALSE))","v":""},""]
[null,null,null,null,null,"",null,"",null,null,"","",{"$f":"IF(OR(A53=\"\",B53=\"\"),\"\",VLOOKUP(A53&\"_\"&B53,Lookups!$E:$F,2,FALSE))","v":""},""]
[null,null,null,null,null,"",null,"",null,null,"","",{"$f":"IF(OR(A54=\"\",B54=\"\"),\"\",VLOOKUP(A54&\"_\"&B54,Lookups!$E:$F,2,FALSE))","v":""},""]
[null,null,null,null,null,"",null,"",null,null,"","",{"$f":"IF(OR(A55=\"\",B55=\"\"),\"\",VLOOKUP(A55&\"_\"&B55,Lookups!$E:$F,2,FALSE))","v":""},""]
[null,null,null,null,null,"",null,"",null,null,"","",{"$f":"IF(OR(A56=\"\",B56=\"\"),\"\",VLOOKUP(A56&\"_\"&B56,Lookups!$E:$F,2,FALSE))","v":""},""]
[null,null,null,null,null,"",null,"",null,null,"","",{"$f":"IF(OR(A57=\"\",B57=\"\"),\"\",VLOOKUP(A57&\"_\"&B57,Lookups!$E:$F,2,FALSE))","v":""},""]
[null,null,null,null,null,"",null,"",null,null,"","",{"$f":"IF(OR(A58=\"\",B58=\"\"),\"\",VLOOKUP(A58&\"_\"&B58,Lookups!$E:$F,2,FALSE))","v":""},""]
[null,null,null,null,null,"",null,"",null,null,"","",{"$f":"IF(OR(A59=\"\",B59=\"\"),\"\",VLOOKUP(A59&\"_\"&B59,Lookups!$E:$F,2,FALSE))","v":""},""]
[null,null,null,null,null,"",null,"",null,null,"","",{"$f":"IF(OR(A60=\"\",B60=\"\"),\"\",VLOOKUP(A60&\"_\"&B60,Lookups!$E:$F,2,FALSE))","v":""},""]
[null,null,null,null,null,"",null,"",null,null,"","",{"$f":"IF(OR(A61=\"\",B61=\"\"),\"\",VLOOKUP(A61&\"_\"&B61,Lookups!$E:$F,2,FALSE))","v":""},""]
[null,null,null,null,null,"",null,"",null,null,"","",{"$f":"IF(OR(A62=\"\",B62=\"\"),\"\",VLOOKUP(A62&\"_\"&B62,Lookups!$E:$F,2,FALSE))","v":""},""]
[null,null,null,null,null,"",null,"",null,null,"","",{"$f":"IF(OR(A63=\"\",B63=\"\"),\"\",VLOOKUP(A63&\"_\"&B63,Lookups!$E:$F,2,FALSE))","v":""},""]
[null,null,null,null,null,"",null,"",null,null,"","",{"$f":"IF(OR(A64=\"\",B64=\"\"),\"\",VLOOKUP(A64&\"_\"&B64,Lookups!$E:$F,2,FALSE))","v":""},""]
[null,null,null,null,null,"",null,"",null,null,"","",{"$f":"IF(OR(A65=\"\",B65=\"\"),\"\",VLOOKUP(A65&\"_\"&B65,Lookups!$E:$F,2,FALSE))","v":""},""]
[null,null,null,null,null,"",null,"",null,null,"","",{"$f":"IF(OR(A66=\"\",B66=\"\"),\"\",VLOOKUP(A66&\"_\"&B66,Lookups!$E:$F,2,FALSE))","v":""},""]
[null,null,null,null,null,"",null,"",null,null,"","",{"$f":"IF(OR(A67=\"\",B67=\"\"),\"\",VLOOKUP(A67&\"_\"&B67,Lookups!$E:$F,2,FALSE))","v":""},""]
[null,null,null,null,null,{"$f":"IF(OR(D68=\"\",E68=\"\"),\"\",ROUND((E68-D68)*24,2))","v":""},null,{"$f":"IF(F68=\"\",\"\",IF(G68<>\"\",F68*G68,F68))","v":""},null,null,{"$f":"IF(AND(H68<>\"\",I68=\"Paid\"),H68,\"\")","v":""},{"$f":"IF(H68=\"\",\"\",IF(K68=\"\",H68,H68-K68))","v":""},{"$f":"IF(OR(A68=\"\",B68=\"\"),\"\",VLOOKUP(A68&\"_\"&B68,Lookups!$E:$F,2,FALSE))","v":""},{"$f":"IF(AND(K68=\"\",L68=\"\"),\"\",IF(K68=\"\",L68*M68,SUM(K68,L68)*M68))","v":""}]
[null,null,null,null,null,"",null,"",null,null,"","",{"$f":"IF(OR(A69=\"\",B69=\"\"),\"\",VLOOKUP(A69&\"_\"&B69,Lookups!$E:$F,2,FALSE))","v":""},""]
[null,null,null,null,null,"",null,"",null,null,"","",{"$f":"IF(OR(A70=\"\",B70=\"\"),\"\",VLOOKUP(A70&\"_\"&B70,Lookups!$E:$F,2,FALSE))","v":""},""]
[null,null,null,null,null,"",null,"",null,null,"","",{"$f":"IF(OR(A71=\"\",B71=\"\"),\"\",VLOOKUP(A71&\"_\"&B71,Lookups!$E:$F,2,FALSE))","v":""},""]
[null,null,null,null,null,"",null,"",null,null,"","",{"$f":"IF(OR(A72=\"\",B72=\"\"),\"\",VLOOKUP(A72&\"_\"&B72,Lookups!$E:$F,2,FALSE))","v":""},""]
[null,null,null,null,null,"",null,"",null,null,"","",{"$f":"IF(OR(A73=\"\",B73=\"\"),\"\",VLOOKUP(A73&\"_\"&B73,Lookups!$E:$F,2,FALSE))","v":""},""]
[null,null,null,null,null,"",null,"",null,null,"","",{"$f":"IF(OR(A74=\"\",B74=\"\"),\"\",VLOOKUP(A74&\"_\"&B74,Lookups!$E:$F,2,FALSE))","v":""},""]
[null,null,null,null,null,"",null,"",null,null,"","",{"$f":"IF(OR(A75=\"\",B75=\"\"),\"\",VLOOKUP(A75&\"_\"&B75,Lookups!$E:$F,2,FALSE))","v":""},""]
[null,null,null,null,null,"",null,"",null,null,"","",{"$f":"IF(OR(A76=\"\",B76=\"\"),\"\",VLOOKUP(A76&\"_\"&B76,Lookups!$E:$F,2,FALSE))","v":""},""]
[null,null,null,null,null,"",null,"",null,null,"","",{"$f":"IF(OR(A77=\"\",B77=\"\"),\"\",VLOOKUP(A77&\"_\"&B77,Lookups!$E:$F,2,FALSE))","v":""},""]
[null,null,null,null,null,"",null,"",null,null,"","",{"$f":"IF(OR(A78=\"\",B78=\"\"),\"\",VLOOKUP(A78&\"_\"&B78,Lookups!$E:$F,2,FALSE))","v":""},""]
[null,null,null,null,null,"",null,"",null,null,"","",{"$f":"IF(OR(A79=\"\",B79=\"\"),\"\",VLOOKUP(A79&\"_\"&B79,Lookups!$E:$F,2,FALSE))","v":""},""]
[null,null,null,null,null,"",null,"",null,null,"","",{"$f":"IF(OR(A80=\"\",B80=\"\"),\"\",VLOOKUP(A80&\"_\"&B80,Lookups!$E:$F,2,FALSE))","v":""},""]
[null,null,null,null,null,"",null,"",null,null,"","",{"$f":"IF(OR(A81=\"\",B81=\"\"),\"\",VLOOKUP(A81&\"_\"&B81,Lookups!$E:$F,2,FALSE))","v":""},""]
[null,null,null,null,null,"",null,"",null,null,"","",{"$f":"IF(OR(A82=\"\",B82=\"\"),\"\",VLOOKUP(A82&\"_\"&B82,Lookups!$E:$F,2,FALSE))","v":""},""]
[null,null,null,null,null,"",null,"",null,null,"","",{"$f":"IF(OR(A83=\"\",B83=\"\"),\"\",VLOOKUP(A83&\"_\"&B83,Lookups!$E:$F,2,FALSE))","v":""},""]
[null,null,null,null,null,"",null,"",null,null,"","",{"$f":"IF(OR(A84=\"\",B84=\"\"),\"\",VLOOKUP(A84&\"_\"&B84,Lookups!$E:$F,2,FALSE))","v":""},""]
[null,null,null,null,null,"",null,"",null,null,"","",{"$f":"IF(OR(A85=\"\",B85=\"\"),\"\",VLOOKUP(A85&\"_\"&B85,Lookups!$E:$F,2,FALSE))","v":""},""]
[null,null,null,null,null,"",null,"",null,null,"","",{"$f":"IF(OR(A86=\"\",B86=\"\"),\"\",VLOOKUP(A86&\"_\"&B86,Lookups!$E:$F,2,FALSE))","v":""},""]
[null,null,null,null,null,"",null,"",null,null,"","",{"$f":"IF(OR(A87=\"\",B87=\"\"),\"\",VLOOKUP(A87&\"_\"&B87,Lookups!$E:$F,2,FALSE))","v":""},""]
[null,null,null,null,null,"",null,"",null,null,"","",{"$f":"IF(OR(A88=\"\",B88=\"\"),\"\",VLOOKUP(A88&\"_\"&B88,Lookups!$E:$F,2,FALSE))","v":""},""]
[null,null,null,null,null,"",null,"",null,null,"","",{"$f":"IF(OR(A89=\"\",B89=\"\"),\"\",VLOOKUP(A89&\"_\"&B89,Lookups!$E:$F,2,FALSE))","v":""},""]
[null,null,null,null,null,"",null,"",null,null,"","",{"$f":"IF(OR(A90=\"\",B90=\"\"),\"\",VLOOKUP(A90&\"_\"&B90,Lookups!$E:$F,2,FALSE))","v":""},""]
[null,null,null,null,null,"",null,"",null,null,"","",{"$f":"IF(OR(A91=\"\",B91=\"\"),\"\",VLOOKUP(A91&\"_\"&B91,Lookups!$E:$F,2,FALSE))","v":""},""]
[null,null,null,null,null,"",null,"",null,null,"","",{"$f":"IF(OR(A92=\"\",B92=\"\"),\"\",VLOOKUP(A92&\"_\"&B92,Lookups!$E:$F,2,FALSE))","v":""},""]
[null,null,null,null,null,"",null,"",null,null,"","",{"$f":"IF(OR(A93=\"\",B93=\"\"),\"\",VLOOKUP(A93&\"_\"&B93,Lookups!$E:$F,2,FALSE))","v":""},""]
[null,null,null,null,null,"",null,"",null,null,"","",{"$f":"IF(OR(A94=\"\",B94=\"\"),\"\",VLOOKUP(A94&\"_\"&B94,Lookups!$E:$F,2,FALSE))","v":""},""]
[null,null,null,null,null,"",null,"",null,null,"","",{"$f":"IF(OR(A95=\"\",B95=\"\"),\"\",VLOOKUP(A95&\"_\"&B95,Lookups!$E:$F,2,FALSE))","v":""},""]
[null,null,null,null,null,"",null,"",null,null,"","",{"$f":"IF(OR(A96=\"\",B96=\"\"),\"\",VLOOKUP(A96&\"_\"&B96,Lookups!$E:$F,2,FALSE))","v":""},""]
[null,null,null,null,null,"",null,"",null,null,"","",{"$f":"IF(OR(A97=\"\",B97=\"\"),\"\",VLOOKUP(A97&\"_\"&B97,Lookups!$E:$F,2,FALSE))","v":""},""]
[null,null,null,null,null,"",null,"",null,null,"","",{"$f":"IF(OR(A98=\"\",B98=\"\"),\"\",VLOOKUP(A98&\"_\"&B98,Lookups!$E:$F,2,FALSE))","v":""},""]
[null,null,null,null,null,"",null,"",null,null,"","",{"$f":"IF(OR(A99=\"\",B99=\"\"),\"\",VLOOKUP(A99&\"_\"&B99,Lookups!$E:$F,2,FALSE))","v":""},""]
[null,null,null,null,null,"",null,"",null,null,"","",{"$f":"IF(OR(A100=\"\",B100=\"\"),\"\",VLOOKUP(A100&\"_\"&B100,Lookups!$E:$F,2,FALSE))","v":""},""]
[null,null,null,null,null,"",null,"",null,null,"","",{"$f":"IF(OR(A101=\"\",B101=\"\"),\"\",VLOOKUP(A101&\"_\"&B101,Lookups!$E:$F,2,FALSE))","v":""},""]
[null,null,null,null,null,"",null,"",null,null,"","",{"$f":"IF(OR(A102=\"\",B102=\"\"),\"\",VLOOKUP(A102&\"_\"&B102,Lookups!$E:$F,2,FALSE))","v":""},""]
[null,null,null,null,null,"",null,"",null,null,"","",{"$f":"IF(OR(A103=\"\",B103=\"\"),\"\",VLOOKUP(A103&\"_\"&B103,Lookups!$E:$F,2,FALSE))","v":""},""]
[null,null,null,null,null,"",null,"",null,null,"","",{"$f":"IF(OR(A104=\"\",B104=\"\"),\"\",VLOOKUP(A104&\"_\"&B104,Lookups!$E:$F,2,FALSE))","v":""},""]
[null,null,null,null,null,"",null,"",null,null,"","",{"$f":"IF(OR(A105=\"\",B105=\"\"),\"\",VLOOKUP(A105&\"_\"&B105,Lookups!$E:$F,2,FALSE))","v":""},""]
[null,null,null,null,null,"",null,"",null,null,"","",{"$f":"IF(OR(A106=\"\",B106=\"\"),\"\",VLOOKUP(A106&\"_\"&B106,Lookups!$E:$F,2,FALSE))","v":""},""]
[null,null,null,null,null,"",null,"",null,null,"","",{"$f":"IF(OR(A107=\"\",B107=\"\"),\"\",VLOOKUP(A107&\"_\"&B107,Lookups!$E:$F,2,FALSE))","v":""},""]
[null,null,null,null,null,"",null,"",null,null,"","",{"$f":"IF(OR(A108=\"\",B108=\"\"),\"\",VLOOKUP(A108&\"_\"&B108,Lookups!$E:$F,2,FALSE))","v":""},""]
[null,null,null,null,null,"",null,"",null,null,"","",{"$f":"IF(OR(A109=\"\",B109=\"\"),\"\",VLOOKUP(A109&\"_\"&B109,Lookups!$E:$F,2,FALSE))","v":""},""]
[null,null,null,null,null,"",null,"",null,null,"","",{"$f":"IF(OR(A110=\"\",B110=\"\"),\"\",VLOOKUP(A110&\"_\"&B110,Lookups!$E:$F,2,FALSE))","v":""},""]
[null,null,null,null,null,"",null,"",null,null,"","",{"$f":"IF(OR(A111=\"\",B111=\"\"),\"\",VLOOKUP(A111&\"_\"&B111,Lookups!$E:$F,2,FALSE))","v":""},""]
[null,null,null,null,null,"",null,"",null,null,"","",{"$f":"IF(OR(A112=\"\",B112=\"\"),\"\",VLOOKUP(A112&\"_\"&B112,Lookups!$E:$F,2,FALSE))","v":""},""]
[null,null,null,null,null,"",null,"",null,null,"","",{"$f":"IF(OR(A113=\"\",B113=\"\"),\"\",VLOOKUP(A113&\"_\"&B113,Lookups!$E:$F,2,FALSE))","v":""},""]
[null,null,null,null,null,"",null,"",null,null,"","",{"$f":"IF(OR(A114=\"\",B114=\"\"),\"\",VLOOKUP(A114&\"_\"&B114,Lookups!$E:$F,2,FALSE))","v":""},""]
[null,null,null,null,null,"",null,"",null,null,"","",{"$f":"IF(OR(A115=\"\",B115=\"\"),\"\",VLOOKUP(A115&\"_\"&B115,Lookups!$E:$F,2,FALSE))","v":""},""]
[null,null,null,null,null,"",null,"",null,null,"","",{"$f":"IF(OR(A116=\"\",B116=\"\"),\"\",VLOOKUP(A116&\"_\"&B116,Lookups!$E:$F,2,FALSE))","v":""},""]
[null,null,null,null,null,"",null,"",null,null,"","",{"$f":"IF(OR(A117=\"\",B117=\"\"),\"\",VLOOKUP(A117&\"_\"&B117,Lookups!$E:$F,2,FALSE))","v":""},""]
[null,null,null,null,null,"",null,"",null,null,"","",{"$f":"IF(OR(A118=\"\",B118=\"\"),\"\",VLOOKUP(A118&\"_\"&B118,Lookups!$E:$F,2,FALSE))","v":""},""]
[null,null,null,null,null,"",null,"",null,null,"","",{"$f":"IF(OR(A119=\"\",B119=\"\"),\"\",VLOOKUP(A119&\"_\"&B119,Lookups!$E:$F,2,FALSE))","v":""},""]
[null,null,null,null,null,"",null,"",null,null,"","",{"$f":"IF(OR(A120=\"\",B120=\"\"),\"\",VLOOKUP(A120&\"_\"&B120,Lookups!$E:$F,2,FALSE))","v":""},""]
[null,null,null,null,null,"",null,"",null,null,"","",{"$f":"IF(OR(A121=\"\",B121=\"\"),\"\",VLOOKUP(A121&\"_\"&B121,Lookups!$E:$F,2,FALSE))","v":""},""]
[null,null,null,null,null,"",null,"",null,null,"","",{"$f":"IF(OR(A122=\"\",B122=\"\"),\"\",VLOOKUP(A122&\"_\"&B122,Lookups!$E:$F,2,FALSE))","v":""},""]
[null,null,null,null,null,"",null,"",null,null,"","",{"$f":"IF(OR(A123=\"\",B123=\"\"),\"\",VLOOKUP(A123&\"_\"&B123,Lookups!$E:$F,2,FALSE))","v":""},""]
[null,null,null,null,null,"",null,"",null,null,"","",{"$f":"IF(OR(A124=\"\",B124=\"\"),\"\",VLOOKUP(A124&\"_\"&B124,Lookups!$E:$F,2,FALSE))","v":""},""]
[null,null,null,null,null,"",null,"",null,null,"","",{"$f":"IF(OR(A125=\"\",B125=\"\"),\"\",VLOOKUP(A125&\"_\"&B125,Lookups!$E:$F,2,FALSE))","v":""},""]
[null,null,null,null,null,"",null,"",null,null,"","",{"$f":"IF(OR(A126=\"\",B126=\"\"),\"\",VLOOKUP(A126&\"_\"&B126,Lookups!$E:$F,2,FALSE))","v":""},""]
[null,null,null,null,null,"",null,"",null,null,"","",{"$f":"IF(OR(A127=\"\",B127=\"\"),\"\",VLOOKUP(A127&\"_\"&B127,Lookups!$E:$F,2,FALSE))","v":""},""]
[null,null,null,null,null,"",null,"",null,null,"","",{"$f":"IF(OR(A128=\"\",B128=\"\"),\"\",VLOOKUP(A128&\"_\"&B128,Lookups!$E:$F,2,FALSE))","v":""},""]
[null,null,null,null,null,"",null,"",null,null,"","",{"$f":"IF(OR(A129=\"\",B129=\"\"),\"\",VLOOKUP(A129&\"_\"&B129,Lookups!$E:$F,2,FALSE))","v":""},""]
[null,null,null,null,null,"",null,"",null,null,"","",{"$f":"IF(OR(A130=\"\",B130=\"\"),\"\",VLOOKUP(A130&\"_\"&B130,Lookups!$E:$F,2,FALSE))","v":""},""]
[null,null,null,null,null,"",null,"",null,null,"","",{"$f":"IF(OR(A131=\"\",B131=\"\"),\"\",VLOOKUP(A131&\"_\"&B131,Lookups!$E:$F,2,FALSE))","v":""},""]
[null,null,null,null,null,{"$f":"IF(OR(D132=\"\",E132=\"\"),\"\",ROUND((E132-D132)*24,2))","v":""},null,{"$f":"IF(F132=\"\",\"\",IF(G132<>\"\",F132*G132,F132))","v":""},null,null,{"$f":"IF(AND(H132<>\"\",I132=\"Paid\"),H132,\"\")","v":""},{"$f":"IF(H132=\"\",\"\",IF(K132=\"\",H132,H132-K132))","v":""},{"$f":"IF(OR(A132=\"\",B132=\"\"),\"\",VLOOKUP(A132&\"_\"&B132,Lookups!$E:$F,2,FALSE))","v":""},{"$f":"IF(AND(K132=\"\",L132=\"\"),\"\",IF(K132=\"\",L132*M132,SUM(K132,L132)*M132))","v":""}]
[null,null,null,null,null,"",null,"",null,null,"","",{"$f":"IF(OR(A133=\"\",B133=\"\"),\"\",VLOOKUP(A133&\"_\"&B133,Lookups!$E:$F,2,FALSE))","v":""},""]
[null,null,null,null,null,"",null,"",null,null,"","",{"$f":"IF(OR(A134=\"\",B134=\"\"),\"\",VLOOKUP(A134&\"_\"&B134,Lookups!$E:$F,2,FALSE))","v":""},""]
[null,null,null,null,null,"",null,"",null,null,"","",{"$f":"IF(OR(A135=\"\",B135=\"\"),\"\",VLOOKUP(A135&\"_\"&B135,Lookups!$E:$F,2,FALSE))","v":""},""]
[null,null,null,null,null,"",null,"",null,null,"","",{"$f":"IF(OR(A136=\"\",B136=\"\"),\"\",VLOOKUP(A136&\"_\"&B136,Lookups!$E:$F,2,FALSE))","v":""},""]
[null,null,null,null,null,"",null,"",null,null,"","",{"$f":"IF(OR(A137=\"\",B137=\"\"),\"\",VLOOKUP(A137&\"_\"&B137,Lookups!$E:$F,2,FALSE))","v":""},""]
[null,null,null,null,null,"",null,"",null,null,"","",{"$f":"IF(OR(A138=\"\",B138=\"\"),\"\",VLOOKUP(A138&\"_\"&B138,Lookups!$E:$F,2,FALSE))","v":""},""]
[null,null,null,null,null,"",null,"",null,null,"","",{"$f":"IF(OR(A139=\"\",B139=\"\"),\"\",VLOOKUP(A139&\"_\"&B139,Lookups!$E:$F,2,FALSE))","v":""},""]
[null,null,null,null,null,"",null,"",null,null,"","",{"$f":"IF(OR(A140=\"\",B140=\"\"),\"\",VLOOKUP(A140&\"_\"&B140,Lookups!$E:$F,2,FALSE))","v":""},""]
[null,null,null,null,null,"",null,"",null,null,"","",{"$f":"IF(OR(A141=\"\",B141=\"\"),\"\",VLOOKUP(A141&\"_\"&B141,Lookups!$E:$F,2,FALSE))","v":""},""]
[null,null,null,null,null,"",null,"",null,null,"","",{"$f":"IF(OR(A142=\"\",B142=\"\"),\"\",VLOOKUP(A142&\"_\"&B142,Lookups!$E:$F,2,FALSE))","v":""},""]
[null,null,null,null,null,"",null,"",null,null,"","",{"$f":"IF(OR(A143=\"\",B143=\"\"),\"\",VLOOKUP(A143&\"_\"&B143,Lookups!$E:$F,2,FALSE))","v":""},""]
[null,null,null,null,null,"",null,"",null,null,"","",{"$f":"IF(OR(A144=\"\",B144=\"\"),\"\",VLOOKUP(A144&\"_\"&B144,Lookups!$E:$F,2,FALSE))","v":""},""]
[null,null,null,null,null,"",null,"",null,null,"","",{"$f":"IF(OR(A145=\"\",B145=\"\"),\"\",VLOOKUP(A145&\"_\"&B145,Lookups!$E:$F,2,FALSE))","v":""},""]
[null,null,null,null,null,"",null,"",null,null,"","",{"$f":"IF(OR(A146=\"\",B146=\"\"),\"\",VLOOKUP(A146&\"_\"&B146,Lookups!$E:$F,2,FALSE))","v":""},""]
[null,null,null,null,null,"",null,"",null,null,"","",{"$f":"IF(OR(A147=\"\",B147=\"\"),\"\",VLOOKUP(A147&\"_\"&B147,Lookups!$E:$F,2,FALSE))","v":""},""]
[null,null,null,null,null,"",null,"",null,null,"","",{"$f":"IF(OR(A148=\"\",B148=\"\"),\"\",VLOOKUP(A148&\"_\"&B148,Lookups!$E:$F,2,FALSE))","v":""},""]
[null,null,null,null,null,"",null,"",null,null,"","",{"$f":"IF(OR(A149=\"\",B149=\"\"),\"\",VLOOKUP(A149&\"_\"&B149,Lookups!$E:$F,2,FALSE))","v":""},""]
[null,null,null,null,null,"",null,"",null,null,"","",{"$f":"IF(OR(A150=\"\",B150=\"\"),\"\",VLOOKUP(A150&\"_\"&B150,Lookups!$E:$F,2,FALSE))","v":""},""]
[null,null,null,null,null,"",null,"",null,null,"","",{"$f":"IF(OR(A151=\"\",B151=\"\"),\"\",VLOOKUP(A151&\"_\"&B151,Lookups!$E:$F,2,FALSE))","v":""},""]
[null,null,null,null,null,"",null,"",null,null,"","",{"$f":"IF(OR(A152=\"\",B152=\"\"),\"\",VLOOKUP(A152&\"_\"&B152,Lookups!$E:$F,2,FALSE))","v":""},""]
[null,null,null,null,null,"",null,"",null,null,"","",{"$f":"IF(OR(A153=\"\",B153=\"\"),\"\",VLOOKUP(A153&\"_\"&B153,Lookups!$E:$F,2,FALSE))","v":""},""]
[null,null,null,null,null,"",null,"",null,null,"","",{"$f":"IF(OR(A154=\"\",B154=\"\"),\"\",VLOOKUP(A154&\"_\"&B154,Lookups!$E:$F,2,FALSE))","v":""},""]
[null,null,null,null,null,"",null,"",null,null,"","",{"$f":"IF(OR(A155=\"\",B155=\"\"),\"\",VLOOKUP(A155&\"_\"&B155,Lookups!$E:$F,2,FALSE))","v":""},""]
[null,null,null,null,null,"",null,"",null,null,"","",{"$f":"IF(OR(A156=\"\",B156=\"\"),\"\",VLOOKUP(A156&\"_\"&B156,Lookups!$E:$F,2,FALSE))","v":""},""]
[null,null,null,null,null,"",null,"",null,null,"","",{"$f":"IF(OR(A157=\"\",B157=\"\"),\"\",VLOOKUP(A157&\"_\"&B157,Lookups!$E:$F,2,FALSE))","v":""},""]
[null,null,null,null,null,"",null,"",null,null,"","",{"$f":"IF(OR(A158=\"\",B158=\"\"),\"\",VLOOKUP(A158&\"_\"&B158,Lookups!$E:$F,2,FALSE))","v":""},""]
[null,null,null,null,null,"",null,"",null,null,"","",{"$f":"IF(OR(A159=\"\",B159=\"\"),\"\",VLOOKUP(A159&\"_\"&B159,Lookups!$E:$F,2,FALSE))","v":""},""]
[null,null,null,null,null,"",null,"",null,null,"","",{"$f":"IF(OR(A160=\"\",B160=\"\"),\"\",VLOOKUP(A160&\"_\"&B160,Lookups!$E:$F,2,FALSE))","v":""},""]
[null,null,null,null,null,"",null,"",null,null,"","",{"$f":"IF(OR(A161=\"\",B161=\"\"),\"\",VLOOKUP(A161&\"_\"&B161,Lookups!$E:$F,2,FALSE))","v":""},""]
[null,null,null,null,null,"",null,"",null,null,"","",{"$f":"IF(OR(A162=\"\",B162=\"\"),\"\",VLOOKUP(A162&\"_\"&B162,Lookups!$E:$F,2,FALSE))","v":""},""]
[null,null,null,null,null,"",null,"",null,null,"","",{"$f":"IF(OR(A163=\"\",B163=\"\"),\"\",VLOOKUP(A163&\"_\"&B163,Lookups!$E:$F,2,FALSE))","v":""},""]
[null,null,null,null,null,"",null,"",null,null,"","",{"$f":"IF(OR(A164=\"\",B164=\"\"),\"\",VLOOKUP(A164&\"_\"&B164,Lookups!$E:$F,2,FALSE))","v":""},""]
[null,null,null,null,null,"",null,"",null,null,"","",{"$f":"IF(OR(A165=\"\",B165=\"\"),\"\",VLOOKUP(A165&\"_\"&B165,Lookups!$E:$F,2,FALSE))","v":""},""]
[null,null,null,null,null,"",null,"",null,null,"","",{"$f":"IF(OR(A166=\"\",B166=\"\"),\"\",VLOOKUP(A166&\"_\"&B166,Lookups!$E:$F,2,FALSE))","v":""},""]
[null,null,null,null,null,"",null,"",null,null,"","",{"$f":"IF(OR(A167=\"\",B167=\"\"),\"\",VLOOKUP(A167&\"_\"&B167,Lookups!$E:$F,2,FALSE))","v":""},""]
[null,null,null,null,null,"",null,"",null,null,"","",{"$f":"IF(OR(A168=\"\",B168=\"\"),\"\",VLOOKUP(A168&\"_\"&B168,Lookups!$E:$F,2,FALSE))","v":""},""]
[null,null,null,null,null,"",null,"",null,null,"","",{"$f":"IF(OR(A169=\"\",B169=\"\"),\"\",VLOOKUP(A169&\"_\"&B169,Lookups!$E:$F,2,FALSE))","v":""},""]
[null,null,null,null,null,"",null,"",null,null,"","",{"$f":"IF(OR(A170=\"\",B170=\"\"),\"\",VLOOKUP(A170&\"_\"&B170,Lookups!$E:$F,2,FALSE))","v":""},""]
[null,null,null,null,null,"",null,"",null,null,"","",{"$f":"IF(OR(A171=\"\",B171=\"\"),\"\",VLOOKUP(A171&\"_\"&B171,Lookups!$E:$F,2,FALSE))","v":""},""]
[null,null,null,null,null,"",null,"",null,null,"","",{"$f":"IF(OR(A172=\"\",B172=\"\"),\"\",VLOOKUP(A172&\"_\"&B172,Lookups!$E:$F,2,FALSE))","v":""},""]
[null,null,null,null,null,"",null,"",null,null,"","",{"$f":"IF(OR(A173=\"\",B173=\"\"),\"\",VLOOKUP(A173&\"_\"&B173,Lookups!$E:$F,2,FALSE))","v":""},""]
[null,null,null,null,null,"",null,"",null,null,"","",{"$f":"IF(OR(A174=\"\",B174=\"\"),\"\",VLOOKUP(A174&\"_\"&B174,Lookups!$E:$F,2,FALSE))","v":""},""]
[null,null,null,null,null,"",null,"",null,null,"","",{"$f":"IF(OR(A175=\"\",B175=\"\"),\"\",VLOOKUP(A175&\"_\"&B175,Lookups!$E:$F,2,FALSE))","v":""},""]
[null,null,null,null,null,"",null,"",null,null,"","",{"$f":"IF(OR(A176=\"\",B176=\"\"),\"\",VLOOKUP(A176&\"_\"&B176,Lookups!$E:$F,2,FALSE))","v":""},""]
[null,null,null,null,null,"",null,"",null,null,"","",{"$f":"IF(OR(A177=\"\",B177=\"\"),\"\",VLOOKUP(A177&\"_\"&B177,Lookups!$E:$F,2,FALSE))","v":""},""]
[null,null,null,null,null,"",null,"",null,null,"","",{"$f":"IF(OR(A178=\"\",B178=\"\"),\"\",VLOOKUP(A178&\"_\"&B178,Lookups!$E:$F,2,FALSE))","v":""},""]
[null,null,null,null,null,"",null,"",null,null,"","",{"$f":"IF(OR(A179=\"\",B179=\"\"),\"\",VLOOKUP(A179&\"_\"&B179,Lookups!$E:$F,2,FALSE))","v":""},""]
[null,null,null,null,null,"",null,"",null,null,"","",{"$f":"IF(OR(A180=\"\",B180=\"\"),\"\",VLOOKUP(A180&\"_\"&B180,Lookups!$E:$F,2,FALSE))","v":""},""]
[null,null,null,null,null,"",null,"",null,null,"","",{"$f":"IF(OR(A181=\"\",B181=\"\"),\"\",VLOOKUP(A181&\"_\"&B181,Lookups!$E:$F,2,FALSE))","v":""},""]
[null,null,null,null,null,"",null,"",null,null,"","",{"$f":"IF(OR(A182=\"\",B182=\"\"),\"\",VLOOKUP(A182&\"_\"&B182,Lookups!$E:$F,2,FALSE))","v":""},""]
[null,null,null,null,null,"",null,"",null,null,"","",{"$f":"IF(OR(A183=\"\",B183=\"\"),\"\",VLOOKUP(A183&\"_\"&B183,Lookups!$E:$F,2,FALSE))","v":""},""]
[null,null,null,null,null,"",null,"",null,null,"","",{"$f":"IF(OR(A184=\"\",B184=\"\"),\"\",VLOOKUP(A184&\"_\"&B184,Lookups!$E:$F,2,FALSE))","v":""},""]
[null,null,null,null,null,"",null,"",null,null,"","",{"$f":"IF(OR(A185=\"\",B185=\"\"),\"\",VLOOKUP(A185&\"_\"&B185,Lookups!$E:$F,2,FALSE))","v":""},""]
[null,null,null,null,null,"",null,"",null,null,"","",{"$f":"IF(OR(A186=\"\",B186=\"\"),\"\",VLOOKUP(A186&\"_\"&B186,Lookups!$E:$F,2,FALSE))","v":""},""]
[null,null,null,null,null,"",null,"",null,null,"","",{"$f":"IF(OR(A187=\"\",B187=\"\"),\"\",VLOOKUP(A187&\"_\"&B187,Lookups!$E:$F,2,FALSE))","v":""},""]
[null,null,null,null,null,"",null,"",null,null,"","",{"$f":"IF(OR(A188=\"\",B188=\"\"),\"\",VLOOKUP(A188&\"_\"&B188,Lookups!$E:$F,2,FALSE))","v":""},""]
[null,null,null,null,null,"",null,"",null,null,"","",{"$f":"IF(OR(A189=\"\",B189=\"\"),\"\",VLOOKUP(A189&\"_\"&B189,Lookups!$E:$F,2,FALSE))","v":""},""]
[null,null,null,null,null,"",null,"",null,null,"","",{"$f":"IF(OR(A190=\"\",B190=\"\"),\"\",VLOOKUP(A190&\"_\"&B190,Lookups!$E:$F,2,FALSE))","v":""},""]
[null,null,null,null,null,"",null,"",null,null,"","",{"$f":"IF(OR(A191=\"\",B191=\"\"),\"\",VLOOKUP(A191&\"_\"&B191,Lookups!$E:$F,2,FALSE))","v":""},""]
[null,null,null,null,null,"",null,"",null,null,"","",{"$f":"IF(OR(A192=\"\",B192=\"\"),\"\",VLOOKUP(A192&\"_\"&B192,Lookups!$E:$F,2,FALSE))","v":""},""]
[null,null,null,null,null,"",null,"",null,null,"","",{"$f":"IF(OR(A193=\"\",B193=\"\"),\"\",VLOOKUP(A193&\"_\"&B193,Lookups!$E:$F,2,FALSE))","v":""},""]
[null,null,null,null,null,"",null,"",null,null,"","",{"$f":"IF(OR(A194=\"\",B194=\"\"),\"\",VLOOKUP(A194&\"_\"&B194,Lookups!$E:$F,2,FALSE))","v":""},""]
[null,null,null,null,null,"",null,"",null,null,"","",{"$f":"IF(OR(A195=\"\",B195=\"\"),\"\",VLOOKUP(A195&\"_\"&B195,Lookups!$E:$F,2,FALSE))","v":""},""]
[null,null,null,null,null,{"$f":"IF(OR(D196=\"\",E196=\"\"),\"\",ROUND((E196-D196)*24,2))","v":""},null,{"$f":"IF(F196=\"\",\"\",IF(G196<>\"\",F196*G196,F196))","v":""},null,null,{"$f":"IF(AND(H196<>\"\",I196=\"Paid\"),H196,\"\")","v":""},{"$f":"IF(H196=\"\",\"\",IF(K196=\"\",H196,H196-K196))","v":""},{"$f":"IF(OR(A196=\"\",B196=\"\"),\"\",VLOOKUP(A196&\"_\"&B196,Lookups!$E:$F,2,FALSE))","v":""},{"$f":"IF(AND(K196=\"\",L196=\"\"),\"\",IF(K196=\"\",L196*M196,SUM(K196,L196)*M196))","v":""}]
[null,null,null,null,null,"",null,"",null,null,"","",{"$f":"IF(OR(A197=\"\",B197=\"\"),\"\",VLOOKUP(A197&\"_\"&B197,Lookups!$E:$F,2,FALSE))","v":""},""]
[null,null,null,null,null,"",null,"",null,null,"","",{"$f":"IF(OR(A198=\"\",B198=\"\"),\"\",VLOOKUP(A198&\"_\"&B198,Lookups!$E:$F,2,FALSE))","v":""},""]
[null,null,null,null,null,"",null,"",null,null,"","",{"$f":"IF(OR(A199=\"\",B199=\"\"),\"\",VLOOKUP(A199&\"_\"&B199,Lookups!$E:$F,2,FALSE))","v":""},""]
[null,null,null,null,null,"",null,"",null,null,"","",{"$f":"IF(OR(A200=\"\",B200=\"\"),\"\",VLOOKUP(A200&\"_\"&B200,Lookups!$E:$F,2,FALSE))","v":""},""]
[null,null,null,null,null,"",null,"",null,null,"","",{"$f":"IF(OR(A201=\"\",B201=\"\"),\"\",VLOOKUP(A201&\"_\"&B201,Lookups!$E:$F,2,FALSE))","v":""},""]
[null,null,null,null,null,"",null,"",null,null,"","",{"$f":"IF(OR(A202=\"\",B202=\"\"),\"\",VLOOKUP(A202&\"_\"&B202,Lookups!$E:$F,2,FALSE))","v":""},""]
[null,null,null,null,null,"",null,"",null,null,"","",{"$f":"IF(OR(A203=\"\",B203=\"\"),\"\",VLOOKUP(A203&\"_\"&B203,Lookups!$E:$F,2,FALSE))","v":""},""]
[null,null,null,null,null,"",null,"",null,null,"","",{"$f":"IF(OR(A204=\"\",B204=\"\"),\"\",VLOOKUP(A204&\"_\"&B204,Lookups!$E:$F,2,FALSE))","v":""},""]
[null,null,null,null,null,"",null,"",null,null,"","",{"$f":"IF(OR(A205=\"\",B205=\"\"),\"\",VLOOKUP(A205&\"_\"&B205,Lookups!$E:$F,2,FALSE))","v":""},""]
[null,null,null,null,null,"",null,"",null,null,"","",{"$f":"IF(OR(A206=\"\",B206=\"\"),\"\",VLOOKUP(A206&\"_\"&B206,Lookups!$E:$F,2,FALSE))","v":""},""]
[null,null,null,null,null,"",null,"",null,null,"","",{"$f":"IF(OR(A207=\"\",B207=\"\"),\"\",VLOOKUP(A207&\"_\"&B207,Lookups!$E:$F,2,FALSE))","v":""},""]
[null,null,null,null,null,"",null,"",null,null,"","",{"$f":"IF(OR(A208=\"\",B208=\"\"),\"\",VLOOKUP(A208&\"_\"&B208,Lookups!$E:$F,2,FALSE))","v":""},""]
[null,null,null,null,null,"",null,"",null,null,"","",{"$f":"IF(OR(A209=\"\",B209=\"\"),\"\",VLOOKUP(A209&\"_\"&B209,Lookups!$E:$F,2,FALSE))","v":""},""]
[null,null,null,null,null,"",null,"",null,null,"","",{"$f":"IF(OR(A210=\"\",B210=\"\"),\"\",VLOOKUP(A210&\"_\"&B210,Lookups!$E:$F,2,FALSE))","v":""},""]
[null,null,null,null,null,"",null,"",null,null,"","",{"$f":"IF(OR(A211=\"\",B211=\"\"),\"\",VLOOKUP(A211&\"_\"&B211,Lookups!$E:$F,2,FALSE))","v":""},""]
[null,null,null,null,null,"",null,"",null,null,"","",{"$f":"IF(OR(A212=\"\",B212=\"\"),\"\",VLOOKUP(A212&\"_\"&B212,Lookups!$E:$F,2,FALSE))","v":""},""]
[null,null,null,null,null,"",null,"",null,null,"","",{"$f":"IF(OR(A213=\"\",B213=\"\"),\"\",VLOOKUP(A213&\"_\"&B213,Lookups!$E:$F,2,FALSE))","v":""},""]
[null,null,null,null,null,"",null,"",null,null,"","",{"$f":"IF(OR(A214=\"\",B214=\"\"),\"\",VLOOKUP(A214&\"_\"&B214,Lookups!$E:$F,2,FALSE))","v":""},""]
[null,null,null,null,null,"",null,"",null,null,"","",{"$f":"IF(OR(A215=\"\",B215=\"\"),\"\",VLOOKUP(A215&\"_\"&B215,Lookups!$E:$F,2,FALSE))","v":""},""]
[null,null,null,null,null,"",null,"",null,null,"","",{"$f":"IF(OR(A216=\"\",B216=\"\"),\"\",VLOOKUP(A216&\"_\"&B216,Lookups!$E:$F,2,FALSE))","v":""},""]
[null,null,null,null,null,"",null,"",null,null,"","",{"$f":"IF(OR(A217=\"\",B217=\"\"),\"\",VLOOKUP(A217&\"_\"&B217,Lookups!$E:$F,2,FALSE))","v":""},""]
[null,null,null,null,null,"",null,"",null,null,"","",{"$f":"IF(OR(A218=\"\",B218=\"\"),\"\",VLOOKUP(A218&\"_\"&B218,Lookups!$E:$F,2,FALSE))","v":""},""]
[null,null,null,null,null,"",null,"",null,null,"","",{"$f":"IF(OR(A219=\"\",B219=\"\"),\"\",VLOOKUP(A219&\"_\"&B219,Lookups!$E:$F,2,FALSE))","v":""},""]
[null,null,null,null,null,"",null,"",null,null,"","",{"$f":"IF(OR(A220=\"\",B220=\"\"),\"\",VLOOKUP(A220&\"_\"&B220,Lookups!$E:$F,2,FALSE))","v":""},""]
[null,null,null,null,null,"",null,"",null,null,"","",{"$f":"IF(OR(A221=\"\",B221=\"\"),\"\",VLOOKUP(A221&\"_\"&B221,Lookups!$E:$F,2,FALSE))","v":""},""]
[null,null,null,null,null,"",null,"",null,null,"","",{"$f":"IF(OR(A222=\"\",B222=\"\"),\"\",VLOOKUP(A222&\"_\"&B222,Lookups!$E:$F,2,FALSE))","v":""},""]
[null,null,null,null,null,"",null,"",null,null,"","",{"$f":"IF(OR(A223=\"\",B223=\"\"),\"\",VLOOKUP(A223&\"_\"&B223,Lookups!$E:$F,2,FALSE))","v":""},""]
[null,null,null,null,null,"",null,"",null,null,"","",{"$f":"IF(OR(A224=\"\",B224=\"\"),\"\",VLOOKUP(A224&\"_\"&B224,Lookups!$E:$F,2,FALSE))","v":""},""]
[null,null,null,null,null,"",null,"",null,null,"","",{"$f":"IF(OR(A225=\"\",B225=\"\"),\"\",VLOOKUP(A225&\"_\"&B225,Lookups!$E:$F,2,FALSE))","v":""},""]
[null,null,null,null,null,"",null,"",null,null,"","",{"$f":"IF(OR(A226=\"\",B226=\"\"),\"\",VLOOKUP(A226&\"_\"&B226,Lookups!$E:$F,2,FALSE))","v":""},""]
[null,null,null,null,null,"",null,"",null,null,"","",{"$f":"IF(OR(A227=\"\",B227=\"\"),\"\",VLOOKUP(A227&\"_\"&B227,Lookups!$E:$F,2,FALSE))","v":""},""]
[null,null,null,null,null,"",null,"",null,null,"","",{"$f":"IF(OR(A228=\"\",B228=\"\"),\"\",VLOOKUP(A228&\"_\"&B228,Lookups!$E:$F,2,FALSE))","v":""},""]
[null,null,null,null,null,"",null,"",null,null,"","",{"$f":"IF(OR(A229=\"\",B229=\"\"),\"\",VLOOKUP(A229&\"_\"&B229,Lookups!$E:$F,2,FALSE))","v":""},""]
[null,null,null,null,null,"",null,"",null,null,"","",{"$f":"IF(OR(A230=\"\",B230=\"\"),\"\",VLOOKUP(A230&\"_\"&B230,Lookups!$E:$F,2,FALSE))","v":""},""]
[null,null,null,null,null,"",null,"",null,null,"","",{"$f":"IF(OR(A231=\"\",B231=\"\"),\"\",VLOOKUP(A231&\"_\"&B231,Lookups!$E:$F,2,FALSE))","v":""},""]
[null,null,null,null,null,"",null,"",null,null,"","",{"$f":"IF(OR(A232=\"\",B232=\"\"),\"\",VLOOKUP(A232&\"_\"&B232,Lookups!$E:$F,2,FALSE))","v":""},""]
[null,null,null,null,null,"",null,"",null,null,"","",{"$f":"IF(OR(A233=\"\",B233=\"\"),\"\",VLOOKUP(A233&\"_\"&B233,Lookups!$E:$F,2,FALSE))","v":""},""]
[null,null,null,null,null,"",null,"",null,null,"","",{"$f":"IF(OR(A234=\"\",B234=\"\"),\"\",VLOOKUP(A234&\"_\"&B234,Lookups!$E:$F,2,FALSE))","v":""},""]
[null,null,null,null,null,"",null,"",null,null,"","",{"$f":"IF(OR(A235=\"\",B235=\"\"),\"\",VLOOKUP(A235&\"_\"&B235,Lookups!$E:$F,2,FALSE))","v":""},""]
[null,null,null,null,null,"",null,"",null,null,"","",{"$f":"IF(OR(A236=\"\",B236=\"\"),\"\",VLOOKUP(A236&\"_\"&B236,Lookups!$E:$F,2,FALSE))","v":""},""]
[null,null,null,null,null,"",null,"",null,null,"","",{"$f":"IF(OR(A237=\"\",B237=\"\"),\"\",VLOOKUP(A237&\"_\"&B237,Lookups!$E:$F,2,FALSE))","v":""},""]
[null,null,null,null,null,"",null,"",null,null,"","",{"$f":"IF(OR(A238=\"\",B238=\"\"),\"\",VLOOKUP(A238&\"_\"&B238,Lookups!$E:$F,2,FALSE))","v":""},""]
[null,null,null,null,null,"",null,"",null,null,"","",{"$f":"IF(OR(A239=\"\",B239=\"\"),\"\",VLOOKUP(A239&\"_\"&B239,Lookups!$E:$F,2,FALSE))","v":""},""]
[null,null,null,null,null,"",null,"",null,null,"","",{"$f":"IF(OR(A240=\"\",B240=\"\"),\"\",VLOOKUP(A240&\"_\"&B240,Lookups!$E:$F,2,FALSE))","v":""},""]
[null,null,null,null,null,"",null,"",null,null,"","",{"$f":"IF(OR(A241=\"\",B241=\"\"),\"\",VLOOKUP(A241&\"_\"&B241,Lookups!$E:$F,2,FALSE))","v":""},""]
[null,null,null,null,null,"",null,"",null,null,"","",{"$f":"IF(OR(A242=\"\",B242=\"\"),\"\",VLOOKUP(A242&\"_\"&B242,Lookups!$E:$F,2,FALSE))","v":""},""]
[null,null,null,null,null,"",null,"",null,null,"","",{"$f":"IF(OR(A243=\"\",B243=\"\"),\"\",VLOOKUP(A243&\"_\"&B243,Lookups!$E:$F,2,FALSE))","v":""},""]
[null,null,null,null,null,"",null,"",null,null,"","",{"$f":"IF(OR(A244=\"\",B244=\"\"),\"\",VLOOKUP(A244&\"_\"&B244,Lookups!$E:$F,2,FALSE))","v":""},""]
[null,null,null,null,null,"",null,"",null,null,"","",{"$f":"IF(OR(A245=\"\",B245=\"\"),\"\",VLOOKUP(A245&\"_\"&B245,Lookups!$E:$F,2,FALSE))","v":""},""]
[null,null,null,null,null,"",null,"",null,null,"","",{"$f":"IF(OR(A246=\"\",B246=\"\"),\"\",VLOOKUP(A246&\"_\"&B246,Lookups!$E:$F,2,FALSE))","v":""},""]
[null,null,null,null,null,"",null,"",null,null,"","",{"$f":"IF(OR(A247=\"\",B247=\"\"),\"\",VLOOKUP(A247&\"_\"&B247,Lookups!$E:$F,2,FALSE))","v":""},""]
[null,null,null,null,null,"",null,"",null,null,"","",{"$f":"IF(OR(A248=\"\",B248=\"\"),\"\",VLOOKUP(A248&\"_\"&B248,Lookups!$E:$F,2,FALSE))","v":""},""]
[null,null,null,null,null,"",null,"",null,null,"","",{"$f":"IF(OR(A249=\"\",B249=\"\"),\"\",VLOOKUP(A249&\"_\"&B249,Lookups!$E:$F,2,FALSE))","v":""},""]
[null,null,null,null,null,"",null,"",null,null,"","",{"$f":"IF(OR(A250=\"\",B250=\"\"),\"\",VLOOKUP(A250&\"_\"&B250,Lookups!$E:$F,2,FALSE))","v":""},""]
[null,null,null,null,null,"",null,"",null,null,"","",{"$f":"IF(OR(A251=\"\",B251=\"\"),\"\",VLOOKUP(A251&\"_\"&B251,Lookups!$E:$F,2,FALSE))","v":""},""]
[null,null,null,null,null,"",null,"",null,null,"","",{"$f":"IF(OR(A252=\"\",B252=\"\"),\"\",VLOOKUP(A252&\"_\"&B252,Lookups!$E:$F,2,FALSE))","v":""},""]
[null,null,null,null,null,"",null,"",null,null,"","",{"$f":"IF(OR(A253=\"\",B253=\"\"),\"\",VLOOKUP(A253&\"_\"&B253,Lookups!$E:$F,2,FALSE))","v":""},""]
[null,null,null,null,null,"",null,"",null,null,"","",{"$f":"IF(OR(A254=\"\",B254=\"\"),\"\",VLOOKUP(A254&\"_\"&B254,Lookups!$E:$F,2,FALSE))","v":""},""]
[null,null,null,null,null,"",null,"",null,null,"","",{"$f":"IF(OR(A255=\"\",B255=\"\"),\"\",VLOOKUP(A255&\"_\"&B255,Lookups!$E:$F,2,FALSE))","v":""},""]
[null,null,null,null,null,"",null,"",null,null,"","",{"$f":"IF(OR(A256=\"\",B256=\"\"),\"\",VLOOKUP(A256&\"_\"&B256,Lookups!$E:$F,2,FALSE))","v":""},""]
[null,null,null,null,null,"",null,"",null,null,"","",{"$f":"IF(OR(A257=\"\",B257=\"\"),\"\",VLOOKUP(A257&\"_\"&B257,Lookups!$E:$F,2,FALSE))","v":""},""]
[null,null,null,null,null,"",null,"",null,null,"","",{"$f":"IF(OR(A258=\"\",B258=\"\"),\"\",VLOOKUP(A258&\"_\"&B258,Lookups!$E:$F,2,FALSE))","v":""},""]
[null,null,null,null,null,"",null,"",null,null,"","",{"$f":"IF(OR(A259=\"\",B259=\"\"),\"\",VLOOKUP(A259&\"_\"&B259,Lookups!$E:$F,2,FALSE))","v":""},""]
[null,null,null,null,null,{"$f":"IF(OR(D260=\"\",E260=\"\"),\"\",ROUND((E260-D260)*24,2))","v":""},null,{"$f":"IF(F260=\"\",\"\",IF(G260<>\"\",F260*G260,F260))","v":""},null,null,{"$f":"IF(AND(H260<>\"\",I260=\"Paid\"),H260,\"\")","v":""},{"$f":"IF(H260=\"\",\"\",IF(K260=\"\",H260,H260-K260))","v":""},{"$f":"IF(OR(A260=\"\",B260=\"\"),\"\",VLOOKUP(A260&\"_\"&B260,Lookups!$E:$F,2,FALSE))","v":""},{"$f":"IF(AND(K260=\"\",L260=\"\"),\"\",IF(K260=\"\",L260*M260,SUM(K260,L260)*M260))","v":""}]
[null,null,null,null,null,"",null,"",null,null,"","",{"$f":"IF(OR(A261=\"\",B261=\"\"),\"\",VLOOKUP(A261&\"_\"&B261,Lookups!$E:$F,2,FALSE))","v":""},""]
[null,null,null,null,null,"",null,"",null,null,"","",{"$f":"IF(OR(A262=\"\",B262=\"\"),\"\",VLOOKUP(A262&\"_\"&B262,Lookups!$E:$F,2,FALSE))","v":""},""]
[null,null,null,null,null,"",null,"",null,null,"","",{"$f":"IF(OR(A263=\"\",B263=\"\"),\"\",VLOOKUP(A263&\"_\"&B263,Lookups!$E:$F,2,FALSE))","v":""},""]
[null,null,null,null,null,"",null,"",null,null,"","",{"$f":"IF(OR(A264=\"\",B264=\"\"),\"\",VLOOKUP(A264&\"_\"&B264,Lookups!$E:$F,2,FALSE))","v":""},""]
[null,null,null,null,null,"",null,"",null,null,"","",{"$f":"IF(OR(A265=\"\",B265=\"\"),\"\",VLOOKUP(A265&\"_\"&B265,Lookups!$E:$F,2,FALSE))","v":""},""]
[null,null,null,null,null,"",null,"",null,null,"","",{"$f":"IF(OR(A266=\"\",B266=\"\"),\"\",VLOOKUP(A266&\"_\"&B266,Lookups!$E:$F,2,FALSE))","v":""},""]
[null,null,null,null,null,"",null,"",null,null,"","",{"$f":"IF(OR(A267=\"\",B267=\"\"),\"\",VLOOKUP(A267&\"_\"&B267,Lookups!$E:$F,2,FALSE))","v":""},""]
[null,null,null,null,null,"",null,"",null,null,"","",{"$f":"IF(OR(A268=\"\",B268=\"\"),\"\",VLOOKUP(A268&\"_\"&B268,Lookups!$E:$F,2,FALSE))","v":""},""]
[null,null,null,null,null,"",null,"",null,null,"","",{"$f":"IF(OR(A269=\"\",B269=\"\"),\"\",VLOOKUP(A269&\"_\"&B269,Lookups!$E:$F,2,FALSE))","v":""},""]
[null,null,null,null,null,"",null,"",null,null,"","",{"$f":"IF(OR(A270=\"\",B270=\"\"),\"\",VLOOKUP(A270&\"_\"&B270,Lookups!$E:$F,2,FALSE))","v":""},""]
[null,null,null,null,null,"",null,"",null,null,"","",{"$f":"IF(OR(A271=\"\",B271=\"\"),\"\",VLOOKUP(A271&\"_\"&B271,Lookups!$E:$F,2,FALSE))","v":""},""]
[null,null,null,null,null,"",null,"",null,null,"","",{"$f":"IF(OR(A272=\"\",B272=\"\"),\"\",VLOOKUP(A272&\"_\"&B272,Lookups!$E:$F,2,FALSE))","v":""},""]
[null,null,null,null,null,"",null,"",null,null,"","",{"$f":"IF(OR(A273=\"\",B273=\"\"),\"\",VLOOKUP(A273&\"_\"&B273,Lookups!$E:$F,2,FALSE))","v":""},""]
[null,null,null,null,null,"",null,"",null,null,"","",{"$f":"IF(OR(A274=\"\",B274=\"\"),\"\",VLOOKUP(A274&\"_\"&B274,Lookups!$E:$F,2,FALSE))","v":""},""]
[null,null,null,null,null,"",null,"",null,null,"","",{"$f":"IF(OR(A275=\"\",B275=\"\"),\"\",VLOOKUP(A275&\"_\"&B275,Lookups!$E:$F,2,FALSE))","v":""},""]
[null,null,null,null,null,"",null,"",null,null,"","",{"$f":"IF(OR(A276=\"\",B276=\"\"),\"\",VLOOKUP(A276&\"_\"&B276,Lookups!$E:$F,2,FALSE))","v":""},""]
[null,null,null,null,null,"",null,"",null,null,"","",{"$f":"IF(OR(A277=\"\",B277=\"\"),\"\",VLOOKUP(A277&\"_\"&B277,Lookups!$E:$F,2,FALSE))","v":""},""]
[null,null,null,null,null,"",null,"",null,null,"","",{"$f":"IF(OR(A278=\"\",B278=\"\"),\"\",VLOOKUP(A278&\"_\"&B278,Lookups!$E:$F,2,FALSE))","v":""},""]
[null,null,null,null,null,"",null,"",null,null,"","",{"$f":"IF(OR(A279=\"\",B279=\"\"),\"\",VLOOKUP(A279&\"_\"&B279,Lookups!$E:$F,2,FALSE))","v":""},""]
[null,null,null,null,null,"",null,"",null,null,"","",{"$f":"IF(OR(A280=\"\",B280=\"\"),\"\",VLOOKUP(A280&\"_\"&B280,Lookups!$E:$F,2,FALSE))","v":""},""]
[null,null,null,null,null,"",null,"",null,null,"","",{"$f":"IF(OR(A281=\"\",B281=\"\"),\"\",VLOOKUP(A281&\"_\"&B281,Lookups!$E:$F,2,FALSE))","v":""},""]
[null,null,null,null,null,"",null,"",null,null,"","",{"$f":"IF(OR(A282=\"\",B282=\"\"),\"\",VLOOKUP(A282&\"_\"&B282,Lookups!$E:$F,2,FALSE))","v":""},""]
[null,null,null,null,null,"",null,"",null,null,"","",{"$f":"IF(OR(A283=\"\",B283=\"\"),\"\",VLOOKUP(A283&\"_\"&B283,Lookups!$E:$F,2,FALSE))","v":""},""]
[null,null,null,null,null,"",null,"",null,null,"","",{"$f":"IF(OR(A284=\"\",B284=\"\"),\"\",VLOOKUP(A284&\"_\"&B284,Lookups!$E:$F,2,FALSE))","v":""},""]
[null,null,null,null,null,"",null,"",null,null,"","",{"$f":"IF(OR(A285=\"\",B285=\"\"),\"\",VLOOKUP(A285&\"_\"&B285,Lookups!$E:$F,2,FALSE))","v":""},""]
[null,null,null,null,null,"",null,"",null,null,"","",{"$f":"IF(OR(A286=\"\",B286=\"\"),\"\",VLOOKUP(A286&\"_\"&B286,Lookups!$E:$F,2,FALSE))","v":""},""]
[null,null,null,null,null,"",null,"",null,null,"","",{"$f":"IF(OR(A287=\"\",B287=\"\"),\"\",VLOOKUP(A287&\"_\"&B287,Lookups!$E:$F,2,FALSE))","v":""},""]
[null,null,null,null,null,"",null,"",null,null,"","",{"$f":"IF(OR(A288=\"\",B288=\"\"),\"\",VLOOKUP(A288&\"_\"&B288,Lookups!$E:$F,2,FALSE))","v":""},""]
[null,null,null,null,null,"",null,"",null,null,"","",{"$f":"IF(OR(A289=\"\",B289=\"\"),\"\",VLOOKUP(A289&\"_\"&B289,Lookups!$E:$F,2,FALSE))","v":""},""]
[null,null,null,null,null,"",null,"",null,null,"","",{"$f":"IF(OR(A290=\"\",B290=\"\"),\"\",VLOOKUP(A290&\"_\"&B290,Lookups!$E:$F,2,FALSE))","v":""},""]
[null,null,null,null,null,"",null,"",null,null,"","",{"$f":"IF(OR(A291=\"\",B291=\"\"),\"\",VLOOKUP(A291&\"_\"&B291,Lookups!$E:$F,2,FALSE))","v":""},""]
[null,null,null,null,null,"",null,"",null,null,"","",{"$f":"IF(OR(A292=\"\",B292=\"\"),\"\",VLOOKUP(A292&\"_\"&B292,Lookups!$E:$F,2,FALSE))","v":""},""]
[null,null,null,null,null,"",null,"",null,null,"","",{"$f":"IF(OR(A293=\"\",B293=\"\"),\"\",VLOOKUP(A293&\"_\"&B293,Lookups!$E:$F,2,FALSE))","v":""},""]
[null,null,null,null,null,"",null,"",null,null,"","",{"$f":"IF(OR(A294=\"\",B294=\"\"),\"\",VLOOKUP(A294&\"_\"&B294,Lookups!$E:$F,2,FALSE))","v":""},""]
[null,null,null,null,null,"",null,"",null,null,"","",{"$f":"IF(OR(A295=\"\",B295=\"\"),\"\",VLOOKUP(A295&\"_\"&B295,Lookups!$E:$F,2,FALSE))","v":""},""]
[null,null,null,null,null,"",null,"",null,null,"","",{"$f":"IF(OR(A296=\"\",B296=\"\"),\"\",VLOOKUP(A296&\"_\"&B296,Lookups!$E:$F,2,FALSE))","v":""},""]
[null,null,null,null,null,"",null,"",null,null,"","",{"$f":"IF(OR(A297=\"\",B297=\"\"),\"\",VLOOKUP(A297&\"_\"&B297,Lookups!$E:$F,2,FALSE))","v":""},""]
[null,null,null,null,null,"",null,"",null,null,"","",{"$f":"IF(OR(A298=\"\",B298=\"\"),\"\",VLOOKUP(A298&\"_\"&B298,Lookups!$E:$F,2,FALSE))","v":""},""]
[null,null,null,null,null,"",null,"",null,null,"","",{"$f":"IF(OR(A299=\"\",B299=\"\"),\"\",VLOOKUP(A299&\"_\"&B299,Lookups!$E:$F,2,FALSE))","v":""},""]
[null,null,null,null,null,"",null,"",null,null,"","",{"$f":"IF(OR(A300=\"\",B300=\"\"),\"\",VLOOKUP(A300&\"_\"&B300,Lookups!$E:$F,2,FALSE))","v":""},""]
[null,null,null,null,null,"",null,"",null,null,"","",{"$f":"IF(OR(A301=\"\",B301=\"\"),\"\",VLOOKUP(A301&\"_\"&B301,Lookups!$E:$F,2,FALSE))","v":""},""]
[null,null,null,null,null,"",null,"",null,null,"","",{"$f":"IF(OR(A302=\"\",B302=\"\"),\"\",VLOOKUP(A302&\"_\"&B302,Lookups!$E:$F,2,FALSE))","v":""},""]
[null,null,null,null,null,"",null,"",null,null,"","",{"$f":"IF(OR(A303=\"\",B303=\"\"),\"\",VLOOKUP(A303&\"_\"&B303,Lookups!$E:$F,2,FALSE))","v":""},""]
[null,null,null,null,null,"",null,"",null,null,"","",{"$f":"IF(OR(A304=\"\",B304=\"\"),\"\",VLOOKUP(A304&\"_\"&B304,Lookups!$E:$F,2,FALSE))","v":""},""]
[null,null,null,null,null,"",null,"",null,null,"","",{"$f":"IF(OR(A305=\"\",B305=\"\"),\"\",VLOOKUP(A305&\"_\"&B305,Lookups!$E:$F,2,FALSE))","v":""},""]
[null,null,null,null,null,"",null,"",null,null,"","",{"$f":"IF(OR(A306=\"\",B306=\"\"),\"\",VLOOKUP(A306&\"_\"&B306,Lookups!$E:$F,2,FALSE))","v":""},""]
[null,null,null,null,null,"",null,"",null,null,"","",{"$f":"IF(OR(A307=\"\",B307=\"\"),\"\",VLOOKUP(A307&\"_\"&B307,Lookups!$E:$F,2,FALSE))","v":""},""]
[null,null,null,null,null,"",null,"",null,null,"","",{"$f":"IF(OR(A308=\"\",B308=\"\"),\"\",VLOOKUP(A308&\"_\"&B308,Lookups!$E:$F,2,FALSE))","v":""},""]
[null,null,null,null,null,"",null,"",null,null,"","",{"$f":"IF(OR(A309=\"\",B309=\"\"),\"\",VLOOKUP(A309&\"_\"&B309,Lookups!$E:$F,2,FALSE))","v":""},""]
[null,null,null,null,null,"",null,"",null,null,"","",{"$f":"IF(OR(A310=\"\",B310=\"\"),\"\",VLOOKUP(A310&\"_\"&B310,Lookups!$E:$F,2,FALSE))","v":""},""]
[null,null,null,null,null,"",null,"",null,null,"","",{"$f":"IF(OR(A311=\"\",B311=\"\"),\"\",VLOOKUP(A311&\"_\"&B311,Lookups!$E:$F,2,FALSE))","v":""},""]
[null,null,null,null,null,"",null,"",null,null,"","",{"$f":"IF(OR(A312=\"\",B312=\"\"),\"\",VLOOKUP(A312&\"_\"&B312,Lookups!$E:$F,2,FALSE))","v":""},""]
[null,null,null,null,null,"",null,"",null,null,"","",{"$f":"IF(OR(A313=\"\",B313=\"\"),\"\",VLOOKUP(A313&\"_\"&B313,Lookups!$E:$F,2,FALSE))","v":""},""]
[null,null,null,null,null,"",null,"",null,null,"","",{"$f":"IF(OR(A314=\"\",B314=\"\"),\"\",VLOOKUP(A314&\"_\"&B314,Lookups!$E:$F,2,FALSE))","v":""},""]
[null,null,null,null,null,"",null,"",null,null,"","",{"$f":"IF(OR(A315=\"\",B315=\"\"),\"\",VLOOKUP(A315&\"_\"&B315,Lookups!$E:$F,2,FALSE))","v":""},""]
[null,null,null,null,null,"",null,"",null,null,"","",{"$f":"IF(OR(A316=\"\",B316=\"\"),\"\",VLOOKUP(A316&\"_\"&B316,Lookups!$E:$F,2,FALSE))","v":""},""]
[null,null,null,null,null,"",null,"",null,null,"","",{"$f":"IF(OR(A317=\"\",B317=\"\"),\"\",VLOOKUP(A317&\"_\"&B317,Lookups!$E:$F,2,FALSE))","v":""},""]
[null,null,null,null,null,"",null,"",null,null,"","",{"$f":"IF(OR(A318=\"\",B318=\"\"),\"\",VLOOKUP(A318&\"_\"&B318,Lookups!$E:$F,2,FALSE))","v":""},""]
[null,null,null,null,null,"",null,"",null,null,"","",{"$f":"IF(OR(A319=\"\",B319=\"\"),\"\",VLOOKUP(A319&\"_\"&B319,Lookups!$E:$F,2,FALSE))","v":""},""]
[null,null,null,null,null,"",null,"",null,null,"","",{"$f":"IF(OR(A320=\"\",B320=\"\"),\"\",VLOOKUP(A320&\"_\"&B320,Lookups!$E:$F,2,FALSE))","v":""},""]
[null,null,null,null,null,"",null,"",null,null,"","",{"$f":"IF(OR(A321=\"\",B321=\"\"),\"\",VLOOKUP(A321&\"_\"&B321,Lookups!$E:$F,2,FALSE))","v":""},""]
[null,null,null,null,null,"",null,"",null,null,"","",{"$f":"IF(OR(A322=\"\",B322=\"\"),\"\",VLOOKUP(A322&\"_\"&B322,Lookups!$E:$F,2,FALSE))","v":""},""]
[null,null,null,null,null,"",null,"",null,null,"","",{"$f":"IF(OR(A323=\"\",B323=\"\"),\"\",VLOOKUP(A323&\"_\"&B323,Lookups!$E:$F,2,FALSE))","v":""},""]
[null,null,null,null,null,{"$f":"IF(OR(D324=\"\",E324=\"\"),\"\",ROUND((E324-D324)*24,2))","v":""},null,{"$f":"IF(F324=\"\",\"\",IF(G324<>\"\",F324*G324,F324))","v":""},null,null,{"$f":"IF(AND(H324<>\"\",I324=\"Paid\"),H324,\"\")","v":""},{"$f":"IF(H324=\"\",\"\",IF(K324=\"\",H324,H324-K324))","v":""},{"$f":"IF(OR(A324=\"\",B324=\"\"),\"\",VLOOKUP(A324&\"_\"&B324,Lookups!$E:$F,2,FALSE))","v":""},{"$f":"IF(AND(K324=\"\",L324=\"\"),\"\",IF(K324=\"\",L324*M324,SUM(K324,L324)*M324))","v":""}]
[null,null,null,null,null,"",null,"",null,null,"","",{"$f":"IF(OR(A325=\"\",B325=\"\"),\"\",VLOOKUP(A325&\"_\"&B325,Lookups!$E:$F,2,FALSE))","v":""},""]
[null,null,null,null,null,"",null,"",null,null,"","",{"$f":"IF(OR(A326=\"\",B326=\"\"),\"\",VLOOKUP(A326&\"_\"&B326,Lookups!$E:$F,2,FALSE))","v":""},""]
[null,null,null,null,null,"",null,"",null,null,"","",{"$f":"IF(OR(A327=\"\",B327=\"\"),\"\",VLOOKUP(A327&\"_\"&B327,Lookups!$E:$F,2,FALSE))","v":""},""]
[null,null,null,null,null,"",null,"",null,null,"","",{"$f":"IF(OR(A328=\"\",B328=\"\"),\"\",VLOOKUP(A328&\"_\"&B328,Lookups!$E:$F,2,FALSE))","v":""},""]
[null,null,null,null,null,"",null,"",null,null,"","",{"$f":"IF(OR(A329=\"\",B329=\"\"),\"\",VLOOKUP(A329&\"_\"&B329,Lookups!$E:$F,2,FALSE))","v":""},""]
[null,null,null,null,null,"",null,"",null,null,"","",{"$f":"IF(OR(A330=\"\",B330=\"\"),\"\",VLOOKUP(A330&\"_\"&B330,Lookups!$E:$F,2,FALSE))","v":""},""]
[null,null,null,null,null,"",null,"",null,null,"","",{"$f":"IF(OR(A331=\"\",B331=\"\"),\"\",VLOOKUP(A331&\"_\"&B331,Lookups!$E:$F,2,FALSE))","v":""},""]
[null,null,null,null,null,"",null,"",null,null,"","",{"$f":"IF(OR(A332=\"\",B332=\"\"),\"\",VLOOKUP(A332&\"_\"&B332,Lookups!$E:$F,2,FALSE))","v":""},""]
[null,null,null,null,null,"",null,"",null,null,"","",{"$f":"IF(OR(A333=\"\",B333=\"\"),\"\",VLOOKUP(A333&\"_\"&B333,Lookups!$E:$F,2,FALSE))","v":""},""]
[null,null,null,null,null,"",null,"",null,null,"","",{"$f":"IF(OR(A334=\"\",B334=\"\"),\"\",VLOOKUP(A334&\"_\"&B334,Lookups!$E:$F,2,FALSE))","v":""},""]
[null,null,null,null,null,"",null,"",null,null,"","",{"$f":"IF(OR(A335=\"\",B335=\"\"),\"\",VLOOKUP(A335&\"_\"&B335,Lookups!$E:$F,2,FALSE))","v":""},""]
[null,null,null,null,null,"",null,"",null,null,"","",{"$f":"IF(OR(A336=\"\",B336=\"\"),\"\",VLOOKUP(A336&\"_\"&B336,Lookups!$E:$F,2,FALSE))","v":""},""]
[null,null,null,null,null,"",null,"",null,null,"","",{"$f":"IF(OR(A337=\"\",B337=\"\"),\"\",VLOOKUP(A337&\"_\"&B337,Lookups!$E:$F,2,FALSE))","v":""},""]
[null,null,null,null,null,"",null,"",null,null,"","",{"$f":"IF(OR(A338=\"\",B338=\"\"),\"\",VLOOKUP(A338&\"_\"&B338,Lookups!$E:$F,2,FALSE))","v":""},""]
[null,null,null,null,null,"",null,"",null,null,"","",{"$f":"IF(OR(A339=\"\",B339=\"\"),\"\",VLOOKUP(A339&\"_\"&B339,Lookups!$E:$F,2,FALSE))","v":""},""]
[null,null,null,null,null,"",null,"",null,null,"","",{"$f":"IF(OR(A340=\"\",B340=\"\"),\"\",VLOOKUP(A340&\"_\"&B340,Lookups!$E:$F,2,FALSE))","v":""},""]
[null,null,null,null,null,"",null,"",null,null,"","",{"$f":"IF(OR(A341=\"\",B341=\"\"),\"\",VLOOKUP(A341&\"_\"&B341,Lookups!$E:$F,2,FALSE))","v":""},""]
[null,null,null,null,null,"",null,"",null,null,"","",{"$f":"IF(OR(A342=\"\",B342=\"\"),\"\",VLOOKUP(A342&\"_\"&B342,Lookups!$E:$F,2,FALSE))","v":""},""]
[null,null,null,null,null,"",null,"",null,null,"","",{"$f":"IF(OR(A343=\"\",B343=\"\"),\"\",VLOOKUP(A343&\"_\"&B343,Lookups!$E:$F,2,FALSE))","v":""},""]
[null,null,null,null,null,"",null,"",null,null,"","",{"$f":"IF(OR(A344=\"\",B344=\"\"),\"\",VLOOKUP(A344&\"_\"&B344,Lookups!$E:$F,2,FALSE))","v":""},""]
[null,null,null,null,null,"",null,"",null,null,"","",{"$f":"IF(OR(A345=\"\",B345=\"\"),\"\",VLOOKUP(A345&\"_\"&B345,Lookups!$E:$F,2,FALSE))","v":""},""]
[null,null,null,null,null,"",null,"",null,null,"","",{"$f":"IF(OR(A346=\"\",B346=\"\"),\"\",VLOOKUP(A346&\"_\"&B346,Lookups!$E:$F,2,FALSE))","v":""},""]
[null,null,null,null,null,"",null,"",null,null,"","",{"$f":"IF(OR(A347=\"\",B347=\"\"),\"\",VLOOKUP(A347&\"_\"&B347,Lookups!$E:$F,2,FALSE))","v":""},""]
[null,null,null,null,null,"",null,"",null,null,"","",{"$f":"IF(OR(A348=\"\",B348=\"\"),\"\",VLOOKUP(A348&\"_\"&B348,Lookups!$E:$F,2,FALSE))","v":""},""]
[null,null,null,null,null,"",null,"",null,null,"","",{"$f":"IF(OR(A349=\"\",B349=\"\"),\"\",VLOOKUP(A349&\"_\"&B349,Lookups!$E:$F,2,FALSE))","v":""},""]
[null,null,null,null,null,"",null,"",null,null,"","",{"$f":"IF(OR(A350=\"\",B350=\"\"),\"\",VLOOKUP(A350&\"_\"&B350,Lookups!$E:$F,2,FALSE))","v":""},""]
[null,null,null,null,null,"",null,"",null,null,"","",{"$f":"IF(OR(A351=\"\",B351=\"\"),\"\",VLOOKUP(A351&\"_\"&B351,Lookups!$E:$F,2,FALSE))","v":""},""]
[null,null,null,null,null,"",null,"",null,null,"","",{"$f":"IF(OR(A352=\"\",B352=\"\"),\"\",VLOOKUP(A352&\"_\"&B352,Lookups!$E:$F,2,FALSE))","v":""},""]
[null,null,null,null,null,"",null,"",null,null,"","",{"$f":"IF(OR(A353=\"\",B353=\"\"),\"\",VLOOKUP(A353&\"_\"&B353,Lookups!$E:$F,2,FALSE))","v":""},""]
[null,null,null,null,null,"",null,"",null,null,"","",{"$f":"IF(OR(A354=\"\",B354=\"\"),\"\",VLOOKUP(A354&\"_\"&B354,Lookups!$E:$F,2,FALSE))","v":""},""]
[null,null,null,null,null,"",null,"",null,null,"","",{"$f":"IF(OR(A355=\"\",B355=\"\"),\"\",VLOOKUP(A355&\"_\"&B355,Lookups!$E:$F,2,FALSE))","v":""},""]
[null,null,null,null,null,"",null,"",null,null,"","",{"$f":"IF(OR(A356=\"\",B356=\"\"),\"\",VLOOKUP(A356&\"_\"&B356,Lookups!$E:$F,2,FALSE))","v":""},""]
[null,null,null,null,null,"",null,"",null,null,"","",{"$f":"IF(OR(A357=\"\",B357=\"\"),\"\",VLOOKUP(A357&\"_\"&B357,Lookups!$E:$F,2,FALSE))","v":""},""]
[null,null,null,null,null,"",null,"",null,null,"","",{"$f":"IF(OR(A358=\"\",B358=\"\"),\"\",VLOOKUP(A358&\"_\"&B358,Lookups!$E:$F,2,FALSE))","v":""},""]
[null,null,null,null,null,"",null,"",null,null,"","",{"$f":"IF(OR(A359=\"\",B359=\"\"),\"\",VLOOKUP(A359&\"_\"&B359,Lookups!$E:$F,2,FALSE))","v":""},""]
[null,null,null,null,null,"",null,"",null,null,"","",{"$f":"IF(OR(A360=\"\",B360=\"\"),\"\",VLOOKUP(A360&\"_\"&B360,Lookups!$E:$F,2,FALSE))","v":""},""]
[null,null,null,null,null,"",null,"",null,null,"","",{"$f":"IF(OR(A361=\"\",B361=\"\"),\"\",VLOOKUP(A361&\"_\"&B361,Lookups!$E:$F,2,FALSE))","v":""},""]
[null,null,null,null,null,"",null,"",null,null,"","",{"$f":"IF(OR(A362=\"\",B362=\"\"),\"\",VLOOKUP(A362&\"_\"&B362,Lookups!$E:$F,2,FALSE))","v":""},""]
[null,null,null,null,null,"",null,"",null,null,"","",{"$f":"IF(OR(A363=\"\",B363=\"\"),\"\",VLOOKUP(A363&\"_\"&B363,Lookups!$E:$F,2,FALSE))","v":""},""]
[null,null,null,null,null,"",null,"",null,null,"","",{"$f":"IF(OR(A364=\"\",B364=\"\"),\"\",VLOOKUP(A364&\"_\"&B364,Lookups!$E:$F,2,FALSE))","v":""},""]
[null,null,null,null,null,"",null,"",null,null,"","",{"$f":"IF(OR(A365=\"\",B365=\"\"),\"\",VLOOKUP(A365&\"_\"&B365,Lookups!$E:$F,2,FALSE))","v":""},""]
[null,null,null,null,null,"",null,"",null,null,"","",{"$f":"IF(OR(A366=\"\",B366=\"\"),\"\",VLOOKUP(A366&\"_\"&B366,Lookups!$E:$F,2,FALSE))","v":""},""]
[null,null,null,null,null,"",null,"",null,null,"","",{"$f":"IF(OR(A367=\"\",B367=\"\"),\"\",VLOOKUP(A367&\"_\"&B367,Lookups!$E:$F,2,FALSE))","v":""},""]
[null,null,null,null,null,"",null,"",null,null,"","",{"$f":"IF(OR(A368=\"\",B368=\"\"),\"\",VLOOKUP(A368&\"_\"&B368,Lookups!$E:$F,2,FALSE))","v":""},""]
[null,null,null,null,null,"",null,"",null,null,"","",{"$f":"IF(OR(A369=\"\",B369=\"\"),\"\",VLOOKUP(A369&\"_\"&B369,Lookups!$E:$F,2,FALSE))","v":""},""]
[null,null,null,null,null,"",null,"",null,null,"","",{"$f":"IF(OR(A370=\"\",B370=\"\"),\"\",VLOOKUP(A370&\"_\"&B370,Lookups!$E:$F,2,FALSE))","v":""},""]
[null,null,null,null,null,"",null,"",null,null,"","",{"$f":"IF(OR(A371=\"\",B371=\"\"),\"\",VLOOKUP(A371&\"_\"&B371,Lookups!$E:$F,2,FALSE))","v":""},""]
[null,null,null,null,null,"",null,"",null,null,"","",{"$f":"IF(OR(A372=\"\",B372=\"\"),\"\",VLOOKUP(A372&\"_\"&B372,Lookups!$E:$F,2,FALSE))","v":""},""]
[null,null,null,null,null,"",null,"",null,null,"","",{"$f":"IF(OR(A373=\"\",B373=\"\"),\"\",VLOOKUP(A373&\"_\"&B373,Lookups!$E:$F,2,FALSE))","v":""},""]
[null,null,null,null,null,"",null,"",null,null,"","",{"$f":"IF(OR(A374=\"\",B374=\"\"),\"\",VLOOKUP(A374&\"_\"&B374,Lookups!$E:$F,2,FALSE))","v":""},""]
[null,null,null,null,null,"",null,"",null,null,"","",{"$f":"IF(OR(A375=\"\",B375=\"\"),\"\",VLOOKUP(A375&\"_\"&B375,Lookups!$E:$F,2,FALSE))","v":""},""]
[null,null,null,null,null,"",null,"",null,null,"","",{"$f":"IF(OR(A376=\"\",B376=\"\"),\"\",VLOOKUP(A376&\"_\"&B376,Lookups!$E:$F,2,FALSE))","v":""},""]
[null,null,null,null,null,"",null,"",null,null,"","",{"$f":"IF(OR(A377=\"\",B377=\"\"),\"\",VLOOKUP(A377&\"_\"&B377,Lookups!$E:$F,2,FALSE))","v":""},""]
[null,null,null,null,null,"",null,"",null,null,"","",{"$f":"IF(OR(A378=\"\",B378=\"\"),\"\",VLOOKUP(A378&\"_\"&B378,Lookups!$E:$F,2,FALSE))","v":""},""]
[null,null,null,null,null,"",null,"",null,null,"","",{"$f":"IF(OR(A379=\"\",B379=\"\"),\"\",VLOOKUP(A379&\"_\"&B379,Lookups!$E:$F,2,FALSE))","v":""},""]
[null,null,null,null,null,"",null,"",null,null,"","",{"$f":"IF(OR(A380=\"\",B380=\"\"),\"\",VLOOKUP(A380&\"_\"&B380,Lookups!$E:$F,2,FALSE))","v":""},""]
[null,null,null,null,null,"",null,"",null,null,"","",{"$f":"IF(OR(A381=\"\",B381=\"\"),\"\",VLOOKUP(A381&\"_\"&B381,Lookups!$E:$F,2,FALSE))","v":""},""]
[null,null,null,null,null,"",null,"",null,null,"","",{"$f":"IF(OR(A382=\"\",B382=\"\"),\"\",VLOOKUP(A382&\"_\"&B382,Lookups!$E:$F,2,FALSE))","v":""},""]
[null,null,null,null,null,"",null,"",null,null,"","",{"$f":"IF(OR(A383=\"\",B383=\"\"),\"\",VLOOKUP(A383&\"_\"&B383,Lookups!$E:$F,2,FALSE))","v":""},""]
[null,null,null,null,null,"",null,"",null,null,"","",{"$f":"IF(OR(A384=\"\",B384=\"\"),\"\",VLOOKUP(A384&\"_\"&B384,Lookups!$E:$F,2,FALSE))","v":""},""]
[null,null,null,null,null,"",null,"",null,null,"","",{"$f":"IF(OR(A385=\"\",B385=\"\"),\"\",VLOOKUP(A385&\"_\"&B385,Lookups!$E:$F,2,FALSE))","v":""},""]
[null,null,null,null,null,"",null,"",null,null,"","",{"$f":"IF(OR(A386=\"\",B386=\"\"),\"\",VLOOKUP(A386&\"_\"&B386,Lookups!$E:$F,2,FALSE))","v":""},""]
[null,null,null,null,null,"",null,"",null,null,"","",{"$f":"IF(OR(A387=\"\",B387=\"\"),\"\",VLOOKUP(A387&\"_\"&B387,Lookups!$E:$F,2,FALSE))","v":""},""]
[null,null,null,null,null,{"$f":"IF(OR(D388=\"\",E388=\"\"),\"\",ROUND((E388-D388)*24,2))","v":""},null,{"$f":"IF(F388=\"\",\"\",IF(G388<>\"\",F388*G388,F388))","v":""},null,null,{"$f":"IF(AND(H388<>\"\",I388=\"Paid\"),H388,\"\")","v":""},{"$f":"IF(H388=\"\",\"\",IF(K388=\"\",H388,H388-K388))","v":""},{"$f":"IF(OR(A388=\"\",B388=\"\"),\"\",VLOOKUP(A388&\"_\"&B388,Lookups!$E:$F,2,FALSE))","v":""},{"$f":"IF(AND(K388=\"\",L388=\"\"),\"\",IF(K388=\"\",L388*M388,SUM(K388,L388)*M388))","v":""}]
[null,null,null,null,null,"",null,"",null,null,"","",{"$f":"IF(OR(A389=\"\",B389=\"\"),\"\",VLOOKUP(A389&\"_\"&B389,Lookups!$E:$F,2,FALSE))","v":""},""]
[null,null,null,null,null,"",null,"",null,null,"","",{"$f":"IF(OR(A390=\"\",B390=\"\"),\"\",VLOOKUP(A390&\"_\"&B390,Lookups!$E:$F,2,FALSE))","v":""},""]
[null,null,null,null,null,"",null,"",null,null,"","",{"$f":"IF(OR(A391=\"\",B391=\"\"),\"\",VLOOKUP(A391&\"_\"&B391,Lookups!$E:$F,2,FALSE))","v":""},""]
[null,null,null,null,null,"",null,"",null,null,"","",{"$f":"IF(OR(A392=\"\",B392=\"\"),\"\",VLOOKUP(A392&\"_\"&B392,Lookups!$E:$F,2,FALSE))","v":""},""]
[null,null,null,null,null,"",null,"",null,null,"","",{"$f":"IF(OR(A393=\"\",B393=\"\"),\"\",VLOOKUP(A393&\"_\"&B393,Lookups!$E:$F,2,FALSE))","v":""},""]
[null,null,null,null,null,"",null,"",null,null,"","",{"$f":"IF(OR(A394=\"\",B394=\"\"),\"\",VLOOKUP(A394&\"_\"&B394,Lookups!$E:$F,2,FALSE))","v":""},""]
[null,null,null,null,null,"",null,"",null,null,"","",{"$f":"IF(OR(A395=\"\",B395=\"\"),\"\",VLOOKUP(A395&\"_\"&B395,Lookups!$E:$F,2,FALSE))","v":""},""]
[null,null,null,null,null,"",null,"",null,null,"","",{"$f":"IF(OR(A396=\"\",B396=\"\"),\"\",VLOOKUP(A396&\"_\"&B396,Lookups!$E:$F,2,FALSE))","v":""},""]
[null,null,null,null,null,"",null,"",null,null,"","",{"$f":"IF(OR(A397=\"\",B397=\"\"),\"\",VLOOKUP(A397&\"_\"&B397,Lookups!$E:$F,2,FALSE))","v":""},""]
[null,null,null,null,null,"",null,"",null,null,"","",{"$f":"IF(OR(A398=\"\",B398=\"\"),\"\",VLOOKUP(A398&\"_\"&B398,Lookups!$E:$F,2,FALSE))","v":""},""]
[null,null,null,null,null,"",null,"",null,null,"","",{"$f":"IF(OR(A399=\"\",B399=\"\"),\"\",VLOOKUP(A399&\"_\"&B399,Lookups!$E:$F,2,FALSE))","v":""},""]
[null,null,null,null,null,"",null,"",null,null,"","",{"$f":"IF(OR(A400=\"\",B400=\"\"),\"\",VLOOKUP(A400&\"_\"&B400,Lookups!$E:$F,2,FALSE))","v":""},""]
[null,null,null,null,null,"",null,"",null,null,"","",{"$f":"IF(OR(A401=\"\",B401=\"\"),\"\",VLOOKUP(A401&\"_\"&B401,Lookups!$E:$F,2,FALSE))","v":""},""]
[null,null,null,null,null,"",null,"",null,null,"","",{"$f":"IF(OR(A402=\"\",B402=\"\"),\"\",VLOOKUP(A402&\"_\"&B402,Lookups!$E:$F,2,FALSE))","v":""},""]
[null,null,null,null,null,"",null,"",null,null,"","",{"$f":"IF(OR(A403=\"\",B403=\"\"),\"\",VLOOKUP(A403&\"_\"&B403,Lookups!$E:$F,2,FALSE))","v":""},""]
[null,null,null,null,null,"",null,"",null,null,"","",{"$f":"IF(OR(A404=\"\",B404=\"\"),\"\",VLOOKUP(A404&\"_\"&B404,Lookups!$E:$F,2,FALSE))","v":""},""]
[null,null,null,null,null,"",null,"",null,null,"","",{"$f":"IF(OR(A405=\"\",B405=\"\"),\"\",VLOOKUP(A405&\"_\"&B405,Lookups!$E:$F,2,FALSE))","v":""},""]
[null,null,null,null,null,"",null,"",null,null,"","",{"$f":"IF(OR(A406=\"\",B406=\"\"),\"\",VLOOKUP(A406&\"_\"&B406,Lookups!$E:$F,2,FALSE))","v":""},""]
[null,null,null,null,null,"",null,"",null,null,"","",{"$f":"IF(OR(A407=\"\",B407=\"\"),\"\",VLOOKUP(A407&\"_\"&B407,Lookups!$E:$F,2,FALSE))","v":""},""]
[null,null,null,null,null,"",null,"",null,null,"","",{"$f":"IF(OR(A408=\"\",B408=\"\"),\"\",VLOOKUP(A408&\"_\"&B408,Lookups!$E:$F,2,FALSE))","v":""},""]
[null,null,null,null,null,"",null,"",null,null,"","",{"$f":"IF(OR(A409=\"\",B409=\"\"),\"\",VLOOKUP(A409&\"_\"&B409,Lookups!$E:$F,2,FALSE))","v":""},""]
[null,null,null,null,null,"",null,"",null,null,"","",{"$f":"IF(OR(A410=\"\",B410=\"\"),\"\",VLOOKUP(A410&\"_\"&B410,Lookups!$E:$F,2,FALSE))","v":""},""]
[null,null,null,null,null,"",null,"",null,null,"","",{"$f":"IF(OR(A411=\"\",B411=\"\"),\"\",VLOOKUP(A411&\"_\"&B411,Lookups!$E:$F,2,FALSE))","v":""},""]
[null,null,null,null,null,"",null,"",null,null,"","",{"$f":"IF(OR(A412=\"\",B412=\"\"),\"\",VLOOKUP(A412&\"_\"&B412,Lookups!$E:$F,2,FALSE))","v":""},""]
[null,null,null,null,null,"",null,"",null,null,"","",{"$f":"IF(OR(A413=\"\",B413=\"\"),\"\",VLOOKUP(A413&\"_\"&B413,Lookups!$E:$F,2,FALSE))","v":""},""]
[null,null,null,null,null,"",null,"",null,null,"","",{"$f":"IF(OR(A414=\"\",B414=\"\"),\"\",VLOOKUP(A414&\"_\"&B414,Lookups!$E:$F,2,FALSE))","v":""},""]
[null,null,null,null,null,"",null,"",null,null,"","",{"$f":"IF(OR(A415=\"\",B415=\"\"),\"\",VLOOKUP(A415&\"_\"&B415,Lookups!$E:$F,2,FALSE))","v":""},""]
[null,null,null,null,null,"",null,"",null,null,"","",{"$f":"IF(OR(A416=\"\",B416=\"\"),\"\",VLOOKUP(A416&\"_\"&B416,Lookups!$E:$F,2,FALSE))","v":""},""]
[null,null,null,null,null,"",null,"",null,null,"","",{"$f":"IF(OR(A417=\"\",B417=\"\"),\"\",VLOOKUP(A417&\"_\"&B417,Lookups!$E:$F,2,FALSE))","v":""},""]
[null,null,null,null,null,"",null,"",null,null,"","",{"$f":"IF(OR(A418=\"\",B418=\"\"),\"\",VLOOKUP(A418&\"_\"&B418,Lookups!$E:$F,2,FALSE))","v":""},""]
[null,null,null,null,null,"",null,"",null,null,"","",{"$f":"IF(OR(A419=\"\",B419=\"\"),\"\",VLOOKUP(A419&\"_\"&B419,Lookups!$E:$F,2,FALSE))","v":""},""]
[null,null,null,null,null,"",null,"",null,null,"","",{"$f":"IF(OR(A420=\"\",B420=\"\"),\"\",VLOOKUP(A420&\"_\"&B420,Lookups!$E:$F,2,FALSE))","v":""},""]
[null,null,null,null,null,"",null,"",null,null,"","",{"$f":"IF(OR(A421=\"\",B421=\"\"),\"\",VLOOKUP(A421&\"_\"&B421,Lookups!$E:$F,2,FALSE))","v":""},""]
[null,null,null,null,null,"",null,"",null,null,"","",{"$f":"IF(OR(A422=\"\",B422=\"\"),\"\",VLOOKUP(A422&\"_\"&B422,Lookups!$E:$F,2,FALSE))","v":""},""]
[null,null,null,null,null,"",null,"",null,null,"","",{"$f":"IF(OR(A423=\"\",B423=\"\"),\"\",VLOOKUP(A423&\"_\"&B423,Lookups!$E:$F,2,FALSE))","v":""},""]
[null,null,null,null,null,"",null,"",null,null,"","",{"$f":"IF(OR(A424=\"\",B424=\"\"),\"\",VLOOKUP(A424&\"_\"&B424,Lookups!$E:$F,2,FALSE))","v":""},""]
[null,null,null,null,null,"",null,"",null,null,"","",{"$f":"IF(OR(A425=\"\",B425=\"\"),\"\",VLOOKUP(A425&\"_\"&B425,Lookups!$E:$F,2,FALSE))","v":""},""]
[null,null,null,null,null,"",null,"",null,null,"","",{"$f":"IF(OR(A426=\"\",B426=\"\"),\"\",VLOOKUP(A426&\"_\"&B426,Lookups!$E:$F,2,FALSE))","v":""},""]
[null,null,null,null,null,"",null,"",null,null,"","",{"$f":"IF(OR(A427=\"\",B427=\"\"),\"\",VLOOKUP(A427&\"_\"&B427,Lookups!$E:$F,2,FALSE))","v":""},""]
[null,null,null,null,null,"",null,"",null,null,"","",{"$f":"IF(OR(A428=\"\",B428=\"\"),\"\",VLOOKUP(A428&\"_\"&B428,Lookups!$E:$F,2,FALSE))","v":""},""]
[null,null,null,null,null,"",null,"",null,null,"","",{"$f":"IF(OR(A429=\"\",B429=\"\"),\"\",VLOOKUP(A429&\"_\"&B429,Lookups!$E:$F,2,FALSE))","v":""},""]
[null,null,null,null,null,"",null,"",null,null,"","",{"$f":"IF(OR(A430=\"\",B430=\"\"),\"\",VLOOKUP(A430&\"_\"&B430,Lookups!$E:$F,2,FALSE))","v":""},""]
[null,null,null,null,null,"",null,"",null,null,"","",{"$f":"IF(OR(A431=\"\",B431=\"\"),\"\",VLOOKUP(A431&\"_\"&B431,Lookups!$E:$F,2,FALSE))","v":""},""]
[null,null,null,null,null,"",null,"",null,null,"","",{"$f":"IF(OR(A432=\"\",B432=\"\"),\"\",VLOOKUP(A432&\"_\"&B432,Lookups!$E:$F,2,FALSE))","v":""},""]
[null,null,null,null,null,"",null,"",null,null,"","",{"$f":"IF(OR(A433=\"\",B433=\"\"),\"\",VLOOKUP(A433&\"_\"&B433,Lookups!$E:$F,2,FALSE))","v":""},""]
[null,null,null,null,null,"",null,"",null,null,"","",{"$f":"IF(OR(A434=\"\",B434=\"\"),\"\",VLOOKUP(A434&\"_\"&B434,Lookups!$E:$F,2,FALSE))","v":""},""]
[null,null,null,null,null,"",null,"",null,null,"","",{"$f":"IF(OR(A435=\"\",B435=\"\"),\"\",VLOOKUP(A435&\"_\"&B435,Lookups!$E:$F,2,FALSE))","v":""},""]
[null,null,null,null,null,"",null,"",null,null,"","",{"$f":"IF(OR(A436=\"\",B436=\"\"),\"\",VLOOKUP(A436&\"_\"&B436,Lookups!$E:$F,2,FALSE))","v":""},""]
[null,null,null,null,null,"",null,"",null,null,"","",{"$f":"IF(OR(A437=\"\",B437=\"\"),\"\",VLOOKUP(A437&\"_\"&B437,Lookups!$E:$F,2,FALSE))","v":""},""]
[null,null,null,null,null,"",null,"",null,null,"","",{"$f":"IF(OR(A438=\"\",B438=\"\"),\"\",VLOOKUP(A438&\"_\"&B438,Lookups!$E:$F,2,FALSE))","v":""},""]
[null,null,null,null,null,"",null,"",null,null,"","",{"$f":"IF(OR(A439=\"\",B439=\"\"),\"\",VLOOKUP(A439&\"_\"&B439,Lookups!$E:$F,2,FALSE))","v":""},""]
[null,null,null,null,null,"",null,"",null,null,"","",{"$f":"IF(OR(A440=\"\",B440=\"\"),\"\",VLOOKUP(A440&\"_\"&B440,Lookups!$E:$F,2,FALSE))","v":""},""]
[null,null,null,null,null,"",null,"",null,null,"","",{"$f":"IF(OR(A441=\"\",B441=\"\"),\"\",VLOOKUP(A441&\"_\"&B441,Lookups!$E:$F,2,FALSE))","v":""},""]
[null,null,null,null,null,"",null,"",null,null,"","",{"$f":"IF(OR(A442=\"\",B442=\"\"),\"\",VLOOKUP(A442&\"_\"&B442,Lookups!$E:$F,2,FALSE))","v":""},""]
[null,null,null,null,null,"",null,"",null,null,"","",{"$f":"IF(OR(A443=\"\",B443=\"\"),\"\",VLOOKUP(A443&\"_\"&B443,Lookups!$E:$F,2,FALSE))","v":""},""]
[null,null,null,null,null,"",null,"",null,null,"","",{"$f":"IF(OR(A444=\"\",B444=\"\"),\"\",VLOOKUP(A444&\"_\"&B444,Lookups!$E:$F,2,FALSE))","v":""},""]
[null,null,null,null,null,"",null,"",null,null,"","",{"$f":"IF(OR(A445=\"\",B445=\"\"),\"\",VLOOKUP(A445&\"_\"&B445,Lookups!$E:$F,2,FALSE))","v":""},""]
[null,null,null,null,null,"",null,"",null,null,"","",{"$f":"IF(OR(A446=\"\",B446=\"\"),\"\",VLOOKUP(A446&\"_\"&B446,Lookups!$E:$F,2,FALSE))","v":""},""]
[null,null,null,null,null,"",null,"",null,null,"","",{"$f":"IF(OR(A447=\"\",B447=\"\"),\"\",VLOOKUP(A447&\"_\"&B447,Lookups!$E:$F,2,FALSE))","v":""},""]
[null,null,null,null,null,"",null,"",null,null,"","",{"$f":"IF(OR(A448=\"\",B448=\"\"),\"\",VLOOKUP(A448&\"_\"&B448,Lookups!$E:$F,2,FALSE))","v":""},""]
[null,null,null,null,null,"",null,"",null,null,"","",{"$f":"IF(OR(A449=\"\",B449=\"\"),\"\",VLOOKUP(A449&\"_\"&B449,Lookups!$E:$F,2,FALSE))","v":""},""]
[null,null,null,null,null,"",null,"",null,null,"","",{"$f":"IF(OR(A450=\"\",B450=\"\"),\"\",VLOOKUP(A450&\"_\"&B450,Lookups!$E:$F,2,FALSE))","v":""},""]
[null,null,null,null,null,"",null,"",null,null,"","",{"$f":"IF(OR(A451=\"\",B451=\"\"),\"\",VLOOKUP(A451&\"_\"&B451,Lookups!$E:$F,2,FALSE))","v":""},""]
[null,null,null,null,null,{"$f":"IF(OR(D452=\"\",E452=\"\"),\"\",ROUND((E452-D452)*24,2))","v":""},null,{"$f":"IF(F452=\"\",\"\",IF(G452<>\"\",F452*G452,F452))","v":""},null,null,{"$f":"IF(AND(H452<>\"\",I452=\"Paid\"),H452,\"\")","v":""},{"$f":"IF(H452=\"\",\"\",IF(K452=\"\",H452,H452-K452))","v":""},{"$f":"IF(OR(A452=\"\",B452=\"\"),\"\",VLOOKUP(A452&\"_\"&B452,Lookups!$E:$F,2,FALSE))","v":""},{"$f":"IF(AND(K452=\"\",L452=\"\"),\"\",IF(K452=\"\",L452*M452,SUM(K452,L452)*M452))","v":""}]
[null,null,null,null,null,"",null,"",null,null,"","",{"$f":"IF(OR(A453=\"\",B453=\"\"),\"\",VLOOKUP(A453&\"_\"&B453,Lookups!$E:$F,2,FALSE))","v":""},""]
[null,null,null,null,null,"",null,"",null,null,"","",{"$f":"IF(OR(A454=\"\",B454=\"\"),\"\",VLOOKUP(A454&\"_\"&B454,Lookups!$E:$F,2,FALSE))","v":""},""]
[null,null,null,null,null,"",null,"",null,null,"","",{"$f":"IF(OR(A455=\"\",B455=\"\"),\"\",VLOOKUP(A455&\"_\"&B455,Lookups!$E:$F,2,FALSE))","v":""},""]
[null,null,null,null,null,"",null,"",null,null,"","",{"$f":"IF(OR(A456=\"\",B456=\"\"),\"\",VLOOKUP(A456&\"_\"&B456,Lookups!$E:$F,2,FALSE))","v":""},""]
[null,null,null,null,null,"",null,"",null,null,"","",{"$f":"IF(OR(A457=\"\",B457=\"\"),\"\",VLOOKUP(A457&\"_\"&B457,Lookups!$E:$F,2,FALSE))","v":""},""]
[null,null,null,null,null,"",null,"",null,null,"","",{"$f":"IF(OR(A458=\"\",B458=\"\"),\"\",VLOOKUP(A458&\"_\"&B458,Lookups!$E:$F,2,FALSE))","v":""},""]
[null,null,null,null,null,"",null,"",null,null,"","",{"$f":"IF(OR(A459=\"\",B459=\"\"),\"\",VLOOKUP(A459&\"_\"&B459,Lookups!$E:$F,2,FALSE))","v":""},""]
[null,null,null,null,null,"",null,"",null,null,"","",{"$f":"IF(OR(A460=\"\",B460=\"\"),\"\",VLOOKUP(A460&\"_\"&B460,Lookups!$E:$F,2,FALSE))","v":""},""]
[null,null,null,null,null,"",null,"",null,null,"","",{"$f":"IF(OR(A461=\"\",B461=\"\"),\"\",VLOOKUP(A461&\"_\"&B461,Lookups!$E:$F,2,FALSE))","v":""},""]
[null,null,null,null,null,"",null,"",null,null,"","",{"$f":"IF(OR(A462=\"\",B462=\"\"),\"\",VLOOKUP(A462&\"_\"&B462,Lookups!$E:$F,2,FALSE))","v":""},""]
[null,null,null,null,null,"",null,"",null,null,"","",{"$f":"IF(OR(A463=\"\",B463=\"\"),\"\",VLOOKUP(A463&\"_\"&B463,Lookups!$E:$F,2,FALSE))","v":""},""]
[null,null,null,null,null,"",null,"",null,null,"","",{"$f":"IF(OR(A464=\"\",B464=\"\"),\"\",VLOOKUP(A464&\"_\"&B464,Lookups!$E:$F,2,FALSE))","v":""},""]
[null,null,null,null,null,"",null,"",null,null,"","",{"$f":"IF(OR(A465=\"\",B465=\"\"),\"\",VLOOKUP(A465&\"_\"&B465,Lookups!$E:$F,2,FALSE))","v":""},""]
[null,null,null,null,null,"",null,"",null,null,"","",{"$f":"IF(OR(A466=\"\",B466=\"\"),\"\",VLOOKUP(A466&\"_\"&B466,Lookups!$E:$F,2,FALSE))","v":""},""]
[null,null,null,null,null,"",null,"",null,null,"","",{"$f":"IF(OR(A467=\"\",B467=\"\"),\"\",VLOOKUP(A467&\"_\"&B467,Lookups!$E:$F,2,FALSE))","v":""},""]
[null,null,null,null,null,"",null,"",null,null,"","",{"$f":"IF(OR(A468=\"\",B468=\"\"),\"\",VLOOKUP(A468&\"_\"&B468,Lookups!$E:$F,2,FALSE))","v":""},""]
[null,null,null,null,null,"",null,"",null,null,"","",{"$f":"IF(OR(A469=\"\",B469=\"\"),\"\",VLOOKUP(A469&\"_\"&B469,Lookups!$E:$F,2,FALSE))","v":""},""]
[null,null,null,null,null,"",null,"",null,null,"","",{"$f":"IF(OR(A470=\"\",B470=\"\"),\"\",VLOOKUP(A470&\"_\"&B470,Lookups!$E:$F,2,FALSE))","v":""},""]
[null,null,null,null,null,"",null,"",null,null,"","",{"$f":"IF(OR(A471=\"\",B471=\"\"),\"\",VLOOKUP(A471&\"_\"&B471,Lookups!$E:$F,2,FALSE))","v":""},""]
[null,null,null,null,null,"",null,"",null,null,"","",{"$f":"IF(OR(A472=\"\",B472=\"\"),\"\",VLOOKUP(A472&\"_\"&B472,Lookups!$E:$F,2,FALSE))","v":""},""]
[null,null,null,null,null,"",null,"",null,null,"","",{"$f":"IF(OR(A473=\"\",B473=\"\"),\"\",VLOOKUP(A473&\"_\"&B473,Lookups!$E:$F,2,FALSE))","v":""},""]
[null,null,null,null,null,"",null,"",null,null,"","",{"$f":"IF(OR(A474=\"\",B474=\"\"),\"\",VLOOKUP(A474&\"_\"&B474,Lookups!$E:$F,2,FALSE))","v":""},""]
[null,null,null,null,null,"",null,"",null,null,"","",{"$f":"IF(OR(A475=\"\",B475=\"\"),\"\",VLOOKUP(A475&\"_\"&B475,Lookups!$E:$F,2,FALSE))","v":""},""]
[null,null,null,null,null,"",null,"",null,null,"","",{"$f":"IF(OR(A476=\"\",B476=\"\"),\"\",VLOOKUP(A476&\"_\"&B476,Lookups!$E:$F,2,FALSE))","v":""},""]
[null,null,null,null,null,"",null,"",null,null,"","",{"$f":"IF(OR(A477=\"\",B477=\"\"),\"\",VLOOKUP(A477&\"_\"&B477,Lookups!$E:$F,2,FALSE))","v":""},""]
[null,null,null,null,null,"",null,"",null,null,"","",{"$f":"IF(OR(A478=\"\",B478=\"\"),\"\",VLOOKUP(A478&\"_\"&B478,Lookups!$E:$F,2,FALSE))","v":""},""]
[null,null,null,null,null,"",null,"",null,null,"","",{"$f":"IF(OR(A479=\"\",B479=\"\"),\"\",VLOOKUP(A479&\"_\"&B479,Lookups!$E:$F,2,FALSE))","v":""},""]
[null,null,null,null,null,"",null,"",null,null,"","",{"$f":"IF(OR(A480=\"\",B480=\"\"),\"\",VLOOKUP(A480&\"_\"&B480,Lookups!$E:$F,2,FALSE))","v":""},""]
[null,null,null,null,null,"",null,"",null,null,"","",{"$f":"IF(OR(A481=\"\",B481=\"\"),\"\",VLOOKUP(A481&\"_\"&B481,Lookups!$E:$F,2,FALSE))","v":""},""]
[null,null,null,null,null,"",null,"",null,null,"","",{"$f":"IF(OR(A482=\"\",B482=\"\"),\"\",VLOOKUP(A482&\"_\"&B482,Lookups!$E:$F,2,FALSE))","v":""},""]
[null,null,null,null,null,"",null,"",null,null,"","",{"$f":"IF(OR(A483=\"\",B483=\"\"),\"\",VLOOKUP(A483&\"_\"&B483,Lookups!$E:$F,2,FALSE))","v":""},""]
[null,null,null,null,null,"",null,"",null,null,"","",{"$f":"IF(OR(A484=\"\",B484=\"\"),\"\",VLOOKUP(A484&\"_\"&B484,Lookups!$E:$F,2,FALSE))","v":""},""]
[null,null,null,null,null,"",null,"",null,null,"","",{"$f":"IF(OR(A485=\"\",B485=\"\"),\"\",VLOOKUP(A485&\"_\"&B485,Lookups!$E:$F,2,FALSE))","v":""},""]
[null,null,null,null,null,"",null,"",null,null,"","",{"$f":"IF(OR(A486=\"\",B486=\"\"),\"\",VLOOKUP(A486&\"_\"&B486,Lookups!$E:$F,2,FALSE))","v":""},""]
[null,null,null,null,null,"",null,"",null,null,"","",{"$f":"IF(OR(A487=\"\",B487=\"\"),\"\",VLOOKUP(A487&\"_\"&B487,Lookups!$E:$F,2,FALSE))","v":""},""]
[null,null,null,null,null,"",null,"",null,null,"","",{"$f":"IF(OR(A488=\"\",B488=\"\"),\"\",VLOOKUP(A488&\"_\"&B488,Lookups!$E:$F,2,FALSE))","v":""},""]
[null,null,null,null,null,"",null,"",null,null,"","",{"$f":"IF(OR(A489=\"\",B489=\"\"),\"\",VLOOKUP(A489&\"_\"&B489,Lookups!$E:$F,2,FALSE))","v":""},""]
[null,null,null,null,null,"",null,"",null,null,"","",{"$f":"IF(OR(A490=\"\",B490=\"\"),\"\",VLOOKUP(A490&\"_\"&B490,Lookups!$E:$F,2,FALSE))","v":""},""]
[null,null,null,null,null,"",null,"",null,null,"","",{"$f":"IF(OR(A491=\"\",B491=\"\"),\"\",VLOOKUP(A491&\"_\"&B491,Lookups!$E:$F,2,FALSE))","v":""},""]
[null,null,null,null,null,"",null,"",null,null,"","",{"$f":"IF(OR(A492=\"\",B492=\"\"),\"\",VLOOKUP(A492&\"_\"&B492,Lookups!$E:$F,2,FALSE))","v":""},""]
[null,null,null,null,null,"",null,"",null,null,"","",{"$f":"IF(OR(A493=\"\",B493=\"\"),\"\",VLOOKUP(A493&\"_\"&B493,Lookups!$E:$F,2,FALSE))","v":""},""]
[null,null,null,null,null,"",null,"",null,null,"","",{"$f":"IF(OR(A494=\"\",B494=\"\"),\"\",VLOOKUP(A494&\"_\"&B494,Lookups!$E:$F,2,FALSE))","v":""},""]
[null,null,null,null,null,"",null,"",null,null,"","",{"$f":"IF(OR(A495=\"\",B495=\"\"),\"\",VLOOKUP(A495&\"_\"&B495,Lookups!$E:$F,2,FALSE))","v":""},""]
[null,null,null,null,null,"",null,"",null,null,"","",{"$f":"IF(OR(A496=\"\",B496=\"\"),\"\",VLOOKUP(A496&\"_\"&B496,Lookups!$E:$F,2,FALSE))","v":""},""]
[null,null,null,null,null,"",null,"",null,null,"","",{"$f":"IF(OR(A497=\"\",B497=\"\"),\"\",VLOOKUP(A497&\"_\"&B497,Lookups!$E:$F,2,FALSE))","v":""},""]
[null,null,null,null,null,"",null,"",null,null,"","",{"$f":"IF(OR(A498=\"\",B498=\"\"),\"\",VLOOKUP(A498&\"_\"&B498,Lookups!$E:$F,2,FALSE))","v":""},""]
[null,null,null,null,null,"",null,"",null,null,"","",{"$f":"IF(OR(A499=\"\",B499=\"\"),\"\",VLOOKUP(A499&\"_\"&B499,Lookups!$E:$F,2,FALSE))","v":""},""]
[null,null,null,null,null,"",null,"",null,null,"","",{"$f":"IF(OR(A500=\"\",B500=\"\"),\"\",VLOOKUP(A500&\"_\"&B500,Lookups!$E:$F,2,FALSE))","v":""},""]
[null,null,null,null,null,"",null,"",null,null,"","",{"$f":"IF(OR(A501=\"\",B501=\"\"),\"\",VLOOKUP(A501&\"_\"&B501,Lookups!$E:$F,2,FALSE))","v":""},""]
[null,null,null,null,null,"",null,"",null,null,"","",{"$f":"IF(OR(A502=\"\",B502=\"\"),\"\",VLOOKUP(A502&\"_\"&B502,Lookups!$E:$F,2,FALSE))","v":""},""]
[null,null,null,null,null,"",null,"",null,null,"","",{"$f":"IF(OR(A503=\"\",B503=\"\"),\"\",VLOOKUP(A503&\"_\"&B503,Lookups!$E:$F,2,FALSE))","v":""},""]
[null,null,null,null,null,"",null,"",null,null,"","",{"$f":"IF(OR(A504=\"\",B504=\"\"),\"\",VLOOKUP(A504&\"_\"&B504,Lookups!$E:$F,2,FALSE))","v":""},""]
[null,null,null,null,null,"",null,"",null,null,"","",{"$f":"IF(OR(A505=\"\",B505=\"\"),\"\",VLOOKUP(A505&\"_\"&B505,Lookups!$E:$F,2,FALSE))","v":""},""]
[null,null,null,null,null,"",null,"",null,null,"","",{"$f":"IF(OR(A506=\"\",B506=\"\"),\"\",VLOOKUP(A506&\"_\"&B506,Lookups!$E:$F,2,FALSE))","v":""},""]
[null,null,null,null,null,"",null,"",null,null,"","",{"$f":"IF(OR(A507=\"\",B507=\"\"),\"\",VLOOKUP(A507&\"_\"&B507,Lookups!$E:$F,2,FALSE))","v":""},""]
[null,null,null,null,null,"",null,"",null,null,"","",{"$f":"IF(OR(A508=\"\",B508=\"\"),\"\",VLOOKUP(A508&\"_\"&B508,Lookups!$E:$F,2,FALSE))","v":""},""]
[null,null,null,null,null,"",null,"",null,null,"","",{"$f":"IF(OR(A509=\"\",B509=\"\"),\"\",VLOOKUP(A509&\"_\"&B509,Lookups!$E:$F,2,FALSE))","v":""},""]
[null,null,null,null,null,"",null,"",null,null,"","",{"$f":"IF(OR(A510=\"\",B510=\"\"),\"\",VLOOKUP(A510&\"_\"&B510,Lookups!$E:$F,2,FALSE))","v":""},""]
[null,null,null,null,null,"",null,"",null,null,"","",{"$f":"IF(OR(A511=\"\",B511=\"\"),\"\",VLOOKUP(A511&\"_\"&B511,Lookups!$E:$F,2,FALSE))","v":""},""]
[null,null,null,null,null,"",null,"",null,null,"","",{"$f":"IF(OR(A512=\"\",B512=\"\"),\"\",VLOOKUP(A512&\"_\"&B512,Lookups!$E:$F,2,FALSE))","v":""},""]
[null,null,null,null,null,"",null,"",null,null,"","",{"$f":"IF(OR(A513=\"\",B513=\"\"),\"\",VLOOKUP(A513&\"_\"&B513,Lookups!$E:$F,2,FALSE))","v":""},""]
[null,null,null,null,null,"",null,"",null,null,"","",{"$f":"IF(OR(A514=\"\",B514=\"\"),\"\",VLOOKUP(A514&\"_\"&B514,Lookups!$E:$F,2,FALSE))","v":""},""]
[null,null,null,null,null,"",null,"",null,null,"","",{"$f":"IF(OR(A515=\"\",B515=\"\"),\"\",VLOOKUP(A515&\"_\"&B515,Lookups!$E:$F,2,FALSE))","v":""},""]
[null,null,null,null,null,{"$f":"IF(OR(D516=\"\",E516=\"\"),\"\",ROUND((E516-D516)*24,2))","v":""},null,{"$f":"IF(F516=\"\",\"\",IF(G516<>\"\",F516*G516,F516))","v":""},null,null,{"$f":"IF(AND(H516<>\"\",I516=\"Paid\"),H516,\"\")","v":""},{"$f":"IF(H516=\"\",\"\",IF(K516=\"\",H516,H516-K516))","v":""},{"$f":"IF(OR(A516=\"\",B516=\"\"),\"\",VLOOKUP(A516&\"_\"&B516,Lookups!$E:$F,2,FALSE))","v":""},{"$f":"IF(AND(K516=\"\",L516=\"\"),\"\",IF(K516=\"\",L516*M516,SUM(K516,L516)*M516))","v":""}]
[null,null,null,null,null,"",null,"",null,null,"","",{"$f":"IF(OR(A517=\"\",B517=\"\"),\"\",VLOOKUP(A517&\"_\"&B517,Lookups!$E:$F,2,FALSE))","v":""},""]
[null,null,null,null,null,"",null,"",null,null,"","",{"$f":"IF(OR(A518=\"\",B518=\"\"),\"\",VLOOKUP(A518&\"_\"&B518,Lookups!$E:$F,2,FALSE))","v":""},""]
[null,null,null,null,null,"",null,"",null,null,"","",{"$f":"IF(OR(A519=\"\",B519=\"\"),\"\",VLOOKUP(A519&\"_\"&B519,Lookups!$E:$F,2,FALSE))","v":""},""]
[null,null,null,null,null,"",null,"",null,null,"","",{"$f":"IF(OR(A520=\"\",B520=\"\"),\"\",VLOOKUP(A520&\"_\"&B520,Lookups!$E:$F,2,FALSE))","v":""},""]
[null,null,null,null,null,"",null,"",null,null,"","",{"$f":"IF(OR(A521=\"\",B521=\"\"),\"\",VLOOKUP(A521&\"_\"&B521,Lookups!$E:$F,2,FALSE))","v":""},""]
[null,null,null,null,null,"",null,"",null,null,"","",{"$f":"IF(OR(A522=\"\",B522=\"\"),\"\",VLOOKUP(A522&\"_\"&B522,Lookups!$E:$F,2,FALSE))","v":""},""]
[null,null,null,null,null,"",null,"",null,null,"","",{"$f":"IF(OR(A523=\"\",B523=\"\"),\"\",VLOOKUP(A523&\"_\"&B523,Lookups!$E:$F,2,FALSE))","v":""},""]
[null,null,null,null,null,"",null,"",null,null,"","",{"$f":"IF(OR(A524=\"\",B524=\"\"),\"\",VLOOKUP(A524&\"_\"&B524,Lookups!$E:$F,2,FALSE))","v":""},""]
[null,null,null,null,null,"",null,"",null,null,"","",{"$f":"IF(OR(A525=\"\",B525=\"\"),\"\",VLOOKUP(A525&\"_\"&B525,Lookups!$E:$F,2,FALSE))","v":""},""]
[null,null,null,null,null,"",null,"",null,null,"","",{"$f":"IF(OR(A526=\"\",B526=\"\"),\"\",VLOOKUP(A526&\"_\"&B526,Lookups!$E:$F,2,FALSE))","v":""},""]
[null,null,null,null,null,"",null,"",null,null,"","",{"$f":"IF(OR(A527=\"\",B527=\"\"),\"\",VLOOKUP(A527&\"_\"&B527,Lookups!$E:$F,2,FALSE))","v":""},""]
[null,null,null,null,null,"",null,"",null,null,"","",{"$f":"IF(OR(A528=\"\",B528=\"\"),\"\",VLOOKUP(A528&\"_\"&B528,Lookups!$E:$F,2,FALSE))","v":""},""]
[null,null,null,null,null,"",null,"",null,null,"","",{"$f":"IF(OR(A529=\"\",B529=\"\"),\"\",VLOOKUP(A529&\"_\"&B529,Lookups!$E:$F,2,FALSE))","v":""},""]
[null,null,null,null,null,"",null,"",null,null,"","",{"$f":"IF(OR(A530=\"\",B530=\"\"),\"\",VLOOKUP(A530&\"_\"&B530,Lookups!$E:$F,2,FALSE))","v":""},""]
[null,null,null,null,null,"",null,"",null,null,"","",{"$f":"IF(OR(A531=\"\",B531=\"\"),\"\",VLOOKUP(A531&\"_\"&B531,Lookups!$E:$F,2,FALSE))","v":""},""]
[null,null,null,null,null,"",null,"",null,null,"","",{"$f":"IF(OR(A532=\"\",B532=\"\"),\"\",VLOOKUP(A532&\"_\"&B532,Lookups!$E:$F,2,FALSE))","v":""},""]
[null,null,null,null,null,"",null,"",null,null,"","",{"$f":"IF(OR(A533=\"\",B533=\"\"),\"\",VLOOKUP(A533&\"_\"&B533,Lookups!$E:$F,2,FALSE))","v":""},""]
[null,null,null,null,null,"",null,"",null,null,"","",{"$f":"IF(OR(A534=\"\",B534=\"\"),\"\",VLOOKUP(A534&\"_\"&B534,Lookups!$E:$F,2,FALSE))","v":""},""]
[null,null,null,null,null,"",null,"",null,null,"","",{"$f":"IF(OR(A535=\"\",B535=\"\"),\"\",VLOOKUP(A535&\"_\"&B535,Lookups!$E:$F,2,FALSE))","v":""},""]
[null,null,null,null,null,"",null,"",null,null,"","",{"$f":"IF(OR(A536=\"\",B536=\"\"),\"\",VLOOKUP(A536&\"_\"&B536,Lookups!$E:$F,2,FALSE))","v":""},""]
[null,null,null,null,null,"",null,"",null,null,"","",{"$f":"IF(OR(A537=\"\",B537=\"\"),\"\",VLOOKUP(A537&\"_\"&B537,Lookups!$E:$F,2,FALSE))","v":""},""]
[null,null,null,null,null,"",null,"",null,null,"","",{"$f":"IF(OR(A538=\"\",B538=\"\"),\"\",VLOOKUP(A538&\"_\"&B538,Lookups!$E:$F,2,FALSE))","v":""},""]
[null,null,null,null,null,"",null,"",null,null,"","",{"$f":"IF(OR(A539=\"\",B539=\"\"),\"\",VLOOKUP(A539&\"_\"&B539,Lookups!$E:$F,2,FALSE))","v":""},""]
[null,null,null,null,null,"",null,"",null,null,"","",{"$f":"IF(OR(A540=\"\",B540=\"\"),\"\",VLOOKUP(A540&\"_\"&B540,Lookups!$E:$F,2,FALSE))","v":""},""]
[null,null,null,null,null,"",null,"",null,null,"","",{"$f":"IF(OR(A541=\"\",B541=\"\"),\"\",VLOOKUP(A541&\"_\"&B541,Lookups!$E:$F,2,FALSE))","v":""},""]
[null,null,null,null,null,"",null,"",null,null,"","",{"$f":"IF(OR(A542=\"\",B542=\"\"),\"\",VLOOKUP(A542&\"_\"&B542,Lookups!$E:$F,2,FALSE))","v":""},""]
[null,null,null,null,null,"",null,"",null,null,"","",{"$f":"IF(OR(A543=\"\",B543=\"\"),\"\",VLOOKUP(A543&\"_\"&B543,Lookups!$E:$F,2,FALSE))","v":""},""]
[null,null,null,null,null,"",null,"",null,null,"","",{"$f":"IF(OR(A544=\"\",B544=\"\"),\"\",VLOOKUP(A544&\"_\"&B544,Lookups!$E:$F,2,FALSE))","v":""},""]
[null,null,null,null,null,"",null,"",null,null,"","",{"$f":"IF(OR(A545=\"\",B545=\"\"),\"\",VLOOKUP(A545&\"_\"&B545,Lookups!$E:$F,2,FALSE))","v":""},""]
[null,null,null,null,null,"",null,"",null,null,"","",{"$f":"IF(OR(A546=\"\",B546=\"\"),\"\",VLOOKUP(A546&\"_\"&B546,Lookups!$E:$F,2,FALSE))","v":""},""]
[null,null,null,null,null,"",null,"",null,null,"","",{"$f":"IF(OR(A547=\"\",B547=\"\"),\"\",VLOOKUP(A547&\"_\"&B547,Lookups!$E:$F,2,FALSE))","v":""},""]
[null,null,null,null,null,"",null,"",null,null,"","",{"$f":"IF(OR(A548=\"\",B548=\"\"),\"\",VLOOKUP(A548&\"_\"&B548,Lookups!$E:$F,2,FALSE))","v":""},""]
[null,null,null,null,null,"",null,"",null,null,"","",{"$f":"IF(OR(A549=\"\",B549=\"\"),\"\",VLOOKUP(A549&\"_\"&B549,Lookups!$E:$F,2,FALSE))","v":""},""]
[null,null,null,null,null,"",null,"",null,null,"","",{"$f":"IF(OR(A550=\"\",B550=\"\"),\"\",VLOOKUP(A550&\"_\"&B550,Lookups!$E:$F,2,FALSE))","v":""},""]
[null,null,null,null,null,"",null,"",null,null,"","",{"$f":"IF(OR(A551=\"\",B551=\"\"),\"\",VLOOKUP(A551&\"_\"&B551,Lookups!$E:$F,2,FALSE))","v":""},""]
[null,null,null,null,null,"",null,"",null,null,"","",{"$f":"IF(OR(A552=\"\",B552=\"\"),\"\",VLOOKUP(A552&\"_\"&B552,Lookups!$E:$F,2,FALSE))","v":""},""]
[null,null,null,null,null,"",null,"",null,null,"","",{"$f":"IF(OR(A553=\"\",B553=\"\"),\"\",VLOOKUP(A553&\"_\"&B553,Lookups!$E:$F,2,FALSE))","v":""},""]
[null,null,null,null,null,"",null,"",null,null,"","",{"$f":"IF(OR(A554=\"\",B554=\"\"),\"\",VLOOKUP(A554&\"_\"&B554,Lookups!$E:$F,2,FALSE))","v":""},""]
[null,null,null,null,null,"",null,"",null,null,"","",{"$f":"IF(OR(A555=\"\",B555=\"\"),\"\",VLOOKUP(A555&\"_\"&B555,Lookups!$E:$F,2,FALSE))","v":""},""]
[null,null,null,null,null,"",null,"",null,null,"","",{"$f":"IF(OR(A556=\"\",B556=\"\"),\"\",VLOOKUP(A556&\"_\"&B556,Lookups!$E:$F,2,FALSE))","v":""},""]
[null,null,null,null,null,"",null,"",null,null,"","",{"$f":"IF(OR(A557=\"\",B557=\"\"),\"\",VLOOKUP(A557&\"_\"&B557,Lookups!$E:$F,2,FALSE))","v":""},""]
[null,null,null,null,null,"",null,"",null,null,"","",{"$f":"IF(OR(A558=\"\",B558=\"\"),\"\",VLOOKUP(A558&\"_\"&B558,Lookups!$E:$F,2,FALSE))","v":""},""]
[null,null,null,null,null,"",null,"",null,null,"","",{"$f":"IF(OR(A559=\"\",B559=\"\"),\"\",VLOOKUP(A559&\"_\"&B559,Lookups!$E:$F,2,FALSE))","v":""},""]
[null,null,null,null,null,"",null,"",null,null,"","",{"$f":"IF(OR(A560=\"\",B560=\"\"),\"\",VLOOKUP(A560&\"_\"&B560,Lookups!$E:$F,2,FALSE))","v":""},""]
[null,null,null,null,null,"",null,"",null,null,"","",{"$f":"IF(OR(A561=\"\",B561=\"\"),\"\",VLOOKUP(A561&\"_\"&B561,Lookups!$E:$F,2,FALSE))","v":""},""]
[null,null,null,null,null,"",null,"",null,null,"","",{"$f":"IF(OR(A562=\"\",B562=\"\"),\"\",VLOOKUP(A562&\"_\"&B562,Lookups!$E:$F,2,FALSE))","v":""},""]
[null,null,null,null,null,"",null,"",null,null,"","",{"$f":"IF(OR(A563=\"\",B563=\"\"),\"\",VLOOKUP(A563&\"_\"&B563,Lookups!$E:$F,2,FALSE))","v":""},""]
[null,null,null,null,null,"",null,"",null,null,"","",{"$f":"IF(OR(A564=\"\",B564=\"\"),\"\",VLOOKUP(A564&\"_\"&B564,Lookups!$E:$F,2,FALSE))","v":""},""]
[null,null,null,null,null,"",null,"",null,null,"","",{"$f":"IF(OR(A565=\"\",B565=\"\"),\"\",VLOOKUP(A565&\"_\"&B565,Lookups!$E:$F,2,FALSE))","v":""},""]
[null,null,null,null,null,"",null,"",null,null,"","",{"$f":"IF(OR(A566=\"\",B566=\"\"),\"\",VLOOKUP(A566&\"_\"&B566,Lookups!$E:$F,2,FALSE))","v":""},""]
[null,null,null,null,null,"",null,"",null,null,"","",{"$f":"IF(OR(A567=\"\",B567=\"\"),\"\",VLOOKUP(A567&\"_\"&B567,Lookups!$E:$F,2,FALSE))","v":""},""]
[null,null,null,null,null,"",null,"",null,null,"","",{"$f":"IF(OR(A568=\"\",B568=\"\"),\"\",VLOOKUP(A568&\"_\"&B568,Lookups!$E:$F,2,FALSE))","v":""},""]
[null,null,null,null,null,"",null,"",null,null,"","",{"$f":"IF(OR(A569=\"\",B569=\"\"),\"\",VLOOKUP(A569&\"_\"&B569,Lookups!$E:$F,2,FALSE))","v":""},""]
[null,null,null,null,null,"",null,"",null,null,"","",{"$f":"IF(OR(A570=\"\",B570=\"\"),\"\",VLOOKUP(A570&\"_\"&B570,Lookups!$E:$F,2,FALSE))","v":""},""]
[null,null,null,null,null,"",null,"",null,null,"","",{"$f":"IF(OR(A571=\"\",B571=\"\"),\"\",VLOOKUP(A571&\"_\"&B571,Lookups!$E:$F,2,FALSE))","v":""},""]
[null,null,null,null,null,"",null,"",null,null,"","",{"$f":"IF(OR(A572=\"\",B572=\"\"),\"\",VLOOKUP(A572&\"_\"&B572,Lookups!$E:$F,2,FALSE))","v":""},""]
[null,null,null,null,null,"",null,"",null,null,"","",{"$f":"IF(OR(A573=\"\",B573=\"\"),\"\",VLOOKUP(A573&\"_\"&B573,Lookups!$E:$F,2,FALSE))","v":""},""]
[null,null,null,null,null,"",null,"",null,null,"","",{"$f":"IF(OR(A574=\"\",B574=\"\"),\"\",VLOOKUP(A574&\"_\"&B574,Lookups!$E:$F,2,FALSE))","v":""},""]
[null,null,null,null,null,"",null,"",null,null,"","",{"$f":"IF(OR(A575=\"\",B575=\"\"),\"\",VLOOKUP(A575&\"_\"&B575,Lookups!$E:$F,2,FALSE))","v":""},""]
[null,null,null,null,null,"",null,"",null,null,"","",{"$f":"IF(OR(A576=\"\",B576=\"\"),\"\",VLOOKUP(A576&\"_\"&B576,Lookups!$E:$F,2,FALSE))","v":""},""]
[null,null,null,null,null,"",null,"",null,null,"","",{"$f":"IF(OR(A577=\"\",B577=\"\"),\"\",VLOOKUP(A577&\"_\"&B577,Lookups!$E:$F,2,FALSE))","v":""},""]
[null,null,null,null,null,"",null,"",null,null,"","",{"$f":"IF(OR(A578=\"\",B578=\"\"),\"\",VLOOKUP(A578&\"_\"&B578,Lookups!$E:$F,2,FALSE))","v":""},""]
[null,null,null,null,null,"",null,"",null,null,"","",{"$f":"IF(OR(A579=\"\",B579=\"\"),\"\",VLOOKUP(A579&\"_\"&B579,Lookups!$E:$F,2,FALSE))","v":""},""]
[null,null,null,null,null,{"$f":"IF(OR(D580=\"\",E580=\"\"),\"\",ROUND((E580-D580)*24,2))","v":""},null,{"$f":"IF(F580=\"\",\"\",IF(G580<>\"\",F580*G580,F580))","v":""},null,null,{"$f":"IF(AND(H580<>\"\",I580=\"Paid\"),H580,\"\")","v":""},{"$f":"IF(H580=\"\",\"\",IF(K580=\"\",H580,H580-K580))","v":""},{"$f":"IF(OR(A580=\"\",B580=\"\"),\"\",VLOOKUP(A580&\"_\"&B580,Lookups!$E:$F,2,FALSE))","v":""},{"$f":"IF(AND(K580=\"\",L580=\"\"),\"\",IF(K580=\"\",L580*M580,SUM(K580,L580)*M580))","v":""}]
[null,null,null,null,null,"",null,"",null,null,"","",{"$f":"IF(OR(A581=\"\",B581=\"\"),\"\",VLOOKUP(A581&\"_\"&B581,Lookups!$E:$F,2,FALSE))","v":""},""]
[null,null,null,null,null,"",null,"",null,null,"","",{"$f":"IF(OR(A582=\"\",B582=\"\"),\"\",VLOOKUP(A582&\"_\"&B582,Lookups!$E:$F,2,FALSE))","v":""},""]
[null,null,null,null,null,"",null,"",null,null,"","",{"$f":"IF(OR(A583=\"\",B583=\"\"),\"\",VLOOKUP(A583&\"_\"&B583,Lookups!$E:$F,2,FALSE))","v":""},""]
[null,null,null,null,null,"",null,"",null,null,"","",{"$f":"IF(OR(A584=\"\",B584=\"\"),\"\",VLOOKUP(A584&\"_\"&B584,Lookups!$E:$F,2,FALSE))","v":""},""]
[null,null,null,null,null,"",null,"",null,null,"","",{"$f":"IF(OR(A585=\"\",B585=\"\"),\"\",VLOOKUP(A585&\"_\"&B585,Lookups!$E:$F,2,FALSE))","v":""},""]
[null,null,null,null,null,"",null,"",null,null,"","",{"$f":"IF(OR(A586=\"\",B586=\"\"),\"\",VLOOKUP(A586&\"_\"&B586,Lookups!$E:$F,2,FALSE))","v":""},""]
[null,null,null,null,null,"",null,"",null,null,"","",{"$f":"IF(OR(A587=\"\",B587=\"\"),\"\",VLOOKUP(A587&\"_\"&B587,Lookups!$E:$F,2,FALSE))","v":""},""]
[null,null,null,null,null,"",null,"",null,null,"","",{"$f":"IF(OR(A588=\"\",B588=\"\"),\"\",VLOOKUP(A588&\"_\"&B588,Lookups!$E:$F,2,FALSE))","v":""},""]
[null,null,null,null,null,"",null,"",null,null,"","",{"$f":"IF(OR(A589=\"\",B589=\"\"),\"\",VLOOKUP(A589&\"_\"&B589,Lookups!$E:$F,2,FALSE))","v":""},""]
[null,null,null,null,null,"",null,"",null,null,"","",{"$f":"IF(OR(A590=\"\",B590=\"\"),\"\",VLOOKUP(A590&\"_\"&B590,Lookups!$E:$F,2,FALSE))","v":""},""]
[null,null,null,null,null,"",null,"",null,null,"","",{"$f":"IF(OR(A591=\"\",B591=\"\"),\"\",VLOOKUP(A591&\"_\"&B591,Lookups!$E:$F,2,FALSE))","v":""},""]
[null,null,null,null,null,"",null,"",null,null,"","",{"$f":"IF(OR(A592=\"\",B592=\"\"),\"\",VLOOKUP(A592&\"_\"&B592,Lookups!$E:$F,2,FALSE))","v":""},""]
[null,null,null,null,null,"",null,"",null,null,"","",{"$f":"IF(OR(A593=\"\",B593=\"\"),\"\",VLOOKUP(A593&\"_\"&B593,Lookups!$E:$F,2,FALSE))","v":""},""]
[null,null,null,null,null,"",null,"",null,null,"","",{"$f":"IF(OR(A594=\"\",B594=\"\"),\"\",VLOOKUP(A594&\"_\"&B594,Lookups!$E:$F,2,FALSE))","v":""},""]
[null,null,null,null,null,"",null,"",null,null,"","",{"$f":"IF(OR(A595=\"\",B595=\"\"),\"\",VLOOKUP(A595&\"_\"&B595,Lookups!$E:$F,2,FALSE))","v":""},""]
[null,null,null,null,null,"",null,"",null,null,"","",{"$f":"IF(OR(A596=\"\",B596=\"\"),\"\",VLOOKUP(A596&\"_\"&B596,Lookups!$E:$F,2,FALSE))","v":""},""]
[null,null,null,null,null,"",null,"",null,null,"","",{"$f":"IF(OR(A597=\"\",B597=\"\"),\"\",VLOOKUP(A597&\"_\"&B597,Lookups!$E:$F,2,FALSE))","v":""},""]
[null,null,null,null,null,"",null,"",null,null,"","",{"$f":"IF(OR(A598=\"\",B598=\"\"),\"\",VLOOKUP(A598&\"_\"&B598,Lookups!$E:$F,2,FALSE))","v":""},""]
[null,null,null,null,null,"",null,"",null,null,"","",{"$f":"IF(OR(A599=\"\",B599=\"\"),\"\",VLOOKUP(A599&\"_\"&B599,Lookups!$E:$F,2,FALSE))","v":""},""]
[null,null,null,null,null,"",null,"",null,null,"","",{"$f":"IF(OR(A600=\"\",B600=\"\"),\"\",VLOOKUP(A600&\"_\"&B600,Lookups!$E:$F,2,FALSE))","v":""},""]
[null,null,null,null,null,"",null,"",null,null,"","",{"$f":"IF(OR(A601=\"\",B601=\"\"),\"\",VLOOKUP(A601&\"_\"&B601,Lookups!$E:$F,2,FALSE))","v":""},""]
[null,null,null,null,null,"",null,"",null,null,"","",{"$f":"IF(OR(A602=\"\",B602=\"\"),\"\",VLOOKUP(A602&\"_\"&B602,Lookups!$E:$F,2,FALSE))","v":""},""]
[null,null,null,null,null,"",null,"",null,null,"","",{"$f":"IF(OR(A603=\"\",B603=\"\"),\"\",VLOOKUP(A603&\"_\"&B603,Lookups!$E:$F,2,FALSE))","v":""},""]
[null,null,null,null,null,"",null,"",null,null,"","",{"$f":"IF(OR(A604=\"\",B604=\"\"),\"\",VLOOKUP(A604&\"_\"&B604,Lookups!$E:$F,2,FALSE))","v":""},""]
[null,null,null,null,null,"",null,"",null,null,"","",{"$f":"IF(OR(A605=\"\",B605=\"\"),\"\",VLOOKUP(A605&\"_\"&B605,Lookups!$E:$F,2,FALSE))","v":""},""]
[null,null,null,null,null,"",null,"",null,null,"","",{"$f":"IF(OR(A606=\"\",B606=\"\"),\"\",VLOOKUP(A606&\"_\"&B606,Lookups!$E:$F,2,FALSE))","v":""},""]
[null,null,null,null,null,"",null,"",null,null,"","",{"$f":"IF(OR(A607=\"\",B607=\"\"),\"\",VLOOKUP(A607&\"_\"&B607,Lookups!$E:$F,2,FALSE))","v":""},""]
[null,null,null,null,null,"",null,"",null,null,"","",{"$f":"IF(OR(A608=\"\",B608=\"\"),\"\",VLOOKUP(A608&\"_\"&B608,Lookups!$E:$F,2,FALSE))","v":""},""]
[null,null,null,null,null,"",null,"",null,null,"","",{"$f":"IF(OR(A609=\"\",B609=\"\"),\"\",VLOOKUP(A609&\"_\"&B609,Lookups!$E:$F,2,FALSE))","v":""},""]
[null,null,null,null,null,"",null,"",null,null,"","",{"$f":"IF(OR(A610=\"\",B610=\"\"),\"\",VLOOKUP(A610&\"_\"&B610,Lookups!$E:$F,2,FALSE))","v":""},""]
[null,null,null,null,null,"",null,"",null,null,"","",{"$f":"IF(OR(A611=\"\",B611=\"\"),\"\",VLOOKUP(A611&\"_\"&B611,Lookups!$E:$F,2,FALSE))","v":""},""]
[null,null,null,null,null,"",null,"",null,null,"","",{"$f":"IF(OR(A612=\"\",B612=\"\"),\"\",VLOOKUP(A612&\"_\"&B612,Lookups!$E:$F,2,FALSE))","v":""},""]
[null,null,null,null,null,"",null,"",null,null,"","",{"$f":"IF(OR(A613=\"\",B613=\"\"),\"\",VLOOKUP(A613&\"_\"&B613,Lookups!$E:$F,2,FALSE))","v":""},""]
[null,null,null,null,null,"",null,"",null,null,"","",{"$f":"IF(OR(A614=\"\",B614=\"\"),\"\",VLOOKUP(A614&\"_\"&B614,Lookups!$E:$F,2,FALSE))","v":""},""]
[null,null,null,null,null,"",null,"",null,null,"","",{"$f":"IF(OR(A615=\"\",B615=\"\"),\"\",VLOOKUP(A615&\"_\"&B615,Lookups!$E:$F,2,FALSE))","v":""},""]
[null,null,null,null,null,"",null,"",null,null,"","",{"$f":"IF(OR(A616=\"\",B616=\"\"),\"\",VLOOKUP(A616&\"_\"&B616,Lookups!$E:$F,2,FALSE))","v":""},""]
[null,null,null,null,null,"",null,"",null,null,"","",{"$f":"IF(OR(A617=\"\",B617=\"\"),\"\",VLOOKUP(A617&\"_\"&B617,Lookups!$E:$F,2,FALSE))","v":""},""]
[null,null,null,null,null,"",null,"",null,null,"","",{"$f":"IF(OR(A618=\"\",B618=\"\"),\"\",VLOOKUP(A618&\"_\"&B618,Lookups!$E:$F,2,FALSE))","v":""},""]
[null,null,null,null,null,"",null,"",null,null,"","",{"$f":"IF(OR(A619=\"\",B619=\"\"),\"\",VLOOKUP(A619&\"_\"&B619,Lookups!$E:$F,2,FALSE))","v":""},""]
[null,null,null,null,null,"",null,"",null,null,"","",{"$f":"IF(OR(A620=\"\",B620=\"\"),\"\",VLOOKUP(A620&\"_\"&B620,Lookups!$E:$F,2,FALSE))","v":""},""]
[null,null,null,null,null,"",null,"",null,null,"","",{"$f":"IF(OR(A621=\"\",B621=\"\"),\"\",VLOOKUP(A621&\"_\"&B621,Lookups!$E:$F,2,FALSE))","v":""},""]
[null,null,null,null,null,"",null,"",null,null,"","",{"$f":"IF(OR(A622=\"\",B622=\"\"),\"\",VLOOKUP(A622&\"_\"&B622,Lookups!$E:$F,2,FALSE))","v":""},""]
[null,null,null,null,null,"",null,"",null,null,"","",{"$f":"IF(OR(A623=\"\",B623=\"\"),\"\",VLOOKUP(A623&\"_\"&B623,Lookups!$E:$F,2,FALSE))","v":""},""]
[null,null,null,null,null,"",null,"",null,null,"","",{"$f":"IF(OR(A624=\"\",B624=\"\"),\"\",VLOOKUP(A624&\"_\"&B624,Lookups!$E:$F,2,FALSE))","v":""},""]
[null,null,null,null,null,"",null,"",null,null,"","",{"$f":"IF(OR(A625=\"\",B625=\"\"),\"\",VLOOKUP(A625&\"_\"&B625,Lookups!$E:$F,2,FALSE))","v":""},""]
[null,null,null,null,null,"",null,"",null,null,"","",{"$f":"IF(OR(A626=\"\",B626=\"\"),\"\",VLOOKUP(A626&\"_\"&B626,Lookups!$E:$F,2,FALSE))","v":""},""]
[null,null,null,null,null,"",null,"",null,null,"","",{"$f":"IF(OR(A627=\"\",B627=\"\"),\"\",VLOOKUP(A627&\"_\"&B627,Lookups!$E:$F,2,FALSE))","v":""},""]
[null,null,null,null,null,"",null,"",null,null,"","",{"$f":"IF(OR(A628=\"\",B628=\"\"),\"\",VLOOKUP(A628&\"_\"&B628,Lookups!$E:$F,2,FALSE))","v":""},""]
[null,null,null,null,null,"",null,"",null,null,"","",{"$f":"IF(OR(A629=\"\",B629=\"\"),\"\",VLOOKUP(A629&\"_\"&B629,Lookups!$E:$F,2,FALSE))","v":""},""]
[null,null,null,null,null,"",null,"",null,null,"","",{"$f":"IF(OR(A630=\"\",B630=\"\"),\"\",VLOOKUP(A630&\"_\"&B630,Lookups!$E:$F,2,FALSE))","v":""},""]
[null,null,null,null,null,"",null,"",null,null,"","",{"$f":"IF(OR(A631=\"\",B631=\"\"),\"\",VLOOKUP(A631&\"_\"&B631,Lookups!$E:$F,2,FALSE))","v":""},""]
[null,null,null,null,null,"",null,"",null,null,"","",{"$f":"IF(OR(A632=\"\",B632=\"\"),\"\",VLOOKUP(A632&\"_\"&B632,Lookups!$E:$F,2,FALSE))","v":""},""]
[null,null,null,null,null,"",null,"",null,null,"","",{"$f":"IF(OR(A633=\"\",B633=\"\"),\"\",VLOOKUP(A633&\"_\"&B633,Lookups!$E:$F,2,FALSE))","v":""},""]
[null,null,null,null,null,"",null,"",null,null,"","",{"$f":"IF(OR(A634=\"\",B634=\"\"),\"\",VLOOKUP(A634&\"_\"&B634,Lookups!$E:$F,2,FALSE))","v":""},""]
[null,null,null,null,null,"",null,"",null,null,"","",{"$f":"IF(OR(A635=\"\",B635=\"\"),\"\",VLOOKUP(A635&\"_\"&B635,Lookups!$E:$F,2,FALSE))","v":""},""]
[null,null,null,null,null,"",null,"",null,null,"","",{"$f":"IF(OR(A636=\"\",B636=\"\"),\"\",VLOOKUP(A636&\"_\"&B636,Lookups!$E:$F,2,FALSE))","v":""},""]
[null,null,null,null,null,"",null,"",null,null,"","",{"$f":"IF(OR(A637=\"\",B637=\"\"),\"\",VLOOKUP(A637&\"_\"&B637,Lookups!$E:$F,2,FALSE))","v":""},""]
[null,null,null,null,null,"",null,"",null,null,"","",{"$f":"IF(OR(A638=\"\",B638=\"\"),\"\",VLOOKUP(A638&\"_\"&B638,Lookups!$E:$F,2,FALSE))","v":""},""]
[null,null,null,null,null,"",null,"",null,null,"","",{"$f":"IF(OR(A639=\"\",B639=\"\"),\"\",VLOOKUP(A639&\"_\"&B639,Lookups!$E:$F,2,FALSE))","v":""},""]
[null,null,null,null,null,"",null,"",null,null,"","",{"$f":"IF(OR(A640=\"\",B640=\"\"),\"\",VLOOKUP(A640&\"_\"&B640,Lookups!$E:$F,2,FALSE))","v":""},""]
[null,null,null,null,null,"",null,"",null,null,"","",{"$f":"IF(OR(A641=\"\",B641=\"\"),\"\",VLOOKUP(A641&\"_\"&B641,Lookups!$E:$F,2,FALSE))","v":""},""]
[null,null,null,null,null,"",null,"",null,null,"","",{"$f":"IF(OR(A642=\"\",B642=\"\"),\"\",VLOOKUP(A642&\"_\"&B642,Lookups!$E:$F,2,FALSE))","v":""},""]
[null,null,null,null,null,"",null,"",null,null,"","",{"$f":"IF(OR(A643=\"\",B643=\"\"),\"\",VLOOKUP(A643&\"_\"&B643,Lookups!$E:$F,2,FALSE))","v":""},""]
[null,null,null,null,null,{"$f":"IF(OR(D644=\"\",E644=\"\"),\"\",ROUND((E644-D644)*24,2))","v":""},null,{"$f":"IF(F644=\"\",\"\",IF(G644<>\"\",F644*G644,F644))","v":""},null,null,{"$f":"IF(AND(H644<>\"\",I644=\"Paid\"),H644,\"\")","v":""},{"$f":"IF(H644=\"\",\"\",IF(K644=\"\",H644,H644-K644))","v":""},{"$f":"IF(OR(A644=\"\",B644=\"\"),\"\",VLOOKUP(A644&\"_\"&B644,Lookups!$E:$F,2,FALSE))","v":""},{"$f":"IF(AND(K644=\"\",L644=\"\"),\"\",IF(K644=\"\",L644*M644,SUM(K644,L644)*M644))","v":""}]
[null,null,null,null,null,"",null,"",null,null,"","",{"$f":"IF(OR(A645=\"\",B645=\"\"),\"\",VLOOKUP(A645&\"_\"&B645,Lookups!$E:$F,2,FALSE))","v":""},""]
[null,null,null,null,null,"",null,"",null,null,"","",{"$f":"IF(OR(A646=\"\",B646=\"\"),\"\",VLOOKUP(A646&\"_\"&B646,Lookups!$E:$F,2,FALSE))","v":""},""]
[null,null,null,null,null,"",null,"",null,null,"","",{"$f":"IF(OR(A647=\"\",B647=\"\"),\"\",VLOOKUP(A647&\"_\"&B647,Lookups!$E:$F,2,FALSE))","v":""},""]
[null,null,null,null,null,"",null,"",null,null,"","",{"$f":"IF(OR(A648=\"\",B648=\"\"),\"\",VLOOKUP(A648&\"_\"&B648,Lookups!$E:$F,2,FALSE))","v":""},""]
[null,null,null,null,null,"",null,"",null,null,"","",{"$f":"IF(OR(A649=\"\",B649=\"\"),\"\",VLOOKUP(A649&\"_\"&B649,Lookups!$E:$F,2,FALSE))","v":""},""]
[null,null,null,null,null,"",null,"",null,null,"","",{"$f":"IF(OR(A650=\"\",B650=\"\"),\"\",VLOOKUP(A650&\"_\"&B650,Lookups!$E:$F,2,FALSE))","v":""},""]
[null,null,null,null,null,"",null,"",null,null,"","",{"$f":"IF(OR(A651=\"\",B651=\"\"),\"\",VLOOKUP(A651&\"_\"&B651,Lookups!$E:$F,2,FALSE))","v":""},""]
[null,null,null,null,null,"",null,"",null,null,"","",{"$f":"IF(OR(A652=\"\",B652=\"\"),\"\",VLOOKUP(A652&\"_\"&B652,Lookups!$E:$F,2,FALSE))","v":""},""]
[null,null,null,null,null,"",null,"",null,null,"","",{"$f":"IF(OR(A653=\"\",B653=\"\"),\"\",VLOOKUP(A653&\"_\"&B653,Lookups!$E:$F,2,FALSE))","v":""},""]
[null,null,null,null,null,"",null,"",null,null,"","",{"$f":"IF(OR(A654=\"\",B654=\"\"),\"\",VLOOKUP(A654&\"_\"&B654,Lookups!$E:$F,2,FALSE))","v":""},""]
[null,null,null,null,null,"",null,"",null,null,"","",{"$f":"IF(OR(A655=\"\",B655=\"\"),\"\",VLOOKUP(A655&\"_\"&B655,Lookups!$E:$F,2,FALSE))","v":""},""]
[null,null,null,null,null,"",null,"",null,null,"","",{"$f":"IF(OR(A656=\"\",B656=\"\"),\"\",VLOOKUP(A656&\"_\"&B656,Lookups!$E:$F,2,FALSE))","v":""},""]
[null,null,null,null,null,"",null,"",null,null,"","",{"$f":"IF(OR(A657=\"\",B657=\"\"),\"\",VLOOKUP(A657&\"_\"&B657,Lookups!$E:$F,2,FALSE))","v":""},""]
[null,null,null,null,null,"",null,"",null,null,"","",{"$f":"IF(OR(A658=\"\",B658=\"\"),\"\",VLOOKUP(A658&\"_\"&B658,Lookups!$E:$F,2,FALSE))","v":""},""]
[null,null,null,null,null,"",null,"",null,null,"","",{"$f":"IF(OR(A659=\"\",B659=\"\"),\"\",VLOOKUP(A659&\"_\"&B659,Lookups!$E:$F,2,FALSE))","v":""},""]
[null,null,null,null,null,"",null,"",null,null,"","",{"$f":"IF(OR(A660=\"\",B660=\"\"),\"\",VLOOKUP(A660&\"_\"&B660,Lookups!$E:$F,2,FALSE))","v":""},""]
[null,null,null,null,null,"",null,"",null,null,"","",{"$f":"IF(OR(A661=\"\",B661=\"\"),\"\",VLOOKUP(A661&\"_\"&B661,Lookups!$E:$F,2,FALSE))","v":""},""]
[null,null,null,null,null,"",null,"",null,null,"","",{"$f":"IF(OR(A662=\"\",B662=\"\"),\"\",VLOOKUP(A662&\"_\"&B662,Lookups!$E:$F,2,FALSE))","v":""},""]
[null,null,null,null,null,"",null,"",null,null,"","",{"$f":"IF(OR(A663=\"\",B663=\"\"),\"\",VLOOKUP(A663&\"_\"&B663,Lookups!$E:$F,2,FALSE))","v":""},""]
[null,null,null,null,null,"",null,"",null,null,"","",{"$f":"IF(OR(A664=\"\",B664=\"\"),\"\",VLOOKUP(A664&\"_\"&B664,Lookups!$E:$F,2,FALSE))","v":""},""]
[null,null,null,null,null,"",null,"",null,null,"","",{"$f":"IF(OR(A665=\"\",B665=\"\"),\"\",VLOOKUP(A665&\"_\"&B665,Lookups!$E:$F,2,FALSE))","v":""},""]
[null,null,null,null,null,"",null,"",null,null,"","",{"$f":"IF(OR(A666=\"\",B666=\"\"),\"\",VLOOKUP(A666&\"_\"&B666,Lookups!$E:$F,2,FALSE))","v":""},""]
[null,null,null,null,null,"",null,"",null,null,"","",{"$f":"IF(OR(A667=\"\",B667=\"\"),\"\",VLOOKUP(A667&\"_\"&B667,Lookups!$E:$F,2,FALSE))","v":""},""]
[null,null,null,null,null,"",null,"",null,null,"","",{"$f":"IF(OR(A668=\"\",B668=\"\"),\"\",VLOOKUP(A668&\"_\"&B668,Lookups!$E:$F,2,FALSE))","v":""},""]
[null,null,null,null,null,"",null,"",null,null,"","",{"$f":"IF(OR(A669=\"\",B669=\"\"),\"\",VLOOKUP(A669&\"_\"&B669,Lookups!$E:$F,2,FALSE))","v":""},""]
[null,null,null,null,null,"",null,"",null,null,"","",{"$f":"IF(OR(A670=\"\",B670=\"\"),\"\",VLOOKUP(A670&\"_\"&B670,Lookups!$E:$F,2,FALSE))","v":""},""]
[null,null,null,null,null,"",null,"",null,null,"","",{"$f":"IF(OR(A671=\"\",B671=\"\"),\"\",VLOOKUP(A671&\"_\"&B671,Lookups!$E:$F,2,FALSE))","v":""},""]
[null,null,null,null,null,"",null,"",null,null,"","",{"$f":"IF(OR(A672=\"\",B672=\"\"),\"\",VLOOKUP(A672&\"_\"&B672,Lookups!$E:$F,2,FALSE))","v":""},""]
[null,null,null,null,null,"",null,"",null,null,"","",{"$f":"IF(OR(A673=\"\",B673=\"\"),\"\",VLOOKUP(A673&\"_\"&B673,Lookups!$E:$F,2,FALSE))","v":""},""]
[null,null,null,null,null,"",null,"",null,null,"","",{"$f":"IF(OR(A674=\"\",B674=\"\"),\"\",VLOOKUP(A674&\"_\"&B674,Lookups!$E:$F,2,FALSE))","v":""},""]
[null,null,null,null,null,"",null,"",null,null,"","",{"$f":"IF(OR(A675=\"\",B675=\"\"),\"\",VLOOKUP(A675&\"_\"&B675,Lookups!$E:$F,2,FALSE))","v":""},""]
[null,null,null,null,null,"",null,"",null,null,"","",{"$f":"IF(OR(A676=\"\",B676=\"\"),\"\",VLOOKUP(A676&\"_\"&B676,Lookups!$E:$F,2,FALSE))","v":""},""]
[null,null,null,null,null,"",null,"",null,null,"","",{"$f":"IF(OR(A677=\"\",B677=\"\"),\"\",VLOOKUP(A677&\"_\"&B677,Lookups!$E:$F,2,FALSE))","v":""},""]
[null,null,null,null,null,"",null,"",null,null,"","",{"$f":"IF(OR(A678=\"\",B678=\"\"),\"\",VLOOKUP(A678&\"_\"&B678,Lookups!$E:$F,2,FALSE))","v":""},""]
[null,null,null,null,null,"",null,"",null,null,"","",{"$f":"IF(OR(A679=\"\",B679=\"\"),\"\",VLOOKUP(A679&\"_\"&B679,Lookups!$E:$F,2,FALSE))","v":""},""]
[null,null,null,null,null,"",null,"",null,null,"","",{"$f":"IF(OR(A680=\"\",B680=\"\"),\"\",VLOOKUP(A680&\"_\"&B680,Lookups!$E:$F,2,FALSE))","v":""},""]
[null,null,null,null,null,"",null,"",null,null,"","",{"$f":"IF(OR(A681=\"\",B681=\"\"),\"\",VLOOKUP(A681&\"_\"&B681,Lookups!$E:$F,2,FALSE))","v":""},""]
[null,null,null,null,null,"",null,"",null,null,"","",{"$f":"IF(OR(A682=\"\",B682=\"\"),\"\",VLOOKUP(A682&\"_\"&B682,Lookups!$E:$F,2,FALSE))","v":""},""]
[null,null,null,null,null,"",null,"",null,null,"","",{"$f":"IF(OR(A683=\"\",B683=\"\"),\"\",VLOOKUP(A683&\"_\"&B683,Lookups!$E:$F,2,FALSE))","v":""},""]
[null,null,null,null,null,"",null,"",null,null,"","",{"$f":"IF(OR(A684=\"\",B684=\"\"),\"\",VLOOKUP(A684&\"_\"&B684,Lookups!$E:$F,2,FALSE))","v":""},""]
[null,null,null,null,null,"",null,"",null,null,"","",{"$f":"IF(OR(A685=\"\",B685=\"\"),\"\",VLOOKUP(A685&\"_\"&B685,Lookups!$E:$F,2,FALSE))","v":""},""]
[null,null,null,null,null,"",null,"",null,null,"","",{"$f":"IF(OR(A686=\"\",B686=\"\"),\"\",VLOOKUP(A686&\"_\"&B686,Lookups!$E:$F,2,FALSE))","v":""},""]
[null,null,null,null,null,"",null,"",null,null,"","",{"$f":"IF(OR(A687=\"\",B687=\"\"),\"\",VLOOKUP(A687&\"_\"&B687,Lookups!$E:$F,2,FALSE))","v":""},""]
[null,null,null,null,null,"",null,"",null,null,"","",{"$f":"IF(OR(A688=\"\",B688=\"\"),\"\",VLOOKUP(A688&\"_\"&B688,Lookups!$E:$F,2,FALSE))","v":""},""]
[null,null,null,null,null,"",null,"",null,null,"","",{"$f":"IF(OR(A689=\"\",B689=\"\"),\"\",VLOOKUP(A689&\"_\"&B689,Lookups!$E:$F,2,FALSE))","v":""},""]
[null,null,null,null,null,"",null,"",null,null,"","",{"$f":"IF(OR(A690=\"\",B690=\"\"),\"\",VLOOKUP(A690&\"_\"&B690,Lookups!$E:$F,2,FALSE))","v":""},""]
[null,null,null,null,null,"",null,"",null,null,"","",{"$f":"IF(OR(A691=\"\",B691=\"\"),\"\",VLOOKUP(A691&\"_\"&B691,Lookups!$E:$F,2,FALSE))","v":""},""]
[null,null,null,null,null,"",null,"",null,null,"","",{"$f":"IF(OR(A692=\"\",B692=\"\"),\"\",VLOOKUP(A692&\"_\"&B692,Lookups!$E:$F,2,FALSE))","v":""},""]
[null,null,null,null,null,"",null,"",null,null,"","",{"$f":"IF(OR(A693=\"\",B693=\"\"),\"\",VLOOKUP(A693&\"_\"&B693,Lookups!$E:$F,2,FALSE))","v":""},""]
[null,null,null,null,null,"",null,"",null,null,"","",{"$f":"IF(OR(A694=\"\",B694=\"\"),\"\",VLOOKUP(A694&\"_\"&B694,Lookups!$E:$F,2,FALSE))","v":""},""]
[null,null,null,null,null,"",null,"",null,null,"","",{"$f":"IF(OR(A695=\"\",B695=\"\"),\"\",VLOOKUP(A695&\"_\"&B695,Lookups!$E:$F,2,FALSE))","v":""},""]
[null,null,null,null,null,"",null,"",null,null,"","",{"$f":"IF(OR(A696=\"\",B696=\"\"),\"\",VLOOKUP(A696&\"_\"&B696,Lookups!$E:$F,2,FALSE))","v":""},""]
[null,null,null,null,null,"",null,"",null,null,"","",{"$f":"IF(OR(A697=\"\",B697=\"\"),\"\",VLOOKUP(A697&\"_\"&B697,Lookups!$E:$F,2,FALSE))","v":""},""]
[null,null,null,null,null,"",null,"",null,null,"","",{"$f":"IF(OR(A698=\"\",B698=\"\"),\"\",VLOOKUP(A698&\"_\"&B698,Lookups!$E:$F,2,FALSE))","v":""},""]
[null,null,null,null,null,"",null,"",null,null,"","",{"$f":"IF(OR(A699=\"\",B699=\"\"),\"\",VLOOKUP(A699&\"_\"&B699,Lookups!$E:$F,2,FALSE))","v":""},""]
[null,null,null,null,null,"",null,"",null,null,"","",{"$f":"IF(OR(A700=\"\",B700=\"\"),\"\",VLOOKUP(A700&\"_\"&B700,Lookups!$E:$F,2,FALSE))","v":""},""]
[null,null,null,null,null,"",null,"",null,null,"","",{"$f":"IF(OR(A701=\"\",B701=\"\"),\"\",VLOOKUP(A701&\"_\"&B701,Lookups!$E:$F,2,FALSE))","v":""},""]
[null,null,null,null,null,"",null,"",null,null,"","",{"$f":"IF(OR(A702=\"\",B702=\"\"),\"\",VLOOKUP(A702&\"_\"&B702,Lookups!$E:$F,2,FALSE))","v":""},""]
[null,null,null,null,null,"",null,"",null,null,"","",{"$f":"IF(OR(A703=\"\",B703=\"\"),\"\",VLOOKUP(A703&\"_\"&B703,Lookups!$E:$F,2,FALSE))","v":""},""]
[null,null,null,null,null,"",null,"",null,null,"","",{"$f":"IF(OR(A704=\"\",B704=\"\"),\"\",VLOOKUP(A704&\"_\"&B704,Lookups!$E:$F,2,FALSE))","v":""},""]
[null,null,null,null,null,"",null,"",null,null,"","",{"$f":"IF(OR(A705=\"\",B705=\"\"),\"\",VLOOKUP(A705&\"_\"&B705,Lookups!$E:$F,2,FALSE))","v":""},""]
[null,null,null,null,null,"",null,"",null,null,"","",{"$f":"IF(OR(A706=\"\",B706=\"\"),\"\",VLOOKUP(A706&\"_\"&B706,Lookups!$E:$F,2,FALSE))","v":""},""]
[null,null,null,null,null,"",null,"",null,null,"","",{"$f":"IF(OR(A707=\"\",B707=\"\"),\"\",VLOOKUP(A707&\"_\"&B707,Lookups!$E:$F,2,FALSE))","v":""},""]
[null,null,null,null,null,{"$f":"IF(OR(D708=\"\",E708=\"\"),\"\",ROUND((E708-D708)*24,2))","v":""},null,{"$f":"IF(F708=\"\",\"\",IF(G708<>\"\",F708*G708,F708))","v":""},null,null,{"$f":"IF(AND(H708<>\"\",I708=\"Paid\"),H708,\"\")","v":""},{"$f":"IF(H708=\"\",\"\",IF(K708=\"\",H708,H708-K708))","v":""},{"$f":"IF(OR(A708=\"\",B708=\"\"),\"\",VLOOKUP(A708&\"_\"&B708,Lookups!$E:$F,2,FALSE))","v":""},{"$f":"IF(AND(K708=\"\",L708=\"\"),\"\",IF(K708=\"\",L708*M708,SUM(K708,L708)*M708))","v":""}]
[null,null,null,null,null,"",null,"",null,null,"","",{"$f":"IF(OR(A709=\"\",B709=\"\"),\"\",VLOOKUP(A709&\"_\"&B709,Lookups!$E:$F,2,FALSE))","v":""},""]
[null,null,null,null,null,"",null,"",null,null,"","",{"$f":"IF(OR(A710=\"\",B710=\"\"),\"\",VLOOKUP(A710&\"_\"&B710,Lookups!$E:$F,2,FALSE))","v":""},""]
[null,null,null,null,null,"",null,"",null,null,"","",{"$f":"IF(OR(A711=\"\",B711=\"\"),\"\",VLOOKUP(A711&\"_\"&B711,Lookups!$E:$F,2,FALSE))","v":""},""]
[null,null,null,null,null,"",null,"",null,null,"","",{"$f":"IF(OR(A712=\"\",B712=\"\"),\"\",VLOOKUP(A712&\"_\"&B712,Lookups!$E:$F,2,FALSE))","v":""},""]
[null,null,null,null,null,"",null,"",null,null,"","",{"$f":"IF(OR(A713=\"\",B713=\"\"),\"\",VLOOKUP(A713&\"_\"&B713,Lookups!$E:$F,2,FALSE))","v":""},""]
[null,null,null,null,null,"",null,"",null,null,"","",{"$f":"IF(OR(A714=\"\",B714=\"\"),\"\",VLOOKUP(A714&\"_\"&B714,Lookups!$E:$F,2,FALSE))","v":""},""]
[null,null,null,null,null,"",null,"",null,null,"","",{"$f":"IF(OR(A715=\"\",B715=\"\"),\"\",VLOOKUP(A715&\"_\"&B715,Lookups!$E:$F,2,FALSE))","v":""},""]
[null,null,null,null,null,"",null,"",null,null,"","",{"$f":"IF(OR(A716=\"\",B716=\"\"),\"\",VLOOKUP(A716&\"_\"&B716,Lookups!$E:$F,2,FALSE))","v":""},""]
[null,null,null,null,null,"",null,"",null,null,"","",{"$f":"IF(OR(A717=\"\",B717=\"\"),\"\",VLOOKUP(A717&\"_\"&B717,Lookups!$E:$F,2,FALSE))","v":""},""]
[null,null,null,null,null,"",null,"",null,null,"","",{"$f":"IF(OR(A718=\"\",B718=\"\"),\"\",VLOOKUP(A718&\"_\"&B718,Lookups!$E:$F,2,FALSE))","v":""},""]
[null,null,null,null,null,"",null,"",null,null,"","",{"$f":"IF(OR(A719=\"\",B719=\"\"),\"\",VLOOKUP(A719&\"_\"&B719,Lookups!$E:$F,2,FALSE))","v":""},""]
[null,null,null,null,null,"",null,"",null,null,"","",{"$f":"IF(OR(A720=\"\",B720=\"\"),\"\",VLOOKUP(A720&\"_\"&B720,Lookups!$E:$F,2,FALSE))","v":""},""]
[null,null,null,null,null,"",null,"",null,null,"","",{"$f":"IF(OR(A721=\"\",B721=\"\"),\"\",VLOOKUP(A721&\"_\"&B721,Lookups!$E:$F,2,FALSE))","v":""},""]
[null,null,null,null,null,"",null,"",null,null,"","",{"$f":"IF(OR(A722=\"\",B722=\"\"),\"\",VLOOKUP(A722&\"_\"&B722,Lookups!$E:$F,2,FALSE))","v":""},""]
[null,null,null,null,null,"",null,"",null,null,"","",{"$f":"IF(OR(A723=\"\",B723=\"\"),\"\",VLOOKUP(A723&\"_\"&B723,Lookups!$E:$F,2,FALSE))","v":""},""]
[null,null,null,null,null,"",null,"",null,null,"","",{"$f":"IF(OR(A724=\"\",B724=\"\"),\"\",VLOOKUP(A724&\"_\"&B724,Lookups!$E:$F,2,FALSE))","v":""},""]
[null,null,null,null,null,"",null,"",null,null,"","",{"$f":"IF(OR(A725=\"\",B725=\"\"),\"\",VLOOKUP(A725&\"_\"&B725,Lookups!$E:$F,2,FALSE))","v":""},""]
[null,null,null,null,null,"",null,"",null,null,"","",{"$f":"IF(OR(A726=\"\",B726=\"\"),\"\",VLOOKUP(A726&\"_\"&B726,Lookups!$E:$F,2,FALSE))","v":""},""]
[null,null,null,null,null,"",null,"",null,null,"","",{"$f":"IF(OR(A727=\"\",B727=\"\"),\"\",VLOOKUP(A727&\"_\"&B727,Lookups!$E:$F,2,FALSE))","v":""},""]
[null,null,null,null,null,"",null,"",null,null,"","",{"$f":"IF(OR(A728=\"\",B728=\"\"),\"\",VLOOKUP(A728&\"_\"&B728,Lookups!$E:$F,2,FALSE))","v":""},""]
[null,null,null,null,null,"",null,"",null,null,"","",{"$f":"IF(OR(A729=\"\",B729=\"\"),\"\",VLOOKUP(A729&\"_\"&B729,Lookups!$E:$F,2,FALSE))","v":""},""]
[null,null,null,null,null,"",null,"",null,null,"","",{"$f":"IF(OR(A730=\"\",B730=\"\"),\"\",VLOOKUP(A730&\"_\"&B730,Lookups!$E:$F,2,FALSE))","v":""},""]
[null,null,null,null,null,"",null,"",null,null,"","",{"$f":"IF(OR(A731=\"\",B731=\"\"),\"\",VLOOKUP(A731&\"_\"&B731,Lookups!$E:$F,2,FALSE))","v":""},""]
[null,null,null,null,null,"",null,"",null,null,"","",{"$f":"IF(OR(A732=\"\",B732=\"\"),\"\",VLOOKUP(A732&\"_\"&B732,Lookups!$E:$F,2,FALSE))","v":""},""]
[null,null,null,null,null,"",null,"",null,null,"","",{"$f":"IF(OR(A733=\"\",B733=\"\"),\"\",VLOOKUP(A733&\"_\"&B733,Lookups!$E:$F,2,FALSE))","v":""},""]
[null,null,null,null,null,"",null,"",null,null,"","",{"$f":"IF(OR(A734=\"\",B734=\"\"),\"\",VLOOKUP(A734&\"_\"&B734,Lookups!$E:$F,2,FALSE))","v":""},""]
[null,null,null,null,null,"",null,"",null,null,"","",{"$f":"IF(OR(A735=\"\",B735=\"\"),\"\",VLOOKUP(A735&\"_\"&B735,Lookups!$E:$F,2,FALSE))","v":""},""]
[null,null,null,null,null,"",null,"",null,null,"","",{"$f":"IF(OR(A736=\"\",B736=\"\"),\"\",VLOOKUP(A736&\"_\"&B736,Lookups!$E:$F,2,FALSE))","v":""},""]
[null,null,null,null,null,"",null,"",null,null,"","",{"$f":"IF(OR(A737=\"\",B737=\"\"),\"\",VLOOKUP(A737&\"_\"&B737,Lookups!$E:$F,2,FALSE))","v":""},""]
[null,null,null,null,null,"",null,"",null,null,"","",{"$f":"IF(OR(A738=\"\",B738=\"\"),\"\",VLOOKUP(A738&\"_\"&B738,Lookups!$E:$F,2,FALSE))","v":""},""]
[null,null,null,null,null,"",null,"",null,null,"","",{"$f":"IF(OR(A739=\"\",B739=\"\"),\"\",VLOOKUP(A739&\"_\"&B739,Lookups!$E:$F,2,FALSE))","v":""},""]
[null,null,null,null,null,"",null,"",null,null,"","",{"$f":"IF(OR(A740=\"\",B740=\"\"),\"\",VLOOKUP(A740&\"_\"&B740,Lookups!$E:$F,2,FALSE))","v":""},""]
[null,null,null,null,null,"",null,"",null,null,"","",{"$f":"IF(OR(A741=\"\",B741=\"\"),\"\",VLOOKUP(A741&\"_\"&B741,Lookups!$E:$F,2,FALSE))","v":""},""]
[null,null,null,null,null,"",null,"",null,null,"","",{"$f":"IF(OR(A742=\"\",B742=\"\"),\"\",VLOOKUP(A742&\"_\"&B742,Lookups!$E:$F,2,FALSE))","v":""},""]
[null,null,null,null,null,"",null,"",null,null,"","",{"$f":"IF(OR(A743=\"\",B743=\"\"),\"\",VLOOKUP(A743&\"_\"&B743,Lookups!$E:$F,2,FALSE))","v":""},""]
[null,null,null,null,null,"",null,"",null,null,"","",{"$f":"IF(OR(A744=\"\",B744=\"\"),\"\",VLOOKUP(A744&\"_\"&B744,Lookups!$E:$F,2,FALSE))","v":""},""]
[null,null,null,null,null,"",null,"",null,null,"","",{"$f":"IF(OR(A745=\"\",B745=\"\"),\"\",VLOOKUP(A745&\"_\"&B745,Lookups!$E:$F,2,FALSE))","v":""},""]
[null,null,null,null,null,"",null,"",null,null,"","",{"$f":"IF(OR(A746=\"\",B746=\"\"),\"\",VLOOKUP(A746&\"_\"&B746,Lookups!$E:$F,2,FALSE))","v":""},""]
[null,null,null,null,null,"",null,"",null,null,"","",{"$f":"IF(OR(A747=\"\",B747=\"\"),\"\",VLOOKUP(A747&\"_\"&B747,Lookups!$E:$F,2,FALSE))","v":""},""]
[null,null,null,null,null,"",null,"",null,null,"","",{"$f":"IF(OR(A748=\"\",B748=\"\"),\"\",VLOOKUP(A748&\"_\"&B748,Lookups!$E:$F,2,FALSE))","v":""},""]
[null,null,null,null,null,"",null,"",null,null,"","",{"$f":"IF(OR(A749=\"\",B749=\"\"),\"\",VLOOKUP(A749&\"_\"&B749,Lookups!$E:$F,2,FALSE))","v":""},""]
[null,null,null,null,null,"",null,"",null,null,"","",{"$f":"IF(OR(A750=\"\",B750=\"\"),\"\",VLOOKUP(A750&\"_\"&B750,Lookups!$E:$F,2,FALSE))","v":""},""]
[null,null,null,null,null,"",null,"",null,null,"","",{"$f":"IF(OR(A751=\"\",B751=\"\"),\"\",VLOOKUP(A751&\"_\"&B751,Lookups!$E:$F,2,FALSE))","v":""},""]
[null,null,null,null,null,"",null,"",null,null,"","",{"$f":"IF(OR(A752=\"\",B752=\"\"),\"\",VLOOKUP(A752&\"_\"&B752,Lookups!$E:$F,2,FALSE))","v":""},""]
[null,null,null,null,null,"",null,"",null,null,"","",{"$f":"IF(OR(A753=\"\",B753=\"\"),\"\",VLOOKUP(A753&\"_\"&B753,Lookups!$E:$F,2,FALSE))","v":""},""]
[null,null,null,null,null,"",null,"",null,null,"","",{"$f":"IF(OR(A754=\"\",B754=\"\"),\"\",VLOOKUP(A754&\"_\"&B754,Lookups!$E:$F,2,FALSE))","v":""},""]
[null,null,null,null,null,"",null,"",null,null,"","",{"$f":"IF(OR(A755=\"\",B755=\"\"),\"\",VLOOKUP(A755&\"_\"&B755,Lookups!$E:$F,2,FALSE))","v":""},""]
[null,null,null,null,null,"",null,"",null,null,"","",{"$f":"IF(OR(A756=\"\",B756=\"\"),\"\",VLOOKUP(A756&\"_\"&B756,Lookups!$E:$F,2,FALSE))","v":""},""]
[null,null,null,null,null,"",null,"",null,null,"","",{"$f":"IF(OR(A757=\"\",B757=\"\"),\"\",VLOOKUP(A757&\"_\"&B757,Lookups!$E:$F,2,FALSE))","v":""},""]
[null,null,null,null,null,"",null,"",null,null,"","",{"$f":"IF(OR(A758=\"\",B758=\"\"),\"\",VLOOKUP(A758&\"_\"&B758,Lookups!$E:$F,2,FALSE))","v":""},""]
[null,null,null,null,null,"",null,"",null,null,"","",{"$f":"IF(OR(A759=\"\",B759=\"\"),\"\",VLOOKUP(A759&\"_\"&B759,Lookups!$E:$F,2,FALSE))","v":""},""]
[null,null,null,null,null,"",null,"",null,null,"","",{"$f":"IF(OR(A760=\"\",B760=\"\"),\"\",VLOOKUP(A760&\"_\"&B760,Lookups!$E:$F,2,FALSE))","v":""},""]
[null,null,null,null,null,"",null,"",null,null,"","",{"$f":"IF(OR(A761=\"\",B761=\"\"),\"\",VLOOKUP(A761&\"_\"&B761,Lookups!$E:$F,2,FALSE))","v":""},""]
[null,null,null,null,null,"",null,"",null,null,"","",{"$f":"IF(OR(A762=\"\",B762=\"\"),\"\",VLOOKUP(A762&\"_\"&B762,Lookups!$E:$F,2,FALSE))","v":""},""]
[null,null,null,null,null,"",null,"",null,null,"","",{"$f":"IF(OR(A763=\"\",B763=\"\"),\"\",VLOOKUP(A763&\"_\"&B763,Lookups!$E:$F,2,FALSE))","v":""},""]
[null,null,null,null,null,"",null,"",null,null,"","",{"$f":"IF(OR(A764=\"\",B764=\"\"),\"\",VLOOKUP(A764&\"_\"&B764,Lookups!$E:$F,2,FALSE))","v":""},""]
[null,null,null,null,null,"",null,"",null,null,"","",{"$f":"IF(OR(A765=\"\",B765=\"\"),\"\",VLOOKUP(A765&\"_\"&B765,Lookups!$E:$F,2,FALSE))","v":""},""]
[null,null,null,null,null,"",null,"",null,null,"","",{"$f":"IF(OR(A766=\"\",B766=\"\"),\"\",VLOOKUP(A766&\"_\"&B766,Lookups!$E:$F,2,FALSE))","v":""},""]
[null,null,null,null,null,"",null,"",null,null,"","",{"$f":"IF(OR(A767=\"\",B767=\"\"),\"\",VLOOKUP(A767&\"_\"&B767,Lookups!$E:$F,2,FALSE))","v":""},""]
[null,null,null,null,null,"",null,"",null,null,"","",{"$f":"IF(OR(A768=\"\",B768=\"\"),\"\",VLOOKUP(A768&\"_\"&B768,Lookups!$E:$F,2,FALSE))","v":""},""]
[null,null,null,null,null,"",null,"",null,null,"","",{"$f":"IF(OR(A769=\"\",B769=\"\"),\"\",VLOOKUP(A769&\"_\"&B769,Lookups!$E:$F,2,FALSE))","v":""},""]
[null,null,null,null,null,"",null,"",null,null,"","",{"$f":"IF(OR(A770=\"\",B770=\"\"),\"\",VLOOKUP(A770&\"_\"&B770,Lookups!$E:$F,2,FALSE))","v":""},""]
[null,null,null,null,null,"",null,"",null,null,"","",{"$f":"IF(OR(A771=\"\",B771=\"\"),\"\",VLOOKUP(A771&\"_\"&B771,Lookups!$E:$F,2,FALSE))","v":""},""]
[null,null,null,null,null,{"$f":"IF(OR(D772=\"\",E772=\"\"),\"\",ROUND((E772-D772)*24,2))","v":""},null,{"$f":"IF(F772=\"\",\"\",IF(G772<>\"\",F772*G772,F772))","v":""},null,null,{"$f":"IF(AND(H772<>\"\",I772=\"Paid\"),H772,\"\")","v":""},{"$f":"IF(H772=\"\",\"\",IF(K772=\"\",H772,H772-K772))","v":""},{"$f":"IF(OR(A772=\"\",B772=\"\"),\"\",VLOOKUP(A772&\"_\"&B772,Lookups!$E:$F,2,FALSE))","v":""},{"$f":"IF(AND(K772=\"\",L772=\"\"),\"\",IF(K772=\"\",L772*M772,SUM(K772,L772)*M772))","v":""}]
[null,null,null,null,null,"",null,"",null,null,"","",{"$f":"IF(OR(A773=\"\",B773=\"\"),\"\",VLOOKUP(A773&\"_\"&B773,Lookups!$E:$F,2,FALSE))","v":""},""]
[null,null,null,null,null,"",null,"",null,null,"","",{"$f":"IF(OR(A774=\"\",B774=\"\"),\"\",VLOOKUP(A774&\"_\"&B774,Lookups!$E:$F,2,FALSE))","v":""},""]
[null,null,null,null,null,"",null,"",null,null,"","",{"$f":"IF(OR(A775=\"\",B775=\"\"),\"\",VLOOKUP(A775&\"_\"&B775,Lookups!$E:$F,2,FALSE))","v":""},""]
[null,null,null,null,null,"",null,"",null,null,"","",{"$f":"IF(OR(A776=\"\",B776=\"\"),\"\",VLOOKUP(A776&\"_\"&B776,Lookups!$E:$F,2,FALSE))","v":""},""]
[null,null,null,null,null,"",null,"",null,null,"","",{"$f":"IF(OR(A777=\"\",B777=\"\"),\"\",VLOOKUP(A777&\"_\"&B777,Lookups!$E:$F,2,FALSE))","v":""},""]
[null,null,null,null,null,"",null,"",null,null,"","",{"$f":"IF(OR(A778=\"\",B778=\"\"),\"\",VLOOKUP(A778&\"_\"&B778,Lookups!$E:$F,2,FALSE))","v":""},""]
[null,null,null,null,null,"",null,"",null,null,"","",{"$f":"IF(OR(A779=\"\",B779=\"\"),\"\",VLOOKUP(A779&\"_\"&B779,Lookups!$E:$F,2,FALSE))","v":""},""]
[null,null,null,null,null,"",null,"",null,null,"","",{"$f":"IF(OR(A780=\"\",B780=\"\"),\"\",VLOOKUP(A780&\"_\"&B780,Lookups!$E:$F,2,FALSE))","v":""},""]
[null,null,null,null,null,"",null,"",null,null,"","",{"$f":"IF(OR(A781=\"\",B781=\"\"),\"\",VLOOKUP(A781&\"_\"&B781,Lookups!$E:$F,2,FALSE))","v":""},""]
[null,null,null,null,null,"",null,"",null,null,"","",{"$f":"IF(OR(A782=\"\",B782=\"\"),\"\",VLOOKUP(A782&\"_\"&B782,Lookups!$E:$F,2,FALSE))","v":""},""]
[null,null,null,null,null,"",null,"",null,null,"","",{"$f":"IF(OR(A783=\"\",B783=\"\"),\"\",VLOOKUP(A783&\"_\"&B783,Lookups!$E:$F,2,FALSE))","v":""},""]
[null,null,null,null,null,"",null,"",null,null,"","",{"$f":"IF(OR(A784=\"\",B784=\"\"),\"\",VLOOKUP(A784&\"_\"&B784,Lookups!$E:$F,2,FALSE))","v":""},""]
[null,null,null,null,null,"",null,"",null,null,"","",{"$f":"IF(OR(A785=\"\",B785=\"\"),\"\",VLOOKUP(A785&\"_\"&B785,Lookups!$E:$F,2,FALSE))","v":""},""]
[null,null,null,null,null,"",null,"",null,null,"","",{"$f":"IF(OR(A786=\"\",B786=\"\"),\"\",VLOOKUP(A786&\"_\"&B786,Lookups!$E:$F,2,FALSE))","v":""},""]
[null,null,null,null,null,"",null,"",null,null,"","",{"$f":"IF(OR(A787=\"\",B787=\"\"),\"\",VLOOKUP(A787&\"_\"&B787,Lookups!$E:$F,2,FALSE))","v":""},""]
[null,null,null,null,null,"",null,"",null,null,"","",{"$f":"IF(OR(A788=\"\",B788=\"\"),\"\",VLOOKUP(A788&\"_\"&B788,Lookups!$E:$F,2,FALSE))","v":""},""]
[null,null,null,null,null,"",null,"",null,null,"","",{"$f":"IF(OR(A789=\"\",B789=\"\"),\"\",VLOOKUP(A789&\"_\"&B789,Lookups!$E:$F,2,FALSE))","v":""},""]
[null,null,null,null,null,"",null,"",null,null,"","",{"$f":"IF(OR(A790=\"\",B790=\"\"),\"\",VLOOKUP(A790&\"_\"&B790,Lookups!$E:$F,2,FALSE))","v":""},""]
[null,null,null,null,null,"",null,"",null,null,"","",{"$f":"IF(OR(A791=\"\",B791=\"\"),\"\",VLOOKUP(A791&\"_\"&B791,Lookups!$E:$F,2,FALSE))","v":""},""]
[null,null,null,null,null,"",null,"",null,null,"","",{"$f":"IF(OR(A792=\"\",B792=\"\"),\"\",VLOOKUP(A792&\"_\"&B792,Lookups!$E:$F,2,FALSE))","v":""},""]
[null,null,null,null,null,"",null,"",null,null,"","",{"$f":"IF(OR(A793=\"\",B793=\"\"),\"\",VLOOKUP(A793&\"_\"&B793,Lookups!$E:$F,2,FALSE))","v":""},""]
[null,null,null,null,null,"",null,"",null,null,"","",{"$f":"IF(OR(A794=\"\",B794=\"\"),\"\",VLOOKUP(A794&\"_\"&B794,Lookups!$E:$F,2,FALSE))","v":""},""]
[null,null,null,null,null,"",null,"",null,null,"","",{"$f":"IF(OR(A795=\"\",B795=\"\"),\"\",VLOOKUP(A795&\"_\"&B795,Lookups!$E:$F,2,FALSE))","v":""},""]
[null,null,null,null,null,"",null,"",null,null,"","",{"$f":"IF(OR(A796=\"\",B796=\"\"),\"\",VLOOKUP(A796&\"_\"&B796,Lookups!$E:$F,2,FALSE))","v":""},""]
[null,null,null,null,null,"",null,"",null,null,"","",{"$f":"IF(OR(A797=\"\",B797=\"\"),\"\",VLOOKUP(A797&\"_\"&B797,Lookups!$E:$F,2,FALSE))","v":""},""]
[null,null,null,null,null,"",null,"",null,null,"","",{"$f":"IF(OR(A798=\"\",B798=\"\"),\"\",VLOOKUP(A798&\"_\"&B798,Lookups!$E:$F,2,FALSE))","v":""},""]
[null,null,null,null,null,"",null,"",null,null,"","",{"$f":"IF(OR(A799=\"\",B799=\"\"),\"\",VLOOKUP(A799&\"_\"&B799,Lookups!$E:$F,2,FALSE))","v":""},""]
[null,null,null,null,null,"",null,"",null,null,"","",{"$f":"IF(OR(A800=\"\",B800=\"\"),\"\",VLOOKUP(A800&\"_\"&B800,Lookups!$E:$F,2,FALSE))","v":""},""]
[null,null,null,null,null,"",null,"",null,null,"","",{"$f":"IF(OR(A801=\"\",B801=\"\"),\"\",VLOOKUP(A801&\"_\"&B801,Lookups!$E:$F,2,FALSE))","v":""},""]
[null,null,null,null,null,"",null,"",null,null,"","",{"$f":"IF(OR(A802=\"\",B802=\"\"),\"\",VLOOKUP(A802&\"_\"&B802,Lookups!$E:$F,2,FALSE))","v":""},""]
[null,null,null,null,null,"",null,"",null,null,"","",{"$f":"IF(OR(A803=\"\",B803=\"\"),\"\",VLOOKUP(A803&\"_\"&B803,Lookups!$E:$F,2,FALSE))","v":""},""]
[null,null,null,null,null,"",null,"",null,null,"","",{"$f":"IF(OR(A804=\"\",B804=\"\"),\"\",VLOOKUP(A804&\"_\"&B804,Lookups!$E:$F,2,FALSE))","v":""},""]
[null,null,null,null,null,"",null,"",null,null,"","",{"$f":"IF(OR(A805=\"\",B805=\"\"),\"\",VLOOKUP(A805&\"_\"&B805,Lookups!$E:$F,2,FALSE))","v":""},""]
[null,null,null,null,null,"",null,"",null,null,"","",{"$f":"IF(OR(A806=\"\",B806=\"\"),\"\",VLOOKUP(A806&\"_\"&B806,Lookups!$E:$F,2,FALSE))","v":""},""]
[null,null,null,null,null,"",null,"",null,null,"","",{"$f":"IF(OR(A807=\"\",B807=\"\"),\"\",VLOOKUP(A807&\"_\"&B807,Lookups!$E:$F,2,FALSE))","v":""},""]
[null,null,null,null,null,"",null,"",null,null,"","",{"$f":"IF(OR(A808=\"\",B808=\"\"),\"\",VLOOKUP(A808&\"_\"&B808,Lookups!$E:$F,2,FALSE))","v":""},""]
[null,null,null,null,null,"",null,"",null,null,"","",{"$f":"IF(OR(A809=\"\",B809=\"\"),\"\",VLOOKUP(A809&\"_\"&B809,Lookups!$E:$F,2,FALSE))","v":""},""]
[null,null,null,null,null,"",null,"",null,null,"","",{"$f":"IF(OR(A810=\"\",B810=\"\"),\"\",VLOOKUP(A810&\"_\"&B810,Lookups!$E:$F,2,FALSE))","v":""},""]
[null,null,null,null,null,"",null,"",null,null,"","",{"$f":"IF(OR(A811=\"\",B811=\"\"),\"\",VLOOKUP(A811&\"_\"&B811,Lookups!$E:$F,2,FALSE))","v":""},""]
[null,null,null,null,null,"",null,"",null,null,"","",{"$f":"IF(OR(A812=\"\",B812=\"\"),\"\",VLOOKUP(A812&\"_\"&B812,Lookups!$E:$F,2,FALSE))","v":""},""]
[null,null,null,null,null,"",null,"",null,null,"","",{"$f":"IF(OR(A813=\"\",B813=\"\"),\"\",VLOOKUP(A813&\"_\"&B813,Lookups!$E:$F,2,FALSE))","v":""},""]
[null,null,null,null,null,"",null,"",null,null,"","",{"$f":"IF(OR(A814=\"\",B814=\"\"),\"\",VLOOKUP(A814&\"_\"&B814,Lookups!$E:$F,2,FALSE))","v":""},""]
[null,null,null,null,null,"",null,"",null,null,"","",{"$f":"IF(OR(A815=\"\",B815=\"\"),\"\",VLOOKUP(A815&\"_\"&B815,Lookups!$E:$F,2,FALSE))","v":""},""]
[null,null,null,null,null,"",null,"",null,null,"","",{"$f":"IF(OR(A816=\"\",B816=\"\"),\"\",VLOOKUP(A816&\"_\"&B816,Lookups!$E:$F,2,FALSE))","v":""},""]
[null,null,null,null,null,"",null,"",null,null,"","",{"$f":"IF(OR(A817=\"\",B817=\"\"),\"\",VLOOKUP(A817&\"_\"&B817,Lookups!$E:$F,2,FALSE))","v":""},""]
[null,null,null,null,null,"",null,"",null,null,"","",{"$f":"IF(OR(A818=\"\",B818=\"\"),\"\",VLOOKUP(A818&\"_\"&B818,Lookups!$E:$F,2,FALSE))","v":""},""]
[null,null,null,null,null,"",null,"",null,null,"","",{"$f":"IF(OR(A819=\"\",B819=\"\"),\"\",VLOOKUP(A819&\"_\"&B819,Lookups!$E:$F,2,FALSE))","v":""},""]
[null,null,null,null,null,"",null,"",null,null,"","",{"$f":"IF(OR(A820=\"\",B820=\"\"),\"\",VLOOKUP(A820&\"_\"&B820,Lookups!$E:$F,2,FALSE))","v":""},""]
[null,null,null,null,null,"",null,"",null,null,"","",{"$f":"IF(OR(A821=\"\",B821=\"\"),\"\",VLOOKUP(A821&\"_\"&B821,Lookups!$E:$F,2,FALSE))","v":""},""]
[null,null,null,null,null,"",null,"",null,null,"","",{"$f":"IF(OR(A822=\"\",B822=\"\"),\"\",VLOOKUP(A822&\"_\"&B822,Lookups!$E:$F,2,FALSE))","v":""},""]
[null,null,null,null,null,"",null,"",null,null,"","",{"$f":"IF(OR(A823=\"\",B823=\"\"),\"\",VLOOKUP(A823&\"_\"&B823,Lookups!$E:$F,2,FALSE))","v":""},""]
[null,null,null,null,null,"",null,"",null,null,"","",{"$f":"IF(OR(A824=\"\",B824=\"\"),\"\",VLOOKUP(A824&\"_\"&B824,Lookups!$E:$F,2,FALSE))","v":""},""]
[null,null,null,null,null,"",null,"",null,null,"","",{"$f":"IF(OR(A825=\"\",B825=\"\"),\"\",VLOOKUP(A825&\"_\"&B825,Lookups!$E:$F,2,FALSE))","v":""},""]
[null,null,null,null,null,"",null,"",null,null,"","",{"$f":"IF(OR(A826=\"\",B826=\"\"),\"\",VLOOKUP(A826&\"_\"&B826,Lookups!$E:$F,2,FALSE))","v":""},""]
[null,null,null,null,null,"",null,"",null,null,"","",{"$f":"IF(OR(A827=\"\",B827=\"\"),\"\",VLOOKUP(A827&\"_\"&B827,Lookups!$E:$F,2,FALSE))","v":""},""]
[null,null,null,null,null,"",null,"",null,null,"","",{"$f":"IF(OR(A828=\"\",B828=\"\"),\"\",VLOOKUP(A828&\"_\"&B828,Lookups!$E:$F,2,FALSE))","v":""},""]
[null,null,null,null,null,"",null,"",null,null,"","",{"$f":"IF(OR(A829=\"\",B829=\"\"),\"\",VLOOKUP(A829&\"_\"&B829,Lookups!$E:$F,2,FALSE))","v":""},""]
[null,null,null,null,null,"",null,"",null,null,"","",{"$f":"IF(OR(A830=\"\",B830=\"\"),\"\",VLOOKUP(A830&\"_\"&B830,Lookups!$E:$F,2,FALSE))","v":""},""]
[null,null,null,null,null,"",null,"",null,null,"","",{"$f":"IF(OR(A831=\"\",B831=\"\"),\"\",VLOOKUP(A831&\"_\"&B831,Lookups!$E:$F,2,FALSE))","v":""},""]
[null,null,null,null,null,"",null,"",null,null,"","",{"$f":"IF(OR(A832=\"\",B832=\"\"),\"\",VLOOKUP(A832&\"_\"&B832,Lookups!$E:$F,2,FALSE))","v":""},""]
[null,null,null,null,null,"",null,"",null,null,"","",{"$f":"IF(OR(A833=\"\",B833=\"\"),\"\",VLOOKUP(A833&\"_\"&B833,Lookups!$E:$F,2,FALSE))","v":""},""]
[null,null,null,null,null,"",null,"",null,null,"","",{"$f":"IF(OR(A834=\"\",B834=\"\"),\"\",VLOOKUP(A834&\"_\"&B834,Lookups!$E:$F,2,FALSE))","v":""},""]
[null,null,null,null,null,"",null,"",null,null,"","",{"$f":"IF(OR(A835=\"\",B835=\"\"),\"\",VLOOKUP(A835&\"_\"&B835,Lookups!$E:$F,2,FALSE))","v":""},""]
[null,null,null,null,null,{"$f":"IF(OR(D836=\"\",E836=\"\"),\"\",ROUND((E836-D836)*24,2))","v":""},null,{"$f":"IF(F836=\"\",\"\",IF(G836<>\"\",F836*G836,F836))","v":""},null,null,{"$f":"IF(AND(H836<>\"\",I836=\"Paid\"),H836,\"\")","v":""},{"$f":"IF(H836=\"\",\"\",IF(K836=\"\",H836,H836-K836))","v":""},{"$f":"IF(OR(A836=\"\",B836=\"\"),\"\",VLOOKUP(A836&\"_\"&B836,Lookups!$E:$F,2,FALSE))","v":""},{"$f":"IF(AND(K836=\"\",L836=\"\"),\"\",IF(K836=\"\",L836*M836,SUM(K836,L836)*M836))","v":""}]
[null,null,null,null,null,"",null,"",null,null,"","",{"$f":"IF(OR(A837=\"\",B837=\"\"),\"\",VLOOKUP(A837&\"_\"&B837,Lookups!$E:$F,2,FALSE))","v":""},""]
[null,null,null,null,null,"",null,"",null,null,"","",{"$f":"IF(OR(A838=\"\",B838=\"\"),\"\",VLOOKUP(A838&\"_\"&B838,Lookups!$E:$F,2,FALSE))","v":""},""]
[null,null,null,null,null,"",null,"",null,null,"","",{"$f":"IF(OR(A839=\"\",B839=\"\"),\"\",VLOOKUP(A839&\"_\"&B839,Lookups!$E:$F,2,FALSE))","v":""},""]
[null,null,null,null,null,"",null,"",null,null,"","",{"$f":"IF(OR(A840=\"\",B840=\"\"),\"\",VLOOKUP(A840&\"_\"&B840,Lookups!$E:$F,2,FALSE))","v":""},""]
[null,null,null,null,null,"",null,"",null,null,"","",{"$f":"IF(OR(A841=\"\",B841=\"\"),\"\",VLOOKUP(A841&\"_\"&B841,Lookups!$E:$F,2,FALSE))","v":""},""]
[null,null,null,null,null,"",null,"",null,null,"","",{"$f":"IF(OR(A842=\"\",B842=\"\"),\"\",VLOOKUP(A842&\"_\"&B842,Lookups!$E:$F,2,FALSE))","v":""},""]
[null,null,null,null,null,"",null,"",null,null,"","",{"$f":"IF(OR(A843=\"\",B843=\"\"),\"\",VLOOKUP(A843&\"_\"&B843,Lookups!$E:$F,2,FALSE))","v":""},""]
[null,null,null,null,null,"",null,"",null,null,"","",{"$f":"IF(OR(A844=\"\",B844=\"\"),\"\",VLOOKUP(A844&\"_\"&B844,Lookups!$E:$F,2,FALSE))","v":""},""]
[null,null,null,null,null,"",null,"",null,null,"","",{"$f":"IF(OR(A845=\"\",B845=\"\"),\"\",VLOOKUP(A845&\"_\"&B845,Lookups!$E:$F,2,FALSE))","v":""},""]
[null,null,null,null,null,"",null,"",null,null,"","",{"$f":"IF(OR(A846=\"\",B846=\"\"),\"\",VLOOKUP(A846&\"_\"&B846,Lookups!$E:$F,2,FALSE))","v":""},""]
[null,null,null,null,null,"",null,"",null,null,"","",{"$f":"IF(OR(A847=\"\",B847=\"\"),\"\",VLOOKUP(A847&\"_\"&B847,Lookups!$E:$F,2,FALSE))","v":""},""]
[null,null,null,null,null,"",null,"",null,null,"","",{"$f":"IF(OR(A848=\"\",B848=\"\"),\"\",VLOOKUP(A848&\"_\"&B848,Lookups!$E:$F,2,FALSE))","v":""},""]
[null,null,null,null,null,"",null,"",null,null,"","",{"$f":"IF(OR(A849=\"\",B849=\"\"),\"\",VLOOKUP(A849&\"_\"&B849,Lookups!$E:$F,2,FALSE))","v":""},""]
[null,null,null,null,null,"",null,"",null,null,"","",{"$f":"IF(OR(A850=\"\",B850=\"\"),\"\",VLOOKUP(A850&\"_\"&B850,Lookups!$E:$F,2,FALSE))","v":""},""]
[null,null,null,null,null,"",null,"",null,null,"","",{"$f":"IF(OR(A851=\"\",B851=\"\"),\"\",VLOOKUP(A851&\"_\"&B851,Lookups!$E:$F,2,FALSE))","v":""},""]
[null,null,null,null,null,"",null,"",null,null,"","",{"$f":"IF(OR(A852=\"\",B852=\"\"),\"\",VLOOKUP(A852&\"_\"&B852,Lookups!$E:$F,2,FALSE))","v":""},""]
[null,null,null,null,null,"",null,"",null,null,"","",{"$f":"IF(OR(A853=\"\",B853=\"\"),\"\",VLOOKUP(A853&\"_\"&B853,Lookups!$E:$F,2,FALSE))","v":""},""]
[null,null,null,null,null,"",null,"",null,null,"","",{"$f":"IF(OR(A854=\"\",B854=\"\"),\"\",VLOOKUP(A854&\"_\"&B854,Lookups!$E:$F,2,FALSE))","v":""},""]
[null,null,null,null,null,"",null,"",null,null,"","",{"$f":"IF(OR(A855=\"\",B855=\"\"),\"\",VLOOKUP(A855&\"_\"&B855,Lookups!$E:$F,2,FALSE))","v":""},""]
[null,null,null,null,null,"",null,"",null,null,"","",{"$f":"IF(OR(A856=\"\",B856=\"\"),\"\",VLOOKUP(A856&\"_\"&B856,Lookups!$E:$F,2,FALSE))","v":""},""]
[null,null,null,null,null,"",null,"",null,null,"","",{"$f":"IF(OR(A857=\"\",B857=\"\"),\"\",VLOOKUP(A857&\"_\"&B857,Lookups!$E:$F,2,FALSE))","v":""},""]
[null,null,null,null,null,"",null,"",null,null,"","",{"$f":"IF(OR(A858=\"\",B858=\"\"),\"\",VLOOKUP(A858&\"_\"&B858,Lookups!$E:$F,2,FALSE))","v":""},""]
[null,null,null,null,null,"",null,"",null,null,"","",{"$f":"IF(OR(A859=\"\",B859=\"\"),\"\",VLOOKUP(A859&\"_\"&B859,Lookups!$E:$F,2,FALSE))","v":""},""]
[null,null,null,null,null,"",null,"",null,null,"","",{"$f":"IF(OR(A860=\"\",B860=\"\"),\"\",VLOOKUP(A860&\"_\"&B860,Lookups!$E:$F,2,FALSE))","v":""},""]
[null,null,null,null,null,"",null,"",null,null,"","",{"$f":"IF(OR(A861=\"\",B861=\"\"),\"\",VLOOKUP(A861&\"_\"&B861,Lookups!$E:$F,2,FALSE))","v":""},""]
[null,null,null,null,null,"",null,"",null,null,"","",{"$f":"IF(OR(A862=\"\",B862=\"\"),\"\",VLOOKUP(A862&\"_\"&B862,Lookups!$E:$F,2,FALSE))","v":""},""]
[null,null,null,null,null,"",null,"",null,null,"","",{"$f":"IF(OR(A863=\"\",B863=\"\"),\"\",VLOOKUP(A863&\"_\"&B863,Lookups!$E:$F,2,FALSE))","v":""},""]
[null,null,null,null,null,"",null,"",null,null,"","",{"$f":"IF(OR(A864=\"\",B864=\"\"),\"\",VLOOKUP(A864&\"_\"&B864,Lookups!$E:$F,2,FALSE))","v":""},""]
[null,null,null,null,null,"",null,"",null,null,"","",{"$f":"IF(OR(A865=\"\",B865=\"\"),\"\",VLOOKUP(A865&\"_\"&B865,Lookups!$E:$F,2,FALSE))","v":""},""]
[null,null,null,null,null,"",null,"",null,null,"","",{"$f":"IF(OR(A866=\"\",B866=\"\"),\"\",VLOOKUP(A866&\"_\"&B866,Lookups!$E:$F,2,FALSE))","v":""},""]
[null,null,null,null,null,"",null,"",null,null,"","",{"$f":"IF(OR(A867=\"\",B867=\"\"),\"\",VLOOKUP(A867&\"_\"&B867,Lookups!$E:$F,2,FALSE))","v":""},""]
[null,null,null,null,null,"",null,"",null,null,"","",{"$f":"IF(OR(A868=\"\",B868=\"\"),\"\",VLOOKUP(A868&\"_\"&B868,Lookups!$E:$F,2,FALSE))","v":""},""]
[null,null,null,null,null,"",null,"",null,null,"","",{"$f":"IF(OR(A869=\"\",B869=\"\"),\"\",VLOOKUP(A869&\"_\"&B869,Lookups!$E:$F,2,FALSE))","v":""},""]
[null,null,null,null,null,"",null,"",null,null,"","",{"$f":"IF(OR(A870=\"\",B870=\"\"),\"\",VLOOKUP(A870&\"_\"&B870,Lookups!$E:$F,2,FALSE))","v":""},""]
[null,null,null,null,null,"",null,"",null,null,"","",{"$f":"IF(OR(A871=\"\",B871=\"\"),\"\",VLOOKUP(A871&\"_\"&B871,Lookups!$E:$F,2,FALSE))","v":""},""]
[null,null,null,null,null,"",null,"",null,null,"","",{"$f":"IF(OR(A872=\"\",B872=\"\"),\"\",VLOOKUP(A872&\"_\"&B872,Lookups!$E:$F,2,FALSE))","v":""},""]
[null,null,null,null,null,"",null,"",null,null,"","",{"$f":"IF(OR(A873=\"\",B873=\"\"),\"\",VLOOKUP(A873&\"_\"&B873,Lookups!$E:$F,2,FALSE))","v":""},""]
[null,null,null,null,null,"",null,"",null,null,"","",{"$f":"IF(OR(A874=\"\",B874=\"\"),\"\",VLOOKUP(A874&\"_\"&B874,Lookups!$E:$F,2,FALSE))","v":""},""]
[null,null,null,null,null,"",null,"",null,null,"","",{"$f":"IF(OR(A875=\"\",B875=\"\"),\"\",VLOOKUP(A875&\"_\"&B875,Lookups!$E:$F,2,FALSE))","v":""},""]
[null,null,null,null,null,"",null,"",null,null,"","",{"$f":"IF(OR(A876=\"\",B876=\"\"),\"\",VLOOKUP(A876&\"_\"&B876,Lookups!$E:$F,2,FALSE))","v":""},""]
[null,null,null,null,null,"",null,"",null,null,"","",{"$f":"IF(OR(A877=\"\",B877=\"\"),\"\",VLOOKUP(A877&\"_\"&B877,Lookups!$E:$F,2,FALSE))","v":""},""]
[null,null,null,null,null,"",null,"",null,null,"","",{"$f":"IF(OR(A878=\"\",B878=\"\"),\"\",VLOOKUP(A878&\"_\"&B878,Lookups!$E:$F,2,FALSE))","v":""},""]
[null,null,null,null,null,"",null,"",null,null,"","",{"$f":"IF(OR(A879=\"\",B879=\"\"),\"\",VLOOKUP(A879&\"_\"&B879,Lookups!$E:$F,2,FALSE))","v":""},""]
[null,null,null,null,null,"",null,"",null,null,"","",{"$f":"IF(OR(A880=\"\",B880=\"\"),\"\",VLOOKUP(A880&\"_\"&B880,Lookups!$E:$F,2,FALSE))","v":""},""]
[null,null,null,null,null,"",null,"",null,null,"","",{"$f":"IF(OR(A881=\"\",B881=\"\"),\"\",VLOOKUP(A881&\"_\"&B881,Lookups!$E:$F,2,FALSE))","v":""},""]
[null,null,null,null,null,"",null,"",null,null,"","",{"$f":"IF(OR(A882=\"\",B882=\"\"),\"\",VLOOKUP(A882&\"_\"&B882,Lookups!$E:$F,2,FALSE))","v":""},""]
[null,null,null,null,null,"",null,"",null,null,"","",{"$f":"IF(OR(A883=\"\",B883=\"\"),\"\",VLOOKUP(A883&\"_\"&B883,Lookups!$E:$F,2,FALSE))","v":""},""]
[null,null,null,null,null,"",null,"",null,null,"","",{"$f":"IF(OR(A884=\"\",B884=\"\"),\"\",VLOOKUP(A884&\"_\"&B884,Lookups!$E:$F,2,FALSE))","v":""},""]
[null,null,null,null,null,"",null,"",null,null,"","",{"$f":"IF(OR(A885=\"\",B885=\"\"),\"\",VLOOKUP(A885&\"_\"&B885,Lookups!$E:$F,2,FALSE))","v":""},""]
[null,null,null,null,null,"",null,"",null,null,"","",{"$f":"IF(OR(A886=\"\",B886=\"\"),\"\",VLOOKUP(A886&\"_\"&B886,Lookups!$E:$F,2,FALSE))","v":""},""]
[null,null,null,null,null,"",null,"",null,null,"","",{"$f":"IF(OR(A887=\"\",B887=\"\"),\"\",VLOOKUP(A887&\"_\"&B887,Lookups!$E:$F,2,FALSE))","v":""},""]
[null,null,null,null,null,"",null,"",null,null,"","",{"$f":"IF(OR(A888=\"\",B888=\"\"),\"\",VLOOKUP(A888&\"_\"&B888,Lookups!$E:$F,2,FALSE))","v":""},""]
[null,null,null,null,null,"",null,"",null,null,"","",{"$f":"IF(OR(A889=\"\",B889=\"\"),\"\",VLOOKUP(A889&\"_\"&B889,Lookups!$E:$F,2,FALSE))","v":""},""]
[null,null,null,null,null,"",null,"",null,null,"","",{"$f":"IF(OR(A890=\"\",B890=\"\"),\"\",VLOOKUP(A890&\"_\"&B890,Lookups!$E:$F,2,FALSE))","v":""},""]
[null,null,null,null,null,"",null,"",null,null,"","",{"$f":"IF(OR(A891=\"\",B891=\"\"),\"\",VLOOKUP(A891&\"_\"&B891,Lookups!$E:$F,2,FALSE))","v":""},""]
[null,null,null,null,null,"",null,"",null,null,"","",{"$f":"IF(OR(A892=\"\",B892=\"\"),\"\",VLOOKUP(A892&\"_\"&B892,Lookups!$E:$F,2,FALSE))","v":""},""]
[null,null,null,null,null,"",null,"",null,null,"","",{"$f":"IF(OR(A893=\"\",B893=\"\"),\"\",VLOOKUP(A893&\"_\"&B893,Lookups!$E:$F,2,FALSE))","v":""},""]
[null,null,null,null,null,"",null,"",null,null,"","",{"$f":"IF(OR(A894=\"\",B894=\"\"),\"\",VLOOKUP(A894&\"_\"&B894,Lookups!$E:$F,2,FALSE))","v":""},""]
[null,null,null,null,null,"",null,"",null,null,"","",{"$f":"IF(OR(A895=\"\",B895=\"\"),\"\",VLOOKUP(A895&\"_\"&B895,Lookups!$E:$F,2,FALSE))","v":""},""]
[null,null,null,null,null,"",null,"",null,null,"","",{"$f":"IF(OR(A896=\"\",B896=\"\"),\"\",VLOOKUP(A896&\"_\"&B896,Lookups!$E:$F,2,FALSE))","v":""},""]
[null,null,null,null,null,"",null,"",null,null,"","",{"$f":"IF(OR(A897=\"\",B897=\"\"),\"\",VLOOKUP(A897&\"_\"&B897,Lookups!$E:$F,2,FALSE))","v":""},""]
[null,null,null,null,null,"",null,"",null,null,"","",{"$f":"IF(OR(A898=\"\",B898=\"\"),\"\",VLOOKUP(A898&\"_\"&B898,Lookups!$E:$F,2,FALSE))","v":""},""]
[null,null,null,null,null,"",null,"",null,null,"","",{"$f":"IF(OR(A899=\"\",B899=\"\"),\"\",VLOOKUP(A899&\"_\"&B899,Lookups!$E:$F,2,FALSE))","v":""},""]
[null,null,null,null,null,{"$f":"IF(OR(D900=\"\",E900=\"\"),\"\",ROUND((E900-D900)*24,2))","v":""},null,{"$f":"IF(F900=\"\",\"\",IF(G900<>\"\",F900*G900,F900))","v":""},null,null,{"$f":"IF(AND(H900<>\"\",I900=\"Paid\"),H900,\"\")","v":""},{"$f":"IF(H900=\"\",\"\",IF(K900=\"\",H900,H900-K900))","v":""},{"$f":"IF(OR(A900=\"\",B900=\"\"),\"\",VLOOKUP(A900&\"_\"&B900,Lookups!$E:$F,2,FALSE))","v":""},{"$f":"IF(AND(K900=\"\",L900=\"\"),\"\",IF(K900=\"\",L900*M900,SUM(K900,L900)*M900))","v":""}]
[null,null,null,null,null,"",null,"",null,null,"","",{"$f":"IF(OR(A901=\"\",B901=\"\"),\"\",VLOOKUP(A901&\"_\"&B901,Lookups!$E:$F,2,FALSE))","v":""},""]
[null,null,null,null,null,"",null,"",null,null,"","",{"$f":"IF(OR(A902=\"\",B902=\"\"),\"\",VLOOKUP(A902&\"_\"&B902,Lookups!$E:$F,2,FALSE))","v":""},""]
[null,null,null,null,null,"",null,"",null,null,"","",{"$f":"IF(OR(A903=\"\",B903=\"\"),\"\",VLOOKUP(A903&\"_\"&B903,Lookups!$E:$F,2,FALSE))","v":""},""]
[null,null,null,null,null,"",null,"",null,null,"","",{"$f":"IF(OR(A904=\"\",B904=\"\"),\"\",VLOOKUP(A904&\"_\"&B904,Lookups!$E:$F,2,FALSE))","v":""},""]
[null,null,null,null,null,"",null,"",null,null,"","",{"$f":"IF(OR(A905=\"\",B905=\"\"),\"\",VLOOKUP(A905&\"_\"&B905,Lookups!$E:$F,2,FALSE))","v":""},""]
[null,null,null,null,null,"",null,"",null,null,"","",{"$f":"IF(OR(A906=\"\",B906=\"\"),\"\",VLOOKUP(A906&\"_\"&B906,Lookups!$E:$F,2,FALSE))","v":""},""]
[null,null,null,null,null,"",null,"",null,null,"","",{"$f":"IF(OR(A907=\"\",B907=\"\"),\"\",VLOOKUP(A907&\"_\"&B907,Lookups!$E:$F,2,FALSE))","v":""},""]
[null,null,null,null,null,"",null,"",null,null,"","",{"$f":"IF(OR(A908=\"\",B908=\"\"),\"\",VLOOKUP(A908&\"_\"&B908,Lookups!$E:$F,2,FALSE))","v":""},""]
[null,null,null,null,null,"",null,"",null,null,"","",{"$f":"IF(OR(A909=\"\",B909=\"\"),\"\",VLOOKUP(A909&\"_\"&B909,Lookups!$E:$F,2,FALSE))","v":""},""]
[null,null,null,null,null,"",null,"",null,null,"","",{"$f":"IF(OR(A910=\"\",B910=\"\"),\"\",VLOOKUP(A910&\"_\"&B910,Lookups!$E:$F,2,FALSE))","v":""},""]
[null,null,null,null,null,"",null,"",null,null,"","",{"$f":"IF(OR(A911=\"\",B911=\"\"),\"\",VLOOKUP(A911&\"_\"&B911,Lookups!$E:$F,2,FALSE))","v":""},""]
[null,null,null,null,null,"",null,"",null,null,"","",{"$f":"IF(OR(A912=\"\",B912=\"\"),\"\",VLOOKUP(A912&\"_\"&B912,Lookups!$E:$F,2,FALSE))","v":""},""]
[null,null,null,null,null,"",null,"",null,null,"","",{"$f":"IF(OR(A913=\"\",B913=\"\"),\"\",VLOOKUP(A913&\"_\"&B913,Lookups!$E:$F,2,FALSE))","v":""},""]
[null,null,null,null,null,"",null,"",null,null,"","",{"$f":"IF(OR(A914=\"\",B914=\"\"),\"\",VLOOKUP(A914&\"_\"&B914,Lookups!$E:$F,2,FALSE))","v":""},""]
[null,null,null,null,null,"",null,"",null,null,"","",{"$f":"IF(OR(A915=\"\",B915=\"\"),\"\",VLOOKUP(A915&\"_\"&B915,Lookups!$E:$F,2,FALSE))","v":""},""]
[null,null,null,null,null,"",null,"",null,null,"","",{"$f":"IF(OR(A916=\"\",B916=\"\"),\"\",VLOOKUP(A916&\"_\"&B916,Lookups!$E:$F,2,FALSE))","v":""},""]
[null,null,null,null,null,"",null,"",null,null,"","",{"$f":"IF(OR(A917=\"\",B917=\"\"),\"\",VLOOKUP(A917&\"_\"&B917,Lookups!$E:$F,2,FALSE))","v":""},""]
[null,null,null,null,null,"",null,"",null,null,"","",{"$f":"IF(OR(A918=\"\",B918=\"\"),\"\",VLOOKUP(A918&\"_\"&B918,Lookups!$E:$F,2,FALSE))","v":""},""]
[null,null,null,null,null,"",null,"",null,null,"","",{"$f":"IF(OR(A919=\"\",B919=\"\"),\"\",VLOOKUP(A919&\"_\"&B919,Lookups!$E:$F,2,FALSE))","v":""},""]
[null,null,null,null,null,"",null,"",null,null,"","",{"$f":"IF(OR(A920=\"\",B920=\"\"),\"\",VLOOKUP(A920&\"_\"&B920,Lookups!$E:$F,2,FALSE))","v":""},""]
[null,null,null,null,null,"",null,"",null,null,"","",{"$f":"IF(OR(A921=\"\",B921=\"\"),\"\",VLOOKUP(A921&\"_\"&B921,Lookups!$E:$F,2,FALSE))","v":""},""]
[null,null,null,null,null,"",null,"",null,null,"","",{"$f":"IF(OR(A922=\"\",B922=\"\"),\"\",VLOOKUP(A922&\"_\"&B922,Lookups!$E:$F,2,FALSE))","v":""},""]
[null,null,null,null,null,"",null,"",null,null,"","",{"$f":"IF(OR(A923=\"\",B923=\"\"),\"\",VLOOKUP(A923&\"_\"&B923,Lookups!$E:$F,2,FALSE))","v":""},""]
[null,null,null,null,null,"",null,"",null,null,"","",{"$f":"IF(OR(A924=\"\",B924=\"\"),\"\",VLOOKUP(A924&\"_\"&B924,Lookups!$E:$F,2,FALSE))","v":""},""]
[null,null,null,null,null,"",null,"",null,null,"","",{"$f":"IF(OR(A925=\"\",B925=\"\"),\"\",VLOOKUP(A925&\"_\"&B925,Lookups!$E:$F,2,FALSE))","v":""},""]
[null,null,null,null,null,"",null,"",null,null,"","",{"$f":"IF(OR(A926=\"\",B926=\"\"),\"\",VLOOKUP(A926&\"_\"&B926,Lookups!$E:$F,2,FALSE))","v":""},""]
[null,null,null,null,null,"",null,"",null,null,"","",{"$f":"IF(OR(A927=\"\",B927=\"\"),\"\",VLOOKUP(A927&\"_\"&B927,Lookups!$E:$F,2,FALSE))","v":""},""]
[null,null,null,null,null,"",null,"",null,null,"","",{"$f":"IF(OR(A928=\"\",B928=\"\"),\"\",VLOOKUP(A928&\"_\"&B928,Lookups!$E:$F,2,FALSE))","v":""},""]
[null,null,null,null,null,"",null,"",null,null,"","",{"$f":"IF(OR(A929=\"\",B929=\"\"),\"\",VLOOKUP(A929&\"_\"&B929,Lookups!$E:$F,2,FALSE))","v":""},""]
[null,null,null,null,null,"",null,"",null,null,"","",{"$f":"IF(OR(A930=\"\",B930=\"\"),\"\",VLOOKUP(A930&\"_\"&B930,Lookups!$E:$F,2,FALSE))","v":""},""]
[null,null,null,null,null,"",null,"",null,null,"","",{"$f":"IF(OR(A931=\"\",B931=\"\"),\"\",VLOOKUP(A931&\"_\"&B931,Lookups!$E:$F,2,FALSE))","v":""},""]
[null,null,null,null,null,"",null,"",null,null,"","",{"$f":"IF(OR(A932=\"\",B932=\"\"),\"\",VLOOKUP(A932&\"_\"&B932,Lookups!$E:$F,2,FALSE))","v":""},""]
[null,null,null,null,null,"",null,"",null,null,"","",{"$f":"IF(OR(A933=\"\",B933=\"\"),\"\",VLOOKUP(A933&\"_\"&B933,Lookups!$E:$F,2,FALSE))","v":""},""]
[null,null,null,null,null,"",null,"",null,null,"","",{"$f":"IF(OR(A934=\"\",B934=\"\"),\"\",VLOOKUP(A934&\"_\"&B934,Lookups!$E:$F,2,FALSE))","v":""},""]
[null,null,null,null,null,"",null,"",null,null,"","",{"$f":"IF(OR(A935=\"\",B935=\"\"),\"\",VLOOKUP(A935&\"_\"&B935,Lookups!$E:$F,2,FALSE))","v":""},""]
[null,null,null,null,null,"",null,"",null,null,"","",{"$f":"IF(OR(A936=\"\",B936=\"\"),\"\",VLOOKUP(A936&\"_\"&B936,Lookups!$E:$F,2,FALSE))","v":""},""]
[null,null,null,null,null,"",null,"",null,null,"","",{"$f":"IF(OR(A937=\"\",B937=\"\"),\"\",VLOOKUP(A937&\"_\"&B937,Lookups!$E:$F,2,FALSE))","v":""},""]
[null,null,null,null,null,"",null,"",null,null,"","",{"$f":"IF(OR(A938=\"\",B938=\"\"),\"\",VLOOKUP(A938&\"_\"&B938,Lookups!$E:$F,2,FALSE))","v":""},""]
[null,null,null,null,null,"",null,"",null,null,"","",{"$f":"IF(OR(A939=\"\",B939=\"\"),\"\",VLOOKUP(A939&\"_\"&B939,Lookups!$E:$F,2,FALSE))","v":""},""]
[null,null,null,null,null,"",null,"",null,null,"","",{"$f":"IF(OR(A940=\"\",B940=\"\"),\"\",VLOOKUP(A940&\"_\"&B940,Lookups!$E:$F,2,FALSE))","v":""},""]
[null,null,null,null,null,"",null,"",null,null,"","",{"$f":"IF(OR(A941=\"\",B941=\"\"),\"\",VLOOKUP(A941&\"_\"&B941,Lookups!$E:$F,2,FALSE))","v":""},""]
[null,null,null,null,null,"",null,"",null,null,"","",{"$f":"IF(OR(A942=\"\",B942=\"\"),\"\",VLOOKUP(A942&\"_\"&B942,Lookups!$E:$F,2,FALSE))","v":""},""]
[null,null,null,null,null,"",null,"",null,null,"","",{"$f":"IF(OR(A943=\"\",B943=\"\"),\"\",VLOOKUP(A943&\"_\"&B943,Lookups!$E:$F,2,FALSE))","v":""},""]
[null,null,null,null,null,"",null,"",null,null,"","",{"$f":"IF(OR(A944=\"\",B944=\"\"),\"\",VLOOKUP(A944&\"_\"&B944,Lookups!$E:$F,2,FALSE))","v":""},""]
[null,null,null,null,null,"",null,"",null,null,"","",{"$f":"IF(OR(A945=\"\",B945=\"\"),\"\",VLOOKUP(A945&\"_\"&B945,Lookups!$E:$F,2,FALSE))","v":""},""]
[null,null,null,null,null,"",null,"",null,null,"","",{"$f":"IF(OR(A946=\"\",B946=\"\"),\"\",VLOOKUP(A946&\"_\"&B946,Lookups!$E:$F,2,FALSE))","v":""},""]
[null,null,null,null,null,"",null,"",null,null,"","",{"$f":"IF(OR(A947=\"\",B947=\"\"),\"\",VLOOKUP(A947&\"_\"&B947,Lookups!$E:$F,2,FALSE))","v":""},""]
[null,null,null,null,null,"",null,"",null,null,"","",{"$f":"IF(OR(A948=\"\",B948=\"\"),\"\",VLOOKUP(A948&\"_\"&B948,Lookups!$E:$F,2,FALSE))","v":""},""]
[null,null,null,null,null,"",null,"",null,null,"","",{"$f":"IF(OR(A949=\"\",B949=\"\"),\"\",VLOOKUP(A949&\"_\"&B949,Lookups!$E:$F,2,FALSE))","v":""},""]
[null,null,null,null,null,"",null,"",null,null,"","",{"$f":"IF(OR(A950=\"\",B950=\"\"),\"\",VLOOKUP(A950&\"_\"&B950,Lookups!$E:$F,2,FALSE))","v":""},""]
[null,null,null,null,null,"",null,"",null,null,"","",{"$f":"IF(OR(A951=\"\",B951=\"\"),\"\",VLOOKUP(A951&\"_\"&B951,Lookups!$E:$F,2,FALSE))","v":""},""]
[null,null,null,null,null,"",null,"",null,null,"","",{"$f":"IF(OR(A952=\"\",B952=\"\"),\"\",VLOOKUP(A952&\"_\"&B952,Lookups!$E:$F,2,FALSE))","v":""},""]
[null,null,null,null,null,"",null,"",null,null,"","",{"$f":"IF(OR(A953=\"\",B953=\"\"),\"\",VLOOKUP(A953&\"_\"&B953,Lookups!$E:$F,2,FALSE))","v":""},""]
[null,null,null,null,null,"",null,"",null,null,"","",{"$f":"IF(OR(A954=\"\",B954=\"\"),\"\",VLOOKUP(A954&\"_\"&B954,Lookups!$E:$F,2,FALSE))","v":""},""]
[null,null,null,null,null,"",null,"",null,null,"","",{"$f":"IF(OR(A955=\"\",B955=\"\"),\"\",VLOOKUP(A955&\"_\"&B955,Lookups!$E:$F,2,FALSE))","v":""},""]
[null,null,null,null,null,"",null,"",null,null,"","",{"$f":"IF(OR(A956=\"\",B956=\"\"),\"\",VLOOKUP(A956&\"_\"&B956,Lookups!$E:$F,2,FALSE))","v":""},""]
[null,null,null,null,null,"",null,"",null,null,"","",{"$f":"IF(OR(A957=\"\",B957=\"\"),\"\",VLOOKUP(A957&\"_\"&B957,Lookups!$E:$F,2,FALSE))","v":""},""]
[null,null,null,null,null,"",null,"",null,null,"","",{"$f":"IF(OR(A958=\"\",B958=\"\"),\"\",VLOOKUP(A958&\"_\"&B958,Lookups!$E:$F,2,FALSE))","v":""},""]
[null,null,null,null,null,"",null,"",null,null,"","",{"$f":"IF(OR(A959=\"\",B959=\"\"),\"\",VLOOKUP(A959&\"_\"&B959,Lookups!$E:$F,2,FALSE))","v":""},""]
[null,null,null,null,null,"",null,"",null,null,"","",{"$f":"IF(OR(A960=\"\",B960=\"\"),\"\",VLOOKUP(A960&\"_\"&B960,Lookups!$E:$F,2,FALSE))","v":""},""]
[null,null,null,null,null,"",null,"",null,null,"","",{"$f":"IF(OR(A961=\"\",B961=\"\"),\"\",VLOOKUP(A961&\"_\"&B961,Lookups!$E:$F,2,FALSE))","v":""},""]
[null,null,null,null,null,"",null,"",null,null,"","",{"$f":"IF(OR(A962=\"\",B962=\"\"),\"\",VLOOKUP(A962&\"_\"&B962,Lookups!$E:$F,2,FALSE))","v":""},""]
[null,null,null,null,null,"",null,"",null,null,"","",{"$f":"IF(OR(A963=\"\",B963=\"\"),\"\",VLOOKUP(A963&\"_\"&B963,Lookups!$E:$F,2,FALSE))","v":""},""]
[null,null,null,null,null,{"$f":"IF(OR(D964=\"\",E964=\"\"),\"\",ROUND((E964-D964)*24,2))","v":""},null,{"$f":"IF(F964=\"\",\"\",IF(G964<>\"\",F964*G964,F964))","v":""},null,null,{"$f":"IF(AND(H964<>\"\",I964=\"Paid\"),H964,\"\")","v":""},{"$f":"IF(H964=\"\",\"\",IF(K964=\"\",H964,H964-K964))","v":""},{"$f":"IF(OR(A964=\"\",B964=\"\"),\"\",VLOOKUP(A964&\"_\"&B964,Lookups!$E:$F,2,FALSE))","v":""},{"$f":"IF(AND(K964=\"\",L964=\"\"),\"\",IF(K964=\"\",L964*M964,SUM(K964,L964)*M964))","v":""}]
[null,null,null,null,null,"",null,"",null,null,"","",{"$f":"IF(OR(A965=\"\",B965=\"\"),\"\",VLOOKUP(A965&\"_\"&B965,Lookups!$E:$F,2,FALSE))","v":""},""]
[null,null,null,null,null,"",null,"",null,null,"","",{"$f":"IF(OR(A966=\"\",B966=\"\"),\"\",VLOOKUP(A966&\"_\"&B966,Lookups!$E:$F,2,FALSE))","v":""},""]
[null,null,null,null,null,"",null,"",null,null,"","",{"$f":"IF(OR(A967=\"\",B967=\"\"),\"\",VLOOKUP(A967&\"_\"&B967,Lookups!$E:$F,2,FALSE))","v":""},""]
[null,null,null,null,null,"",null,"",null,null,"","",{"$f":"IF(OR(A968=\"\",B968=\"\"),\"\",VLOOKUP(A968&\"_\"&B968,Lookups!$E:$F,2,FALSE))","v":""},""]
[null,null,null,null,null,"",null,"",null,null,"","",{"$f":"IF(OR(A969=\"\",B969=\"\"),\"\",VLOOKUP(A969&\"_\"&B969,Lookups!$E:$F,2,FALSE))","v":""},""]
[null,null,null,null,null,"",null,"",null,null,"","",{"$f":"IF(OR(A970=\"\",B970=\"\"),\"\",VLOOKUP(A970&\"_\"&B970,Lookups!$E:$F,2,FALSE))","v":""},""]
[null,null,null,null,null,"",null,"",null,null,"","",{"$f":"IF(OR(A971=\"\",B971=\"\"),\"\",VLOOKUP(A971&\"_\"&B971,Lookups!$E:$F,2,FALSE))","v":""},""]
[null,null,null,null,null,"",null,"",null,null,"","",{"$f":"IF(OR(A972=\"\",B972=\"\"),\"\",VLOOKUP(A972&\"_\"&B972,Lookups!$E:$F,2,FALSE))","v":""},""]
[null,null,null,null,null,"",null,"",null,null,"","",{"$f":"IF(OR(A973=\"\",B973=\"\"),\"\",VLOOKUP(A973&\"_\"&B973,Lookups!$E:$F,2,FALSE))","v":""},""]
[null,null,null,null,null,"",null,"",null,null,"","",{"$f":"IF(OR(A974=\"\",B974=\"\"),\"\",VLOOKUP(A974&\"_\"&B974,Lookups!$E:$F,2,FALSE))","v":""},""]
[null,null,null,null,null,"",null,"",null,null,"","",{"$f":"IF(OR(A975=\"\",B975=\"\"),\"\",VLOOKUP(A975&\"_\"&B975,Lookups!$E:$F,2,FALSE))","v":""},""]
[null,null,null,null,null,"",null,"",null,null,"","",{"$f":"IF(OR(A976=\"\",B976=\"\"),\"\",VLOOKUP(A976&\"_\"&B976,Lookups!$E:$F,2,FALSE))","v":""},""]
[null,null,null,null,null,"",null,"",null,null,"","",{"$f":"IF(OR(A977=\"\",B977=\"\"),\"\",VLOOKUP(A977&\"_\"&B977,Lookups!$E:$F,2,FALSE))","v":""},""]
[null,null,null,null,null,"",null,"",null,null,"","",{"$f":"IF(OR(A978=\"\",B978=\"\"),\"\",VLOOKUP(A978&\"_\"&B978,Lookups!$E:$F,2,FALSE))","v":""},""]
[null,null,null,null,null,"",null,"",null,null,"","",{"$f":"IF(OR(A979=\"\",B979=\"\"),\"\",VLOOKUP(A979&\"_\"&B979,Lookups!$E:$F,2,FALSE))","v":""},""]
[null,null,null,null,null,"",null,"",null,null,"","",{"$f":"IF(OR(A980=\"\",B980=\"\"),\"\",VLOOKUP(A980&\"_\"&B980,Lookups!$E:$F,2,FALSE))","v":""},""]
[null,null,null,null,null,"",null,"",null,null,"","",{"$f":"IF(OR(A981=\"\",B981=\"\"),\"\",VLOOKUP(A981&\"_\"&B981,Lookups!$E:$F,2,FALSE))","v":""},""]
[null,null,null,null,null,"",null,"",null,null,"","",{"$f":"IF(OR(A982=\"\",B982=\"\"),\"\",VLOOKUP(A982&\"_\"&B982,Lookups!$E:$F,2,FALSE))","v":""},""]
[null,null,null,null,null,"",null,"",null,null,"","",{"$f":"IF(OR(A983=\"\",B983=\"\"),\"\",VLOOKUP(A983&\"_\"&B983,Lookups!$E:$F,2,FALSE))","v":""},""]
[null,null,null,null,null,"",null,"",null,null,"","",{"$f":"IF(OR(A984=\"\",B984=\"\"),\"\",VLOOKUP(A984&\"_\"&B984,Lookups!$E:$F,2,FALSE))","v":""},""]
[null,null,null,null,null,"",null,"",null,null,"","",{"$f":"IF(OR(A985=\"\",B985=\"\"),\"\",VLOOKUP(A985&\"_\"&B985,Lookups!$E:$F,2,FALSE))","v":""},""]
[null,null,null,null,null,"",null,"",null,null,"","",{"$f":"IF(OR(A986=\"\",B986=\"\"),\"\",VLOOKUP(A986&\"_\"&B986,Lookups!$E:$F,2,FALSE))","v":""},""]
[null,null,null,null,null,"",null,"",null,null,"","",{"$f":"IF(OR(A987=\"\",B987=\"\"),\"\",VLOOKUP(A987&\"_\"&B987,Lookups!$E:$F,2,FALSE))","v":""},""]
[null,null,null,null,null,"",null,"",null,null,"","",{"$f":"IF(OR(A988=\"\",B988=\"\"),\"\",VLOOKUP(A988&\"_\"&B988,Lookups!$E:$F,2,FALSE))","v":""},""]
[null,null,null,null,null,"",null,"",null,null,"","",{"$f":"IF(OR(A989=\"\",B989=\"\"),\"\",VLOOKUP(A989&\"_\"&B989,Lookups!$E:$F,2,FALSE))","v":""},""]
[null,null,null,null,null,"",null,"",null,null,"","",{"$f":"IF(OR(A990=\"\",B990=\"\"),\"\",VLOOKUP(A990&\"_\"&B990,Lookups!$E:$F,2,FALSE))","v":""},""]
[null,null,null,null,null,"",null,"",null,null,"","",{"$f":"IF(OR(A991=\"\",B991=\"\"),\"\",VLOOKUP(A991&\"_\"&B991,Lookups!$E:$F,2,FALSE))","v":""},""]
[null,null,null,null,null,"",null,"",null,null,"","",{"$f":"IF(OR(A992=\"\",B992=\"\"),\"\",VLOOKUP(A992&\"_\"&B992,Lookups!$E:$F,2,FALSE))","v":""},""]
[null,null,null,null,null,"",null,"",null,null,"","",{"$f":"IF(OR(A993=\"\",B993=\"\"),\"\",VLOOKUP(A993&\"_\"&B993,Lookups!$E:$F,2,FALSE))","v":""},""]
[null,null,null,null,null,"",null,"",null,null,"","",{"$f":"IF(OR(A994=\"\",B994=\"\"),\"\",VLOOKUP(A994&\"_\"&B994,Lookups!$E:$F,2,FALSE))","v":""},""]
[null,null,null,null,null,"",null,"",null,null,"","",{"$f":"IF(OR(A995=\"\",B995=\"\"),\"\",VLOOKUP(A995&\"_\"&B995,Lookups!$E:$F,2,FALSE))","v":""},""]
[null,null,null,null,null,"",null,"",null,null,"","",{"$f":"IF(OR(A996=\"\",B996=\"\"),\"\",VLOOKUP(A996&\"_\"&B996,Lookups!$E:$F,2,FALSE))","v":""},""]
[null,null,null,null,null,"",null,"",null,null,"","",{"$f":"IF(OR(A997=\"\",B997=\"\"),\"\",VLOOKUP(A997&\"_\"&B997,Lookups!$E:$F,2,FALSE))","v":""},""]
[null,null,null,null,null,"",null,"",null,null,"","",{"$f":"IF(OR(A998=\"\",B998=\"\"),\"\",VLOOKUP(A998&\"_\"&B998,Lookups!$E:$F,2,FALSE))","v":""},""]
[null,null,null,null,null,"",null,"",null,null,"","",{"$f":"IF(OR(A999=\"\",B999=\"\"),\"\",VLOOKUP(A999&\"_\"&B999,Lookups!$E:$F,2,FALSE))","v":""},""]
[null,null,null,null,null,"",null,"",null,null,"","",{"$f":"IF(OR(A1000=\"\",B1000=\"\"),\"\",VLOOKUP(A1000&\"_\"&B1000,Lookups!$E:$F,2,FALSE))","v":""},""]
[null,null,null,null,null,"",null,"",null,null,"","",{"$f":"IF(OR(A1001=\"\",B1001=\"\"),\"\",VLOOKUP(A1001&\"_\"&B1001,Lookups!$E:$F,2,FALSE))","v":""},""]
[null,null,null,null,null,"",null,"",null,null,"","",{"$f":"IF(OR(A1002=\"\",B1002=\"\"),\"\",VLOOKUP(A1002&\"_\"&B1002,Lookups!$E:$F,2,FALSE))","v":""},""]
[null,null,null,null,null,"",null,"",null,null,"","",{"$f":"IF(OR(A1003=\"\",B1003=\"\"),\"\",VLOOKUP(A1003&\"_\"&B1003,Lookups!$E:$F,2,FALSE))","v":""},""]
[null,null,null,null,null,"",null,"",null,null,"","",{"$f":"IF(OR(A1004=\"\",B1004=\"\"),\"\",VLOOKUP(A1004&\"_\"&B1004,Lookups!$E:$F,2,FALSE))","v":""},""]
[null,null,null,null,null,"",null,"",null,null,"","",{"$f":"IF(OR(A1005=\"\",B1005=\"\"),\"\",VLOOKUP(A1005&\"_\"&B1005,Lookups!$E:$F,2,FALSE))","v":""},""]
[null,null,null,null,null,"",null,"",null,null,"","",{"$f":"IF(OR(A1006=\"\",B1006=\"\"),\"\",VLOOKUP(A1006&\"_\"&B1006,Lookups!$E:$F,2,FALSE))","v":""},""]
[null,null,null,null,null,"",null,"",null,null,"","",{"$f":"IF(OR(A1007=\"\",B1007=\"\"),\"\",VLOOKUP(A1007&\"_\"&B1007,Lookups!$E:$F,2,FALSE))","v":""},""]
[null,null,null,null,null,"",null,"",null,null,"","",{"$f":"IF(OR(A1008=\"\",B1008=\"\"),\"\",VLOOKUP(A1008&\"_\"&B1008,Lookups!$E:$F,2,FALSE))","v":""},""]
[null,null,null,null,null,"",null,"",null,null,"","",{"$f":"IF(OR(A1009=\"\",B1009=\"\"),\"\",VLOOKUP(A1009&\"_\"&B1009,Lookups!$E:$F,2,FALSE))","v":""},""]
[null,null,null,null,null,"",null,"",null,null,"","",{"$f":"IF(OR(A1010=\"\",B1010=\"\"),\"\",VLOOKUP(A1010&\"_\"&B1010,Lookups!$E:$F,2,FALSE))","v":""},""]
[null,null,null,null,null,"",null,"",null,null,"","",{"$f":"IF(OR(A1011=\"\",B1011=\"\"),\"\",VLOOKUP(A1011&\"_\"&B1011,Lookups!$E:$F,2,FALSE))","v":""},""]
[null,null,null,null,null,"",null,"",null,null,"","",{"$f":"IF(OR(A1012=\"\",B1012=\"\"),\"\",VLOOKUP(A1012&\"_\"&B1012,Lookups!$E:$F,2,FALSE))","v":""},""]
[null,null,null,null,null,"",null,"",null,null,"","",{"$f":"IF(OR(A1013=\"\",B1013=\"\"),\"\",VLOOKUP(A1013&\"_\"&B1013,Lookups!$E:$F,2,FALSE))","v":""},""]
[null,null,null,null,null,"",null,"",null,null,"","",{"$f":"IF(OR(A1014=\"\",B1014=\"\"),\"\",VLOOKUP(A1014&\"_\"&B1014,Lookups!$E:$F,2,FALSE))","v":""},""]
[null,null,null,null,null,"",null,"",null,null,"","",{"$f":"IF(OR(A1015=\"\",B1015=\"\"),\"\",VLOOKUP(A1015&\"_\"&B1015,Lookups!$E:$F,2,FALSE))","v":""},""]
[null,null,null,null,null,"",null,"",null,null,"","",{"$f":"IF(OR(A1016=\"\",B1016=\"\"),\"\",VLOOKUP(A1016&\"_\"&B1016,Lookups!$E:$F,2,FALSE))","v":""},""]
[null,null,null,null,null,"",null,"",null,null,"","",{"$f":"IF(OR(A1017=\"\",B1017=\"\"),\"\",VLOOKUP(A1017&\"_\"&B1017,Lookups!$E:$F,2,FALSE))","v":""},""]
[null,null,null,null,null,"",null,"",null,null,"","",{"$f":"IF(OR(A1018=\"\",B1018=\"\"),\"\",VLOOKUP(A1018&\"_\"&B1018,Lookups!$E:$F,2,FALSE))","v":""},""]
[null,null,null,null,null,"",null,"",null,null,"","",{"$f":"IF(OR(A1019=\"\",B1019=\"\"),\"\",VLOOKUP(A1019&\"_\"&B1019,Lookups!$E:$F,2,FALSE))","v":""},""]
[null,null,null,null,null,"",null,"",null,null,"","",{"$f":"IF(OR(A1020=\"\",B1020=\"\"),\"\",VLOOKUP(A1020&\"_\"&B1020,Lookups!$E:$F,2,FALSE))","v":""},""]
[null,null,null,null,null,"",null,"",null,null,"","",{"$f":"IF(OR(A1021=\"\",B1021=\"\"),\"\",VLOOKUP(A1021&\"_\"&B1021,Lookups!$E:$F,2,FALSE))","v":""},""]
[null,null,null,null,null,"",null,"",null,null,"","",{"$f":"IF(OR(A1022=\"\",B1022=\"\"),\"\",VLOOKUP(A1022&\"_\"&B1022,Lookups!$E:$F,2,FALSE))","v":""},""]
[null,null,null,null,null,"",null,"",null,null,"","",{"$f":"IF(OR(A1023=\"\",B1023=\"\"),\"\",VLOOKUP(A1023&\"_\"&B1023,Lookups!$E:$F,2,FALSE))","v":""},""]
[null,null,null,null,null,"",null,"",null,null,"","",{"$f":"IF(OR(A1024=\"\",B1024=\"\"),\"\",VLOOKUP(A1024&\"_\"&B1024,Lookups!$E:$F,2,FALSE))","v":""},""]
[null,null,null,null,null,"",null,"",null,null,"","",{"$f":"IF(OR(A1025=\"\",B1025=\"\"),\"\",VLOOKUP(A1025&\"_\"&B1025,Lookups!$E:$F,2,FALSE))","v":""},""]
[null,null,null,null,null,"",null,"",null,null,"","",{"$f":"IF(OR(A1026=\"\",B1026=\"\"),\"\",VLOOKUP(A1026&\"_\"&B1026,Lookups!$E:$F,2,FALSE))","v":""},""]
[null,null,null,null,null,"",null,"",null,null,"","",{"$f":"IF(OR(A1027=\"\",B1027=\"\"),\"\",VLOOKUP(A1027&\"_\"&B1027,Lookups!$E:$F,2,FALSE))","v":""},""]
[null,null,null,null,null,{"$f":"IF(OR(D1028=\"\",E1028=\"\"),\"\",ROUND((E1028-D1028)*24,2))","v":""},null,{"$f":"IF(F1028=\"\",\"\",IF(G1028<>\"\",F1028*G1028,F1028))","v":""},null,null,{"$f":"IF(AND(H1028<>\"\",I1028=\"Paid\"),H1028,\"\")","v":""},{"$f":"IF(H1028=\"\",\"\",IF(K1028=\"\",H1028,H1028-K1028))","v":""},{"$f":"IF(OR(A1028=\"\",B1028=\"\"),\"\",VLOOKUP(A1028&\"_\"&B1028,Lookups!$E:$F,2,FALSE))","v":""},{"$f":"IF(AND(K1028=\"\",L1028=\"\"),\"\",IF(K1028=\"\",L1028*M1028,SUM(K1028,L1028)*M1028))","v":""}]
[null,null,null,null,null,"",null,"",null,null,"","",{"$f":"IF(OR(A1029=\"\",B1029=\"\"),\"\",VLOOKUP(A1029&\"_\"&B1029,Lookups!$E:$F,2,FALSE))","v":""},""]
[null,null,null,null,null,"",null,"",null,null,"","",{"$f":"IF(OR(A1030=\"\",B1030=\"\"),\"\",VLOOKUP(A1030&\"_\"&B1030,Lookups!$E:$F,2,FALSE))","v":""},""]
[null,null,null,null,null,"",null,"",null,null,"","",{"$f":"IF(OR(A1031=\"\",B1031=\"\"),\"\",VLOOKUP(A1031&\"_\"&B1031,Lookups!$E:$F,2,FALSE))","v":""},""]
[null,null,null,null,null,"",null,"",null,null,"","",{"$f":"IF(OR(A1032=\"\",B1032=\"\"),\"\",VLOOKUP(A1032&\"_\"&B1032,Lookups!$E:$F,2,FALSE))","v":""},""]
[null,null,null,null,null,"",null,"",null,null,"","",{"$f":"IF(OR(A1033=\"\",B1033=\"\"),\"\",VLOOKUP(A1033&\"_\"&B1033,Lookups!$E:$F,2,FALSE))","v":""},""]
[null,null,null,null,null,"",null,"",null,null,"","",{"$f":"IF(OR(A1034=\"\",B1034=\"\"),\"\",VLOOKUP(A1034&\"_\"&B1034,Lookups!$E:$F,2,FALSE))","v":""},""]
[null,null,null,null,null,"",null,"",null,null,"","",{"$f":"IF(OR(A1035=\"\",B1035=\"\"),\"\",VLOOKUP(A1035&\"_\"&B1035,Lookups!$E:$F,2,FALSE))","v":""},""]
[null,null,null,null,null,"",null,"",null,null,"","",{"$f":"IF(OR(A1036=\"\",B1036=\"\"),\"\",VLOOKUP(A1036&\"_\"&B1036,Lookups!$E:$F,2,FALSE))","v":""},""]
[null,null,null,null,null,"",null,"",null,null,"","",{"$f":"IF(OR(A1037=\"\",B1037=\"\"),\"\",VLOOKUP(A1037&\"_\"&B1037,Lookups!$E:$F,2,FALSE))","v":""},""]
[null,null,null,null,null,"",null,"",null,null,"","",{"$f":"IF(OR(A1038=\"\",B1038=\"\"),\"\",VLOOKUP(A1038&\"_\"&B1038,Lookups!$E:$F,2,FALSE))","v":""},""]
[null,null,null,null,null,"",null,"",null,null,"","",{"$f":"IF(OR(A1039=\"\",B1039=\"\"),\"\",VLOOKUP(A1039&\"_\"&B1039,Lookups!$E:$F,2,FALSE))","v":""},""]
[null,null,null,null,null,"",null,"",null,null,"","",{"$f":"IF(OR(A1040=\"\",B1040=\"\"),\"\",VLOOKUP(A1040&\"_\"&B1040,Lookups!$E:$F,2,FALSE))","v":""},""]
[null,null,null,null,null,"",null,"",null,null,"","",{"$f":"IF(OR(A1041=\"\",B1041=\"\"),\"\",VLOOKUP(A1041&\"_\"&B1041,Lookups!$E:$F,2,FALSE))","v":""},""]
[null,null,null,null,null,"",null,"",null,null,"","",{"$f":"IF(OR(A1042=\"\",B1042=\"\"),\"\",VLOOKUP(A1042&\"_\"&B1042,Lookups!$E:$F,2,FALSE))","v":""},""]
[null,null,null,null,null,"",null,"",null,null,"","",{"$f":"IF(OR(A1043=\"\",B1043=\"\"),\"\",VLOOKUP(A1043&\"_\"&B1043,Lookups!$E:$F,2,FALSE))","v":""},""]
[null,null,null,null,null,"",null,"",null,null,"","",{"$f":"IF(OR(A1044=\"\",B1044=\"\"),\"\",VLOOKUP(A1044&\"_\"&B1044,Lookups!$E:$F,2,FALSE))","v":""},""]
[null,null,null,null,null,"",null,"",null,null,"","",{"$f":"IF(OR(A1045=\"\",B1045=\"\"),\"\",VLOOKUP(A1045&\"_\"&B1045,Lookups!$E:$F,2,FALSE))","v":""},""]
[null,null,null,null,null,"",null,"",null,null,"","",{"$f":"IF(OR(A1046=\"\",B1046=\"\"),\"\",VLOOKUP(A1046&\"_\"&B1046,Lookups!$E:$F,2,FALSE))","v":""},""]
[null,null,null,null,null,"",null,"",null,null,"","",{"$f":"IF(OR(A1047=\"\",B1047=\"\"),\"\",VLOOKUP(A1047&\"_\"&B1047,Lookups!$E:$F,2,FALSE))","v":""},""]
[null,null,null,null,null,"",null,"",null,null,"","",{"$f":"IF(OR(A1048=\"\",B1048=\"\"),\"\",VLOOKUP(A1048&\"_\"&B1048,Lookups!$E:$F,2,FALSE))","v":""},""]
[null,null,null,null,null,"",null,"",null,null,"","",{"$f":"IF(OR(A1049=\"\",B1049=\"\"),\"\",VLOOKUP(A1049&\"_\"&B1049,Lookups!$E:$F,2,FALSE))","v":""},""]
[null,null,null,null,null,"",null,"",null,null,"","",{"$f":"IF(OR(A1050=\"\",B1050=\"\"),\"\",VLOOKUP(A1050&\"_\"&B1050,Lookups!$E:$F,2,FALSE))","v":""},""]
[null,null,null,null,null,"",null,"",null,null,"","",{"$f":"IF(OR(A1051=\"\",B1051=\"\"),\"\",VLOOKUP(A1051&\"_\"&B1051,Lookups!$E:$F,2,FALSE))","v":""},""]
[null,null,null,null,null,"",null,"",null,null,"","",{"$f":"IF(OR(A1052=\"\",B1052=\"\"),\"\",VLOOKUP(A1052&\"_\"&B1052,Lookups!$E:$F,2,FALSE))","v":""},""]
[null,null,null,null,null,"",null,"",null,null,"","",{"$f":"IF(OR(A1053=\"\",B1053=\"\"),\"\",VLOOKUP(A1053&\"_\"&B1053,Lookups!$E:$F,2,FALSE))","v":""},""]
[null,null,null,null,null,"",null,"",null,null,"","",{"$f":"IF(OR(A1054=\"\",B1054=\"\"),\"\",VLOOKUP(A1054&\"_\"&B1054,Lookups!$E:$F,2,FALSE))","v":""},""]
[null,null,null,null,null,"",null,"",null,null,"","",{"$f":"IF(OR(A1055=\"\",B1055=\"\"),\"\",VLOOKUP(A1055&\"_\"&B1055,Lookups!$E:$F,2,FALSE))","v":""},""]
[null,null,null,null,null,"",null,"",null,null,"","",{"$f":"IF(OR(A1056=\"\",B1056=\"\"),\"\",VLOOKUP(A1056&\"_\"&B1056,Lookups!$E:$F,2,FALSE))","v":""},""]
[null,null,null,null,null,"",null,"",null,null,"","",{"$f":"IF(OR(A1057=\"\",B1057=\"\"),\"\",VLOOKUP(A1057&\"_\"&B1057,Lookups!$E:$F,2,FALSE))","v":""},""]
[null,null,null,null,null,"",null,"",null,null,"","",{"$f":"IF(OR(A1058=\"\",B1058=\"\"),\"\",VLOOKUP(A1058&\"_\"&B1058,Lookups!$E:$F,2,FALSE))","v":""},""]
[null,null,null,null,null,"",null,"",null,null,"","",{"$f":"IF(OR(A1059=\"\",B1059=\"\"),\"\",VLOOKUP(A1059&\"_\"&B1059,Lookups!$E:$F,2,FALSE))","v":""},""]
[null,null,null,null,null,"",null,"",null,null,"","",{"$f":"IF(OR(A1060=\"\",B1060=\"\"),\"\",VLOOKUP(A1060&\"_\"&B1060,Lookups!$E:$F,2,FALSE))","v":""},""]
[null,null,null,null,null,"",null,"",null,null,"","",{"$f":"IF(OR(A1061=\"\",B1061=\"\"),\"\",VLOOKUP(A1061&\"_\"&B1061,Lookups!$E:$F,2,FALSE))","v":""},""]
[null,null,null,null,null,"",null,"",null,null,"","",{"$f":"IF(OR(A1062=\"\",B1062=\"\"),\"\",VLOOKUP(A1062&\"_\"&B1062,Lookups!$E:$F,2,FALSE))","v":""},""]
[null,null,null,null,null,"",null,"",null,null,"","",{"$f":"IF(OR(A1063=\"\",B1063=\"\"),\"\",VLOOKUP(A1063&\"_\"&B1063,Lookups!$E:$F,2,FALSE))","v":""},""]
[null,null,null,null,null,"",null,"",null,null,"","",{"$f":"IF(OR(A1064=\"\",B1064=\"\"),\"\",VLOOKUP(A1064&\"_\"&B1064,Lookups!$E:$F,2,FALSE))","v":""},""]
[null,null,null,null,null,"",null,"",null,null,"","",{"$f":"IF(OR(A1065=\"\",B1065=\"\"),\"\",VLOOKUP(A1065&\"_\"&B1065,Lookups!$E:$F,2,FALSE))","v":""},""]
[null,null,null,null,null,"",null,"",null,null,"","",{"$f":"IF(OR(A1066=\"\",B1066=\"\"),\"\",VLOOKUP(A1066&\"_\"&B1066,Lookups!$E:$F,2,FALSE))","v":""},""]
[null,null,null,null,null,"",null,"",null,null,"","",{"$f":"IF(OR(A1067=\"\",B1067=\"\"),\"\",VLOOKUP(A1067&\"_\"&B1067,Lookups!$E:$F,2,FALSE))","v":""},""]
[null,null,null,null,null,"",null,"",null,null,"","",{"$f":"IF(OR(A1068=\"\",B1068=\"\"),\"\",VLOOKUP(A1068&\"_\"&B1068,Lookups!$E:$F,2,FALSE))","v":""},""]
[null,null,null,null,null,"",null,"",null,null,"","",{"$f":"IF(OR(A1069=\"\",B1069=\"\"),\"\",VLOOKUP(A1069&\"_\"&B1069,Lookups!$E:$F,2,FALSE))","v":""},""]
[null,null,null,null,null,"",null,"",null,null,"","",{"$f":"IF(OR(A1070=\"\",B1070=\"\"),\"\",VLOOKUP(A1070&\"_\"&B1070,Lookups!$E:$F,2,FALSE))","v":""},""]
[null,null,null,null,null,"",null,"",null,null,"","",{"$f":"IF(OR(A1071=\"\",B1071=\"\"),\"\",VLOOKUP(A1071&\"_\"&B1071,Lookups!$E:$F,2,FALSE))","v":""},""]
[null,null,null,null,null,"",null,"",null,null,"","",{"$f":"IF(OR(A1072=\"\",B1072=\"\"),\"\",VLOOKUP(A1072&\"_\"&B1072,Lookups!$E:$F,2,FALSE))","v":""},""]
[null,null,null,null,null,"",null,"",null,null,"","",{"$f":"IF(OR(A1073=\"\",B1073=\"\"),\"\",VLOOKUP(A1073&\"_\"&B1073,Lookups!$E:$F,2,FALSE))","v":""},""]
[null,null,null,null,null,"",null,"",null,null,"","",{"$f":"IF(OR(A1074=\"\",B1074=\"\"),\"\",VLOOKUP(A1074&\"_\"&B1074,Lookups!$E:$F,2,FALSE))","v":""},""]
[null,null,null,null,null,"",null,"",null,null,"","",{"$f":"IF(OR(A1075=\"\",B1075=\"\"),\"\",VLOOKUP(A1075&\"_\"&B1075,Lookups!$E:$F,2,FALSE))","v":""},""]
[null,null,null,null,null,"",null,"",null,null,"","",{"$f":"IF(OR(A1076=\"\",B1076=\"\"),\"\",VLOOKUP(A1076&\"_\"&B1076,Lookups!$E:$F,2,FALSE))","v":""},""]
[null,null,null,null,null,"",null,"",null,null,"","",{"$f":"IF(OR(A1077=\"\",B1077=\"\"),\"\",VLOOKUP(A1077&\"_\"&B1077,Lookups!$E:$F,2,FALSE))","v":""},""]
[null,null,null,null,null,"",null,"",null,null,"","",{"$f":"IF(OR(A1078=\"\",B1078=\"\"),\"\",VLOOKUP(A1078&\"_\"&B1078,Lookups!$E:$F,2,FALSE))","v":""},""]
[null,null,null,null,null,"",null,"",null,null,"","",{"$f":"IF(OR(A1079=\"\",B1079=\"\"),\"\",VLOOKUP(A1079&\"_\"&B1079,Lookups!$E:$F,2,FALSE))","v":""},""]
[null,null,null,null,null,"",null,"",null,null,"","",{"$f":"IF(OR(A1080=\"\",B1080=\"\"),\"\",VLOOKUP(A1080&\"_\"&B1080,Lookups!$E:$F,2,FALSE))","v":""},""]
[null,null,null,null,null,"",null,"",null,null,"","",{"$f":"IF(OR(A1081=\"\",B1081=\"\"),\"\",VLOOKUP(A1081&\"_\"&B1081,Lookups!$E:$F,2,FALSE))","v":""},""]
[null,null,null,null,null,"",null,"",null,null,"","",{"$f":"IF(OR(A1082=\"\",B1082=\"\"),\"\",VLOOKUP(A1082&\"_\"&B1082,Lookups!$E:$F,2,FALSE))","v":""},""]
[null,null,null,null,null,"",null,"",null,null,"","",{"$f":"IF(OR(A1083=\"\",B1083=\"\"),\"\",VLOOKUP(A1083&\"_\"&B1083,Lookups!$E:$F,2,FALSE))","v":""},""]
[null,null,null,null,null,"",null,"",null,null,"","",{"$f":"IF(OR(A1084=\"\",B1084=\"\"),\"\",VLOOKUP(A1084&\"_\"&B1084,Lookups!$E:$F,2,FALSE))","v":""},""]
[null,null,null,null,null,"",null,"",null,null,"","",{"$f":"IF(OR(A1085=\"\",B1085=\"\"),\"\",VLOOKUP(A1085&\"_\"&B1085,Lookups!$E:$F,2,FALSE))","v":""},""]
[null,null,null,null,null,"",null,"",null,null,"","",{"$f":"IF(OR(A1086=\"\",B1086=\"\"),\"\",VLOOKUP(A1086&\"_\"&B1086,Lookups!$E:$F,2,FALSE))","v":""},""]
[null,null,null,null,null,"",null,"",null,null,"","",{"$f":"IF(OR(A1087=\"\",B1087=\"\"),\"\",VLOOKUP(A1087&\"_\"&B1087,Lookups!$E:$F,2,FALSE))","v":""},""]
[null,null,null,null,null,"",null,"",null,null,"","",{"$f":"IF(OR(A1088=\"\",B1088=\"\"),\"\",VLOOKUP(A1088&\"_\"&B1088,Lookups!$E:$F,2,FALSE))","v":""},""]
[null,null,null,null,null,"",null,"",null,null,"","",{"$f":"IF(OR(A1089=\"\",B1089=\"\"),\"\",VLOOKUP(A1089&\"_\"&B1089,Lookups!$E:$F,2,FALSE))","v":""},""]
[null,null,null,null,null,"",null,"",null,null,"","",{"$f":"IF(OR(A1090=\"\",B1090=\"\"),\"\",VLOOKUP(A1090&\"_\"&B1090,Lookups!$E:$F,2,FALSE))","v":""},""]
[null,null,null,null,null,"",null,"",null,null,"","",{"$f":"IF(OR(A1091=\"\",B1091=\"\"),\"\",VLOOKUP(A1091&\"_\"&B1091,Lookups!$E:$F,2,FALSE))","v":""},""]
[null,null,null,null,null,{"$f":"IF(OR(D1092=\"\",E1092=\"\"),\"\",ROUND((E1092-D1092)*24,2))","v":""},null,{"$f":"IF(F1092=\"\",\"\",IF(G1092<>\"\",F1092*G1092,F1092))","v":""},null,null,{"$f":"IF(AND(H1092<>\"\",I1092=\"Paid\"),H1092,\"\")","v":""},{"$f":"IF(H1092=\"\",\"\",IF(K1092=\"\",H1092,H1092-K1092))","v":""},{"$f":"IF(OR(A1092=\"\",B1092=\"\"),\"\",VLOOKUP(A1092&\"_\"&B1092,Lookups!$E:$F,2,FALSE))","v":""},{"$f":"IF(AND(K1092=\"\",L1092=\"\"),\"\",IF(K1092=\"\",L1092*M1092,SUM(K1092,L1092)*M1092))","v":""}]
[null,null,null,null,null,"",null,"",null,null,"","",{"$f":"IF(OR(A1093=\"\",B1093=\"\"),\"\",VLOOKUP(A1093&\"_\"&B1093,Lookups!$E:$F,2,FALSE))","v":""},""]
[null,null,null,null,null,"",null,"",null,null,"","",{"$f":"IF(OR(A1094=\"\",B1094=\"\"),\"\",VLOOKUP(A1094&\"_\"&B1094,Lookups!$E:$F,2,FALSE))","v":""},""]
[null,null,null,null,null,"",null,"",null,null,"","",{"$f":"IF(OR(A1095=\"\",B1095=\"\"),\"\",VLOOKUP(A1095&\"_\"&B1095,Lookups!$E:$F,2,FALSE))","v":""},""]
[null,null,null,null,null,"",null,"",null,null,"","",{"$f":"IF(OR(A1096=\"\",B1096=\"\"),\"\",VLOOKUP(A1096&\"_\"&B1096,Lookups!$E:$F,2,FALSE))","v":""},""]
[null,null,null,null,null,"",null,"",null,null,"","",{"$f":"IF(OR(A1097=\"\",B1097=\"\"),\"\",VLOOKUP(A1097&\"_\"&B1097,Lookups!$E:$F,2,FALSE))","v":""},""]
[null,null,null,null,null,"",null,"",null,null,"","",{"$f":"IF(OR(A1098=\"\",B1098=\"\"),\"\",VLOOKUP(A1098&\"_\"&B1098,Lookups!$E:$F,2,FALSE))","v":""},""]
[null,null,null,null,null,"",null,"",null,null,"","",{"$f":"IF(OR(A1099=\"\",B1099=\"\"),\"\",VLOOKUP(A1099&\"_\"&B1099,Lookups!$E:$F,2,FALSE))","v":""},""]
[null,null,null,null,null,"",null,"",null,null,"","",{"$f":"IF(OR(A1100=\"\",B1100=\"\"),\"\",VLOOKUP(A1100&\"_\"&B1100,Lookups!$E:$F,2,FALSE))","v":""},""]
[null,null,null,null,null,"",null,"",null,null,"","",{"$f":"IF(OR(A1101=\"\",B1101=\"\"),\"\",VLOOKUP(A1101&\"_\"&B1101,Lookups!$E:$F,2,FALSE))","v":""},""]
[null,null,null,null,null,"",null,"",null,null,"","",{"$f":"IF(OR(A1102=\"\",B1102=\"\"),\"\",VLOOKUP(A1102&\"_\"&B1102,Lookups!$E:$F,2,FALSE))","v":""},""]
[null,null,null,null,null,"",null,"",null,null,"","",{"$f":"IF(OR(A1103=\"\",B1103=\"\"),\"\",VLOOKUP(A1103&\"_\"&B1103,Lookups!$E:$F,2,FALSE))","v":""},""]
[null,null,null,null,null,"",null,"",null,null,"","",{"$f":"IF(OR(A1104=\"\",B1104=\"\"),\"\",VLOOKUP(A1104&\"_\"&B1104,Lookups!$E:$F,2,FALSE))","v":""},""]
[null,null,null,null,null,"",null,"",null,null,"","",{"$f":"IF(OR(A1105=\"\",B1105=\"\"),\"\",VLOOKUP(A1105&\"_\"&B1105,Lookups!$E:$F,2,FALSE))","v":""},""]
[null,null,null,null,null,"",null,"",null,null,"","",{"$f":"IF(OR(A1106=\"\",B1106=\"\"),\"\",VLOOKUP(A1106&\"_\"&B1106,Lookups!$E:$F,2,FALSE))","v":""},""]
[null,null,null,null,null,"",null,"",null,null,"","",{"$f":"IF(OR(A1107=\"\",B1107=\"\"),\"\",VLOOKUP(A1107&\"_\"&B1107,Lookups!$E:$F,2,FALSE))","v":""},""]
[null,null,null,null,null,"",null,"",null,null,"","",{"$f":"IF(OR(A1108=\"\",B1108=\"\"),\"\",VLOOKUP(A1108&\"_\"&B1108,Lookups!$E:$F,2,FALSE))","v":""},""]
[null,null,null,null,null,"",null,"",null,null,"","",{"$f":"IF(OR(A1109=\"\",B1109=\"\"),\"\",VLOOKUP(A1109&\"_\"&B1109,Lookups!$E:$F,2,FALSE))","v":""},""]
[null,null,null,null,null,"",null,"",null,null,"","",{"$f":"IF(OR(A1110=\"\",B1110=\"\"),\"\",VLOOKUP(A1110&\"_\"&B1110,Lookups!$E:$F,2,FALSE))","v":""},""]
[null,null,null,null,null,"",null,"",null,null,"","",{"$f":"IF(OR(A1111=\"\",B1111=\"\"),\"\",VLOOKUP(A1111&\"_\"&B1111,Lookups!$E:$F,2,FALSE))","v":""},""]
[null,null,null,null,null,"",null,"",null,null,"","",{"$f":"IF(OR(A1112=\"\",B1112=\"\"),\"\",VLOOKUP(A1112&\"_\"&B1112,Lookups!$E:$F,2,FALSE))","v":""},""]
[null,null,null,null,null,"",null,"",null,null,"","",{"$f":"IF(OR(A1113=\"\",B1113=\"\"),\"\",VLOOKUP(A1113&\"_\"&B1113,Lookups!$E:$F,2,FALSE))","v":""},""]
[null,null,null,null,null,"",null,"",null,null,"","",{"$f":"IF(OR(A1114=\"\",B1114=\"\"),\"\",VLOOKUP(A1114&\"_\"&B1114,Lookups!$E:$F,2,FALSE))","v":""},""]
[null,null,null,null,null,"",null,"",null,null,"","",{"$f":"IF(OR(A1115=\"\",B1115=\"\"),\"\",VLOOKUP(A1115&\"_\"&B1115,Lookups!$E:$F,2,FALSE))","v":""},""]
[null,null,null,null,null,"",null,"",null,null,"","",{"$f":"IF(OR(A1116=\"\",B1116=\"\"),\"\",VLOOKUP(A1116&\"_\"&B1116,Lookups!$E:$F,2,FALSE))","v":""},""]
[null,null,null,null,null,"",null,"",null,null,"","",{"$f":"IF(OR(A1117=\"\",B1117=\"\"),\"\",VLOOKUP(A1117&\"_\"&B1117,Lookups!$E:$F,2,FALSE))","v":""},""]
[null,null,null,null,null,"",null,"",null,null,"","",{"$f":"IF(OR(A1118=\"\",B1118=\"\"),\"\",VLOOKUP(A1118&\"_\"&B1118,Lookups!$E:$F,2,FALSE))","v":""},""]
[null,null,null,null,null,"",null,"",null,null,"","",{"$f":"IF(OR(A1119=\"\",B1119=\"\"),\"\",VLOOKUP(A1119&\"_\"&B1119,Lookups!$E:$F,2,FALSE))","v":""},""]
[null,null,null,null,null,"",null,"",null,null,"","",{"$f":"IF(OR(A1120=\"\",B1120=\"\"),\"\",VLOOKUP(A1120&\"_\"&B1120,Lookups!$E:$F,2,FALSE))","v":""},""]
[null,null,null,null,null,"",null,"",null,null,"","",{"$f":"IF(OR(A1121=\"\",B1121=\"\"),\"\",VLOOKUP(A1121&\"_\"&B1121,Lookups!$E:$F,2,FALSE))","v":""},""]
[null,null,null,null,null,"",null,"",null,null,"","",{"$f":"IF(OR(A1122=\"\",B1122=\"\"),\"\",VLOOKUP(A1122&\"_\"&B1122,Lookups!$E:$F,2,FALSE))","v":""},""]
[null,null,null,null,null,"",null,"",null,null,"","",{"$f":"IF(OR(A1123=\"\",B1123=\"\"),\"\",VLOOKUP(A1123&\"_\"&B1123,Lookups!$E:$F,2,FALSE))","v":""},""]
[null,null,null,null,null,"",null,"",null,null,"","",{"$f":"IF(OR(A1124=\"\",B1124=\"\"),\"\",VLOOKUP(A1124&\"_\"&B1124,Lookups!$E:$F,2,FALSE))","v":""},""]
[null,null,null,null,null,"",null,"",null,null,"","",{"$f":"IF(OR(A1125=\"\",B1125=\"\"),\"\",VLOOKUP(A1125&\"_\"&B1125,Lookups!$E:$F,2,FALSE))","v":""},""]
[null,null,null,null,null,"",null,"",null,null,"","",{"$f":"IF(OR(A1126=\"\",B1126=\"\"),\"\",VLOOKUP(A1126&\"_\"&B1126,Lookups!$E:$F,2,FALSE))","v":""},""]
[null,null,null,null,null,"",null,"",null,null,"","",{"$f":"IF(OR(A1127=\"\",B1127=\"\"),\"\",VLOOKUP(A1127&\"_\"&B1127,Lookups!$E:$F,2,FALSE))","v":""},""]
[null,null,null,null,null,"",null,"",null,null,"","",{"$f":"IF(OR(A1128=\"\",B1128=\"\"),\"\",VLOOKUP(A1128&\"_\"&B1128,Lookups!$E:$F,2,FALSE))","v":""},""]
[null,null,null,null,null,"",null,"",null,null,"","",{"$f":"IF(OR(A1129=\"\",B1129=\"\"),\"\",VLOOKUP(A1129&\"_\"&B1129,Lookups!$E:$F,2,FALSE))","v":""},""]
[null,null,null,null,null,"",null,"",null,null,"","",{"$f":"IF(OR(A1130=\"\",B1130=\"\"),\"\",VLOOKUP(A1130&\"_\"&B1130,Lookups!$E:$F,2,FALSE))","v":""},""]
[null,null,null,null,null,"",null,"",null,null,"","",{"$f":"IF(OR(A1131=\"\",B1131=\"\"),\"\",VLOOKUP(A1131&\"_\"&B1131,Lookups!$E:$F,2,FALSE))","v":""},""]
[null,null,null,null,null,"",null,"",null,null,"","",{"$f":"IF(OR(A1132=\"\",B1132=\"\"),\"\",VLOOKUP(A1132&\"_\"&B1132,Lookups!$E:$F,2,FALSE))","v":""},""]
[null,null,null,null,null,"",null,"",null,null,"","",{"$f":"IF(OR(A1133=\"\",B1133=\"\"),\"\",VLOOKUP(A1133&\"_\"&B1133,Lookups!$E:$F,2,FALSE))","v":""},""]
[null,null,null,null,null,"",null,"",null,null,"","",{"$f":"IF(OR(A1134=\"\",B1134=\"\"),\"\",VLOOKUP(A1134&\"_\"&B1134,Lookups!$E:$F,2,FALSE))","v":""},""]
[null,null,null,null,null,"",null,"",null,null,"","",{"$f":"IF(OR(A1135=\"\",B1135=\"\"),\"\",VLOOKUP(A1135&\"_\"&B1135,Lookups!$E:$F,2,FALSE))","v":""},""]
[null,null,null,null,null,"",null,"",null,null,"","",{"$f":"IF(OR(A1136=\"\",B1136=\"\"),\"\",VLOOKUP(A1136&\"_\"&B1136,Lookups!$E:$F,2,FALSE))","v":""},""]
[null,null,null,null,null,"",null,"",null,null,"","",{"$f":"IF(OR(A1137=\"\",B1137=\"\"),\"\",VLOOKUP(A1137&\"_\"&B1137,Lookups!$E:$F,2,FALSE))","v":""},""]
[null,null,null,null,null,"",null,"",null,null,"","",{"$f":"IF(OR(A1138=\"\",B1138=\"\"),\"\",VLOOKUP(A1138&\"_\"&B1138,Lookups!$E:$F,2,FALSE))","v":""},""]
[null,null,null,null,null,"",null,"",null,null,"","",{"$f":"IF(OR(A1139=\"\",B1139=\"\"),\"\",VLOOKUP(A1139&\"_\"&B1139,Lookups!$E:$F,2,FALSE))","v":""},""]
[null,null,null,null,null,"",null,"",null,null,"","",{"$f":"IF(OR(A1140=\"\",B1140=\"\"),\"\",VLOOKUP(A1140&\"_\"&B1140,Lookups!$E:$F,2,FALSE))","v":""},""]
[null,null,null,null,null,"",null,"",null,null,"","",{"$f":"IF(OR(A1141=\"\",B1141=\"\"),\"\",VLOOKUP(A1141&\"_\"&B1141,Lookups!$E:$F,2,FALSE))","v":""},""]
[null,null,null,null,null,"",null,"",null,null,"","",{"$f":"IF(OR(A1142=\"\",B1142=\"\"),\"\",VLOOKUP(A1142&\"_\"&B1142,Lookups!$E:$F,2,FALSE))","v":""},""]
[null,null,null,null,null,"",null,"",null,null,"","",{"$f":"IF(OR(A1143=\"\",B1143=\"\"),\"\",VLOOKUP(A1143&\"_\"&B1143,Lookups!$E:$F,2,FALSE))","v":""},""]
[null,null,null,null,null,"",null,"",null,null,"","",{"$f":"IF(OR(A1144=\"\",B1144=\"\"),\"\",VLOOKUP(A1144&\"_\"&B1144,Lookups!$E:$F,2,FALSE))","v":""},""]
[null,null,null,null,null,"",null,"",null,null,"","",{"$f":"IF(OR(A1145=\"\",B1145=\"\"),\"\",VLOOKUP(A1145&\"_\"&B1145,Lookups!$E:$F,2,FALSE))","v":""},""]
[null,null,null,null,null,"",null,"",null,null,"","",{"$f":"IF(OR(A1146=\"\",B1146=\"\"),\"\",VLOOKUP(A1146&\"_\"&B1146,Lookups!$E:$F,2,FALSE))","v":""},""]
[null,null,null,null,null,"",null,"",null,null,"","",{"$f":"IF(OR(A1147=\"\",B1147=\"\"),\"\",VLOOKUP(A1147&\"_\"&B1147,Lookups!$E:$F,2,FALSE))","v":""},""]
[null,null,null,null,null,"",null,"",null,null,"","",{"$f":"IF(OR(A1148=\"\",B1148=\"\"),\"\",VLOOKUP(A1148&\"_\"&B1148,Lookups!$E:$F,2,FALSE))","v":""},""]
[null,null,null,null,null,"",null,"",null,null,"","",{"$f":"IF(OR(A1149=\"\",B1149=\"\"),\"\",VLOOKUP(A1149&\"_\"&B1149,Lookups!$E:$F,2,FALSE))","v":""},""]
[null,null,null,null,null,"",null,"",null,null,"","",{"$f":"IF(OR(A1150=\"\",B1150=\"\"),\"\",VLOOKUP(A1150&\"_\"&B1150,Lookups!$E:$F,2,FALSE))","v":""},""]
[null,null,null,null,null,"",null,"",null,null,"","",{"$f":"IF(OR(A1151=\"\",B1151=\"\"),\"\",VLOOKUP(A1151&\"_\"&B1151,Lookups!$E:$F,2,FALSE))","v":""},""]
[null,null,null,null,null,"",null,"",null,null,"","",{"$f":"IF(OR(A1152=\"\",B1152=\"\"),\"\",VLOOKUP(A1152&\"_\"&B1152,Lookups!$E:$F,2,FALSE))","v":""},""]
[null,null,null,null,null,"",null,"",null,null,"","",{"$f":"IF(OR(A1153=\"\",B1153=\"\"),\"\",VLOOKUP(A1153&\"_\"&B1153,Lookups!$E:$F,2,FALSE))","v":""},""]
[null,null,null,null,null,"",null,"",null,null,"","",{"$f":"IF(OR(A1154=\"\",B1154=\"\"),\"\",VLOOKUP(A1154&\"_\"&B1154,Lookups!$E:$F,2,FALSE))","v":""},""]
[null,null,null,null,null,"",null,"",null,null,"","",{"$f":"IF(OR(A1155=\"\",B1155=\"\"),\"\",VLOOKUP(A1155&\"_\"&B1155,Lookups!$E:$F,2,FALSE))","v":""},""]
[null,null,null,null,null,{"$f":"IF(OR(D1156=\"\",E1156=\"\"),\"\",ROUND((E1156-D1156)*24,2))","v":""},null,{"$f":"IF(F1156=\"\",\"\",IF(G1156<>\"\",F1156*G1156,F1156))","v":""},null,null,{"$f":"IF(AND(H1156<>\"\",I1156=\"Paid\"),H1156,\"\")","v":""},{"$f":"IF(H1156=\"\",\"\",IF(K1156=\"\",H1156,H1156-K1156))","v":""},{"$f":"IF(OR(A1156=\"\",B1156=\"\"),\"\",VLOOKUP(A1156&\"_\"&B1156,Lookups!$E:$F,2,FALSE))","v":""},{"$f":"IF(AND(K1156=\"\",L1156=\"\"),\"\",IF(K1156=\"\",L1156*M1156,SUM(K1156,L1156)*M1156))","v":""}]
[null,null,null,null,null,"",null,"",null,null,"","",{"$f":"IF(OR(A1157=\"\",B1157=\"\"),\"\",VLOOKUP(A1157&\"_\"&B1157,Lookups!$E:$F,2,FALSE))","v":""},""]
[null,null,null,null,null,"",null,"",null,null,"","",{"$f":"IF(OR(A1158=\"\",B1158=\"\"),\"\",VLOOKUP(A1158&\"_\"&B1158,Lookups!$E:$F,2,FALSE))","v":""},""]
[null,null,null,null,null,"",null,"",null,null,"","",{"$f":"IF(OR(A1159=\"\",B1159=\"\"),\"\",VLOOKUP(A1159&\"_\"&B1159,Lookups!$E:$F,2,FALSE))","v":""},""]
[null,null,null,null,null,"",null,"",null,null,"","",{"$f":"IF(OR(A1160=\"\",B1160=\"\"),\"\",VLOOKUP(A1160&\"_\"&B1160,Lookups!$E:$F,2,FALSE))","v":""},""]
[null,null,null,null,null,"",null,"",null,null,"","",{"$f":"IF(OR(A1161=\"\",B1161=\"\"),\"\",VLOOKUP(A1161&\"_\"&B1161,Lookups!$E:$F,2,FALSE))","v":""},""]
[null,null,null,null,null,"",null,"",null,null,"","",{"$f":"IF(OR(A1162=\"\",B1162=\"\"),\"\",VLOOKUP(A1162&\"_\"&B1162,Lookups!$E:$F,2,FALSE))","v":""},""]
[null,null,null,null,null,"",null,"",null,null,"","",{"$f":"IF(OR(A1163=\"\",B1163=\"\"),\"\",VLOOKUP(A1163&\"_\"&B1163,Lookups!$E:$F,2,FALSE))","v":""},""]
[null,null,null,null,null,"",null,"",null,null,"","",{"$f":"IF(OR(A1164=\"\",B1164=\"\"),\"\",VLOOKUP(A1164&\"_\"&B1164,Lookups!$E:$F,2,FALSE))","v":""},""]
[null,null,null,null,null,"",null,"",null,null,"","",{"$f":"IF(OR(A1165=\"\",B1165=\"\"),\"\",VLOOKUP(A1165&\"_\"&B1165,Lookups!$E:$F,2,FALSE))","v":""},""]
[null,null,null,null,null,"",null,"",null,null,"","",{"$f":"IF(OR(A1166=\"\",B1166=\"\"),\"\",VLOOKUP(A1166&\"_\"&B1166,Lookups!$E:$F,2,FALSE))","v":""},""]
[null,null,null,null,null,"",null,"",null,null,"","",{"$f":"IF(OR(A1167=\"\",B1167=\"\"),\"\",VLOOKUP(A1167&\"_\"&B1167,Lookups!$E:$F,2,FALSE))","v":""},""]
[null,null,null,null,null,"",null,"",null,null,"","",{"$f":"IF(OR(A1168=\"\",B1168=\"\"),\"\",VLOOKUP(A1168&\"_\"&B1168,Lookups!$E:$F,2,FALSE))","v":""},""]
[null,null,null,null,null,"",null,"",null,null,"","",{"$f":"IF(OR(A1169=\"\",B1169=\"\"),\"\",VLOOKUP(A1169&\"_\"&B1169,Lookups!$E:$F,2,FALSE))","v":""},""]
[null,null,null,null,null,"",null,"",null,null,"","",{"$f":"IF(OR(A1170=\"\",B1170=\"\"),\"\",VLOOKUP(A1170&\"_\"&B1170,Lookups!$E:$F,2,FALSE))","v":""},""]
[null,null,null,null,null,"",null,"",null,null,"","",{"$f":"IF(OR(A1171=\"\",B1171=\"\"),\"\",VLOOKUP(A1171&\"_\"&B1171,Lookups!$E:$F,2,FALSE))","v":""},""]
[null,null,null,null,null,"",null,"",null,null,"","",{"$f":"IF(OR(A1172=\"\",B1172=\"\"),\"\",VLOOKUP(A1172&\"_\"&B1172,Lookups!$E:$F,2,FALSE))","v":""},""]
[null,null,null,null,null,"",null,"",null,null,"","",{"$f":"IF(OR(A1173=\"\",B1173=\"\"),\"\",VLOOKUP(A1173&\"_\"&B1173,Lookups!$E:$F,2,FALSE))","v":""},""]
[null,null,null,null,null,"",null,"",null,null,"","",{"$f":"IF(OR(A1174=\"\",B1174=\"\"),\"\",VLOOKUP(A1174&\"_\"&B1174,Lookups!$E:$F,2,FALSE))","v":""},""]
[null,null,null,null,null,"",null,"",null,null,"","",{"$f":"IF(OR(A1175=\"\",B1175=\"\"),\"\",VLOOKUP(A1175&\"_\"&B1175,Lookups!$E:$F,2,FALSE))","v":""},""]
[null,null,null,null,null,"",null,"",null,null,"","",{"$f":"IF(OR(A1176=\"\",B1176=\"\"),\"\",VLOOKUP(A1176&\"_\"&B1176,Lookups!$E:$F,2,FALSE))","v":""},""]
[null,null,null,null,null,"",null,"",null,null,"","",{"$f":"IF(OR(A1177=\"\",B1177=\"\"),\"\",VLOOKUP(A1177&\"_\"&B1177,Lookups!$E:$F,2,FALSE))","v":""},""]
[null,null,null,null,null,"",null,"",null,null,"","",{"$f":"IF(OR(A1178=\"\",B1178=\"\"),\"\",VLOOKUP(A1178&\"_\"&B1178,Lookups!$E:$F,2,FALSE))","v":""},""]
[null,null,null,null,null,"",null,"",null,null,"","",{"$f":"IF(OR(A1179=\"\",B1179=\"\"),\"\",VLOOKUP(A1179&\"_\"&B1179,Lookups!$E:$F,2,FALSE))","v":""},""]
[null,null,null,null,null,"",null,"",null,null,"","",{"$f":"IF(OR(A1180=\"\",B1180=\"\"),\"\",VLOOKUP(A1180&\"_\"&B1180,Lookups!$E:$F,2,FALSE))","v":""},""]
[null,null,null,null,null,"",null,"",null,null,"","",{"$f":"IF(OR(A1181=\"\",B1181=\"\"),\"\",VLOOKUP(A1181&\"_\"&B1181,Lookups!$E:$F,2,FALSE))","v":""},""]
[null,null,null,null,null,"",null,"",null,null,"","",{"$f":"IF(OR(A1182=\"\",B1182=\"\"),\"\",VLOOKUP(A1182&\"_\"&B1182,Lookups!$E:$F,2,FALSE))","v":""},""]
[null,null,null,null,null,"",null,"",null,null,"","",{"$f":"IF(OR(A1183=\"\",B1183=\"\"),\"\",VLOOKUP(A1183&\"_\"&B1183,Lookups!$E:$F,2,FALSE))","v":""},""]
[null,null,null,null,null,"",null,"",null,null,"","",{"$f":"IF(OR(A1184=\"\",B1184=\"\"),\"\",VLOOKUP(A1184&\"_\"&B1184,Lookups!$E:$F,2,FALSE))","v":""},""]
[null,null,null,null,null,"",null,"",null,null,"","",{"$f":"IF(OR(A1185=\"\",B1185=\"\"),\"\",VLOOKUP(A1185&\"_\"&B1185,Lookups!$E:$F,2,FALSE))","v":""},""]
[null,null,null,null,null,"",null,"",null,null,"","",{"$f":"IF(OR(A1186=\"\",B1186=\"\"),\"\",VLOOKUP(A1186&\"_\"&B1186,Lookups!$E:$F,2,FALSE))","v":""},""]
[null,null,null,null,null,"",null,"",null,null,"","",{"$f":"IF(OR(A1187=\"\",B1187=\"\"),\"\",VLOOKUP(A1187&\"_\"&B1187,Lookups!$E:$F,2,FALSE))","v":""},""]
[null,null,null,null,null,"",null,"",null,null,"","",{"$f":"IF(OR(A1188=\"\",B1188=\"\"),\"\",VLOOKUP(A1188&\"_\"&B1188,Lookups!$E:$F,2,FALSE))","v":""},""]
[null,null,null,null,null,"",null,"",null,null,"","",{"$f":"IF(OR(A1189=\"\",B1189=\"\"),\"\",VLOOKUP(A1189&\"_\"&B1189,Lookups!$E:$F,2,FALSE))","v":""},""]
[null,null,null,null,null,"",null,"",null,null,"","",{"$f":"IF(OR(A1190=\"\",B1190=\"\"),\"\",VLOOKUP(A1190&\"_\"&B1190,Lookups!$E:$F,2,FALSE))","v":""},""]
[null,null,null,null,null,"",null,"",null,null,"","",{"$f":"IF(OR(A1191=\"\",B1191=\"\"),\"\",VLOOKUP(A1191&\"_\"&B1191,Lookups!$E:$F,2,FALSE))","v":""},""]
[null,null,null,null,null,"",null,"",null,null,"","",{"$f":"IF(OR(A1192=\"\",B1192=\"\"),\"\",VLOOKUP(A1192&\"_\"&B1192,Lookups!$E:$F,2,FALSE))","v":""},""]
[null,null,null,null,null,"",null,"",null,null,"","",{"$f":"IF(OR(A1193=\"\",B1193=\"\"),\"\",VLOOKUP(A1193&\"_\"&B1193,Lookups!$E:$F,2,FALSE))","v":""},""]
[null,null,null,null,null,"",null,"",null,null,"","",{"$f":"IF(OR(A1194=\"\",B1194=\"\"),\"\",VLOOKUP(A1194&\"_\"&B1194,Lookups!$E:$F,2,FALSE))","v":""},""]
[null,null,null,null,null,"",null,"",null,null,"","",{"$f":"IF(OR(A1195=\"\",B1195=\"\"),\"\",VLOOKUP(A1195&\"_\"&B1195,Lookups!$E:$F,2,FALSE))","v":""},""]
[null,null,null,null,null,"",null,"",null,null,"","",{"$f":"IF(OR(A1196=\"\",B1196=\"\"),\"\",VLOOKUP(A1196&\"_\"&B1196,Lookups!$E:$F,2,FALSE))","v":""},""]
[null,null,null,null,null,"",null,"",null,null,"","",{"$f":"IF(OR(A1197=\"\",B1197=\"\"),\"\",VLOOKUP(A1197&\"_\"&B1197,Lookups!$E:$F,2,FALSE))","v":""},""]
[null,null,null,null,null,"",null,"",null,null,"","",{"$f":"IF(OR(A1198=\"\",B1198=\"\"),\"\",VLOOKUP(A1198&\"_\"&B1198,Lookups!$E:$F,2,FALSE))","v":""},""]
[null,null,null,null,null,"",null,"",null,null,"","",{"$f":"IF(OR(A1199=\"\",B1199=\"\"),\"\",VLOOKUP(A1199&\"_\"&B1199,Lookups!$E:$F,2,FALSE))","v":""},""]
[null,null,null,null,null,"",null,"",null,null,"","",{"$f":"IF(OR(A1200=\"\",B1200=\"\"),\"\",VLOOKUP(A1200&\"_\"&B1200,Lookups!$E:$F,2,FALSE))","v":""},""]
[null,null,null,null,null,"",null,"",null,null,"","",{"$f":"IF(OR(A1201=\"\",B1201=\"\"),\"\",VLOOKUP(A1201&\"_\"&B1201,Lookups!$E:$F,2,FALSE))","v":""},""]
[null,null,null,null,null,"",null,"",null,null,"","",{"$f":"IF(OR(A1202=\"\",B1202=\"\"),\"\",VLOOKUP(A1202&\"_\"&B1202,Lookups!$E:$F,2,FALSE))","v":""},""]
[null,null,null,null,null,"",null,"",null,null,"","",{"$f":"IF(OR(A1203=\"\",B1203=\"\"),\"\",VLOOKUP(A1203&\"_\"&B1203,Lookups!$E:$F,2,FALSE))","v":""},""]
[null,null,null,null,null,"",null,"",null,null,"","",{"$f":"IF(OR(A1204=\"\",B1204=\"\"),\"\",VLOOKUP(A1204&\"_\"&B1204,Lookups!$E:$F,2,FALSE))","v":""},""]
[null,null,null,null,null,"",null,"",null,null,"","",{"$f":"IF(OR(A1205=\"\",B1205=\"\"),\"\",VLOOKUP(A1205&\"_\"&B1205,Lookups!$E:$F,2,FALSE))","v":""},""]
[null,null,null,null,null,"",null,"",null,null,"","",{"$f":"IF(OR(A1206=\"\",B1206=\"\"),\"\",VLOOKUP(A1206&\"_\"&B1206,Lookups!$E:$F,2,FALSE))","v":""},""]
[null,null,null,null,null,"",null,"",null,null,"","",{"$f":"IF(OR(A1207=\"\",B1207=\"\"),\"\",VLOOKUP(A1207&\"_\"&B1207,Lookups!$E:$F,2,FALSE))","v":""},""]
[null,null,null,null,null,"",null,"",null,null,"","",{"$f":"IF(OR(A1208=\"\",B1208=\"\"),\"\",VLOOKUP(A1208&\"_\"&B1208,Lookups!$E:$F,2,FALSE))","v":""},""]
[null,null,null,null,null,"",null,"",null,null,"","",{"$f":"IF(OR(A1209=\"\",B1209=\"\"),\"\",VLOOKUP(A1209&\"_\"&B1209,Lookups!$E:$F,2,FALSE))","v":""},""]
[null,null,null,null,null,"",null,"",null,null,"","",{"$f":"IF(OR(A1210=\"\",B1210=\"\"),\"\",VLOOKUP(A1210&\"_\"&B1210,Lookups!$E:$F,2,FALSE))","v":""},""]
[null,null,null,null,null,"",null,"",null,null,"","",{"$f":"IF(OR(A1211=\"\",B1211=\"\"),\"\",VLOOKUP(A1211&\"_\"&B1211,Lookups!$E:$F,2,FALSE))","v":""},""]
[null,null,null,null,null,"",null,"",null,null,"","",{"$f":"IF(OR(A1212=\"\",B1212=\"\"),\"\",VLOOKUP(A1212&\"_\"&B1212,Lookups!$E:$F,2,FALSE))","v":""},""]
[null,null,null,null,null,"",null,"",null,null,"","",{"$f":"IF(OR(A1213=\"\",B1213=\"\"),\"\",VLOOKUP(A1213&\"_\"&B1213,Lookups!$E:$F,2,FALSE))","v":""},""]
[null,null,null,null,null,"",null,"",null,null,"","",{"$f":"IF(OR(A1214=\"\",B1214=\"\"),\"\",VLOOKUP(A1214&\"_\"&B1214,Lookups!$E:$F,2,FALSE))","v":""},""]
[null,null,null,null,null,"",null,"",null,null,"","",{"$f":"IF(OR(A1215=\"\",B1215=\"\"),\"\",VLOOKUP(A1215&\"_\"&B1215,Lookups!$E:$F,2,FALSE))","v":""},""]
[null,null,null,null,null,"",null,"",null,null,"","",{"$f":"IF(OR(A1216=\"\",B1216=\"\"),\"\",VLOOKUP(A1216&\"_\"&B1216,Lookups!$E:$F,2,FALSE))","v":""},""]
[null,null,null,null,null,"",null,"",null,null,"","",{"$f":"IF(OR(A1217=\"\",B1217=\"\"),\"\",VLOOKUP(A1217&\"_\"&B1217,Lookups!$E:$F,2,FALSE))","v":""},""]
[null,null,null,null,null,"",null,"",null,null,"","",{"$f":"IF(OR(A1218=\"\",B1218=\"\"),\"\",VLOOKUP(A1218&\"_\"&B1218,Lookups!$E:$F,2,FALSE))","v":""},""]
[null,null,null,null,null,"",null,"",null,null,"","",{"$f":"IF(OR(A1219=\"\",B1219=\"\"),\"\",VLOOKUP(A1219&\"_\"&B1219,Lookups!$E:$F,2,FALSE))","v":""},""]
[null,null,null,null,null,{"$f":"IF(OR(D1220=\"\",E1220=\"\"),\"\",ROUND((E1220-D1220)*24,2))","v":""},null,{"$f":"IF(F1220=\"\",\"\",IF(G1220<>\"\",F1220*G1220,F1220))","v":""},null,null,{"$f":"IF(AND(H1220<>\"\",I1220=\"Paid\"),H1220,\"\")","v":""},{"$f":"IF(H1220=\"\",\"\",IF(K1220=\"\",H1220,H1220-K1220))","v":""},{"$f":"IF(OR(A1220=\"\",B1220=\"\"),\"\",VLOOKUP(A1220&\"_\"&B1220,Lookups!$E:$F,2,FALSE))","v":""},{"$f":"IF(AND(K1220=\"\",L1220=\"\"),\"\",IF(K1220=\"\",L1220*M1220,SUM(K1220,L1220)*M1220))","v":""}]
[null,null,null,null,null,"",null,"",null,null,"","",{"$f":"IF(OR(A1221=\"\",B1221=\"\"),\"\",VLOOKUP(A1221&\"_\"&B1221,Lookups!$E:$F,2,FALSE))","v":""},""]
[null,null,null,null,null,"",null,"",null,null,"","",{"$f":"IF(OR(A1222=\"\",B1222=\"\"),\"\",VLOOKUP(A1222&\"_\"&B1222,Lookups!$E:$F,2,FALSE))","v":""},""]
[null,null,null,null,null,"",null,"",null,null,"","",{"$f":"IF(OR(A1223=\"\",B1223=\"\"),\"\",VLOOKUP(A1223&\"_\"&B1223,Lookups!$E:$F,2,FALSE))","v":""},""]
[null,null,null,null,null,"",null,"",null,null,"","",{"$f":"IF(OR(A1224=\"\",B1224=\"\"),\"\",VLOOKUP(A1224&\"_\"&B1224,Lookups!$E:$F,2,FALSE))","v":""},""]
[null,null,null,null,null,"",null,"",null,null,"","",{"$f":"IF(OR(A1225=\"\",B1225=\"\"),\"\",VLOOKUP(A1225&\"_\"&B1225,Lookups!$E:$F,2,FALSE))","v":""},""]
[null,null,null,null,null,"",null,"",null,null,"","",{"$f":"IF(OR(A1226=\"\",B1226=\"\"),\"\",VLOOKUP(A1226&\"_\"&B1226,Lookups!$E:$F,2,FALSE))","v":""},""]
[null,null,null,null,null,"",null,"",null,null,"","",{"$f":"IF(OR(A1227=\"\",B1227=\"\"),\"\",VLOOKUP(A1227&\"_\"&B1227,Lookups!$E:$F,2,FALSE))","v":""},""]
[null,null,null,null,null,"",null,"",null,null,"","",{"$f":"IF(OR(A1228=\"\",B1228=\"\"),\"\",VLOOKUP(A1228&\"_\"&B1228,Lookups!$E:$F,2,FALSE))","v":""},""]
[null,null,null,null,null,"",null,"",null,null,"","",{"$f":"IF(OR(A1229=\"\",B1229=\"\"),\"\",VLOOKUP(A1229&\"_\"&B1229,Lookups!$E:$F,2,FALSE))","v":""},""]
[null,null,null,null,null,"",null,"",null,null,"","",{"$f":"IF(OR(A1230=\"\",B1230=\"\"),\"\",VLOOKUP(A1230&\"_\"&B1230,Lookups!$E:$F,2,FALSE))","v":""},""]
[null,null,null,null,null,"",null,"",null,null,"","",{"$f":"IF(OR(A1231=\"\",B1231=\"\"),\"\",VLOOKUP(A1231&\"_\"&B1231,Lookups!$E:$F,2,FALSE))","v":""},""]
[null,null,null,null,null,"",null,"",null,null,"","",{"$f":"IF(OR(A1232=\"\",B1232=\"\"),\"\",VLOOKUP(A1232&\"_\"&B1232,Lookups!$E:$F,2,FALSE))","v":""},""]
[null,null,null,null,null,"",null,"",null,null,"","",{"$f":"IF(OR(A1233=\"\",B1233=\"\"),\"\",VLOOKUP(A1233&\"_\"&B1233,Lookups!$E:$F,2,FALSE))","v":""},""]
[null,null,null,null,null,"",null,"",null,null,"","",{"$f":"IF(OR(A1234=\"\",B1234=\"\"),\"\",VLOOKUP(A1234&\"_\"&B1234,Lookups!$E:$F,2,FALSE))","v":""},""]
[null,null,null,null,null,"",null,"",null,null,"","",{"$f":"IF(OR(A1235=\"\",B1235=\"\"),\"\",VLOOKUP(A1235&\"_\"&B1235,Lookups!$E:$F,2,FALSE))","v":""},""]
[null,null,null,null,null,"",null,"",null,null,"","",{"$f":"IF(OR(A1236=\"\",B1236=\"\"),\"\",VLOOKUP(A1236&\"_\"&B1236,Lookups!$E:$F,2,FALSE))","v":""},""]
[null,null,null,null,null,"",null,"",null,null,"","",{"$f":"IF(OR(A1237=\"\",B1237=\"\"),\"\",VLOOKUP(A1237&\"_\"&B1237,Lookups!$E:$F,2,FALSE))","v":""},""]
[null,null,null,null,null,"",null,"",null,null,"","",{"$f":"IF(OR(A1238=\"\",B1238=\"\"),\"\",VLOOKUP(A1238&\"_\"&B1238,Lookups!$E:$F,2,FALSE))","v":""},""]
[null,null,null,null,null,"",null,"",null,null,"","",{"$f":"IF(OR(A1239=\"\",B1239=\"\"),\"\",VLOOKUP(A1239&\"_\"&B1239,Lookups!$E:$F,2,FALSE))","v":""},""]
[null,null,null,null,null,"",null,"",null,null,"","",{"$f":"IF(OR(A1240=\"\",B1240=\"\"),\"\",VLOOKUP(A1240&\"_\"&B1240,Lookups!$E:$F,2,FALSE))","v":""},""]
[null,null,null,null,null,"",null,"",null,null,"","",{"$f":"IF(OR(A1241=\"\",B1241=\"\"),\"\",VLOOKUP(A1241&\"_\"&B1241,Lookups!$E:$F,2,FALSE))","v":""},""]
[null,null,null,null,null,"",null,"",null,null,"","",{"$f":"IF(OR(A1242=\"\",B1242=\"\"),\"\",VLOOKUP(A1242&\"_\"&B1242,Lookups!$E:$F,2,FALSE))","v":""},""]
[null,null,null,null,null,"",null,"",null,null,"","",{"$f":"IF(OR(A1243=\"\",B1243=\"\"),\"\",VLOOKUP(A1243&\"_\"&B1243,Lookups!$E:$F,2,FALSE))","v":""},""]
[null,null,null,null,null,"",null,"",null,null,"","",{"$f":"IF(OR(A1244=\"\",B1244=\"\"),\"\",VLOOKUP(A1244&\"_\"&B1244,Lookups!$E:$F,2,FALSE))","v":""},""]
[null,null,null,null,null,"",null,"",null,null,"","",{"$f":"IF(OR(A1245=\"\",B1245=\"\"),\"\",VLOOKUP(A1245&\"_\"&B1245,Lookups!$E:$F,2,FALSE))","v":""},""]
[null,null,null,null,null,"",null,"",null,null,"","",{"$f":"IF(OR(A1246=\"\",B1246=\"\"),\"\",VLOOKUP(A1246&\"_\"&B1246,Lookups!$E:$F,2,FALSE))","v":""},""]
[null,null,null,null,null,"",null,"",null,null,"","",{"$f":"IF(OR(A1247=\"\",B1247=\"\"),\"\",VLOOKUP(A1247&\"_\"&B1247,Lookups!$E:$F,2,FALSE))","v":""},""]
[null,null,null,null,null,"",null,"",null,null,"","",{"$f":"IF(OR(A1248=\"\",B1248=\"\"),\"\",VLOOKUP(A1248&\"_\"&B1248,Lookups!$E:$F,2,FALSE))","v":""},""]
[null,null,null,null,null,"",null,"",null,null,"","",{"$f":"IF(OR(A1249=\"\",B1249=\"\"),\"\",VLOOKUP(A1249&\"_\"&B1249,Lookups!$E:$F,2,FALSE))","v":""},""]
[null,null,null,null,null,"",null,"",null,null,"","",{"$f":"IF(OR(A1250=\"\",B1250=\"\"),\"\",VLOOKUP(A1250&\"_\"&B1250,Lookups!$E:$F,2,FALSE))","v":""},""]
[null,null,null,null,null,"",null,"",null,null,"","",{"$f":"IF(OR(A1251=\"\",B1251=\"\"),\"\",VLOOKUP(A1251&\"_\"&B1251,Lookups!$E:$F,2,FALSE))","v":""},""]
[null,null,null,null,null,"",null,"",null,null,"","",{"$f":"IF(OR(A1252=\"\",B1252=\"\"),\"\",VLOOKUP(A1252&\"_\"&B1252,Lookups!$E:$F,2,FALSE))","v":""},""]
[null,null,null,null,null,"",null,"",null,null,"","",{"$f":"IF(OR(A1253=\"\",B1253=\"\"),\"\",VLOOKUP(A1253&\"_\"&B1253,Lookups!$E:$F,2,FALSE))","v":""},""]
[null,null,null,null,null,"",null,"",null,null,"","",{"$f":"IF(OR(A1254=\"\",B1254=\"\"),\"\",VLOOKUP(A1254&\"_\"&B1254,Lookups!$E:$F,2,FALSE))","v":""},""]
[null,null,null,null,null,"",null,"",null,null,"","",{"$f":"IF(OR(A1255=\"\",B1255=\"\"),\"\",VLOOKUP(A1255&\"_\"&B1255,Lookups!$E:$F,2,FALSE))","v":""},""]
[null,null,null,null,null,"",null,"",null,null,"","",{"$f":"IF(OR(A1256=\"\",B1256=\"\"),\"\",VLOOKUP(A1256&\"_\"&B1256,Lookups!$E:$F,2,FALSE))","v":""},""]
[null,null,null,null,null,"",null,"",null,null,"","",{"$f":"IF(OR(A1257=\"\",B1257=\"\"),\"\",VLOOKUP(A1257&\"_\"&B1257,Lookups!$E:$F,2,FALSE))","v":""},""]
[null,null,null,null,null,"",null,"",null,null,"","",{"$f":"IF(OR(A1258=\"\",B1258=\"\"),\"\",VLOOKUP(A1258&\"_\"&B1258,Lookups!$E:$F,2,FALSE))","v":""},""]
[null,null,null,null,null,"",null,"",null,null,"","",{"$f":"IF(OR(A1259=\"\",B1259=\"\"),\"\",VLOOKUP(A1259&\"_\"&B1259,Lookups!$E:$F,2,FALSE))","v":""},""]
[null,null,null,null,null,"",null,"",null,null,"","",{"$f":"IF(OR(A1260=\"\",B1260=\"\"),\"\",VLOOKUP(A1260&\"_\"&B1260,Lookups!$E:$F,2,FALSE))","v":""},""]
[null,null,null,null,null,"",null,"",null,null,"","",{"$f":"IF(OR(A1261=\"\",B1261=\"\"),\"\",VLOOKUP(A1261&\"_\"&B1261,Lookups!$E:$F,2,FALSE))","v":""},""]
[null,null,null,null,null,"",null,"",null,null,"","",{"$f":"IF(OR(A1262=\"\",B1262=\"\"),\"\",VLOOKUP(A1262&\"_\"&B1262,Lookups!$E:$F,2,FALSE))","v":""},""]
[null,null,null,null,null,"",null,"",null,null,"","",{"$f":"IF(OR(A1263=\"\",B1263=\"\"),\"\",VLOOKUP(A1263&\"_\"&B1263,Lookups!$E:$F,2,FALSE))","v":""},""]
[null,null,null,null,null,"",null,"",null,null,"","",{"$f":"IF(OR(A1264=\"\",B1264=\"\"),\"\",VLOOKUP(A1264&\"_\"&B1264,Lookups!$E:$F,2,FALSE))","v":""},""]
[null,null,null,null,null,"",null,"",null,null,"","",{"$f":"IF(OR(A1265=\"\",B1265=\"\"),\"\",VLOOKUP(A1265&\"_\"&B1265,Lookups!$E:$F,2,FALSE))","v":""},""]
[null,null,null,null,null,"",null,"",null,null,"","",{"$f":"IF(OR(A1266=\"\",B1266=\"\"),\"\",VLOOKUP(A1266&\"_\"&B1266,Lookups!$E:$F,2,FALSE))","v":""},""]
[null,null,null,null,null,"",null,"",null,null,"","",{"$f":"IF(OR(A1267=\"\",B1267=\"\"),\"\",VLOOKUP(A1267&\"_\"&B1267,Lookups!$E:$F,2,FALSE))","v":""},""]
[null,null,null,null,null,"",null,"",null,null,"","",{"$f":"IF(OR(A1268=\"\",B1268=\"\"),\"\",VLOOKUP(A1268&\"_\"&B1268,Lookups!$E:$F,2,FALSE))","v":""},""]
[null,null,null,null,null,"",null,"",null,null,"","",{"$f":"IF(OR(A1269=\"\",B1269=\"\"),\"\",VLOOKUP(A1269&\"_\"&B1269,Lookups!$E:$F,2,FALSE))","v":""},""]
[null,null,null,null,null,"",null,"",null,null,"","",{"$f":"IF(OR(A1270=\"\",B1270=\"\"),\"\",VLOOKUP(A1270&\"_\"&B1270,Lookups!$E:$F,2,FALSE))","v":""},""]
[null,null,null,null,null,"",null,"",null,null,"","",{"$f":"IF(OR(A1271=\"\",B1271=\"\"),\"\",VLOOKUP(A1271&\"_\"&B1271,Lookups!$E:$F,2,FALSE))","v":""},""]
[null,null,null,null,null,"",null,"",null,null,"","",{"$f":"IF(OR(A1272=\"\",B1272=\"\"),\"\",VLOOKUP(A1272&\"_\"&B1272,Lookups!$E:$F,2,FALSE))","v":""},""]
[null,null,null,null,null,"",null,"",null,null,"","",{"$f":"IF(OR(A1273=\"\",B1273=\"\"),\"\",VLOOKUP(A1273&\"_\"&B1273,Lookups!$E:$F,2,FALSE))","v":""},""]
[null,null,null,null,null,"",null,"",null,null,"","",{"$f":"IF(OR(A1274=\"\",B1274=\"\"),\"\",VLOOKUP(A1274&\"_\"&B1274,Lookups!$E:$F,2,FALSE))","v":""},""]
[null,null,null,null,null,"",null,"",null,null,"","",{"$f":"IF(OR(A1275=\"\",B1275=\"\"),\"\",VLOOKUP(A1275&\"_\"&B1275,Lookups!$E:$F,2,FALSE))","v":""},""]
[null,null,null,null,null,"",null,"",null,null,"","",{"$f":"IF(OR(A1276=\"\",B1276=\"\"),\"\",VLOOKUP(A1276&\"_\"&B1276,Lookups!$E:$F,2,FALSE))","v":""},""]
[null,null,null,null,null,"",null,"",null,null,"","",{"$f":"IF(OR(A1277=\"\",B1277=\"\"),\"\",VLOOKUP(A1277&\"_\"&B1277,Lookups!$E:$F,2,FALSE))","v":""},""]
[null,null,null,null,null,"",null,"",null,null,"","",{"$f":"IF(OR(A1278=\"\",B1278=\"\"),\"\",VLOOKUP(A1278&\"_\"&B1278,Lookups!$E:$F,2,FALSE))","v":""},""]
[null,null,null,null,null,"",null,"",null,null,"","",{"$f":"IF(OR(A1279=\"\",B1279=\"\"),\"\",VLOOKUP(A1279&\"_\"&B1279,Lookups!$E:$F,2,FALSE))","v":""},""]
[null,null,null,null,null,"",null,"",null,null,"","",{"$f":"IF(OR(A1280=\"\",B1280=\"\"),\"\",VLOOKUP(A1280&\"_\"&B1280,Lookups!$E:$F,2,FALSE))","v":""},""]
[null,null,null,null,null,"",null,"",null,null,"","",{"$f":"IF(OR(A1281=\"\",B1281=\"\"),\"\",VLOOKUP(A1281&\"_\"&B1281,Lookups!$E:$F,2,FALSE))","v":""},""]
[null,null,null,null,null,"",null,"",null,null,"","",{"$f":"IF(OR(A1282=\"\",B1282=\"\"),\"\",VLOOKUP(A1282&\"_\"&B1282,Lookups!$E:$F,2,FALSE))","v":""},""]
[null,null,null,null,null,"",null,"",null,null,"","",{"$f":"IF(OR(A1283=\"\",B1283=\"\"),\"\",VLOOKUP(A1283&\"_\"&B1283,Lookups!$E:$F,2,FALSE))","v":""},""]
[null,null,null,null,null,{"$f":"IF(OR(D1284=\"\",E1284=\"\"),\"\",ROUND((E1284-D1284)*24,2))","v":""},null,{"$f":"IF(F1284=\"\",\"\",IF(G1284<>\"\",F1284*G1284,F1284))","v":""},null,null,{"$f":"IF(AND(H1284<>\"\",I1284=\"Paid\"),H1284,\"\")","v":""},{"$f":"IF(H1284=\"\",\"\",IF(K1284=\"\",H1284,H1284-K1284))","v":""},{"$f":"IF(OR(A1284=\"\",B1284=\"\"),\"\",VLOOKUP(A1284&\"_\"&B1284,Lookups!$E:$F,2,FALSE))","v":""},{"$f":"IF(AND(K1284=\"\",L1284=\"\"),\"\",IF(K1284=\"\",L1284*M1284,SUM(K1284,L1284)*M1284))","v":""}]
[null,null,null,null,null,"",null,"",null,null,"","",{"$f":"IF(OR(A1285=\"\",B1285=\"\"),\"\",VLOOKUP(A1285&\"_\"&B1285,Lookups!$E:$F,2,FALSE))","v":""},""]
[null,null,null,null,null,"",null,"",null,null,"","",{"$f":"IF(OR(A1286=\"\",B1286=\"\"),\"\",VLOOKUP(A1286&\"_\"&B1286,Lookups!$E:$F,2,FALSE))","v":""},""]
[null,null,null,null,null,"",null,"",null,null,"","",{"$f":"IF(OR(A1287=\"\",B1287=\"\"),\"\",VLOOKUP(A1287&\"_\"&B1287,Lookups!$E:$F,2,FALSE))","v":""},""]
[null,null,null,null,null,"",null,"",null,null,"","",{"$f":"IF(OR(A1288=\"\",B1288=\"\"),\"\",VLOOKUP(A1288&\"_\"&B1288,Lookups!$E:$F,2,FALSE))","v":""},""]
[null,null,null,null,null,"",null,"",null,null,"","",{"$f":"IF(OR(A1289=\"\",B1289=\"\"),\"\",VLOOKUP(A1289&\"_\"&B1289,Lookups!$E:$F,2,FALSE))","v":""},""]
[null,null,null,null,null,"",null,"",null,null,"","",{"$f":"IF(OR(A1290=\"\",B1290=\"\"),\"\",VLOOKUP(A1290&\"_\"&B1290,Lookups!$E:$F,2,FALSE))","v":""},""]
[null,null,null,null,null,"",null,"",null,null,"","",{"$f":"IF(OR(A1291=\"\",B1291=\"\"),\"\",VLOOKUP(A1291&\"_\"&B1291,Lookups!$E:$F,2,FALSE))","v":""},""]
[null,null,null,null,null,"",null,"",null,null,"","",{"$f":"IF(OR(A1292=\"\",B1292=\"\"),\"\",VLOOKUP(A1292&\"_\"&B1292,Lookups!$E:$F,2,FALSE))","v":""},""]
[null,null,null,null,null,"",null,"",null,null,"","",{"$f":"IF(OR(A1293=\"\",B1293=\"\"),\"\",VLOOKUP(A1293&\"_\"&B1293,Lookups!$E:$F,2,FALSE))","v":""},""]
[null,null,null,null,null,"",null,"",null,null,"","",{"$f":"IF(OR(A1294=\"\",B1294=\"\"),\"\",VLOOKUP(A1294&\"_\"&B1294,Lookups!$E:$F,2,FALSE))","v":""},""]
[null,null,null,null,null,"",null,"",null,null,"","",{"$f":"IF(OR(A1295=\"\",B1295=\"\"),\"\",VLOOKUP(A1295&\"_\"&B1295,Lookups!$E:$F,2,FALSE))","v":""},""]
[null,null,null,null,null,"",null,"",null,null,"","",{"$f":"IF(OR(A1296=\"\",B1296=\"\"),\"\",VLOOKUP(A1296&\"_\"&B1296,Lookups!$E:$F,2,FALSE))","v":""},""]
[null,null,null,null,null,"",null,"",null,null,"","",{"$f":"IF(OR(A1297=\"\",B1297=\"\"),\"\",VLOOKUP(A1297&\"_\"&B1297,Lookups!$E:$F,2,FALSE))","v":""},""]
[null,null,null,null,null,"",null,"",null,null,"","",{"$f":"IF(OR(A1298=\"\",B1298=\"\"),\"\",VLOOKUP(A1298&\"_\"&B1298,Lookups!$E:$F,2,FALSE))","v":""},""]
[null,null,null,null,null,"",null,"",null,null,"","",{"$f":"IF(OR(A1299=\"\",B1299=\"\"),\"\",VLOOKUP(A1299&\"_\"&B1299,Lookups!$E:$F,2,FALSE))","v":""},""]
[null,null,null,null,null,"",null,"",null,null,"","",{"$f":"IF(OR(A1300=\"\",B1300=\"\"),\"\",VLOOKUP(A1300&\"_\"&B1300,Lookups!$E:$F,2,FALSE))","v":""},""]
[null,null,null,null,null,"",null,"",null,null,"","",{"$f":"IF(OR(A1301=\"\",B1301=\"\"),\"\",VLOOKUP(A1301&\"_\"&B1301,Lookups!$E:$F,2,FALSE))","v":""},""]
[null,null,null,null,null,"",null,"",null,null,"","",{"$f":"IF(OR(A1302=\"\",B1302=\"\"),\"\",VLOOKUP(A1302&\"_\"&B1302,Lookups!$E:$F,2,FALSE))","v":""},""]
[null,null,null,null,null,"",null,"",null,null,"","",{"$f":"IF(OR(A1303=\"\",B1303=\"\"),\"\",VLOOKUP(A1303&\"_\"&B1303,Lookups!$E:$F,2,FALSE))","v":""},""]
[null,null,null,null,null,"",null,"",null,null,"","",{"$f":"IF(OR(A1304=\"\",B1304=\"\"),\"\",VLOOKUP(A1304&\"_\"&B1304,Lookups!$E:$F,2,FALSE))","v":""},""]
[null,null,null,null,null,"",null,"",null,null,"","",{"$f":"IF(OR(A1305=\"\",B1305=\"\"),\"\",VLOOKUP(A1305&\"_\"&B1305,Lookups!$E:$F,2,FALSE))","v":""},""]
[null,null,null,null,null,"",null,"",null,null,"","",{"$f":"IF(OR(A1306=\"\",B1306=\"\"),\"\",VLOOKUP(A1306&\"_\"&B1306,Lookups!$E:$F,2,FALSE))","v":""},""]
[null,null,null,null,null,"",null,"",null,null,"","",{"$f":"IF(OR(A1307=\"\",B1307=\"\"),\"\",VLOOKUP(A1307&\"_\"&B1307,Lookups!$E:$F,2,FALSE))","v":""},""]
[null,null,null,null,null,"",null,"",null,null,"","",{"$f":"IF(OR(A1308=\"\",B1308=\"\"),\"\",VLOOKUP(A1308&\"_\"&B1308,Lookups!$E:$F,2,FALSE))","v":""},""]
[null,null,null,null,null,"",null,"",null,null,"","",{"$f":"IF(OR(A1309=\"\",B1309=\"\"),\"\",VLOOKUP(A1309&\"_\"&B1309,Lookups!$E:$F,2,FALSE))","v":""},""]
[null,null,null,null,null,"",null,"",null,null,"","",{"$f":"IF(OR(A1310=\"\",B1310=\"\"),\"\",VLOOKUP(A1310&\"_\"&B1310,Lookups!$E:$F,2,FALSE))","v":""},""]
[null,null,null,null,null,"",null,"",null,null,"","",{"$f":"IF(OR(A1311=\"\",B1311=\"\"),\"\",VLOOKUP(A1311&\"_\"&B1311,Lookups!$E:$F,2,FALSE))","v":""},""]
[null,null,null,null,null,"",null,"",null,null,"","",{"$f":"IF(OR(A1312=\"\",B1312=\"\"),\"\",VLOOKUP(A1312&\"_\"&B1312,Lookups!$E:$F,2,FALSE))","v":""},""]
[null,null,null,null,null,"",null,"",null,null,"","",{"$f":"IF(OR(A1313=\"\",B1313=\"\"),\"\",VLOOKUP(A1313&\"_\"&B1313,Lookups!$E:$F,2,FALSE))","v":""},""]
[null,null,null,null,null,"",null,"",null,null,"","",{"$f":"IF(OR(A1314=\"\",B1314=\"\"),\"\",VLOOKUP(A1314&\"_\"&B1314,Lookups!$E:$F,2,FALSE))","v":""},""]
[null,null,null,null,null,"",null,"",null,null,"","",{"$f":"IF(OR(A1315=\"\",B1315=\"\"),\"\",VLOOKUP(A1315&\"_\"&B1315,Lookups!$E:$F,2,FALSE))","v":""},""]
[null,null,null,null,null,"",null,"",null,null,"","",{"$f":"IF(OR(A1316=\"\",B1316=\"\"),\"\",VLOOKUP(A1316&\"_\"&B1316,Lookups!$E:$F,2,FALSE))","v":""},""]
[null,null,null,null,null,"",null,"",null,null,"","",{"$f":"IF(OR(A1317=\"\",B1317=\"\"),\"\",VLOOKUP(A1317&\"_\"&B1317,Lookups!$E:$F,2,FALSE))","v":""},""]
[null,null,null,null,null,"",null,"",null,null,"","",{"$f":"IF(OR(A1318=\"\",B1318=\"\"),\"\",VLOOKUP(A1318&\"_\"&B1318,Lookups!$E:$F,2,FALSE))","v":""},""]
[null,null,null,null,null,"",null,"",null,null,"","",{"$f":"IF(OR(A1319=\"\",B1319=\"\"),\"\",VLOOKUP(A1319&\"_\"&B1319,Lookups!$E:$F,2,FALSE))","v":""},""]
[null,null,null,null,null,"",null,"",null,null,"","",{"$f":"IF(OR(A1320=\"\",B1320=\"\"),\"\",VLOOKUP(A1320&\"_\"&B1320,Lookups!$E:$F,2,FALSE))","v":""},""]
[null,null,null,null,null,"",null,"",null,null,"","",{"$f":"IF(OR(A1321=\"\",B1321=\"\"),\"\",VLOOKUP(A1321&\"_\"&B1321,Lookups!$E:$F,2,FALSE))","v":""},""]
[null,null,null,null,null,"",null,"",null,null,"","",{"$f":"IF(OR(A1322=\"\",B1322=\"\"),\"\",VLOOKUP(A1322&\"_\"&B1322,Lookups!$E:$F,2,FALSE))","v":""},""]
[null,null,null,null,null,"",null,"",null,null,"","",{"$f":"IF(OR(A1323=\"\",B1323=\"\"),\"\",VLOOKUP(A1323&\"_\"&B1323,Lookups!$E:$F,2,FALSE))","v":""},""]
[null,null,null,null,null,"",null,"",null,null,"","",{"$f":"IF(OR(A1324=\"\",B1324=\"\"),\"\",VLOOKUP(A1324&\"_\"&B1324,Lookups!$E:$F,2,FALSE))","v":""},""]
[null,null,null,null,null,"",null,"",null,null,"","",{"$f":"IF(OR(A1325=\"\",B1325=\"\"),\"\",VLOOKUP(A1325&\"_\"&B1325,Lookups!$E:$F,2,FALSE))","v":""},""]
[null,null,null,null,null,"",null,"",null,null,"","",{"$f":"IF(OR(A1326=\"\",B1326=\"\"),\"\",VLOOKUP(A1326&\"_\"&B1326,Lookups!$E:$F,2,FALSE))","v":""},""]
[null,null,null,null,null,"",null,"",null,null,"","",{"$f":"IF(OR(A1327=\"\",B1327=\"\"),\"\",VLOOKUP(A1327&\"_\"&B1327,Lookups!$E:$F,2,FALSE))","v":""},""]
[null,null,null,null,null,"",null,"",null,null,"","",{"$f":"IF(OR(A1328=\"\",B1328=\"\"),\"\",VLOOKUP(A1328&\"_\"&B1328,Lookups!$E:$F,2,FALSE))","v":""},""]
[null,null,null,null,null,"",null,"",null,null,"","",{"$f":"IF(OR(A1329=\"\",B1329=\"\"),\"\",VLOOKUP(A1329&\"_\"&B1329,Lookups!$E:$F,2,FALSE))","v":""},""]
[null,null,null,null,null,"",null,"",null,null,"","",{"$f":"IF(OR(A1330=\"\",B1330=\"\"),\"\",VLOOKUP(A1330&\"_\"&B1330,Lookups!$E:$F,2,FALSE))","v":""},""]
[null,null,null,null,null,"",null,"",null,null,"","",{"$f":"IF(OR(A1331=\"\",B1331=\"\"),\"\",VLOOKUP(A1331&\"_\"&B1331,Lookups!$E:$F,2,FALSE))","v":""},""]
[null,null,null,null,null,"",null,"",null,null,"","",{"$f":"IF(OR(A1332=\"\",B1332=\"\"),\"\",VLOOKUP(A1332&\"_\"&B1332,Lookups!$E:$F,2,FALSE))","v":""},""]
[null,null,null,null,null,"",null,"",null,null,"","",{"$f":"IF(OR(A1333=\"\",B1333=\"\"),\"\",VLOOKUP(A1333&\"_\"&B1333,Lookups!$E:$F,2,FALSE))","v":""},""]
[null,null,null,null,null,"",null,"",null,null,"","",{"$f":"IF(OR(A1334=\"\",B1334=\"\"),\"\",VLOOKUP(A1334&\"_\"&B1334,Lookups!$E:$F,2,FALSE))","v":""},""]
[null,null,null,null,null,"",null,"",null,null,"","",{"$f":"IF(OR(A1335=\"\",B1335=\"\"),\"\",VLOOKUP(A1335&\"_\"&B1335,Lookups!$E:$F,2,FALSE))","v":""},""]
[null,null,null,null,null,"",null,"",null,null,"","",{"$f":"IF(OR(A1336=\"\",B1336=\"\"),\"\",VLOOKUP(A1336&\"_\"&B1336,Lookups!$E:$F,2,FALSE))","v":""},""]
[null,null,null,null,null,"",null,"",null,null,"","",{"$f":"IF(OR(A1337=\"\",B1337=\"\"),\"\",VLOOKUP(A1337&\"_\"&B1337,Lookups!$E:$F,2,FALSE))","v":""},""]
[null,null,null,null,null,"",null,"",null,null,"","",{"$f":"IF(OR(A1338=\"\",B1338=\"\"),\"\",VLOOKUP(A1338&\"_\"&B1338,Lookups!$E:$F,2,FALSE))","v":""},""]
[null,null,null,null,null,"",null,"",null,null,"","",{"$f":"IF(OR(A1339=\"\",B1339=\"\"),\"\",VLOOKUP(A1339&\"_\"&B1339,Lookups!$E:$F,2,FALSE))","v":""},""]
[null,null,null,null,null,"",null,"",null,null,"","",{"$f":"IF(OR(A1340=\"\",B1340=\"\"),\"\",VLOOKUP(A1340&\"_\"&B1340,Lookups!$E:$F,2,FALSE))","v":""},""]
[null,null,null,null,null,"",null,"",null,null,"","",{"$f":"IF(OR(A1341=\"\",B1341=\"\"),\"\",VLOOKUP(A1341&\"_\"&B1341,Lookups!$E:$F,2,FALSE))","v":""},""]
[null,null,null,null,null,"",null,"",null,null,"","",{"$f":"IF(OR(A1342=\"\",B1342=\"\"),\"\",VLOOKUP(A1342&\"_\"&B1342,Lookups!$E:$F,2,FALSE))","v":""},""]
[null,null,null,null,null,"",null,"",null,null,"","",{"$f":"IF(OR(A1343=\"\",B1343=\"\"),\"\",VLOOKUP(A1343&\"_\"&B1343,Lookups!$E:$F,2,FALSE))","v":""},""]
[null,null,null,null,null,"",null,"",null,null,"","",{"$f":"IF(OR(A1344=\"\",B1344=\"\"),\"\",VLOOKUP(A1344&\"_\"&B1344,Lookups!$E:$F,2,FALSE))","v":""},""]
[null,null,null,null,null,"",null,"",null,null,"","",{"$f":"IF(OR(A1345=\"\",B1345=\"\"),\"\",VLOOKUP(A1345&\"_\"&B1345,Lookups!$E:$F,2,FALSE))","v":""},""]
[null,null,null,null,null,"",null,"",null,null,"","",{"$f":"IF(OR(A1346=\"\",B1346=\"\"),\"\",VLOOKUP(A1346&\"_\"&B1346,Lookups!$E:$F,2,FALSE))","v":""},""]
[null,null,null,null,null,"",null,"",null,null,"","",{"$f":"IF(OR(A1347=\"\",B1347=\"\"),\"\",VLOOKUP(A1347&\"_\"&B1347,Lookups!$E:$F,2,FALSE))","v":""},""]
[null,null,null,null,null,{"$f":"IF(OR(D1348=\"\",E1348=\"\"),\"\",ROUND((E1348-D1348)*24,2))","v":""},null,{"$f":"IF(F1348=\"\",\"\",IF(G1348<>\"\",F1348*G1348,F1348))","v":""},null,null,{"$f":"IF(AND(H1348<>\"\",I1348=\"Paid\"),H1348,\"\")","v":""},{"$f":"IF(H1348=\"\",\"\",IF(K1348=\"\",H1348,H1348-K1348))","v":""},{"$f":"IF(OR(A1348=\"\",B1348=\"\"),\"\",VLOOKUP(A1348&\"_\"&B1348,Lookups!$E:$F,2,FALSE))","v":""},{"$f":"IF(AND(K1348=\"\",L1348=\"\"),\"\",IF(K1348=\"\",L1348*M1348,SUM(K1348,L1348)*M1348))","v":""}]
[null,null,null,null,null,"",null,"",null,null,"","",{"$f":"IF(OR(A1349=\"\",B1349=\"\"),\"\",VLOOKUP(A1349&\"_\"&B1349,Lookups!$E:$F,2,FALSE))","v":""},""]
[null,null,null,null,null,"",null,"",null,null,"","",{"$f":"IF(OR(A1350=\"\",B1350=\"\"),\"\",VLOOKUP(A1350&\"_\"&B1350,Lookups!$E:$F,2,FALSE))","v":""},""]
[null,null,null,null,null,"",null,"",null,null,"","",{"$f":"IF(OR(A1351=\"\",B1351=\"\"),\"\",VLOOKUP(A1351&\"_\"&B1351,Lookups!$E:$F,2,FALSE))","v":""},""]
[null,null,null,null,null,"",null,"",null,null,"","",{"$f":"IF(OR(A1352=\"\",B1352=\"\"),\"\",VLOOKUP(A1352&\"_\"&B1352,Lookups!$E:$F,2,FALSE))","v":""},""]
[null,null,null,null,null,"",null,"",null,null,"","",{"$f":"IF(OR(A1353=\"\",B1353=\"\"),\"\",VLOOKUP(A1353&\"_\"&B1353,Lookups!$E:$F,2,FALSE))","v":""},""]
[null,null,null,null,null,"",null,"",null,null,"","",{"$f":"IF(OR(A1354=\"\",B1354=\"\"),\"\",VLOOKUP(A1354&\"_\"&B1354,Lookups!$E:$F,2,FALSE))","v":""},""]
[null,null,null,null,null,"",null,"",null,null,"","",{"$f":"IF(OR(A1355=\"\",B1355=\"\"),\"\",VLOOKUP(A1355&\"_\"&B1355,Lookups!$E:$F,2,FALSE))","v":""},""]
[null,null,null,null,null,"",null,"",null,null,"","",{"$f":"IF(OR(A1356=\"\",B1356=\"\"),\"\",VLOOKUP(A1356&\"_\"&B1356,Lookups!$E:$F,2,FALSE))","v":""},""]
[null,null,null,null,null,"",null,"",null,null,"","",{"$f":"IF(OR(A1357=\"\",B1357=\"\"),\"\",VLOOKUP(A1357&\"_\"&B1357,Lookups!$E:$F,2,FALSE))","v":""},""]
[null,null,null,null,null,"",null,"",null,null,"","",{"$f":"IF(OR(A1358=\"\",B1358=\"\"),\"\",VLOOKUP(A1358&\"_\"&B1358,Lookups!$E:$F,2,FALSE))","v":""},""]
[null,null,null,null,null,"",null,"",null,null,"","",{"$f":"IF(OR(A1359=\"\",B1359=\"\"),\"\",VLOOKUP(A1359&\"_\"&B1359,Lookups!$E:$F,2,FALSE))","v":""},""]
[null,null,null,null,null,"",null,"",null,null,"","",{"$f":"IF(OR(A1360=\"\",B1360=\"\"),\"\",VLOOKUP(A1360&\"_\"&B1360,Lookups!$E:$F,2,FALSE))","v":""},""]
[null,null,null,null,null,"",null,"",null,null,"","",{"$f":"IF(OR(A1361=\"\",B1361=\"\"),\"\",VLOOKUP(A1361&\"_\"&B1361,Lookups!$E:$F,2,FALSE))","v":""},""]
[null,null,null,null,null,"",null,"",null,null,"","",{"$f":"IF(OR(A1362=\"\",B1362=\"\"),\"\",VLOOKUP(A1362&\"_\"&B1362,Lookups!$E:$F,2,FALSE))","v":""},""]
[null,null,null,null,null,"",null,"",null,null,"","",{"$f":"IF(OR(A1363=\"\",B1363=\"\"),\"\",VLOOKUP(A1363&\"_\"&B1363,Lookups!$E:$F,2,FALSE))","v":""},""]
[null,null,null,null,null,"",null,"",null,null,"","",{"$f":"IF(OR(A1364=\"\",B1364=\"\"),\"\",VLOOKUP(A1364&\"_\"&B1364,Lookups!$E:$F,2,FALSE))","v":""},""]
[null,null,null,null,null,"",null,"",null,null,"","",{"$f":"IF(OR(A1365=\"\",B1365=\"\"),\"\",VLOOKUP(A1365&\"_\"&B1365,Lookups!$E:$F,2,FALSE))","v":""},""]
[null,null,null,null,null,"",null,"",null,null,"","",{"$f":"IF(OR(A1366=\"\",B1366=\"\"),\"\",VLOOKUP(A1366&\"_\"&B1366,Lookups!$E:$F,2,FALSE))","v":""},""]
[null,null,null,null,null,"",null,"",null,null,"","",{"$f":"IF(OR(A1367=\"\",B1367=\"\"),\"\",VLOOKUP(A1367&\"_\"&B1367,Lookups!$E:$F,2,FALSE))","v":""},""]
[null,null,null,null,null,"",null,"",null,null,"","",{"$f":"IF(OR(A1368=\"\",B1368=\"\"),\"\",VLOOKUP(A1368&\"_\"&B1368,Lookups!$E:$F,2,FALSE))","v":""},""]
[null,null,null,null,null,"",null,"",null,null,"","",{"$f":"IF(OR(A1369=\"\",B1369=\"\"),\"\",VLOOKUP(A1369&\"_\"&B1369,Lookups!$E:$F,2,FALSE))","v":""},""]
[null,null,null,null,null,"",null,"",null,null,"","",{"$f":"IF(OR(A1370=\"\",B1370=\"\"),\"\",VLOOKUP(A1370&\"_\"&B1370,Lookups!$E:$F,2,FALSE))","v":""},""]
[null,null,null,null,null,"",null,"",null,null,"","",{"$f":"IF(OR(A1371=\"\",B1371=\"\"),\"\",VLOOKUP(A1371&\"_\"&B1371,Lookups!$E:$F,2,FALSE))","v":""},""]
[null,null,null,null,null,"",null,"",null,null,"","",{"$f":"IF(OR(A1372=\"\",B1372=\"\"),\"\",VLOOKUP(A1372&\"_\"&B1372,Lookups!$E:$F,2,FALSE))","v":""},""]
[null,null,null,null,null,"",null,"",null,null,"","",{"$f":"IF(OR(A1373=\"\",B1373=\"\"),\"\",VLOOKUP(A1373&\"_\"&B1373,Lookups!$E:$F,2,FALSE))","v":""},""]
[null,null,null,null,null,"",null,"",null,null,"","",{"$f":"IF(OR(A1374=\"\",B1374=\"\"),\"\",VLOOKUP(A1374&\"_\"&B1374,Lookups!$E:$F,2,FALSE))","v":""},""]
[null,null,null,null,null,"",null,"",null,null,"","",{"$f":"IF(OR(A1375=\"\",B1375=\"\"),\"\",VLOOKUP(A1375&\"_\"&B1375,Lookups!$E:$F,2,FALSE))","v":""},""]
[null,null,null,null,null,"",null,"",null,null,"","",{"$f":"IF(OR(A1376=\"\",B1376=\"\"),\"\",VLOOKUP(A1376&\"_\"&B1376,Lookups!$E:$F,2,FALSE))","v":""},""]
[null,null,null,null,null,"",null,"",null,null,"","",{"$f":"IF(OR(A1377=\"\",B1377=\"\"),\"\",VLOOKUP(A1377&\"_\"&B1377,Lookups!$E:$F,2,FALSE))","v":""},""]
[null,null,null,null,null,"",null,"",null,null,"","",{"$f":"IF(OR(A1378=\"\",B1378=\"\"),\"\",VLOOKUP(A1378&\"_\"&B1378,Lookups!$E:$F,2,FALSE))","v":""},""]
[null,null,null,null,null,"",null,"",null,null,"","",{"$f":"IF(OR(A1379=\"\",B1379=\"\"),\"\",VLOOKUP(A1379&\"_\"&B1379,Lookups!$E:$F,2,FALSE))","v":""},""]
[null,null,null,null,null,"",null,"",null,null,"","",{"$f":"IF(OR(A1380=\"\",B1380=\"\"),\"\",VLOOKUP(A1380&\"_\"&B1380,Lookups!$E:$F,2,FALSE))","v":""},""]
[null,null,null,null,null,"",null,"",null,null,"","",{"$f":"IF(OR(A1381=\"\",B1381=\"\"),\"\",VLOOKUP(A1381&\"_\"&B1381,Lookups!$E:$F,2,FALSE))","v":""},""]
[null,null,null,null,null,"",null,"",null,null,"","",{"$f":"IF(OR(A1382=\"\",B1382=\"\"),\"\",VLOOKUP(A1382&\"_\"&B1382,Lookups!$E:$F,2,FALSE))","v":""},""]
[null,null,null,null,null,"",null,"",null,null,"","",{"$f":"IF(OR(A1383=\"\",B1383=\"\"),\"\",VLOOKUP(A1383&\"_\"&B1383,Lookups!$E:$F,2,FALSE))","v":""},""]
[null,null,null,null,null,"",null,"",null,null,"","",{"$f":"IF(OR(A1384=\"\",B1384=\"\"),\"\",VLOOKUP(A1384&\"_\"&B1384,Lookups!$E:$F,2,FALSE))","v":""},""]
[null,null,null,null,null,"",null,"",null,null,"","",{"$f":"IF(OR(A1385=\"\",B1385=\"\"),\"\",VLOOKUP(A1385&\"_\"&B1385,Lookups!$E:$F,2,FALSE))","v":""},""]
[null,null,null,null,null,"",null,"",null,null,"","",{"$f":"IF(OR(A1386=\"\",B1386=\"\"),\"\",VLOOKUP(A1386&\"_\"&B1386,Lookups!$E:$F,2,FALSE))","v":""},""]
[null,null,null,null,null,"",null,"",null,null,"","",{"$f":"IF(OR(A1387=\"\",B1387=\"\"),\"\",VLOOKUP(A1387&\"_\"&B1387,Lookups!$E:$F,2,FALSE))","v":""},""]
[null,null,null,null,null,"",null,"",null,null,"","",{"$f":"IF(OR(A1388=\"\",B1388=\"\"),\"\",VLOOKUP(A1388&\"_\"&B1388,Lookups!$E:$F,2,FALSE))","v":""},""]
[null,null,null,null,null,"",null,"",null,null,"","",{"$f":"IF(OR(A1389=\"\",B1389=\"\"),\"\",VLOOKUP(A1389&\"_\"&B1389,Lookups!$E:$F,2,FALSE))","v":""},""]
[null,null,null,null,null,"",null,"",null,null,"","",{"$f":"IF(OR(A1390=\"\",B1390=\"\"),\"\",VLOOKUP(A1390&\"_\"&B1390,Lookups!$E:$F,2,FALSE))","v":""},""]
[null,null,null,null,null,"",null,"",null,null,"","",{"$f":"IF(OR(A1391=\"\",B1391=\"\"),\"\",VLOOKUP(A1391&\"_\"&B1391,Lookups!$E:$F,2,FALSE))","v":""},""]
[null,null,null,null,null,"",null,"",null,null,"","",{"$f":"IF(OR(A1392=\"\",B1392=\"\"),\"\",VLOOKUP(A1392&\"_\"&B1392,Lookups!$E:$F,2,FALSE))","v":""},""]
[null,null,null,null,null,"",null,"",null,null,"","",{"$f":"IF(OR(A1393=\"\",B1393=\"\"),\"\",VLOOKUP(A1393&\"_\"&B1393,Lookups!$E:$F,2,FALSE))","v":""},""]
[null,null,null,null,null,"",null,"",null,null,"","",{"$f":"IF(OR(A1394=\"\",B1394=\"\"),\"\",VLOOKUP(A1394&\"_\"&B1394,Lookups!$E:$F,2,FALSE))","v":""},""]
[null,null,null,null,null,"",null,"",null,null,"","",{"$f":"IF(OR(A1395=\"\",B1395=\"\"),\"\",VLOOKUP(A1395&\"_\"&B1395,Lookups!$E:$F,2,FALSE))","v":""},""]
[null,null,null,null,null,"",null,"",null,null,"","",{"$f":"IF(OR(A1396=\"\",B1396=\"\"),\"\",VLOOKUP(A1396&\"_\"&B1396,Lookups!$E:$F,2,FALSE))","v":""},""]
[null,null,null,null,null,"",null,"",null,null,"","",{"$f":"IF(OR(A1397=\"\",B1397=\"\"),\"\",VLOOKUP(A1397&\"_\"&B1397,Lookups!$E:$F,2,FALSE))","v":""},""]
[null,null,null,null,null,"",null,"",null,null,"","",{"$f":"IF(OR(A1398=\"\",B1398=\"\"),\"\",VLOOKUP(A1398&\"_\"&B1398,Lookups!$E:$F,2,FALSE))","v":""},""]
[null,null,null,null,null,"",null,"",null,null,"","",{"$f":"IF(OR(A1399=\"\",B1399=\"\"),\"\",VLOOKUP(A1399&\"_\"&B1399,Lookups!$E:$F,2,FALSE))","v":""},""]
[null,null,null,null,null,"",null,"",null,null,"","",{"$f":"IF(OR(A1400=\"\",B1400=\"\"),\"\",VLOOKUP(A1400&\"_\"&B1400,Lookups!$E:$F,2,FALSE))","v":""},""]
[null,null,null,null,null,"",null,"",null,null,"","",{"$f":"IF(OR(A1401=\"\",B1401=\"\"),\"\",VLOOKUP(A1401&\"_\"&B1401,Lookups!$E:$F,2,FALSE))","v":""},""]
[null,null,null,null,null,"",null,"",null,null,"","",{"$f":"IF(OR(A1402=\"\",B1402=\"\"),\"\",VLOOKUP(A1402&\"_\"&B1402,Lookups!$E:$F,2,FALSE))","v":""},""]
[null,null,null,null,null,"",null,"",null,null,"","",{"$f":"IF(OR(A1403=\"\",B1403=\"\"),\"\",VLOOKUP(A1403&\"_\"&B1403,Lookups!$E:$F,2,FALSE))","v":""},""]
[null,null,null,null,null,"",null,"",null,null,"","",{"$f":"IF(OR(A1404=\"\",B1404=\"\"),\"\",VLOOKUP(A1404&\"_\"&B1404,Lookups!$E:$F,2,FALSE))","v":""},""]
[null,null,null,null,null,"",null,"",null,null,"","",{"$f":"IF(OR(A1405=\"\",B1405=\"\"),\"\",VLOOKUP(A1405&\"_\"&B1405,Lookups!$E:$F,2,FALSE))","v":""},""]
[null,null,null,null,null,"",null,"",null,null,"","",{"$f":"IF(OR(A1406=\"\",B1406=\"\"),\"\",VLOOKUP(A1406&\"_\"&B1406,Lookups!$E:$F,2,FALSE))","v":""},""]
[null,null,null,null,null,"",null,"",null,null,"","",{"$f":"IF(OR(A1407=\"\",B1407=\"\"),\"\",VLOOKUP(A1407&\"_\"&B1407,Lookups!$E:$F,2,FALSE))","v":""},""]
[null,null,null,null,null,"",null,"",null,null,"","",{"$f":"IF(OR(A1408=\"\",B1408=\"\"),\"\",VLOOKUP(A1408&\"_\"&B1408,Lookups!$E:$F,2,FALSE))","v":""},""]
[null,null,null,null,null,"",null,"",null,null,"","",{"$f":"IF(OR(A1409=\"\",B1409=\"\"),\"\",VLOOKUP(A1409&\"_\"&B1409,Lookups!$E:$F,2,FALSE))","v":""},""]
[null,null,null,null,null,"",null,"",null,null,"","",{"$f":"IF(OR(A1410=\"\",B1410=\"\"),\"\",VLOOKUP(A1410&\"_\"&B1410,Lookups!$E:$F,2,FALSE))","v":""},""]
[null,null,null,null,null,"",null,"",null,null,"","",{"$f":"IF(OR(A1411=\"\",B1411=\"\"),\"\",VLOOKUP(A1411&\"_\"&B1411,Lookups!$E:$F,2,FALSE))","v":""},""]
[null,null,null,null,null,{"$f":"IF(OR(D1412=\"\",E1412=\"\"),\"\",ROUND((E1412-D1412)*24,2))","v":""},null,{"$f":"IF(F1412=\"\",\"\",IF(G1412<>\"\",F1412*G1412,F1412))","v":""},null,null,{"$f":"IF(AND(H1412<>\"\",I1412=\"Paid\"),H1412,\"\")","v":""},{"$f":"IF(H1412=\"\",\"\",IF(K1412=\"\",H1412,H1412-K1412))","v":""},{"$f":"IF(OR(A1412=\"\",B1412=\"\"),\"\",VLOOKUP(A1412&\"_\"&B1412,Lookups!$E:$F,2,FALSE))","v":""},{"$f":"IF(AND(K1412=\"\",L1412=\"\"),\"\",IF(K1412=\"\",L1412*M1412,SUM(K1412,L1412)*M1412))","v":""}]
[null,null,null,null,null,"",null,"",null,null,"","",{"$f":"IF(OR(A1413=\"\",B1413=\"\"),\"\",VLOOKUP(A1413&\"_\"&B1413,Lookups!$E:$F,2,FALSE))","v":""},""]
[null,null,null,null,null,"",null,"",null,null,"","",{"$f":"IF(OR(A1414=\"\",B1414=\"\"),\"\",VLOOKUP(A1414&\"_\"&B1414,Lookups!$E:$F,2,FALSE))","v":""},""]
[null,null,null,null,null,"",null,"",null,null,"","",{"$f":"IF(OR(A1415=\"\",B1415=\"\"),\"\",VLOOKUP(A1415&\"_\"&B1415,Lookups!$E:$F,2,FALSE))","v":""},""]
[null,null,null,null,null,"",null,"",null,null,"","",{"$f":"IF(OR(A1416=\"\",B1416=\"\"),\"\",VLOOKUP(A1416&\"_\"&B1416,Lookups!$E:$F,2,FALSE))","v":""},""]
[null,null,null,null,null,"",null,"",null,null,"","",{"$f":"IF(OR(A1417=\"\",B1417=\"\"),\"\",VLOOKUP(A1417&\"_\"&B1417,Lookups!$E:$F,2,FALSE))","v":""},""]
[null,null,null,null,null,"",null,"",null,null,"","",{"$f":"IF(OR(A1418=\"\",B1418=\"\"),\"\",VLOOKUP(A1418&\"_\"&B1418,Lookups!$E:$F,2,FALSE))","v":""},""]
[null,null,null,null,null,"",null,"",null,null,"","",{"$f":"IF(OR(A1419=\"\",B1419=\"\"),\"\",VLOOKUP(A1419&\"_\"&B1419,Lookups!$E:$F,2,FALSE))","v":""},""]
[null,null,null,null,null,"",null,"",null,null,"","",{"$f":"IF(OR(A1420=\"\",B1420=\"\"),\"\",VLOOKUP(A1420&\"_\"&B1420,Lookups!$E:$F,2,FALSE))","v":""},""]
[null,null,null,null,null,"",null,"",null,null,"","",{"$f":"IF(OR(A1421=\"\",B1421=\"\"),\"\",VLOOKUP(A1421&\"_\"&B1421,Lookups!$E:$F,2,FALSE))","v":""},""]
[null,null,null,null,null,"",null,"",null,null,"","",{"$f":"IF(OR(A1422=\"\",B1422=\"\"),\"\",VLOOKUP(A1422&\"_\"&B1422,Lookups!$E:$F,2,FALSE))","v":""},""]
[null,null,null,null,null,"",null,"",null,null,"","",{"$f":"IF(OR(A1423=\"\",B1423=\"\"),\"\",VLOOKUP(A1423&\"_\"&B1423,Lookups!$E:$F,2,FALSE))","v":""},""]
[null,null,null,null,null,"",null,"",null,null,"","",{"$f":"IF(OR(A1424=\"\",B1424=\"\"),\"\",VLOOKUP(A1424&\"_\"&B1424,Lookups!$E:$F,2,FALSE))","v":""},""]
[null,null,null,null,null,"",null,"",null,null,"","",{"$f":"IF(OR(A1425=\"\",B1425=\"\"),\"\",VLOOKUP(A1425&\"_\"&B1425,Lookups!$E:$F,2,FALSE))","v":""},""]
[null,null,null,null,null,"",null,"",null,null,"","",{"$f":"IF(OR(A1426=\"\",B1426=\"\"),\"\",VLOOKUP(A1426&\"_\"&B1426,Lookups!$E:$F,2,FALSE))","v":""},""]
[null,null,null,null,null,"",null,"",null,null,"","",{"$f":"IF(OR(A1427=\"\",B1427=\"\"),\"\",VLOOKUP(A1427&\"_\"&B1427,Lookups!$E:$F,2,FALSE))","v":""},""]
[null,null,null,null,null,"",null,"",null,null,"","",{"$f":"IF(OR(A1428=\"\",B1428=\"\"),\"\",VLOOKUP(A1428&\"_\"&B1428,Lookups!$E:$F,2,FALSE))","v":""},""]
[null,null,null,null,null,"",null,"",null,null,"","",{"$f":"IF(OR(A1429=\"\",B1429=\"\"),\"\",VLOOKUP(A1429&\"_\"&B1429,Lookups!$E:$F,2,FALSE))","v":""},""]
[null,null,null,null,null,"",null,"",null,null,"","",{"$f":"IF(OR(A1430=\"\",B1430=\"\"),\"\",VLOOKUP(A1430&\"_\"&B1430,Lookups!$E:$F,2,FALSE))","v":""},""]
[null,null,null,null,null,"",null,"",null,null,"","",{"$f":"IF(OR(A1431=\"\",B1431=\"\"),\"\",VLOOKUP(A1431&\"_\"&B1431,Lookups!$E:$F,2,FALSE))","v":""},""]
[null,null,null,null,null,"",null,"",null,null,"","",{"$f":"IF(OR(A1432=\"\",B1432=\"\"),\"\",VLOOKUP(A1432&\"_\"&B1432,Lookups!$E:$F,2,FALSE))","v":""},""]
[null,null,null,null,null,"",null,"",null,null,"","",{"$f":"IF(OR(A1433=\"\",B1433=\"\"),\"\",VLOOKUP(A1433&\"_\"&B1433,Lookups!$E:$F,2,FALSE))","v":""},""]
[null,null,null,null,null,"",null,"",null,null,"","",{"$f":"IF(OR(A1434=\"\",B1434=\"\"),\"\",VLOOKUP(A1434&\"_\"&B1434,Lookups!$E:$F,2,FALSE))","v":""},""]
[null,null,null,null,null,"",null,"",null,null,"","",{"$f":"IF(OR(A1435=\"\",B1435=\"\"),\"\",VLOOKUP(A1435&\"_\"&B1435,Lookups!$E:$F,2,FALSE))","v":""},""]
[null,null,null,null,null,"",null,"",null,null,"","",{"$f":"IF(OR(A1436=\"\",B1436=\"\"),\"\",VLOOKUP(A1436&\"_\"&B1436,Lookups!$E:$F,2,FALSE))","v":""},""]
[null,null,null,null,null,"",null,"",null,null,"","",{"$f":"IF(OR(A1437=\"\",B1437=\"\"),\"\",VLOOKUP(A1437&\"_\"&B1437,Lookups!$E:$F,2,FALSE))","v":""},""]
[null,null,null,null,null,"",null,"",null,null,"","",{"$f":"IF(OR(A1438=\"\",B1438=\"\"),\"\",VLOOKUP(A1438&\"_\"&B1438,Lookups!$E:$F,2,FALSE))","v":""},""]
[null,null,null,null,null,"",null,"",null,null,"","",{"$f":"IF(OR(A1439=\"\",B1439=\"\"),\"\",VLOOKUP(A1439&\"_\"&B1439,Lookups!$E:$F,2,FALSE))","v":""},""]
[null,null,null,null,null,"",null,"",null,null,"","",{"$f":"IF(OR(A1440=\"\",B1440=\"\"),\"\",VLOOKUP(A1440&\"_\"&B1440,Lookups!$E:$F,2,FALSE))","v":""},""]
[null,null,null,null,null,"",null,"",null,null,"","",{"$f":"IF(OR(A1441=\"\",B1441=\"\"),\"\",VLOOKUP(A1441&\"_\"&B1441,Lookups!$E:$F,2,FALSE))","v":""},""]
[null,null,null,null,null,"",null,"",null,null,"","",{"$f":"IF(OR(A1442=\"\",B1442=\"\"),\"\",VLOOKUP(A1442&\"_\"&B1442,Lookups!$E:$F,2,FALSE))","v":""},""]
[null,null,null,null,null,"",null,"",null,null,"","",{"$f":"IF(OR(A1443=\"\",B1443=\"\"),\"\",VLOOKUP(A1443&\"_\"&B1443,Lookups!$E:$F,2,FALSE))","v":""},""]
[null,null,null,null,null,"",null,"",null,null,"","",{"$f":"IF(OR(A1444=\"\",B1444=\"\"),\"\",VLOOKUP(A1444&\"_\"&B1444,Lookups!$E:$F,2,FALSE))","v":""},""]
[null,null,null,null,null,"",null,"",null,null,"","",{"$f":"IF(OR(A1445=\"\",B1445=\"\"),\"\",VLOOKUP(A1445&\"_\"&B1445,Lookups!$E:$F,2,FALSE))","v":""},""]
[null,null,null,null,null,"",null,"",null,null,"","",{"$f":"IF(OR(A1446=\"\",B1446=\"\"),\"\",VLOOKUP(A1446&\"_\"&B1446,Lookups!$E:$F,2,FALSE))","v":""},""]
[null,null,null,null,null,"",null,"",null,null,"","",{"$f":"IF(OR(A1447=\"\",B1447=\"\"),\"\",VLOOKUP(A1447&\"_\"&B1447,Lookups!$E:$F,2,FALSE))","v":""},""]
[null,null,null,null,null,"",null,"",null,null,"","",{"$f":"IF(OR(A1448=\"\",B1448=\"\"),\"\",VLOOKUP(A1448&\"_\"&B1448,Lookups!$E:$F,2,FALSE))","v":""},""]
[null,null,null,null,null,"",null,"",null,null,"","",{"$f":"IF(OR(A1449=\"\",B1449=\"\"),\"\",VLOOKUP(A1449&\"_\"&B1449,Lookups!$E:$F,2,FALSE))","v":""},""]
[null,null,null,null,null,"",null,"",null,null,"","",{"$f":"IF(OR(A1450=\"\",B1450=\"\"),\"\",VLOOKUP(A1450&\"_\"&B1450,Lookups!$E:$F,2,FALSE))","v":""},""]
[null,null,null,null,null,"",null,"",null,null,"","",{"$f":"IF(OR(A1451=\"\",B1451=\"\"),\"\",VLOOKUP(A1451&\"_\"&B1451,Lookups!$E:$F,2,FALSE))","v":""},""]
[null,null,null,null,null,"",null,"",null,null,"","",{"$f":"IF(OR(A1452=\"\",B1452=\"\"),\"\",VLOOKUP(A1452&\"_\"&B1452,Lookups!$E:$F,2,FALSE))","v":""},""]
[null,null,null,null,null,"",null,"",null,null,"","",{"$f":"IF(OR(A1453=\"\",B1453=\"\"),\"\",VLOOKUP(A1453&\"_\"&B1453,Lookups!$E:$F,2,FALSE))","v":""},""]
[null,null,null,null,null,"",null,"",null,null,"","",{"$f":"IF(OR(A1454=\"\",B1454=\"\"),\"\",VLOOKUP(A1454&\"_\"&B1454,Lookups!$E:$F,2,FALSE))","v":""},""]
[null,null,null,null,null,"",null,"",null,null,"","",{"$f":"IF(OR(A1455=\"\",B1455=\"\"),\"\",VLOOKUP(A1455&\"_\"&B1455,Lookups!$E:$F,2,FALSE))","v":""},""]
[null,null,null,null,null,"",null,"",null,null,"","",{"$f":"IF(OR(A1456=\"\",B1456=\"\"),\"\",VLOOKUP(A1456&\"_\"&B1456,Lookups!$E:$F,2,FALSE))","v":""},""]
[null,null,null,null,null,"",null,"",null,null,"","",{"$f":"IF(OR(A1457=\"\",B1457=\"\"),\"\",VLOOKUP(A1457&\"_\"&B1457,Lookups!$E:$F,2,FALSE))","v":""},""]
[null,null,null,null,null,"",null,"",null,null,"","",{"$f":"IF(OR(A1458=\"\",B1458=\"\"),\"\",VLOOKUP(A1458&\"_\"&B1458,Lookups!$E:$F,2,FALSE))","v":""},""]
[null,null,null,null,null,"",null,"",null,null,"","",{"$f":"IF(OR(A1459=\"\",B1459=\"\"),\"\",VLOOKUP(A1459&\"_\"&B1459,Lookups!$E:$F,2,FALSE))","v":""},""]
[null,null,null,null,null,"",null,"",null,null,"","",{"$f":"IF(OR(A1460=\"\",B1460=\"\"),\"\",VLOOKUP(A1460&\"_\"&B1460,Lookups!$E:$F,2,FALSE))","v":""},""]
[null,null,null,null,null,"",null,"",null,null,"","",{"$f":"IF(OR(A1461=\"\",B1461=\"\"),\"\",VLOOKUP(A1461&\"_\"&B1461,Lookups!$E:$F,2,FALSE))","v":""},""]
[null,null,null,null,null,"",null,"",null,null,"","",{"$f":"IF(OR(A1462=\"\",B1462=\"\"),\"\",VLOOKUP(A1462&\"_\"&B1462,Lookups!$E:$F,2,FALSE))","v":""},""]
[null,null,null,null,null,"",null,"",null,null,"","",{"$f":"IF(OR(A1463=\"\",B1463=\"\"),\"\",VLOOKUP(A1463&\"_\"&B1463,Lookups!$E:$F,2,FALSE))","v":""},""]
[null,null,null,null,null,"",null,"",null,null,"","",{"$f":"IF(OR(A1464=\"\",B1464=\"\"),\"\",VLOOKUP(A1464&\"_\"&B1464,Lookups!$E:$F,2,FALSE))","v":""},""]
[null,null,null,null,null,"",null,"",null,null,"","",{"$f":"IF(OR(A1465=\"\",B1465=\"\"),\"\",VLOOKUP(A1465&\"_\"&B1465,Lookups!$E:$F,2,FALSE))","v":""},""]
[null,null,null,null,null,"",null,"",null,null,"","",{"$f":"IF(OR(A1466=\"\",B1466=\"\"),\"\",VLOOKUP(A1466&\"_\"&B1466,Lookups!$E:$F,2,FALSE))","v":""},""]
[null,null,null,null,null,"",null,"",null,null,"","",{"$f":"IF(OR(A1467=\"\",B1467=\"\"),\"\",VLOOKUP(A1467&\"_\"&B1467,Lookups!$E:$F,2,FALSE))","v":""},""]
[null,null,null,null,null,"",null,"",null,null,"","",{"$f":"IF(OR(A1468=\"\",B1468=\"\"),\"\",VLOOKUP(A1468&\"_\"&B1468,Lookups!$E:$F,2,FALSE))","v":""},""]
[null,null,null,null,null,"",null,"",null,null,"","",{"$f":"IF(OR(A1469=\"\",B1469=\"\"),\"\",VLOOKUP(A1469&\"_\"&B1469,Lookups!$E:$F,2,FALSE))","v":""},""]
[null,null,null,null,null,"",null,"",null,null,"","",{"$f":"IF(OR(A1470=\"\",B1470=\"\"),\"\",VLOOKUP(A1470&\"_\"&B1470,Lookups!$E:$F,2,FALSE))","v":""},""]
[null,null,null,null,null,"",null,"",null,null,"","",{"$f":"IF(OR(A1471=\"\",B1471=\"\"),\"\",VLOOKUP(A1471&\"_\"&B1471,Lookups!$E:$F,2,FALSE))","v":""},""]
[null,null,null,null,null,"",null,"",null,null,"","",{"$f":"IF(OR(A1472=\"\",B1472=\"\"),\"\",VLOOKUP(A1472&\"_\"&B1472,Lookups!$E:$F,2,FALSE))","v":""},""]
[null,null,null,null,null,"",null,"",null,null,"","",{"$f":"IF(OR(A1473=\"\",B1473=\"\"),\"\",VLOOKUP(A1473&\"_\"&B1473,Lookups!$E:$F,2,FALSE))","v":""},""]
[null,null,null,null,null,"",null,"",null,null,"","",{"$f":"IF(OR(A1474=\"\",B1474=\"\"),\"\",VLOOKUP(A1474&\"_\"&B1474,Lookups!$E:$F,2,FALSE))","v":""},""]
[null,null,null,null,null,"",null,"",null,null,"","",{"$f":"IF(OR(A1475=\"\",B1475=\"\"),\"\",VLOOKUP(A1475&\"_\"&B1475,Lookups!$E:$F,2,FALSE))","v":""},""]
[null,null,null,null,null,{"$f":"IF(OR(D1476=\"\",E1476=\"\"),\"\",ROUND((E1476-D1476)*24,2))","v":""},null,{"$f":"IF(F1476=\"\",\"\",IF(G1476<>\"\",F1476*G1476,F1476))","v":""},null,null,{"$f":"IF(AND(H1476<>\"\",I1476=\"Paid\"),H1476,\"\")","v":""},{"$f":"IF(H1476=\"\",\"\",IF(K1476=\"\",H1476,H1476-K1476))","v":""},{"$f":"IF(OR(A1476=\"\",B1476=\"\"),\"\",VLOOKUP(A1476&\"_\"&B1476,Lookups!$E:$F,2,FALSE))","v":""},{"$f":"IF(AND(K1476=\"\",L1476=\"\"),\"\",IF(K1476=\"\",L1476*M1476,SUM(K1476,L1476)*M1476))","v":""}]
[null,null,null,null,null,"",null,"",null,null,"","",{"$f":"IF(OR(A1477=\"\",B1477=\"\"),\"\",VLOOKUP(A1477&\"_\"&B1477,Lookups!$E:$F,2,FALSE))","v":""},""]
[null,null,null,null,null,"",null,"",null,null,"","",{"$f":"IF(OR(A1478=\"\",B1478=\"\"),\"\",VLOOKUP(A1478&\"_\"&B1478,Lookups!$E:$F,2,FALSE))","v":""},""]
[null,null,null,null,null,"",null,"",null,null,"","",{"$f":"IF(OR(A1479=\"\",B1479=\"\"),\"\",VLOOKUP(A1479&\"_\"&B1479,Lookups!$E:$F,2,FALSE))","v":""},""]
[null,null,null,null,null,"",null,"",null,null,"","",{"$f":"IF(OR(A1480=\"\",B1480=\"\"),\"\",VLOOKUP(A1480&\"_\"&B1480,Lookups!$E:$F,2,FALSE))","v":""},""]
[null,null,null,null,null,"",null,"",null,null,"","",{"$f":"IF(OR(A1481=\"\",B1481=\"\"),\"\",VLOOKUP(A1481&\"_\"&B1481,Lookups!$E:$F,2,FALSE))","v":""},""]
[null,null,null,null,null,"",null,"",null,null,"","",{"$f":"IF(OR(A1482=\"\",B1482=\"\"),\"\",VLOOKUP(A1482&\"_\"&B1482,Lookups!$E:$F,2,FALSE))","v":""},""]
[null,null,null,null,null,"",null,"",null,null,"","",{"$f":"IF(OR(A1483=\"\",B1483=\"\"),\"\",VLOOKUP(A1483&\"_\"&B1483,Lookups!$E:$F,2,FALSE))","v":""},""]
[null,null,null,null,null,"",null,"",null,null,"","",{"$f":"IF(OR(A1484=\"\",B1484=\"\"),\"\",VLOOKUP(A1484&\"_\"&B1484,Lookups!$E:$F,2,FALSE))","v":""},""]
[null,null,null,null,null,"",null,"",null,null,"","",{"$f":"IF(OR(A1485=\"\",B1485=\"\"),\"\",VLOOKUP(A1485&\"_\"&B1485,Lookups!$E:$F,2,FALSE))","v":""},""]
[null,null,null,null,null,"",null,"",null,null,"","",{"$f":"IF(OR(A1486=\"\",B1486=\"\"),\"\",VLOOKUP(A1486&\"_\"&B1486,Lookups!$E:$F,2,FALSE))","v":""},""]
[null,null,null,null,null,"",null,"",null,null,"","",{"$f":"IF(OR(A1487=\"\",B1487=\"\"),\"\",VLOOKUP(A1487&\"_\"&B1487,Lookups!$E:$F,2,FALSE))","v":""},""]
[null,null,null,null,null,"",null,"",null,null,"","",{"$f":"IF(OR(A1488=\"\",B1488=\"\"),\"\",VLOOKUP(A1488&\"_\"&B1488,Lookups!$E:$F,2,FALSE))","v":""},""]
[null,null,null,null,null,"",null,"",null,null,"","",{"$f":"IF(OR(A1489=\"\",B1489=\"\"),\"\",VLOOKUP(A1489&\"_\"&B1489,Lookups!$E:$F,2,FALSE))","v":""},""]
[null,null,null,null,null,"",null,"",null,null,"","",{"$f":"IF(OR(A1490=\"\",B1490=\"\"),\"\",VLOOKUP(A1490&\"_\"&B1490,Lookups!$E:$F,2,FALSE))","v":""},""]
[null,null,null,null,null,"",null,"",null,null,"","",{"$f":"IF(OR(A1491=\"\",B1491=\"\"),\"\",VLOOKUP(A1491&\"_\"&B1491,Lookups!$E:$F,2,FALSE))","v":""},""]
[null,null,null,null,null,"",null,"",null,null,"","",{"$f":"IF(OR(A1492=\"\",B1492=\"\"),\"\",VLOOKUP(A1492&\"_\"&B1492,Lookups!$E:$F,2,FALSE))","v":""},""]
[null,null,null,null,null,"",null,"",null,null,"","",{"$f":"IF(OR(A1493=\"\",B1493=\"\"),\"\",VLOOKUP(A1493&\"_\"&B1493,Lookups!$E:$F,2,FALSE))","v":""},""]
[null,null,null,null,null,"",null,"",null,null,"","",{"$f":"IF(OR(A1494=\"\",B1494=\"\"),\"\",VLOOKUP(A1494&\"_\"&B1494,Lookups!$E:$F,2,FALSE))","v":""},""]
[null,null,null,null,null,"",null,"",null,null,"","",{"$f":"IF(OR(A1495=\"\",B1495=\"\"),\"\",VLOOKUP(A1495&\"_\"&B1495,Lookups!$E:$F,2,FALSE))","v":""},""]
[null,null,null,null,null,"",null,"",null,null,"","",{"$f":"IF(OR(A1496=\"\",B1496=\"\"),\"\",VLOOKUP(A1496&\"_\"&B1496,Lookups!$E:$F,2,FALSE))","v":""},""]
[null,null,null,null,null,"",null,"",null,null,"","",{"$f":"IF(OR(A1497=\"\",B1497=\"\"),\"\",VLOOKUP(A1497&\"_\"&B1497,Lookups!$E:$F,2,FALSE))","v":""},""]
[null,null,null,null,null,"",null,"",null,null,"","",{"$f":"IF(OR(A1498=\"\",B1498=\"\"),\"\",VLOOKUP(A1498&\"_\"&B1498,Lookups!$E:$F,2,FALSE))","v":""},""]
[null,null,null,null,null,"",null,"",null,null,"","",{"$f":"IF(OR(A1499=\"\",B1499=\"\"),\"\",VLOOKUP(A1499&\"_\"&B1499,Lookups!$E:$F,2,FALSE))","v":""},""]
[null,null,null,null,null,"",null,"",null,null,"","",{"$f":"IF(OR(A1500=\"\",B1500=\"\"),\"\",VLOOKUP(A1500&\"_\"&B1500,Lookups!$E:$F,2,FALSE))","v":""},""]
[null,null,null,null,null,"",null,"",null,null,"","",{"$f":"IF(OR(A1501=\"\",B1501=\"\"),\"\",VLOOKUP(A1501&\"_\"&B1501,Lookups!$E:$F,2,FALSE))","v":""},""]
[null,null,null,null,null,"",null,"",null,null,"","",{"$f":"IF(OR(A1502=\"\",B1502=\"\"),\"\",VLOOKUP(A1502&\"_\"&B1502,Lookups!$E:$F,2,FALSE))","v":""},""]
[null,null,null,null,null,"",null,"",null,null,"","",{"$f":"IF(OR(A1503=\"\",B1503=\"\"),\"\",VLOOKUP(A1503&\"_\"&B1503,Lookups!$E:$F,2,FALSE))","v":""},""]
[null,null,null,null,null,"",null,"",null,null,"","",{"$f":"IF(OR(A1504=\"\",B1504=\"\"),\"\",VLOOKUP(A1504&\"_\"&B1504,Lookups!$E:$F,2,FALSE))","v":""},""]
[null,null,null,null,null,"",null,"",null,null,"","",{"$f":"IF(OR(A1505=\"\",B1505=\"\"),\"\",VLOOKUP(A1505&\"_\"&B1505,Lookups!$E:$F,2,FALSE))","v":""},""]
[null,null,null,null,null,"",null,"",null,null,"","",{"$f":"IF(OR(A1506=\"\",B1506=\"\"),\"\",VLOOKUP(A1506&\"_\"&B1506,Lookups!$E:$F,2,FALSE))","v":""},""]
[null,null,null,null,null,"",null,"",null,null,"","",{"$f":"IF(OR(A1507=\"\",B1507=\"\"),\"\",VLOOKUP(A1507&\"_\"&B1507,Lookups!$E:$F,2,FALSE))","v":""},""]
[null,null,null,null,null,"",null,"",null,null,"","",{"$f":"IF(OR(A1508=\"\",B1508=\"\"),\"\",VLOOKUP(A1508&\"_\"&B1508,Lookups!$E:$F,2,FALSE))","v":""},""]
[null,null,null,null,null,"",null,"",null,null,"","",{"$f":"IF(OR(A1509=\"\",B1509=\"\"),\"\",VLOOKUP(A1509&\"_\"&B1509,Lookups!$E:$F,2,FALSE))","v":""},""]
[null,null,null,null,null,"",null,"",null,null,"","",{"$f":"IF(OR(A1510=\"\",B1510=\"\"),\"\",VLOOKUP(A1510&\"_\"&B1510,Lookups!$E:$F,2,FALSE))","v":""},""]
[null,null,null,null,null,"",null,"",null,null,"","",{"$f":"IF(OR(A1511=\"\",B1511=\"\"),\"\",VLOOKUP(A1511&\"_\"&B1511,Lookups!$E:$F,2,FALSE))","v":""},""]
[null,null,null,null,null,"",null,"",null,null,"","",{"$f":"IF(OR(A1512=\"\",B1512=\"\"),\"\",VLOOKUP(A1512&\"_\"&B1512,Lookups!$E:$F,2,FALSE))","v":""},""]
[null,null,null,null,null,"",null,"",null,null,"","",{"$f":"IF(OR(A1513=\"\",B1513=\"\"),\"\",VLOOKUP(A1513&\"_\"&B1513,Lookups!$E:$F,2,FALSE))","v":""},""]
[null,null,null,null,null,"",null,"",null,null,"","",{"$f":"IF(OR(A1514=\"\",B1514=\"\"),\"\",VLOOKUP(A1514&\"_\"&B1514,Lookups!$E:$F,2,FALSE))","v":""},""]
[null,null,null,null,null,"",null,"",null,null,"","",{"$f":"IF(OR(A1515=\"\",B1515=\"\"),\"\",VLOOKUP(A1515&\"_\"&B1515,Lookups!$E:$F,2,FALSE))","v":""},""]
[null,null,null,null,null,"",null,"",null,null,"","",{"$f":"IF(OR(A1516=\"\",B1516=\"\"),\"\",VLOOKUP(A1516&\"_\"&B1516,Lookups!$E:$F,2,FALSE))","v":""},""]
[null,null,null,null,null,"",null,"",null,null,"","",{"$f":"IF(OR(A1517=\"\",B1517=\"\"),\"\",VLOOKUP(A1517&\"_\"&B1517,Lookups!$E:$F,2,FALSE))","v":""},""]
[null,null,null,null,null,"",null,"",null,null,"","",{"$f":"IF(OR(A1518=\"\",B1518=\"\"),\"\",VLOOKUP(A1518&\"_\"&B1518,Lookups!$E:$F,2,FALSE))","v":""},""]
[null,null,null,null,null,"",null,"",null,null,"","",{"$f":"IF(OR(A1519=\"\",B1519=\"\"),\"\",VLOOKUP(A1519&\"_\"&B1519,Lookups!$E:$F,2,FALSE))","v":""},""]
[null,null,null,null,null,"",null,"",null,null,"","",{"$f":"IF(OR(A1520=\"\",B1520=\"\"),\"\",VLOOKUP(A1520&\"_\"&B1520,Lookups!$E:$F,2,FALSE))","v":""},""]
[null,null,null,null,null,"",null,"",null,null,"","",{"$f":"IF(OR(A1521=\"\",B1521=\"\"),\"\",VLOOKUP(A1521&\"_\"&B1521,Lookups!$E:$F,2,FALSE))","v":""},""]
[null,null,null,null,null,"",null,"",null,null,"","",{"$f":"IF(OR(A1522=\"\",B1522=\"\"),\"\",VLOOKUP(A1522&\"_\"&B1522,Lookups!$E:$F,2,FALSE))","v":""},""]
[null,null,null,null,null,"",null,"",null,null,"","",{"$f":"IF(OR(A1523=\"\",B1523=\"\"),\"\",VLOOKUP(A1523&\"_\"&B1523,Lookups!$E:$F,2,FALSE))","v":""},""]
[null,null,null,null,null,"",null,"",null,null,"","",{"$f":"IF(OR(A1524=\"\",B1524=\"\"),\"\",VLOOKUP(A1524&\"_\"&B1524,Lookups!$E:$F,2,FALSE))","v":""},""]
[null,null,null,null,null,"",null,"",null,null,"","",{"$f":"IF(OR(A1525=\"\",B1525=\"\"),\"\",VLOOKUP(A1525&\"_\"&B1525,Lookups!$E:$F,2,FALSE))","v":""},""]
[null,null,null,null,null,"",null,"",null,null,"","",{"$f":"IF(OR(A1526=\"\",B1526=\"\"),\"\",VLOOKUP(A1526&\"_\"&B1526,Lookups!$E:$F,2,FALSE))","v":""},""]
[null,null,null,null,null,"",null,"",null,null,"","",{"$f":"IF(OR(A1527=\"\",B1527=\"\"),\"\",VLOOKUP(A1527&\"_\"&B1527,Lookups!$E:$F,2,FALSE))","v":""},""]
[null,null,null,null,null,"",null,"",null,null,"","",{"$f":"IF(OR(A1528=\"\",B1528=\"\"),\"\",VLOOKUP(A1528&\"_\"&B1528,Lookups!$E:$F,2,FALSE))","v":""},""]
[null,null,null,null,null,"",null,"",null,null,"","",{"$f":"IF(OR(A1529=\"\",B1529=\"\"),\"\",VLOOKUP(A1529&\"_\"&B1529,Lookups!$E:$F,2,FALSE))","v":""},""]
[null,null,null,null,null,"",null,"",null,null,"","",{"$f":"IF(OR(A1530=\"\",B1530=\"\"),\"\",VLOOKUP(A1530&\"_\"&B1530,Lookups!$E:$F,2,FALSE))","v":""},""]
[null,null,null,null,null,"",null,"",null,null,"","",{"$f":"IF(OR(A1531=\"\",B1531=\"\"),\"\",VLOOKUP(A1531&\"_\"&B1531,Lookups!$E:$F,2,FALSE))","v":""},""]
[null,null,null,null,null,"",null,"",null,null,"","",{"$f":"IF(OR(A1532=\"\",B1532=\"\"),\"\",VLOOKUP(A1532&\"_\"&B1532,Lookups!$E:$F,2,FALSE))","v":""},""]
[null,null,null,null,null,"",null,"",null,null,"","",{"$f":"IF(OR(A1533=\"\",B1533=\"\"),\"\",VLOOKUP(A1533&\"_\"&B1533,Lookups!$E:$F,2,FALSE))","v":""},""]
[null,null,null,null,null,"",null,"",null,null,"","",{"$f":"IF(OR(A1534=\"\",B1534=\"\"),\"\",VLOOKUP(A1534&\"_\"&B1534,Lookups!$E:$F,2,FALSE))","v":""},""]
[null,null,null,null,null,"",null,"",null,null,"","",{"$f":"IF(OR(A1535=\"\",B1535=\"\"),\"\",VLOOKUP(A1535&\"_\"&B1535,Lookups!$E:$F,2,FALSE))","v":""},""]
[null,null,null,null,null,"",null,"",null,null,"","",{"$f":"IF(OR(A1536=\"\",B1536=\"\"),\"\",VLOOKUP(A1536&\"_\"&B1536,Lookups!$E:$F,2,FALSE))","v":""},""]
[null,null,null,null,null,"",null,"",null,null,"","",{"$f":"IF(OR(A1537=\"\",B1537=\"\"),\"\",VLOOKUP(A1537&\"_\"&B1537,Lookups!$E:$F,2,FALSE))","v":""},""]
[null,null,null,null,null,"",null,"",null,null,"","",{"$f":"IF(OR(A1538=\"\",B1538=\"\"),\"\",VLOOKUP(A1538&\"_\"&B1538,Lookups!$E:$F,2,FALSE))","v":""},""]
[null,null,null,null,null,"",null,"",null,null,"","",{"$f":"IF(OR(A1539=\"\",B1539=\"\"),\"\",VLOOKUP(A1539&\"_\"&B1539,Lookups!$E:$F,2,FALSE))","v":""},""]
[null,null,null,null,null,{"$f":"IF(OR(D1540=\"\",E1540=\"\"),\"\",ROUND((E1540-D1540)*24,2))","v":""},null,{"$f":"IF(F1540=\"\",\"\",IF(G1540<>\"\",F1540*G1540,F1540))","v":""},null,null,{"$f":"IF(AND(H1540<>\"\",I1540=\"Paid\"),H1540,\"\")","v":""},{"$f":"IF(H1540=\"\",\"\",IF(K1540=\"\",H1540,H1540-K1540))","v":""},{"$f":"IF(OR(A1540=\"\",B1540=\"\"),\"\",VLOOKUP(A1540&\"_\"&B1540,Lookups!$E:$F,2,FALSE))","v":""},{"$f":"IF(AND(K1540=\"\",L1540=\"\"),\"\",IF(K1540=\"\",L1540*M1540,SUM(K1540,L1540)*M1540))","v":""}]
[null,null,null,null,null,"",null,"",null,null,"","",{"$f":"IF(OR(A1541=\"\",B1541=\"\"),\"\",VLOOKUP(A1541&\"_\"&B1541,Lookups!$E:$F,2,FALSE))","v":""},""]
[null,null,null,null,null,"",null,"",null,null,"","",{"$f":"IF(OR(A1542=\"\",B1542=\"\"),\"\",VLOOKUP(A1542&\"_\"&B1542,Lookups!$E:$F,2,FALSE))","v":""},""]
[null,null,null,null,null,"",null,"",null,null,"","",{"$f":"IF(OR(A1543=\"\",B1543=\"\"),\"\",VLOOKUP(A1543&\"_\"&B1543,Lookups!$E:$F,2,FALSE))","v":""},""]
[null,null,null,null,null,"",null,"",null,null,"","",{"$f":"IF(OR(A1544=\"\",B1544=\"\"),\"\",VLOOKUP(A1544&\"_\"&B1544,Lookups!$E:$F,2,FALSE))","v":""},""]
[null,null,null,null,null,"",null,"",null,null,"","",{"$f":"IF(OR(A1545=\"\",B1545=\"\"),\"\",VLOOKUP(A1545&\"_\"&B1545,Lookups!$E:$F,2,FALSE))","v":""},""]
[null,null,null,null,null,"",null,"",null,null,"","",{"$f":"IF(OR(A1546=\"\",B1546=\"\"),\"\",VLOOKUP(A1546&\"_\"&B1546,Lookups!$E:$F,2,FALSE))","v":""},""]
[null,null,null,null,null,"",null,"",null,null,"","",{"$f":"IF(OR(A1547=\"\",B1547=\"\"),\"\",VLOOKUP(A1547&\"_\"&B1547,Lookups!$E:$F,2,FALSE))","v":""},""]
[null,null,null,null,null,"",null,"",null,null,"","",{"$f":"IF(OR(A1548=\"\",B1548=\"\"),\"\",VLOOKUP(A1548&\"_\"&B1548,Lookups!$E:$F,2,FALSE))","v":""},""]
[null,null,null,null,null,"",null,"",null,null,"","",{"$f":"IF(OR(A1549=\"\",B1549=\"\"),\"\",VLOOKUP(A1549&\"_\"&B1549,Lookups!$E:$F,2,FALSE))","v":""},""]
[null,null,null,null,null,"",null,"",null,null,"","",{"$f":"IF(OR(A1550=\"\",B1550=\"\"),\"\",VLOOKUP(A1550&\"_\"&B1550,Lookups!$E:$F,2,FALSE))","v":""},""]
[null,null,null,null,null,"",null,"",null,null,"","",{"$f":"IF(OR(A1551=\"\",B1551=\"\"),\"\",VLOOKUP(A1551&\"_\"&B1551,Lookups!$E:$F,2,FALSE))","v":""},""]
[null,null,null,null,null,"",null,"",null,null,"","",{"$f":"IF(OR(A1552=\"\",B1552=\"\"),\"\",VLOOKUP(A1552&\"_\"&B1552,Lookups!$E:$F,2,FALSE))","v":""},""]
[null,null,null,null,null,"",null,"",null,null,"","",{"$f":"IF(OR(A1553=\"\",B1553=\"\"),\"\",VLOOKUP(A1553&\"_\"&B1553,Lookups!$E:$F,2,FALSE))","v":""},""]
[null,null,null,null,null,"",null,"",null,null,"","",{"$f":"IF(OR(A1554=\"\",B1554=\"\"),\"\",VLOOKUP(A1554&\"_\"&B1554,Lookups!$E:$F,2,FALSE))","v":""},""]
[null,null,null,null,null,"",null,"",null,null,"","",{"$f":"IF(OR(A1555=\"\",B1555=\"\"),\"\",VLOOKUP(A1555&\"_\"&B1555,Lookups!$E:$F,2,FALSE))","v":""},""]
[null,null,null,null,null,"",null,"",null,null,"","",{"$f":"IF(OR(A1556=\"\",B1556=\"\"),\"\",VLOOKUP(A1556&\"_\"&B1556,Lookups!$E:$F,2,FALSE))","v":""},""]
[null,null,null,null,null,"",null,"",null,null,"","",{"$f":"IF(OR(A1557=\"\",B1557=\"\"),\"\",VLOOKUP(A1557&\"_\"&B1557,Lookups!$E:$F,2,FALSE))","v":""},""]
[null,null,null,null,null,"",null,"",null,null,"","",{"$f":"IF(OR(A1558=\"\",B1558=\"\"),\"\",VLOOKUP(A1558&\"_\"&B1558,Lookups!$E:$F,2,FALSE))","v":""},""]
[null,null,null,null,null,"",null,"",null,null,"","",{"$f":"IF(OR(A1559=\"\",B1559=\"\"),\"\",VLOOKUP(A1559&\"_\"&B1559,Lookups!$E:$F,2,FALSE))","v":""},""]
[null,null,null,null,null,"",null,"",null,null,"","",{"$f":"IF(OR(A1560=\"\",B1560=\"\"),\"\",VLOOKUP(A1560&\"_\"&B1560,Lookups!$E:$F,2,FALSE))","v":""},""]
[null,null,null,null,null,"",null,"",null,null,"","",{"$f":"IF(OR(A1561=\"\",B1561=\"\"),\"\",VLOOKUP(A1561&\"_\"&B1561,Lookups!$E:$F,2,FALSE))","v":""},""]
[null,null,null,null,null,"",null,"",null,null,"","",{"$f":"IF(OR(A1562=\"\",B1562=\"\"),\"\",VLOOKUP(A1562&\"_\"&B1562,Lookups!$E:$F,2,FALSE))","v":""},""]
[null,null,null,null,null,"",null,"",null,null,"","",{"$f":"IF(OR(A1563=\"\",B1563=\"\"),\"\",VLOOKUP(A1563&\"_\"&B1563,Lookups!$E:$F,2,FALSE))","v":""},""]
[null,null,null,null,null,"",null,"",null,null,"","",{"$f":"IF(OR(A1564=\"\",B1564=\"\"),\"\",VLOOKUP(A1564&\"_\"&B1564,Lookups!$E:$F,2,FALSE))","v":""},""]
[null,null,null,null,null,"",null,"",null,null,"","",{"$f":"IF(OR(A1565=\"\",B1565=\"\"),\"\",VLOOKUP(A1565&\"_\"&B1565,Lookups!$E:$F,2,FALSE))","v":""},""]
[null,null,null,null,null,"",null,"",null,null,"","",{"$f":"IF(OR(A1566=\"\",B1566=\"\"),\"\",VLOOKUP(A1566&\"_\"&B1566,Lookups!$E:$F,2,FALSE))","v":""},""]
[null,null,null,null,null,"",null,"",null,null,"","",{"$f":"IF(OR(A1567=\"\",B1567=\"\"),\"\",VLOOKUP(A1567&\"_\"&B1567,Lookups!$E:$F,2,FALSE))","v":""},""]
[null,null,null,null,null,"",null,"",null,null,"","",{"$f":"IF(OR(A1568=\"\",B1568=\"\"),\"\",VLOOKUP(A1568&\"_\"&B1568,Lookups!$E:$F,2,FALSE))","v":""},""]
[null,null,null,null,null,"",null,"",null,null,"","",{"$f":"IF(OR(A1569=\"\",B1569=\"\"),\"\",VLOOKUP(A1569&\"_\"&B1569,Lookups!$E:$F,2,FALSE))","v":""},""]
[null,null,null,null,null,"",null,"",null,null,"","",{"$f":"IF(OR(A1570=\"\",B1570=\"\"),\"\",VLOOKUP(A1570&\"_\"&B1570,Lookups!$E:$F,2,FALSE))","v":""},""]
[null,null,null,null,null,"",null,"",null,null,"","",{"$f":"IF(OR(A1571=\"\",B1571=\"\"),\"\",VLOOKUP(A1571&\"_\"&B1571,Lookups!$E:$F,2,FALSE))","v":""},""]
[null,null,null,null,null,"",null,"",null,null,"","",{"$f":"IF(OR(A1572=\"\",B1572=\"\"),\"\",VLOOKUP(A1572&\"_\"&B1572,Lookups!$E:$F,2,FALSE))","v":""},""]
[null,null,null,null,null,"",null,"",null,null,"","",{"$f":"IF(OR(A1573=\"\",B1573=\"\"),\"\",VLOOKUP(A1573&\"_\"&B1573,Lookups!$E:$F,2,FALSE))","v":""},""]
[null,null,null,null,null,"",null,"",null,null,"","",{"$f":"IF(OR(A1574=\"\",B1574=\"\"),\"\",VLOOKUP(A1574&\"_\"&B1574,Lookups!$E:$F,2,FALSE))","v":""},""]
[null,null,null,null,null,"",null,"",null,null,"","",{"$f":"IF(OR(A1575=\"\",B1575=\"\"),\"\",VLOOKUP(A1575&\"_\"&B1575,Lookups!$E:$F,2,FALSE))","v":""},""]
[null,null,null,null,null,"",null,"",null,null,"","",{"$f":"IF(OR(A1576=\"\",B1576=\"\"),\"\",VLOOKUP(A1576&\"_\"&B1576,Lookups!$E:$F,2,FALSE))","v":""},""]
[null,null,null,null,null,"",null,"",null,null,"","",{"$f":"IF(OR(A1577=\"\",B1577=\"\"),\"\",VLOOKUP(A1577&\"_\"&B1577,Lookups!$E:$F,2,FALSE))","v":""},""]
[null,null,null,null,null,"",null,"",null,null,"","",{"$f":"IF(OR(A1578=\"\",B1578=\"\"),\"\",VLOOKUP(A1578&\"_\"&B1578,Lookups!$E:$F,2,FALSE))","v":""},""]
[null,null,null,null,null,"",null,"",null,null,"","",{"$f":"IF(OR(A1579=\"\",B1579=\"\"),\"\",VLOOKUP(A1579&\"_\"&B1579,Lookups!$E:$F,2,FALSE))","v":""},""]
[null,null,null,null,null,"",null,"",null,null,"","",{"$f":"IF(OR(A1580=\"\",B1580=\"\"),\"\",VLOOKUP(A1580&\"_\"&B1580,Lookups!$E:$F,2,FALSE))","v":""},""]
[null,null,null,null,null,"",null,"",null,null,"","",{"$f":"IF(OR(A1581=\"\",B1581=\"\"),\"\",VLOOKUP(A1581&\"_\"&B1581,Lookups!$E:$F,2,FALSE))","v":""},""]
[null,null,null,null,null,"",null,"",null,null,"","",{"$f":"IF(OR(A1582=\"\",B1582=\"\"),\"\",VLOOKUP(A1582&\"_\"&B1582,Lookups!$E:$F,2,FALSE))","v":""},""]
[null,null,null,null,null,"",null,"",null,null,"","",{"$f":"IF(OR(A1583=\"\",B1583=\"\"),\"\",VLOOKUP(A1583&\"_\"&B1583,Lookups!$E:$F,2,FALSE))","v":""},""]
[null,null,null,null,null,"",null,"",null,null,"","",{"$f":"IF(OR(A1584=\"\",B1584=\"\"),\"\",VLOOKUP(A1584&\"_\"&B1584,Lookups!$E:$F,2,FALSE))","v":""},""]
[null,null,null,null,null,"",null,"",null,null,"","",{"$f":"IF(OR(A1585=\"\",B1585=\"\"),\"\",VLOOKUP(A1585&\"_\"&B1585,Lookups!$E:$F,2,FALSE))","v":""},""]
[null,null,null,null,null,"",null,"",null,null,"","",{"$f":"IF(OR(A1586=\"\",B1586=\"\"),\"\",VLOOKUP(A1586&\"_\"&B1586,Lookups!$E:$F,2,FALSE))","v":""},""]
[null,null,null,null,null,"",null,"",null,null,"","",{"$f":"IF(OR(A1587=\"\",B1587=\"\"),\"\",VLOOKUP(A1587&\"_\"&B1587,Lookups!$E:$F,2,FALSE))","v":""},""]
[null,null,null,null,null,"",null,"",null,null,"","",{"$f":"IF(OR(A1588=\"\",B1588=\"\"),\"\",VLOOKUP(A1588&\"_\"&B1588,Lookups!$E:$F,2,FALSE))","v":""},""]
[null,null,null,null,null,"",null,"",null,null,"","",{"$f":"IF(OR(A1589=\"\",B1589=\"\"),\"\",VLOOKUP(A1589&\"_\"&B1589,Lookups!$E:$F,2,FALSE))","v":""},""]
[null,null,null,null,null,"",null,"",null,null,"","",{"$f":"IF(OR(A1590=\"\",B1590=\"\"),\"\",VLOOKUP(A1590&\"_\"&B1590,Lookups!$E:$F,2,FALSE))","v":""},""]
[null,null,null,null,null,"",null,"",null,null,"","",{"$f":"IF(OR(A1591=\"\",B1591=\"\"),\"\",VLOOKUP(A1591&\"_\"&B1591,Lookups!$E:$F,2,FALSE))","v":""},""]
[null,null,null,null,null,"",null,"",null,null,"","",{"$f":"IF(OR(A1592=\"\",B1592=\"\"),\"\",VLOOKUP(A1592&\"_\"&B1592,Lookups!$E:$F,2,FALSE))","v":""},""]
[null,null,null,null,null,"",null,"",null,null,"","",{"$f":"IF(OR(A1593=\"\",B1593=\"\"),\"\",VLOOKUP(A1593&\"_\"&B1593,Lookups!$E:$F,2,FALSE))","v":""},""]
[null,null,null,null,null,"",null,"",null,null,"","",{"$f":"IF(OR(A1594=\"\",B1594=\"\"),\"\",VLOOKUP(A1594&\"_\"&B1594,Lookups!$E:$F,2,FALSE))","v":""},""]
[null,null,null,null,null,"",null,"",null,null,"","",{"$f":"IF(OR(A1595=\"\",B1595=\"\"),\"\",VLOOKUP(A1595&\"_\"&B1595,Lookups!$E:$F,2,FALSE))","v":""},""]
[null,null,null,null,null,"",null,"",null,null,"","",{"$f":"IF(OR(A1596=\"\",B1596=\"\"),\"\",VLOOKUP(A1596&\"_\"&B1596,Lookups!$E:$F,2,FALSE))","v":""},""]
[null,null,null,null,null,"",null,"",null,null,"","",{"$f":"IF(OR(A1597=\"\",B1597=\"\"),\"\",VLOOKUP(A1597&\"_\"&B1597,Lookups!$E:$F,2,FALSE))","v":""},""]
[null,null,null,null,null,"",null,"",null,null,"","",{"$f":"IF(OR(A1598=\"\",B1598=\"\"),\"\",VLOOKUP(A1598&\"_\"&B1598,Lookups!$E:$F,2,FALSE))","v":""},""]
[null,null,null,null,null,"",null,"",null,null,"","",{"$f":"IF(OR(A1599=\"\",B1599=\"\"),\"\",VLOOKUP(A1599&\"_\"&B1599,Lookups!$E:$F,2,FALSE))","v":""},""]
[null,null,null,null,null,"",null,"",null,null,"","",{"$f":"IF(OR(A1600=\"\",B1600=\"\"),\"\",VLOOKUP(A1600&\"_\"&B1600,Lookups!$E:$F,2,FALSE))","v":""},""]
[null,null,null,null,null,"",null,"",null,null,"","",{"$f":"IF(OR(A1601=\"\",B1601=\"\"),\"\",VLOOKUP(A1601&\"_\"&B1601,Lookups!$E:$F,2,FALSE))","v":""},""]
[null,null,null,null,null,"",null,"",null,null,"","",{"$f":"IF(OR(A1602=\"\",B1602=\"\"),\"\",VLOOKUP(A1602&\"_\"&B1602,Lookups!$E:$F,2,FALSE))","v":""},""]
[null,null,null,null,null,"",null,"",null,null,"","",{"$f":"IF(OR(A1603=\"\",B1603=\"\"),\"\",VLOOKUP(A1603&\"_\"&B1603,Lookups!$E:$F,2,FALSE))","v":""},""]
[null,null,null,null,null,{"$f":"IF(OR(D1604=\"\",E1604=\"\"),\"\",ROUND((E1604-D1604)*24,2))","v":""},null,{"$f":"IF(F1604=\"\",\"\",IF(G1604<>\"\",F1604*G1604,F1604))","v":""},null,null,{"$f":"IF(AND(H1604<>\"\",I1604=\"Paid\"),H1604,\"\")","v":""},{"$f":"IF(H1604=\"\",\"\",IF(K1604=\"\",H1604,H1604-K1604))","v":""},{"$f":"IF(OR(A1604=\"\",B1604=\"\"),\"\",VLOOKUP(A1604&\"_\"&B1604,Lookups!$E:$F,2,FALSE))","v":""},{"$f":"IF(AND(K1604=\"\",L1604=\"\"),\"\",IF(K1604=\"\",L1604*M1604,SUM(K1604,L1604)*M1604))","v":""}]
[null,null,null,null,null,"",null,"",null,null,"","",{"$f":"IF(OR(A1605=\"\",B1605=\"\"),\"\",VLOOKUP(A1605&\"_\"&B1605,Lookups!$E:$F,2,FALSE))","v":""},""]
[null,null,null,null,null,"",null,"",null,null,"","",{"$f":"IF(OR(A1606=\"\",B1606=\"\"),\"\",VLOOKUP(A1606&\"_\"&B1606,Lookups!$E:$F,2,FALSE))","v":""},""]
[null,null,null,null,null,"",null,"",null,null,"","",{"$f":"IF(OR(A1607=\"\",B1607=\"\"),\"\",VLOOKUP(A1607&\"_\"&B1607,Lookups!$E:$F,2,FALSE))","v":""},""]
[null,null,null,null,null,"",null,"",null,null,"","",{"$f":"IF(OR(A1608=\"\",B1608=\"\"),\"\",VLOOKUP(A1608&\"_\"&B1608,Lookups!$E:$F,2,FALSE))","v":""},""]
[null,null,null,null,null,"",null,"",null,null,"","",{"$f":"IF(OR(A1609=\"\",B1609=\"\"),\"\",VLOOKUP(A1609&\"_\"&B1609,Lookups!$E:$F,2,FALSE))","v":""},""]
[null,null,null,null,null,"",null,"",null,null,"","",{"$f":"IF(OR(A1610=\"\",B1610=\"\"),\"\",VLOOKUP(A1610&\"_\"&B1610,Lookups!$E:$F,2,FALSE))","v":""},""]
[null,null,null,null,null,"",null,"",null,null,"","",{"$f":"IF(OR(A1611=\"\",B1611=\"\"),\"\",VLOOKUP(A1611&\"_\"&B1611,Lookups!$E:$F,2,FALSE))","v":""},""]
[null,null,null,null,null,"",null,"",null,null,"","",{"$f":"IF(OR(A1612=\"\",B1612=\"\"),\"\",VLOOKUP(A1612&\"_\"&B1612,Lookups!$E:$F,2,FALSE))","v":""},""]
[null,null,null,null,null,"",null,"",null,null,"","",{"$f":"IF(OR(A1613=\"\",B1613=\"\"),\"\",VLOOKUP(A1613&\"_\"&B1613,Lookups!$E:$F,2,FALSE))","v":""},""]
[null,null,null,null,null,"",null,"",null,null,"","",{"$f":"IF(OR(A1614=\"\",B1614=\"\"),\"\",VLOOKUP(A1614&\"_\"&B1614,Lookups!$E:$F,2,FALSE))","v":""},""]
[null,null,null,null,null,"",null,"",null,null,"","",{"$f":"IF(OR(A1615=\"\",B1615=\"\"),\"\",VLOOKUP(A1615&\"_\"&B1615,Lookups!$E:$F,2,FALSE))","v":""},""]
[null,null,null,null,null,"",null,"",null,null,"","",{"$f":"IF(OR(A1616=\"\",B1616=\"\"),\"\",VLOOKUP(A1616&\"_\"&B1616,Lookups!$E:$F,2,FALSE))","v":""},""]
[null,null,null,null,null,"",null,"",null,null,"","",{"$f":"IF(OR(A1617=\"\",B1617=\"\"),\"\",VLOOKUP(A1617&\"_\"&B1617,Lookups!$E:$F,2,FALSE))","v":""},""]
[null,null,null,null,null,"",null,"",null,null,"","",{"$f":"IF(OR(A1618=\"\",B1618=\"\"),\"\",VLOOKUP(A1618&\"_\"&B1618,Lookups!$E:$F,2,FALSE))","v":""},""]
[null,null,null,null,null,"",null,"",null,null,"","",{"$f":"IF(OR(A1619=\"\",B1619=\"\"),\"\",VLOOKUP(A1619&\"_\"&B1619,Lookups!$E:$F,2,FALSE))","v":""},""]
[null,null,null,null,null,"",null,"",null,null,"","",{"$f":"IF(OR(A1620=\"\",B1620=\"\"),\"\",VLOOKUP(A1620&\"_\"&B1620,Lookups!$E:$F,2,FALSE))","v":""},""]
[null,null,null,null,null,"",null,"",null,null,"","",{"$f":"IF(OR(A1621=\"\",B1621=\"\"),\"\",VLOOKUP(A1621&\"_\"&B1621,Lookups!$E:$F,2,FALSE))","v":""},""]
[null,null,null,null,null,"",null,"",null,null,"","",{"$f":"IF(OR(A1622=\"\",B1622=\"\"),\"\",VLOOKUP(A1622&\"_\"&B1622,Lookups!$E:$F,2,FALSE))","v":""},""]
[null,null,null,null,null,"",null,"",null,null,"","",{"$f":"IF(OR(A1623=\"\",B1623=\"\"),\"\",VLOOKUP(A1623&\"_\"&B1623,Lookups!$E:$F,2,FALSE))","v":""},""]
[null,null,null,null,null,"",null,"",null,null,"","",{"$f":"IF(OR(A1624=\"\",B1624=\"\"),\"\",VLOOKUP(A1624&\"_\"&B1624,Lookups!$E:$F,2,FALSE))","v":""},""]
[null,null,null,null,null,"",null,"",null,null,"","",{"$f":"IF(OR(A1625=\"\",B1625=\"\"),\"\",VLOOKUP(A1625&\"_\"&B1625,Lookups!$E:$F,2,FALSE))","v":""},""]
[null,null,null,null,null,"",null,"",null,null,"","",{"$f":"IF(OR(A1626=\"\",B1626=\"\"),\"\",VLOOKUP(A1626&\"_\"&B1626,Lookups!$E:$F,2,FALSE))","v":""},""]
[null,null,null,null,null,"",null,"",null,null,"","",{"$f":"IF(OR(A1627=\"\",B1627=\"\"),\"\",VLOOKUP(A1627&\"_\"&B1627,Lookups!$E:$F,2,FALSE))","v":""},""]
[null,null,null,null,null,"",null,"",null,null,"","",{"$f":"IF(OR(A1628=\"\",B1628=\"\"),\"\",VLOOKUP(A1628&\"_\"&B1628,Lookups!$E:$F,2,FALSE))","v":""},""]
[null,null,null,null,null,"",null,"",null,null,"","",{"$f":"IF(OR(A1629=\"\",B1629=\"\"),\"\",VLOOKUP(A1629&\"_\"&B1629,Lookups!$E:$F,2,FALSE))","v":""},""]
[null,null,null,null,null,"",null,"",null,null,"","",{"$f":"IF(OR(A1630=\"\",B1630=\"\"),\"\",VLOOKUP(A1630&\"_\"&B1630,Lookups!$E:$F,2,FALSE))","v":""},""]
[null,null,null,null,null,"",null,"",null,null,"","",{"$f":"IF(OR(A1631=\"\",B1631=\"\"),\"\",VLOOKUP(A1631&\"_\"&B1631,Lookups!$E:$F,2,FALSE))","v":""},""]
[null,null,null,null,null,"",null,"",null,null,"","",{"$f":"IF(OR(A1632=\"\",B1632=\"\"),\"\",VLOOKUP(A1632&\"_\"&B1632,Lookups!$E:$F,2,FALSE))","v":""},""]
[null,null,null,null,null,"",null,"",null,null,"","",{"$f":"IF(OR(A1633=\"\",B1633=\"\"),\"\",VLOOKUP(A1633&\"_\"&B1633,Lookups!$E:$F,2,FALSE))","v":""},""]
[null,null,null,null,null,"",null,"",null,null,"","",{"$f":"IF(OR(A1634=\"\",B1634=\"\"),\"\",VLOOKUP(A1634&\"_\"&B1634,Lookups!$E:$F,2,FALSE))","v":""},""]
[null,null,null,null,null,"",null,"",null,null,"","",{"$f":"IF(OR(A1635=\"\",B1635=\"\"),\"\",VLOOKUP(A1635&\"_\"&B1635,Lookups!$E:$F,2,FALSE))","v":""},""]
[null,null,null,null,null,"",null,"",null,null,"","",{"$f":"IF(OR(A1636=\"\",B1636=\"\"),\"\",VLOOKUP(A1636&\"_\"&B1636,Lookups!$E:$F,2,FALSE))","v":""},""]
[null,null,null,null,null,"",null,"",null,null,"","",{"$f":"IF(OR(A1637=\"\",B1637=\"\"),\"\",VLOOKUP(A1637&\"_\"&B1637,Lookups!$E:$F,2,FALSE))","v":""},""]
[null,null,null,null,null,"",null,"",null,null,"","",{"$f":"IF(OR(A1638=\"\",B1638=\"\"),\"\",VLOOKUP(A1638&\"_\"&B1638,Lookups!$E:$F,2,FALSE))","v":""},""]
[null,null,null,null,null,"",null,"",null,null,"","",{"$f":"IF(OR(A1639=\"\",B1639=\"\"),\"\",VLOOKUP(A1639&\"_\"&B1639,Lookups!$E:$F,2,FALSE))","v":""},""]
[null,null,null,null,null,"",null,"",null,null,"","",{"$f":"IF(OR(A1640=\"\",B1640=\"\"),\"\",VLOOKUP(A1640&\"_\"&B1640,Lookups!$E:$F,2,FALSE))","v":""},""]
[null,null,null,null,null,"",null,"",null,null,"","",{"$f":"IF(OR(A1641=\"\",B1641=\"\"),\"\",VLOOKUP(A1641&\"_\"&B1641,Lookups!$E:$F,2,FALSE))","v":""},""]
[null,null,null,null,null,"",null,"",null,null,"","",{"$f":"IF(OR(A1642=\"\",B1642=\"\"),\"\",VLOOKUP(A1642&\"_\"&B1642,Lookups!$E:$F,2,FALSE))","v":""},""]
[null,null,null,null,null,"",null,"",null,null,"","",{"$f":"IF(OR(A1643=\"\",B1643=\"\"),\"\",VLOOKUP(A1643&\"_\"&B1643,Lookups!$E:$F,2,FALSE))","v":""},""]
[null,null,null,null,null,"",null,"",null,null,"","",{"$f":"IF(OR(A1644=\"\",B1644=\"\"),\"\",VLOOKUP(A1644&\"_\"&B1644,Lookups!$E:$F,2,FALSE))","v":""},""]
[null,null,null,null,null,"",null,"",null,null,"","",{"$f":"IF(OR(A1645=\"\",B1645=\"\"),\"\",VLOOKUP(A1645&\"_\"&B1645,Lookups!$E:$F,2,FALSE))","v":""},""]
[null,null,null,null,null,"",null,"",null,null,"","",{"$f":"IF(OR(A1646=\"\",B1646=\"\"),\"\",VLOOKUP(A1646&\"_\"&B1646,Lookups!$E:$F,2,FALSE))","v":""},""]
[null,null,null,null,null,"",null,"",null,null,"","",{"$f":"IF(OR(A1647=\"\",B1647=\"\"),\"\",VLOOKUP(A1647&\"_\"&B1647,Lookups!$E:$F,2,FALSE))","v":""},""]
[null,null,null,null,null,"",null,"",null,null,"","",{"$f":"IF(OR(A1648=\"\",B1648=\"\"),\"\",VLOOKUP(A1648&\"_\"&B1648,Lookups!$E:$F,2,FALSE))","v":""},""]
[null,null,null,null,null,"",null,"",null,null,"","",{"$f":"IF(OR(A1649=\"\",B1649=\"\"),\"\",VLOOKUP(A1649&\"_\"&B1649,Lookups!$E:$F,2,FALSE))","v":""},""]
[null,null,null,null,null,"",null,"",null,null,"","",{"$f":"IF(OR(A1650=\"\",B1650=\"\"),\"\",VLOOKUP(A1650&\"_\"&B1650,Lookups!$E:$F,2,FALSE))","v":""},""]
[null,null,null,null,null,"",null,"",null,null,"","",{"$f":"IF(OR(A1651=\"\",B1651=\"\"),\"\",VLOOKUP(A1651&\"_\"&B1651,Lookups!$E:$F,2,FALSE))","v":""},""]
[null,null,null,null,null,"",null,"",null,null,"","",{"$f":"IF(OR(A1652=\"\",B1652=\"\"),\"\",VLOOKUP(A1652&\"_\"&B1652,Lookups!$E:$F,2,FALSE))","v":""},""]
[null,null,null,null,null,"",null,"",null,null,"","",{"$f":"IF(OR(A1653=\"\",B1653=\"\"),\"\",VLOOKUP(A1653&\"_\"&B1653,Lookups!$E:$F,2,FALSE))","v":""},""]
[null,null,null,null,null,"",null,"",null,null,"","",{"$f":"IF(OR(A1654=\"\",B1654=\"\"),\"\",VLOOKUP(A1654&\"_\"&B1654,Lookups!$E:$F,2,FALSE))","v":""},""]
[null,null,null,null,null,"",null,"",null,null,"","",{"$f":"IF(OR(A1655=\"\",B1655=\"\"),\"\",VLOOKUP(A1655&\"_\"&B1655,Lookups!$E:$F,2,FALSE))","v":""},""]
[null,null,null,null,null,"",null,"",null,null,"","",{"$f":"IF(OR(A1656=\"\",B1656=\"\"),\"\",VLOOKUP(A1656&\"_\"&B1656,Lookups!$E:$F,2,FALSE))","v":""},""]
[null,null,null,null,null,"",null,"",null,null,"","",{"$f":"IF(OR(A1657=\"\",B1657=\"\"),\"\",VLOOKUP(A1657&\"_\"&B1657,Lookups!$E:$F,2,FALSE))","v":""},""]
[null,null,null,null,null,"",null,"",null,null,"","",{"$f":"IF(OR(A1658=\"\",B1658=\"\"),\"\",VLOOKUP(A1658&\"_\"&B1658,Lookups!$E:$F,2,FALSE))","v":""},""]
[null,null,null,null,null,"",null,"",null,null,"","",{"$f":"IF(OR(A1659=\"\",B1659=\"\"),\"\",VLOOKUP(A1659&\"_\"&B1659,Lookups!$E:$F,2,FALSE))","v":""},""]
[null,null,null,null,null,"",null,"",null,null,"","",{"$f":"IF(OR(A1660=\"\",B1660=\"\"),\"\",VLOOKUP(A1660&\"_\"&B1660,Lookups!$E:$F,2,FALSE))","v":""},""]
[null,null,null,null,null,"",null,"",null,null,"","",{"$f":"IF(OR(A1661=\"\",B1661=\"\"),\"\",VLOOKUP(A1661&\"_\"&B1661,Lookups!$E:$F,2,FALSE))","v":""},""]
[null,null,null,null,null,"",null,"",null,null,"","",{"$f":"IF(OR(A1662=\"\",B1662=\"\"),\"\",VLOOKUP(A1662&\"_\"&B1662,Lookups!$E:$F,2,FALSE))","v":""},""]
[null,null,null,null,null,"",null,"",null,null,"","",{"$f":"IF(OR(A1663=\"\",B1663=\"\"),\"\",VLOOKUP(A1663&\"_\"&B1663,Lookups!$E:$F,2,FALSE))","v":""},""]
[null,null,null,null,null,"",null,"",null,null,"","",{"$f":"IF(OR(A1664=\"\",B1664=\"\"),\"\",VLOOKUP(A1664&\"_\"&B1664,Lookups!$E:$F,2,FALSE))","v":""},""]
[null,null,null,null,null,"",null,"",null,null,"","",{"$f":"IF(OR(A1665=\"\",B1665=\"\"),\"\",VLOOKUP(A1665&\"_\"&B1665,Lookups!$E:$F,2,FALSE))","v":""},""]
[null,null,null,null,null,"",null,"",null,null,"","",{"$f":"IF(OR(A1666=\"\",B1666=\"\"),\"\",VLOOKUP(A1666&\"_\"&B1666,Lookups!$E:$F,2,FALSE))","v":""},""]
[null,null,null,null,null,"",null,"",null,null,"","",{"$f":"IF(OR(A1667=\"\",B1667=\"\"),\"\",VLOOKUP(A1667&\"_\"&B1667,Lookups!$E:$F,2,FALSE))","v":""},""]
[null,null,null,null,null,{"$f":"IF(OR(D1668=\"\",E1668=\"\"),\"\",ROUND((E1668-D1668)*24,2))","v":""},null,{"$f":"IF(F1668=\"\",\"\",IF(G1668<>\"\",F1668*G1668,F1668))","v":""},null,null,{"$f":"IF(AND(H1668<>\"\",I1668=\"Paid\"),H1668,\"\")","v":""},{"$f":"IF(H1668=\"\",\"\",IF(K1668=\"\",H1668,H1668-K1668))","v":""},{"$f":"IF(OR(A1668=\"\",B1668=\"\"),\"\",VLOOKUP(A1668&\"_\"&B1668,Lookups!$E:$F,2,FALSE))","v":""},{"$f":"IF(AND(K1668=\"\",L1668=\"\"),\"\",IF(K1668=\"\",L1668*M1668,SUM(K1668,L1668)*M1668))","v":""}]
[null,null,null,null,null,"",null,"",null,null,"","",{"$f":"IF(OR(A1669=\"\",B1669=\"\"),\"\",VLOOKUP(A1669&\"_\"&B1669,Lookups!$E:$F,2,FALSE))","v":""},""]
[null,null,null,null,null,"",null,"",null,null,"","",{"$f":"IF(OR(A1670=\"\",B1670=\"\"),\"\",VLOOKUP(A1670&\"_\"&B1670,Lookups!$E:$F,2,FALSE))","v":""},""]
[null,null,null,null,null,"",null,"",null,null,"","",{"$f":"IF(OR(A1671=\"\",B1671=\"\"),\"\",VLOOKUP(A1671&\"_\"&B1671,Lookups!$E:$F,2,FALSE))","v":""},""]
[null,null,null,null,null,"",null,"",null,null,"","",{"$f":"IF(OR(A1672=\"\",B1672=\"\"),\"\",VLOOKUP(A1672&\"_\"&B1672,Lookups!$E:$F,2,FALSE))","v":""},""]
[null,null,null,null,null,"",null,"",null,null,"","",{"$f":"IF(OR(A1673=\"\",B1673=\"\"),\"\",VLOOKUP(A1673&\"_\"&B1673,Lookups!$E:$F,2,FALSE))","v":""},""]
[null,null,null,null,null,"",null,"",null,null,"","",{"$f":"IF(OR(A1674=\"\",B1674=\"\"),\"\",VLOOKUP(A1674&\"_\"&B1674,Lookups!$E:$F,2,FALSE))","v":""},""]
[null,null,null,null,null,"",null,"",null,null,"","",{"$f":"IF(OR(A1675=\"\",B1675=\"\"),\"\",VLOOKUP(A1675&\"_\"&B1675,Lookups!$E:$F,2,FALSE))","v":""},""]
[null,null,null,null,null,"",null,"",null,null,"","",{"$f":"IF(OR(A1676=\"\",B1676=\"\"),\"\",VLOOKUP(A1676&\"_\"&B1676,Lookups!$E:$F,2,FALSE))","v":""},""]
[null,null,null,null,null,"",null,"",null,null,"","",{"$f":"IF(OR(A1677=\"\",B1677=\"\"),\"\",VLOOKUP(A1677&\"_\"&B1677,Lookups!$E:$F,2,FALSE))","v":""},""]
[null,null,null,null,null,"",null,"",null,null,"","",{"$f":"IF(OR(A1678=\"\",B1678=\"\"),\"\",VLOOKUP(A1678&\"_\"&B1678,Lookups!$E:$F,2,FALSE))","v":""},""]
[null,null,null,null,null,"",null,"",null,null,"","",{"$f":"IF(OR(A1679=\"\",B1679=\"\"),\"\",VLOOKUP(A1679&\"_\"&B1679,Lookups!$E:$F,2,FALSE))","v":""},""]
[null,null,null,null,null,"",null,"",null,null,"","",{"$f":"IF(OR(A1680=\"\",B1680=\"\"),\"\",VLOOKUP(A1680&\"_\"&B1680,Lookups!$E:$F,2,FALSE))","v":""},""]
[null,null,null,null,null,"",null,"",null,null,"","",{"$f":"IF(OR(A1681=\"\",B1681=\"\"),\"\",VLOOKUP(A1681&\"_\"&B1681,Lookups!$E:$F,2,FALSE))","v":""},""]
[null,null,null,null,null,"",null,"",null,null,"","",{"$f":"IF(OR(A1682=\"\",B1682=\"\"),\"\",VLOOKUP(A1682&\"_\"&B1682,Lookups!$E:$F,2,FALSE))","v":""},""]
[null,null,null,null,null,"",null,"",null,null,"","",{"$f":"IF(OR(A1683=\"\",B1683=\"\"),\"\",VLOOKUP(A1683&\"_\"&B1683,Lookups!$E:$F,2,FALSE))","v":""},""]
[null,null,null,null,null,"",null,"",null,null,"","",{"$f":"IF(OR(A1684=\"\",B1684=\"\"),\"\",VLOOKUP(A1684&\"_\"&B1684,Lookups!$E:$F,2,FALSE))","v":""},""]
[null,null,null,null,null,"",null,"",null,null,"","",{"$f":"IF(OR(A1685=\"\",B1685=\"\"),\"\",VLOOKUP(A1685&\"_\"&B1685,Lookups!$E:$F,2,FALSE))","v":""},""]
[null,null,null,null,null,"",null,"",null,null,"","",{"$f":"IF(OR(A1686=\"\",B1686=\"\"),\"\",VLOOKUP(A1686&\"_\"&B1686,Lookups!$E:$F,2,FALSE))","v":""},""]
[null,null,null,null,null,"",null,"",null,null,"","",{"$f":"IF(OR(A1687=\"\",B1687=\"\"),\"\",VLOOKUP(A1687&\"_\"&B1687,Lookups!$E:$F,2,FALSE))","v":""},""]
[null,null,null,null,null,"",null,"",null,null,"","",{"$f":"IF(OR(A1688=\"\",B1688=\"\"),\"\",VLOOKUP(A1688&\"_\"&B1688,Lookups!$E:$F,2,FALSE))","v":""},""]
[null,null,null,null,null,"",null,"",null,null,"","",{"$f":"IF(OR(A1689=\"\",B1689=\"\"),\"\",VLOOKUP(A1689&\"_\"&B1689,Lookups!$E:$F,2,FALSE))","v":""},""]
[null,null,null,null,null,"",null,"",null,null,"","",{"$f":"IF(OR(A1690=\"\",B1690=\"\"),\"\",VLOOKUP(A1690&\"_\"&B1690,Lookups!$E:$F,2,FALSE))","v":""},""]
[null,null,null,null,null,"",null,"",null,null,"","",{"$f":"IF(OR(A1691=\"\",B1691=\"\"),\"\",VLOOKUP(A1691&\"_\"&B1691,Lookups!$E:$F,2,FALSE))","v":""},""]
[null,null,null,null,null,"",null,"",null,null,"","",{"$f":"IF(OR(A1692=\"\",B1692=\"\"),\"\",VLOOKUP(A1692&\"_\"&B1692,Lookups!$E:$F,2,FALSE))","v":""},""]
[null,null,null,null,null,"",null,"",null,null,"","",{"$f":"IF(OR(A1693=\"\",B1693=\"\"),\"\",VLOOKUP(A1693&\"_\"&B1693,Lookups!$E:$F,2,FALSE))","v":""},""]
[null,null,null,null,null,"",null,"",null,null,"","",{"$f":"IF(OR(A1694=\"\",B1694=\"\"),\"\",VLOOKUP(A1694&\"_\"&B1694,Lookups!$E:$F,2,FALSE))","v":""},""]
[null,null,null,null,null,"",null,"",null,null,"","",{"$f":"IF(OR(A1695=\"\",B1695=\"\"),\"\",VLOOKUP(A1695&\"_\"&B1695,Lookups!$E:$F,2,FALSE))","v":""},""]
[null,null,null,null,null,"",null,"",null,null,"","",{"$f":"IF(OR(A1696=\"\",B1696=\"\"),\"\",VLOOKUP(A1696&\"_\"&B1696,Lookups!$E:$F,2,FALSE))","v":""},""]
[null,null,null,null,null,"",null,"",null,null,"","",{"$f":"IF(OR(A1697=\"\",B1697=\"\"),\"\",VLOOKUP(A1697&\"_\"&B1697,Lookups!$E:$F,2,FALSE))","v":""},""]
[null,null,null,null,null,"",null,"",null,null,"","",{"$f":"IF(OR(A1698=\"\",B1698=\"\"),\"\",VLOOKUP(A1698&\"_\"&B1698,Lookups!$E:$F,2,FALSE))","v":""},""]
[null,null,null,null,null,"",null,"",null,null,"","",{"$f":"IF(OR(A1699=\"\",B1699=\"\"),\"\",VLOOKUP(A1699&\"_\"&B1699,Lookups!$E:$F,2,FALSE))","v":""},""]
[null,null,null,null,null,"",null,"",null,null,"","",{"$f":"IF(OR(A1700=\"\",B1700=\"\"),\"\",VLOOKUP(A1700&\"_\"&B1700,Lookups!$E:$F,2,FALSE))","v":""},""]
[null,null,null,null,null,"",null,"",null,null,"","",{"$f":"IF(OR(A1701=\"\",B1701=\"\"),\"\",VLOOKUP(A1701&\"_\"&B1701,Lookups!$E:$F,2,FALSE))","v":""},""]
[null,null,null,null,null,"",null,"",null,null,"","",{"$f":"IF(OR(A1702=\"\",B1702=\"\"),\"\",VLOOKUP(A1702&\"_\"&B1702,Lookups!$E:$F,2,FALSE))","v":""},""]
[null,null,null,null,null,"",null,"",null,null,"","",{"$f":"IF(OR(A1703=\"\",B1703=\"\"),\"\",VLOOKUP(A1703&\"_\"&B1703,Lookups!$E:$F,2,FALSE))","v":""},""]
[null,null,null,null,null,"",null,"",null,null,"","",{"$f":"IF(OR(A1704=\"\",B1704=\"\"),\"\",VLOOKUP(A1704&\"_\"&B1704,Lookups!$E:$F,2,FALSE))","v":""},""]
[null,null,null,null,null,"",null,"",null,null,"","",{"$f":"IF(OR(A1705=\"\",B1705=\"\"),\"\",VLOOKUP(A1705&\"_\"&B1705,Lookups!$E:$F,2,FALSE))","v":""},""]
[null,null,null,null,null,"",null,"",null,null,"","",{"$f":"IF(OR(A1706=\"\",B1706=\"\"),\"\",VLOOKUP(A1706&\"_\"&B1706,Lookups!$E:$F,2,FALSE))","v":""},""]
[null,null,null,null,null,"",null,"",null,null,"","",{"$f":"IF(OR(A1707=\"\",B1707=\"\"),\"\",VLOOKUP(A1707&\"_\"&B1707,Lookups!$E:$F,2,FALSE))","v":""},""]
[null,null,null,null,null,"",null,"",null,null,"","",{"$f":"IF(OR(A1708=\"\",B1708=\"\"),\"\",VLOOKUP(A1708&\"_\"&B1708,Lookups!$E:$F,2,FALSE))","v":""},""]
[null,null,null,null,null,"",null,"",null,null,"","",{"$f":"IF(OR(A1709=\"\",B1709=\"\"),\"\",VLOOKUP(A1709&\"_\"&B1709,Lookups!$E:$F,2,FALSE))","v":""},""]
[null,null,null,null,null,"",null,"",null,null,"","",{"$f":"IF(OR(A1710=\"\",B1710=\"\"),\"\",VLOOKUP(A1710&\"_\"&B1710,Lookups!$E:$F,2,FALSE))","v":""},""]
[null,null,null,null,null,"",null,"",null,null,"","",{"$f":"IF(OR(A1711=\"\",B1711=\"\"),\"\",VLOOKUP(A1711&\"_\"&B1711,Lookups!$E:$F,2,FALSE))","v":""},""]
[null,null,null,null,null,"",null,"",null,null,"","",{"$f":"IF(OR(A1712=\"\",B1712=\"\"),\"\",VLOOKUP(A1712&\"_\"&B1712,Lookups!$E:$F,2,FALSE))","v":""},""]
[null,null,null,null,null,"",null,"",null,null,"","",{"$f":"IF(OR(A1713=\"\",B1713=\"\"),\"\",VLOOKUP(A1713&\"_\"&B1713,Lookups!$E:$F,2,FALSE))","v":""},""]
[null,null,null,null,null,"",null,"",null,null,"","",{"$f":"IF(OR(A1714=\"\",B1714=\"\"),\"\",VLOOKUP(A1714&\"_\"&B1714,Lookups!$E:$F,2,FALSE))","v":""},""]
[null,null,null,null,null,"",null,"",null,null,"","",{"$f":"IF(OR(A1715=\"\",B1715=\"\"),\"\",VLOOKUP(A1715&\"_\"&B1715,Lookups!$E:$F,2,FALSE))","v":""},""]
[null,null,null,null,null,"",null,"",null,null,"","",{"$f":"IF(OR(A1716=\"\",B1716=\"\"),\"\",VLOOKUP(A1716&\"_\"&B1716,Lookups!$E:$F,2,FALSE))","v":""},""]
[null,null,null,null,null,"",null,"",null,null,"","",{"$f":"IF(OR(A1717=\"\",B1717=\"\"),\"\",VLOOKUP(A1717&\"_\"&B1717,Lookups!$E:$F,2,FALSE))","v":""},""]
[null,null,null,null,null,"",null,"",null,null,"","",{"$f":"IF(OR(A1718=\"\",B1718=\"\"),\"\",VLOOKUP(A1718&\"_\"&B1718,Lookups!$E:$F,2,FALSE))","v":""},""]
[null,null,null,null,null,"",null,"",null,null,"","",{"$f":"IF(OR(A1719=\"\",B1719=\"\"),\"\",VLOOKUP(A1719&\"_\"&B1719,Lookups!$E:$F,2,FALSE))","v":""},""]
[null,null,null,null,null,"",null,"",null,null,"","",{"$f":"IF(OR(A1720=\"\",B1720=\"\"),\"\",VLOOKUP(A1720&\"_\"&B1720,Lookups!$E:$F,2,FALSE))","v":""},""]
[null,null,null,null,null,"",null,"",null,null,"","",{"$f":"IF(OR(A1721=\"\",B1721=\"\"),\"\",VLOOKUP(A1721&\"_\"&B1721,Lookups!$E:$F,2,FALSE))","v":""},""]
[null,null,null,null,null,"",null,"",null,null,"","",{"$f":"IF(OR(A1722=\"\",B1722=\"\"),\"\",VLOOKUP(A1722&\"_\"&B1722,Lookups!$E:$F,2,FALSE))","v":""},""]
[null,null,null,null,null,"",null,"",null,null,"","",{"$f":"IF(OR(A1723=\"\",B1723=\"\"),\"\",VLOOKUP(A1723&\"_\"&B1723,Lookups!$E:$F,2,FALSE))","v":""},""]
[null,null,null,null,null,"",null,"",null,null,"","",{"$f":"IF(OR(A1724=\"\",B1724=\"\"),\"\",VLOOKUP(A1724&\"_\"&B1724,Lookups!$E:$F,2,FALSE))","v":""},""]
[null,null,null,null,null,"",null,"",null,null,"","",{"$f":"IF(OR(A1725=\"\",B1725=\"\"),\"\",VLOOKUP(A1725&\"_\"&B1725,Lookups!$E:$F,2,FALSE))","v":""},""]
[null,null,null,null,null,"",null,"",null,null,"","",{"$f":"IF(OR(A1726=\"\",B1726=\"\"),\"\",VLOOKUP(A1726&\"_\"&B1726,Lookups!$E:$F,2,FALSE))","v":""},""]
[null,null,null,null,null,"",null,"",null,null,"","",{"$f":"IF(OR(A1727=\"\",B1727=\"\"),\"\",VLOOKUP(A1727&\"_\"&B1727,Lookups!$E:$F,2,FALSE))","v":""},""]
[null,null,null,null,null,"",null,"",null,null,"","",{"$f":"IF(OR(A1728=\"\",B1728=\"\"),\"\",VLOOKUP(A1728&\"_\"&B1728,Lookups!$E:$F,2,FALSE))","v":""},""]
[null,null,null,null,null,"",null,"",null,null,"","",{"$f":"IF(OR(A1729=\"\",B1729=\"\"),\"\",VLOOKUP(A1729&\"_\"&B1729,Lookups!$E:$F,2,FALSE))","v":""},""]
[null,null,null,null,null,"",null,"",null,null,"","",{"$f":"IF(OR(A1730=\"\",B1730=\"\"),\"\",VLOOKUP(A1730&\"_\"&B1730,Lookups!$E:$F,2,FALSE))","v":""},""]
[null,null,null,null,null,"",null,"",null,null,"","",{"$f":"IF(OR(A1731=\"\",B1731=\"\"),\"\",VLOOKUP(A1731&\"_\"&B1731,Lookups!$E:$F,2,FALSE))","v":""},""]
[null,null,null,null,null,{"$f":"IF(OR(D1732=\"\",E1732=\"\"),\"\",ROUND((E1732-D1732)*24,2))","v":""},null,{"$f":"IF(F1732=\"\",\"\",IF(G1732<>\"\",F1732*G1732,F1732))","v":""},null,null,{"$f":"IF(AND(H1732<>\"\",I1732=\"Paid\"),H1732,\"\")","v":""},{"$f":"IF(H1732=\"\",\"\",IF(K1732=\"\",H1732,H1732-K1732))","v":""},{"$f":"IF(OR(A1732=\"\",B1732=\"\"),\"\",VLOOKUP(A1732&\"_\"&B1732,Lookups!$E:$F,2,FALSE))","v":""},{"$f":"IF(AND(K1732=\"\",L1732=\"\"),\"\",IF(K1732=\"\",L1732*M1732,SUM(K1732,L1732)*M1732))","v":""}]
[null,null,null,null,null,"",null,"",null,null,"","",{"$f":"IF(OR(A1733=\"\",B1733=\"\"),\"\",VLOOKUP(A1733&\"_\"&B1733,Lookups!$E:$F,2,FALSE))","v":""},""]
[null,null,null,null,null,"",null,"",null,null,"","",{"$f":"IF(OR(A1734=\"\",B1734=\"\"),\"\",VLOOKUP(A1734&\"_\"&B1734,Lookups!$E:$F,2,FALSE))","v":""},""]
[null,null,null,null,null,"",null,"",null,null,"","",{"$f":"IF(OR(A1735=\"\",B1735=\"\"),\"\",VLOOKUP(A1735&\"_\"&B1735,Lookups!$E:$F,2,FALSE))","v":""},""]
[null,null,null,null,null,"",null,"",null,null,"","",{"$f":"IF(OR(A1736=\"\",B1736=\"\"),\"\",VLOOKUP(A1736&\"_\"&B1736,Lookups!$E:$F,2,FALSE))","v":""},""]
[null,null,null,null,null,"",null,"",null,null,"","",{"$f":"IF(OR(A1737=\"\",B1737=\"\"),\"\",VLOOKUP(A1737&\"_\"&B1737,Lookups!$E:$F,2,FALSE))","v":""},""]
[null,null,null,null,null,"",null,"",null,null,"","",{"$f":"IF(OR(A1738=\"\",B1738=\"\"),\"\",VLOOKUP(A1738&\"_\"&B1738,Lookups!$E:$F,2,FALSE))","v":""},""]
[null,null,null,null,null,"",null,"",null,null,"","",{"$f":"IF(OR(A1739=\"\",B1739=\"\"),\"\",VLOOKUP(A1739&\"_\"&B1739,Lookups!$E:$F,2,FALSE))","v":""},""]
[null,null,null,null,null,"",null,"",null,null,"","",{"$f":"IF(OR(A1740=\"\",B1740=\"\"),\"\",VLOOKUP(A1740&\"_\"&B1740,Lookups!$E:$F,2,FALSE))","v":""},""]
[null,null,null,null,null,"",null,"",null,null,"","",{"$f":"IF(OR(A1741=\"\",B1741=\"\"),\"\",VLOOKUP(A1741&\"_\"&B1741,Lookups!$E:$F,2,FALSE))","v":""},""]
[null,null,null,null,null,"",null,"",null,null,"","",{"$f":"IF(OR(A1742=\"\",B1742=\"\"),\"\",VLOOKUP(A1742&\"_\"&B1742,Lookups!$E:$F,2,FALSE))","v":""},""]
[null,null,null,null,null,"",null,"",null,null,"","",{"$f":"IF(OR(A1743=\"\",B1743=\"\"),\"\",VLOOKUP(A1743&\"_\"&B1743,Lookups!$E:$F,2,FALSE))","v":""},""]
[null,null,null,null,null,"",null,"",null,null,"","",{"$f":"IF(OR(A1744=\"\",B1744=\"\"),\"\",VLOOKUP(A1744&\"_\"&B1744,Lookups!$E:$F,2,FALSE))","v":""},""]
[null,null,null,null,null,"",null,"",null,null,"","",{"$f":"IF(OR(A1745=\"\",B1745=\"\"),\"\",VLOOKUP(A1745&\"_\"&B1745,Lookups!$E:$F,2,FALSE))","v":""},""]
[null,null,null,null,null,"",null,"",null,null,"","",{"$f":"IF(OR(A1746=\"\",B1746=\"\"),\"\",VLOOKUP(A1746&\"_\"&B1746,Lookups!$E:$F,2,FALSE))","v":""},""]
[null,null,null,null,null,"",null,"",null,null,"","",{"$f":"IF(OR(A1747=\"\",B1747=\"\"),\"\",VLOOKUP(A1747&\"_\"&B1747,Lookups!$E:$F,2,FALSE))","v":""},""]
[null,null,null,null,null,"",null,"",null,null,"","",{"$f":"IF(OR(A1748=\"\",B1748=\"\"),\"\",VLOOKUP(A1748&\"_\"&B1748,Lookups!$E:$F,2,FALSE))","v":""},""]
[null,null,null,null,null,"",null,"",null,null,"","",{"$f":"IF(OR(A1749=\"\",B1749=\"\"),\"\",VLOOKUP(A1749&\"_\"&B1749,Lookups!$E:$F,2,FALSE))","v":""},""]
[null,null,null,null,null,"",null,"",null,null,"","",{"$f":"IF(OR(A1750=\"\",B1750=\"\"),\"\",VLOOKUP(A1750&\"_\"&B1750,Lookups!$E:$F,2,FALSE))","v":""},""]
[null,null,null,null,null,"",null,"",null,null,"","",{"$f":"IF(OR(A1751=\"\",B1751=\"\"),\"\",VLOOKUP(A1751&\"_\"&B1751,Lookups!$E:$F,2,FALSE))","v":""},""]
[null,null,null,null,null,"",null,"",null,null,"","",{"$f":"IF(OR(A1752=\"\",B1752=\"\"),\"\",VLOOKUP(A1752&\"_\"&B1752,Lookups!$E:$F,2,FALSE))","v":""},""]
[null,null,null,null,null,"",null,"",null,null,"","",{"$f":"IF(OR(A1753=\"\",B1753=\"\"),\"\",VLOOKUP(A1753&\"_\"&B1753,Lookups!$E:$F,2,FALSE))","v":""},""]
[null,null,null,null,null,"",null,"",null,null,"","",{"$f":"IF(OR(A1754=\"\",B1754=\"\"),\"\",VLOOKUP(A1754&\"_\"&B1754,Lookups!$E:$F,2,FALSE))","v":""},""]
[null,null,null,null,null,"",null,"",null,null,"","",{"$f":"IF(OR(A1755=\"\",B1755=\"\"),\"\",VLOOKUP(A1755&\"_\"&B1755,Lookups!$E:$F,2,FALSE))","v":""},""]
[null,null,null,null,null,"",null,"",null,null,"","",{"$f":"IF(OR(A1756=\"\",B1756=\"\"),\"\",VLOOKUP(A1756&\"_\"&B1756,Lookups!$E:$F,2,FALSE))","v":""},""]
[null,null,null,null,null,"",null,"",null,null,"","",{"$f":"IF(OR(A1757=\"\",B1757=\"\"),\"\",VLOOKUP(A1757&\"_\"&B1757,Lookups!$E:$F,2,FALSE))","v":""},""]
[null,null,null,null,null,"",null,"",null,null,"","",{"$f":"IF(OR(A1758=\"\",B1758=\"\"),\"\",VLOOKUP(A1758&\"_\"&B1758,Lookups!$E:$F,2,FALSE))","v":""},""]
[null,null,null,null,null,"",null,"",null,null,"","",{"$f":"IF(OR(A1759=\"\",B1759=\"\"),\"\",VLOOKUP(A1759&\"_\"&B1759,Lookups!$E:$F,2,FALSE))","v":""},""]
[null,null,null,null,null,"",null,"",null,null,"","",{"$f":"IF(OR(A1760=\"\",B1760=\"\"),\"\",VLOOKUP(A1760&\"_\"&B1760,Lookups!$E:$F,2,FALSE))","v":""},""]
[null,null,null,null,null,"",null,"",null,null,"","",{"$f":"IF(OR(A1761=\"\",B1761=\"\"),\"\",VLOOKUP(A1761&\"_\"&B1761,Lookups!$E:$F,2,FALSE))","v":""},""]
[null,null,null,null,null,"",null,"",null,null,"","",{"$f":"IF(OR(A1762=\"\",B1762=\"\"),\"\",VLOOKUP(A1762&\"_\"&B1762,Lookups!$E:$F,2,FALSE))","v":""},""]
[null,null,null,null,null,"",null,"",null,null,"","",{"$f":"IF(OR(A1763=\"\",B1763=\"\"),\"\",VLOOKUP(A1763&\"_\"&B1763,Lookups!$E:$F,2,FALSE))","v":""},""]
[null,null,null,null,null,"",null,"",null,null,"","",{"$f":"IF(OR(A1764=\"\",B1764=\"\"),\"\",VLOOKUP(A1764&\"_\"&B1764,Lookups!$E:$F,2,FALSE))","v":""},""]
[null,null,null,null,null,"",null,"",null,null,"","",{"$f":"IF(OR(A1765=\"\",B1765=\"\"),\"\",VLOOKUP(A1765&\"_\"&B1765,Lookups!$E:$F,2,FALSE))","v":""},""]
[null,null,null,null,null,"",null,"",null,null,"","",{"$f":"IF(OR(A1766=\"\",B1766=\"\"),\"\",VLOOKUP(A1766&\"_\"&B1766,Lookups!$E:$F,2,FALSE))","v":""},""]
[null,null,null,null,null,"",null,"",null,null,"","",{"$f":"IF(OR(A1767=\"\",B1767=\"\"),\"\",VLOOKUP(A1767&\"_\"&B1767,Lookups!$E:$F,2,FALSE))","v":""},""]
[null,null,null,null,null,"",null,"",null,null,"","",{"$f":"IF(OR(A1768=\"\",B1768=\"\"),\"\",VLOOKUP(A1768&\"_\"&B1768,Lookups!$E:$F,2,FALSE))","v":""},""]
[null,null,null,null,null,"",null,"",null,null,"","",{"$f":"IF(OR(A1769=\"\",B1769=\"\"),\"\",VLOOKUP(A1769&\"_\"&B1769,Lookups!$E:$F,2,FALSE))","v":""},""]
[null,null,null,null,null,"",null,"",null,null,"","",{"$f":"IF(OR(A1770=\"\",B1770=\"\"),\"\",VLOOKUP(A1770&\"_\"&B1770,Lookups!$E:$F,2,FALSE))","v":""},""]
[null,null,null,null,null,"",null,"",null,null,"","",{"$f":"IF(OR(A1771=\"\",B1771=\"\"),\"\",VLOOKUP(A1771&\"_\"&B1771,Lookups!$E:$F,2,FALSE))","v":""},""]
[null,null,null,null,null,"",null,"",null,null,"","",{"$f":"IF(OR(A1772=\"\",B1772=\"\"),\"\",VLOOKUP(A1772&\"_\"&B1772,Lookups!$E:$F,2,FALSE))","v":""},""]
[null,null,null,null,null,"",null,"",null,null,"","",{"$f":"IF(OR(A1773=\"\",B1773=\"\"),\"\",VLOOKUP(A1773&\"_\"&B1773,Lookups!$E:$F,2,FALSE))","v":""},""]
[null,null,null,null,null,"",null,"",null,null,"","",{"$f":"IF(OR(A1774=\"\",B1774=\"\"),\"\",VLOOKUP(A1774&\"_\"&B1774,Lookups!$E:$F,2,FALSE))","v":""},""]
[null,null,null,null,null,"",null,"",null,null,"","",{"$f":"IF(OR(A1775=\"\",B1775=\"\"),\"\",VLOOKUP(A1775&\"_\"&B1775,Lookups!$E:$F,2,FALSE))","v":""},""]
[null,null,null,null,null,"",null,"",null,null,"","",{"$f":"IF(OR(A1776=\"\",B1776=\"\"),\"\",VLOOKUP(A1776&\"_\"&B1776,Lookups!$E:$F,2,FALSE))","v":""},""]
[null,null,null,null,null,"",null,"",null,null,"","",{"$f":"IF(OR(A1777=\"\",B1777=\"\"),\"\",VLOOKUP(A1777&\"_\"&B1777,Lookups!$E:$F,2,FALSE))","v":""},""]
[null,null,null,null,null,"",null,"",null,null,"","",{"$f":"IF(OR(A1778=\"\",B1778=\"\"),\"\",VLOOKUP(A1778&\"_\"&B1778,Lookups!$E:$F,2,FALSE))","v":""},""]
[null,null,null,null,null,"",null,"",null,null,"","",{"$f":"IF(OR(A1779=\"\",B1779=\"\"),\"\",VLOOKUP(A1779&\"_\"&B1779,Lookups!$E:$F,2,FALSE))","v":""},""]
[null,null,null,null,null,"",null,"",null,null,"","",{"$f":"IF(OR(A1780=\"\",B1780=\"\"),\"\",VLOOKUP(A1780&\"_\"&B1780,Lookups!$E:$F,2,FALSE))","v":""},""]
[null,null,null,null,null,"",null,"",null,null,"","",{"$f":"IF(OR(A1781=\"\",B1781=\"\"),\"\",VLOOKUP(A1781&\"_\"&B1781,Lookups!$E:$F,2,FALSE))","v":""},""]
[null,null,null,null,null,"",null,"",null,null,"","",{"$f":"IF(OR(A1782=\"\",B1782=\"\"),\"\",VLOOKUP(A1782&\"_\"&B1782,Lookups!$E:$F,2,FALSE))","v":""},""]
[null,null,null,null,null,"",null,"",null,null,"","",{"$f":"IF(OR(A1783=\"\",B1783=\"\"),\"\",VLOOKUP(A1783&\"_\"&B1783,Lookups!$E:$F,2,FALSE))","v":""},""]
[null,null,null,null,null,"",null,"",null,null,"","",{"$f":"IF(OR(A1784=\"\",B1784=\"\"),\"\",VLOOKUP(A1784&\"_\"&B1784,Lookups!$E:$F,2,FALSE))","v":""},""]
[null,null,null,null,null,"",null,"",null,null,"","",{"$f":"IF(OR(A1785=\"\",B1785=\"\"),\"\",VLOOKUP(A1785&\"_\"&B1785,Lookups!$E:$F,2,FALSE))","v":""},""]
[null,null,null,null,null,"",null,"",null,null,"","",{"$f":"IF(OR(A1786=\"\",B1786=\"\"),\"\",VLOOKUP(A1786&\"_\"&B1786,Lookups!$E:$F,2,FALSE))","v":""},""]
[null,null,null,null,null,"",null,"",null,null,"","",{"$f":"IF(OR(A1787=\"\",B1787=\"\"),\"\",VLOOKUP(A1787&\"_\"&B1787,Lookups!$E:$F,2,FALSE))","v":""},""]
[null,null,null,null,null,"",null,"",null,null,"","",{"$f":"IF(OR(A1788=\"\",B1788=\"\"),\"\",VLOOKUP(A1788&\"_\"&B1788,Lookups!$E:$F,2,FALSE))","v":""},""]
[null,null,null,null,null,"",null,"",null,null,"","",{"$f":"IF(OR(A1789=\"\",B1789=\"\"),\"\",VLOOKUP(A1789&\"_\"&B1789,Lookups!$E:$F,2,FALSE))","v":""},""]
[null,null,null,null,null,"",null,"",null,null,"","",{"$f":"IF(OR(A1790=\"\",B1790=\"\"),\"\",VLOOKUP(A1790&\"_\"&B1790,Lookups!$E:$F,2,FALSE))","v":""},""]
[null,null,null,null,null,"",null,"",null,null,"","",{"$f":"IF(OR(A1791=\"\",B1791=\"\"),\"\",VLOOKUP(A1791&\"_\"&B1791,Lookups!$E:$F,2,FALSE))","v":""},""]
[null,null,null,null,null,"",null,"",null,null,"","",{"$f":"IF(OR(A1792=\"\",B1792=\"\"),\"\",VLOOKUP(A1792&\"_\"&B1792,Lookups!$E:$F,2,FALSE))","v":""},""]
[null,null,null,null,null,"",null,"",null,null,"","",{"$f":"IF(OR(A1793=\"\",B1793=\"\"),\"\",VLOOKUP(A1793&\"_\"&B1793,Lookups!$E:$F,2,FALSE))","v":""},""]
[null,null,null,null,null,"",null,"",null,null,"","",{"$f":"IF(OR(A1794=\"\",B1794=\"\"),\"\",VLOOKUP(A1794&\"_\"&B1794,Lookups!$E:$F,2,FALSE))","v":""},""]
[null,null,null,null,null,"",null,"",null,null,"","",{"$f":"IF(OR(A1795=\"\",B1795=\"\"),\"\",VLOOKUP(A1795&\"_\"&B1795,Lookups!$E:$F,2,FALSE))","v":""},""]
[null,null,null,null,null,{"$f":"IF(OR(D1796=\"\",E1796=\"\"),\"\",ROUND((E1796-D1796)*24,2))","v":""},null,{"$f":"IF(F1796=\"\",\"\",IF(G1796<>\"\",F1796*G1796,F1796))","v":""},null,null,{"$f":"IF(AND(H1796<>\"\",I1796=\"Paid\"),H1796,\"\")","v":""},{"$f":"IF(H1796=\"\",\"\",IF(K1796=\"\",H1796,H1796-K1796))","v":""},{"$f":"IF(OR(A1796=\"\",B1796=\"\"),\"\",VLOOKUP(A1796&\"_\"&B1796,Lookups!$E:$F,2,FALSE))","v":""},{"$f":"IF(AND(K1796=\"\",L1796=\"\"),\"\",IF(K1796=\"\",L1796*M1796,SUM(K1796,L1796)*M1796))","v":""}]
[null,null,null,null,null,"",null,"",null,null,"","",{"$f":"IF(OR(A1797=\"\",B1797=\"\"),\"\",VLOOKUP(A1797&\"_\"&B1797,Lookups!$E:$F,2,FALSE))","v":""},""]
[null,null,null,null,null,"",null,"",null,null,"","",{"$f":"IF(OR(A1798=\"\",B1798=\"\"),\"\",VLOOKUP(A1798&\"_\"&B1798,Lookups!$E:$F,2,FALSE))","v":""},""]
[null,null,null,null,null,"",null,"",null,null,"","",{"$f":"IF(OR(A1799=\"\",B1799=\"\"),\"\",VLOOKUP(A1799&\"_\"&B1799,Lookups!$E:$F,2,FALSE))","v":""},""]
[null,null,null,null,null,"",null,"",null,null,"","",{"$f":"IF(OR(A1800=\"\",B1800=\"\"),\"\",VLOOKUP(A1800&\"_\"&B1800,Lookups!$E:$F,2,FALSE))","v":""},""]
[null,null,null,null,null,"",null,"",null,null,"","",{"$f":"IF(OR(A1801=\"\",B1801=\"\"),\"\",VLOOKUP(A1801&\"_\"&B1801,Lookups!$E:$F,2,FALSE))","v":""},""]
[null,null,null,null,null,"",null,"",null,null,"","",{"$f":"IF(OR(A1802=\"\",B1802=\"\"),\"\",VLOOKUP(A1802&\"_\"&B1802,Lookups!$E:$F,2,FALSE))","v":""},""]
[null,null,null,null,null,"",null,"",null,null,"","",{"$f":"IF(OR(A1803=\"\",B1803=\"\"),\"\",VLOOKUP(A1803&\"_\"&B1803,Lookups!$E:$F,2,FALSE))","v":""},""]
[null,null,null,null,null,"",null,"",null,null,"","",{"$f":"IF(OR(A1804=\"\",B1804=\"\"),\"\",VLOOKUP(A1804&\"_\"&B1804,Lookups!$E:$F,2,FALSE))","v":""},""]
[null,null,null,null,null,"",null,"",null,null,"","",{"$f":"IF(OR(A1805=\"\",B1805=\"\"),\"\",VLOOKUP(A1805&\"_\"&B1805,Lookups!$E:$F,2,FALSE))","v":""},""]
[null,null,null,null,null,"",null,"",null,null,"","",{"$f":"IF(OR(A1806=\"\",B1806=\"\"),\"\",VLOOKUP(A1806&\"_\"&B1806,Lookups!$E:$F,2,FALSE))","v":""},""]
[null,null,null,null,null,"",null,"",null,null,"","",{"$f":"IF(OR(A1807=\"\",B1807=\"\"),\"\",VLOOKUP(A1807&\"_\"&B1807,Lookups!$E:$F,2,FALSE))","v":""},""]
[null,null,null,null,null,"",null,"",null,null,"","",{"$f":"IF(OR(A1808=\"\",B1808=\"\"),\"\",VLOOKUP(A1808&\"_\"&B1808,Lookups!$E:$F,2,FALSE))","v":""},""]
[null,null,null,null,null,"",null,"",null,null,"","",{"$f":"IF(OR(A1809=\"\",B1809=\"\"),\"\",VLOOKUP(A1809&\"_\"&B1809,Lookups!$E:$F,2,FALSE))","v":""},""]
[null,null,null,null,null,"",null,"",null,null,"","",{"$f":"IF(OR(A1810=\"\",B1810=\"\"),\"\",VLOOKUP(A1810&\"_\"&B1810,Lookups!$E:$F,2,FALSE))","v":""},""]
[null,null,null,null,null,"",null,"",null,null,"","",{"$f":"IF(OR(A1811=\"\",B1811=\"\"),\"\",VLOOKUP(A1811&\"_\"&B1811,Lookups!$E:$F,2,FALSE))","v":""},""]
[null,null,null,null,null,"",null,"",null,null,"","",{"$f":"IF(OR(A1812=\"\",B1812=\"\"),\"\",VLOOKUP(A1812&\"_\"&B1812,Lookups!$E:$F,2,FALSE))","v":""},""]
[null,null,null,null,null,"",null,"",null,null,"","",{"$f":"IF(OR(A1813=\"\",B1813=\"\"),\"\",VLOOKUP(A1813&\"_\"&B1813,Lookups!$E:$F,2,FALSE))","v":""},""]
[null,null,null,null,null,"",null,"",null,null,"","",{"$f":"IF(OR(A1814=\"\",B1814=\"\"),\"\",VLOOKUP(A1814&\"_\"&B1814,Lookups!$E:$F,2,FALSE))","v":""},""]
[null,null,null,null,null,"",null,"",null,null,"","",{"$f":"IF(OR(A1815=\"\",B1815=\"\"),\"\",VLOOKUP(A1815&\"_\"&B1815,Lookups!$E:$F,2,FALSE))","v":""},""]
[null,null,null,null,null,"",null,"",null,null,"","",{"$f":"IF(OR(A1816=\"\",B1816=\"\"),\"\",VLOOKUP(A1816&\"_\"&B1816,Lookups!$E:$F,2,FALSE))","v":""},""]
[null,null,null,null,null,"",null,"",null,null,"","",{"$f":"IF(OR(A1817=\"\",B1817=\"\"),\"\",VLOOKUP(A1817&\"_\"&B1817,Lookups!$E:$F,2,FALSE))","v":""},""]
[null,null,null,null,null,"",null,"",null,null,"","",{"$f":"IF(OR(A1818=\"\",B1818=\"\"),\"\",VLOOKUP(A1818&\"_\"&B1818,Lookups!$E:$F,2,FALSE))","v":""},""]
[null,null,null,null,null,"",null,"",null,null,"","",{"$f":"IF(OR(A1819=\"\",B1819=\"\"),\"\",VLOOKUP(A1819&\"_\"&B1819,Lookups!$E:$F,2,FALSE))","v":""},""]
[null,null,null,null,null,"",null,"",null,null,"","",{"$f":"IF(OR(A1820=\"\",B1820=\"\"),\"\",VLOOKUP(A1820&\"_\"&B1820,Lookups!$E:$F,2,FALSE))","v":""},""]
[null,null,null,null,null,"",null,"",null,null,"","",{"$f":"IF(OR(A1821=\"\",B1821=\"\"),\"\",VLOOKUP(A1821&\"_\"&B1821,Lookups!$E:$F,2,FALSE))","v":""},""]
[null,null,null,null,null,"",null,"",null,null,"","",{"$f":"IF(OR(A1822=\"\",B1822=\"\"),\"\",VLOOKUP(A1822&\"_\"&B1822,Lookups!$E:$F,2,FALSE))","v":""},""]
[null,null,null,null,null,"",null,"",null,null,"","",{"$f":"IF(OR(A1823=\"\",B1823=\"\"),\"\",VLOOKUP(A1823&\"_\"&B1823,Lookups!$E:$F,2,FALSE))","v":""},""]
[null,null,null,null,null,"",null,"",null,null,"","",{"$f":"IF(OR(A1824=\"\",B1824=\"\"),\"\",VLOOKUP(A1824&\"_\"&B1824,Lookups!$E:$F,2,FALSE))","v":""},""]
[null,null,null,null,null,"",null,"",null,null,"","",{"$f":"IF(OR(A1825=\"\",B1825=\"\"),\"\",VLOOKUP(A1825&\"_\"&B1825,Lookups!$E:$F,2,FALSE))","v":""},""]
[null,null,null,null,null,"",null,"",null,null,"","",{"$f":"IF(OR(A1826=\"\",B1826=\"\"),\"\",VLOOKUP(A1826&\"_\"&B1826,Lookups!$E:$F,2,FALSE))","v":""},""]
[null,null,null,null,null,"",null,"",null,null,"","",{"$f":"IF(OR(A1827=\"\",B1827=\"\"),\"\",VLOOKUP(A1827&\"_\"&B1827,Lookups!$E:$F,2,FALSE))","v":""},""]
[null,null,null,null,null,"",null,"",null,null,"","",{"$f":"IF(OR(A1828=\"\",B1828=\"\"),\"\",VLOOKUP(A1828&\"_\"&B1828,Lookups!$E:$F,2,FALSE))","v":""},""]
[null,null,null,null,null,"",null,"",null,null,"","",{"$f":"IF(OR(A1829=\"\",B1829=\"\"),\"\",VLOOKUP(A1829&\"_\"&B1829,Lookups!$E:$F,2,FALSE))","v":""},""]
[null,null,null,null,null,"",null,"",null,null,"","",{"$f":"IF(OR(A1830=\"\",B1830=\"\"),\"\",VLOOKUP(A1830&\"_\"&B1830,Lookups!$E:$F,2,FALSE))","v":""},""]
[null,null,null,null,null,"",null,"",null,null,"","",{"$f":"IF(OR(A1831=\"\",B1831=\"\"),\"\",VLOOKUP(A1831&\"_\"&B1831,Lookups!$E:$F,2,FALSE))","v":""},""]
[null,null,null,null,null,"",null,"",null,null,"","",{"$f":"IF(OR(A1832=\"\",B1832=\"\"),\"\",VLOOKUP(A1832&\"_\"&B1832,Lookups!$E:$F,2,FALSE))","v":""},""]
[null,null,null,null,null,"",null,"",null,null,"","",{"$f":"IF(OR(A1833=\"\",B1833=\"\"),\"\",VLOOKUP(A1833&\"_\"&B1833,Lookups!$E:$F,2,FALSE))","v":""},""]
[null,null,null,null,null,"",null,"",null,null,"","",{"$f":"IF(OR(A1834=\"\",B1834=\"\"),\"\",VLOOKUP(A1834&\"_\"&B1834,Lookups!$E:$F,2,FALSE))","v":""},""]
[null,null,null,null,null,"",null,"",null,null,"","",{"$f":"IF(OR(A1835=\"\",B1835=\"\"),\"\",VLOOKUP(A1835&\"_\"&B1835,Lookups!$E:$F,2,FALSE))","v":""},""]
[null,null,null,null,null,"",null,"",null,null,"","",{"$f":"IF(OR(A1836=\"\",B1836=\"\"),\"\",VLOOKUP(A1836&\"_\"&B1836,Lookups!$E:$F,2,FALSE))","v":""},""]
[null,null,null,null,null,"",null,"",null,null,"","",{"$f":"IF(OR(A1837=\"\",B1837=\"\"),\"\",VLOOKUP(A1837&\"_\"&B1837,Lookups!$E:$F,2,FALSE))","v":""},""]
[null,null,null,null,null,"",null,"",null,null,"","",{"$f":"IF(OR(A1838=\"\",B1838=\"\"),\"\",VLOOKUP(A1838&\"_\"&B1838,Lookups!$E:$F,2,FALSE))","v":""},""]
[null,null,null,null,null,"",null,"",null,null,"","",{"$f":"IF(OR(A1839=\"\",B1839=\"\"),\"\",VLOOKUP(A1839&\"_\"&B1839,Lookups!$E:$F,2,FALSE))","v":""},""]
[null,null,null,null,null,"",null,"",null,null,"","",{"$f":"IF(OR(A1840=\"\",B1840=\"\"),\"\",VLOOKUP(A1840&\"_\"&B1840,Lookups!$E:$F,2,FALSE))","v":""},""]
[null,null,null,null,null,"",null,"",null,null,"","",{"$f":"IF(OR(A1841=\"\",B1841=\"\"),\"\",VLOOKUP(A1841&\"_\"&B1841,Lookups!$E:$F,2,FALSE))","v":""},""]
[null,null,null,null,null,"",null,"",null,null,"","",{"$f":"IF(OR(A1842=\"\",B1842=\"\"),\"\",VLOOKUP(A1842&\"_\"&B1842,Lookups!$E:$F,2,FALSE))","v":""},""]
[null,null,null,null,null,"",null,"",null,null,"","",{"$f":"IF(OR(A1843=\"\",B1843=\"\"),\"\",VLOOKUP(A1843&\"_\"&B1843,Lookups!$E:$F,2,FALSE))","v":""},""]
[null,null,null,null,null,"",null,"",null,null,"","",{"$f":"IF(OR(A1844=\"\",B1844=\"\"),\"\",VLOOKUP(A1844&\"_\"&B1844,Lookups!$E:$F,2,FALSE))","v":""},""]
[null,null,null,null,null,"",null,"",null,null,"","",{"$f":"IF(OR(A1845=\"\",B1845=\"\"),\"\",VLOOKUP(A1845&\"_\"&B1845,Lookups!$E:$F,2,FALSE))","v":""},""]
[null,null,null,null,null,"",null,"",null,null,"","",{"$f":"IF(OR(A1846=\"\",B1846=\"\"),\"\",VLOOKUP(A1846&\"_\"&B1846,Lookups!$E:$F,2,FALSE))","v":""},""]
[null,null,null,null,null,"",null,"",null,null,"","",{"$f":"IF(OR(A1847=\"\",B1847=\"\"),\"\",VLOOKUP(A1847&\"_\"&B1847,Lookups!$E:$F,2,FALSE))","v":""},""]
[null,null,null,null,null,"",null,"",null,null,"","",{"$f":"IF(OR(A1848=\"\",B1848=\"\"),\"\",VLOOKUP(A1848&\"_\"&B1848,Lookups!$E:$F,2,FALSE))","v":""},""]
[null,null,null,null,null,"",null,"",null,null,"","",{"$f":"IF(OR(A1849=\"\",B1849=\"\"),\"\",VLOOKUP(A1849&\"_\"&B1849,Lookups!$E:$F,2,FALSE))","v":""},""]
[null,null,null,null,null,"",null,"",null,null,"","",{"$f":"IF(OR(A1850=\"\",B1850=\"\"),\"\",VLOOKUP(A1850&\"_\"&B1850,Lookups!$E:$F,2,FALSE))","v":""},""]
[null,null,null,null,null,"",null,"",null,null,"","",{"$f":"IF(OR(A1851=\"\",B1851=\"\"),\"\",VLOOKUP(A1851&\"_\"&B1851,Lookups!$E:$F,2,FALSE))","v":""},""]
[null,null,null,null,null,"",null,"",null,null,"","",{"$f":"IF(OR(A1852=\"\",B1852=\"\"),\"\",VLOOKUP(A1852&\"_\"&B1852,Lookups!$E:$F,2,FALSE))","v":""},""]
[null,null,null,null,null,"",null,"",null,null,"","",{"$f":"IF(OR(A1853=\"\",B1853=\"\"),\"\",VLOOKUP(A1853&\"_\"&B1853,Lookups!$E:$F,2,FALSE))","v":""},""]
[null,null,null,null,null,"",null,"",null,null,"","",{"$f":"IF(OR(A1854=\"\",B1854=\"\"),\"\",VLOOKUP(A1854&\"_\"&B1854,Lookups!$E:$F,2,FALSE))","v":""},""]
[null,null,null,null,null,"",null,"",null,null,"","",{"$f":"IF(OR(A1855=\"\",B1855=\"\"),\"\",VLOOKUP(A1855&\"_\"&B1855,Lookups!$E:$F,2,FALSE))","v":""},""]
[null,null,null,null,null,"",null,"",null,null,"","",{"$f":"IF(OR(A1856=\"\",B1856=\"\"),\"\",VLOOKUP(A1856&\"_\"&B1856,Lookups!$E:$F,2,FALSE))","v":""},""]
[null,null,null,null,null,"",null,"",null,null,"","",{"$f":"IF(OR(A1857=\"\",B1857=\"\"),\"\",VLOOKUP(A1857&\"_\"&B1857,Lookups!$E:$F,2,FALSE))","v":""},""]
[null,null,null,null,null,"",null,"",null,null,"","",{"$f":"IF(OR(A1858=\"\",B1858=\"\"),\"\",VLOOKUP(A1858&\"_\"&B1858,Lookups!$E:$F,2,FALSE))","v":""},""]
[null,null,null,null,null,"",null,"",null,null,"","",{"$f":"IF(OR(A1859=\"\",B1859=\"\"),\"\",VLOOKUP(A1859&\"_\"&B1859,Lookups!$E:$F,2,FALSE))","v":""},""]
[null,null,null,null,null,{"$f":"IF(OR(D1860=\"\",E1860=\"\"),\"\",ROUND((E1860-D1860)*24,2))","v":""},null,{"$f":"IF(F1860=\"\",\"\",IF(G1860<>\"\",F1860*G1860,F1860))","v":""},null,null,{"$f":"IF(AND(H1860<>\"\",I1860=\"Paid\"),H1860,\"\")","v":""},{"$f":"IF(H1860=\"\",\"\",IF(K1860=\"\",H1860,H1860-K1860))","v":""},{"$f":"IF(OR(A1860=\"\",B1860=\"\"),\"\",VLOOKUP(A1860&\"_\"&B1860,Lookups!$E:$F,2,FALSE))","v":""},{"$f":"IF(AND(K1860=\"\",L1860=\"\"),\"\",IF(K1860=\"\",L1860*M1860,SUM(K1860,L1860)*M1860))","v":""}]
[null,null,null,null,null,"",null,"",null,null,"","",{"$f":"IF(OR(A1861=\"\",B1861=\"\"),\"\",VLOOKUP(A1861&\"_\"&B1861,Lookups!$E:$F,2,FALSE))","v":""},""]
[null,null,null,null,null,"",null,"",null,null,"","",{"$f":"IF(OR(A1862=\"\",B1862=\"\"),\"\",VLOOKUP(A1862&\"_\"&B1862,Lookups!$E:$F,2,FALSE))","v":""},""]
[null,null,null,null,null,"",null,"",null,null,"","",{"$f":"IF(OR(A1863=\"\",B1863=\"\"),\"\",VLOOKUP(A1863&\"_\"&B1863,Lookups!$E:$F,2,FALSE))","v":""},""]
[null,null,null,null,null,"",null,"",null,null,"","",{"$f":"IF(OR(A1864=\"\",B1864=\"\"),\"\",VLOOKUP(A1864&\"_\"&B1864,Lookups!$E:$F,2,FALSE))","v":""},""]
[null,null,null,null,null,"",null,"",null,null,"","",{"$f":"IF(OR(A1865=\"\",B1865=\"\"),\"\",VLOOKUP(A1865&\"_\"&B1865,Lookups!$E:$F,2,FALSE))","v":""},""]
[null,null,null,null,null,"",null,"",null,null,"","",{"$f":"IF(OR(A1866=\"\",B1866=\"\"),\"\",VLOOKUP(A1866&\"_\"&B1866,Lookups!$E:$F,2,FALSE))","v":""},""]
[null,null,null,null,null,"",null,"",null,null,"","",{"$f":"IF(OR(A1867=\"\",B1867=\"\"),\"\",VLOOKUP(A1867&\"_\"&B1867,Lookups!$E:$F,2,FALSE))","v":""},""]
[null,null,null,null,null,"",null,"",null,null,"","",{"$f":"IF(OR(A1868=\"\",B1868=\"\"),\"\",VLOOKUP(A1868&\"_\"&B1868,Lookups!$E:$F,2,FALSE))","v":""},""]
[null,null,null,null,null,"",null,"",null,null,"","",{"$f":"IF(OR(A1869=\"\",B1869=\"\"),\"\",VLOOKUP(A1869&\"_\"&B1869,Lookups!$E:$F,2,FALSE))","v":""},""]
[null,null,null,null,null,"",null,"",null,null,"","",{"$f":"IF(OR(A1870=\"\",B1870=\"\"),\"\",VLOOKUP(A1870&\"_\"&B1870,Lookups!$E:$F,2,FALSE))","v":""},""]
[null,null,null,null,null,"",null,"",null,null,"","",{"$f":"IF(OR(A1871=\"\",B1871=\"\"),\"\",VLOOKUP(A1871&\"_\"&B1871,Lookups!$E:$F,2,FALSE))","v":""},""]
[null,null,null,null,null,"",null,"",null,null,"","",{"$f":"IF(OR(A1872=\"\",B1872=\"\"),\"\",VLOOKUP(A1872&\"_\"&B1872,Lookups!$E:$F,2,FALSE))","v":""},""]
[null,null,null,null,null,"",null,"",null,null,"","",{"$f":"IF(OR(A1873=\"\",B1873=\"\"),\"\",VLOOKUP(A1873&\"_\"&B1873,Lookups!$E:$F,2,FALSE))","v":""},""]
[null,null,null,null,null,"",null,"",null,null,"","",{"$f":"IF(OR(A1874=\"\",B1874=\"\"),\"\",VLOOKUP(A1874&\"_\"&B1874,Lookups!$E:$F,2,FALSE))","v":""},""]
[null,null,null,null,null,"",null,"",null,null,"","",{"$f":"IF(OR(A1875=\"\",B1875=\"\"),\"\",VLOOKUP(A1875&\"_\"&B1875,Lookups!$E:$F,2,FALSE))","v":""},""]
[null,null,null,null,null,"",null,"",null,null,"","",{"$f":"IF(OR(A1876=\"\",B1876=\"\"),\"\",VLOOKUP(A1876&\"_\"&B1876,Lookups!$E:$F,2,FALSE))","v":""},""]
[null,null,null,null,null,"",null,"",null,null,"","",{"$f":"IF(OR(A1877=\"\",B1877=\"\"),\"\",VLOOKUP(A1877&\"_\"&B1877,Lookups!$E:$F,2,FALSE))","v":""},""]
[null,null,null,null,null,"",null,"",null,null,"","",{"$f":"IF(OR(A1878=\"\",B1878=\"\"),\"\",VLOOKUP(A1878&\"_\"&B1878,Lookups!$E:$F,2,FALSE))","v":""},""]
[null,null,null,null,null,"",null,"",null,null,"","",{"$f":"IF(OR(A1879=\"\",B1879=\"\"),\"\",VLOOKUP(A1879&\"_\"&B1879,Lookups!$E:$F,2,FALSE))","v":""},""]
[null,null,null,null,null,"",null,"",null,null,"","",{"$f":"IF(OR(A1880=\"\",B1880=\"\"),\"\",VLOOKUP(A1880&\"_\"&B1880,Lookups!$E:$F,2,FALSE))","v":""},""]
[null,null,null,null,null,"",null,"",null,null,"","",{"$f":"IF(OR(A1881=\"\",B1881=\"\"),\"\",VLOOKUP(A1881&\"_\"&B1881,Lookups!$E:$F,2,FALSE))","v":""},""]
[null,null,null,null,null,"",null,"",null,null,"","",{"$f":"IF(OR(A1882=\"\",B1882=\"\"),\"\",VLOOKUP(A1882&\"_\"&B1882,Lookups!$E:$F,2,FALSE))","v":""},""]
[null,null,null,null,null,"",null,"",null,null,"","",{"$f":"IF(OR(A1883=\"\",B1883=\"\"),\"\",VLOOKUP(A1883&\"_\"&B1883,Lookups!$E:$F,2,FALSE))","v":""},""]
[null,null,null,null,null,"",null,"",null,null,"","",{"$f":"IF(OR(A1884=\"\",B1884=\"\"),\"\",VLOOKUP(A1884&\"_\"&B1884,Lookups!$E:$F,2,FALSE))","v":""},""]
[null,null,null,null,null,"",null,"",null,null,"","",{"$f":"IF(OR(A1885=\"\",B1885=\"\"),\"\",VLOOKUP(A1885&\"_\"&B1885,Lookups!$E:$F,2,FALSE))","v":""},""]
[null,null,null,null,null,"",null,"",null,null,"","",{"$f":"IF(OR(A1886=\"\",B1886=\"\"),\"\",VLOOKUP(A1886&\"_\"&B1886,Lookups!$E:$F,2,FALSE))","v":""},""]
[null,null,null,null,null,"",null,"",null,null,"","",{"$f":"IF(OR(A1887=\"\",B1887=\"\"),\"\",VLOOKUP(A1887&\"_\"&B1887,Lookups!$E:$F,2,FALSE))","v":""},""]
[null,null,null,null,null,"",null,"",null,null,"","",{"$f":"IF(OR(A1888=\"\",B1888=\"\"),\"\",VLOOKUP(A1888&\"_\"&B1888,Lookups!$E:$F,2,FALSE))","v":""},""]
[null,null,null,null,null,"",null,"",null,null,"","",{"$f":"IF(OR(A1889=\"\",B1889=\"\"),\"\",VLOOKUP(A1889&\"_\"&B1889,Lookups!$E:$F,2,FALSE))","v":""},""]
[null,null,null,null,null,"",null,"",null,null,"","",{"$f":"IF(OR(A1890=\"\",B1890=\"\"),\"\",VLOOKUP(A1890&\"_\"&B1890,Lookups!$E:$F,2,FALSE))","v":""},""]
[null,null,null,null,null,"",null,"",null,null,"","",{"$f":"IF(OR(A1891=\"\",B1891=\"\"),\"\",VLOOKUP(A1891&\"_\"&B1891,Lookups!$E:$F,2,FALSE))","v":""},""]
[null,null,null,null,null,"",null,"",null,null,"","",{"$f":"IF(OR(A1892=\"\",B1892=\"\"),\"\",VLOOKUP(A1892&\"_\"&B1892,Lookups!$E:$F,2,FALSE))","v":""},""]
[null,null,null,null,null,"",null,"",null,null,"","",{"$f":"IF(OR(A1893=\"\",B1893=\"\"),\"\",VLOOKUP(A1893&\"_\"&B1893,Lookups!$E:$F,2,FALSE))","v":""},""]
[null,null,null,null,null,"",null,"",null,null,"","",{"$f":"IF(OR(A1894=\"\",B1894=\"\"),\"\",VLOOKUP(A1894&\"_\"&B1894,Lookups!$E:$F,2,FALSE))","v":""},""]
[null,null,null,null,null,"",null,"",null,null,"","",{"$f":"IF(OR(A1895=\"\",B1895=\"\"),\"\",VLOOKUP(A1895&\"_\"&B1895,Lookups!$E:$F,2,FALSE))","v":""},""]
[null,null,null,null,null,"",null,"",null,null,"","",{"$f":"IF(OR(A1896=\"\",B1896=\"\"),\"\",VLOOKUP(A1896&\"_\"&B1896,Lookups!$E:$F,2,FALSE))","v":""},""]
[null,null,null,null,null,"",null,"",null,null,"","",{"$f":"IF(OR(A1897=\"\",B1897=\"\"),\"\",VLOOKUP(A1897&\"_\"&B1897,Lookups!$E:$F,2,FALSE))","v":""},""]
[null,null,null,null,null,"",null,"",null,null,"","",{"$f":"IF(OR(A1898=\"\",B1898=\"\"),\"\",VLOOKUP(A1898&\"_\"&B1898,Lookups!$E:$F,2,FALSE))","v":""},""]
[null,null,null,null,null,"",null,"",null,null,"","",{"$f":"IF(OR(A1899=\"\",B1899=\"\"),\"\",VLOOKUP(A1899&\"_\"&B1899,Lookups!$E:$F,2,FALSE))","v":""},""]
[null,null,null,null,null,"",null,"",null,null,"","",{"$f":"IF(OR(A1900=\"\",B1900=\"\"),\"\",VLOOKUP(A1900&\"_\"&B1900,Lookups!$E:$F,2,FALSE))","v":""},""]
[null,null,null,null,null,"",null,"",null,null,"","",{"$f":"IF(OR(A1901=\"\",B1901=\"\"),\"\",VLOOKUP(A1901&\"_\"&B1901,Lookups!$E:$F,2,FALSE))","v":""},""]
[null,null,null,null,null,"",null,"",null,null,"","",{"$f":"IF(OR(A1902=\"\",B1902=\"\"),\"\",VLOOKUP(A1902&\"_\"&B1902,Lookups!$E:$F,2,FALSE))","v":""},""]
[null,null,null,null,null,"",null,"",null,null,"","",{"$f":"IF(OR(A1903=\"\",B1903=\"\"),\"\",VLOOKUP(A1903&\"_\"&B1903,Lookups!$E:$F,2,FALSE))","v":""},""]
[null,null,null,null,null,"",null,"",null,null,"","",{"$f":"IF(OR(A1904=\"\",B1904=\"\"),\"\",VLOOKUP(A1904&\"_\"&B1904,Lookups!$E:$F,2,FALSE))","v":""},""]
[null,null,null,null,null,"",null,"",null,null,"","",{"$f":"IF(OR(A1905=\"\",B1905=\"\"),\"\",VLOOKUP(A1905&\"_\"&B1905,Lookups!$E:$F,2,FALSE))","v":""},""]
[null,null,null,null,null,"",null,"",null,null,"","",{"$f":"IF(OR(A1906=\"\",B1906=\"\"),\"\",VLOOKUP(A1906&\"_\"&B1906,Lookups!$E:$F,2,FALSE))","v":""},""]
[null,null,null,null,null,"",null,"",null,null,"","",{"$f":"IF(OR(A1907=\"\",B1907=\"\"),\"\",VLOOKUP(A1907&\"_\"&B1907,Lookups!$E:$F,2,FALSE))","v":""},""]
[null,null,null,null,null,"",null,"",null,null,"","",{"$f":"IF(OR(A1908=\"\",B1908=\"\"),\"\",VLOOKUP(A1908&\"_\"&B1908,Lookups!$E:$F,2,FALSE))","v":""},""]
[null,null,null,null,null,"",null,"",null,null,"","",{"$f":"IF(OR(A1909=\"\",B1909=\"\"),\"\",VLOOKUP(A1909&\"_\"&B1909,Lookups!$E:$F,2,FALSE))","v":""},""]
[null,null,null,null,null,"",null,"",null,null,"","",{"$f":"IF(OR(A1910=\"\",B1910=\"\"),\"\",VLOOKUP(A1910&\"_\"&B1910,Lookups!$E:$F,2,FALSE))","v":""},""]
[null,null,null,null,null,"",null,"",null,null,"","",{"$f":"IF(OR(A1911=\"\",B1911=\"\"),\"\",VLOOKUP(A1911&\"_\"&B1911,Lookups!$E:$F,2,FALSE))","v":""},""]
[null,null,null,null,null,"",null,"",null,null,"","",{"$f":"IF(OR(A1912=\"\",B1912=\"\"),\"\",VLOOKUP(A1912&\"_\"&B1912,Lookups!$E:$F,2,FALSE))","v":""},""]
[null,null,null,null,null,"",null,"",null,null,"","",{"$f":"IF(OR(A1913=\"\",B1913=\"\"),\"\",VLOOKUP(A1913&\"_\"&B1913,Lookups!$E:$F,2,FALSE))","v":""},""]
[null,null,null,null,null,"",null,"",null,null,"","",{"$f":"IF(OR(A1914=\"\",B1914=\"\"),\"\",VLOOKUP(A1914&\"_\"&B1914,Lookups!$E:$F,2,FALSE))","v":""},""]
[null,null,null,null,null,"",null,"",null,null,"","",{"$f":"IF(OR(A1915=\"\",B1915=\"\"),\"\",VLOOKUP(A1915&\"_\"&B1915,Lookups!$E:$F,2,FALSE))","v":""},""]
[null,null,null,null,null,"",null,"",null,null,"","",{"$f":"IF(OR(A1916=\"\",B1916=\"\"),\"\",VLOOKUP(A1916&\"_\"&B1916,Lookups!$E:$F,2,FALSE))","v":""},""]
[null,null,null,null,null,"",null,"",null,null,"","",{"$f":"IF(OR(A1917=\"\",B1917=\"\"),\"\",VLOOKUP(A1917&\"_\"&B1917,Lookups!$E:$F,2,FALSE))","v":""},""]
[null,null,null,null,null,"",null,"",null,null,"","",{"$f":"IF(OR(A1918=\"\",B1918=\"\"),\"\",VLOOKUP(A1918&\"_\"&B1918,Lookups!$E:$F,2,FALSE))","v":""},""]
[null,null,null,null,null,"",null,"",null,null,"","",{"$f":"IF(OR(A1919=\"\",B1919=\"\"),\"\",VLOOKUP(A1919&\"_\"&B1919,Lookups!$E:$F,2,FALSE))","v":""},""]
[null,null,null,null,null,"",null,"",null,null,"","",{"$f":"IF(OR(A1920=\"\",B1920=\"\"),\"\",VLOOKUP(A1920&\"_\"&B1920,Lookups!$E:$F,2,FALSE))","v":""},""]
[null,null,null,null,null,"",null,"",null,null,"","",{"$f":"IF(OR(A1921=\"\",B1921=\"\"),\"\",VLOOKUP(A1921&\"_\"&B1921,Lookups!$E:$F,2,FALSE))","v":""},""]
[null,null,null,null,null,"",null,"",null,null,"","",{"$f":"IF(OR(A1922=\"\",B1922=\"\"),\"\",VLOOKUP(A1922&\"_\"&B1922,Lookups!$E:$F,2,FALSE))","v":""},""]
[null,null,null,null,null,"",null,"",null,null,"","",{"$f":"IF(OR(A1923=\"\",B1923=\"\"),\"\",VLOOKUP(A1923&\"_\"&B1923,Lookups!$E:$F,2,FALSE))","v":""},""]
[null,null,null,null,null,{"$f":"IF(OR(D1924=\"\",E1924=\"\"),\"\",ROUND((E1924-D1924)*24,2))","v":""},null,{"$f":"IF(F1924=\"\",\"\",IF(G1924<>\"\",F1924*G1924,F1924))","v":""},null,null,{"$f":"IF(AND(H1924<>\"\",I1924=\"Paid\"),H1924,\"\")","v":""},{"$f":"IF(H1924=\"\",\"\",IF(K1924=\"\",H1924,H1924-K1924))","v":""},{"$f":"IF(OR(A1924=\"\",B1924=\"\"),\"\",VLOOKUP(A1924&\"_\"&B1924,Lookups!$E:$F,2,FALSE))","v":""},{"$f":"IF(AND(K1924=\"\",L1924=\"\"),\"\",IF(K1924=\"\",L1924*M1924,SUM(K1924,L1924)*M1924))","v":""}]
[null,null,null,null,null,"",null,"",null,null,"","",{"$f":"IF(OR(A1925=\"\",B1925=\"\"),\"\",VLOOKUP(A1925&\"_\"&B1925,Lookups!$E:$F,2,FALSE))","v":""},""]
[null,null,null,null,null,"",null,"",null,null,"","",{"$f":"IF(OR(A1926=\"\",B1926=\"\"),\"\",VLOOKUP(A1926&\"_\"&B1926,Lookups!$E:$F,2,FALSE))","v":""},""]
[null,null,null,null,null,"",null,"",null,null,"","",{"$f":"IF(OR(A1927=\"\",B1927=\"\"),\"\",VLOOKUP(A1927&\"_\"&B1927,Lookups!$E:$F,2,FALSE))","v":""},""]
[null,null,null,null,null,"",null,"",null,null,"","",{"$f":"IF(OR(A1928=\"\",B1928=\"\"),\"\",VLOOKUP(A1928&\"_\"&B1928,Lookups!$E:$F,2,FALSE))","v":""},""]
[null,null,null,null,null,"",null,"",null,null,"","",{"$f":"IF(OR(A1929=\"\",B1929=\"\"),\"\",VLOOKUP(A1929&\"_\"&B1929,Lookups!$E:$F,2,FALSE))","v":""},""]
[null,null,null,null,null,"",null,"",null,null,"","",{"$f":"IF(OR(A1930=\"\",B1930=\"\"),\"\",VLOOKUP(A1930&\"_\"&B1930,Lookups!$E:$F,2,FALSE))","v":""},""]
[null,null,null,null,null,"",null,"",null,null,"","",{"$f":"IF(OR(A1931=\"\",B1931=\"\"),\"\",VLOOKUP(A1931&\"_\"&B1931,Lookups!$E:$F,2,FALSE))","v":""},""]
[null,null,null,null,null,"",null,"",null,null,"","",{"$f":"IF(OR(A1932=\"\",B1932=\"\"),\"\",VLOOKUP(A1932&\"_\"&B1932,Lookups!$E:$F,2,FALSE))","v":""},""]
[null,null,null,null,null,"",null,"",null,null,"","",{"$f":"IF(OR(A1933=\"\",B1933=\"\"),\"\",VLOOKUP(A1933&\"_\"&B1933,Lookups!$E:$F,2,FALSE))","v":""},""]
[null,null,null,null,null,"",null,"",null,null,"","",{"$f":"IF(OR(A1934=\"\",B1934=\"\"),\"\",VLOOKUP(A1934&\"_\"&B1934,Lookups!$E:$F,2,FALSE))","v":""},""]
[null,null,null,null,null,"",null,"",null,null,"","",{"$f":"IF(OR(A1935=\"\",B1935=\"\"),\"\",VLOOKUP(A1935&\"_\"&B1935,Lookups!$E:$F,2,FALSE))","v":""},""]
[null,null,null,null,null,"",null,"",null,null,"","",{"$f":"IF(OR(A1936=\"\",B1936=\"\"),\"\",VLOOKUP(A1936&\"_\"&B1936,Lookups!$E:$F,2,FALSE))","v":""},""]
[null,null,null,null,null,"",null,"",null,null,"","",{"$f":"IF(OR(A1937=\"\",B1937=\"\"),\"\",VLOOKUP(A1937&\"_\"&B1937,Lookups!$E:$F,2,FALSE))","v":""},""]
[null,null,null,null,null,"",null,"",null,null,"","",{"$f":"IF(OR(A1938=\"\",B1938=\"\"),\"\",VLOOKUP(A1938&\"_\"&B1938,Lookups!$E:$F,2,FALSE))","v":""},""]
[null,null,null,null,null,"",null,"",null,null,"","",{"$f":"IF(OR(A1939=\"\",B1939=\"\"),\"\",VLOOKUP(A1939&\"_\"&B1939,Lookups!$E:$F,2,FALSE))","v":""},""]
[null,null,null,null,null,"",null,"",null,null,"","",{"$f":"IF(OR(A1940=\"\",B1940=\"\"),\"\",VLOOKUP(A1940&\"_\"&B1940,Lookups!$E:$F,2,FALSE))","v":""},""]
[null,null,null,null,null,"",null,"",null,null,"","",{"$f":"IF(OR(A1941=\"\",B1941=\"\"),\"\",VLOOKUP(A1941&\"_\"&B1941,Lookups!$E:$F,2,FALSE))","v":""},""]
[null,null,null,null,null,"",null,"",null,null,"","",{"$f":"IF(OR(A1942=\"\",B1942=\"\"),\"\",VLOOKUP(A1942&\"_\"&B1942,Lookups!$E:$F,2,FALSE))","v":""},""]
[null,null,null,null,null,"",null,"",null,null,"","",{"$f":"IF(OR(A1943=\"\",B1943=\"\"),\"\",VLOOKUP(A1943&\"_\"&B1943,Lookups!$E:$F,2,FALSE))","v":""},""]
[null,null,null,null,null,"",null,"",null,null,"","",{"$f":"IF(OR(A1944=\"\",B1944=\"\"),\"\",VLOOKUP(A1944&\"_\"&B1944,Lookups!$E:$F,2,FALSE))","v":""},""]
[null,null,null,null,null,"",null,"",null,null,"","",{"$f":"IF(OR(A1945=\"\",B1945=\"\"),\"\",VLOOKUP(A1945&\"_\"&B1945,Lookups!$E:$F,2,FALSE))","v":""},""]
[null,null,null,null,null,"",null,"",null,null,"","",{"$f":"IF(OR(A1946=\"\",B1946=\"\"),\"\",VLOOKUP(A1946&\"_\"&B1946,Lookups!$E:$F,2,FALSE))","v":""},""]
[null,null,null,null,null,"",null,"",null,null,"","",{"$f":"IF(OR(A1947=\"\",B1947=\"\"),\"\",VLOOKUP(A1947&\"_\"&B1947,Lookups!$E:$F,2,FALSE))","v":""},""]
[null,null,null,null,null,"",null,"",null,null,"","",{"$f":"IF(OR(A1948=\"\",B1948=\"\"),\"\",VLOOKUP(A1948&\"_\"&B1948,Lookups!$E:$F,2,FALSE))","v":""},""]
[null,null,null,null,null,"",null,"",null,null,"","",{"$f":"IF(OR(A1949=\"\",B1949=\"\"),\"\",VLOOKUP(A1949&\"_\"&B1949,Lookups!$E:$F,2,FALSE))","v":""},""]
[null,null,null,null,null,"",null,"",null,null,"","",{"$f":"IF(OR(A1950=\"\",B1950=\"\"),\"\",VLOOKUP(A1950&\"_\"&B1950,Lookups!$E:$F,2,FALSE))","v":""},""]
[null,null,null,null,null,"",null,"",null,null,"","",{"$f":"IF(OR(A1951=\"\",B1951=\"\"),\"\",VLOOKUP(A1951&\"_\"&B1951,Lookups!$E:$F,2,FALSE))","v":""},""]
[null,null,null,null,null,"",null,"",null,null,"","",{"$f":"IF(OR(A1952=\"\",B1952=\"\"),\"\",VLOOKUP(A1952&\"_\"&B1952,Lookups!$E:$F,2,FALSE))","v":""},""]
[null,null,null,null,null,"",null,"",null,null,"","",{"$f":"IF(OR(A1953=\"\",B1953=\"\"),\"\",VLOOKUP(A1953&\"_\"&B1953,Lookups!$E:$F,2,FALSE))","v":""},""]
[null,null,null,null,null,"",null,"",null,null,"","",{"$f":"IF(OR(A1954=\"\",B1954=\"\"),\"\",VLOOKUP(A1954&\"_\"&B1954,Lookups!$E:$F,2,FALSE))","v":""},""]
[null,null,null,null,null,"",null,"",null,null,"","",{"$f":"IF(OR(A1955=\"\",B1955=\"\"),\"\",VLOOKUP(A1955&\"_\"&B1955,Lookups!$E:$F,2,FALSE))","v":""},""]
[null,null,null,null,null,"",null,"",null,null,"","",{"$f":"IF(OR(A1956=\"\",B1956=\"\"),\"\",VLOOKUP(A1956&\"_\"&B1956,Lookups!$E:$F,2,FALSE))","v":""},""]
[null,null,null,null,null,"",null,"",null,null,"","",{"$f":"IF(OR(A1957=\"\",B1957=\"\"),\"\",VLOOKUP(A1957&\"_\"&B1957,Lookups!$E:$F,2,FALSE))","v":""},""]
[null,null,null,null,null,"",null,"",null,null,"","",{"$f":"IF(OR(A1958=\"\",B1958=\"\"),\"\",VLOOKUP(A1958&\"_\"&B1958,Lookups!$E:$F,2,FALSE))","v":""},""]
[null,null,null,null,null,"",null,"",null,null,"","",{"$f":"IF(OR(A1959=\"\",B1959=\"\"),\"\",VLOOKUP(A1959&\"_\"&B1959,Lookups!$E:$F,2,FALSE))","v":""},""]
[null,null,null,null,null,"",null,"",null,null,"","",{"$f":"IF(OR(A1960=\"\",B1960=\"\"),\"\",VLOOKUP(A1960&\"_\"&B1960,Lookups!$E:$F,2,FALSE))","v":""},""]
[null,null,null,null,null,"",null,"",null,null,"","",{"$f":"IF(OR(A1961=\"\",B1961=\"\"),\"\",VLOOKUP(A1961&\"_\"&B1961,Lookups!$E:$F,2,FALSE))","v":""},""]
[null,null,null,null,null,"",null,"",null,null,"","",{"$f":"IF(OR(A1962=\"\",B1962=\"\"),\"\",VLOOKUP(A1962&\"_\"&B1962,Lookups!$E:$F,2,FALSE))","v":""},""]
[null,null,null,null,null,"",null,"",null,null,"","",{"$f":"IF(OR(A1963=\"\",B1963=\"\"),\"\",VLOOKUP(A1963&\"_\"&B1963,Lookups!$E:$F,2,FALSE))","v":""},""]
[null,null,null,null,null,"",null,"",null,null,"","",{"$f":"IF(OR(A1964=\"\",B1964=\"\"),\"\",VLOOKUP(A1964&\"_\"&B1964,Lookups!$E:$F,2,FALSE))","v":""},""]
[null,null,null,null,null,"",null,"",null,null,"","",{"$f":"IF(OR(A1965=\"\",B1965=\"\"),\"\",VLOOKUP(A1965&\"_\"&B1965,Lookups!$E:$F,2,FALSE))","v":""},""]
[null,null,null,null,null,"",null,"",null,null,"","",{"$f":"IF(OR(A1966=\"\",B1966=\"\"),\"\",VLOOKUP(A1966&\"_\"&B1966,Lookups!$E:$F,2,FALSE))","v":""},""]
[null,null,null,null,null,"",null,"",null,null,"","",{"$f":"IF(OR(A1967=\"\",B1967=\"\"),\"\",VLOOKUP(A1967&\"_\"&B1967,Lookups!$E:$F,2,FALSE))","v":""},""]
[null,null,null,null,null,"",null,"",null,null,"","",{"$f":"IF(OR(A1968=\"\",B1968=\"\"),\"\",VLOOKUP(A1968&\"_\"&B1968,Lookups!$E:$F,2,FALSE))","v":""},""]
[null,null,null,null,null,"",null,"",null,null,"","",{"$f":"IF(OR(A1969=\"\",B1969=\"\"),\"\",VLOOKUP(A1969&\"_\"&B1969,Lookups!$E:$F,2,FALSE))","v":""},""]
[null,null,null,null,null,"",null,"",null,null,"","",{"$f":"IF(OR(A1970=\"\",B1970=\"\"),\"\",VLOOKUP(A1970&\"_\"&B1970,Lookups!$E:$F,2,FALSE))","v":""},""]
[null,null,null,null,null,"",null,"",null,null,"","",{"$f":"IF(OR(A1971=\"\",B1971=\"\"),\"\",VLOOKUP(A1971&\"_\"&B1971,Lookups!$E:$F,2,FALSE))","v":""},""]
[null,null,null,null,null,"",null,"",null,null,"","",{"$f":"IF(OR(A1972=\"\",B1972=\"\"),\"\",VLOOKUP(A1972&\"_\"&B1972,Lookups!$E:$F,2,FALSE))","v":""},""]
[null,null,null,null,null,"",null,"",null,null,"","",{"$f":"IF(OR(A1973=\"\",B1973=\"\"),\"\",VLOOKUP(A1973&\"_\"&B1973,Lookups!$E:$F,2,FALSE))","v":""},""]
[null,null,null,null,null,"",null,"",null,null,"","",{"$f":"IF(OR(A1974=\"\",B1974=\"\"),\"\",VLOOKUP(A1974&\"_\"&B1974,Lookups!$E:$F,2,FALSE))","v":""},""]
[null,null,null,null,null,"",null,"",null,null,"","",{"$f":"IF(OR(A1975=\"\",B1975=\"\"),\"\",VLOOKUP(A1975&\"_\"&B1975,Lookups!$E:$F,2,FALSE))","v":""},""]
[null,null,null,null,null,"",null,"",null,null,"","",{"$f":"IF(OR(A1976=\"\",B1976=\"\"),\"\",VLOOKUP(A1976&\"_\"&B1976,Lookups!$E:$F,2,FALSE))","v":""},""]
[null,null,null,null,null,"",null,"",null,null,"","",{"$f":"IF(OR(A1977=\"\",B1977=\"\"),\"\",VLOOKUP(A1977&\"_\"&B1977,Lookups!$E:$F,2,FALSE))","v":""},""]
[null,null,null,null,null,"",null,"",null,null,"","",{"$f":"IF(OR(A1978=\"\",B1978=\"\"),\"\",VLOOKUP(A1978&\"_\"&B1978,Lookups!$E:$F,2,FALSE))","v":""},""]
[null,null,null,null,null,"",null,"",null,null,"","",{"$f":"IF(OR(A1979=\"\",B1979=\"\"),\"\",VLOOKUP(A1979&\"_\"&B1979,Lookups!$E:$F,2,FALSE))","v":""},""]
[null,null,null,null,null,"",null,"",null,null,"","",{"$f":"IF(OR(A1980=\"\",B1980=\"\"),\"\",VLOOKUP(A1980&\"_\"&B1980,Lookups!$E:$F,2,FALSE))","v":""},""]
[null,null,null,null,null,"",null,"",null,null,"","",{"$f":"IF(OR(A1981=\"\",B1981=\"\"),\"\",VLOOKUP(A1981&\"_\"&B1981,Lookups!$E:$F,2,FALSE))","v":""},""]
[null,null,null,null,null,"",null,"",null,null,"","",{"$f":"IF(OR(A1982=\"\",B1982=\"\"),\"\",VLOOKUP(A1982&\"_\"&B1982,Lookups!$E:$F,2,FALSE))","v":""},""]
[null,null,null,null,null,"",null,"",null,null,"","",{"$f":"IF(OR(A1983=\"\",B1983=\"\"),\"\",VLOOKUP(A1983&\"_\"&B1983,Lookups!$E:$F,2,FALSE))","v":""},""]
[null,null,null,null,null,"",null,"",null,null,"","",{"$f":"IF(OR(A1984=\"\",B1984=\"\"),\"\",VLOOKUP(A1984&\"_\"&B1984,Lookups!$E:$F,2,FALSE))","v":""},""]
[null,null,null,null,null,"",null,"",null,null,"","",{"$f":"IF(OR(A1985=\"\",B1985=\"\"),\"\",VLOOKUP(A1985&\"_\"&B1985,Lookups!$E:$F,2,FALSE))","v":""},""]
[null,null,null,null,null,"",null,"",null,null,"","",{"$f":"IF(OR(A1986=\"\",B1986=\"\"),\"\",VLOOKUP(A1986&\"_\"&B1986,Lookups!$E:$F,2,FALSE))","v":""},""]
[null,null,null,null,null,"",null,"",null,null,"","",{"$f":"IF(OR(A1987=\"\",B1987=\"\"),\"\",VLOOKUP(A1987&\"_\"&B1987,Lookups!$E:$F,2,FALSE))","v":""},""]
[null,null,null,null,null,{"$f":"IF(OR(D1988=\"\",E1988=\"\"),\"\",ROUND((E1988-D1988)*24,2))","v":""},null,{"$f":"IF(F1988=\"\",\"\",IF(G1988<>\"\",F1988*G1988,F1988))","v":""},null,null,{"$f":"IF(AND(H1988<>\"\",I1988=\"Paid\"),H1988,\"\")","v":""},{"$f":"IF(H1988=\"\",\"\",IF(K1988=\"\",H1988,H1988-K1988))","v":""},{"$f":"IF(OR(A1988=\"\",B1988=\"\"),\"\",VLOOKUP(A1988&\"_\"&B1988,Lookups!$E:$F,2,FALSE))","v":""},{"$f":"IF(AND(K1988=\"\",L1988=\"\"),\"\",IF(K1988=\"\",L1988*M1988,SUM(K1988,L1988)*M1988))","v":""}]
[null,null,null,null,null,"",null,"",null,null,"","",{"$f":"IF(OR(A1989=\"\",B1989=\"\"),\"\",VLOOKUP(A1989&\"_\"&B1989,Lookups!$E:$F,2,FALSE))","v":""},""]
[null,null,null,null,null,"",null,"",null,null,"","",{"$f":"IF(OR(A1990=\"\",B1990=\"\"),\"\",VLOOKUP(A1990&\"_\"&B1990,Lookups!$E:$F,2,FALSE))","v":""},""]
[null,null,null,null,null,"",null,"",null,null,"","",{"$f":"IF(OR(A1991=\"\",B1991=\"\"),\"\",VLOOKUP(A1991&\"_\"&B1991,Lookups!$E:$F,2,FALSE))","v":""},""]
[null,null,null,null,null,"",null,"",null,null,"","",{"$f":"IF(OR(A1992=\"\",B1992=\"\"),\"\",VLOOKUP(A1992&\"_\"&B1992,Lookups!$E:$F,2,FALSE))","v":""},""]
[null,null,null,null,null,"",null,"",null,null,"","",{"$f":"IF(OR(A1993=\"\",B1993=\"\"),\"\",VLOOKUP(A1993&\"_\"&B1993,Lookups!$E:$F,2,FALSE))","v":""},""]
[null,null,null,null,null,"",null,"",null,null,"","",{"$f":"IF(OR(A1994=\"\",B1994=\"\"),\"\",VLOOKUP(A1994&\"_\"&B1994,Lookups!$E:$F,2,FALSE))","v":""},""]
[null,null,null,null,null,"",null,"",null,null,"","",{"$f":"IF(OR(A1995=\"\",B1995=\"\"),\"\",VLOOKUP(A1995&\"_\"&B1995,Lookups!$E:$F,2,FALSE))","v":""},""]
[null,null,null,null,null,"",null,"",null,null,"","",{"$f":"IF(OR(A1996=\"\",B1996=\"\"),\"\",VLOOKUP(A1996&\"_\"&B1996,Lookups!$E:$F,2,FALSE))","v":""},""]
[null,null,null,null,null,"",null,"",null,null,"","",{"$f":"IF(OR(A1997=\"\",B1997=\"\"),\"\",VLOOKUP(A1997&\"_\"&B1997,Lookups!$E:$F,2,FALSE))","v":""},""]
[null,null,null,null,null,"",null,"",null,null,"","",{"$f":"IF(OR(A1998=\"\",B1998=\"\"),\"\",VLOOKUP(A1998&\"_\"&B1998,Lookups!$E:$F,2,FALSE))","v":""},""]
[null,null,null,null,null,"",null,"",null,null,"","",{"$f":"IF(OR(A1999=\"\",B1999=\"\"),\"\",VLOOKUP(A1999&\"_\"&B1999,Lookups!$E:$F,2,FALSE))","v":""},""]
[null,null,null,null,null,"",null,"",null,null,"","",{"$f":"IF(OR(A2000=\"\",B2000=\"\"),\"\",VLOOKUP(A2000&\"_\"&B2000,Lookups!$E:$F,2,FALSE))","v":""},""]
[null,null,null,null,null,"",null,"",null,null,"","",{"$f":"IF(OR(A2001=\"\",B2001=\"\"),\"\",VLOOKUP(A2001&\"_\"&B2001,Lookups!$E:$F,2,FALSE))","v":""},""]
[null,null,null,null,null,"",null,"",null,null,"","",{"$f":"IF(OR(A2002=\"\",B2002=\"\"),\"\",VLOOKUP(A2002&\"_\"&B2002,Lookups!$E:$F,2,FALSE))","v":""},""]
[null,null,null,null,null,"",null,"",null,null,"","",{"$f":"IF(OR(A2003=\"\",B2003=\"\"),\"\",VLOOKUP(A2003&\"_\"&B2003,Lookups!$E:$F,2,FALSE))","v":""},""]
[null,null,null,null,null,"",null,"",null,null,"","",{"$f":"IF(OR(A2004=\"\",B2004=\"\"),\"\",VLOOKUP(A2004&\"_\"&B2004,Lookups!$E:$F,2,FALSE))","v":""},""]
[null,null,null,null,null,"",null,"",null,null,"","",{"$f":"IF(OR(A2005=\"\",B2005=\"\"),\"\",VLOOKUP(A2005&\"_\"&B2005,Lookups!$E:$F,2,FALSE))","v":""},""]
[null,null,null,null,null,"",null,"",null,null,"","",{"$f":"IF(OR(A2006=\"\",B2006=\"\"),\"\",VLOOKUP(A2006&\"_\"&B2006,Lookups!$E:$F,2,FALSE))","v":""},""]
[null,null,null,null,null,"",null,"",null,null,"","",{"$f":"IF(OR(A2007=\"\",B2007=\"\"),\"\",VLOOKUP(A2007&\"_\"&B2007,Lookups!$E:$F,2,FALSE))","v":""},""]
[null,null,null,null,null,"",null,"",null,null,"","",{"$f":"IF(OR(A2008=\"\",B2008=\"\"),\"\",VLOOKUP(A2008&\"_\"&B2008,Lookups!$E:$F,2,FALSE))","v":""},""]
[null,null,null,null,null,"",null,"",null,null,"","",{"$f":"IF(OR(A2009=\"\",B2009=\"\"),\"\",VLOOKUP(A2009&\"_\"&B2009,Lookups!$E:$F,2,FALSE))","v":""},""]
[null,null,null,null,null,"",null,"",null,null,"","",{"$f":"IF(OR(A2010=\"\",B2010=\"\"),\"\",VLOOKUP(A2010&\"_\"&B2010,Lookups!$E:$F,2,FALSE))","v":""},""]
[null,null,null,null,null,"",null,"",null,null,"","",{"$f":"IF(OR(A2011=\"\",B2011=\"\"),\"\",VLOOKUP(A2011&\"_\"&B2011,Lookups!$E:$F,2,FALSE))","v":""},""]
[null,null,null,null,null,"",null,"",null,null,"","",{"$f":"IF(OR(A2012=\"\",B2012=\"\"),\"\",VLOOKUP(A2012&\"_\"&B2012,Lookups!$E:$F,2,FALSE))","v":""},""]
[null,null,null,null,null,"",null,"",null,null,"","",{"$f":"IF(OR(A2013=\"\",B2013=\"\"),\"\",VLOOKUP(A2013&\"_\"&B2013,Lookups!$E:$F,2,FALSE))","v":""},""]
[null,null,null,null,null,"",null,"",null,null,"","",{"$f":"IF(OR(A2014=\"\",B2014=\"\"),\"\",VLOOKUP(A2014&\"_\"&B2014,Lookups!$E:$F,2,FALSE))","v":""},""]
[null,null,null,null,null,"",null,"",null,null,"","",{"$f":"IF(OR(A2015=\"\",B2015=\"\"),\"\",VLOOKUP(A2015&\"_\"&B2015,Lookups!$E:$F,2,FALSE))","v":""},""]
[null,null,null,null,null,"",null,"",null,null,"","",{"$f":"IF(OR(A2016=\"\",B2016=\"\"),\"\",VLOOKUP(A2016&\"_\"&B2016,Lookups!$E:$F,2,FALSE))","v":""},""]
[null,null,null,null,null,"",null,"",null,null,"","",{"$f":"IF(OR(A2017=\"\",B2017=\"\"),\"\",VLOOKUP(A2017&\"_\"&B2017,Lookups!$E:$F,2,FALSE))","v":""},""]
[null,null,null,null,null,"",null,"",null,null,"","",{"$f":"IF(OR(A2018=\"\",B2018=\"\"),\"\",VLOOKUP(A2018&\"_\"&B2018,Lookups!$E:$F,2,FALSE))","v":""},""]
[null,null,null,null,null,"",null,"",null,null,"","",{"$f":"IF(OR(A2019=\"\",B2019=\"\"),\"\",VLOOKUP(A2019&\"_\"&B2019,Lookups!$E:$F,2,FALSE))","v":""},""]
[null,null,null,null,null,"",null,"",null,null,"","",{"$f":"IF(OR(A2020=\"\",B2020=\"\"),\"\",VLOOKUP(A2020&\"_\"&B2020,Lookups!$E:$F,2,FALSE))","v":""},""]
[null,null,null,null,null,"",null,"",null,null,"","",{"$f":"IF(OR(A2021=\"\",B2021=\"\"),\"\",VLOOKUP(A2021&\"_\"&B2021,Lookups!$E:$F,2,FALSE))","v":""},""]
[null,null,null,null,null,"",null,"",null,null,"","",{"$f":"IF(OR(A2022=\"\",B2022=\"\"),\"\",VLOOKUP(A2022&\"_\"&B2022,Lookups!$E:$F,2,FALSE))","v":""},""]
[null,null,null,null,null,"",null,"",null,null,"","",{"$f":"IF(OR(A2023=\"\",B2023=\"\"),\"\",VLOOKUP(A2023&\"_\"&B2023,Lookups!$E:$F,2,FALSE))","v":""},""]
[null,null,null,null,null,"",null,"",null,null,"","",{"$f":"IF(OR(A2024=\"\",B2024=\"\"),\"\",VLOOKUP(A2024&\"_\"&B2024,Lookups!$E:$F,2,FALSE))","v":""},""]
[null,null,null,null,null,"",null,"",null,null,"","",{"$f":"IF(OR(A2025=\"\",B2025=\"\"),\"\",VLOOKUP(A2025&\"_\"&B2025,Lookups!$E:$F,2,FALSE))","v":""},""]
[null,null,null,null,null,"",null,"",null,null,"","",{"$f":"IF(OR(A2026=\"\",B2026=\"\"),\"\",VLOOKUP(A2026&\"_\"&B2026,Lookups!$E:$F,2,FALSE))","v":""},""]
[null,null,null,null,null,"",null,"",null,null,"","",{"$f":"IF(OR(A2027=\"\",B2027=\"\"),\"\",VLOOKUP(A2027&\"_\"&B2027,Lookups!$E:$F,2,FALSE))","v":""},""]
[null,null,null,null,null,"",null,"",null,null,"","",{"$f":"IF(OR(A2028=\"\",B2028=\"\"),\"\",VLOOKUP(A2028&\"_\"&B2028,Lookups!$E:$F,2,FALSE))","v":""},""]
[null,null,null,null,null,"",null,"",null,null,"","",{"$f":"IF(OR(A2029=\"\",B2029=\"\"),\"\",VLOOKUP(A2029&\"_\"&B2029,Lookups!$E:$F,2,FALSE))","v":""},""]
[null,null,null,null,null,"",null,"",null,null,"","",{"$f":"IF(OR(A2030=\"\",B2030=\"\"),\"\",VLOOKUP(A2030&\"_\"&B2030,Lookups!$E:$F,2,FALSE))","v":""},""]
[null,null,null,null,null,"",null,"",null,null,"","",{"$f":"IF(OR(A2031=\"\",B2031=\"\"),\"\",VLOOKUP(A2031&\"_\"&B2031,Lookups!$E:$F,2,FALSE))","v":""},""]
[null,null,null,null,null,"",null,"",null,null,"","",{"$f":"IF(OR(A2032=\"\",B2032=\"\"),\"\",VLOOKUP(A2032&\"_\"&B2032,Lookups!$E:$F,2,FALSE))","v":""},""]
[null,null,null,null,null,"",null,"",null,null,"","",{"$f":"IF(OR(A2033=\"\",B2033=\"\"),\"\",VLOOKUP(A2033&\"_\"&B2033,Lookups!$E:$F,2,FALSE))","v":""},""]
[null,null,null,null,null,"",null,"",null,null,"","",{"$f":"IF(OR(A2034=\"\",B2034=\"\"),\"\",VLOOKUP(A2034&\"_\"&B2034,Lookups!$E:$F,2,FALSE))","v":""},""]
[null,null,null,null,null,"",null,"",null,null,"","",{"$f":"IF(OR(A2035=\"\",B2035=\"\"),\"\",VLOOKUP(A2035&\"_\"&B2035,Lookups!$E:$F,2,FALSE))","v":""},""]
[null,null,null,null,null,"",null,"",null,null,"","",{"$f":"IF(OR(A2036=\"\",B2036=\"\"),\"\",VLOOKUP(A2036&\"_\"&B2036,Lookups!$E:$F,2,FALSE))","v":""},""]
[null,null,null,null,null,"",null,"",null,null,"","",{"$f":"IF(OR(A2037=\"\",B2037=\"\"),\"\",VLOOKUP(A2037&\"_\"&B2037,Lookups!$E:$F,2,FALSE))","v":""},""]
[null,null,null,null,null,"",null,"",null,null,"","",{"$f":"IF(OR(A2038=\"\",B2038=\"\"),\"\",VLOOKUP(A2038&\"_\"&B2038,Lookups!$E:$F,2,FALSE))","v":""},""]
[null,null,null,null,null,"",null,"",null,null,"","",{"$f":"IF(OR(A2039=\"\",B2039=\"\"),\"\",VLOOKUP(A2039&\"_\"&B2039,Lookups!$E:$F,2,FALSE))","v":""},""]
[null,null,null,null,null,"",null,"",null,null,"","",{"$f":"IF(OR(A2040=\"\",B2040=\"\"),\"\",VLOOKUP(A2040&\"_\"&B2040,Lookups!$E:$F,2,FALSE))","v":""},""]
[null,null,null,null,null,"",null,"",null,null,"","",{"$f":"IF(OR(A2041=\"\",B2041=\"\"),\"\",VLOOKUP(A2041&\"_\"&B2041,Lookups!$E:$F,2,FALSE))","v":""},""]
[null,null,null,null,null,"",null,"",null,null,"","",{"$f":"IF(OR(A2042=\"\",B2042=\"\"),\"\",VLOOKUP(A2042&\"_\"&B2042,Lookups!$E:$F,2,FALSE))","v":""},""]
[null,null,null,null,null,"",null,"",null,null,"","",{"$f":"IF(OR(A2043=\"\",B2043=\"\"),\"\",VLOOKUP(A2043&\"_\"&B2043,Lookups!$E:$F,2,FALSE))","v":""},""]
[null,null,null,null,null,"",null,"",null,null,"","",{"$f":"IF(OR(A2044=\"\",B2044=\"\"),\"\",VLOOKUP(A2044&\"_\"&B2044,Lookups!$E:$F,2,FALSE))","v":""},""]
[null,null,null,null,null,"",null,"",null,null,"","",{"$f":"IF(OR(A2045=\"\",B2045=\"\"),\"\",VLOOKUP(A2045&\"_\"&B2045,Lookups!$E:$F,2,FALSE))","v":""},""]
[null,null,null,null,null,"",null,"",null,null,"","",{"$f":"IF(OR(A2046=\"\",B2046=\"\"),\"\",VLOOKUP(A2046&\"_\"&B2046,Lookups!$E:$F,2,FALSE))","v":""},""]
[null,null,null,null,null,"",null,"",null,null,"","",{"$f":"IF(OR(A2047=\"\",B2047=\"\"),\"\",VLOOKUP(A2047&\"_\"&B2047,Lookups!$E:$F,2,FALSE))","v":""},""]
[null,null,null,null,null,"",null,"",null,null,"","",{"$f":"IF(OR(A2048=\"\",B2048=\"\"),\"\",VLOOKUP(A2048&\"_\"&B2048,Lookups!$E:$F,2,FALSE))","v":""},""]
[null,null,null,null,null,"",null,"",null,null,"","",{"$f":"IF(OR(A2049=\"\",B2049=\"\"),\"\",VLOOKUP(A2049&\"_\"&B2049,Lookups!$E:$F,2,FALSE))","v":""},""]
[null,null,null,null,null,"",null,"",null,null,"","",{"$f":"IF(OR(A2050=\"\",B2050=\"\"),\"\",VLOOKUP(A2050&\"_\"&B2050,Lookups!$E:$F,2,FALSE))","v":""},""]
[null,null,null,null,null,"",null,"",null,null,"","",{"$f":"IF(OR(A2051=\"\",B2051=\"\"),\"\",VLOOKUP(A2051&\"_\"&B2051,Lookups!$E:$F,2,FALSE))","v":""},""]
[null,null,null,null,null,{"$f":"IF(OR(D2052=\"\",E2052=\"\"),\"\",ROUND((E2052-D2052)*24,2))","v":""},null,{"$f":"IF(F2052=\"\",\"\",IF(G2052<>\"\",F2052*G2052,F2052))","v":""},null,null,{"$f":"IF(AND(H2052<>\"\",I2052=\"Paid\"),H2052,\"\")","v":""},{"$f":"IF(H2052=\"\",\"\",IF(K2052=\"\",H2052,H2052-K2052))","v":""},{"$f":"IF(OR(A2052=\"\",B2052=\"\"),\"\",VLOOKUP(A2052&\"_\"&B2052,Lookups!$E:$F,2,FALSE))","v":""},{"$f":"IF(AND(K2052=\"\",L2052=\"\"),\"\",IF(K2052=\"\",L2052*M2052,SUM(K2052,L2052)*M2052))","v":""}]
[null,null,null,null,null,"",null,"",null,null,"","",{"$f":"IF(OR(A2053=\"\",B2053=\"\"),\"\",VLOOKUP(A2053&\"_\"&B2053,Lookups!$E:$F,2,FALSE))","v":""},""]
[null,null,null,null,null,"",null,"",null,null,"","",{"$f":"IF(OR(A2054=\"\",B2054=\"\"),\"\",VLOOKUP(A2054&\"_\"&B2054,Lookups!$E:$F,2,FALSE))","v":""},""]
[null,null,null,null,null,"",null,"",null,null,"","",{"$f":"IF(OR(A2055=\"\",B2055=\"\"),\"\",VLOOKUP(A2055&\"_\"&B2055,Lookups!$E:$F,2,FALSE))","v":""},""]
[null,null,null,null,null,"",null,"",null,null,"","",{"$f":"IF(OR(A2056=\"\",B2056=\"\"),\"\",VLOOKUP(A2056&\"_\"&B2056,Lookups!$E:$F,2,FALSE))","v":""},""]
[null,null,null,null,null,"",null,"",null,null,"","",{"$f":"IF(OR(A2057=\"\",B2057=\"\"),\"\",VLOOKUP(A2057&\"_\"&B2057,Lookups!$E:$F,2,FALSE))","v":""},""]
[null,null,null,null,null,"",null,"",null,null,"","",{"$f":"IF(OR(A2058=\"\",B2058=\"\"),\"\",VLOOKUP(A2058&\"_\"&B2058,Lookups!$E:$F,2,FALSE))","v":""},""]
[null,null,null,null,null,"",null,"",null,null,"","",{"$f":"IF(OR(A2059=\"\",B2059=\"\"),\"\",VLOOKUP(A2059&\"_\"&B2059,Lookups!$E:$F,2,FALSE))","v":""},""]
[null,null,null,null,null,"",null,"",null,null,"","",{"$f":"IF(OR(A2060=\"\",B2060=\"\"),\"\",VLOOKUP(A2060&\"_\"&B2060,Lookups!$E:$F,2,FALSE))","v":""},""]
[null,null,null,null,null,"",null,"",null,null,"","",{"$f":"IF(OR(A2061=\"\",B2061=\"\"),\"\",VLOOKUP(A2061&\"_\"&B2061,Lookups!$E:$F,2,FALSE))","v":""},""]
[null,null,null,null,null,"",null,"",null,null,"","",{"$f":"IF(OR(A2062=\"\",B2062=\"\"),\"\",VLOOKUP(A2062&\"_\"&B2062,Lookups!$E:$F,2,FALSE))","v":""},""]
[null,null,null,null,null,"",null,"",null,null,"","",{"$f":"IF(OR(A2063=\"\",B2063=\"\"),\"\",VLOOKUP(A2063&\"_\"&B2063,Lookups!$E:$F,2,FALSE))","v":""},""]
[null,null,null,null,null,"",null,"",null,null,"","",{"$f":"IF(OR(A2064=\"\",B2064=\"\"),\"\",VLOOKUP(A2064&\"_\"&B2064,Lookups!$E:$F,2,FALSE))","v":""},""]
[null,null,null,null,null,"",null,"",null,null,"","",{"$f":"IF(OR(A2065=\"\",B2065=\"\"),\"\",VLOOKUP(A2065&\"_\"&B2065,Lookups!$E:$F,2,FALSE))","v":""},""]
[null,null,null,null,null,"",null,"",null,null,"","",{"$f":"IF(OR(A2066=\"\",B2066=\"\"),\"\",VLOOKUP(A2066&\"_\"&B2066,Lookups!$E:$F,2,FALSE))","v":""},""]
[null,null,null,null,null,"",null,"",null,null,"","",{"$f":"IF(OR(A2067=\"\",B2067=\"\"),\"\",VLOOKUP(A2067&\"_\"&B2067,Lookups!$E:$F,2,FALSE))","v":""},""]
[null,null,null,null,null,"",null,"",null,null,"","",{"$f":"IF(OR(A2068=\"\",B2068=\"\"),\"\",VLOOKUP(A2068&\"_\"&B2068,Lookups!$E:$F,2,FALSE))","v":""},""]
[null,null,null,null,null,"",null,"",null,null,"","",{"$f":"IF(OR(A2069=\"\",B2069=\"\"),\"\",VLOOKUP(A2069&\"_\"&B2069,Lookups!$E:$F,2,FALSE))","v":""},""]
[null,null,null,null,null,"",null,"",null,null,"","",{"$f":"IF(OR(A2070=\"\",B2070=\"\"),\"\",VLOOKUP(A2070&\"_\"&B2070,Lookups!$E:$F,2,FALSE))","v":""},""]
[null,null,null,null,null,"",null,"",null,null,"","",{"$f":"IF(OR(A2071=\"\",B2071=\"\"),\"\",VLOOKUP(A2071&\"_\"&B2071,Lookups!$E:$F,2,FALSE))","v":""},""]
[null,null,null,null,null,"",null,"",null,null,"","",{"$f":"IF(OR(A2072=\"\",B2072=\"\"),\"\",VLOOKUP(A2072&\"_\"&B2072,Lookups!$E:$F,2,FALSE))","v":""},""]
[null,null,null,null,null,"",null,"",null,null,"","",{"$f":"IF(OR(A2073=\"\",B2073=\"\"),\"\",VLOOKUP(A2073&\"_\"&B2073,Lookups!$E:$F,2,FALSE))","v":""},""]
[null,null,null,null,null,"",null,"",null,null,"","",{"$f":"IF(OR(A2074=\"\",B2074=\"\"),\"\",VLOOKUP(A2074&\"_\"&B2074,Lookups!$E:$F,2,FALSE))","v":""},""]
[null,null,null,null,null,"",null,"",null,null,"","",{"$f":"IF(OR(A2075=\"\",B2075=\"\"),\"\",VLOOKUP(A2075&\"_\"&B2075,Lookups!$E:$F,2,FALSE))","v":""},""]
[null,null,null,null,null,"",null,"",null,null,"","",{"$f":"IF(OR(A2076=\"\",B2076=\"\"),\"\",VLOOKUP(A2076&\"_\"&B2076,Lookups!$E:$F,2,FALSE))","v":""},""]
[null,null,null,null,null,"",null,"",null,null,"","",{"$f":"IF(OR(A2077=\"\",B2077=\"\"),\"\",VLOOKUP(A2077&\"_\"&B2077,Lookups!$E:$F,2,FALSE))","v":""},""]
[null,null,null,null,null,"",null,"",null,null,"","",{"$f":"IF(OR(A2078=\"\",B2078=\"\"),\"\",VLOOKUP(A2078&\"_\"&B2078,Lookups!$E:$F,2,FALSE))","v":""},""]
[null,null,null,null,null,"",null,"",null,null,"","",{"$f":"IF(OR(A2079=\"\",B2079=\"\"),\"\",VLOOKUP(A2079&\"_\"&B2079,Lookups!$E:$F,2,FALSE))","v":""},""]
[null,null,null,null,null,"",null,"",null,null,"","",{"$f":"IF(OR(A2080=\"\",B2080=\"\"),\"\",VLOOKUP(A2080&\"_\"&B2080,Lookups!$E:$F,2,FALSE))","v":""},""]
[null,null,null,null,null,"",null,"",null,null,"","",{"$f":"IF(OR(A2081=\"\",B2081=\"\"),\"\",VLOOKUP(A2081&\"_\"&B2081,Lookups!$E:$F,2,FALSE))","v":""},""]
[null,null,null,null,null,"",null,"",null,null,"","",{"$f":"IF(OR(A2082=\"\",B2082=\"\"),\"\",VLOOKUP(A2082&\"_\"&B2082,Lookups!$E:$F,2,FALSE))","v":""},""]
[null,null,null,null,null,"",null,"",null,null,"","",{"$f":"IF(OR(A2083=\"\",B2083=\"\"),\"\",VLOOKUP(A2083&\"_\"&B2083,Lookups!$E:$F,2,FALSE))","v":""},""]
[null,null,null,null,null,"",null,"",null,null,"","",{"$f":"IF(OR(A2084=\"\",B2084=\"\"),\"\",VLOOKUP(A2084&\"_\"&B2084,Lookups!$E:$F,2,FALSE))","v":""},""]
[null,null,null,null,null,"",null,"",null,null,"","",{"$f":"IF(OR(A2085=\"\",B2085=\"\"),\"\",VLOOKUP(A2085&\"_\"&B2085,Lookups!$E:$F,2,FALSE))","v":""},""]
[null,null,null,null,null,"",null,"",null,null,"","",{"$f":"IF(OR(A2086=\"\",B2086=\"\"),\"\",VLOOKUP(A2086&\"_\"&B2086,Lookups!$E:$F,2,FALSE))","v":""},""]
[null,null,null,null,null,"",null,"",null,null,"","",{"$f":"IF(OR(A2087=\"\",B2087=\"\"),\"\",VLOOKUP(A2087&\"_\"&B2087,Lookups!$E:$F,2,FALSE))","v":""},""]
[null,null,null,null,null,"",null,"",null,null,"","",{"$f":"IF(OR(A2088=\"\",B2088=\"\"),\"\",VLOOKUP(A2088&\"_\"&B2088,Lookups!$E:$F,2,FALSE))","v":""},""]
[null,null,null,null,null,"",null,"",null,null,"","",{"$f":"IF(OR(A2089=\"\",B2089=\"\"),\"\",VLOOKUP(A2089&\"_\"&B2089,Lookups!$E:$F,2,FALSE))","v":""},""]
[null,null,null,null,null,"",null,"",null,null,"","",{"$f":"IF(OR(A2090=\"\",B2090=\"\"),\"\",VLOOKUP(A2090&\"_\"&B2090,Lookups!$E:$F,2,FALSE))","v":""},""]
[null,null,null,null,null,"",null,"",null,null,"","",{"$f":"IF(OR(A2091=\"\",B2091=\"\"),\"\",VLOOKUP(A2091&\"_\"&B2091,Lookups!$E:$F,2,FALSE))","v":""},""]
[null,null,null,null,null,"",null,"",null,null,"","",{"$f":"IF(OR(A2092=\"\",B2092=\"\"),\"\",VLOOKUP(A2092&\"_\"&B2092,Lookups!$E:$F,2,FALSE))","v":""},""]
[null,null,null,null,null,"",null,"",null,null,"","",{"$f":"IF(OR(A2093=\"\",B2093=\"\"),\"\",VLOOKUP(A2093&\"_\"&B2093,Lookups!$E:$F,2,FALSE))","v":""},""]
[null,null,null,null,null,"",null,"",null,null,"","",{"$f":"IF(OR(A2094=\"\",B2094=\"\"),\"\",VLOOKUP(A2094&\"_\"&B2094,Lookups!$E:$F,2,FALSE))","v":""},""]
[null,null,null,null,null,"",null,"",null,null,"","",{"$f":"IF(OR(A2095=\"\",B2095=\"\"),\"\",VLOOKUP(A2095&\"_\"&B2095,Lookups!$E:$F,2,FALSE))","v":""},""]
[null,null,null,null,null,"",null,"",null,null,"","",{"$f":"IF(OR(A2096=\"\",B2096=\"\"),\"\",VLOOKUP(A2096&\"_\"&B2096,Lookups!$E:$F,2,FALSE))","v":""},""]
[null,null,null,null,null,"",null,"",null,null,"","",{"$f":"IF(OR(A2097=\"\",B2097=\"\"),\"\",VLOOKUP(A2097&\"_\"&B2097,Lookups!$E:$F,2,FALSE))","v":""},""]
[null,null,null,null,null,"",null,"",null,null,"","",{"$f":"IF(OR(A2098=\"\",B2098=\"\"),\"\",VLOOKUP(A2098&\"_\"&B2098,Lookups!$E:$F,2,FALSE))","v":""},""]
[null,null,null,null,null,"",null,"",null,null,"","",{"$f":"IF(OR(A2099=\"\",B2099=\"\"),\"\",VLOOKUP(A2099&\"_\"&B2099,Lookups!$E:$F,2,FALSE))","v":""},""]
[null,null,null,null,null,"",null,"",null,null,"","",{"$f":"IF(OR(A2100=\"\",B2100=\"\"),\"\",VLOOKUP(A2100&\"_\"&B2100,Lookups!$E:$F,2,FALSE))","v":""},""]
[null,null,null,null,null,"",null,"",null,null,"","",{"$f":"IF(OR(A2101=\"\",B2101=\"\"),\"\",VLOOKUP(A2101&\"_\"&B2101,Lookups!$E:$F,2,FALSE))","v":""},""]
[null,null,null,null,null,"",null,"",null,null,"","",{"$f":"IF(OR(A2102=\"\",B2102=\"\"),\"\",VLOOKUP(A2102&\"_\"&B2102,Lookups!$E:$F,2,FALSE))","v":""},""]
[null,null,null,null,null,"",null,"",null,null,"","",{"$f":"IF(OR(A2103=\"\",B2103=\"\"),\"\",VLOOKUP(A2103&\"_\"&B2103,Lookups!$E:$F,2,FALSE))","v":""},""]
[null,null,null,null,null,"",null,"",null,null,"","",{"$f":"IF(OR(A2104=\"\",B2104=\"\"),\"\",VLOOKUP(A2104&\"_\"&B2104,Lookups!$E:$F,2,FALSE))","v":""},""]
[null,null,null,null,null,"",null,"",null,null,"","",{"$f":"IF(OR(A2105=\"\",B2105=\"\"),\"\",VLOOKUP(A2105&\"_\"&B2105,Lookups!$E:$F,2,FALSE))","v":""},""]
[null,null,null,null,null,"",null,"",null,null,"","",{"$f":"IF(OR(A2106=\"\",B2106=\"\"),\"\",VLOOKUP(A2106&\"_\"&B2106,Lookups!$E:$F,2,FALSE))","v":""},""]
[null,null,null,null,null,"",null,"",null,null,"","",{"$f":"IF(OR(A2107=\"\",B2107=\"\"),\"\",VLOOKUP(A2107&\"_\"&B2107,Lookups!$E:$F,2,FALSE))","v":""},""]
[null,null,null,null,null,"",null,"",null,null,"","",{"$f":"IF(OR(A2108=\"\",B2108=\"\"),\"\",VLOOKUP(A2108&\"_\"&B2108,Lookups!$E:$F,2,FALSE))","v":""},""]
[null,null,null,null,null,"",null,"",null,null,"","",{"$f":"IF(OR(A2109=\"\",B2109=\"\"),\"\",VLOOKUP(A2109&\"_\"&B2109,Lookups!$E:$F,2,FALSE))","v":""},""]
[null,null,null,null,null,"",null,"",null,null,"","",{"$f":"IF(OR(A2110=\"\",B2110=\"\"),\"\",VLOOKUP(A2110&\"_\"&B2110,Lookups!$E:$F,2,FALSE))","v":""},""]
[null,null,null,null,null,"",null,"",null,null,"","",{"$f":"IF(OR(A2111=\"\",B2111=\"\"),\"\",VLOOKUP(A2111&\"_\"&B2111,Lookups!$E:$F,2,FALSE))","v":""},""]
[null,null,null,null,null,"",null,"",null,null,"","",{"$f":"IF(OR(A2112=\"\",B2112=\"\"),\"\",VLOOKUP(A2112&\"_\"&B2112,Lookups!$E:$F,2,FALSE))","v":""},""]
[null,null,null,null,null,"",null,"",null,null,"","",{"$f":"IF(OR(A2113=\"\",B2113=\"\"),\"\",VLOOKUP(A2113&\"_\"&B2113,Lookups!$E:$F,2,FALSE))","v":""},""]
[null,null,null,null,null,"",null,"",null,null,"","",{"$f":"IF(OR(A2114=\"\",B2114=\"\"),\"\",VLOOKUP(A2114&\"_\"&B2114,Lookups!$E:$F,2,FALSE))","v":""},""]
[null,null,null,null,null,"",null,"",null,null,"","",{"$f":"IF(OR(A2115=\"\",B2115=\"\"),\"\",VLOOKUP(A2115&\"_\"&B2115,Lookups!$E:$F,2,FALSE))","v":""},""]
[null,null,null,null,null,{"$f":"IF(OR(D2116=\"\",E2116=\"\"),\"\",ROUND((E2116-D2116)*24,2))","v":""},null,{"$f":"IF(F2116=\"\",\"\",IF(G2116<>\"\",F2116*G2116,F2116))","v":""},null,null,{"$f":"IF(AND(H2116<>\"\",I2116=\"Paid\"),H2116,\"\")","v":""},{"$f":"IF(H2116=\"\",\"\",IF(K2116=\"\",H2116,H2116-K2116))","v":""},{"$f":"IF(OR(A2116=\"\",B2116=\"\"),\"\",VLOOKUP(A2116&\"_\"&B2116,Lookups!$E:$F,2,FALSE))","v":""},{"$f":"IF(AND(K2116=\"\",L2116=\"\"),\"\",IF(K2116=\"\",L2116*M2116,SUM(K2116,L2116)*M2116))","v":""}]
[null,null,null,null,null,"",null,"",null,null,"","",{"$f":"IF(OR(A2117=\"\",B2117=\"\"),\"\",VLOOKUP(A2117&\"_\"&B2117,Lookups!$E:$F,2,FALSE))","v":""},""]
[null,null,null,null,null,"",null,"",null,null,"","",{"$f":"IF(OR(A2118=\"\",B2118=\"\"),\"\",VLOOKUP(A2118&\"_\"&B2118,Lookups!$E:$F,2,FALSE))","v":""},""]
[null,null,null,null,null,"",null,"",null,null,"","",{"$f":"IF(OR(A2119=\"\",B2119=\"\"),\"\",VLOOKUP(A2119&\"_\"&B2119,Lookups!$E:$F,2,FALSE))","v":""},""]
[null,null,null,null,null,"",null,"",null,null,"","",{"$f":"IF(OR(A2120=\"\",B2120=\"\"),\"\",VLOOKUP(A2120&\"_\"&B2120,Lookups!$E:$F,2,FALSE))","v":""},""]
[null,null,null,null,null,"",null,"",null,null,"","",{"$f":"IF(OR(A2121=\"\",B2121=\"\"),\"\",VLOOKUP(A2121&\"_\"&B2121,Lookups!$E:$F,2,FALSE))","v":""},""]
[null,null,null,null,null,"",null,"",null,null,"","",{"$f":"IF(OR(A2122=\"\",B2122=\"\"),\"\",VLOOKUP(A2122&\"_\"&B2122,Lookups!$E:$F,2,FALSE))","v":""},""]
[null,null,null,null,null,"",null,"",null,null,"","",{"$f":"IF(OR(A2123=\"\",B2123=\"\"),\"\",VLOOKUP(A2123&\"_\"&B2123,Lookups!$E:$F,2,FALSE))","v":""},""]
[null,null,null,null,null,"",null,"",null,null,"","",{"$f":"IF(OR(A2124=\"\",B2124=\"\"),\"\",VLOOKUP(A2124&\"_\"&B2124,Lookups!$E:$F,2,FALSE))","v":""},""]
[null,null,null,null,null,"",null,"",null,null,"","",{"$f":"IF(OR(A2125=\"\",B2125=\"\"),\"\",VLOOKUP(A2125&\"_\"&B2125,Lookups!$E:$F,2,FALSE))","v":""},""]
[null,null,null,null,null,"",null,"",null,null,"","",{"$f":"IF(OR(A2126=\"\",B2126=\"\"),\"\",VLOOKUP(A2126&\"_\"&B2126,Lookups!$E:$F,2,FALSE))","v":""},""]
[null,null,null,null,null,"",null,"",null,null,"","",{"$f":"IF(OR(A2127=\"\",B2127=\"\"),\"\",VLOOKUP(A2127&\"_\"&B2127,Lookups!$E:$F,2,FALSE))","v":""},""]
[null,null,null,null,null,"",null,"",null,null,"","",{"$f":"IF(OR(A2128=\"\",B2128=\"\"),\"\",VLOOKUP(A2128&\"_\"&B2128,Lookups!$E:$F,2,FALSE))","v":""},""]
[null,null,null,null,null,"",null,"",null,null,"","",{"$f":"IF(OR(A2129=\"\",B2129=\"\"),\"\",VLOOKUP(A2129&\"_\"&B2129,Lookups!$E:$F,2,FALSE))","v":""},""]
[null,null,null,null,null,"",null,"",null,null,"","",{"$f":"IF(OR(A2130=\"\",B2130=\"\"),\"\",VLOOKUP(A2130&\"_\"&B2130,Lookups!$E:$F,2,FALSE))","v":""},""]
[null,null,null,null,null,"",null,"",null,null,"","",{"$f":"IF(OR(A2131=\"\",B2131=\"\"),\"\",VLOOKUP(A2131&\"_\"&B2131,Lookups!$E:$F,2,FALSE))","v":""},""]
[null,null,null,null,null,"",null,"",null,null,"","",{"$f":"IF(OR(A2132=\"\",B2132=\"\"),\"\",VLOOKUP(A2132&\"_\"&B2132,Lookups!$E:$F,2,FALSE))","v":""},""]
[null,null,null,null,null,"",null,"",null,null,"","",{"$f":"IF(OR(A2133=\"\",B2133=\"\"),\"\",VLOOKUP(A2133&\"_\"&B2133,Lookups!$E:$F,2,FALSE))","v":""},""]
[null,null,null,null,null,"",null,"",null,null,"","",{"$f":"IF(OR(A2134=\"\",B2134=\"\"),\"\",VLOOKUP(A2134&\"_\"&B2134,Lookups!$E:$F,2,FALSE))","v":""},""]
[null,null,null,null,null,"",null,"",null,null,"","",{"$f":"IF(OR(A2135=\"\",B2135=\"\"),\"\",VLOOKUP(A2135&\"_\"&B2135,Lookups!$E:$F,2,FALSE))","v":""},""]
[null,null,null,null,null,"",null,"",null,null,"","",{"$f":"IF(OR(A2136=\"\",B2136=\"\"),\"\",VLOOKUP(A2136&\"_\"&B2136,Lookups!$E:$F,2,FALSE))","v":""},""]
[null,null,null,null,null,"",null,"",null,null,"","",{"$f":"IF(OR(A2137=\"\",B2137=\"\"),\"\",VLOOKUP(A2137&\"_\"&B2137,Lookups!$E:$F,2,FALSE))","v":""},""]
[null,null,null,null,null,"",null,"",null,null,"","",{"$f":"IF(OR(A2138=\"\",B2138=\"\"),\"\",VLOOKUP(A2138&\"_\"&B2138,Lookups!$E:$F,2,FALSE))","v":""},""]
[null,null,null,null,null,"",null,"",null,null,"","",{"$f":"IF(OR(A2139=\"\",B2139=\"\"),\"\",VLOOKUP(A2139&\"_\"&B2139,Lookups!$E:$F,2,FALSE))","v":""},""]
[null,null,null,null,null,"",null,"",null,null,"","",{"$f":"IF(OR(A2140=\"\",B2140=\"\"),\"\",VLOOKUP(A2140&\"_\"&B2140,Lookups!$E:$F,2,FALSE))","v":""},""]
[null,null,null,null,null,"",null,"",null,null,"","",{"$f":"IF(OR(A2141=\"\",B2141=\"\"),\"\",VLOOKUP(A2141&\"_\"&B2141,Lookups!$E:$F,2,FALSE))","v":""},""]
[null,null,null,null,null,"",null,"",null,null,"","",{"$f":"IF(OR(A2142=\"\",B2142=\"\"),\"\",VLOOKUP(A2142&\"_\"&B2142,Lookups!$E:$F,2,FALSE))","v":""},""]
[null,null,null,null,null,"",null,"",null,null,"","",{"$f":"IF(OR(A2143=\"\",B2143=\"\"),\"\",VLOOKUP(A2143&\"_\"&B2143,Lookups!$E:$F,2,FALSE))","v":""},""]
[null,null,null,null,null,"",null,"",null,null,"","",{"$f":"IF(OR(A2144=\"\",B2144=\"\"),\"\",VLOOKUP(A2144&\"_\"&B2144,Lookups!$E:$F,2,FALSE))","v":""},""]
[null,null,null,null,null,"",null,"",null,null,"","",{"$f":"IF(OR(A2145=\"\",B2145=\"\"),\"\",VLOOKUP(A2145&\"_\"&B2145,Lookups!$E:$F,2,FALSE))","v":""},""]
[null,null,null,null,null,"",null,"",null,null,"","",{"$f":"IF(OR(A2146=\"\",B2146=\"\"),\"\",VLOOKUP(A2146&\"_\"&B2146,Lookups!$E:$F,2,FALSE))","v":""},""]
[null,null,null,null,null,"",null,"",null,null,"","",{"$f":"IF(OR(A2147=\"\",B2147=\"\"),\"\",VLOOKUP(A2147&\"_\"&B2147,Lookups!$E:$F,2,FALSE))","v":""},""]
[null,null,null,null,null,"",null,"",null,null,"","",{"$f":"IF(OR(A2148=\"\",B2148=\"\"),\"\",VLOOKUP(A2148&\"_\"&B2148,Lookups!$E:$F,2,FALSE))","v":""},""]
[null,null,null,null,null,"",null,"",null,null,"","",{"$f":"IF(OR(A2149=\"\",B2149=\"\"),\"\",VLOOKUP(A2149&\"_\"&B2149,Lookups!$E:$F,2,FALSE))","v":""},""]
[null,null,null,null,null,"",null,"",null,null,"","",{"$f":"IF(OR(A2150=\"\",B2150=\"\"),\"\",VLOOKUP(A2150&\"_\"&B2150,Lookups!$E:$F,2,FALSE))","v":""},""]
[null,null,null,null,null,"",null,"",null,null,"","",{"$f":"IF(OR(A2151=\"\",B2151=\"\"),\"\",VLOOKUP(A2151&\"_\"&B2151,Lookups!$E:$F,2,FALSE))","v":""},""]
[null,null,null,null,null,"",null,"",null,null,"","",{"$f":"IF(OR(A2152=\"\",B2152=\"\"),\"\",VLOOKUP(A2152&\"_\"&B2152,Lookups!$E:$F,2,FALSE))","v":""},""]
[null,null,null,null,null,"",null,"",null,null,"","",{"$f":"IF(OR(A2153=\"\",B2153=\"\"),\"\",VLOOKUP(A2153&\"_\"&B2153,Lookups!$E:$F,2,FALSE))","v":""},""]
[null,null,null,null,null,"",null,"",null,null,"","",{"$f":"IF(OR(A2154=\"\",B2154=\"\"),\"\",VLOOKUP(A2154&\"_\"&B2154,Lookups!$E:$F,2,FALSE))","v":""},""]
[null,null,null,null,null,"",null,"",null,null,"","",{"$f":"IF(OR(A2155=\"\",B2155=\"\"),\"\",VLOOKUP(A2155&\"_\"&B2155,Lookups!$E:$F,2,FALSE))","v":""},""]
[null,null,null,null,null,"",null,"",null,null,"","",{"$f":"IF(OR(A2156=\"\",B2156=\"\"),\"\",VLOOKUP(A2156&\"_\"&B2156,Lookups!$E:$F,2,FALSE))","v":""},""]
[null,null,null,null,null,"",null,"",null,null,"","",{"$f":"IF(OR(A2157=\"\",B2157=\"\"),\"\",VLOOKUP(A2157&\"_\"&B2157,Lookups!$E:$F,2,FALSE))","v":""},""]
[null,null,null,null,null,"",null,"",null,null,"","",{"$f":"IF(OR(A2158=\"\",B2158=\"\"),\"\",VLOOKUP(A2158&\"_\"&B2158,Lookups!$E:$F,2,FALSE))","v":""},""]
[null,null,null,null,null,"",null,"",null,null,"","",{"$f":"IF(OR(A2159=\"\",B2159=\"\"),\"\",VLOOKUP(A2159&\"_\"&B2159,Lookups!$E:$F,2,FALSE))","v":""},""]
[null,null,null,null,null,"",null,"",null,null,"","",{"$f":"IF(OR(A2160=\"\",B2160=\"\"),\"\",VLOOKUP(A2160&\"_\"&B2160,Lookups!$E:$F,2,FALSE))","v":""},""]
[null,null,null,null,null,"",null,"",null,null,"","",{"$f":"IF(OR(A2161=\"\",B2161=\"\"),\"\",VLOOKUP(A2161&\"_\"&B2161,Lookups!$E:$F,2,FALSE))","v":""},""]
[null,null,null,null,null,"",null,"",null,null,"","",{"$f":"IF(OR(A2162=\"\",B2162=\"\"),\"\",VLOOKUP(A2162&\"_\"&B2162,Lookups!$E:$F,2,FALSE))","v":""},""]
[null,null,null,null,null,"",null,"",null,null,"","",{"$f":"IF(OR(A2163=\"\",B2163=\"\"),\"\",VLOOKUP(A2163&\"_\"&B2163,Lookups!$E:$F,2,FALSE))","v":""},""]
[null,null,null,null,null,"",null,"",null,null,"","",{"$f":"IF(OR(A2164=\"\",B2164=\"\"),\"\",VLOOKUP(A2164&\"_\"&B2164,Lookups!$E:$F,2,FALSE))","v":""},""]
[null,null,null,null,null,"",null,"",null,null,"","",{"$f":"IF(OR(A2165=\"\",B2165=\"\"),\"\",VLOOKUP(A2165&\"_\"&B2165,Lookups!$E:$F,2,FALSE))","v":""},""]
[null,null,null,null,null,"",null,"",null,null,"","",{"$f":"IF(OR(A2166=\"\",B2166=\"\"),\"\",VLOOKUP(A2166&\"_\"&B2166,Lookups!$E:$F,2,FALSE))","v":""},""]
[null,null,null,null,null,"",null,"",null,null,"","",{"$f":"IF(OR(A2167=\"\",B2167=\"\"),\"\",VLOOKUP(A2167&\"_\"&B2167,Lookups!$E:$F,2,FALSE))","v":""},""]
[null,null,null,null,null,"",null,"",null,null,"","",{"$f":"IF(OR(A2168=\"\",B2168=\"\"),\"\",VLOOKUP(A2168&\"_\"&B2168,Lookups!$E:$F,2,FALSE))","v":""},""]
[null,null,null,null,null,"",null,"",null,null,"","",{"$f":"IF(OR(A2169=\"\",B2169=\"\"),\"\",VLOOKUP(A2169&\"_\"&B2169,Lookups!$E:$F,2,FALSE))","v":""},""]
[null,null,null,null,null,"",null,"",null,null,"","",{"$f":"IF(OR(A2170=\"\",B2170=\"\"),\"\",VLOOKUP(A2170&\"_\"&B2170,Lookups!$E:$F,2,FALSE))","v":""},""]
[null,null,null,null,null,"",null,"",null,null,"","",{"$f":"IF(OR(A2171=\"\",B2171=\"\"),\"\",VLOOKUP(A2171&\"_\"&B2171,Lookups!$E:$F,2,FALSE))","v":""},""]
[null,null,null,null,null,"",null,"",null,null,"","",{"$f":"IF(OR(A2172=\"\",B2172=\"\"),\"\",VLOOKUP(A2172&\"_\"&B2172,Lookups!$E:$F,2,FALSE))","v":""},""]
[null,null,null,null,null,"",null,"",null,null,"","",{"$f":"IF(OR(A2173=\"\",B2173=\"\"),\"\",VLOOKUP(A2173&\"_\"&B2173,Lookups!$E:$F,2,FALSE))","v":""},""]
[null,null,null,null,null,"",null,"",null,null,"","",{"$f":"IF(OR(A2174=\"\",B2174=\"\"),\"\",VLOOKUP(A2174&\"_\"&B2174,Lookups!$E:$F,2,FALSE))","v":""},""]
[null,null,null,null,null,"",null,"",null,null,"","",{"$f":"IF(OR(A2175=\"\",B2175=\"\"),\"\",VLOOKUP(A2175&\"_\"&B2175,Lookups!$E:$F,2,FALSE))","v":""},""]
[null,null,null,null,null,"",null,"",null,null,"","",{"$f":"IF(OR(A2176=\"\",B2176=\"\"),\"\",VLOOKUP(A2176&\"_\"&B2176,Lookups!$E:$F,2,FALSE))","v":""},""]
[null,null,null,null,null,"",null,"",null,null,"","",{"$f":"IF(OR(A2177=\"\",B2177=\"\"),\"\",VLOOKUP(A2177&\"_\"&B2177,Lookups!$E:$F,2,FALSE))","v":""},""]
[null,null,null,null,null,"",null,"",null,null,"","",{"$f":"IF(OR(A2178=\"\",B2178=\"\"),\"\",VLOOKUP(A2178&\"_\"&B2178,Lookups!$E:$F,2,FALSE))","v":""},""]
[null,null,null,null,null,"",null,"",null,null,"","",{"$f":"IF(OR(A2179=\"\",B2179=\"\"),\"\",VLOOKUP(A2179&\"_\"&B2179,Lookups!$E:$F,2,FALSE))","v":""},""]
[null,null,null,null,null,{"$f":"IF(OR(D2180=\"\",E2180=\"\"),\"\",ROUND((E2180-D2180)*24,2))","v":""},null,{"$f":"IF(F2180=\"\",\"\",IF(G2180<>\"\",F2180*G2180,F2180))","v":""},null,null,{"$f":"IF(AND(H2180<>\"\",I2180=\"Paid\"),H2180,\"\")","v":""},{"$f":"IF(H2180=\"\",\"\",IF(K2180=\"\",H2180,H2180-K2180))","v":""},{"$f":"IF(OR(A2180=\"\",B2180=\"\"),\"\",VLOOKUP(A2180&\"_\"&B2180,Lookups!$E:$F,2,FALSE))","v":""},{"$f":"IF(AND(K2180=\"\",L2180=\"\"),\"\",IF(K2180=\"\",L2180*M2180,SUM(K2180,L2180)*M2180))","v":""}]
[null,null,null,null,null,"",null,"",null,null,"","",{"$f":"IF(OR(A2181=\"\",B2181=\"\"),\"\",VLOOKUP(A2181&\"_\"&B2181,Lookups!$E:$F,2,FALSE))","v":""},""]
[null,null,null,null,null,"",null,"",null,null,"","",{"$f":"IF(OR(A2182=\"\",B2182=\"\"),\"\",VLOOKUP(A2182&\"_\"&B2182,Lookups!$E:$F,2,FALSE))","v":""},""]
[null,null,null,null,null,"",null,"",null,null,"","",{"$f":"IF(OR(A2183=\"\",B2183=\"\"),\"\",VLOOKUP(A2183&\"_\"&B2183,Lookups!$E:$F,2,FALSE))","v":""},""]
[null,null,null,null,null,"",null,"",null,null,"","",{"$f":"IF(OR(A2184=\"\",B2184=\"\"),\"\",VLOOKUP(A2184&\"_\"&B2184,Lookups!$E:$F,2,FALSE))","v":""},""]
[null,null,null,null,null,"",null,"",null,null,"","",{"$f":"IF(OR(A2185=\"\",B2185=\"\"),\"\",VLOOKUP(A2185&\"_\"&B2185,Lookups!$E:$F,2,FALSE))","v":""},""]
[null,null,null,null,null,"",null,"",null,null,"","",{"$f":"IF(OR(A2186=\"\",B2186=\"\"),\"\",VLOOKUP(A2186&\"_\"&B2186,Lookups!$E:$F,2,FALSE))","v":""},""]
[null,null,null,null,null,"",null,"",null,null,"","",{"$f":"IF(OR(A2187=\"\",B2187=\"\"),\"\",VLOOKUP(A2187&\"_\"&B2187,Lookups!$E:$F,2,FALSE))","v":""},""]
[null,null,null,null,null,"",null,"",null,null,"","",{"$f":"IF(OR(A2188=\"\",B2188=\"\"),\"\",VLOOKUP(A2188&\"_\"&B2188,Lookups!$E:$F,2,FALSE))","v":""},""]
[null,null,null,null,null,"",null,"",null,null,"","",{"$f":"IF(OR(A2189=\"\",B2189=\"\"),\"\",VLOOKUP(A2189&\"_\"&B2189,Lookups!$E:$F,2,FALSE))","v":""},""]
[null,null,null,null,null,"",null,"",null,null,"","",{"$f":"IF(OR(A2190=\"\",B2190=\"\"),\"\",VLOOKUP(A2190&\"_\"&B2190,Lookups!$E:$F,2,FALSE))","v":""},""]
[null,null,null,null,null,"",null,"",null,null,"","",{"$f":"IF(OR(A2191=\"\",B2191=\"\"),\"\",VLOOKUP(A2191&\"_\"&B2191,Lookups!$E:$F,2,FALSE))","v":""},""]
[null,null,null,null,null,"",null,"",null,null,"","",{"$f":"IF(OR(A2192=\"\",B2192=\"\"),\"\",VLOOKUP(A2192&\"_\"&B2192,Lookups!$E:$F,2,FALSE))","v":""},""]
[null,null,null,null,null,"",null,"",null,null,"","",{"$f":"IF(OR(A2193=\"\",B2193=\"\"),\"\",VLOOKUP(A2193&\"_\"&B2193,Lookups!$E:$F,2,FALSE))","v":""},""]
[null,null,null,null,null,"",null,"",null,null,"","",{"$f":"IF(OR(A2194=\"\",B2194=\"\"),\"\",VLOOKUP(A2194&\"_\"&B2194,Lookups!$E:$F,2,FALSE))","v":""},""]
[null,null,null,null,null,"",null,"",null,null,"","",{"$f":"IF(OR(A2195=\"\",B2195=\"\"),\"\",VLOOKUP(A2195&\"_\"&B2195,Lookups!$E:$F,2,FALSE))","v":""},""]
[null,null,null,null,null,"",null,"",null,null,"","",{"$f":"IF(OR(A2196=\"\",B2196=\"\"),\"\",VLOOKUP(A2196&\"_\"&B2196,Lookups!$E:$F,2,FALSE))","v":""},""]
[null,null,null,null,null,"",null,"",null,null,"","",{"$f":"IF(OR(A2197=\"\",B2197=\"\"),\"\",VLOOKUP(A2197&\"_\"&B2197,Lookups!$E:$F,2,FALSE))","v":""},""]
[null,null,null,null,null,"",null,"",null,null,"","",{"$f":"IF(OR(A2198=\"\",B2198=\"\"),\"\",VLOOKUP(A2198&\"_\"&B2198,Lookups!$E:$F,2,FALSE))","v":""},""]
[null,null,null,null,null,"",null,"",null,null,"","",{"$f":"IF(OR(A2199=\"\",B2199=\"\"),\"\",VLOOKUP(A2199&\"_\"&B2199,Lookups!$E:$F,2,FALSE))","v":""},""]
[null,null,null,null,null,"",null,"",null,null,"","",{"$f":"IF(OR(A2200=\"\",B2200=\"\"),\"\",VLOOKUP(A2200&\"_\"&B2200,Lookups!$E:$F,2,FALSE))","v":""},""]
[null,null,null,null,null,"",null,"",null,null,"","",{"$f":"IF(OR(A2201=\"\",B2201=\"\"),\"\",VLOOKUP(A2201&\"_\"&B2201,Lookups!$E:$F,2,FALSE))","v":""},""]
[null,null,null,null,null,"",null,"",null,null,"","",{"$f":"IF(OR(A2202=\"\",B2202=\"\"),\"\",VLOOKUP(A2202&\"_\"&B2202,Lookups!$E:$F,2,FALSE))","v":""},""]
[null,null,null,null,null,"",null,"",null,null,"","",{"$f":"IF(OR(A2203=\"\",B2203=\"\"),\"\",VLOOKUP(A2203&\"_\"&B2203,Lookups!$E:$F,2,FALSE))","v":""},""]
[null,null,null,null,null,"",null,"",null,null,"","",{"$f":"IF(OR(A2204=\"\",B2204=\"\"),\"\",VLOOKUP(A2204&\"_\"&B2204,Lookups!$E:$F,2,FALSE))","v":""},""]
[null,null,null,null,null,"",null,"",null,null,"","",{"$f":"IF(OR(A2205=\"\",B2205=\"\"),\"\",VLOOKUP(A2205&\"_\"&B2205,Lookups!$E:$F,2,FALSE))","v":""},""]
[null,null,null,null,null,"",null,"",null,null,"","",{"$f":"IF(OR(A2206=\"\",B2206=\"\"),\"\",VLOOKUP(A2206&\"_\"&B2206,Lookups!$E:$F,2,FALSE))","v":""},""]
[null,null,null,null,null,"",null,"",null,null,"","",{"$f":"IF(OR(A2207=\"\",B2207=\"\"),\"\",VLOOKUP(A2207&\"_\"&B2207,Lookups!$E:$F,2,FALSE))","v":""},""]
[null,null,null,null,null,"",null,"",null,null,"","",{"$f":"IF(OR(A2208=\"\",B2208=\"\"),\"\",VLOOKUP(A2208&\"_\"&B2208,Lookups!$E:$F,2,FALSE))","v":""},""]
[null,null,null,null,null,"",null,"",null,null,"","",{"$f":"IF(OR(A2209=\"\",B2209=\"\"),\"\",VLOOKUP(A2209&\"_\"&B2209,Lookups!$E:$F,2,FALSE))","v":""},""]
[null,null,null,null,null,"",null,"",null,null,"","",{"$f":"IF(OR(A2210=\"\",B2210=\"\"),\"\",VLOOKUP(A2210&\"_\"&B2210,Lookups!$E:$F,2,FALSE))","v":""},""]
[null,null,null,null,null,"",null,"",null,null,"","",{"$f":"IF(OR(A2211=\"\",B2211=\"\"),\"\",VLOOKUP(A2211&\"_\"&B2211,Lookups!$E:$F,2,FALSE))","v":""},""]
[null,null,null,null,null,"",null,"",null,null,"","",{"$f":"IF(OR(A2212=\"\",B2212=\"\"),\"\",VLOOKUP(A2212&\"_\"&B2212,Lookups!$E:$F,2,FALSE))","v":""},""]
[null,null,null,null,null,"",null,"",null,null,"","",{"$f":"IF(OR(A2213=\"\",B2213=\"\"),\"\",VLOOKUP(A2213&\"_\"&B2213,Lookups!$E:$F,2,FALSE))","v":""},""]
[null,null,null,null,null,"",null,"",null,null,"","",{"$f":"IF(OR(A2214=\"\",B2214=\"\"),\"\",VLOOKUP(A2214&\"_\"&B2214,Lookups!$E:$F,2,FALSE))","v":""},""]
[null,null,null,null,null,"",null,"",null,null,"","",{"$f":"IF(OR(A2215=\"\",B2215=\"\"),\"\",VLOOKUP(A2215&\"_\"&B2215,Lookups!$E:$F,2,FALSE))","v":""},""]
[null,null,null,null,null,"",null,"",null,null,"","",{"$f":"IF(OR(A2216=\"\",B2216=\"\"),\"\",VLOOKUP(A2216&\"_\"&B2216,Lookups!$E:$F,2,FALSE))","v":""},""]
[null,null,null,null,null,"",null,"",null,null,"","",{"$f":"IF(OR(A2217=\"\",B2217=\"\"),\"\",VLOOKUP(A2217&\"_\"&B2217,Lookups!$E:$F,2,FALSE))","v":""},""]
[null,null,null,null,null,"",null,"",null,null,"","",{"$f":"IF(OR(A2218=\"\",B2218=\"\"),\"\",VLOOKUP(A2218&\"_\"&B2218,Lookups!$E:$F,2,FALSE))","v":""},""]
[null,null,null,null,null,"",null,"",null,null,"","",{"$f":"IF(OR(A2219=\"\",B2219=\"\"),\"\",VLOOKUP(A2219&\"_\"&B2219,Lookups!$E:$F,2,FALSE))","v":""},""]
[null,null,null,null,null,"",null,"",null,null,"","",{"$f":"IF(OR(A2220=\"\",B2220=\"\"),\"\",VLOOKUP(A2220&\"_\"&B2220,Lookups!$E:$F,2,FALSE))","v":""},""]
[null,null,null,null,null,"",null,"",null,null,"","",{"$f":"IF(OR(A2221=\"\",B2221=\"\"),\"\",VLOOKUP(A2221&\"_\"&B2221,Lookups!$E:$F,2,FALSE))","v":""},""]
[null,null,null,null,null,"",null,"",null,null,"","",{"$f":"IF(OR(A2222=\"\",B2222=\"\"),\"\",VLOOKUP(A2222&\"_\"&B2222,Lookups!$E:$F,2,FALSE))","v":""},""]
[null,null,null,null,null,"",null,"",null,null,"","",{"$f":"IF(OR(A2223=\"\",B2223=\"\"),\"\",VLOOKUP(A2223&\"_\"&B2223,Lookups!$E:$F,2,FALSE))","v":""},""]
[null,null,null,null,null,"",null,"",null,null,"","",{"$f":"IF(OR(A2224=\"\",B2224=\"\"),\"\",VLOOKUP(A2224&\"_\"&B2224,Lookups!$E:$F,2,FALSE))","v":""},""]
[null,null,null,null,null,"",null,"",null,null,"","",{"$f":"IF(OR(A2225=\"\",B2225=\"\"),\"\",VLOOKUP(A2225&\"_\"&B2225,Lookups!$E:$F,2,FALSE))","v":""},""]
[null,null,null,null,null,"",null,"",null,null,"","",{"$f":"IF(OR(A2226=\"\",B2226=\"\"),\"\",VLOOKUP(A2226&\"_\"&B2226,Lookups!$E:$F,2,FALSE))","v":""},""]
[null,null,null,null,null,"",null,"",null,null,"","",{"$f":"IF(OR(A2227=\"\",B2227=\"\"),\"\",VLOOKUP(A2227&\"_\"&B2227,Lookups!$E:$F,2,FALSE))","v":""},""]
[null,null,null,null,null,"",null,"",null,null,"","",{"$f":"IF(OR(A2228=\"\",B2228=\"\"),\"\",VLOOKUP(A2228&\"_\"&B2228,Lookups!$E:$F,2,FALSE))","v":""},""]
[null,null,null,null,null,"",null,"",null,null,"","",{"$f":"IF(OR(A2229=\"\",B2229=\"\"),\"\",VLOOKUP(A2229&\"_\"&B2229,Lookups!$E:$F,2,FALSE))","v":""},""]
[null,null,null,null,null,"",null,"",null,null,"","",{"$f":"IF(OR(A2230=\"\",B2230=\"\"),\"\",VLOOKUP(A2230&\"_\"&B2230,Lookups!$E:$F,2,FALSE))","v":""},""]
[null,null,null,null,null,"",null,"",null,null,"","",{"$f":"IF(OR(A2231=\"\",B2231=\"\"),\"\",VLOOKUP(A2231&\"_\"&B2231,Lookups!$E:$F,2,FALSE))","v":""},""]
[null,null,null,null,null,"",null,"",null,null,"","",{"$f":"IF(OR(A2232=\"\",B2232=\"\"),\"\",VLOOKUP(A2232&\"_\"&B2232,Lookups!$E:$F,2,FALSE))","v":""},""]
[null,null,null,null,null,"",null,"",null,null,"","",{"$f":"IF(OR(A2233=\"\",B2233=\"\"),\"\",VLOOKUP(A2233&\"_\"&B2233,Lookups!$E:$F,2,FALSE))","v":""},""]
[null,null,null,null,null,"",null,"",null,null,"","",{"$f":"IF(OR(A2234=\"\",B2234=\"\"),\"\",VLOOKUP(A2234&\"_\"&B2234,Lookups!$E:$F,2,FALSE))","v":""},""]
[null,null,null,null,null,"",null,"",null,null,"","",{"$f":"IF(OR(A2235=\"\",B2235=\"\"),\"\",VLOOKUP(A2235&\"_\"&B2235,Lookups!$E:$F,2,FALSE))","v":""},""]
[null,null,null,null,null,"",null,"",null,null,"","",{"$f":"IF(OR(A2236=\"\",B2236=\"\"),\"\",VLOOKUP(A2236&\"_\"&B2236,Lookups!$E:$F,2,FALSE))","v":""},""]
[null,null,null,null,null,"",null,"",null,null,"","",{"$f":"IF(OR(A2237=\"\",B2237=\"\"),\"\",VLOOKUP(A2237&\"_\"&B2237,Lookups!$E:$F,2,FALSE))","v":""},""]
[null,null,null,null,null,"",null,"",null,null,"","",{"$f":"IF(OR(A2238=\"\",B2238=\"\"),\"\",VLOOKUP(A2238&\"_\"&B2238,Lookups!$E:$F,2,FALSE))","v":""},""]
[null,null,null,null,null,"",null,"",null,null,"","",{"$f":"IF(OR(A2239=\"\",B2239=\"\"),\"\",VLOOKUP(A2239&\"_\"&B2239,Lookups!$E:$F,2,FALSE))","v":""},""]
[null,null,null,null,null,"",null,"",null,null,"","",{"$f":"IF(OR(A2240=\"\",B2240=\"\"),\"\",VLOOKUP(A2240&\"_\"&B2240,Lookups!$E:$F,2,FALSE))","v":""},""]
[null,null,null,null,null,"",null,"",null,null,"","",{"$f":"IF(OR(A2241=\"\",B2241=\"\"),\"\",VLOOKUP(A2241&\"_\"&B2241,Lookups!$E:$F,2,FALSE))","v":""},""]
[null,null,null,null,null,"",null,"",null,null,"","",{"$f":"IF(OR(A2242=\"\",B2242=\"\"),\"\",VLOOKUP(A2242&\"_\"&B2242,Lookups!$E:$F,2,FALSE))","v":""},""]
[null,null,null,null,null,"",null,"",null,null,"","",{"$f":"IF(OR(A2243=\"\",B2243=\"\"),\"\",VLOOKUP(A2243&\"_\"&B2243,Lookups!$E:$F,2,FALSE))","v":""},""]
[null,null,null,null,null,{"$f":"IF(OR(D2244=\"\",E2244=\"\"),\"\",ROUND((E2244-D2244)*24,2))","v":""},null,{"$f":"IF(F2244=\"\",\"\",IF(G2244<>\"\",F2244*G2244,F2244))","v":""},null,null,{"$f":"IF(AND(H2244<>\"\",I2244=\"Paid\"),H2244,\"\")","v":""},{"$f":"IF(H2244=\"\",\"\",IF(K2244=\"\",H2244,H2244-K2244))","v":""},{"$f":"IF(OR(A2244=\"\",B2244=\"\"),\"\",VLOOKUP(A2244&\"_\"&B2244,Lookups!$E:$F,2,FALSE))","v":""},{"$f":"IF(AND(K2244=\"\",L2244=\"\"),\"\",IF(K2244=\"\",L2244*M2244,SUM(K2244,L2244)*M2244))","v":""}]
[null,null,null,null,null,"",null,"",null,null,"","",{"$f":"IF(OR(A2245=\"\",B2245=\"\"),\"\",VLOOKUP(A2245&\"_\"&B2245,Lookups!$E:$F,2,FALSE))","v":""},""]
[null,null,null,null,null,"",null,"",null,null,"","",{"$f":"IF(OR(A2246=\"\",B2246=\"\"),\"\",VLOOKUP(A2246&\"_\"&B2246,Lookups!$E:$F,2,FALSE))","v":""},""]
[null,null,null,null,null,"",null,"",null,null,"","",{"$f":"IF(OR(A2247=\"\",B2247=\"\"),\"\",VLOOKUP(A2247&\"_\"&B2247,Lookups!$E:$F,2,FALSE))","v":""},""]
[null,null,null,null,null,"",null,"",null,null,"","",{"$f":"IF(OR(A2248=\"\",B2248=\"\"),\"\",VLOOKUP(A2248&\"_\"&B2248,Lookups!$E:$F,2,FALSE))","v":""},""]
[null,null,null,null,null,"",null,"",null,null,"","",{"$f":"IF(OR(A2249=\"\",B2249=\"\"),\"\",VLOOKUP(A2249&\"_\"&B2249,Lookups!$E:$F,2,FALSE))","v":""},""]
[null,null,null,null,null,"",null,"",null,null,"","",{"$f":"IF(OR(A2250=\"\",B2250=\"\"),\"\",VLOOKUP(A2250&\"_\"&B2250,Lookups!$E:$F,2,FALSE))","v":""},""]
[null,null,null,null,null,"",null,"",null,null,"","",{"$f":"IF(OR(A2251=\"\",B2251=\"\"),\"\",VLOOKUP(A2251&\"_\"&B2251,Lookups!$E:$F,2,FALSE))","v":""},""]
[null,null,null,null,null,"",null,"",null,null,"","",{"$f":"IF(OR(A2252=\"\",B2252=\"\"),\"\",VLOOKUP(A2252&\"_\"&B2252,Lookups!$E:$F,2,FALSE))","v":""},""]
[null,null,null,null,null,"",null,"",null,null,"","",{"$f":"IF(OR(A2253=\"\",B2253=\"\"),\"\",VLOOKUP(A2253&\"_\"&B2253,Lookups!$E:$F,2,FALSE))","v":""},""]
[null,null,null,null,null,"",null,"",null,null,"","",{"$f":"IF(OR(A2254=\"\",B2254=\"\"),\"\",VLOOKUP(A2254&\"_\"&B2254,Lookups!$E:$F,2,FALSE))","v":""},""]
[null,null,null,null,null,"",null,"",null,null,"","",{"$f":"IF(OR(A2255=\"\",B2255=\"\"),\"\",VLOOKUP(A2255&\"_\"&B2255,Lookups!$E:$F,2,FALSE))","v":""},""]
[null,null,null,null,null,"",null,"",null,null,"","",{"$f":"IF(OR(A2256=\"\",B2256=\"\"),\"\",VLOOKUP(A2256&\"_\"&B2256,Lookups!$E:$F,2,FALSE))","v":""},""]
[null,null,null,null,null,"",null,"",null,null,"","",{"$f":"IF(OR(A2257=\"\",B2257=\"\"),\"\",VLOOKUP(A2257&\"_\"&B2257,Lookups!$E:$F,2,FALSE))","v":""},""]
[null,null,null,null,null,"",null,"",null,null,"","",{"$f":"IF(OR(A2258=\"\",B2258=\"\"),\"\",VLOOKUP(A2258&\"_\"&B2258,Lookups!$E:$F,2,FALSE))","v":""},""]
[null,null,null,null,null,"",null,"",null,null,"","",{"$f":"IF(OR(A2259=\"\",B2259=\"\"),\"\",VLOOKUP(A2259&\"_\"&B2259,Lookups!$E:$F,2,FALSE))","v":""},""]
[null,null,null,null,null,"",null,"",null,null,"","",{"$f":"IF(OR(A2260=\"\",B2260=\"\"),\"\",VLOOKUP(A2260&\"_\"&B2260,Lookups!$E:$F,2,FALSE))","v":""},""]
[null,null,null,null,null,"",null,"",null,null,"","",{"$f":"IF(OR(A2261=\"\",B2261=\"\"),\"\",VLOOKUP(A2261&\"_\"&B2261,Lookups!$E:$F,2,FALSE))","v":""},""]
[null,null,null,null,null,"",null,"",null,null,"","",{"$f":"IF(OR(A2262=\"\",B2262=\"\"),\"\",VLOOKUP(A2262&\"_\"&B2262,Lookups!$E:$F,2,FALSE))","v":""},""]
[null,null,null,null,null,"",null,"",null,null,"","",{"$f":"IF(OR(A2263=\"\",B2263=\"\"),\"\",VLOOKUP(A2263&\"_\"&B2263,Lookups!$E:$F,2,FALSE))","v":""},""]
[null,null,null,null,null,"",null,"",null,null,"","",{"$f":"IF(OR(A2264=\"\",B2264=\"\"),\"\",VLOOKUP(A2264&\"_\"&B2264,Lookups!$E:$F,2,FALSE))","v":""},""]
[null,null,null,null,null,"",null,"",null,null,"","",{"$f":"IF(OR(A2265=\"\",B2265=\"\"),\"\",VLOOKUP(A2265&\"_\"&B2265,Lookups!$E:$F,2,FALSE))","v":""},""]
[null,null,null,null,null,"",null,"",null,null,"","",{"$f":"IF(OR(A2266=\"\",B2266=\"\"),\"\",VLOOKUP(A2266&\"_\"&B2266,Lookups!$E:$F,2,FALSE))","v":""},""]
[null,null,null,null,null,"",null,"",null,null,"","",{"$f":"IF(OR(A2267=\"\",B2267=\"\"),\"\",VLOOKUP(A2267&\"_\"&B2267,Lookups!$E:$F,2,FALSE))","v":""},""]
[null,null,null,null,null,"",null,"",null,null,"","",{"$f":"IF(OR(A2268=\"\",B2268=\"\"),\"\",VLOOKUP(A2268&\"_\"&B2268,Lookups!$E:$F,2,FALSE))","v":""},""]
[null,null,null,null,null,"",null,"",null,null,"","",{"$f":"IF(OR(A2269=\"\",B2269=\"\"),\"\",VLOOKUP(A2269&\"_\"&B2269,Lookups!$E:$F,2,FALSE))","v":""},""]
[null,null,null,null,null,"",null,"",null,null,"","",{"$f":"IF(OR(A2270=\"\",B2270=\"\"),\"\",VLOOKUP(A2270&\"_\"&B2270,Lookups!$E:$F,2,FALSE))","v":""},""]
[null,null,null,null,null,"",null,"",null,null,"","",{"$f":"IF(OR(A2271=\"\",B2271=\"\"),\"\",VLOOKUP(A2271&\"_\"&B2271,Lookups!$E:$F,2,FALSE))","v":""},""]
[null,null,null,null,null,"",null,"",null,null,"","",{"$f":"IF(OR(A2272=\"\",B2272=\"\"),\"\",VLOOKUP(A2272&\"_\"&B2272,Lookups!$E:$F,2,FALSE))","v":""},""]
[null,null,null,null,null,"",null,"",null,null,"","",{"$f":"IF(OR(A2273=\"\",B2273=\"\"),\"\",VLOOKUP(A2273&\"_\"&B2273,Lookups!$E:$F,2,FALSE))","v":""},""]
[null,null,null,null,null,"",null,"",null,null,"","",{"$f":"IF(OR(A2274=\"\",B2274=\"\"),\"\",VLOOKUP(A2274&\"_\"&B2274,Lookups!$E:$F,2,FALSE))","v":""},""]
[null,null,null,null,null,"",null,"",null,null,"","",{"$f":"IF(OR(A2275=\"\",B2275=\"\"),\"\",VLOOKUP(A2275&\"_\"&B2275,Lookups!$E:$F,2,FALSE))","v":""},""]
[null,null,null,null,null,"",null,"",null,null,"","",{"$f":"IF(OR(A2276=\"\",B2276=\"\"),\"\",VLOOKUP(A2276&\"_\"&B2276,Lookups!$E:$F,2,FALSE))","v":""},""]
[null,null,null,null,null,"",null,"",null,null,"","",{"$f":"IF(OR(A2277=\"\",B2277=\"\"),\"\",VLOOKUP(A2277&\"_\"&B2277,Lookups!$E:$F,2,FALSE))","v":""},""]
[null,null,null,null,null,"",null,"",null,null,"","",{"$f":"IF(OR(A2278=\"\",B2278=\"\"),\"\",VLOOKUP(A2278&\"_\"&B2278,Lookups!$E:$F,2,FALSE))","v":""},""]
[null,null,null,null,null,"",null,"",null,null,"","",{"$f":"IF(OR(A2279=\"\",B2279=\"\"),\"\",VLOOKUP(A2279&\"_\"&B2279,Lookups!$E:$F,2,FALSE))","v":""},""]
[null,null,null,null,null,"",null,"",null,null,"","",{"$f":"IF(OR(A2280=\"\",B2280=\"\"),\"\",VLOOKUP(A2280&\"_\"&B2280,Lookups!$E:$F,2,FALSE))","v":""},""]
[null,null,null,null,null,"",null,"",null,null,"","",{"$f":"IF(OR(A2281=\"\",B2281=\"\"),\"\",VLOOKUP(A2281&\"_\"&B2281,Lookups!$E:$F,2,FALSE))","v":""},""]
[null,null,null,null,null,"",null,"",null,null,"","",{"$f":"IF(OR(A2282=\"\",B2282=\"\"),\"\",VLOOKUP(A2282&\"_\"&B2282,Lookups!$E:$F,2,FALSE))","v":""},""]
[null,null,null,null,null,"",null,"",null,null,"","",{"$f":"IF(OR(A2283=\"\",B2283=\"\"),\"\",VLOOKUP(A2283&\"_\"&B2283,Lookups!$E:$F,2,FALSE))","v":""},""]
[null,null,null,null,null,"",null,"",null,null,"","",{"$f":"IF(OR(A2284=\"\",B2284=\"\"),\"\",VLOOKUP(A2284&\"_\"&B2284,Lookups!$E:$F,2,FALSE))","v":""},""]
[null,null,null,null,null,"",null,"",null,null,"","",{"$f":"IF(OR(A2285=\"\",B2285=\"\"),\"\",VLOOKUP(A2285&\"_\"&B2285,Lookups!$E:$F,2,FALSE))","v":""},""]
[null,null,null,null,null,"",null,"",null,null,"","",{"$f":"IF(OR(A2286=\"\",B2286=\"\"),\"\",VLOOKUP(A2286&\"_\"&B2286,Lookups!$E:$F,2,FALSE))","v":""},""]
[null,null,null,null,null,"",null,"",null,null,"","",{"$f":"IF(OR(A2287=\"\",B2287=\"\"),\"\",VLOOKUP(A2287&\"_\"&B2287,Lookups!$E:$F,2,FALSE))","v":""},""]
[null,null,null,null,null,"",null,"",null,null,"","",{"$f":"IF(OR(A2288=\"\",B2288=\"\"),\"\",VLOOKUP(A2288&\"_\"&B2288,Lookups!$E:$F,2,FALSE))","v":""},""]
[null,null,null,null,null,"",null,"",null,null,"","",{"$f":"IF(OR(A2289=\"\",B2289=\"\"),\"\",VLOOKUP(A2289&\"_\"&B2289,Lookups!$E:$F,2,FALSE))","v":""},""]
[null,null,null,null,null,"",null,"",null,null,"","",{"$f":"IF(OR(A2290=\"\",B2290=\"\"),\"\",VLOOKUP(A2290&\"_\"&B2290,Lookups!$E:$F,2,FALSE))","v":""},""]
[null,null,null,null,null,"",null,"",null,null,"","",{"$f":"IF(OR(A2291=\"\",B2291=\"\"),\"\",VLOOKUP(A2291&\"_\"&B2291,Lookups!$E:$F,2,FALSE))","v":""},""]
[null,null,null,null,null,"",null,"",null,null,"","",{"$f":"IF(OR(A2292=\"\",B2292=\"\"),\"\",VLOOKUP(A2292&\"_\"&B2292,Lookups!$E:$F,2,FALSE))","v":""},""]
[null,null,null,null,null,"",null,"",null,null,"","",{"$f":"IF(OR(A2293=\"\",B2293=\"\"),\"\",VLOOKUP(A2293&\"_\"&B2293,Lookups!$E:$F,2,FALSE))","v":""},""]
[null,null,null,null,null,"",null,"",null,null,"","",{"$f":"IF(OR(A2294=\"\",B2294=\"\"),\"\",VLOOKUP(A2294&\"_\"&B2294,Lookups!$E:$F,2,FALSE))","v":""},""]
[null,null,null,null,null,"",null,"",null,null,"","",{"$f":"IF(OR(A2295=\"\",B2295=\"\"),\"\",VLOOKUP(A2295&\"_\"&B2295,Lookups!$E:$F,2,FALSE))","v":""},""]
[null,null,null,null,null,"",null,"",null,null,"","",{"$f":"IF(OR(A2296=\"\",B2296=\"\"),\"\",VLOOKUP(A2296&\"_\"&B2296,Lookups!$E:$F,2,FALSE))","v":""},""]
[null,null,null,null,null,"",null,"",null,null,"","",{"$f":"IF(OR(A2297=\"\",B2297=\"\"),\"\",VLOOKUP(A2297&\"_\"&B2297,Lookups!$E:$F,2,FALSE))","v":""},""]
[null,null,null,null,null,"",null,"",null,null,"","",{"$f":"IF(OR(A2298=\"\",B2298=\"\"),\"\",VLOOKUP(A2298&\"_\"&B2298,Lookups!$E:$F,2,FALSE))","v":""},""]
[null,null,null,null,null,"",null,"",null,null,"","",{"$f":"IF(OR(A2299=\"\",B2299=\"\"),\"\",VLOOKUP(A2299&\"_\"&B2299,Lookups!$E:$F,2,FALSE))","v":""},""]
[null,null,null,null,null,"",null,"",null,null,"","",{"$f":"IF(OR(A2300=\"\",B2300=\"\"),\"\",VLOOKUP(A2300&\"_\"&B2300,Lookups!$E:$F,2,FALSE))","v":""},""]
[null,null,null,null,null,"",null,"",null,null,"","",{"$f":"IF(OR(A2301=\"\",B2301=\"\"),\"\",VLOOKUP(A2301&\"_\"&B2301,Lookups!$E:$F,2,FALSE))","v":""},""]
[null,null,null,null,null,"",null,"",null,null,"","",{"$f":"IF(OR(A2302=\"\",B2302=\"\"),\"\",VLOOKUP(A2302&\"_\"&B2302,Lookups!$E:$F,2,FALSE))","v":""},""]
[null,null,null,null,null,"",null,"",null,null,"","",{"$f":"IF(OR(A2303=\"\",B2303=\"\"),\"\",VLOOKUP(A2303&\"_\"&B2303,Lookups!$E:$F,2,FALSE))","v":""},""]
[null,null,null,null,null,"",null,"",null,null,"","",{"$f":"IF(OR(A2304=\"\",B2304=\"\"),\"\",VLOOKUP(A2304&\"_\"&B2304,Lookups!$E:$F,2,FALSE))","v":""},""]
[null,null,null,null,null,"",null,"",null,null,"","",{"$f":"IF(OR(A2305=\"\",B2305=\"\"),\"\",VLOOKUP(A2305&\"_\"&B2305,Lookups!$E:$F,2,FALSE))","v":""},""]
[null,null,null,null,null,"",null,"",null,null,"","",{"$f":"IF(OR(A2306=\"\",B2306=\"\"),\"\",VLOOKUP(A2306&\"_\"&B2306,Lookups!$E:$F,2,FALSE))","v":""},""]
[null,null,null,null,null,"",null,"",null,null,"","",{"$f":"IF(OR(A2307=\"\",B2307=\"\"),\"\",VLOOKUP(A2307&\"_\"&B2307,Lookups!$E:$F,2,FALSE))","v":""},""]
[null,null,null,null,null,{"$f":"IF(OR(D2308=\"\",E2308=\"\"),\"\",ROUND((E2308-D2308)*24,2))","v":""},null,{"$f":"IF(F2308=\"\",\"\",IF(G2308<>\"\",F2308*G2308,F2308))","v":""},null,null,{"$f":"IF(AND(H2308<>\"\",I2308=\"Paid\"),H2308,\"\")","v":""},{"$f":"IF(H2308=\"\",\"\",IF(K2308=\"\",H2308,H2308-K2308))","v":""},{"$f":"IF(OR(A2308=\"\",B2308=\"\"),\"\",VLOOKUP(A2308&\"_\"&B2308,Lookups!$E:$F,2,FALSE))","v":""},{"$f":"IF(AND(K2308=\"\",L2308=\"\"),\"\",IF(K2308=\"\",L2308*M2308,SUM(K2308,L2308)*M2308))","v":""}]
[null,null,null,null,null,"",null,"",null,null,"","",{"$f":"IF(OR(A2309=\"\",B2309=\"\"),\"\",VLOOKUP(A2309&\"_\"&B2309,Lookups!$E:$F,2,FALSE))","v":""},""]
[null,null,null,null,null,"",null,"",null,null,"","",{"$f":"IF(OR(A2310=\"\",B2310=\"\"),\"\",VLOOKUP(A2310&\"_\"&B2310,Lookups!$E:$F,2,FALSE))","v":""},""]
[null,null,null,null,null,"",null,"",null,null,"","",{"$f":"IF(OR(A2311=\"\",B2311=\"\"),\"\",VLOOKUP(A2311&\"_\"&B2311,Lookups!$E:$F,2,FALSE))","v":""},""]
[null,null,null,null,null,"",null,"",null,null,"","",{"$f":"IF(OR(A2312=\"\",B2312=\"\"),\"\",VLOOKUP(A2312&\"_\"&B2312,Lookups!$E:$F,2,FALSE))","v":""},""]
[null,null,null,null,null,"",null,"",null,null,"","",{"$f":"IF(OR(A2313=\"\",B2313=\"\"),\"\",VLOOKUP(A2313&\"_\"&B2313,Lookups!$E:$F,2,FALSE))","v":""},""]
[null,null,null,null,null,"",null,"",null,null,"","",{"$f":"IF(OR(A2314=\"\",B2314=\"\"),\"\",VLOOKUP(A2314&\"_\"&B2314,Lookups!$E:$F,2,FALSE))","v":""},""]
[null,null,null,null,null,"",null,"",null,null,"","",{"$f":"IF(OR(A2315=\"\",B2315=\"\"),\"\",VLOOKUP(A2315&\"_\"&B2315,Lookups!$E:$F,2,FALSE))","v":""},""]
[null,null,null,null,null,"",null,"",null,null,"","",{"$f":"IF(OR(A2316=\"\",B2316=\"\"),\"\",VLOOKUP(A2316&\"_\"&B2316,Lookups!$E:$F,2,FALSE))","v":""},""]
[null,null,null,null,null,"",null,"",null,null,"","",{"$f":"IF(OR(A2317=\"\",B2317=\"\"),\"\",VLOOKUP(A2317&\"_\"&B2317,Lookups!$E:$F,2,FALSE))","v":""},""]
[null,null,null,null,null,"",null,"",null,null,"","",{"$f":"IF(OR(A2318=\"\",B2318=\"\"),\"\",VLOOKUP(A2318&\"_\"&B2318,Lookups!$E:$F,2,FALSE))","v":""},""]
[null,null,null,null,null,"",null,"",null,null,"","",{"$f":"IF(OR(A2319=\"\",B2319=\"\"),\"\",VLOOKUP(A2319&\"_\"&B2319,Lookups!$E:$F,2,FALSE))","v":""},""]
[null,null,null,null,null,"",null,"",null,null,"","",{"$f":"IF(OR(A2320=\"\",B2320=\"\"),\"\",VLOOKUP(A2320&\"_\"&B2320,Lookups!$E:$F,2,FALSE))","v":""},""]
[null,null,null,null,null,"",null,"",null,null,"","",{"$f":"IF(OR(A2321=\"\",B2321=\"\"),\"\",VLOOKUP(A2321&\"_\"&B2321,Lookups!$E:$F,2,FALSE))","v":""},""]
[null,null,null,null,null,"",null,"",null,null,"","",{"$f":"IF(OR(A2322=\"\",B2322=\"\"),\"\",VLOOKUP(A2322&\"_\"&B2322,Lookups!$E:$F,2,FALSE))","v":""},""]
[null,null,null,null,null,"",null,"",null,null,"","",{"$f":"IF(OR(A2323=\"\",B2323=\"\"),\"\",VLOOKUP(A2323&\"_\"&B2323,Lookups!$E:$F,2,FALSE))","v":""},""]
[null,null,null,null,null,"",null,"",null,null,"","",{"$f":"IF(OR(A2324=\"\",B2324=\"\"),\"\",VLOOKUP(A2324&\"_\"&B2324,Lookups!$E:$F,2,FALSE))","v":""},""]
[null,null,null,null,null,"",null,"",null,null,"","",{"$f":"IF(OR(A2325=\"\",B2325=\"\"),\"\",VLOOKUP(A2325&\"_\"&B2325,Lookups!$E:$F,2,FALSE))","v":""},""]
[null,null,null,null,null,"",null,"",null,null,"","",{"$f":"IF(OR(A2326=\"\",B2326=\"\"),\"\",VLOOKUP(A2326&\"_\"&B2326,Lookups!$E:$F,2,FALSE))","v":""},""]
[null,null,null,null,null,"",null,"",null,null,"","",{"$f":"IF(OR(A2327=\"\",B2327=\"\"),\"\",VLOOKUP(A2327&\"_\"&B2327,Lookups!$E:$F,2,FALSE))","v":""},""]
[null,null,null,null,null,"",null,"",null,null,"","",{"$f":"IF(OR(A2328=\"\",B2328=\"\"),\"\",VLOOKUP(A2328&\"_\"&B2328,Lookups!$E:$F,2,FALSE))","v":""},""]
[null,null,null,null,null,"",null,"",null,null,"","",{"$f":"IF(OR(A2329=\"\",B2329=\"\"),\"\",VLOOKUP(A2329&\"_\"&B2329,Lookups!$E:$F,2,FALSE))","v":""},""]
[null,null,null,null,null,"",null,"",null,null,"","",{"$f":"IF(OR(A2330=\"\",B2330=\"\"),\"\",VLOOKUP(A2330&\"_\"&B2330,Lookups!$E:$F,2,FALSE))","v":""},""]
[null,null,null,null,null,"",null,"",null,null,"","",{"$f":"IF(OR(A2331=\"\",B2331=\"\"),\"\",VLOOKUP(A2331&\"_\"&B2331,Lookups!$E:$F,2,FALSE))","v":""},""]
[null,null,null,null,null,"",null,"",null,null,"","",{"$f":"IF(OR(A2332=\"\",B2332=\"\"),\"\",VLOOKUP(A2332&\"_\"&B2332,Lookups!$E:$F,2,FALSE))","v":""},""]
[null,null,null,null,null,"",null,"",null,null,"","",{"$f":"IF(OR(A2333=\"\",B2333=\"\"),\"\",VLOOKUP(A2333&\"_\"&B2333,Lookups!$E:$F,2,FALSE))","v":""},""]
[null,null,null,null,null,"",null,"",null,null,"","",{"$f":"IF(OR(A2334=\"\",B2334=\"\"),\"\",VLOOKUP(A2334&\"_\"&B2334,Lookups!$E:$F,2,FALSE))","v":""},""]
[null,null,null,null,null,"",null,"",null,null,"","",{"$f":"IF(OR(A2335=\"\",B2335=\"\"),\"\",VLOOKUP(A2335&\"_\"&B2335,Lookups!$E:$F,2,FALSE))","v":""},""]
[null,null,null,null,null,"",null,"",null,null,"","",{"$f":"IF(OR(A2336=\"\",B2336=\"\"),\"\",VLOOKUP(A2336&\"_\"&B2336,Lookups!$E:$F,2,FALSE))","v":""},""]
[null,null,null,null,null,"",null,"",null,null,"","",{"$f":"IF(OR(A2337=\"\",B2337=\"\"),\"\",VLOOKUP(A2337&\"_\"&B2337,Lookups!$E:$F,2,FALSE))","v":""},""]
[null,null,null,null,null,"",null,"",null,null,"","",{"$f":"IF(OR(A2338=\"\",B2338=\"\"),\"\",VLOOKUP(A2338&\"_\"&B2338,Lookups!$E:$F,2,FALSE))","v":""},""]
[null,null,null,null,null,"",null,"",null,null,"","",{"$f":"IF(OR(A2339=\"\",B2339=\"\"),\"\",VLOOKUP(A2339&\"_\"&B2339,Lookups!$E:$F,2,FALSE))","v":""},""]
[null,null,null,null,null,"",null,"",null,null,"","",{"$f":"IF(OR(A2340=\"\",B2340=\"\"),\"\",VLOOKUP(A2340&\"_\"&B2340,Lookups!$E:$F,2,FALSE))","v":""},""]
[null,null,null,null,null,"",null,"",null,null,"","",{"$f":"IF(OR(A2341=\"\",B2341=\"\"),\"\",VLOOKUP(A2341&\"_\"&B2341,Lookups!$E:$F,2,FALSE))","v":""},""]
[null,null,null,null,null,"",null,"",null,null,"","",{"$f":"IF(OR(A2342=\"\",B2342=\"\"),\"\",VLOOKUP(A2342&\"_\"&B2342,Lookups!$E:$F,2,FALSE))","v":""},""]
[null,null,null,null,null,"",null,"",null,null,"","",{"$f":"IF(OR(A2343=\"\",B2343=\"\"),\"\",VLOOKUP(A2343&\"_\"&B2343,Lookups!$E:$F,2,FALSE))","v":""},""]
[null,null,null,null,null,"",null,"",null,null,"","",{"$f":"IF(OR(A2344=\"\",B2344=\"\"),\"\",VLOOKUP(A2344&\"_\"&B2344,Lookups!$E:$F,2,FALSE))","v":""},""]
[null,null,null,null,null,"",null,"",null,null,"","",{"$f":"IF(OR(A2345=\"\",B2345=\"\"),\"\",VLOOKUP(A2345&\"_\"&B2345,Lookups!$E:$F,2,FALSE))","v":""},""]
[null,null,null,null,null,"",null,"",null,null,"","",{"$f":"IF(OR(A2346=\"\",B2346=\"\"),\"\",VLOOKUP(A2346&\"_\"&B2346,Lookups!$E:$F,2,FALSE))","v":""},""]
[null,null,null,null,null,"",null,"",null,null,"","",{"$f":"IF(OR(A2347=\"\",B2347=\"\"),\"\",VLOOKUP(A2347&\"_\"&B2347,Lookups!$E:$F,2,FALSE))","v":""},""]
[null,null,null,null,null,"",null,"",null,null,"","",{"$f":"IF(OR(A2348=\"\",B2348=\"\"),\"\",VLOOKUP(A2348&\"_\"&B2348,Lookups!$E:$F,2,FALSE))","v":""},""]
[null,null,null,null,null,"",null,"",null,null,"","",{"$f":"IF(OR(A2349=\"\",B2349=\"\"),\"\",VLOOKUP(A2349&\"_\"&B2349,Lookups!$E:$F,2,FALSE))","v":""},""]
[null,null,null,null,null,"",null,"",null,null,"","",{"$f":"IF(OR(A2350=\"\",B2350=\"\"),\"\",VLOOKUP(A2350&\"_\"&B2350,Lookups!$E:$F,2,FALSE))","v":""},""]
[null,null,null,null,null,"",null,"",null,null,"","",{"$f":"IF(OR(A2351=\"\",B2351=\"\"),\"\",VLOOKUP(A2351&\"_\"&B2351,Lookups!$E:$F,2,FALSE))","v":""},""]
[null,null,null,null,null,"",null,"",null,null,"","",{"$f":"IF(OR(A2352=\"\",B2352=\"\"),\"\",VLOOKUP(A2352&\"_\"&B2352,Lookups!$E:$F,2,FALSE))","v":""},""]
[null,null,null,null,null,"",null,"",null,null,"","",{"$f":"IF(OR(A2353=\"\",B2353=\"\"),\"\",VLOOKUP(A2353&\"_\"&B2353,Lookups!$E:$F,2,FALSE))","v":""},""]
[null,null,null,null,null,"",null,"",null,null,"","",{"$f":"IF(OR(A2354=\"\",B2354=\"\"),\"\",VLOOKUP(A2354&\"_\"&B2354,Lookups!$E:$F,2,FALSE))","v":""},""]
[null,null,null,null,null,"",null,"",null,null,"","",{"$f":"IF(OR(A2355=\"\",B2355=\"\"),\"\",VLOOKUP(A2355&\"_\"&B2355,Lookups!$E:$F,2,FALSE))","v":""},""]
[null,null,null,null,null,"",null,"",null,null,"","",{"$f":"IF(OR(A2356=\"\",B2356=\"\"),\"\",VLOOKUP(A2356&\"_\"&B2356,Lookups!$E:$F,2,FALSE))","v":""},""]
[null,null,null,null,null,"",null,"",null,null,"","",{"$f":"IF(OR(A2357=\"\",B2357=\"\"),\"\",VLOOKUP(A2357&\"_\"&B2357,Lookups!$E:$F,2,FALSE))","v":""},""]
[null,null,null,null,null,"",null,"",null,null,"","",{"$f":"IF(OR(A2358=\"\",B2358=\"\"),\"\",VLOOKUP(A2358&\"_\"&B2358,Lookups!$E:$F,2,FALSE))","v":""},""]
[null,null,null,null,null,"",null,"",null,null,"","",{"$f":"IF(OR(A2359=\"\",B2359=\"\"),\"\",VLOOKUP(A2359&\"_\"&B2359,Lookups!$E:$F,2,FALSE))","v":""},""]
[null,null,null,null,null,"",null,"",null,null,"","",{"$f":"IF(OR(A2360=\"\",B2360=\"\"),\"\",VLOOKUP(A2360&\"_\"&B2360,Lookups!$E:$F,2,FALSE))","v":""},""]
[null,null,null,null,null,"",null,"",null,null,"","",{"$f":"IF(OR(A2361=\"\",B2361=\"\"),\"\",VLOOKUP(A2361&\"_\"&B2361,Lookups!$E:$F,2,FALSE))","v":""},""]
[null,null,null,null,null,"",null,"",null,null,"","",{"$f":"IF(OR(A2362=\"\",B2362=\"\"),\"\",VLOOKUP(A2362&\"_\"&B2362,Lookups!$E:$F,2,FALSE))","v":""},""]
[null,null,null,null,null,"",null,"",null,null,"","",{"$f":"IF(OR(A2363=\"\",B2363=\"\"),\"\",VLOOKUP(A2363&\"_\"&B2363,Lookups!$E:$F,2,FALSE))","v":""},""]
[null,null,null,null,null,"",null,"",null,null,"","",{"$f":"IF(OR(A2364=\"\",B2364=\"\"),\"\",VLOOKUP(A2364&\"_\"&B2364,Lookups!$E:$F,2,FALSE))","v":""},""]
[null,null,null,null,null,"",null,"",null,null,"","",{"$f":"IF(OR(A2365=\"\",B2365=\"\"),\"\",VLOOKUP(A2365&\"_\"&B2365,Lookups!$E:$F,2,FALSE))","v":""},""]
[null,null,null,null,null,"",null,"",null,null,"","",{"$f":"IF(OR(A2366=\"\",B2366=\"\"),\"\",VLOOKUP(A2366&\"_\"&B2366,Lookups!$E:$F,2,FALSE))","v":""},""]
[null,null,null,null,null,"",null,"",null,null,"","",{"$f":"IF(OR(A2367=\"\",B2367=\"\"),\"\",VLOOKUP(A2367&\"_\"&B2367,Lookups!$E:$F,2,FALSE))","v":""},""]
[null,null,null,null,null,"",null,"",null,null,"","",{"$f":"IF(OR(A2368=\"\",B2368=\"\"),\"\",VLOOKUP(A2368&\"_\"&B2368,Lookups!$E:$F,2,FALSE))","v":""},""]
[null,null,null,null,null,"",null,"",null,null,"","",{"$f":"IF(OR(A2369=\"\",B2369=\"\"),\"\",VLOOKUP(A2369&\"_\"&B2369,Lookups!$E:$F,2,FALSE))","v":""},""]
[null,null,null,null,null,"",null,"",null,null,"","",{"$f":"IF(OR(A2370=\"\",B2370=\"\"),\"\",VLOOKUP(A2370&\"_\"&B2370,Lookups!$E:$F,2,FALSE))","v":""},""]
[null,null,null,null,null,"",null,"",null,null,"","",{"$f":"IF(OR(A2371=\"\",B2371=\"\"),\"\",VLOOKUP(A2371&\"_\"&B2371,Lookups!$E:$F,2,FALSE))","v":""},""]
[null,null,null,null,null,{"$f":"IF(OR(D2372=\"\",E2372=\"\"),\"\",ROUND((E2372-D2372)*24,2))","v":""},null,{"$f":"IF(F2372=\"\",\"\",IF(G2372<>\"\",F2372*G2372,F2372))","v":""},null,null,{"$f":"IF(AND(H2372<>\"\",I2372=\"Paid\"),H2372,\"\")","v":""},{"$f":"IF(H2372=\"\",\"\",IF(K2372=\"\",H2372,H2372-K2372))","v":""},{"$f":"IF(OR(A2372=\"\",B2372=\"\"),\"\",VLOOKUP(A2372&\"_\"&B2372,Lookups!$E:$F,2,FALSE))","v":""},{"$f":"IF(AND(K2372=\"\",L2372=\"\"),\"\",IF(K2372=\"\",L2372*M2372,SUM(K2372,L2372)*M2372))","v":""}]
[null,null,null,null,null,"",null,"",null,null,"","",{"$f":"IF(OR(A2373=\"\",B2373=\"\"),\"\",VLOOKUP(A2373&\"_\"&B2373,Lookups!$E:$F,2,FALSE))","v":""},""]
[null,null,null,null,null,"",null,"",null,null,"","",{"$f":"IF(OR(A2374=\"\",B2374=\"\"),\"\",VLOOKUP(A2374&\"_\"&B2374,Lookups!$E:$F,2,FALSE))","v":""},""]
[null,null,null,null,null,"",null,"",null,null,"","",{"$f":"IF(OR(A2375=\"\",B2375=\"\"),\"\",VLOOKUP(A2375&\"_\"&B2375,Lookups!$E:$F,2,FALSE))","v":""},""]
[null,null,null,null,null,"",null,"",null,null,"","",{"$f":"IF(OR(A2376=\"\",B2376=\"\"),\"\",VLOOKUP(A2376&\"_\"&B2376,Lookups!$E:$F,2,FALSE))","v":""},""]
[null,null,null,null,null,"",null,"",null,null,"","",{"$f":"IF(OR(A2377=\"\",B2377=\"\"),\"\",VLOOKUP(A2377&\"_\"&B2377,Lookups!$E:$F,2,FALSE))","v":""},""]
[null,null,null,null,null,"",null,"",null,null,"","",{"$f":"IF(OR(A2378=\"\",B2378=\"\"),\"\",VLOOKUP(A2378&\"_\"&B2378,Lookups!$E:$F,2,FALSE))","v":""},""]
[null,null,null,null,null,"",null,"",null,null,"","",{"$f":"IF(OR(A2379=\"\",B2379=\"\"),\"\",VLOOKUP(A2379&\"_\"&B2379,Lookups!$E:$F,2,FALSE))","v":""},""]
[null,null,null,null,null,"",null,"",null,null,"","",{"$f":"IF(OR(A2380=\"\",B2380=\"\"),\"\",VLOOKUP(A2380&\"_\"&B2380,Lookups!$E:$F,2,FALSE))","v":""},""]
[null,null,null,null,null,"",null,"",null,null,"","",{"$f":"IF(OR(A2381=\"\",B2381=\"\"),\"\",VLOOKUP(A2381&\"_\"&B2381,Lookups!$E:$F,2,FALSE))","v":""},""]
[null,null,null,null,null,"",null,"",null,null,"","",{"$f":"IF(OR(A2382=\"\",B2382=\"\"),\"\",VLOOKUP(A2382&\"_\"&B2382,Lookups!$E:$F,2,FALSE))","v":""},""]
[null,null,null,null,null,"",null,"",null,null,"","",{"$f":"IF(OR(A2383=\"\",B2383=\"\"),\"\",VLOOKUP(A2383&\"_\"&B2383,Lookups!$E:$F,2,FALSE))","v":""},""]
[null,null,null,null,null,"",null,"",null,null,"","",{"$f":"IF(OR(A2384=\"\",B2384=\"\"),\"\",VLOOKUP(A2384&\"_\"&B2384,Lookups!$E:$F,2,FALSE))","v":""},""]
[null,null,null,null,null,"",null,"",null,null,"","",{"$f":"IF(OR(A2385=\"\",B2385=\"\"),\"\",VLOOKUP(A2385&\"_\"&B2385,Lookups!$E:$F,2,FALSE))","v":""},""]
[null,null,null,null,null,"",null,"",null,null,"","",{"$f":"IF(OR(A2386=\"\",B2386=\"\"),\"\",VLOOKUP(A2386&\"_\"&B2386,Lookups!$E:$F,2,FALSE))","v":""},""]
[null,null,null,null,null,"",null,"",null,null,"","",{"$f":"IF(OR(A2387=\"\",B2387=\"\"),\"\",VLOOKUP(A2387&\"_\"&B2387,Lookups!$E:$F,2,FALSE))","v":""},""]
[null,null,null,null,null,"",null,"",null,null,"","",{"$f":"IF(OR(A2388=\"\",B2388=\"\"),\"\",VLOOKUP(A2388&\"_\"&B2388,Lookups!$E:$F,2,FALSE))","v":""},""]
[null,null,null,null,null,"",null,"",null,null,"","",{"$f":"IF(OR(A2389=\"\",B2389=\"\"),\"\",VLOOKUP(A2389&\"_\"&B2389,Lookups!$E:$F,2,FALSE))","v":""},""]
[null,null,null,null,null,"",null,"",null,null,"","",{"$f":"IF(OR(A2390=\"\",B2390=\"\"),\"\",VLOOKUP(A2390&\"_\"&B2390,Lookups!$E:$F,2,FALSE))","v":""},""]
[null,null,null,null,null,"",null,"",null,null,"","",{"$f":"IF(OR(A2391=\"\",B2391=\"\"),\"\",VLOOKUP(A2391&\"_\"&B2391,Lookups!$E:$F,2,FALSE))","v":""},""]
[null,null,null,null,null,"",null,"",null,null,"","",{"$f":"IF(OR(A2392=\"\",B2392=\"\"),\"\",VLOOKUP(A2392&\"_\"&B2392,Lookups!$E:$F,2,FALSE))","v":""},""]
[null,null,null,null,null,"",null,"",null,null,"","",{"$f":"IF(OR(A2393=\"\",B2393=\"\"),\"\",VLOOKUP(A2393&\"_\"&B2393,Lookups!$E:$F,2,FALSE))","v":""},""]
[null,null,null,null,null,"",null,"",null,null,"","",{"$f":"IF(OR(A2394=\"\",B2394=\"\"),\"\",VLOOKUP(A2394&\"_\"&B2394,Lookups!$E:$F,2,FALSE))","v":""},""]
[null,null,null,null,null,"",null,"",null,null,"","",{"$f":"IF(OR(A2395=\"\",B2395=\"\"),\"\",VLOOKUP(A2395&\"_\"&B2395,Lookups!$E:$F,2,FALSE))","v":""},""]
[null,null,null,null,null,"",null,"",null,null,"","",{"$f":"IF(OR(A2396=\"\",B2396=\"\"),\"\",VLOOKUP(A2396&\"_\"&B2396,Lookups!$E:$F,2,FALSE))","v":""},""]
[null,null,null,null,null,"",null,"",null,null,"","",{"$f":"IF(OR(A2397=\"\",B2397=\"\"),\"\",VLOOKUP(A2397&\"_\"&B2397,Lookups!$E:$F,2,FALSE))","v":""},""]
[null,null,null,null,null,"",null,"",null,null,"","",{"$f":"IF(OR(A2398=\"\",B2398=\"\"),\"\",VLOOKUP(A2398&\"_\"&B2398,Lookups!$E:$F,2,FALSE))","v":""},""]
[null,null,null,null,null,"",null,"",null,null,"","",{"$f":"IF(OR(A2399=\"\",B2399=\"\"),\"\",VLOOKUP(A2399&\"_\"&B2399,Lookups!$E:$F,2,FALSE))","v":""},""]
[null,null,null,null,null,"",null,"",null,null,"","",{"$f":"IF(OR(A2400=\"\",B2400=\"\"),\"\",VLOOKUP(A2400&\"_\"&B2400,Lookups!$E:$F,2,FALSE))","v":""},""]
[null,null,null,null,null,"",null,"",null,null,"","",{"$f":"IF(OR(A2401=\"\",B2401=\"\"),\"\",VLOOKUP(A2401&\"_\"&B2401,Lookups!$E:$F,2,FALSE))","v":""},""]
[null,null,null,null,null,"",null,"",null,null,"","",{"$f":"IF(OR(A2402=\"\",B2402=\"\"),\"\",VLOOKUP(A2402&\"_\"&B2402,Lookups!$E:$F,2,FALSE))","v":""},""]
[null,null,null,null,null,"",null,"",null,null,"","",{"$f":"IF(OR(A2403=\"\",B2403=\"\"),\"\",VLOOKUP(A2403&\"_\"&B2403,Lookups!$E:$F,2,FALSE))","v":""},""]
[null,null,null,null,null,"",null,"",null,null,"","",{"$f":"IF(OR(A2404=\"\",B2404=\"\"),\"\",VLOOKUP(A2404&\"_\"&B2404,Lookups!$E:$F,2,FALSE))","v":""},""]
[null,null,null,null,null,"",null,"",null,null,"","",{"$f":"IF(OR(A2405=\"\",B2405=\"\"),\"\",VLOOKUP(A2405&\"_\"&B2405,Lookups!$E:$F,2,FALSE))","v":""},""]
[null,null,null,null,null,"",null,"",null,null,"","",{"$f":"IF(OR(A2406=\"\",B2406=\"\"),\"\",VLOOKUP(A2406&\"_\"&B2406,Lookups!$E:$F,2,FALSE))","v":""},""]
[null,null,null,null,null,"",null,"",null,null,"","",{"$f":"IF(OR(A2407=\"\",B2407=\"\"),\"\",VLOOKUP(A2407&\"_\"&B2407,Lookups!$E:$F,2,FALSE))","v":""},""]
[null,null,null,null,null,"",null,"",null,null,"","",{"$f":"IF(OR(A2408=\"\",B2408=\"\"),\"\",VLOOKUP(A2408&\"_\"&B2408,Lookups!$E:$F,2,FALSE))","v":""},""]
[null,null,null,null,null,"",null,"",null,null,"","",{"$f":"IF(OR(A2409=\"\",B2409=\"\"),\"\",VLOOKUP(A2409&\"_\"&B2409,Lookups!$E:$F,2,FALSE))","v":""},""]
[null,null,null,null,null,"",null,"",null,null,"","",{"$f":"IF(OR(A2410=\"\",B2410=\"\"),\"\",VLOOKUP(A2410&\"_\"&B2410,Lookups!$E:$F,2,FALSE))","v":""},""]
[null,null,null,null,null,"",null,"",null,null,"","",{"$f":"IF(OR(A2411=\"\",B2411=\"\"),\"\",VLOOKUP(A2411&\"_\"&B2411,Lookups!$E:$F,2,FALSE))","v":""},""]
[null,null,null,null,null,"",null,"",null,null,"","",{"$f":"IF(OR(A2412=\"\",B2412=\"\"),\"\",VLOOKUP(A2412&\"_\"&B2412,Lookups!$E:$F,2,FALSE))","v":""},""]
[null,null,null,null,null,"",null,"",null,null,"","",{"$f":"IF(OR(A2413=\"\",B2413=\"\"),\"\",VLOOKUP(A2413&\"_\"&B2413,Lookups!$E:$F,2,FALSE))","v":""},""]
[null,null,null,null,null,"",null,"",null,null,"","",{"$f":"IF(OR(A2414=\"\",B2414=\"\"),\"\",VLOOKUP(A2414&\"_\"&B2414,Lookups!$E:$F,2,FALSE))","v":""},""]
[null,null,null,null,null,"",null,"",null,null,"","",{"$f":"IF(OR(A2415=\"\",B2415=\"\"),\"\",VLOOKUP(A2415&\"_\"&B2415,Lookups!$E:$F,2,FALSE))","v":""},""]
[null,null,null,null,null,"",null,"",null,null,"","",{"$f":"IF(OR(A2416=\"\",B2416=\"\"),\"\",VLOOKUP(A2416&\"_\"&B2416,Lookups!$E:$F,2,FALSE))","v":""},""]
[null,null,null,null,null,"",null,"",null,null,"","",{"$f":"IF(OR(A2417=\"\",B2417=\"\"),\"\",VLOOKUP(A2417&\"_\"&B2417,Lookups!$E:$F,2,FALSE))","v":""},""]
[null,null,null,null,null,"",null,"",null,null,"","",{"$f":"IF(OR(A2418=\"\",B2418=\"\"),\"\",VLOOKUP(A2418&\"_\"&B2418,Lookups!$E:$F,2,FALSE))","v":""},""]
[null,null,null,null,null,"",null,"",null,null,"","",{"$f":"IF(OR(A2419=\"\",B2419=\"\"),\"\",VLOOKUP(A2419&\"_\"&B2419,Lookups!$E:$F,2,FALSE))","v":""},""]
[null,null,null,null,null,"",null,"",null,null,"","",{"$f":"IF(OR(A2420=\"\",B2420=\"\"),\"\",VLOOKUP(A2420&\"_\"&B2420,Lookups!$E:$F,2,FALSE))","v":""},""]
[null,null,null,null,null,"",null,"",null,null,"","",{"$f":"IF(OR(A2421=\"\",B2421=\"\"),\"\",VLOOKUP(A2421&\"_\"&B2421,Lookups!$E:$F,2,FALSE))","v":""},""]
[null,null,null,null,null,"",null,"",null,null,"","",{"$f":"IF(OR(A2422=\"\",B2422=\"\"),\"\",VLOOKUP(A2422&\"_\"&B2422,Lookups!$E:$F,2,FALSE))","v":""},""]
[null,null,null,null,null,"",null,"",null,null,"","",{"$f":"IF(OR(A2423=\"\",B2423=\"\"),\"\",VLOOKUP(A2423&\"_\"&B2423,Lookups!$E:$F,2,FALSE))","v":""},""]
[null,null,null,null,null,"",null,"",null,null,"","",{"$f":"IF(OR(A2424=\"\",B2424=\"\"),\"\",VLOOKUP(A2424&\"_\"&B2424,Lookups!$E:$F,2,FALSE))","v":""},""]
[null,null,null,null,null,"",null,"",null,null,"","",{"$f":"IF(OR(A2425=\"\",B2425=\"\"),\"\",VLOOKUP(A2425&\"_\"&B2425,Lookups!$E:$F,2,FALSE))","v":""},""]
[null,null,null,null,null,"",null,"",null,null,"","",{"$f":"IF(OR(A2426=\"\",B2426=\"\"),\"\",VLOOKUP(A2426&\"_\"&B2426,Lookups!$E:$F,2,FALSE))","v":""},""]
[null,null,null,null,null,"",null,"",null,null,"","",{"$f":"IF(OR(A2427=\"\",B2427=\"\"),\"\",VLOOKUP(A2427&\"_\"&B2427,Lookups!$E:$F,2,FALSE))","v":""},""]
[null,null,null,null,null,"",null,"",null,null,"","",{"$f":"IF(OR(A2428=\"\",B2428=\"\"),\"\",VLOOKUP(A2428&\"_\"&B2428,Lookups!$E:$F,2,FALSE))","v":""},""]
[null,null,null,null,null,"",null,"",null,null,"","",{"$f":"IF(OR(A2429=\"\",B2429=\"\"),\"\",VLOOKUP(A2429&\"_\"&B2429,Lookups!$E:$F,2,FALSE))","v":""},""]
[null,null,null,null,null,"",null,"",null,null,"","",{"$f":"IF(OR(A2430=\"\",B2430=\"\"),\"\",VLOOKUP(A2430&\"_\"&B2430,Lookups!$E:$F,2,FALSE))","v":""},""]
[null,null,null,null,null,"",null,"",null,null,"","",{"$f":"IF(OR(A2431=\"\",B2431=\"\"),\"\",VLOOKUP(A2431&\"_\"&B2431,Lookups!$E:$F,2,FALSE))","v":""},""]
[null,null,null,null,null,"",null,"",null,null,"","",{"$f":"IF(OR(A2432=\"\",B2432=\"\"),\"\",VLOOKUP(A2432&\"_\"&B2432,Lookups!$E:$F,2,FALSE))","v":""},""]
[null,null,null,null,null,"",null,"",null,null,"","",{"$f":"IF(OR(A2433=\"\",B2433=\"\"),\"\",VLOOKUP(A2433&\"_\"&B2433,Lookups!$E:$F,2,FALSE))","v":""},""]
[null,null,null,null,null,"",null,"",null,null,"","",{"$f":"IF(OR(A2434=\"\",B2434=\"\"),\"\",VLOOKUP(A2434&\"_\"&B2434,Lookups!$E:$F,2,FALSE))","v":""},""]
[null,null,null,null,null,"",null,"",null,null,"","",{"$f":"IF(OR(A2435=\"\",B2435=\"\"),\"\",VLOOKUP(A2435&\"_\"&B2435,Lookups!$E:$F,2,FALSE))","v":""},""]
[null,null,null,null,null,{"$f":"IF(OR(D2436=\"\",E2436=\"\"),\"\",ROUND((E2436-D2436)*24,2))","v":""},null,{"$f":"IF(F2436=\"\",\"\",IF(G2436<>\"\",F2436*G2436,F2436))","v":""},null,null,{"$f":"IF(AND(H2436<>\"\",I2436=\"Paid\"),H2436,\"\")","v":""},{"$f":"IF(H2436=\"\",\"\",IF(K2436=\"\",H2436,H2436-K2436))","v":""},{"$f":"IF(OR(A2436=\"\",B2436=\"\"),\"\",VLOOKUP(A2436&\"_\"&B2436,Lookups!$E:$F,2,FALSE))","v":""},{"$f":"IF(AND(K2436=\"\",L2436=\"\"),\"\",IF(K2436=\"\",L2436*M2436,SUM(K2436,L2436)*M2436))","v":""}]
[null,null,null,null,null,"",null,"",null,null,"","",{"$f":"IF(OR(A2437=\"\",B2437=\"\"),\"\",VLOOKUP(A2437&\"_\"&B2437,Lookups!$E:$F,2,FALSE))","v":""},""]
[null,null,null,null,null,"",null,"",null,null,"","",{"$f":"IF(OR(A2438=\"\",B2438=\"\"),\"\",VLOOKUP(A2438&\"_\"&B2438,Lookups!$E:$F,2,FALSE))","v":""},""]
[null,null,null,null,null,"",null,"",null,null,"","",{"$f":"IF(OR(A2439=\"\",B2439=\"\"),\"\",VLOOKUP(A2439&\"_\"&B2439,Lookups!$E:$F,2,FALSE))","v":""},""]
[null,null,null,null,null,"",null,"",null,null,"","",{"$f":"IF(OR(A2440=\"\",B2440=\"\"),\"\",VLOOKUP(A2440&\"_\"&B2440,Lookups!$E:$F,2,FALSE))","v":""},""]
[null,null,null,null,null,"",null,"",null,null,"","",{"$f":"IF(OR(A2441=\"\",B2441=\"\"),\"\",VLOOKUP(A2441&\"_\"&B2441,Lookups!$E:$F,2,FALSE))","v":""},""]
[null,null,null,null,null,"",null,"",null,null,"","",{"$f":"IF(OR(A2442=\"\",B2442=\"\"),\"\",VLOOKUP(A2442&\"_\"&B2442,Lookups!$E:$F,2,FALSE))","v":""},""]
[null,null,null,null,null,"",null,"",null,null,"","",{"$f":"IF(OR(A2443=\"\",B2443=\"\"),\"\",VLOOKUP(A2443&\"_\"&B2443,Lookups!$E:$F,2,FALSE))","v":""},""]
[null,null,null,null,null,"",null,"",null,null,"","",{"$f":"IF(OR(A2444=\"\",B2444=\"\"),\"\",VLOOKUP(A2444&\"_\"&B2444,Lookups!$E:$F,2,FALSE))","v":""},""]
[null,null,null,null,null,"",null,"",null,null,"","",{"$f":"IF(OR(A2445=\"\",B2445=\"\"),\"\",VLOOKUP(A2445&\"_\"&B2445,Lookups!$E:$F,2,FALSE))","v":""},""]
[null,null,null,null,null,"",null,"",null,null,"","",{"$f":"IF(OR(A2446=\"\",B2446=\"\"),\"\",VLOOKUP(A2446&\"_\"&B2446,Lookups!$E:$F,2,FALSE))","v":""},""]
[null,null,null,null,null,"",null,"",null,null,"","",{"$f":"IF(OR(A2447=\"\",B2447=\"\"),\"\",VLOOKUP(A2447&\"_\"&B2447,Lookups!$E:$F,2,FALSE))","v":""},""]
[null,null,null,null,null,"",null,"",null,null,"","",{"$f":"IF(OR(A2448=\"\",B2448=\"\"),\"\",VLOOKUP(A2448&\"_\"&B2448,Lookups!$E:$F,2,FALSE))","v":""},""]
[null,null,null,null,null,"",null,"",null,null,"","",{"$f":"IF(OR(A2449=\"\",B2449=\"\"),\"\",VLOOKUP(A2449&\"_\"&B2449,Lookups!$E:$F,2,FALSE))","v":""},""]
[null,null,null,null,null,"",null,"",null,null,"","",{"$f":"IF(OR(A2450=\"\",B2450=\"\"),\"\",VLOOKUP(A2450&\"_\"&B2450,Lookups!$E:$F,2,FALSE))","v":""},""]
[null,null,null,null,null,"",null,"",null,null,"","",{"$f":"IF(OR(A2451=\"\",B2451=\"\"),\"\",VLOOKUP(A2451&\"_\"&B2451,Lookups!$E:$F,2,FALSE))","v":""},""]
[null,null,null,null,null,"",null,"",null,null,"","",{"$f":"IF(OR(A2452=\"\",B2452=\"\"),\"\",VLOOKUP(A2452&\"_\"&B2452,Lookups!$E:$F,2,FALSE))","v":""},""]
[null,null,null,null,null,"",null,"",null,null,"","",{"$f":"IF(OR(A2453=\"\",B2453=\"\"),\"\",VLOOKUP(A2453&\"_\"&B2453,Lookups!$E:$F,2,FALSE))","v":""},""]
[null,null,null,null,null,"",null,"",null,null,"","",{"$f":"IF(OR(A2454=\"\",B2454=\"\"),\"\",VLOOKUP(A2454&\"_\"&B2454,Lookups!$E:$F,2,FALSE))","v":""},""]
[null,null,null,null,null,"",null,"",null,null,"","",{"$f":"IF(OR(A2455=\"\",B2455=\"\"),\"\",VLOOKUP(A2455&\"_\"&B2455,Lookups!$E:$F,2,FALSE))","v":""},""]
[null,null,null,null,null,"",null,"",null,null,"","",{"$f":"IF(OR(A2456=\"\",B2456=\"\"),\"\",VLOOKUP(A2456&\"_\"&B2456,Lookups!$E:$F,2,FALSE))","v":""},""]
[null,null,null,null,null,"",null,"",null,null,"","",{"$f":"IF(OR(A2457=\"\",B2457=\"\"),\"\",VLOOKUP(A2457&\"_\"&B2457,Lookups!$E:$F,2,FALSE))","v":""},""]
[null,null,null,null,null,"",null,"",null,null,"","",{"$f":"IF(OR(A2458=\"\",B2458=\"\"),\"\",VLOOKUP(A2458&\"_\"&B2458,Lookups!$E:$F,2,FALSE))","v":""},""]
[null,null,null,null,null,"",null,"",null,null,"","",{"$f":"IF(OR(A2459=\"\",B2459=\"\"),\"\",VLOOKUP(A2459&\"_\"&B2459,Lookups!$E:$F,2,FALSE))","v":""},""]
[null,null,null,null,null,"",null,"",null,null,"","",{"$f":"IF(OR(A2460=\"\",B2460=\"\"),\"\",VLOOKUP(A2460&\"_\"&B2460,Lookups!$E:$F,2,FALSE))","v":""},""]
[null,null,null,null,null,"",null,"",null,null,"","",{"$f":"IF(OR(A2461=\"\",B2461=\"\"),\"\",VLOOKUP(A2461&\"_\"&B2461,Lookups!$E:$F,2,FALSE))","v":""},""]
[null,null,null,null,null,"",null,"",null,null,"","",{"$f":"IF(OR(A2462=\"\",B2462=\"\"),\"\",VLOOKUP(A2462&\"_\"&B2462,Lookups!$E:$F,2,FALSE))","v":""},""]
[null,null,null,null,null,"",null,"",null,null,"","",{"$f":"IF(OR(A2463=\"\",B2463=\"\"),\"\",VLOOKUP(A2463&\"_\"&B2463,Lookups!$E:$F,2,FALSE))","v":""},""]
[null,null,null,null,null,"",null,"",null,null,"","",{"$f":"IF(OR(A2464=\"\",B2464=\"\"),\"\",VLOOKUP(A2464&\"_\"&B2464,Lookups!$E:$F,2,FALSE))","v":""},""]
[null,null,null,null,null,"",null,"",null,null,"","",{"$f":"IF(OR(A2465=\"\",B2465=\"\"),\"\",VLOOKUP(A2465&\"_\"&B2465,Lookups!$E:$F,2,FALSE))","v":""},""]
[null,null,null,null,null,"",null,"",null,null,"","",{"$f":"IF(OR(A2466=\"\",B2466=\"\"),\"\",VLOOKUP(A2466&\"_\"&B2466,Lookups!$E:$F,2,FALSE))","v":""},""]
[null,null,null,null,null,"",null,"",null,null,"","",{"$f":"IF(OR(A2467=\"\",B2467=\"\"),\"\",VLOOKUP(A2467&\"_\"&B2467,Lookups!$E:$F,2,FALSE))","v":""},""]
[null,null,null,null,null,"",null,"",null,null,"","",{"$f":"IF(OR(A2468=\"\",B2468=\"\"),\"\",VLOOKUP(A2468&\"_\"&B2468,Lookups!$E:$F,2,FALSE))","v":""},""]
[null,null,null,null,null,"",null,"",null,null,"","",{"$f":"IF(OR(A2469=\"\",B2469=\"\"),\"\",VLOOKUP(A2469&\"_\"&B2469,Lookups!$E:$F,2,FALSE))","v":""},""]
[null,null,null,null,null,"",null,"",null,null,"","",{"$f":"IF(OR(A2470=\"\",B2470=\"\"),\"\",VLOOKUP(A2470&\"_\"&B2470,Lookups!$E:$F,2,FALSE))","v":""},""]
[null,null,null,null,null,"",null,"",null,null,"","",{"$f":"IF(OR(A2471=\"\",B2471=\"\"),\"\",VLOOKUP(A2471&\"_\"&B2471,Lookups!$E:$F,2,FALSE))","v":""},""]
[null,null,null,null,null,"",null,"",null,null,"","",{"$f":"IF(OR(A2472=\"\",B2472=\"\"),\"\",VLOOKUP(A2472&\"_\"&B2472,Lookups!$E:$F,2,FALSE))","v":""},""]
[null,null,null,null,null,"",null,"",null,null,"","",{"$f":"IF(OR(A2473=\"\",B2473=\"\"),\"\",VLOOKUP(A2473&\"_\"&B2473,Lookups!$E:$F,2,FALSE))","v":""},""]
[null,null,null,null,null,"",null,"",null,null,"","",{"$f":"IF(OR(A2474=\"\",B2474=\"\"),\"\",VLOOKUP(A2474&\"_\"&B2474,Lookups!$E:$F,2,FALSE))","v":""},""]
[null,null,null,null,null,"",null,"",null,null,"","",{"$f":"IF(OR(A2475=\"\",B2475=\"\"),\"\",VLOOKUP(A2475&\"_\"&B2475,Lookups!$E:$F,2,FALSE))","v":""},""]
[null,null,null,null,null,"",null,"",null,null,"","",{"$f":"IF(OR(A2476=\"\",B2476=\"\"),\"\",VLOOKUP(A2476&\"_\"&B2476,Lookups!$E:$F,2,FALSE))","v":""},""]
[null,null,null,null,null,"",null,"",null,null,"","",{"$f":"IF(OR(A2477=\"\",B2477=\"\"),\"\",VLOOKUP(A2477&\"_\"&B2477,Lookups!$E:$F,2,FALSE))","v":""},""]
[null,null,null,null,null,"",null,"",null,null,"","",{"$f":"IF(OR(A2478=\"\",B2478=\"\"),\"\",VLOOKUP(A2478&\"_\"&B2478,Lookups!$E:$F,2,FALSE))","v":""},""]
[null,null,null,null,null,"",null,"",null,null,"","",{"$f":"IF(OR(A2479=\"\",B2479=\"\"),\"\",VLOOKUP(A2479&\"_\"&B2479,Lookups!$E:$F,2,FALSE))","v":""},""]
[null,null,null,null,null,"",null,"",null,null,"","",{"$f":"IF(OR(A2480=\"\",B2480=\"\"),\"\",VLOOKUP(A2480&\"_\"&B2480,Lookups!$E:$F,2,FALSE))","v":""},""]
[null,null,null,null,null,"",null,"",null,null,"","",{"$f":"IF(OR(A2481=\"\",B2481=\"\"),\"\",VLOOKUP(A2481&\"_\"&B2481,Lookups!$E:$F,2,FALSE))","v":""},""]
[null,null,null,null,null,"",null,"",null,null,"","",{"$f":"IF(OR(A2482=\"\",B2482=\"\"),\"\",VLOOKUP(A2482&\"_\"&B2482,Lookups!$E:$F,2,FALSE))","v":""},""]
[null,null,null,null,null,"",null,"",null,null,"","",{"$f":"IF(OR(A2483=\"\",B2483=\"\"),\"\",VLOOKUP(A2483&\"_\"&B2483,Lookups!$E:$F,2,FALSE))","v":""},""]
[null,null,null,null,null,"",null,"",null,null,"","",{"$f":"IF(OR(A2484=\"\",B2484=\"\"),\"\",VLOOKUP(A2484&\"_\"&B2484,Lookups!$E:$F,2,FALSE))","v":""},""]
[null,null,null,null,null,"",null,"",null,null,"","",{"$f":"IF(OR(A2485=\"\",B2485=\"\"),\"\",VLOOKUP(A2485&\"_\"&B2485,Lookups!$E:$F,2,FALSE))","v":""},""]
[null,null,null,null,null,"",null,"",null,null,"","",{"$f":"IF(OR(A2486=\"\",B2486=\"\"),\"\",VLOOKUP(A2486&\"_\"&B2486,Lookups!$E:$F,2,FALSE))","v":""},""]
[null,null,null,null,null,"",null,"",null,null,"","",{"$f":"IF(OR(A2487=\"\",B2487=\"\"),\"\",VLOOKUP(A2487&\"_\"&B2487,Lookups!$E:$F,2,FALSE))","v":""},""]
[null,null,null,null,null,"",null,"",null,null,"","",{"$f":"IF(OR(A2488=\"\",B2488=\"\"),\"\",VLOOKUP(A2488&\"_\"&B2488,Lookups!$E:$F,2,FALSE))","v":""},""]
[null,null,null,null,null,"",null,"",null,null,"","",{"$f":"IF(OR(A2489=\"\",B2489=\"\"),\"\",VLOOKUP(A2489&\"_\"&B2489,Lookups!$E:$F,2,FALSE))","v":""},""]
[null,null,null,null,null,"",null,"",null,null,"","",{"$f":"IF(OR(A2490=\"\",B2490=\"\"),\"\",VLOOKUP(A2490&\"_\"&B2490,Lookups!$E:$F,2,FALSE))","v":""},""]
[null,null,null,null,null,"",null,"",null,null,"","",{"$f":"IF(OR(A2491=\"\",B2491=\"\"),\"\",VLOOKUP(A2491&\"_\"&B2491,Lookups!$E:$F,2,FALSE))","v":""},""]
[null,null,null,null,null,"",null,"",null,null,"","",{"$f":"IF(OR(A2492=\"\",B2492=\"\"),\"\",VLOOKUP(A2492&\"_\"&B2492,Lookups!$E:$F,2,FALSE))","v":""},""]
[null,null,null,null,null,"",null,"",null,null,"","",{"$f":"IF(OR(A2493=\"\",B2493=\"\"),\"\",VLOOKUP(A2493&\"_\"&B2493,Lookups!$E:$F,2,FALSE))","v":""},""]
[null,null,null,null,null,"",null,"",null,null,"","",{"$f":"IF(OR(A2494=\"\",B2494=\"\"),\"\",VLOOKUP(A2494&\"_\"&B2494,Lookups!$E:$F,2,FALSE))","v":""},""]
[null,null,null,null,null,"",null,"",null,null,"","",{"$f":"IF(OR(A2495=\"\",B2495=\"\"),\"\",VLOOKUP(A2495&\"_\"&B2495,Lookups!$E:$F,2,FALSE))","v":""},""]
[null,null,null,null,null,"",null,"",null,null,"","",{"$f":"IF(OR(A2496=\"\",B2496=\"\"),\"\",VLOOKUP(A2496&\"_\"&B2496,Lookups!$E:$F,2,FALSE))","v":""},""]
[null,null,null,null,null,"",null,"",null,null,"","",{"$f":"IF(OR(A2497=\"\",B2497=\"\"),\"\",VLOOKUP(A2497&\"_\"&B2497,Lookups!$E:$F,2,FALSE))","v":""},""]
[null,null,null,null,null,"",null,"",null,null,"","",{"$f":"IF(OR(A2498=\"\",B2498=\"\"),\"\",VLOOKUP(A2498&\"_\"&B2498,Lookups!$E:$F,2,FALSE))","v":""},""]
[null,null,null,null,null,"",null,"",null,null,"","",{"$f":"IF(OR(A2499=\"\",B2499=\"\"),\"\",VLOOKUP(A2499&\"_\"&B2499,Lookups!$E:$F,2,FALSE))","v":""},""]
[null,null,null,null,null,{"$f":"IF(OR(D2500=\"\",E2500=\"\"),\"\",ROUND((E2500-D2500)*24,2))","v":""},null,{"$f":"IF(F2500=\"\",\"\",IF(G2500<>\"\",F2500*G2500,F2500))","v":""},null,null,{"$f":"IF(AND(H2500<>\"\",I2500=\"Paid\"),H2500,\"\")","v":""},{"$f":"IF(H2500=\"\",\"\",IF(K2500=\"\",H2500,H2500-K2500))","v":""},{"$f":"IF(OR(A2500=\"\",B2500=\"\"),\"\",VLOOKUP(A2500&\"_\"&B2500,Lookups!$E:$F,2,FALSE))","v":""},{"$f":"IF(AND(K2500=\"\",L2500=\"\"),\"\",IF(K2500=\"\",L2500*M2500,SUM(K2500,L2500)*M2500))","v":""}]
[null,null,null,null,null,"",null,"",null,null,"","",{"$f":"IF(OR(A2501=\"\",B2501=\"\"),\"\",VLOOKUP(A2501&\"_\"&B2501,Lookups!$E:$F,2,FALSE))","v":""},""]
[null,null,null,null,null,"",null,"",null,null,"","",{"$f":"IF(OR(A2502=\"\",B2502=\"\"),\"\",VLOOKUP(A2502&\"_\"&B2502,Lookups!$E:$F,2,FALSE))","v":""},""]
[null,null,null,null,null,"",null,"",null,null,"","",{"$f":"IF(OR(A2503=\"\",B2503=\"\"),\"\",VLOOKUP(A2503&\"_\"&B2503,Lookups!$E:$F,2,FALSE))","v":""},""]
[null,null,null,null,null,"",null,"",null,null,"","",{"$f":"IF(OR(A2504=\"\",B2504=\"\"),\"\",VLOOKUP(A2504&\"_\"&B2504,Lookups!$E:$F,2,FALSE))","v":""},""]
[null,null,null,null,null,"",null,"",null,null,"","",{"$f":"IF(OR(A2505=\"\",B2505=\"\"),\"\",VLOOKUP(A2505&\"_\"&B2505,Lookups!$E:$F,2,FALSE))","v":""},""]
[null,null,null,null,null,"",null,"",null,null,"","",{"$f":"IF(OR(A2506=\"\",B2506=\"\"),\"\",VLOOKUP(A2506&\"_\"&B2506,Lookups!$E:$F,2,FALSE))","v":""},""]
[null,null,null,null,null,"",null,"",null,null,"","",{"$f":"IF(OR(A2507=\"\",B2507=\"\"),\"\",VLOOKUP(A2507&\"_\"&B2507,Lookups!$E:$F,2,FALSE))","v":""},""]
[null,null,null,null,null,"",null,"",null,null,"","",{"$f":"IF(OR(A2508=\"\",B2508=\"\"),\"\",VLOOKUP(A2508&\"_\"&B2508,Lookups!$E:$F,2,FALSE))","v":""},""]
[null,null,null,null,null,"",null,"",null,null,"","",{"$f":"IF(OR(A2509=\"\",B2509=\"\"),\"\",VLOOKUP(A2509&\"_\"&B2509,Lookups!$E:$F,2,FALSE))","v":""},""]
[null,null,null,null,null,"",null,"",null,null,"","",{"$f":"IF(OR(A2510=\"\",B2510=\"\"),\"\",VLOOKUP(A2510&\"_\"&B2510,Lookups!$E:$F,2,FALSE))","v":""},""]
[null,null,null,null,null,"",null,"",null,null,"","",{"$f":"IF(OR(A2511=\"\",B2511=\"\"),\"\",VLOOKUP(A2511&\"_\"&B2511,Lookups!$E:$F,2,FALSE))","v":""},""]
[null,null,null,null,null,"",null,"",null,null,"","",{"$f":"IF(OR(A2512=\"\",B2512=\"\"),\"\",VLOOKUP(A2512&\"_\"&B2512,Lookups!$E:$F,2,FALSE))","v":""},""]
[null,null,null,null,null,"",null,"",null,null,"","",{"$f":"IF(OR(A2513=\"\",B2513=\"\"),\"\",VLOOKUP(A2513&\"_\"&B2513,Lookups!$E:$F,2,FALSE))","v":""},""]
[null,null,null,null,null,"",null,"",null,null,"","",{"$f":"IF(OR(A2514=\"\",B2514=\"\"),\"\",VLOOKUP(A2514&\"_\"&B2514,Lookups!$E:$F,2,FALSE))","v":""},""]
[null,null,null,null,null,"",null,"",null,null,"","",{"$f":"IF(OR(A2515=\"\",B2515=\"\"),\"\",VLOOKUP(A2515&\"_\"&B2515,Lookups!$E:$F,2,FALSE))","v":""},""]
[null,null,null,null,null,"",null,"",null,null,"","",{"$f":"IF(OR(A2516=\"\",B2516=\"\"),\"\",VLOOKUP(A2516&\"_\"&B2516,Lookups!$E:$F,2,FALSE))","v":""},""]
[null,null,null,null,null,"",null,"",null,null,"","",{"$f":"IF(OR(A2517=\"\",B2517=\"\"),\"\",VLOOKUP(A2517&\"_\"&B2517,Lookups!$E:$F,2,FALSE))","v":""},""]
[null,null,null,null,null,"",null,"",null,null,"","",{"$f":"IF(OR(A2518=\"\",B2518=\"\"),\"\",VLOOKUP(A2518&\"_\"&B2518,Lookups!$E:$F,2,FALSE))","v":""},""]
[null,null,null,null,null,"",null,"",null,null,"","",{"$f":"IF(OR(A2519=\"\",B2519=\"\"),\"\",VLOOKUP(A2519&\"_\"&B2519,Lookups!$E:$F,2,FALSE))","v":""},""]
[null,null,null,null,null,"",null,"",null,null,"","",{"$f":"IF(OR(A2520=\"\",B2520=\"\"),\"\",VLOOKUP(A2520&\"_\"&B2520,Lookups!$E:$F,2,FALSE))","v":""},""]
[null,null,null,null,null,"",null,"",null,null,"","",{"$f":"IF(OR(A2521=\"\",B2521=\"\"),\"\",VLOOKUP(A2521&\"_\"&B2521,Lookups!$E:$F,2,FALSE))","v":""},""]
[null,null,null,null,null,"",null,"",null,null,"","",{"$f":"IF(OR(A2522=\"\",B2522=\"\"),\"\",VLOOKUP(A2522&\"_\"&B2522,Lookups!$E:$F,2,FALSE))","v":""},""]
[null,null,null,null,null,"",null,"",null,null,"","",{"$f":"IF(OR(A2523=\"\",B2523=\"\"),\"\",VLOOKUP(A2523&\"_\"&B2523,Lookups!$E:$F,2,FALSE))","v":""},""]
[null,null,null,null,null,"",null,"",null,null,"","",{"$f":"IF(OR(A2524=\"\",B2524=\"\"),\"\",VLOOKUP(A2524&\"_\"&B2524,Lookups!$E:$F,2,FALSE))","v":""},""]
[null,null,null,null,null,"",null,"",null,null,"","",{"$f":"IF(OR(A2525=\"\",B2525=\"\"),\"\",VLOOKUP(A2525&\"_\"&B2525,Lookups!$E:$F,2,FALSE))","v":""},""]
[null,null,null,null,null,"",null,"",null,null,"","",{"$f":"IF(OR(A2526=\"\",B2526=\"\"),\"\",VLOOKUP(A2526&\"_\"&B2526,Lookups!$E:$F,2,FALSE))","v":""},""]
[null,null,null,null,null,"",null,"",null,null,"","",{"$f":"IF(OR(A2527=\"\",B2527=\"\"),\"\",VLOOKUP(A2527&\"_\"&B2527,Lookups!$E:$F,2,FALSE))","v":""},""]
[null,null,null,null,null,"",null,"",null,null,"","",{"$f":"IF(OR(A2528=\"\",B2528=\"\"),\"\",VLOOKUP(A2528&\"_\"&B2528,Lookups!$E:$F,2,FALSE))","v":""},""]
[null,null,null,null,null,"",null,"",null,null,"","",{"$f":"IF(OR(A2529=\"\",B2529=\"\"),\"\",VLOOKUP(A2529&\"_\"&B2529,Lookups!$E:$F,2,FALSE))","v":""},""]
[null,null,null,null,null,"",null,"",null,null,"","",{"$f":"IF(OR(A2530=\"\",B2530=\"\"),\"\",VLOOKUP(A2530&\"_\"&B2530,Lookups!$E:$F,2,FALSE))","v":""},""]
[null,null,null,null,null,"",null,"",null,null,"","",{"$f":"IF(OR(A2531=\"\",B2531=\"\"),\"\",VLOOKUP(A2531&\"_\"&B2531,Lookups!$E:$F,2,FALSE))","v":""},""]
[null,null,null,null,null,"",null,"",null,null,"","",{"$f":"IF(OR(A2532=\"\",B2532=\"\"),\"\",VLOOKUP(A2532&\"_\"&B2532,Lookups!$E:$F,2,FALSE))","v":""},""]
[null,null,null,null,null,"",null,"",null,null,"","",{"$f":"IF(OR(A2533=\"\",B2533=\"\"),\"\",VLOOKUP(A2533&\"_\"&B2533,Lookups!$E:$F,2,FALSE))","v":""},""]
[null,null,null,null,null,"",null,"",null,null,"","",{"$f":"IF(OR(A2534=\"\",B2534=\"\"),\"\",VLOOKUP(A2534&\"_\"&B2534,Lookups!$E:$F,2,FALSE))","v":""},""]
[null,null,null,null,null,"",null,"",null,null,"","",{"$f":"IF(OR(A2535=\"\",B2535=\"\"),\"\",VLOOKUP(A2535&\"_\"&B2535,Lookups!$E:$F,2,FALSE))","v":""},""]
[null,null,null,null,null,"",null,"",null,null,"","",{"$f":"IF(OR(A2536=\"\",B2536=\"\"),\"\",VLOOKUP(A2536&\"_\"&B2536,Lookups!$E:$F,2,FALSE))","v":""},""]
[null,null,null,null,null,"",null,"",null,null,"","",{"$f":"IF(OR(A2537=\"\",B2537=\"\"),\"\",VLOOKUP(A2537&\"_\"&B2537,Lookups!$E:$F,2,FALSE))","v":""},""]
[null,null,null,null,null,"",null,"",null,null,"","",{"$f":"IF(OR(A2538=\"\",B2538=\"\"),\"\",VLOOKUP(A2538&\"_\"&B2538,Lookups!$E:$F,2,FALSE))","v":""},""]
[null,null,null,null,null,"",null,"",null,null,"","",{"$f":"IF(OR(A2539=\"\",B2539=\"\"),\"\",VLOOKUP(A2539&\"_\"&B2539,Lookups!$E:$F,2,FALSE))","v":""},""]
[null,null,null,null,null,"",null,"",null,null,"","",{"$f":"IF(OR(A2540=\"\",B2540=\"\"),\"\",VLOOKUP(A2540&\"_\"&B2540,Lookups!$E:$F,2,FALSE))","v":""},""]
[null,null,null,null,null,"",null,"",null,null,"","",{"$f":"IF(OR(A2541=\"\",B2541=\"\"),\"\",VLOOKUP(A2541&\"_\"&B2541,Lookups!$E:$F,2,FALSE))","v":""},""]
[null,null,null,null,null,"",null,"",null,null,"","",{"$f":"IF(OR(A2542=\"\",B2542=\"\"),\"\",VLOOKUP(A2542&\"_\"&B2542,Lookups!$E:$F,2,FALSE))","v":""},""]
[null,null,null,null,null,"",null,"",null,null,"","",{"$f":"IF(OR(A2543=\"\",B2543=\"\"),\"\",VLOOKUP(A2543&\"_\"&B2543,Lookups!$E:$F,2,FALSE))","v":""},""]
[null,null,null,null,null,"",null,"",null,null,"","",{"$f":"IF(OR(A2544=\"\",B2544=\"\"),\"\",VLOOKUP(A2544&\"_\"&B2544,Lookups!$E:$F,2,FALSE))","v":""},""]
[null,null,null,null,null,"",null,"",null,null,"","",{"$f":"IF(OR(A2545=\"\",B2545=\"\"),\"\",VLOOKUP(A2545&\"_\"&B2545,Lookups!$E:$F,2,FALSE))","v":""},""]
[null,null,null,null,null,"",null,"",null,null,"","",{"$f":"IF(OR(A2546=\"\",B2546=\"\"),\"\",VLOOKUP(A2546&\"_\"&B2546,Lookups!$E:$F,2,FALSE))","v":""},""]
[null,null,null,null,null,"",null,"",null,null,"","",{"$f":"IF(OR(A2547=\"\",B2547=\"\"),\"\",VLOOKUP(A2547&\"_\"&B2547,Lookups!$E:$F,2,FALSE))","v":""},""]
[null,null,null,null,null,"",null,"",null,null,"","",{"$f":"IF(OR(A2548=\"\",B2548=\"\"),\"\",VLOOKUP(A2548&\"_\"&B2548,Lookups!$E:$F,2,FALSE))","v":""},""]
[null,null,null,null,null,"",null,"",null,null,"","",{"$f":"IF(OR(A2549=\"\",B2549=\"\"),\"\",VLOOKUP(A2549&\"_\"&B2549,Lookups!$E:$F,2,FALSE))","v":""},""]
[null,null,null,null,null,"",null,"",null,null,"","",{"$f":"IF(OR(A2550=\"\",B2550=\"\"),\"\",VLOOKUP(A2550&\"_\"&B2550,Lookups!$E:$F,2,FALSE))","v":""},""]
[null,null,null,null,null,"",null,"",null,null,"","",{"$f":"IF(OR(A2551=\"\",B2551=\"\"),\"\",VLOOKUP(A2551&\"_\"&B2551,Lookups!$E:$F,2,FALSE))","v":""},""]
[null,null,null,null,null,"",null,"",null,null,"","",{"$f":"IF(OR(A2552=\"\",B2552=\"\"),\"\",VLOOKUP(A2552&\"_\"&B2552,Lookups!$E:$F,2,FALSE))","v":""},""]
[null,null,null,null,null,"",null,"",null,null,"","",{"$f":"IF(OR(A2553=\"\",B2553=\"\"),\"\",VLOOKUP(A2553&\"_\"&B2553,Lookups!$E:$F,2,FALSE))","v":""},""]
[null,null,null,null,null,"",null,"",null,null,"","",{"$f":"IF(OR(A2554=\"\",B2554=\"\"),\"\",VLOOKUP(A2554&\"_\"&B2554,Lookups!$E:$F,2,FALSE))","v":""},""]
[null,null,null,null,null,"",null,"",null,null,"","",{"$f":"IF(OR(A2555=\"\",B2555=\"\"),\"\",VLOOKUP(A2555&\"_\"&B2555,Lookups!$E:$F,2,FALSE))","v":""},""]
[null,null,null,null,null,"",null,"",null,null,"","",{"$f":"IF(OR(A2556=\"\",B2556=\"\"),\"\",VLOOKUP(A2556&\"_\"&B2556,Lookups!$E:$F,2,FALSE))","v":""},""]
[null,null,null,null,null,"",null,"",null,null,"","",{"$f":"IF(OR(A2557=\"\",B2557=\"\"),\"\",VLOOKUP(A2557&\"_\"&B2557,Lookups!$E:$F,2,FALSE))","v":""},""]
[null,null,null,null,null,"",null,"",null,null,"","",{"$f":"IF(OR(A2558=\"\",B2558=\"\"),\"\",VLOOKUP(A2558&\"_\"&B2558,Lookups!$E:$F,2,FALSE))","v":""},""]
[null,null,null,null,null,"",null,"",null,null,"","",{"$f":"IF(OR(A2559=\"\",B2559=\"\"),\"\",VLOOKUP(A2559&\"_\"&B2559,Lookups!$E:$F,2,FALSE))","v":""},""]
[null,null,null,null,null,"",null,"",null,null,"","",{"$f":"IF(OR(A2560=\"\",B2560=\"\"),\"\",VLOOKUP(A2560&\"_\"&B2560,Lookups!$E:$F,2,FALSE))","v":""},""]
[null,null,null,null,null,"",null,"",null,null,"","",{"$f":"IF(OR(A2561=\"\",B2561=\"\"),\"\",VLOOKUP(A2561&\"_\"&B2561,Lookups!$E:$F,2,FALSE))","v":""},""]
[null,null,null,null,null,"",null,"",null,null,"","",{"$f":"IF(OR(A2562=\"\",B2562=\"\"),\"\",VLOOKUP(A2562&\"_\"&B2562,Lookups!$E:$F,2,FALSE))","v":""},""]
[null,null,null,null,null,"",null,"",null,null,"","",{"$f":"IF(OR(A2563=\"\",B2563=\"\"),\"\",VLOOKUP(A2563&\"_\"&B2563,Lookups!$E:$F,2,FALSE))","v":""},""]
[null,null,null,null,null,{"$f":"IF(OR(D2564=\"\",E2564=\"\"),\"\",ROUND((E2564-D2564)*24,2))","v":""},null,{"$f":"IF(F2564=\"\",\"\",IF(G2564<>\"\",F2564*G2564,F2564))","v":""},null,null,{"$f":"IF(AND(H2564<>\"\",I2564=\"Paid\"),H2564,\"\")","v":""},{"$f":"IF(H2564=\"\",\"\",IF(K2564=\"\",H2564,H2564-K2564))","v":""},{"$f":"IF(OR(A2564=\"\",B2564=\"\"),\"\",VLOOKUP(A2564&\"_\"&B2564,Lookups!$E:$F,2,FALSE))","v":""},{"$f":"IF(AND(K2564=\"\",L2564=\"\"),\"\",IF(K2564=\"\",L2564*M2564,SUM(K2564,L2564)*M2564))","v":""}]
[null,null,null,null,null,"",null,"",null,null,"","",{"$f":"IF(OR(A2565=\"\",B2565=\"\"),\"\",VLOOKUP(A2565&\"_\"&B2565,Lookups!$E:$F,2,FALSE))","v":""},""]
[null,null,null,null,null,"",null,"",null,null,"","",{"$f":"IF(OR(A2566=\"\",B2566=\"\"),\"\",VLOOKUP(A2566&\"_\"&B2566,Lookups!$E:$F,2,FALSE))","v":""},""]
[null,null,null,null,null,"",null,"",null,null,"","",{"$f":"IF(OR(A2567=\"\",B2567=\"\"),\"\",VLOOKUP(A2567&\"_\"&B2567,Lookups!$E:$F,2,FALSE))","v":""},""]
[null,null,null,null,null,"",null,"",null,null,"","",{"$f":"IF(OR(A2568=\"\",B2568=\"\"),\"\",VLOOKUP(A2568&\"_\"&B2568,Lookups!$E:$F,2,FALSE))","v":""},""]
[null,null,null,null,null,"",null,"",null,null,"","",{"$f":"IF(OR(A2569=\"\",B2569=\"\"),\"\",VLOOKUP(A2569&\"_\"&B2569,Lookups!$E:$F,2,FALSE))","v":""},""]
[null,null,null,null,null,"",null,"",null,null,"","",{"$f":"IF(OR(A2570=\"\",B2570=\"\"),\"\",VLOOKUP(A2570&\"_\"&B2570,Lookups!$E:$F,2,FALSE))","v":""},""]
[null,null,null,null,null,"",null,"",null,null,"","",{"$f":"IF(OR(A2571=\"\",B2571=\"\"),\"\",VLOOKUP(A2571&\"_\"&B2571,Lookups!$E:$F,2,FALSE))","v":""},""]
[null,null,null,null,null,"",null,"",null,null,"","",{"$f":"IF(OR(A2572=\"\",B2572=\"\"),\"\",VLOOKUP(A2572&\"_\"&B2572,Lookups!$E:$F,2,FALSE))","v":""},""]
[null,null,null,null,null,"",null,"",null,null,"","",{"$f":"IF(OR(A2573=\"\",B2573=\"\"),\"\",VLOOKUP(A2573&\"_\"&B2573,Lookups!$E:$F,2,FALSE))","v":""},""]
[null,null,null,null,null,"",null,"",null,null,"","",{"$f":"IF(OR(A2574=\"\",B2574=\"\"),\"\",VLOOKUP(A2574&\"_\"&B2574,Lookups!$E:$F,2,FALSE))","v":""},""]
[null,null,null,null,null,"",null,"",null,null,"","",{"$f":"IF(OR(A2575=\"\",B2575=\"\"),\"\",VLOOKUP(A2575&\"_\"&B2575,Lookups!$E:$F,2,FALSE))","v":""},""]
[null,null,null,null,null,"",null,"",null,null,"","",{"$f":"IF(OR(A2576=\"\",B2576=\"\"),\"\",VLOOKUP(A2576&\"_\"&B2576,Lookups!$E:$F,2,FALSE))","v":""},""]
[null,null,null,null,null,"",null,"",null,null,"","",{"$f":"IF(OR(A2577=\"\",B2577=\"\"),\"\",VLOOKUP(A2577&\"_\"&B2577,Lookups!$E:$F,2,FALSE))","v":""},""]
[null,null,null,null,null,"",null,"",null,null,"","",{"$f":"IF(OR(A2578=\"\",B2578=\"\"),\"\",VLOOKUP(A2578&\"_\"&B2578,Lookups!$E:$F,2,FALSE))","v":""},""]
[null,null,null,null,null,"",null,"",null,null,"","",{"$f":"IF(OR(A2579=\"\",B2579=\"\"),\"\",VLOOKUP(A2579&\"_\"&B2579,Lookups!$E:$F,2,FALSE))","v":""},""]
[null,null,null,null,null,"",null,"",null,null,"","",{"$f":"IF(OR(A2580=\"\",B2580=\"\"),\"\",VLOOKUP(A2580&\"_\"&B2580,Lookups!$E:$F,2,FALSE))","v":""},""]
[null,null,null,null,null,"",null,"",null,null,"","",{"$f":"IF(OR(A2581=\"\",B2581=\"\"),\"\",VLOOKUP(A2581&\"_\"&B2581,Lookups!$E:$F,2,FALSE))","v":""},""]
[null,null,null,null,null,"",null,"",null,null,"","",{"$f":"IF(OR(A2582=\"\",B2582=\"\"),\"\",VLOOKUP(A2582&\"_\"&B2582,Lookups!$E:$F,2,FALSE))","v":""},""]
[null,null,null,null,null,"",null,"",null,null,"","",{"$f":"IF(OR(A2583=\"\",B2583=\"\"),\"\",VLOOKUP(A2583&\"_\"&B2583,Lookups!$E:$F,2,FALSE))","v":""},""]
[null,null,null,null,null,"",null,"",null,null,"","",{"$f":"IF(OR(A2584=\"\",B2584=\"\"),\"\",VLOOKUP(A2584&\"_\"&B2584,Lookups!$E:$F,2,FALSE))","v":""},""]
[null,null,null,null,null,"",null,"",null,null,"","",{"$f":"IF(OR(A2585=\"\",B2585=\"\"),\"\",VLOOKUP(A2585&\"_\"&B2585,Lookups!$E:$F,2,FALSE))","v":""},""]
[null,null,null,null,null,"",null,"",null,null,"","",{"$f":"IF(OR(A2586=\"\",B2586=\"\"),\"\",VLOOKUP(A2586&\"_\"&B2586,Lookups!$E:$F,2,FALSE))","v":""},""]
[null,null,null,null,null,"",null,"",null,null,"","",{"$f":"IF(OR(A2587=\"\",B2587=\"\"),\"\",VLOOKUP(A2587&\"_\"&B2587,Lookups!$E:$F,2,FALSE))","v":""},""]
[null,null,null,null,null,"",null,"",null,null,"","",{"$f":"IF(OR(A2588=\"\",B2588=\"\"),\"\",VLOOKUP(A2588&\"_\"&B2588,Lookups!$E:$F,2,FALSE))","v":""},""]
[null,null,null,null,null,"",null,"",null,null,"","",{"$f":"IF(OR(A2589=\"\",B2589=\"\"),\"\",VLOOKUP(A2589&\"_\"&B2589,Lookups!$E:$F,2,FALSE))","v":""},""]
[null,null,null,null,null,"",null,"",null,null,"","",{"$f":"IF(OR(A2590=\"\",B2590=\"\"),\"\",VLOOKUP(A2590&\"_\"&B2590,Lookups!$E:$F,2,FALSE))","v":""},""]
[null,null,null,null,null,"",null,"",null,null,"","",{"$f":"IF(OR(A2591=\"\",B2591=\"\"),\"\",VLOOKUP(A2591&\"_\"&B2591,Lookups!$E:$F,2,FALSE))","v":""},""]
[null,null,null,null,null,"",null,"",null,null,"","",{"$f":"IF(OR(A2592=\"\",B2592=\"\"),\"\",VLOOKUP(A2592&\"_\"&B2592,Lookups!$E:$F,2,FALSE))","v":""},""]
[null,null,null,null,null,"",null,"",null,null,"","",{"$f":"IF(OR(A2593=\"\",B2593=\"\"),\"\",VLOOKUP(A2593&\"_\"&B2593,Lookups!$E:$F,2,FALSE))","v":""},""]
[null,null,null,null,null,"",null,"",null,null,"","",{"$f":"IF(OR(A2594=\"\",B2594=\"\"),\"\",VLOOKUP(A2594&\"_\"&B2594,Lookups!$E:$F,2,FALSE))","v":""},""]
[null,null,null,null,null,"",null,"",null,null,"","",{"$f":"IF(OR(A2595=\"\",B2595=\"\"),\"\",VLOOKUP(A2595&\"_\"&B2595,Lookups!$E:$F,2,FALSE))","v":""},""]
[null,null,null,null,null,"",null,"",null,null,"","",{"$f":"IF(OR(A2596=\"\",B2596=\"\"),\"\",VLOOKUP(A2596&\"_\"&B2596,Lookups!$E:$F,2,FALSE))","v":""},""]
[null,null,null,null,null,"",null,"",null,null,"","",{"$f":"IF(OR(A2597=\"\",B2597=\"\"),\"\",VLOOKUP(A2597&\"_\"&B2597,Lookups!$E:$F,2,FALSE))","v":""},""]
[null,null,null,null,null,"",null,"",null,null,"","",{"$f":"IF(OR(A2598=\"\",B2598=\"\"),\"\",VLOOKUP(A2598&\"_\"&B2598,Lookups!$E:$F,2,FALSE))","v":""},""]
[null,null,null,null,null,"",null,"",null,null,"","",{"$f":"IF(OR(A2599=\"\",B2599=\"\"),\"\",VLOOKUP(A2599&\"_\"&B2599,Lookups!$E:$F,2,FALSE))","v":""},""]
[null,null,null,null,null,"",null,"",null,null,"","",{"$f":"IF(OR(A2600=\"\",B2600=\"\"),\"\",VLOOKUP(A2600&\"_\"&B2600,Lookups!$E:$F,2,FALSE))","v":""},""]
[null,null,null,null,null,"",null,"",null,null,"","",{"$f":"IF(OR(A2601=\"\",B2601=\"\"),\"\",VLOOKUP(A2601&\"_\"&B2601,Lookups!$E:$F,2,FALSE))","v":""},""]
[null,null,null,null,null,"",null,"",null,null,"","",{"$f":"IF(OR(A2602=\"\",B2602=\"\"),\"\",VLOOKUP(A2602&\"_\"&B2602,Lookups!$E:$F,2,FALSE))","v":""},""]
[null,null,null,null,null,"",null,"",null,null,"","",{"$f":"IF(OR(A2603=\"\",B2603=\"\"),\"\",VLOOKUP(A2603&\"_\"&B2603,Lookups!$E:$F,2,FALSE))","v":""},""]
[null,null,null,null,null,"",null,"",null,null,"","",{"$f":"IF(OR(A2604=\"\",B2604=\"\"),\"\",VLOOKUP(A2604&\"_\"&B2604,Lookups!$E:$F,2,FALSE))","v":""},""]
[null,null,null,null,null,"",null,"",null,null,"","",{"$f":"IF(OR(A2605=\"\",B2605=\"\"),\"\",VLOOKUP(A2605&\"_\"&B2605,Lookups!$E:$F,2,FALSE))","v":""},""]
[null,null,null,null,null,"",null,"",null,null,"","",{"$f":"IF(OR(A2606=\"\",B2606=\"\"),\"\",VLOOKUP(A2606&\"_\"&B2606,Lookups!$E:$F,2,FALSE))","v":""},""]
[null,null,null,null,null,"",null,"",null,null,"","",{"$f":"IF(OR(A2607=\"\",B2607=\"\"),\"\",VLOOKUP(A2607&\"_\"&B2607,Lookups!$E:$F,2,FALSE))","v":""},""]
[null,null,null,null,null,"",null,"",null,null,"","",{"$f":"IF(OR(A2608=\"\",B2608=\"\"),\"\",VLOOKUP(A2608&\"_\"&B2608,Lookups!$E:$F,2,FALSE))","v":""},""]
[null,null,null,null,null,"",null,"",null,null,"","",{"$f":"IF(OR(A2609=\"\",B2609=\"\"),\"\",VLOOKUP(A2609&\"_\"&B2609,Lookups!$E:$F,2,FALSE))","v":""},""]
[null,null,null,null,null,"",null,"",null,null,"","",{"$f":"IF(OR(A2610=\"\",B2610=\"\"),\"\",VLOOKUP(A2610&\"_\"&B2610,Lookups!$E:$F,2,FALSE))","v":""},""]
[null,null,null,null,null,"",null,"",null,null,"","",{"$f":"IF(OR(A2611=\"\",B2611=\"\"),\"\",VLOOKUP(A2611&\"_\"&B2611,Lookups!$E:$F,2,FALSE))","v":""},""]
[null,null,null,null,null,"",null,"",null,null,"","",{"$f":"IF(OR(A2612=\"\",B2612=\"\"),\"\",VLOOKUP(A2612&\"_\"&B2612,Lookups!$E:$F,2,FALSE))","v":""},""]
[null,null,null,null,null,"",null,"",null,null,"","",{"$f":"IF(OR(A2613=\"\",B2613=\"\"),\"\",VLOOKUP(A2613&\"_\"&B2613,Lookups!$E:$F,2,FALSE))","v":""},""]
[null,null,null,null,null,"",null,"",null,null,"","",{"$f":"IF(OR(A2614=\"\",B2614=\"\"),\"\",VLOOKUP(A2614&\"_\"&B2614,Lookups!$E:$F,2,FALSE))","v":""},""]
[null,null,null,null,null,"",null,"",null,null,"","",{"$f":"IF(OR(A2615=\"\",B2615=\"\"),\"\",VLOOKUP(A2615&\"_\"&B2615,Lookups!$E:$F,2,FALSE))","v":""},""]
[null,null,null,null,null,"",null,"",null,null,"","",{"$f":"IF(OR(A2616=\"\",B2616=\"\"),\"\",VLOOKUP(A2616&\"_\"&B2616,Lookups!$E:$F,2,FALSE))","v":""},""]
[null,null,null,null,null,"",null,"",null,null,"","",{"$f":"IF(OR(A2617=\"\",B2617=\"\"),\"\",VLOOKUP(A2617&\"_\"&B2617,Lookups!$E:$F,2,FALSE))","v":""},""]
[null,null,null,null,null,"",null,"",null,null,"","",{"$f":"IF(OR(A2618=\"\",B2618=\"\"),\"\",VLOOKUP(A2618&\"_\"&B2618,Lookups!$E:$F,2,FALSE))","v":""},""]
[null,null,null,null,null,"",null,"",null,null,"","",{"$f":"IF(OR(A2619=\"\",B2619=\"\"),\"\",VLOOKUP(A2619&\"_\"&B2619,Lookups!$E:$F,2,FALSE))","v":""},""]
[null,null,null,null,null,"",null,"",null,null,"","",{"$f":"IF(OR(A2620=\"\",B2620=\"\"),\"\",VLOOKUP(A2620&\"_\"&B2620,Lookups!$E:$F,2,FALSE))","v":""},""]
[null,null,null,null,null,"",null,"",null,null,"","",{"$f":"IF(OR(A2621=\"\",B2621=\"\"),\"\",VLOOKUP(A2621&\"_\"&B2621,Lookups!$E:$F,2,FALSE))","v":""},""]
[null,null,null,null,null,"",null,"",null,null,"","",{"$f":"IF(OR(A2622=\"\",B2622=\"\"),\"\",VLOOKUP(A2622&\"_\"&B2622,Lookups!$E:$F,2,FALSE))","v":""},""]
[null,null,null,null,null,"",null,"",null,null,"","",{"$f":"IF(OR(A2623=\"\",B2623=\"\"),\"\",VLOOKUP(A2623&\"_\"&B2623,Lookups!$E:$F,2,FALSE))","v":""},""]
[null,null,null,null,null,"",null,"",null,null,"","",{"$f":"IF(OR(A2624=\"\",B2624=\"\"),\"\",VLOOKUP(A2624&\"_\"&B2624,Lookups!$E:$F,2,FALSE))","v":""},""]
[null,null,null,null,null,"",null,"",null,null,"","",{"$f":"IF(OR(A2625=\"\",B2625=\"\"),\"\",VLOOKUP(A2625&\"_\"&B2625,Lookups!$E:$F,2,FALSE))","v":""},""]
[null,null,null,null,null,"",null,"",null,null,"","",{"$f":"IF(OR(A2626=\"\",B2626=\"\"),\"\",VLOOKUP(A2626&\"_\"&B2626,Lookups!$E:$F,2,FALSE))","v":""},""]
[null,null,null,null,null,"",null,"",null,null,"","",{"$f":"IF(OR(A2627=\"\",B2627=\"\"),\"\",VLOOKUP(A2627&\"_\"&B2627,Lookups!$E:$F,2,FALSE))","v":""},""]
[null,null,null,null,null,{"$f":"IF(OR(D2628=\"\",E2628=\"\"),\"\",ROUND((E2628-D2628)*24,2))","v":""},null,{"$f":"IF(F2628=\"\",\"\",IF(G2628<>\"\",F2628*G2628,F2628))","v":""},null,null,{"$f":"IF(AND(H2628<>\"\",I2628=\"Paid\"),H2628,\"\")","v":""},{"$f":"IF(H2628=\"\",\"\",IF(K2628=\"\",H2628,H2628-K2628))","v":""},{"$f":"IF(OR(A2628=\"\",B2628=\"\"),\"\",VLOOKUP(A2628&\"_\"&B2628,Lookups!$E:$F,2,FALSE))","v":""},{"$f":"IF(AND(K2628=\"\",L2628=\"\"),\"\",IF(K2628=\"\",L2628*M2628,SUM(K2628,L2628)*M2628))","v":""}]
[null,null,null,null,null,"",null,"",null,null,"","",{"$f":"IF(OR(A2629=\"\",B2629=\"\"),\"\",VLOOKUP(A2629&\"_\"&B2629,Lookups!$E:$F,2,FALSE))","v":""},""]
[null,null,null,null,null,"",null,"",null,null,"","",{"$f":"IF(OR(A2630=\"\",B2630=\"\"),\"\",VLOOKUP(A2630&\"_\"&B2630,Lookups!$E:$F,2,FALSE))","v":""},""]
[null,null,null,null,null,"",null,"",null,null,"","",{"$f":"IF(OR(A2631=\"\",B2631=\"\"),\"\",VLOOKUP(A2631&\"_\"&B2631,Lookups!$E:$F,2,FALSE))","v":""},""]
[null,null,null,null,null,"",null,"",null,null,"","",{"$f":"IF(OR(A2632=\"\",B2632=\"\"),\"\",VLOOKUP(A2632&\"_\"&B2632,Lookups!$E:$F,2,FALSE))","v":""},""]
[null,null,null,null,null,"",null,"",null,null,"","",{"$f":"IF(OR(A2633=\"\",B2633=\"\"),\"\",VLOOKUP(A2633&\"_\"&B2633,Lookups!$E:$F,2,FALSE))","v":""},""]
[null,null,null,null,null,"",null,"",null,null,"","",{"$f":"IF(OR(A2634=\"\",B2634=\"\"),\"\",VLOOKUP(A2634&\"_\"&B2634,Lookups!$E:$F,2,FALSE))","v":""},""]
[null,null,null,null,null,"",null,"",null,null,"","",{"$f":"IF(OR(A2635=\"\",B2635=\"\"),\"\",VLOOKUP(A2635&\"_\"&B2635,Lookups!$E:$F,2,FALSE))","v":""},""]
[null,null,null,null,null,"",null,"",null,null,"","",{"$f":"IF(OR(A2636=\"\",B2636=\"\"),\"\",VLOOKUP(A2636&\"_\"&B2636,Lookups!$E:$F,2,FALSE))","v":""},""]
[null,null,null,null,null,"",null,"",null,null,"","",{"$f":"IF(OR(A2637=\"\",B2637=\"\"),\"\",VLOOKUP(A2637&\"_\"&B2637,Lookups!$E:$F,2,FALSE))","v":""},""]
[null,null,null,null,null,"",null,"",null,null,"","",{"$f":"IF(OR(A2638=\"\",B2638=\"\"),\"\",VLOOKUP(A2638&\"_\"&B2638,Lookups!$E:$F,2,FALSE))","v":""},""]
[null,null,null,null,null,"",null,"",null,null,"","",{"$f":"IF(OR(A2639=\"\",B2639=\"\"),\"\",VLOOKUP(A2639&\"_\"&B2639,Lookups!$E:$F,2,FALSE))","v":""},""]
[null,null,null,null,null,"",null,"",null,null,"","",{"$f":"IF(OR(A2640=\"\",B2640=\"\"),\"\",VLOOKUP(A2640&\"_\"&B2640,Lookups!$E:$F,2,FALSE))","v":""},""]
[null,null,null,null,null,"",null,"",null,null,"","",{"$f":"IF(OR(A2641=\"\",B2641=\"\"),\"\",VLOOKUP(A2641&\"_\"&B2641,Lookups!$E:$F,2,FALSE))","v":""},""]
[null,null,null,null,null,"",null,"",null,null,"","",{"$f":"IF(OR(A2642=\"\",B2642=\"\"),\"\",VLOOKUP(A2642&\"_\"&B2642,Lookups!$E:$F,2,FALSE))","v":""},""]
[null,null,null,null,null,"",null,"",null,null,"","",{"$f":"IF(OR(A2643=\"\",B2643=\"\"),\"\",VLOOKUP(A2643&\"_\"&B2643,Lookups!$E:$F,2,FALSE))","v":""},""]
[null,null,null,null,null,"",null,"",null,null,"","",{"$f":"IF(OR(A2644=\"\",B2644=\"\"),\"\",VLOOKUP(A2644&\"_\"&B2644,Lookups!$E:$F,2,FALSE))","v":""},""]
[null,null,null,null,null,"",null,"",null,null,"","",{"$f":"IF(OR(A2645=\"\",B2645=\"\"),\"\",VLOOKUP(A2645&\"_\"&B2645,Lookups!$E:$F,2,FALSE))","v":""},""]
[null,null,null,null,null,"",null,"",null,null,"","",{"$f":"IF(OR(A2646=\"\",B2646=\"\"),\"\",VLOOKUP(A2646&\"_\"&B2646,Lookups!$E:$F,2,FALSE))","v":""},""]
[null,null,null,null,null,"",null,"",null,null,"","",{"$f":"IF(OR(A2647=\"\",B2647=\"\"),\"\",VLOOKUP(A2647&\"_\"&B2647,Lookups!$E:$F,2,FALSE))","v":""},""]
[null,null,null,null,null,"",null,"",null,null,"","",{"$f":"IF(OR(A2648=\"\",B2648=\"\"),\"\",VLOOKUP(A2648&\"_\"&B2648,Lookups!$E:$F,2,FALSE))","v":""},""]
[null,null,null,null,null,"",null,"",null,null,"","",{"$f":"IF(OR(A2649=\"\",B2649=\"\"),\"\",VLOOKUP(A2649&\"_\"&B2649,Lookups!$E:$F,2,FALSE))","v":""},""]
[null,null,null,null,null,"",null,"",null,null,"","",{"$f":"IF(OR(A2650=\"\",B2650=\"\"),\"\",VLOOKUP(A2650&\"_\"&B2650,Lookups!$E:$F,2,FALSE))","v":""},""]
[null,null,null,null,null,"",null,"",null,null,"","",{"$f":"IF(OR(A2651=\"\",B2651=\"\"),\"\",VLOOKUP(A2651&\"_\"&B2651,Lookups!$E:$F,2,FALSE))","v":""},""]
[null,null,null,null,null,"",null,"",null,null,"","",{"$f":"IF(OR(A2652=\"\",B2652=\"\"),\"\",VLOOKUP(A2652&\"_\"&B2652,Lookups!$E:$F,2,FALSE))","v":""},""]
[null,null,null,null,null,"",null,"",null,null,"","",{"$f":"IF(OR(A2653=\"\",B2653=\"\"),\"\",VLOOKUP(A2653&\"_\"&B2653,Lookups!$E:$F,2,FALSE))","v":""},""]
[null,null,null,null,null,"",null,"",null,null,"","",{"$f":"IF(OR(A2654=\"\",B2654=\"\"),\"\",VLOOKUP(A2654&\"_\"&B2654,Lookups!$E:$F,2,FALSE))","v":""},""]
[null,null,null,null,null,"",null,"",null,null,"","",{"$f":"IF(OR(A2655=\"\",B2655=\"\"),\"\",VLOOKUP(A2655&\"_\"&B2655,Lookups!$E:$F,2,FALSE))","v":""},""]
[null,null,null,null,null,"",null,"",null,null,"","",{"$f":"IF(OR(A2656=\"\",B2656=\"\"),\"\",VLOOKUP(A2656&\"_\"&B2656,Lookups!$E:$F,2,FALSE))","v":""},""]
[null,null,null,null,null,"",null,"",null,null,"","",{"$f":"IF(OR(A2657=\"\",B2657=\"\"),\"\",VLOOKUP(A2657&\"_\"&B2657,Lookups!$E:$F,2,FALSE))","v":""},""]
[null,null,null,null,null,"",null,"",null,null,"","",{"$f":"IF(OR(A2658=\"\",B2658=\"\"),\"\",VLOOKUP(A2658&\"_\"&B2658,Lookups!$E:$F,2,FALSE))","v":""},""]
[null,null,null,null,null,"",null,"",null,null,"","",{"$f":"IF(OR(A2659=\"\",B2659=\"\"),\"\",VLOOKUP(A2659&\"_\"&B2659,Lookups!$E:$F,2,FALSE))","v":""},""]
[null,null,null,null,null,"",null,"",null,null,"","",{"$f":"IF(OR(A2660=\"\",B2660=\"\"),\"\",VLOOKUP(A2660&\"_\"&B2660,Lookups!$E:$F,2,FALSE))","v":""},""]
[null,null,null,null,null,"",null,"",null,null,"","",{"$f":"IF(OR(A2661=\"\",B2661=\"\"),\"\",VLOOKUP(A2661&\"_\"&B2661,Lookups!$E:$F,2,FALSE))","v":""},""]
[null,null,null,null,null,"",null,"",null,null,"","",{"$f":"IF(OR(A2662=\"\",B2662=\"\"),\"\",VLOOKUP(A2662&\"_\"&B2662,Lookups!$E:$F,2,FALSE))","v":""},""]
[null,null,null,null,null,"",null,"",null,null,"","",{"$f":"IF(OR(A2663=\"\",B2663=\"\"),\"\",VLOOKUP(A2663&\"_\"&B2663,Lookups!$E:$F,2,FALSE))","v":""},""]
[null,null,null,null,null,"",null,"",null,null,"","",{"$f":"IF(OR(A2664=\"\",B2664=\"\"),\"\",VLOOKUP(A2664&\"_\"&B2664,Lookups!$E:$F,2,FALSE))","v":""},""]
[null,null,null,null,null,"",null,"",null,null,"","",{"$f":"IF(OR(A2665=\"\",B2665=\"\"),\"\",VLOOKUP(A2665&\"_\"&B2665,Lookups!$E:$F,2,FALSE))","v":""},""]
[null,null,null,null,null,"",null,"",null,null,"","",{"$f":"IF(OR(A2666=\"\",B2666=\"\"),\"\",VLOOKUP(A2666&\"_\"&B2666,Lookups!$E:$F,2,FALSE))","v":""},""]
[null,null,null,null,null,"",null,"",null,null,"","",{"$f":"IF(OR(A2667=\"\",B2667=\"\"),\"\",VLOOKUP(A2667&\"_\"&B2667,Lookups!$E:$F,2,FALSE))","v":""},""]
[null,null,null,null,null,"",null,"",null,null,"","",{"$f":"IF(OR(A2668=\"\",B2668=\"\"),\"\",VLOOKUP(A2668&\"_\"&B2668,Lookups!$E:$F,2,FALSE))","v":""},""]
[null,null,null,null,null,"",null,"",null,null,"","",{"$f":"IF(OR(A2669=\"\",B2669=\"\"),\"\",VLOOKUP(A2669&\"_\"&B2669,Lookups!$E:$F,2,FALSE))","v":""},""]
[null,null,null,null,null,"",null,"",null,null,"","",{"$f":"IF(OR(A2670=\"\",B2670=\"\"),\"\",VLOOKUP(A2670&\"_\"&B2670,Lookups!$E:$F,2,FALSE))","v":""},""]
[null,null,null,null,null,"",null,"",null,null,"","",{"$f":"IF(OR(A2671=\"\",B2671=\"\"),\"\",VLOOKUP(A2671&\"_\"&B2671,Lookups!$E:$F,2,FALSE))","v":""},""]
[null,null,null,null,null,"",null,"",null,null,"","",{"$f":"IF(OR(A2672=\"\",B2672=\"\"),\"\",VLOOKUP(A2672&\"_\"&B2672,Lookups!$E:$F,2,FALSE))","v":""},""]
[null,null,null,null,null,"",null,"",null,null,"","",{"$f":"IF(OR(A2673=\"\",B2673=\"\"),\"\",VLOOKUP(A2673&\"_\"&B2673,Lookups!$E:$F,2,FALSE))","v":""},""]
[null,null,null,null,null,"",null,"",null,null,"","",{"$f":"IF(OR(A2674=\"\",B2674=\"\"),\"\",VLOOKUP(A2674&\"_\"&B2674,Lookups!$E:$F,2,FALSE))","v":""},""]
[null,null,null,null,null,"",null,"",null,null,"","",{"$f":"IF(OR(A2675=\"\",B2675=\"\"),\"\",VLOOKUP(A2675&\"_\"&B2675,Lookups!$E:$F,2,FALSE))","v":""},""]
[null,null,null,null,null,"",null,"",null,null,"","",{"$f":"IF(OR(A2676=\"\",B2676=\"\"),\"\",VLOOKUP(A2676&\"_\"&B2676,Lookups!$E:$F,2,FALSE))","v":""},""]
[null,null,null,null,null,"",null,"",null,null,"","",{"$f":"IF(OR(A2677=\"\",B2677=\"\"),\"\",VLOOKUP(A2677&\"_\"&B2677,Lookups!$E:$F,2,FALSE))","v":""},""]
[null,null,null,null,null,"",null,"",null,null,"","",{"$f":"IF(OR(A2678=\"\",B2678=\"\"),\"\",VLOOKUP(A2678&\"_\"&B2678,Lookups!$E:$F,2,FALSE))","v":""},""]
[null,null,null,null,null,"",null,"",null,null,"","",{"$f":"IF(OR(A2679=\"\",B2679=\"\"),\"\",VLOOKUP(A2679&\"_\"&B2679,Lookups!$E:$F,2,FALSE))","v":""},""]
[null,null,null,null,null,"",null,"",null,null,"","",{"$f":"IF(OR(A2680=\"\",B2680=\"\"),\"\",VLOOKUP(A2680&\"_\"&B2680,Lookups!$E:$F,2,FALSE))","v":""},""]
[null,null,null,null,null,"",null,"",null,null,"","",{"$f":"IF(OR(A2681=\"\",B2681=\"\"),\"\",VLOOKUP(A2681&\"_\"&B2681,Lookups!$E:$F,2,FALSE))","v":""},""]
[null,null,null,null,null,"",null,"",null,null,"","",{"$f":"IF(OR(A2682=\"\",B2682=\"\"),\"\",VLOOKUP(A2682&\"_\"&B2682,Lookups!$E:$F,2,FALSE))","v":""},""]
[null,null,null,null,null,"",null,"",null,null,"","",{"$f":"IF(OR(A2683=\"\",B2683=\"\"),\"\",VLOOKUP(A2683&\"_\"&B2683,Lookups!$E:$F,2,FALSE))","v":""},""]
[null,null,null,null,null,"",null,"",null,null,"","",{"$f":"IF(OR(A2684=\"\",B2684=\"\"),\"\",VLOOKUP(A2684&\"_\"&B2684,Lookups!$E:$F,2,FALSE))","v":""},""]
[null,null,null,null,null,"",null,"",null,null,"","",{"$f":"IF(OR(A2685=\"\",B2685=\"\"),\"\",VLOOKUP(A2685&\"_\"&B2685,Lookups!$E:$F,2,FALSE))","v":""},""]
[null,null,null,null,null,"",null,"",null,null,"","",{"$f":"IF(OR(A2686=\"\",B2686=\"\"),\"\",VLOOKUP(A2686&\"_\"&B2686,Lookups!$E:$F,2,FALSE))","v":""},""]
[null,null,null,null,null,"",null,"",null,null,"","",{"$f":"IF(OR(A2687=\"\",B2687=\"\"),\"\",VLOOKUP(A2687&\"_\"&B2687,Lookups!$E:$F,2,FALSE))","v":""},""]
[null,null,null,null,null,"",null,"",null,null,"","",{"$f":"IF(OR(A2688=\"\",B2688=\"\"),\"\",VLOOKUP(A2688&\"_\"&B2688,Lookups!$E:$F,2,FALSE))","v":""},""]
[null,null,null,null,null,"",null,"",null,null,"","",{"$f":"IF(OR(A2689=\"\",B2689=\"\"),\"\",VLOOKUP(A2689&\"_\"&B2689,Lookups!$E:$F,2,FALSE))","v":""},""]
[null,null,null,null,null,"",null,"",null,null,"","",{"$f":"IF(OR(A2690=\"\",B2690=\"\"),\"\",VLOOKUP(A2690&\"_\"&B2690,Lookups!$E:$F,2,FALSE))","v":""},""]
[null,null,null,null,null,"",null,"",null,null,"","",{"$f":"IF(OR(A2691=\"\",B2691=\"\"),\"\",VLOOKUP(A2691&\"_\"&B2691,Lookups!$E:$F,2,FALSE))","v":""},""]
[null,null,null,null,null,{"$f":"IF(OR(D2692=\"\",E2692=\"\"),\"\",ROUND((E2692-D2692)*24,2))","v":""},null,{"$f":"IF(F2692=\"\",\"\",IF(G2692<>\"\",F2692*G2692,F2692))","v":""},null,null,{"$f":"IF(AND(H2692<>\"\",I2692=\"Paid\"),H2692,\"\")","v":""},{"$f":"IF(H2692=\"\",\"\",IF(K2692=\"\",H2692,H2692-K2692))","v":""},{"$f":"IF(OR(A2692=\"\",B2692=\"\"),\"\",VLOOKUP(A2692&\"_\"&B2692,Lookups!$E:$F,2,FALSE))","v":""},{"$f":"IF(AND(K2692=\"\",L2692=\"\"),\"\",IF(K2692=\"\",L2692*M2692,SUM(K2692,L2692)*M2692))","v":""}]
[null,null,null,null,null,"",null,"",null,null,"","",{"$f":"IF(OR(A2693=\"\",B2693=\"\"),\"\",VLOOKUP(A2693&\"_\"&B2693,Lookups!$E:$F,2,FALSE))","v":""},""]
[null,null,null,null,null,"",null,"",null,null,"","",{"$f":"IF(OR(A2694=\"\",B2694=\"\"),\"\",VLOOKUP(A2694&\"_\"&B2694,Lookups!$E:$F,2,FALSE))","v":""},""]
[null,null,null,null,null,"",null,"",null,null,"","",{"$f":"IF(OR(A2695=\"\",B2695=\"\"),\"\",VLOOKUP(A2695&\"_\"&B2695,Lookups!$E:$F,2,FALSE))","v":""},""]
[null,null,null,null,null,"",null,"",null,null,"","",{"$f":"IF(OR(A2696=\"\",B2696=\"\"),\"\",VLOOKUP(A2696&\"_\"&B2696,Lookups!$E:$F,2,FALSE))","v":""},""]
[null,null,null,null,null,"",null,"",null,null,"","",{"$f":"IF(OR(A2697=\"\",B2697=\"\"),\"\",VLOOKUP(A2697&\"_\"&B2697,Lookups!$E:$F,2,FALSE))","v":""},""]
[null,null,null,null,null,"",null,"",null,null,"","",{"$f":"IF(OR(A2698=\"\",B2698=\"\"),\"\",VLOOKUP(A2698&\"_\"&B2698,Lookups!$E:$F,2,FALSE))","v":""},""]
[null,null,null,null,null,"",null,"",null,null,"","",{"$f":"IF(OR(A2699=\"\",B2699=\"\"),\"\",VLOOKUP(A2699&\"_\"&B2699,Lookups!$E:$F,2,FALSE))","v":""},""]
[null,null,null,null,null,"",null,"",null,null,"","",{"$f":"IF(OR(A2700=\"\",B2700=\"\"),\"\",VLOOKUP(A2700&\"_\"&B2700,Lookups!$E:$F,2,FALSE))","v":""},""]
[null,null,null,null,null,"",null,"",null,null,"","",{"$f":"IF(OR(A2701=\"\",B2701=\"\"),\"\",VLOOKUP(A2701&\"_\"&B2701,Lookups!$E:$F,2,FALSE))","v":""},""]
[null,null,null,null,null,"",null,"",null,null,"","",{"$f":"IF(OR(A2702=\"\",B2702=\"\"),\"\",VLOOKUP(A2702&\"_\"&B2702,Lookups!$E:$F,2,FALSE))","v":""},""]
[null,null,null,null,null,"",null,"",null,null,"","",{"$f":"IF(OR(A2703=\"\",B2703=\"\"),\"\",VLOOKUP(A2703&\"_\"&B2703,Lookups!$E:$F,2,FALSE))","v":""},""]
[null,null,null,null,null,"",null,"",null,null,"","",{"$f":"IF(OR(A2704=\"\",B2704=\"\"),\"\",VLOOKUP(A2704&\"_\"&B2704,Lookups!$E:$F,2,FALSE))","v":""},""]
[null,null,null,null,null,"",null,"",null,null,"","",{"$f":"IF(OR(A2705=\"\",B2705=\"\"),\"\",VLOOKUP(A2705&\"_\"&B2705,Lookups!$E:$F,2,FALSE))","v":""},""]
[null,null,null,null,null,"",null,"",null,null,"","",{"$f":"IF(OR(A2706=\"\",B2706=\"\"),\"\",VLOOKUP(A2706&\"_\"&B2706,Lookups!$E:$F,2,FALSE))","v":""},""]
[null,null,null,null,null,"",null,"",null,null,"","",{"$f":"IF(OR(A2707=\"\",B2707=\"\"),\"\",VLOOKUP(A2707&\"_\"&B2707,Lookups!$E:$F,2,FALSE))","v":""},""]
[null,null,null,null,null,"",null,"",null,null,"","",{"$f":"IF(OR(A2708=\"\",B2708=\"\"),\"\",VLOOKUP(A2708&\"_\"&B2708,Lookups!$E:$F,2,FALSE))","v":""},""]
[null,null,null,null,null,"",null,"",null,null,"","",{"$f":"IF(OR(A2709=\"\",B2709=\"\"),\"\",VLOOKUP(A2709&\"_\"&B2709,Lookups!$E:$F,2,FALSE))","v":""},""]
[null,null,null,null,null,"",null,"",null,null,"","",{"$f":"IF(OR(A2710=\"\",B2710=\"\"),\"\",VLOOKUP(A2710&\"_\"&B2710,Lookups!$E:$F,2,FALSE))","v":""},""]
[null,null,null,null,null,"",null,"",null,null,"","",{"$f":"IF(OR(A2711=\"\",B2711=\"\"),\"\",VLOOKUP(A2711&\"_\"&B2711,Lookups!$E:$F,2,FALSE))","v":""},""]
[null,null,null,null,null,"",null,"",null,null,"","",{"$f":"IF(OR(A2712=\"\",B2712=\"\"),\"\",VLOOKUP(A2712&\"_\"&B2712,Lookups!$E:$F,2,FALSE))","v":""},""]
[null,null,null,null,null,"",null,"",null,null,"","",{"$f":"IF(OR(A2713=\"\",B2713=\"\"),\"\",VLOOKUP(A2713&\"_\"&B2713,Lookups!$E:$F,2,FALSE))","v":""},""]
[null,null,null,null,null,"",null,"",null,null,"","",{"$f":"IF(OR(A2714=\"\",B2714=\"\"),\"\",VLOOKUP(A2714&\"_\"&B2714,Lookups!$E:$F,2,FALSE))","v":""},""]
[null,null,null,null,null,"",null,"",null,null,"","",{"$f":"IF(OR(A2715=\"\",B2715=\"\"),\"\",VLOOKUP(A2715&\"_\"&B2715,Lookups!$E:$F,2,FALSE))","v":""},""]
[null,null,null,null,null,"",null,"",null,null,"","",{"$f":"IF(OR(A2716=\"\",B2716=\"\"),\"\",VLOOKUP(A2716&\"_\"&B2716,Lookups!$E:$F,2,FALSE))","v":""},""]
[null,null,null,null,null,"",null,"",null,null,"","",{"$f":"IF(OR(A2717=\"\",B2717=\"\"),\"\",VLOOKUP(A2717&\"_\"&B2717,Lookups!$E:$F,2,FALSE))","v":""},""]
[null,null,null,null,null,"",null,"",null,null,"","",{"$f":"IF(OR(A2718=\"\",B2718=\"\"),\"\",VLOOKUP(A2718&\"_\"&B2718,Lookups!$E:$F,2,FALSE))","v":""},""]
[null,null,null,null,null,"",null,"",null,null,"","",{"$f":"IF(OR(A2719=\"\",B2719=\"\"),\"\",VLOOKUP(A2719&\"_\"&B2719,Lookups!$E:$F,2,FALSE))","v":""},""]
[null,null,null,null,null,"",null,"",null,null,"","",{"$f":"IF(OR(A2720=\"\",B2720=\"\"),\"\",VLOOKUP(A2720&\"_\"&B2720,Lookups!$E:$F,2,FALSE))","v":""},""]
[null,null,null,null,null,"",null,"",null,null,"","",{"$f":"IF(OR(A2721=\"\",B2721=\"\"),\"\",VLOOKUP(A2721&\"_\"&B2721,Lookups!$E:$F,2,FALSE))","v":""},""]
[null,null,null,null,null,"",null,"",null,null,"","",{"$f":"IF(OR(A2722=\"\",B2722=\"\"),\"\",VLOOKUP(A2722&\"_\"&B2722,Lookups!$E:$F,2,FALSE))","v":""},""]
[null,null,null,null,null,"",null,"",null,null,"","",{"$f":"IF(OR(A2723=\"\",B2723=\"\"),\"\",VLOOKUP(A2723&\"_\"&B2723,Lookups!$E:$F,2,FALSE))","v":""},""]
[null,null,null,null,null,"",null,"",null,null,"","",{"$f":"IF(OR(A2724=\"\",B2724=\"\"),\"\",VLOOKUP(A2724&\"_\"&B2724,Lookups!$E:$F,2,FALSE))","v":""},""]
[null,null,null,null,null,"",null,"",null,null,"","",{"$f":"IF(OR(A2725=\"\",B2725=\"\"),\"\",VLOOKUP(A2725&\"_\"&B2725,Lookups!$E:$F,2,FALSE))","v":""},""]
[null,null,null,null,null,"",null,"",null,null,"","",{"$f":"IF(OR(A2726=\"\",B2726=\"\"),\"\",VLOOKUP(A2726&\"_\"&B2726,Lookups!$E:$F,2,FALSE))","v":""},""]
[null,null,null,null,null,"",null,"",null,null,"","",{"$f":"IF(OR(A2727=\"\",B2727=\"\"),\"\",VLOOKUP(A2727&\"_\"&B2727,Lookups!$E:$F,2,FALSE))","v":""},""]
[null,null,null,null,null,"",null,"",null,null,"","",{"$f":"IF(OR(A2728=\"\",B2728=\"\"),\"\",VLOOKUP(A2728&\"_\"&B2728,Lookups!$E:$F,2,FALSE))","v":""},""]
[null,null,null,null,null,"",null,"",null,null,"","",{"$f":"IF(OR(A2729=\"\",B2729=\"\"),\"\",VLOOKUP(A2729&\"_\"&B2729,Lookups!$E:$F,2,FALSE))","v":""},""]
[null,null,null,null,null,"",null,"",null,null,"","",{"$f":"IF(OR(A2730=\"\",B2730=\"\"),\"\",VLOOKUP(A2730&\"_\"&B2730,Lookups!$E:$F,2,FALSE))","v":""},""]
[null,null,null,null,null,"",null,"",null,null,"","",{"$f":"IF(OR(A2731=\"\",B2731=\"\"),\"\",VLOOKUP(A2731&\"_\"&B2731,Lookups!$E:$F,2,FALSE))","v":""},""]
[null,null,null,null,null,"",null,"",null,null,"","",{"$f":"IF(OR(A2732=\"\",B2732=\"\"),\"\",VLOOKUP(A2732&\"_\"&B2732,Lookups!$E:$F,2,FALSE))","v":""},""]
[null,null,null,null,null,"",null,"",null,null,"","",{"$f":"IF(OR(A2733=\"\",B2733=\"\"),\"\",VLOOKUP(A2733&\"_\"&B2733,Lookups!$E:$F,2,FALSE))","v":""},""]
[null,null,null,null,null,"",null,"",null,null,"","",{"$f":"IF(OR(A2734=\"\",B2734=\"\"),\"\",VLOOKUP(A2734&\"_\"&B2734,Lookups!$E:$F,2,FALSE))","v":""},""]
[null,null,null,null,null,"",null,"",null,null,"","",{"$f":"IF(OR(A2735=\"\",B2735=\"\"),\"\",VLOOKUP(A2735&\"_\"&B2735,Lookups!$E:$F,2,FALSE))","v":""},""]
[null,null,null,null,null,"",null,"",null,null,"","",{"$f":"IF(OR(A2736=\"\",B2736=\"\"),\"\",VLOOKUP(A2736&\"_\"&B2736,Lookups!$E:$F,2,FALSE))","v":""},""]
[null,null,null,null,null,"",null,"",null,null,"","",{"$f":"IF(OR(A2737=\"\",B2737=\"\"),\"\",VLOOKUP(A2737&\"_\"&B2737,Lookups!$E:$F,2,FALSE))","v":""},""]
[null,null,null,null,null,"",null,"",null,null,"","",{"$f":"IF(OR(A2738=\"\",B2738=\"\"),\"\",VLOOKUP(A2738&\"_\"&B2738,Lookups!$E:$F,2,FALSE))","v":""},""]
[null,null,null,null,null,"",null,"",null,null,"","",{"$f":"IF(OR(A2739=\"\",B2739=\"\"),\"\",VLOOKUP(A2739&\"_\"&B2739,Lookups!$E:$F,2,FALSE))","v":""},""]
[null,null,null,null,null,"",null,"",null,null,"","",{"$f":"IF(OR(A2740=\"\",B2740=\"\"),\"\",VLOOKUP(A2740&\"_\"&B2740,Lookups!$E:$F,2,FALSE))","v":""},""]
[null,null,null,null,null,"",null,"",null,null,"","",{"$f":"IF(OR(A2741=\"\",B2741=\"\"),\"\",VLOOKUP(A2741&\"_\"&B2741,Lookups!$E:$F,2,FALSE))","v":""},""]
[null,null,null,null,null,"",null,"",null,null,"","",{"$f":"IF(OR(A2742=\"\",B2742=\"\"),\"\",VLOOKUP(A2742&\"_\"&B2742,Lookups!$E:$F,2,FALSE))","v":""},""]
[null,null,null,null,null,"",null,"",null,null,"","",{"$f":"IF(OR(A2743=\"\",B2743=\"\"),\"\",VLOOKUP(A2743&\"_\"&B2743,Lookups!$E:$F,2,FALSE))","v":""},""]
[null,null,null,null,null,"",null,"",null,null,"","",{"$f":"IF(OR(A2744=\"\",B2744=\"\"),\"\",VLOOKUP(A2744&\"_\"&B2744,Lookups!$E:$F,2,FALSE))","v":""},""]
[null,null,null,null,null,"",null,"",null,null,"","",{"$f":"IF(OR(A2745=\"\",B2745=\"\"),\"\",VLOOKUP(A2745&\"_\"&B2745,Lookups!$E:$F,2,FALSE))","v":""},""]
[null,null,null,null,null,"",null,"",null,null,"","",{"$f":"IF(OR(A2746=\"\",B2746=\"\"),\"\",VLOOKUP(A2746&\"_\"&B2746,Lookups!$E:$F,2,FALSE))","v":""},""]
[null,null,null,null,null,"",null,"",null,null,"","",{"$f":"IF(OR(A2747=\"\",B2747=\"\"),\"\",VLOOKUP(A2747&\"_\"&B2747,Lookups!$E:$F,2,FALSE))","v":""},""]
[null,null,null,null,null,"",null,"",null,null,"","",{"$f":"IF(OR(A2748=\"\",B2748=\"\"),\"\",VLOOKUP(A2748&\"_\"&B2748,Lookups!$E:$F,2,FALSE))","v":""},""]
[null,null,null,null,null,"",null,"",null,null,"","",{"$f":"IF(OR(A2749=\"\",B2749=\"\"),\"\",VLOOKUP(A2749&\"_\"&B2749,Lookups!$E:$F,2,FALSE))","v":""},""]
[null,null,null,null,null,"",null,"",null,null,"","",{"$f":"IF(OR(A2750=\"\",B2750=\"\"),\"\",VLOOKUP(A2750&\"_\"&B2750,Lookups!$E:$F,2,FALSE))","v":""},""]
[null,null,null,null,null,"",null,"",null,null,"","",{"$f":"IF(OR(A2751=\"\",B2751=\"\"),\"\",VLOOKUP(A2751&\"_\"&B2751,Lookups!$E:$F,2,FALSE))","v":""},""]
[null,null,null,null,null,"",null,"",null,null,"","",{"$f":"IF(OR(A2752=\"\",B2752=\"\"),\"\",VLOOKUP(A2752&\"_\"&B2752,Lookups!$E:$F,2,FALSE))","v":""},""]
[null,null,null,null,null,"",null,"",null,null,"","",{"$f":"IF(OR(A2753=\"\",B2753=\"\"),\"\",VLOOKUP(A2753&\"_\"&B2753,Lookups!$E:$F,2,FALSE))","v":""},""]
[null,null,null,null,null,"",null,"",null,null,"","",{"$f":"IF(OR(A2754=\"\",B2754=\"\"),\"\",VLOOKUP(A2754&\"_\"&B2754,Lookups!$E:$F,2,FALSE))","v":""},""]
[null,null,null,null,null,"",null,"",null,null,"","",{"$f":"IF(OR(A2755=\"\",B2755=\"\"),\"\",VLOOKUP(A2755&\"_\"&B2755,Lookups!$E:$F,2,FALSE))","v":""},""]
[null,null,null,null,null,{"$f":"IF(OR(D2756=\"\",E2756=\"\"),\"\",ROUND((E2756-D2756)*24,2))","v":""},null,{"$f":"IF(F2756=\"\",\"\",IF(G2756<>\"\",F2756*G2756,F2756))","v":""},null,null,{"$f":"IF(AND(H2756<>\"\",I2756=\"Paid\"),H2756,\"\")","v":""},{"$f":"IF(H2756=\"\",\"\",IF(K2756=\"\",H2756,H2756-K2756))","v":""},{"$f":"IF(OR(A2756=\"\",B2756=\"\"),\"\",VLOOKUP(A2756&\"_\"&B2756,Lookups!$E:$F,2,FALSE))","v":""},{"$f":"IF(AND(K2756=\"\",L2756=\"\"),\"\",IF(K2756=\"\",L2756*M2756,SUM(K2756,L2756)*M2756))","v":""}]
[null,null,null,null,null,"",null,"",null,null,"","",{"$f":"IF(OR(A2757=\"\",B2757=\"\"),\"\",VLOOKUP(A2757&\"_\"&B2757,Lookups!$E:$F,2,FALSE))","v":""},""]
[null,null,null,null,null,"",null,"",null,null,"","",{"$f":"IF(OR(A2758=\"\",B2758=\"\"),\"\",VLOOKUP(A2758&\"_\"&B2758,Lookups!$E:$F,2,FALSE))","v":""},""]
[null,null,null,null,null,"",null,"",null,null,"","",{"$f":"IF(OR(A2759=\"\",B2759=\"\"),\"\",VLOOKUP(A2759&\"_\"&B2759,Lookups!$E:$F,2,FALSE))","v":""},""]
[null,null,null,null,null,"",null,"",null,null,"","",{"$f":"IF(OR(A2760=\"\",B2760=\"\"),\"\",VLOOKUP(A2760&\"_\"&B2760,Lookups!$E:$F,2,FALSE))","v":""},""]
[null,null,null,null,null,"",null,"",null,null,"","",{"$f":"IF(OR(A2761=\"\",B2761=\"\"),\"\",VLOOKUP(A2761&\"_\"&B2761,Lookups!$E:$F,2,FALSE))","v":""},""]
[null,null,null,null,null,"",null,"",null,null,"","",{"$f":"IF(OR(A2762=\"\",B2762=\"\"),\"\",VLOOKUP(A2762&\"_\"&B2762,Lookups!$E:$F,2,FALSE))","v":""},""]
[null,null,null,null,null,"",null,"",null,null,"","",{"$f":"IF(OR(A2763=\"\",B2763=\"\"),\"\",VLOOKUP(A2763&\"_\"&B2763,Lookups!$E:$F,2,FALSE))","v":""},""]
[null,null,null,null,null,"",null,"",null,null,"","",{"$f":"IF(OR(A2764=\"\",B2764=\"\"),\"\",VLOOKUP(A2764&\"_\"&B2764,Lookups!$E:$F,2,FALSE))","v":""},""]
[null,null,null,null,null,"",null,"",null,null,"","",{"$f":"IF(OR(A2765=\"\",B2765=\"\"),\"\",VLOOKUP(A2765&\"_\"&B2765,Lookups!$E:$F,2,FALSE))","v":""},""]
[null,null,null,null,null,"",null,"",null,null,"","",{"$f":"IF(OR(A2766=\"\",B2766=\"\"),\"\",VLOOKUP(A2766&\"_\"&B2766,Lookups!$E:$F,2,FALSE))","v":""},""]
[null,null,null,null,null,"",null,"",null,null,"","",{"$f":"IF(OR(A2767=\"\",B2767=\"\"),\"\",VLOOKUP(A2767&\"_\"&B2767,Lookups!$E:$F,2,FALSE))","v":""},""]
[null,null,null,null,null,"",null,"",null,null,"","",{"$f":"IF(OR(A2768=\"\",B2768=\"\"),\"\",VLOOKUP(A2768&\"_\"&B2768,Lookups!$E:$F,2,FALSE))","v":""},""]
[null,null,null,null,null,"",null,"",null,null,"","",{"$f":"IF(OR(A2769=\"\",B2769=\"\"),\"\",VLOOKUP(A2769&\"_\"&B2769,Lookups!$E:$F,2,FALSE))","v":""},""]
[null,null,null,null,null,"",null,"",null,null,"","",{"$f":"IF(OR(A2770=\"\",B2770=\"\"),\"\",VLOOKUP(A2770&\"_\"&B2770,Lookups!$E:$F,2,FALSE))","v":""},""]
[null,null,null,null,null,"",null,"",null,null,"","",{"$f":"IF(OR(A2771=\"\",B2771=\"\"),\"\",VLOOKUP(A2771&\"_\"&B2771,Lookups!$E:$F,2,FALSE))","v":""},""]
[null,null,null,null,null,"",null,"",null,null,"","",{"$f":"IF(OR(A2772=\"\",B2772=\"\"),\"\",VLOOKUP(A2772&\"_\"&B2772,Lookups!$E:$F,2,FALSE))","v":""},""]
[null,null,null,null,null,"",null,"",null,null,"","",{"$f":"IF(OR(A2773=\"\",B2773=\"\"),\"\",VLOOKUP(A2773&\"_\"&B2773,Lookups!$E:$F,2,FALSE))","v":""},""]
[null,null,null,null,null,"",null,"",null,null,"","",{"$f":"IF(OR(A2774=\"\",B2774=\"\"),\"\",VLOOKUP(A2774&\"_\"&B2774,Lookups!$E:$F,2,FALSE))","v":""},""]
[null,null,null,null,null,"",null,"",null,null,"","",{"$f":"IF(OR(A2775=\"\",B2775=\"\"),\"\",VLOOKUP(A2775&\"_\"&B2775,Lookups!$E:$F,2,FALSE))","v":""},""]
[null,null,null,null,null,"",null,"",null,null,"","",{"$f":"IF(OR(A2776=\"\",B2776=\"\"),\"\",VLOOKUP(A2776&\"_\"&B2776,Lookups!$E:$F,2,FALSE))","v":""},""]
[null,null,null,null,null,"",null,"",null,null,"","",{"$f":"IF(OR(A2777=\"\",B2777=\"\"),\"\",VLOOKUP(A2777&\"_\"&B2777,Lookups!$E:$F,2,FALSE))","v":""},""]
[null,null,null,null,null,"",null,"",null,null,"","",{"$f":"IF(OR(A2778=\"\",B2778=\"\"),\"\",VLOOKUP(A2778&\"_\"&B2778,Lookups!$E:$F,2,FALSE))","v":""},""]
[null,null,null,null,null,"",null,"",null,null,"","",{"$f":"IF(OR(A2779=\"\",B2779=\"\"),\"\",VLOOKUP(A2779&\"_\"&B2779,Lookups!$E:$F,2,FALSE))","v":""},""]
[null,null,null,null,null,"",null,"",null,null,"","",{"$f":"IF(OR(A2780=\"\",B2780=\"\"),\"\",VLOOKUP(A2780&\"_\"&B2780,Lookups!$E:$F,2,FALSE))","v":""},""]
[null,null,null,null,null,"",null,"",null,null,"","",{"$f":"IF(OR(A2781=\"\",B2781=\"\"),\"\",VLOOKUP(A2781&\"_\"&B2781,Lookups!$E:$F,2,FALSE))","v":""},""]
[null,null,null,null,null,"",null,"",null,null,"","",{"$f":"IF(OR(A2782=\"\",B2782=\"\"),\"\",VLOOKUP(A2782&\"_\"&B2782,Lookups!$E:$F,2,FALSE))","v":""},""]
[null,null,null,null,null,"",null,"",null,null,"","",{"$f":"IF(OR(A2783=\"\",B2783=\"\"),\"\",VLOOKUP(A2783&\"_\"&B2783,Lookups!$E:$F,2,FALSE))","v":""},""]
[null,null,null,null,null,"",null,"",null,null,"","",{"$f":"IF(OR(A2784=\"\",B2784=\"\"),\"\",VLOOKUP(A2784&\"_\"&B2784,Lookups!$E:$F,2,FALSE))","v":""},""]
[null,null,null,null,null,"",null,"",null,null,"","",{"$f":"IF(OR(A2785=\"\",B2785=\"\"),\"\",VLOOKUP(A2785&\"_\"&B2785,Lookups!$E:$F,2,FALSE))","v":""},""]
[null,null,null,null,null,"",null,"",null,null,"","",{"$f":"IF(OR(A2786=\"\",B2786=\"\"),\"\",VLOOKUP(A2786&\"_\"&B2786,Lookups!$E:$F,2,FALSE))","v":""},""]
[null,null,null,null,null,"",null,"",null,null,"","",{"$f":"IF(OR(A2787=\"\",B2787=\"\"),\"\",VLOOKUP(A2787&\"_\"&B2787,Lookups!$E:$F,2,FALSE))","v":""},""]
[null,null,null,null,null,"",null,"",null,null,"","",{"$f":"IF(OR(A2788=\"\",B2788=\"\"),\"\",VLOOKUP(A2788&\"_\"&B2788,Lookups!$E:$F,2,FALSE))","v":""},""]
[null,null,null,null,null,"",null,"",null,null,"","",{"$f":"IF(OR(A2789=\"\",B2789=\"\"),\"\",VLOOKUP(A2789&\"_\"&B2789,Lookups!$E:$F,2,FALSE))","v":""},""]
[null,null,null,null,null,"",null,"",null,null,"","",{"$f":"IF(OR(A2790=\"\",B2790=\"\"),\"\",VLOOKUP(A2790&\"_\"&B2790,Lookups!$E:$F,2,FALSE))","v":""},""]
[null,null,null,null,null,"",null,"",null,null,"","",{"$f":"IF(OR(A2791=\"\",B2791=\"\"),\"\",VLOOKUP(A2791&\"_\"&B2791,Lookups!$E:$F,2,FALSE))","v":""},""]
[null,null,null,null,null,"",null,"",null,null,"","",{"$f":"IF(OR(A2792=\"\",B2792=\"\"),\"\",VLOOKUP(A2792&\"_\"&B2792,Lookups!$E:$F,2,FALSE))","v":""},""]
[null,null,null,null,null,"",null,"",null,null,"","",{"$f":"IF(OR(A2793=\"\",B2793=\"\"),\"\",VLOOKUP(A2793&\"_\"&B2793,Lookups!$E:$F,2,FALSE))","v":""},""]
[null,null,null,null,null,"",null,"",null,null,"","",{"$f":"IF(OR(A2794=\"\",B2794=\"\"),\"\",VLOOKUP(A2794&\"_\"&B2794,Lookups!$E:$F,2,FALSE))","v":""},""]
[null,null,null,null,null,"",null,"",null,null,"","",{"$f":"IF(OR(A2795=\"\",B2795=\"\"),\"\",VLOOKUP(A2795&\"_\"&B2795,Lookups!$E:$F,2,FALSE))","v":""},""]
[null,null,null,null,null,"",null,"",null,null,"","",{"$f":"IF(OR(A2796=\"\",B2796=\"\"),\"\",VLOOKUP(A2796&\"_\"&B2796,Lookups!$E:$F,2,FALSE))","v":""},""]
[null,null,null,null,null,"",null,"",null,null,"","",{"$f":"IF(OR(A2797=\"\",B2797=\"\"),\"\",VLOOKUP(A2797&\"_\"&B2797,Lookups!$E:$F,2,FALSE))","v":""},""]
[null,null,null,null,null,"",null,"",null,null,"","",{"$f":"IF(OR(A2798=\"\",B2798=\"\"),\"\",VLOOKUP(A2798&\"_\"&B2798,Lookups!$E:$F,2,FALSE))","v":""},""]
[null,null,null,null,null,"",null,"",null,null,"","",{"$f":"IF(OR(A2799=\"\",B2799=\"\"),\"\",VLOOKUP(A2799&\"_\"&B2799,Lookups!$E:$F,2,FALSE))","v":""},""]
[null,null,null,null,null,"",null,"",null,null,"","",{"$f":"IF(OR(A2800=\"\",B2800=\"\"),\"\",VLOOKUP(A2800&\"_\"&B2800,Lookups!$E:$F,2,FALSE))","v":""},""]
[null,null,null,null,null,"",null,"",null,null,"","",{"$f":"IF(OR(A2801=\"\",B2801=\"\"),\"\",VLOOKUP(A2801&\"_\"&B2801,Lookups!$E:$F,2,FALSE))","v":""},""]
[null,null,null,null,null,"",null,"",null,null,"","",{"$f":"IF(OR(A2802=\"\",B2802=\"\"),\"\",VLOOKUP(A2802&\"_\"&B2802,Lookups!$E:$F,2,FALSE))","v":""},""]
[null,null,null,null,null,"",null,"",null,null,"","",{"$f":"IF(OR(A2803=\"\",B2803=\"\"),\"\",VLOOKUP(A2803&\"_\"&B2803,Lookups!$E:$F,2,FALSE))","v":""},""]
[null,null,null,null,null,"",null,"",null,null,"","",{"$f":"IF(OR(A2804=\"\",B2804=\"\"),\"\",VLOOKUP(A2804&\"_\"&B2804,Lookups!$E:$F,2,FALSE))","v":""},""]
[null,null,null,null,null,"",null,"",null,null,"","",{"$f":"IF(OR(A2805=\"\",B2805=\"\"),\"\",VLOOKUP(A2805&\"_\"&B2805,Lookups!$E:$F,2,FALSE))","v":""},""]
[null,null,null,null,null,"",null,"",null,null,"","",{"$f":"IF(OR(A2806=\"\",B2806=\"\"),\"\",VLOOKUP(A2806&\"_\"&B2806,Lookups!$E:$F,2,FALSE))","v":""},""]
[null,null,null,null,null,"",null,"",null,null,"","",{"$f":"IF(OR(A2807=\"\",B2807=\"\"),\"\",VLOOKUP(A2807&\"_\"&B2807,Lookups!$E:$F,2,FALSE))","v":""},""]
[null,null,null,null,null,"",null,"",null,null,"","",{"$f":"IF(OR(A2808=\"\",B2808=\"\"),\"\",VLOOKUP(A2808&\"_\"&B2808,Lookups!$E:$F,2,FALSE))","v":""},""]
[null,null,null,null,null,"",null,"",null,null,"","",{"$f":"IF(OR(A2809=\"\",B2809=\"\"),\"\",VLOOKUP(A2809&\"_\"&B2809,Lookups!$E:$F,2,FALSE))","v":""},""]
[null,null,null,null,null,"",null,"",null,null,"","",{"$f":"IF(OR(A2810=\"\",B2810=\"\"),\"\",VLOOKUP(A2810&\"_\"&B2810,Lookups!$E:$F,2,FALSE))","v":""},""]
[null,null,null,null,null,"",null,"",null,null,"","",{"$f":"IF(OR(A2811=\"\",B2811=\"\"),\"\",VLOOKUP(A2811&\"_\"&B2811,Lookups!$E:$F,2,FALSE))","v":""},""]
[null,null,null,null,null,"",null,"",null,null,"","",{"$f":"IF(OR(A2812=\"\",B2812=\"\"),\"\",VLOOKUP(A2812&\"_\"&B2812,Lookups!$E:$F,2,FALSE))","v":""},""]
[null,null,null,null,null,"",null,"",null,null,"","",{"$f":"IF(OR(A2813=\"\",B2813=\"\"),\"\",VLOOKUP(A2813&\"_\"&B2813,Lookups!$E:$F,2,FALSE))","v":""},""]
[null,null,null,null,null,"",null,"",null,null,"","",{"$f":"IF(OR(A2814=\"\",B2814=\"\"),\"\",VLOOKUP(A2814&\"_\"&B2814,Lookups!$E:$F,2,FALSE))","v":""},""]
[null,null,null,null,null,"",null,"",null,null,"","",{"$f":"IF(OR(A2815=\"\",B2815=\"\"),\"\",VLOOKUP(A2815&\"_\"&B2815,Lookups!$E:$F,2,FALSE))","v":""},""]
[null,null,null,null,null,"",null,"",null,null,"","",{"$f":"IF(OR(A2816=\"\",B2816=\"\"),\"\",VLOOKUP(A2816&\"_\"&B2816,Lookups!$E:$F,2,FALSE))","v":""},""]
[null,null,null,null,null,"",null,"",null,null,"","",{"$f":"IF(OR(A2817=\"\",B2817=\"\"),\"\",VLOOKUP(A2817&\"_\"&B2817,Lookups!$E:$F,2,FALSE))","v":""},""]
[null,null,null,null,null,"",null,"",null,null,"","",{"$f":"IF(OR(A2818=\"\",B2818=\"\"),\"\",VLOOKUP(A2818&\"_\"&B2818,Lookups!$E:$F,2,FALSE))","v":""},""]
[null,null,null,null,null,"",null,"",null,null,"","",{"$f":"IF(OR(A2819=\"\",B2819=\"\"),\"\",VLOOKUP(A2819&\"_\"&B2819,Lookups!$E:$F,2,FALSE))","v":""},""]
[null,null,null,null,null,{"$f":"IF(OR(D2820=\"\",E2820=\"\"),\"\",ROUND((E2820-D2820)*24,2))","v":""},null,{"$f":"IF(F2820=\"\",\"\",IF(G2820<>\"\",F2820*G2820,F2820))","v":""},null,null,{"$f":"IF(AND(H2820<>\"\",I2820=\"Paid\"),H2820,\"\")","v":""},{"$f":"IF(H2820=\"\",\"\",IF(K2820=\"\",H2820,H2820-K2820))","v":""},{"$f":"IF(OR(A2820=\"\",B2820=\"\"),\"\",VLOOKUP(A2820&\"_\"&B2820,Lookups!$E:$F,2,FALSE))","v":""},{"$f":"IF(AND(K2820=\"\",L2820=\"\"),\"\",IF(K2820=\"\",L2820*M2820,SUM(K2820,L2820)*M2820))","v":""}]
[null,null,null,null,null,"",null,"",null,null,"","",{"$f":"IF(OR(A2821=\"\",B2821=\"\"),\"\",VLOOKUP(A2821&\"_\"&B2821,Lookups!$E:$F,2,FALSE))","v":""},""]
[null,null,null,null,null,"",null,"",null,null,"","",{"$f":"IF(OR(A2822=\"\",B2822=\"\"),\"\",VLOOKUP(A2822&\"_\"&B2822,Lookups!$E:$F,2,FALSE))","v":""},""]
[null,null,null,null,null,"",null,"",null,null,"","",{"$f":"IF(OR(A2823=\"\",B2823=\"\"),\"\",VLOOKUP(A2823&\"_\"&B2823,Lookups!$E:$F,2,FALSE))","v":""},""]
[null,null,null,null,null,"",null,"",null,null,"","",{"$f":"IF(OR(A2824=\"\",B2824=\"\"),\"\",VLOOKUP(A2824&\"_\"&B2824,Lookups!$E:$F,2,FALSE))","v":""},""]
[null,null,null,null,null,"",null,"",null,null,"","",{"$f":"IF(OR(A2825=\"\",B2825=\"\"),\"\",VLOOKUP(A2825&\"_\"&B2825,Lookups!$E:$F,2,FALSE))","v":""},""]
[null,null,null,null,null,"",null,"",null,null,"","",{"$f":"IF(OR(A2826=\"\",B2826=\"\"),\"\",VLOOKUP(A2826&\"_\"&B2826,Lookups!$E:$F,2,FALSE))","v":""},""]
[null,null,null,null,null,"",null,"",null,null,"","",{"$f":"IF(OR(A2827=\"\",B2827=\"\"),\"\",VLOOKUP(A2827&\"_\"&B2827,Lookups!$E:$F,2,FALSE))","v":""},""]
[null,null,null,null,null,"",null,"",null,null,"","",{"$f":"IF(OR(A2828=\"\",B2828=\"\"),\"\",VLOOKUP(A2828&\"_\"&B2828,Lookups!$E:$F,2,FALSE))","v":""},""]
[null,null,null,null,null,"",null,"",null,null,"","",{"$f":"IF(OR(A2829=\"\",B2829=\"\"),\"\",VLOOKUP(A2829&\"_\"&B2829,Lookups!$E:$F,2,FALSE))","v":""},""]
[null,null,null,null,null,"",null,"",null,null,"","",{"$f":"IF(OR(A2830=\"\",B2830=\"\"),\"\",VLOOKUP(A2830&\"_\"&B2830,Lookups!$E:$F,2,FALSE))","v":""},""]
[null,null,null,null,null,"",null,"",null,null,"","",{"$f":"IF(OR(A2831=\"\",B2831=\"\"),\"\",VLOOKUP(A2831&\"_\"&B2831,Lookups!$E:$F,2,FALSE))","v":""},""]
[null,null,null,null,null,"",null,"",null,null,"","",{"$f":"IF(OR(A2832=\"\",B2832=\"\"),\"\",VLOOKUP(A2832&\"_\"&B2832,Lookups!$E:$F,2,FALSE))","v":""},""]
[null,null,null,null,null,"",null,"",null,null,"","",{"$f":"IF(OR(A2833=\"\",B2833=\"\"),\"\",VLOOKUP(A2833&\"_\"&B2833,Lookups!$E:$F,2,FALSE))","v":""},""]
[null,null,null,null,null,"",null,"",null,null,"","",{"$f":"IF(OR(A2834=\"\",B2834=\"\"),\"\",VLOOKUP(A2834&\"_\"&B2834,Lookups!$E:$F,2,FALSE))","v":""},""]
[null,null,null,null,null,"",null,"",null,null,"","",{"$f":"IF(OR(A2835=\"\",B2835=\"\"),\"\",VLOOKUP(A2835&\"_\"&B2835,Lookups!$E:$F,2,FALSE))","v":""},""]
[null,null,null,null,null,"",null,"",null,null,"","",{"$f":"IF(OR(A2836=\"\",B2836=\"\"),\"\",VLOOKUP(A2836&\"_\"&B2836,Lookups!$E:$F,2,FALSE))","v":""},""]
[null,null,null,null,null,"",null,"",null,null,"","",{"$f":"IF(OR(A2837=\"\",B2837=\"\"),\"\",VLOOKUP(A2837&\"_\"&B2837,Lookups!$E:$F,2,FALSE))","v":""},""]
[null,null,null,null,null,"",null,"",null,null,"","",{"$f":"IF(OR(A2838=\"\",B2838=\"\"),\"\",VLOOKUP(A2838&\"_\"&B2838,Lookups!$E:$F,2,FALSE))","v":""},""]
[null,null,null,null,null,"",null,"",null,null,"","",{"$f":"IF(OR(A2839=\"\",B2839=\"\"),\"\",VLOOKUP(A2839&\"_\"&B2839,Lookups!$E:$F,2,FALSE))","v":""},""]
[null,null,null,null,null,"",null,"",null,null,"","",{"$f":"IF(OR(A2840=\"\",B2840=\"\"),\"\",VLOOKUP(A2840&\"_\"&B2840,Lookups!$E:$F,2,FALSE))","v":""},""]
[null,null,null,null,null,"",null,"",null,null,"","",{"$f":"IF(OR(A2841=\"\",B2841=\"\"),\"\",VLOOKUP(A2841&\"_\"&B2841,Lookups!$E:$F,2,FALSE))","v":""},""]
[null,null,null,null,null,"",null,"",null,null,"","",{"$f":"IF(OR(A2842=\"\",B2842=\"\"),\"\",VLOOKUP(A2842&\"_\"&B2842,Lookups!$E:$F,2,FALSE))","v":""},""]
[null,null,null,null,null,"",null,"",null,null,"","",{"$f":"IF(OR(A2843=\"\",B2843=\"\"),\"\",VLOOKUP(A2843&\"_\"&B2843,Lookups!$E:$F,2,FALSE))","v":""},""]
[null,null,null,null,null,"",null,"",null,null,"","",{"$f":"IF(OR(A2844=\"\",B2844=\"\"),\"\",VLOOKUP(A2844&\"_\"&B2844,Lookups!$E:$F,2,FALSE))","v":""},""]
[null,null,null,null,null,"",null,"",null,null,"","",{"$f":"IF(OR(A2845=\"\",B2845=\"\"),\"\",VLOOKUP(A2845&\"_\"&B2845,Lookups!$E:$F,2,FALSE))","v":""},""]
[null,null,null,null,null,"",null,"",null,null,"","",{"$f":"IF(OR(A2846=\"\",B2846=\"\"),\"\",VLOOKUP(A2846&\"_\"&B2846,Lookups!$E:$F,2,FALSE))","v":""},""]
[null,null,null,null,null,"",null,"",null,null,"","",{"$f":"IF(OR(A2847=\"\",B2847=\"\"),\"\",VLOOKUP(A2847&\"_\"&B2847,Lookups!$E:$F,2,FALSE))","v":""},""]
[null,null,null,null,null,"",null,"",null,null,"","",{"$f":"IF(OR(A2848=\"\",B2848=\"\"),\"\",VLOOKUP(A2848&\"_\"&B2848,Lookups!$E:$F,2,FALSE))","v":""},""]
[null,null,null,null,null,"",null,"",null,null,"","",{"$f":"IF(OR(A2849=\"\",B2849=\"\"),\"\",VLOOKUP(A2849&\"_\"&B2849,Lookups!$E:$F,2,FALSE))","v":""},""]
[null,null,null,null,null,"",null,"",null,null,"","",{"$f":"IF(OR(A2850=\"\",B2850=\"\"),\"\",VLOOKUP(A2850&\"_\"&B2850,Lookups!$E:$F,2,FALSE))","v":""},""]
[null,null,null,null,null,"",null,"",null,null,"","",{"$f":"IF(OR(A2851=\"\",B2851=\"\"),\"\",VLOOKUP(A2851&\"_\"&B2851,Lookups!$E:$F,2,FALSE))","v":""},""]
[null,null,null,null,null,"",null,"",null,null,"","",{"$f":"IF(OR(A2852=\"\",B2852=\"\"),\"\",VLOOKUP(A2852&\"_\"&B2852,Lookups!$E:$F,2,FALSE))","v":""},""]
[null,null,null,null,null,"",null,"",null,null,"","",{"$f":"IF(OR(A2853=\"\",B2853=\"\"),\"\",VLOOKUP(A2853&\"_\"&B2853,Lookups!$E:$F,2,FALSE))","v":""},""]
[null,null,null,null,null,"",null,"",null,null,"","",{"$f":"IF(OR(A2854=\"\",B2854=\"\"),\"\",VLOOKUP(A2854&\"_\"&B2854,Lookups!$E:$F,2,FALSE))","v":""},""]
[null,null,null,null,null,"",null,"",null,null,"","",{"$f":"IF(OR(A2855=\"\",B2855=\"\"),\"\",VLOOKUP(A2855&\"_\"&B2855,Lookups!$E:$F,2,FALSE))","v":""},""]
[null,null,null,null,null,"",null,"",null,null,"","",{"$f":"IF(OR(A2856=\"\",B2856=\"\"),\"\",VLOOKUP(A2856&\"_\"&B2856,Lookups!$E:$F,2,FALSE))","v":""},""]
[null,null,null,null,null,"",null,"",null,null,"","",{"$f":"IF(OR(A2857=\"\",B2857=\"\"),\"\",VLOOKUP(A2857&\"_\"&B2857,Lookups!$E:$F,2,FALSE))","v":""},""]
[null,null,null,null,null,"",null,"",null,null,"","",{"$f":"IF(OR(A2858=\"\",B2858=\"\"),\"\",VLOOKUP(A2858&\"_\"&B2858,Lookups!$E:$F,2,FALSE))","v":""},""]
[null,null,null,null,null,"",null,"",null,null,"","",{"$f":"IF(OR(A2859=\"\",B2859=\"\"),\"\",VLOOKUP(A2859&\"_\"&B2859,Lookups!$E:$F,2,FALSE))","v":""},""]
[null,null,null,null,null,"",null,"",null,null,"","",{"$f":"IF(OR(A2860=\"\",B2860=\"\"),\"\",VLOOKUP(A2860&\"_\"&B2860,Lookups!$E:$F,2,FALSE))","v":""},""]
[null,null,null,null,null,"",null,"",null,null,"","",{"$f":"IF(OR(A2861=\"\",B2861=\"\"),\"\",VLOOKUP(A2861&\"_\"&B2861,Lookups!$E:$F,2,FALSE))","v":""},""]
[null,null,null,null,null,"",null,"",null,null,"","",{"$f":"IF(OR(A2862=\"\",B2862=\"\"),\"\",VLOOKUP(A2862&\"_\"&B2862,Lookups!$E:$F,2,FALSE))","v":""},""]
[null,null,null,null,null,"",null,"",null,null,"","",{"$f":"IF(OR(A2863=\"\",B2863=\"\"),\"\",VLOOKUP(A2863&\"_\"&B2863,Lookups!$E:$F,2,FALSE))","v":""},""]
[null,null,null,null,null,"",null,"",null,null,"","",{"$f":"IF(OR(A2864=\"\",B2864=\"\"),\"\",VLOOKUP(A2864&\"_\"&B2864,Lookups!$E:$F,2,FALSE))","v":""},""]
[null,null,null,null,null,"",null,"",null,null,"","",{"$f":"IF(OR(A2865=\"\",B2865=\"\"),\"\",VLOOKUP(A2865&\"_\"&B2865,Lookups!$E:$F,2,FALSE))","v":""},""]
[null,null,null,null,null,"",null,"",null,null,"","",{"$f":"IF(OR(A2866=\"\",B2866=\"\"),\"\",VLOOKUP(A2866&\"_\"&B2866,Lookups!$E:$F,2,FALSE))","v":""},""]
[null,null,null,null,null,"",null,"",null,null,"","",{"$f":"IF(OR(A2867=\"\",B2867=\"\"),\"\",VLOOKUP(A2867&\"_\"&B2867,Lookups!$E:$F,2,FALSE))","v":""},""]
[null,null,null,null,null,"",null,"",null,null,"","",{"$f":"IF(OR(A2868=\"\",B2868=\"\"),\"\",VLOOKUP(A2868&\"_\"&B2868,Lookups!$E:$F,2,FALSE))","v":""},""]
[null,null,null,null,null,"",null,"",null,null,"","",{"$f":"IF(OR(A2869=\"\",B2869=\"\"),\"\",VLOOKUP(A2869&\"_\"&B2869,Lookups!$E:$F,2,FALSE))","v":""},""]
[null,null,null,null,null,"",null,"",null,null,"","",{"$f":"IF(OR(A2870=\"\",B2870=\"\"),\"\",VLOOKUP(A2870&\"_\"&B2870,Lookups!$E:$F,2,FALSE))","v":""},""]
[null,null,null,null,null,"",null,"",null,null,"","",{"$f":"IF(OR(A2871=\"\",B2871=\"\"),\"\",VLOOKUP(A2871&\"_\"&B2871,Lookups!$E:$F,2,FALSE))","v":""},""]
[null,null,null,null,null,"",null,"",null,null,"","",{"$f":"IF(OR(A2872=\"\",B2872=\"\"),\"\",VLOOKUP(A2872&\"_\"&B2872,Lookups!$E:$F,2,FALSE))","v":""},""]
[null,null,null,null,null,"",null,"",null,null,"","",{"$f":"IF(OR(A2873=\"\",B2873=\"\"),\"\",VLOOKUP(A2873&\"_\"&B2873,Lookups!$E:$F,2,FALSE))","v":""},""]
[null,null,null,null,null,"",null,"",null,null,"","",{"$f":"IF(OR(A2874=\"\",B2874=\"\"),\"\",VLOOKUP(A2874&\"_\"&B2874,Lookups!$E:$F,2,FALSE))","v":""},""]
[null,null,null,null,null,"",null,"",null,null,"","",{"$f":"IF(OR(A2875=\"\",B2875=\"\"),\"\",VLOOKUP(A2875&\"_\"&B2875,Lookups!$E:$F,2,FALSE))","v":""},""]
[null,null,null,null,null,"",null,"",null,null,"","",{"$f":"IF(OR(A2876=\"\",B2876=\"\"),\"\",VLOOKUP(A2876&\"_\"&B2876,Lookups!$E:$F,2,FALSE))","v":""},""]
[null,null,null,null,null,"",null,"",null,null,"","",{"$f":"IF(OR(A2877=\"\",B2877=\"\"),\"\",VLOOKUP(A2877&\"_\"&B2877,Lookups!$E:$F,2,FALSE))","v":""},""]
[null,null,null,null,null,"",null,"",null,null,"","",{"$f":"IF(OR(A2878=\"\",B2878=\"\"),\"\",VLOOKUP(A2878&\"_\"&B2878,Lookups!$E:$F,2,FALSE))","v":""},""]
[null,null,null,null,null,"",null,"",null,null,"","",{"$f":"IF(OR(A2879=\"\",B2879=\"\"),\"\",VLOOKUP(A2879&\"_\"&B2879,Lookups!$E:$F,2,FALSE))","v":""},""]
[null,null,null,null,null,"",null,"",null,null,"","",{"$f":"IF(OR(A2880=\"\",B2880=\"\"),\"\",VLOOKUP(A2880&\"_\"&B2880,Lookups!$E:$F,2,FALSE))","v":""},""]
[null,null,null,null,null,"",null,"",null,null,"","",{"$f":"IF(OR(A2881=\"\",B2881=\"\"),\"\",VLOOKUP(A2881&\"_\"&B2881,Lookups!$E:$F,2,FALSE))","v":""},""]
[null,null,null,null,null,"",null,"",null,null,"","",{"$f":"IF(OR(A2882=\"\",B2882=\"\"),\"\",VLOOKUP(A2882&\"_\"&B2882,Lookups!$E:$F,2,FALSE))","v":""},""]
[null,null,null,null,null,"",null,"",null,null,"","",{"$f":"IF(OR(A2883=\"\",B2883=\"\"),\"\",VLOOKUP(A2883&\"_\"&B2883,Lookups!$E:$F,2,FALSE))","v":""},""]
[null,null,null,null,null,{"$f":"IF(OR(D2884=\"\",E2884=\"\"),\"\",ROUND((E2884-D2884)*24,2))","v":""},null,{"$f":"IF(F2884=\"\",\"\",IF(G2884<>\"\",F2884*G2884,F2884))","v":""},null,null,{"$f":"IF(AND(H2884<>\"\",I2884=\"Paid\"),H2884,\"\")","v":""},{"$f":"IF(H2884=\"\",\"\",IF(K2884=\"\",H2884,H2884-K2884))","v":""},{"$f":"IF(OR(A2884=\"\",B2884=\"\"),\"\",VLOOKUP(A2884&\"_\"&B2884,Lookups!$E:$F,2,FALSE))","v":""},{"$f":"IF(AND(K2884=\"\",L2884=\"\"),\"\",IF(K2884=\"\",L2884*M2884,SUM(K2884,L2884)*M2884))","v":""}]
[null,null,null,null,null,"",null,"",null,null,"","",{"$f":"IF(OR(A2885=\"\",B2885=\"\"),\"\",VLOOKUP(A2885&\"_\"&B2885,Lookups!$E:$F,2,FALSE))","v":""},""]
[null,null,null,null,null,"",null,"",null,null,"","",{"$f":"IF(OR(A2886=\"\",B2886=\"\"),\"\",VLOOKUP(A2886&\"_\"&B2886,Lookups!$E:$F,2,FALSE))","v":""},""]
[null,null,null,null,null,"",null,"",null,null,"","",{"$f":"IF(OR(A2887=\"\",B2887=\"\"),\"\",VLOOKUP(A2887&\"_\"&B2887,Lookups!$E:$F,2,FALSE))","v":""},""]
[null,null,null,null,null,"",null,"",null,null,"","",{"$f":"IF(OR(A2888=\"\",B2888=\"\"),\"\",VLOOKUP(A2888&\"_\"&B2888,Lookups!$E:$F,2,FALSE))","v":""},""]
[null,null,null,null,null,"",null,"",null,null,"","",{"$f":"IF(OR(A2889=\"\",B2889=\"\"),\"\",VLOOKUP(A2889&\"_\"&B2889,Lookups!$E:$F,2,FALSE))","v":""},""]
[null,null,null,null,null,"",null,"",null,null,"","",{"$f":"IF(OR(A2890=\"\",B2890=\"\"),\"\",VLOOKUP(A2890&\"_\"&B2890,Lookups!$E:$F,2,FALSE))","v":""},""]
[null,null,null,null,null,"",null,"",null,null,"","",{"$f":"IF(OR(A2891=\"\",B2891=\"\"),\"\",VLOOKUP(A2891&\"_\"&B2891,Lookups!$E:$F,2,FALSE))","v":""},""]
[null,null,null,null,null,"",null,"",null,null,"","",{"$f":"IF(OR(A2892=\"\",B2892=\"\"),\"\",VLOOKUP(A2892&\"_\"&B2892,Lookups!$E:$F,2,FALSE))","v":""},""]
[null,null,null,null,null,"",null,"",null,null,"","",{"$f":"IF(OR(A2893=\"\",B2893=\"\"),\"\",VLOOKUP(A2893&\"_\"&B2893,Lookups!$E:$F,2,FALSE))","v":""},""]
[null,null,null,null,null,"",null,"",null,null,"","",{"$f":"IF(OR(A2894=\"\",B2894=\"\"),\"\",VLOOKUP(A2894&\"_\"&B2894,Lookups!$E:$F,2,FALSE))","v":""},""]
[null,null,null,null,null,"",null,"",null,null,"","",{"$f":"IF(OR(A2895=\"\",B2895=\"\"),\"\",VLOOKUP(A2895&\"_\"&B2895,Lookups!$E:$F,2,FALSE))","v":""},""]
[null,null,null,null,null,"",null,"",null,null,"","",{"$f":"IF(OR(A2896=\"\",B2896=\"\"),\"\",VLOOKUP(A2896&\"_\"&B2896,Lookups!$E:$F,2,FALSE))","v":""},""]
[null,null,null,null,null,"",null,"",null,null,"","",{"$f":"IF(OR(A2897=\"\",B2897=\"\"),\"\",VLOOKUP(A2897&\"_\"&B2897,Lookups!$E:$F,2,FALSE))","v":""},""]
[null,null,null,null,null,"",null,"",null,null,"","",{"$f":"IF(OR(A2898=\"\",B2898=\"\"),\"\",VLOOKUP(A2898&\"_\"&B2898,Lookups!$E:$F,2,FALSE))","v":""},""]
[null,null,null,null,null,"",null,"",null,null,"","",{"$f":"IF(OR(A2899=\"\",B2899=\"\"),\"\",VLOOKUP(A2899&\"_\"&B2899,Lookups!$E:$F,2,FALSE))","v":""},""]
[null,null,null,null,null,"",null,"",null,null,"","",{"$f":"IF(OR(A2900=\"\",B2900=\"\"),\"\",VLOOKUP(A2900&\"_\"&B2900,Lookups!$E:$F,2,FALSE))","v":""},""]
[null,null,null,null,null,"",null,"",null,null,"","",{"$f":"IF(OR(A2901=\"\",B2901=\"\"),\"\",VLOOKUP(A2901&\"_\"&B2901,Lookups!$E:$F,2,FALSE))","v":""},""]
[null,null,null,null,null,"",null,"",null,null,"","",{"$f":"IF(OR(A2902=\"\",B2902=\"\"),\"\",VLOOKUP(A2902&\"_\"&B2902,Lookups!$E:$F,2,FALSE))","v":""},""]
[null,null,null,null,null,"",null,"",null,null,"","",{"$f":"IF(OR(A2903=\"\",B2903=\"\"),\"\",VLOOKUP(A2903&\"_\"&B2903,Lookups!$E:$F,2,FALSE))","v":""},""]
[null,null,null,null,null,"",null,"",null,null,"","",{"$f":"IF(OR(A2904=\"\",B2904=\"\"),\"\",VLOOKUP(A2904&\"_\"&B2904,Lookups!$E:$F,2,FALSE))","v":""},""]
[null,null,null,null,null,"",null,"",null,null,"","",{"$f":"IF(OR(A2905=\"\",B2905=\"\"),\"\",VLOOKUP(A2905&\"_\"&B2905,Lookups!$E:$F,2,FALSE))","v":""},""]
[null,null,null,null,null,"",null,"",null,null,"","",{"$f":"IF(OR(A2906=\"\",B2906=\"\"),\"\",VLOOKUP(A2906&\"_\"&B2906,Lookups!$E:$F,2,FALSE))","v":""},""]
[null,null,null,null,null,"",null,"",null,null,"","",{"$f":"IF(OR(A2907=\"\",B2907=\"\"),\"\",VLOOKUP(A2907&\"_\"&B2907,Lookups!$E:$F,2,FALSE))","v":""},""]
[null,null,null,null,null,"",null,"",null,null,"","",{"$f":"IF(OR(A2908=\"\",B2908=\"\"),\"\",VLOOKUP(A2908&\"_\"&B2908,Lookups!$E:$F,2,FALSE))","v":""},""]
[null,null,null,null,null,"",null,"",null,null,"","",{"$f":"IF(OR(A2909=\"\",B2909=\"\"),\"\",VLOOKUP(A2909&\"_\"&B2909,Lookups!$E:$F,2,FALSE))","v":""},""]
[null,null,null,null,null,"",null,"",null,null,"","",{"$f":"IF(OR(A2910=\"\",B2910=\"\"),\"\",VLOOKUP(A2910&\"_\"&B2910,Lookups!$E:$F,2,FALSE))","v":""},""]
[null,null,null,null,null,"",null,"",null,null,"","",{"$f":"IF(OR(A2911=\"\",B2911=\"\"),\"\",VLOOKUP(A2911&\"_\"&B2911,Lookups!$E:$F,2,FALSE))","v":""},""]
[null,null,null,null,null,"",null,"",null,null,"","",{"$f":"IF(OR(A2912=\"\",B2912=\"\"),\"\",VLOOKUP(A2912&\"_\"&B2912,Lookups!$E:$F,2,FALSE))","v":""},""]
[null,null,null,null,null,"",null,"",null,null,"","",{"$f":"IF(OR(A2913=\"\",B2913=\"\"),\"\",VLOOKUP(A2913&\"_\"&B2913,Lookups!$E:$F,2,FALSE))","v":""},""]
[null,null,null,null,null,"",null,"",null,null,"","",{"$f":"IF(OR(A2914=\"\",B2914=\"\"),\"\",VLOOKUP(A2914&\"_\"&B2914,Lookups!$E:$F,2,FALSE))","v":""},""]
[null,null,null,null,null,"",null,"",null,null,"","",{"$f":"IF(OR(A2915=\"\",B2915=\"\"),\"\",VLOOKUP(A2915&\"_\"&B2915,Lookups!$E:$F,2,FALSE))","v":""},""]
[null,null,null,null,null,"",null,"",null,null,"","",{"$f":"IF(OR(A2916=\"\",B2916=\"\"),\"\",VLOOKUP(A2916&\"_\"&B2916,Lookups!$E:$F,2,FALSE))","v":""},""]
[null,null,null,null,null,"",null,"",null,null,"","",{"$f":"IF(OR(A2917=\"\",B2917=\"\"),\"\",VLOOKUP(A2917&\"_\"&B2917,Lookups!$E:$F,2,FALSE))","v":""},""]
[null,null,null,null,null,"",null,"",null,null,"","",{"$f":"IF(OR(A2918=\"\",B2918=\"\"),\"\",VLOOKUP(A2918&\"_\"&B2918,Lookups!$E:$F,2,FALSE))","v":""},""]
[null,null,null,null,null,"",null,"",null,null,"","",{"$f":"IF(OR(A2919=\"\",B2919=\"\"),\"\",VLOOKUP(A2919&\"_\"&B2919,Lookups!$E:$F,2,FALSE))","v":""},""]
[null,null,null,null,null,"",null,"",null,null,"","",{"$f":"IF(OR(A2920=\"\",B2920=\"\"),\"\",VLOOKUP(A2920&\"_\"&B2920,Lookups!$E:$F,2,FALSE))","v":""},""]
[null,null,null,null,null,"",null,"",null,null,"","",{"$f":"IF(OR(A2921=\"\",B2921=\"\"),\"\",VLOOKUP(A2921&\"_\"&B2921,Lookups!$E:$F,2,FALSE))","v":""},""]
[null,null,null,null,null,"",null,"",null,null,"","",{"$f":"IF(OR(A2922=\"\",B2922=\"\"),\"\",VLOOKUP(A2922&\"_\"&B2922,Lookups!$E:$F,2,FALSE))","v":""},""]
[null,null,null,null,null,"",null,"",null,null,"","",{"$f":"IF(OR(A2923=\"\",B2923=\"\"),\"\",VLOOKUP(A2923&\"_\"&B2923,Lookups!$E:$F,2,FALSE))","v":""},""]
[null,null,null,null,null,"",null,"",null,null,"","",{"$f":"IF(OR(A2924=\"\",B2924=\"\"),\"\",VLOOKUP(A2924&\"_\"&B2924,Lookups!$E:$F,2,FALSE))","v":""},""]
[null,null,null,null,null,"",null,"",null,null,"","",{"$f":"IF(OR(A2925=\"\",B2925=\"\"),\"\",VLOOKUP(A2925&\"_\"&B2925,Lookups!$E:$F,2,FALSE))","v":""},""]
[null,null,null,null,null,"",null,"",null,null,"","",{"$f":"IF(OR(A2926=\"\",B2926=\"\"),\"\",VLOOKUP(A2926&\"_\"&B2926,Lookups!$E:$F,2,FALSE))","v":""},""]
[null,null,null,null,null,"",null,"",null,null,"","",{"$f":"IF(OR(A2927=\"\",B2927=\"\"),\"\",VLOOKUP(A2927&\"_\"&B2927,Lookups!$E:$F,2,FALSE))","v":""},""]
[null,null,null,null,null,"",null,"",null,null,"","",{"$f":"IF(OR(A2928=\"\",B2928=\"\"),\"\",VLOOKUP(A2928&\"_\"&B2928,Lookups!$E:$F,2,FALSE))","v":""},""]
[null,null,null,null,null,"",null,"",null,null,"","",{"$f":"IF(OR(A2929=\"\",B2929=\"\"),\"\",VLOOKUP(A2929&\"_\"&B2929,Lookups!$E:$F,2,FALSE))","v":""},""]
[null,null,null,null,null,"",null,"",null,null,"","",{"$f":"IF(OR(A2930=\"\",B2930=\"\"),\"\",VLOOKUP(A2930&\"_\"&B2930,Lookups!$E:$F,2,FALSE))","v":""},""]
[null,null,null,null,null,"",null,"",null,null,"","",{"$f":"IF(OR(A2931=\"\",B2931=\"\"),\"\",VLOOKUP(A2931&\"_\"&B2931,Lookups!$E:$F,2,FALSE))","v":""},""]
[null,null,null,null,null,"",null,"",null,null,"","",{"$f":"IF(OR(A2932=\"\",B2932=\"\"),\"\",VLOOKUP(A2932&\"_\"&B2932,Lookups!$E:$F,2,FALSE))","v":""},""]
[null,null,null,null,null,"",null,"",null,null,"","",{"$f":"IF(OR(A2933=\"\",B2933=\"\"),\"\",VLOOKUP(A2933&\"_\"&B2933,Lookups!$E:$F,2,FALSE))","v":""},""]
[null,null,null,null,null,"",null,"",null,null,"","",{"$f":"IF(OR(A2934=\"\",B2934=\"\"),\"\",VLOOKUP(A2934&\"_\"&B2934,Lookups!$E:$F,2,FALSE))","v":""},""]
[null,null,null,null,null,"",null,"",null,null,"","",{"$f":"IF(OR(A2935=\"\",B2935=\"\"),\"\",VLOOKUP(A2935&\"_\"&B2935,Lookups!$E:$F,2,FALSE))","v":""},""]
[null,null,null,null,null,"",null,"",null,null,"","",{"$f":"IF(OR(A2936=\"\",B2936=\"\"),\"\",VLOOKUP(A2936&\"_\"&B2936,Lookups!$E:$F,2,FALSE))","v":""},""]
[null,null,null,null,null,"",null,"",null,null,"","",{"$f":"IF(OR(A2937=\"\",B2937=\"\"),\"\",VLOOKUP(A2937&\"_\"&B2937,Lookups!$E:$F,2,FALSE))","v":""},""]
[null,null,null,null,null,"",null,"",null,null,"","",{"$f":"IF(OR(A2938=\"\",B2938=\"\"),\"\",VLOOKUP(A2938&\"_\"&B2938,Lookups!$E:$F,2,FALSE))","v":""},""]
[null,null,null,null,null,"",null,"",null,null,"","",{"$f":"IF(OR(A2939=\"\",B2939=\"\"),\"\",VLOOKUP(A2939&\"_\"&B2939,Lookups!$E:$F,2,FALSE))","v":""},""]
[null,null,null,null,null,"",null,"",null,null,"","",{"$f":"IF(OR(A2940=\"\",B2940=\"\"),\"\",VLOOKUP(A2940&\"_\"&B2940,Lookups!$E:$F,2,FALSE))","v":""},""]
[null,null,null,null,null,"",null,"",null,null,"","",{"$f":"IF(OR(A2941=\"\",B2941=\"\"),\"\",VLOOKUP(A2941&\"_\"&B2941,Lookups!$E:$F,2,FALSE))","v":""},""]
[null,null,null,null,null,"",null,"",null,null,"","",{"$f":"IF(OR(A2942=\"\",B2942=\"\"),\"\",VLOOKUP(A2942&\"_\"&B2942,Lookups!$E:$F,2,FALSE))","v":""},""]
[null,null,null,null,null,"",null,"",null,null,"","",{"$f":"IF(OR(A2943=\"\",B2943=\"\"),\"\",VLOOKUP(A2943&\"_\"&B2943,Lookups!$E:$F,2,FALSE))","v":""},""]
[null,null,null,null,null,"",null,"",null,null,"","",{"$f":"IF(OR(A2944=\"\",B2944=\"\"),\"\",VLOOKUP(A2944&\"_\"&B2944,Lookups!$E:$F,2,FALSE))","v":""},""]
[null,null,null,null,null,"",null,"",null,null,"","",{"$f":"IF(OR(A2945=\"\",B2945=\"\"),\"\",VLOOKUP(A2945&\"_\"&B2945,Lookups!$E:$F,2,FALSE))","v":""},""]
[null,null,null,null,null,"",null,"",null,null,"","",{"$f":"IF(OR(A2946=\"\",B2946=\"\"),\"\",VLOOKUP(A2946&\"_\"&B2946,Lookups!$E:$F,2,FALSE))","v":""},""]
[null,null,null,null,null,"",null,"",null,null,"","",{"$f":"IF(OR(A2947=\"\",B2947=\"\"),\"\",VLOOKUP(A2947&\"_\"&B2947,Lookups!$E:$F,2,FALSE))","v":""},""]
[null,null,null,null,null,{"$f":"IF(OR(D2948=\"\",E2948=\"\"),\"\",ROUND((E2948-D2948)*24,2))","v":""},null,{"$f":"IF(F2948=\"\",\"\",IF(G2948<>\"\",F2948*G2948,F2948))","v":""},null,null,{"$f":"IF(AND(H2948<>\"\",I2948=\"Paid\"),H2948,\"\")","v":""},{"$f":"IF(H2948=\"\",\"\",IF(K2948=\"\",H2948,H2948-K2948))","v":""},{"$f":"IF(OR(A2948=\"\",B2948=\"\"),\"\",VLOOKUP(A2948&\"_\"&B2948,Lookups!$E:$F,2,FALSE))","v":""},{"$f":"IF(AND(K2948=\"\",L2948=\"\"),\"\",IF(K2948=\"\",L2948*M2948,SUM(K2948,L2948)*M2948))","v":""}]
[null,null,null,null,null,"",null,"",null,null,"","",{"$f":"IF(OR(A2949=\"\",B2949=\"\"),\"\",VLOOKUP(A2949&\"_\"&B2949,Lookups!$E:$F,2,FALSE))","v":""},""]
[null,null,null,null,null,"",null,"",null,null,"","",{"$f":"IF(OR(A2950=\"\",B2950=\"\"),\"\",VLOOKUP(A2950&\"_\"&B2950,Lookups!$E:$F,2,FALSE))","v":""},""]
[null,null,null,null,null,"",null,"",null,null,"","",{"$f":"IF(OR(A2951=\"\",B2951=\"\"),\"\",VLOOKUP(A2951&\"_\"&B2951,Lookups!$E:$F,2,FALSE))","v":""},""]
[null,null,null,null,null,"",null,"",null,null,"","",{"$f":"IF(OR(A2952=\"\",B2952=\"\"),\"\",VLOOKUP(A2952&\"_\"&B2952,Lookups!$E:$F,2,FALSE))","v":""},""]
[null,null,null,null,null,"",null,"",null,null,"","",{"$f":"IF(OR(A2953=\"\",B2953=\"\"),\"\",VLOOKUP(A2953&\"_\"&B2953,Lookups!$E:$F,2,FALSE))","v":""},""]
[null,null,null,null,null,"",null,"",null,null,"","",{"$f":"IF(OR(A2954=\"\",B2954=\"\"),\"\",VLOOKUP(A2954&\"_\"&B2954,Lookups!$E:$F,2,FALSE))","v":""},""]
[null,null,null,null,null,"",null,"",null,null,"","",{"$f":"IF(OR(A2955=\"\",B2955=\"\"),\"\",VLOOKUP(A2955&\"_\"&B2955,Lookups!$E:$F,2,FALSE))","v":""},""]
[null,null,null,null,null,"",null,"",null,null,"","",{"$f":"IF(OR(A2956=\"\",B2956=\"\"),\"\",VLOOKUP(A2956&\"_\"&B2956,Lookups!$E:$F,2,FALSE))","v":""},""]
[null,null,null,null,null,"",null,"",null,null,"","",{"$f":"IF(OR(A2957=\"\",B2957=\"\"),\"\",VLOOKUP(A2957&\"_\"&B2957,Lookups!$E:$F,2,FALSE))","v":""},""]
[null,null,null,null,null,"",null,"",null,null,"","",{"$f":"IF(OR(A2958=\"\",B2958=\"\"),\"\",VLOOKUP(A2958&\"_\"&B2958,Lookups!$E:$F,2,FALSE))","v":""},""]
[null,null,null,null,null,"",null,"",null,null,"","",{"$f":"IF(OR(A2959=\"\",B2959=\"\"),\"\",VLOOKUP(A2959&\"_\"&B2959,Lookups!$E:$F,2,FALSE))","v":""},""]
[null,null,null,null,null,"",null,"",null,null,"","",{"$f":"IF(OR(A2960=\"\",B2960=\"\"),\"\",VLOOKUP(A2960&\"_\"&B2960,Lookups!$E:$F,2,FALSE))","v":""},""]
[null,null,null,null,null,"",null,"",null,null,"","",{"$f":"IF(OR(A2961=\"\",B2961=\"\"),\"\",VLOOKUP(A2961&\"_\"&B2961,Lookups!$E:$F,2,FALSE))","v":""},""]
[null,null,null,null,null,"",null,"",null,null,"","",{"$f":"IF(OR(A2962=\"\",B2962=\"\"),\"\",VLOOKUP(A2962&\"_\"&B2962,Lookups!$E:$F,2,FALSE))","v":""},""]
[null,null,null,null,null,"",null,"",null,null,"","",{"$f":"IF(OR(A2963=\"\",B2963=\"\"),\"\",VLOOKUP(A2963&\"_\"&B2963,Lookups!$E:$F,2,FALSE))","v":""},""]
[null,null,null,null,null,"",null,"",null,null,"","",{"$f":"IF(OR(A2964=\"\",B2964=\"\"),\"\",VLOOKUP(A2964&\"_\"&B2964,Lookups!$E:$F,2,FALSE))","v":""},""]
[null,null,null,null,null,"",null,"",null,null,"","",{"$f":"IF(OR(A2965=\"\",B2965=\"\"),\"\",VLOOKUP(A2965&\"_\"&B2965,Lookups!$E:$F,2,FALSE))","v":""},""]
[null,null,null,null,null,"",null,"",null,null,"","",{"$f":"IF(OR(A2966=\"\",B2966=\"\"),\"\",VLOOKUP(A2966&\"_\"&B2966,Lookups!$E:$F,2,FALSE))","v":""},""]
[null,null,null,null,null,"",null,"",null,null,"","",{"$f":"IF(OR(A2967=\"\",B2967=\"\"),\"\",VLOOKUP(A2967&\"_\"&B2967,Lookups!$E:$F,2,FALSE))","v":""},""]
[null,null,null,null,null,"",null,"",null,null,"","",{"$f":"IF(OR(A2968=\"\",B2968=\"\"),\"\",VLOOKUP(A2968&\"_\"&B2968,Lookups!$E:$F,2,FALSE))","v":""},""]
[null,null,null,null,null,"",null,"",null,null,"","",{"$f":"IF(OR(A2969=\"\",B2969=\"\"),\"\",VLOOKUP(A2969&\"_\"&B2969,Lookups!$E:$F,2,FALSE))","v":""},""]
[null,null,null,null,null,"",null,"",null,null,"","",{"$f":"IF(OR(A2970=\"\",B2970=\"\"),\"\",VLOOKUP(A2970&\"_\"&B2970,Lookups!$E:$F,2,FALSE))","v":""},""]
[null,null,null,null,null,"",null,"",null,null,"","",{"$f":"IF(OR(A2971=\"\",B2971=\"\"),\"\",VLOOKUP(A2971&\"_\"&B2971,Lookups!$E:$F,2,FALSE))","v":""},""]
[null,null,null,null,null,"",null,"",null,null,"","",{"$f":"IF(OR(A2972=\"\",B2972=\"\"),\"\",VLOOKUP(A2972&\"_\"&B2972,Lookups!$E:$F,2,FALSE))","v":""},""]
[null,null,null,null,null,"",null,"",null,null,"","",{"$f":"IF(OR(A2973=\"\",B2973=\"\"),\"\",VLOOKUP(A2973&\"_\"&B2973,Lookups!$E:$F,2,FALSE))","v":""},""]
[null,null,null,null,null,"",null,"",null,null,"","",{"$f":"IF(OR(A2974=\"\",B2974=\"\"),\"\",VLOOKUP(A2974&\"_\"&B2974,Lookups!$E:$F,2,FALSE))","v":""},""]
[null,null,null,null,null,"",null,"",null,null,"","",{"$f":"IF(OR(A2975=\"\",B2975=\"\"),\"\",VLOOKUP(A2975&\"_\"&B2975,Lookups!$E:$F,2,FALSE))","v":""},""]
[null,null,null,null,null,"",null,"",null,null,"","",{"$f":"IF(OR(A2976=\"\",B2976=\"\"),\"\",VLOOKUP(A2976&\"_\"&B2976,Lookups!$E:$F,2,FALSE))","v":""},""]
[null,null,null,null,null,"",null,"",null,null,"","",{"$f":"IF(OR(A2977=\"\",B2977=\"\"),\"\",VLOOKUP(A2977&\"_\"&B2977,Lookups!$E:$F,2,FALSE))","v":""},""]
[null,null,null,null,null,"",null,"",null,null,"","",{"$f":"IF(OR(A2978=\"\",B2978=\"\"),\"\",VLOOKUP(A2978&\"_\"&B2978,Lookups!$E:$F,2,FALSE))","v":""},""]
[null,null,null,null,null,"",null,"",null,null,"","",{"$f":"IF(OR(A2979=\"\",B2979=\"\"),\"\",VLOOKUP(A2979&\"_\"&B2979,Lookups!$E:$F,2,FALSE))","v":""},""]
[null,null,null,null,null,"",null,"",null,null,"","",{"$f":"IF(OR(A2980=\"\",B2980=\"\"),\"\",VLOOKUP(A2980&\"_\"&B2980,Lookups!$E:$F,2,FALSE))","v":""},""]
[null,null,null,null,null,"",null,"",null,null,"","",{"$f":"IF(OR(A2981=\"\",B2981=\"\"),\"\",VLOOKUP(A2981&\"_\"&B2981,Lookups!$E:$F,2,FALSE))","v":""},""]
[null,null,null,null,null,"",null,"",null,null,"","",{"$f":"IF(OR(A2982=\"\",B2982=\"\"),\"\",VLOOKUP(A2982&\"_\"&B2982,Lookups!$E:$F,2,FALSE))","v":""},""]
[null,null,null,null,null,"",null,"",null,null,"","",{"$f":"IF(OR(A2983=\"\",B2983=\"\"),\"\",VLOOKUP(A2983&\"_\"&B2983,Lookups!$E:$F,2,FALSE))","v":""},""]
[null,null,null,null,null,"",null,"",null,null,"","",{"$f":"IF(OR(A2984=\"\",B2984=\"\"),\"\",VLOOKUP(A2984&\"_\"&B2984,Lookups!$E:$F,2,FALSE))","v":""},""]
[null,null,null,null,null,"",null,"",null,null,"","",{"$f":"IF(OR(A2985=\"\",B2985=\"\"),\"\",VLOOKUP(A2985&\"_\"&B2985,Lookups!$E:$F,2,FALSE))","v":""},""]
[null,null,null,null,null,"",null,"",null,null,"","",{"$f":"IF(OR(A2986=\"\",B2986=\"\"),\"\",VLOOKUP(A2986&\"_\"&B2986,Lookups!$E:$F,2,FALSE))","v":""},""]
[null,null,null,null,null,"",null,"",null,null,"","",{"$f":"IF(OR(A2987=\"\",B2987=\"\"),\"\",VLOOKUP(A2987&\"_\"&B2987,Lookups!$E:$F,2,FALSE))","v":""},""]
[null,null,null,null,null,"",null,"",null,null,"","",{"$f":"IF(OR(A2988=\"\",B2988=\"\"),\"\",VLOOKUP(A2988&\"_\"&B2988,Lookups!$E:$F,2,FALSE))","v":""},""]
[null,null,null,null,null,"",null,"",null,null,"","",{"$f":"IF(OR(A2989=\"\",B2989=\"\"),\"\",VLOOKUP(A2989&\"_\"&B2989,Lookups!$E:$F,2,FALSE))","v":""},""]
[null,null,null,null,null,"",null,"",null,null,"","",{"$f":"IF(OR(A2990=\"\",B2990=\"\"),\"\",VLOOKUP(A2990&\"_\"&B2990,Lookups!$E:$F,2,FALSE))","v":""},""]
[null,null,null,null,null,"",null,"",null,null,"","",{"$f":"IF(OR(A2991=\"\",B2991=\"\"),\"\",VLOOKUP(A2991&\"_\"&B2991,Lookups!$E:$F,2,FALSE))","v":""},""]
[null,null,null,null,null,"",null,"",null,null,"","",{"$f":"IF(OR(A2992=\"\",B2992=\"\"),\"\",VLOOKUP(A2992&\"_\"&B2992,Lookups!$E:$F,2,FALSE))","v":""},""]
[null,null,null,null,null,"",null,"",null,null,"","",{"$f":"IF(OR(A2993=\"\",B2993=\"\"),\"\",VLOOKUP(A2993&\"_\"&B2993,Lookups!$E:$F,2,FALSE))","v":""},""]
[null,null,null,null,null,"",null,"",null,null,"","",{"$f":"IF(OR(A2994=\"\",B2994=\"\"),\"\",VLOOKUP(A2994&\"_\"&B2994,Lookups!$E:$F,2,FALSE))","v":""},""]
[null,null,null,null,null,"",null,"",null,null,"","",{"$f":"IF(OR(A2995=\"\",B2995=\"\"),\"\",VLOOKUP(A2995&\"_\"&B2995,Lookups!$E:$F,2,FALSE))","v":""},""]
[null,null,null,null,null,"",null,"",null,null,"","",{"$f":"IF(OR(A2996=\"\",B2996=\"\"),\"\",VLOOKUP(A2996&\"_\"&B2996,Lookups!$E:$F,2,FALSE))","v":""},""]
[null,null,null,null,null,"",null,"",null,null,"","",{"$f":"IF(OR(A2997=\"\",B2997=\"\"),\"\",VLOOKUP(A2997&\"_\"&B2997,Lookups!$E:$F,2,FALSE))","v":""},""]
[null,null,null,null,null,"",null,"",null,null,"","",{"$f":"IF(OR(A2998=\"\",B2998=\"\"),\"\",VLOOKUP(A2998&\"_\"&B2998,Lookups!$E:$F,2,FALSE))","v":""},""]
[null,null,null,null,null,"",null,"",null,null,"","",{"$f":"IF(OR(A2999=\"\",B2999=\"\"),\"\",VLOOKUP(A2999&\"_\"&B2999,Lookups!$E:$F,2,FALSE))","v":""},""]
[null,null,null,null,null,"",null,"",null,null,"","",{"$f":"IF(OR(A3000=\"\",B3000=\"\"),\"\",VLOOKUP(A3000&\"_\"&B3000,Lookups!$E:$F,2,FALSE))","v":""},""]
[null,null,null,null,null,"",null,"",null,null,"","",{"$f":"IF(OR(A3001=\"\",B3001=\"\"),\"\",VLOOKUP(A3001&\"_\"&B3001,Lookups!$E:$F,2,FALSE))","v":""},""]
[null,null,null,null,null,"",null,"",null,null,"","",{"$f":"IF(OR(A3002=\"\",B3002=\"\"),\"\",VLOOKUP(A3002&\"_\"&B3002,Lookups!$E:$F,2,FALSE))","v":""},""]
[null,null,null,null,null,"",null,"",null,null,"","",{"$f":"IF(OR(A3003=\"\",B3003=\"\"),\"\",VLOOKUP(A3003&\"_\"&B3003,Lookups!$E:$F,2,FALSE))","v":""},""]
[null,null,null,null,null,"",null,"",null,null,"","",{"$f":"IF(OR(A3004=\"\",B3004=\"\"),\"\",VLOOKUP(A3004&\"_\"&B3004,Lookups!$E:$F,2,FALSE))","v":""},""]
[null,null,null,null,null,"",null,"",null,null,"","",{"$f":"IF(OR(A3005=\"\",B3005=\"\"),\"\",VLOOKUP(A3005&\"_\"&B3005,Lookups!$E:$F,2,FALSE))","v":""},""]
[null,null,null,null,null,"",null,"",null,null,"","",{"$f":"IF(OR(A3006=\"\",B3006=\"\"),\"\",VLOOKUP(A3006&\"_\"&B3006,Lookups!$E:$F,2,FALSE))","v":""},""]
[null,null,null,null,null,"",null,"",null,null,"","",{"$f":"IF(OR(A3007=\"\",B3007=\"\"),\"\",VLOOKUP(A3007&\"_\"&B3007,Lookups!$E:$F,2,FALSE))","v":""},""]
[null,null,null,null,null,"",null,"",null,null,"","",{"$f":"IF(OR(A3008=\"\",B3008=\"\"),\"\",VLOOKUP(A3008&\"_\"&B3008,Lookups!$E:$F,2,FALSE))","v":""},""]
[null,null,null,null,null,"",null,"",null,null,"","",{"$f":"IF(OR(A3009=\"\",B3009=\"\"),\"\",VLOOKUP(A3009&\"_\"&B3009,Lookups!$E:$F,2,FALSE))","v":""},""]
[null,null,null,null,null,"",null,"",null,null,"","",{"$f":"IF(OR(A3010=\"\",B3010=\"\"),\"\",VLOOKUP(A3010&\"_\"&B3010,Lookups!$E:$F,2,FALSE))","v":""},""]
[null,null,null,null,null,"",null,"",null,null,"","",{"$f":"IF(OR(A3011=\"\",B3011=\"\"),\"\",VLOOKUP(A3011&\"_\"&B3011,Lookups!$E:$F,2,FALSE))","v":""},""]
[null,null,null,null,null,{"$f":"IF(OR(D3012=\"\",E3012=\"\"),\"\",ROUND((E3012-D3012)*24,2))","v":""},null,{"$f":"IF(F3012=\"\",\"\",IF(G3012<>\"\",F3012*G3012,F3012))","v":""},null,null,{"$f":"IF(AND(H3012<>\"\",I3012=\"Paid\"),H3012,\"\")","v":""},{"$f":"IF(H3012=\"\",\"\",IF(K3012=\"\",H3012,H3012-K3012))","v":""},{"$f":"IF(OR(A3012=\"\",B3012=\"\"),\"\",VLOOKUP(A3012&\"_\"&B3012,Lookups!$E:$F,2,FALSE))","v":""},{"$f":"IF(AND(K3012=\"\",L3012=\"\"),\"\",IF(K3012=\"\",L3012*M3012,SUM(K3012,L3012)*M3012))","v":""}]
[null,null,null,null,null,"",null,"",null,null,"","",{"$f":"IF(OR(A3013=\"\",B3013=\"\"),\"\",VLOOKUP(A3013&\"_\"&B3013,Lookups!$E:$F,2,FALSE))","v":""},""]
[null,null,null,null,null,"",null,"",null,null,"","",{"$f":"IF(OR(A3014=\"\",B3014=\"\"),\"\",VLOOKUP(A3014&\"_\"&B3014,Lookups!$E:$F,2,FALSE))","v":""},""]
[null,null,null,null,null,"",null,"",null,null,"","",{"$f":"IF(OR(A3015=\"\",B3015=\"\"),\"\",VLOOKUP(A3015&\"_\"&B3015,Lookups!$E:$F,2,FALSE))","v":""},""]
[null,null,null,null,null,"",null,"",null,null,"","",{"$f":"IF(OR(A3016=\"\",B3016=\"\"),\"\",VLOOKUP(A3016&\"_\"&B3016,Lookups!$E:$F,2,FALSE))","v":""},""]
[null,null,null,null,null,"",null,"",null,null,"","",{"$f":"IF(OR(A3017=\"\",B3017=\"\"),\"\",VLOOKUP(A3017&\"_\"&B3017,Lookups!$E:$F,2,FALSE))","v":""},""]
[null,null,null,null,null,"",null,"",null,null,"","",{"$f":"IF(OR(A3018=\"\",B3018=\"\"),\"\",VLOOKUP(A3018&\"_\"&B3018,Lookups!$E:$F,2,FALSE))","v":""},""]
[null,null,null,null,null,"",null,"",null,null,"","",{"$f":"IF(OR(A3019=\"\",B3019=\"\"),\"\",VLOOKUP(A3019&\"_\"&B3019,Lookups!$E:$F,2,FALSE))","v":""},""]
[null,null,null,null,null,"",null,"",null,null,"","",{"$f":"IF(OR(A3020=\"\",B3020=\"\"),\"\",VLOOKUP(A3020&\"_\"&B3020,Lookups!$E:$F,2,FALSE))","v":""},""]
[null,null,null,null,null,"",null,"",null,null,"","",{"$f":"IF(OR(A3021=\"\",B3021=\"\"),\"\",VLOOKUP(A3021&\"_\"&B3021,Lookups!$E:$F,2,FALSE))","v":""},""]
[null,null,null,null,null,"",null,"",null,null,"","",{"$f":"IF(OR(A3022=\"\",B3022=\"\"),\"\",VLOOKUP(A3022&\"_\"&B3022,Lookups!$E:$F,2,FALSE))","v":""},""]
[null,null,null,null,null,"",null,"",null,null,"","",{"$f":"IF(OR(A3023=\"\",B3023=\"\"),\"\",VLOOKUP(A3023&\"_\"&B3023,Lookups!$E:$F,2,FALSE))","v":""},""]
[null,null,null,null,null,"",null,"",null,null,"","",{"$f":"IF(OR(A3024=\"\",B3024=\"\"),\"\",VLOOKUP(A3024&\"_\"&B3024,Lookups!$E:$F,2,FALSE))","v":""},""]
[null,null,null,null,null,"",null,"",null,null,"","",{"$f":"IF(OR(A3025=\"\",B3025=\"\"),\"\",VLOOKUP(A3025&\"_\"&B3025,Lookups!$E:$F,2,FALSE))","v":""},""]
[null,null,null,null,null,"",null,"",null,null,"","",{"$f":"IF(OR(A3026=\"\",B3026=\"\"),\"\",VLOOKUP(A3026&\"_\"&B3026,Lookups!$E:$F,2,FALSE))","v":""},""]
[null,null,null,null,null,"",null,"",null,null,"","",{"$f":"IF(OR(A3027=\"\",B3027=\"\"),\"\",VLOOKUP(A3027&\"_\"&B3027,Lookups!$E:$F,2,FALSE))","v":""},""]
[null,null,null,null,null,"",null,"",null,null,"","",{"$f":"IF(OR(A3028=\"\",B3028=\"\"),\"\",VLOOKUP(A3028&\"_\"&B3028,Lookups!$E:$F,2,FALSE))","v":""},""]
[null,null,null,null,null,"",null,"",null,null,"","",{"$f":"IF(OR(A3029=\"\",B3029=\"\"),\"\",VLOOKUP(A3029&\"_\"&B3029,Lookups!$E:$F,2,FALSE))","v":""},""]
[null,null,null,null,null,"",null,"",null,null,"","",{"$f":"IF(OR(A3030=\"\",B3030=\"\"),\"\",VLOOKUP(A3030&\"_\"&B3030,Lookups!$E:$F,2,FALSE))","v":""},""]
[null,null,null,null,null,"",null,"",null,null,"","",{"$f":"IF(OR(A3031=\"\",B3031=\"\"),\"\",VLOOKUP(A3031&\"_\"&B3031,Lookups!$E:$F,2,FALSE))","v":""},""]
[null,null,null,null,null,"",null,"",null,null,"","",{"$f":"IF(OR(A3032=\"\",B3032=\"\"),\"\",VLOOKUP(A3032&\"_\"&B3032,Lookups!$E:$F,2,FALSE))","v":""},""]
[null,null,null,null,null,"",null,"",null,null,"","",{"$f":"IF(OR(A3033=\"\",B3033=\"\"),\"\",VLOOKUP(A3033&\"_\"&B3033,Lookups!$E:$F,2,FALSE))","v":""},""]
[null,null,null,null,null,"",null,"",null,null,"","",{"$f":"IF(OR(A3034=\"\",B3034=\"\"),\"\",VLOOKUP(A3034&\"_\"&B3034,Lookups!$E:$F,2,FALSE))","v":""},""]
[null,null,null,null,null,"",null,"",null,null,"","",{"$f":"IF(OR(A3035=\"\",B3035=\"\"),\"\",VLOOKUP(A3035&\"_\"&B3035,Lookups!$E:$F,2,FALSE))","v":""},""]
[null,null,null,null,null,"",null,"",null,null,"","",{"$f":"IF(OR(A3036=\"\",B3036=\"\"),\"\",VLOOKUP(A3036&\"_\"&B3036,Lookups!$E:$F,2,FALSE))","v":""},""]
[null,null,null,null,null,"",null,"",null,null,"","",{"$f":"IF(OR(A3037=\"\",B3037=\"\"),\"\",VLOOKUP(A3037&\"_\"&B3037,Lookups!$E:$F,2,FALSE))","v":""},""]
[null,null,null,null,null,"",null,"",null,null,"","",{"$f":"IF(OR(A3038=\"\",B3038=\"\"),\"\",VLOOKUP(A3038&\"_\"&B3038,Lookups!$E:$F,2,FALSE))","v":""},""]
[null,null,null,null,null,"",null,"",null,null,"","",{"$f":"IF(OR(A3039=\"\",B3039=\"\"),\"\",VLOOKUP(A3039&\"_\"&B3039,Lookups!$E:$F,2,FALSE))","v":""},""]
[null,null,null,null,null,"",null,"",null,null,"","",{"$f":"IF(OR(A3040=\"\",B3040=\"\"),\"\",VLOOKUP(A3040&\"_\"&B3040,Lookups!$E:$F,2,FALSE))","v":""},""]
[null,null,null,null,null,"",null,"",null,null,"","",{"$f":"IF(OR(A3041=\"\",B3041=\"\"),\"\",VLOOKUP(A3041&\"_\"&B3041,Lookups!$E:$F,2,FALSE))","v":""},""]
[null,null,null,null,null,"",null,"",null,null,"","",{"$f":"IF(OR(A3042=\"\",B3042=\"\"),\"\",VLOOKUP(A3042&\"_\"&B3042,Lookups!$E:$F,2,FALSE))","v":""},""]
[null,null,null,null,null,"",null,"",null,null,"","",{"$f":"IF(OR(A3043=\"\",B3043=\"\"),\"\",VLOOKUP(A3043&\"_\"&B3043,Lookups!$E:$F,2,FALSE))","v":""},""]
[null,null,null,null,null,"",null,"",null,null,"","",{"$f":"IF(OR(A3044=\"\",B3044=\"\"),\"\",VLOOKUP(A3044&\"_\"&B3044,Lookups!$E:$F,2,FALSE))","v":""},""]
[null,null,null,null,null,"",null,"",null,null,"","",{"$f":"IF(OR(A3045=\"\",B3045=\"\"),\"\",VLOOKUP(A3045&\"_\"&B3045,Lookups!$E:$F,2,FALSE))","v":""},""]
[null,null,null,null,null,"",null,"",null,null,"","",{"$f":"IF(OR(A3046=\"\",B3046=\"\"),\"\",VLOOKUP(A3046&\"_\"&B3046,Lookups!$E:$F,2,FALSE))","v":""},""]
[null,null,null,null,null,"",null,"",null,null,"","",{"$f":"IF(OR(A3047=\"\",B3047=\"\"),\"\",VLOOKUP(A3047&\"_\"&B3047,Lookups!$E:$F,2,FALSE))","v":""},""]
[null,null,null,null,null,"",null,"",null,null,"","",{"$f":"IF(OR(A3048=\"\",B3048=\"\"),\"\",VLOOKUP(A3048&\"_\"&B3048,Lookups!$E:$F,2,FALSE))","v":""},""]
[null,null,null,null,null,"",null,"",null,null,"","",{"$f":"IF(OR(A3049=\"\",B3049=\"\"),\"\",VLOOKUP(A3049&\"_\"&B3049,Lookups!$E:$F,2,FALSE))","v":""},""]
[null,null,null,null,null,"",null,"",null,null,"","",{"$f":"IF(OR(A3050=\"\",B3050=\"\"),\"\",VLOOKUP(A3050&\"_\"&B3050,Lookups!$E:$F,2,FALSE))","v":""},""]
[null,null,null,null,null,"",null,"",null,null,"","",{"$f":"IF(OR(A3051=\"\",B3051=\"\"),\"\",VLOOKUP(A3051&\"_\"&B3051,Lookups!$E:$F,2,FALSE))","v":""},""]
[null,null,null,null,null,"",null,"",null,null,"","",{"$f":"IF(OR(A3052=\"\",B3052=\"\"),\"\",VLOOKUP(A3052&\"_\"&B3052,Lookups!$E:$F,2,FALSE))","v":""},""]
[null,null,null,null,null,"",null,"",null,null,"","",{"$f":"IF(OR(A3053=\"\",B3053=\"\"),\"\",VLOOKUP(A3053&\"_\"&B3053,Lookups!$E:$F,2,FALSE))","v":""},""]
[null,null,null,null,null,"",null,"",null,null,"","",{"$f":"IF(OR(A3054=\"\",B3054=\"\"),\"\",VLOOKUP(A3054&\"_\"&B3054,Lookups!$E:$F,2,FALSE))","v":""},""]
[null,null,null,null,null,"",null,"",null,null,"","",{"$f":"IF(OR(A3055=\"\",B3055=\"\"),\"\",VLOOKUP(A3055&\"_\"&B3055,Lookups!$E:$F,2,FALSE))","v":""},""]
[null,null,null,null,null,"",null,"",null,null,"","",{"$f":"IF(OR(A3056=\"\",B3056=\"\"),\"\",VLOOKUP(A3056&\"_\"&B3056,Lookups!$E:$F,2,FALSE))","v":""},""]
[null,null,null,null,null,"",null,"",null,null,"","",{"$f":"IF(OR(A3057=\"\",B3057=\"\"),\"\",VLOOKUP(A3057&\"_\"&B3057,Lookups!$E:$F,2,FALSE))","v":""},""]
[null,null,null,null,null,"",null,"",null,null,"","",{"$f":"IF(OR(A3058=\"\",B3058=\"\"),\"\",VLOOKUP(A3058&\"_\"&B3058,Lookups!$E:$F,2,FALSE))","v":""},""]
[null,null,null,null,null,"",null,"",null,null,"","",{"$f":"IF(OR(A3059=\"\",B3059=\"\"),\"\",VLOOKUP(A3059&\"_\"&B3059,Lookups!$E:$F,2,FALSE))","v":""},""]
[null,null,null,null,null,"",null,"",null,null,"","",{"$f":"IF(OR(A3060=\"\",B3060=\"\"),\"\",VLOOKUP(A3060&\"_\"&B3060,Lookups!$E:$F,2,FALSE))","v":""},""]
[null,null,null,null,null,"",null,"",null,null,"","",{"$f":"IF(OR(A3061=\"\",B3061=\"\"),\"\",VLOOKUP(A3061&\"_\"&B3061,Lookups!$E:$F,2,FALSE))","v":""},""]
[null,null,null,null,null,"",null,"",null,null,"","",{"$f":"IF(OR(A3062=\"\",B3062=\"\"),\"\",VLOOKUP(A3062&\"_\"&B3062,Lookups!$E:$F,2,FALSE))","v":""},""]
[null,null,null,null,null,"",null,"",null,null,"","",{"$f":"IF(OR(A3063=\"\",B3063=\"\"),\"\",VLOOKUP(A3063&\"_\"&B3063,Lookups!$E:$F,2,FALSE))","v":""},""]
[null,null,null,null,null,"",null,"",null,null,"","",{"$f":"IF(OR(A3064=\"\",B3064=\"\"),\"\",VLOOKUP(A3064&\"_\"&B3064,Lookups!$E:$F,2,FALSE))","v":""},""]
[null,null,null,null,null,"",null,"",null,null,"","",{"$f":"IF(OR(A3065=\"\",B3065=\"\"),\"\",VLOOKUP(A3065&\"_\"&B3065,Lookups!$E:$F,2,FALSE))","v":""},""]
[null,null,null,null,null,"",null,"",null,null,"","",{"$f":"IF(OR(A3066=\"\",B3066=\"\"),\"\",VLOOKUP(A3066&\"_\"&B3066,Lookups!$E:$F,2,FALSE))","v":""},""]
[null,null,null,null,null,"",null,"",null,null,"","",{"$f":"IF(OR(A3067=\"\",B3067=\"\"),\"\",VLOOKUP(A3067&\"_\"&B3067,Lookups!$E:$F,2,FALSE))","v":""},""]
[null,null,null,null,null,"",null,"",null,null,"","",{"$f":"IF(OR(A3068=\"\",B3068=\"\"),\"\",VLOOKUP(A3068&\"_\"&B3068,Lookups!$E:$F,2,FALSE))","v":""},""]
[null,null,null,null,null,"",null,"",null,null,"","",{"$f":"IF(OR(A3069=\"\",B3069=\"\"),\"\",VLOOKUP(A3069&\"_\"&B3069,Lookups!$E:$F,2,FALSE))","v":""},""]
[null,null,null,null,null,"",null,"",null,null,"","",{"$f":"IF(OR(A3070=\"\",B3070=\"\"),\"\",VLOOKUP(A3070&\"_\"&B3070,Lookups!$E:$F,2,FALSE))","v":""},""]
[null,null,null,null,null,"",null,"",null,null,"","",{"$f":"IF(OR(A3071=\"\",B3071=\"\"),\"\",VLOOKUP(A3071&\"_\"&B3071,Lookups!$E:$F,2,FALSE))","v":""},""]
[null,null,null,null,null,"",null,"",null,null,"","",{"$f":"IF(OR(A3072=\"\",B3072=\"\"),\"\",VLOOKUP(A3072&\"_\"&B3072,Lookups!$E:$F,2,FALSE))","v":""},""]
[null,null,null,null,null,"",null,"",null,null,"","",{"$f":"IF(OR(A3073=\"\",B3073=\"\"),\"\",VLOOKUP(A3073&\"_\"&B3073,Lookups!$E:$F,2,FALSE))","v":""},""]
[null,null,null,null,null,"",null,"",null,null,"","",{"$f":"IF(OR(A3074=\"\",B3074=\"\"),\"\",VLOOKUP(A3074&\"_\"&B3074,Lookups!$E:$F,2,FALSE))","v":""},""]
[null,null,null,null,null,"",null,"",null,null,"","",{"$f":"IF(OR(A3075=\"\",B3075=\"\"),\"\",VLOOKUP(A3075&\"_\"&B3075,Lookups!$E:$F,2,FALSE))","v":""},""]
[null,null,null,null,null,{"$f":"IF(OR(D3076=\"\",E3076=\"\"),\"\",ROUND((E3076-D3076)*24,2))","v":""},null,{"$f":"IF(F3076=\"\",\"\",IF(G3076<>\"\",F3076*G3076,F3076))","v":""},null,null,{"$f":"IF(AND(H3076<>\"\",I3076=\"Paid\"),H3076,\"\")","v":""},{"$f":"IF(H3076=\"\",\"\",IF(K3076=\"\",H3076,H3076-K3076))","v":""},{"$f":"IF(OR(A3076=\"\",B3076=\"\"),\"\",VLOOKUP(A3076&\"_\"&B3076,Lookups!$E:$F,2,FALSE))","v":""},{"$f":"IF(AND(K3076=\"\",L3076=\"\"),\"\",IF(K3076=\"\",L3076*M3076,SUM(K3076,L3076)*M3076))","v":""}]
[null,null,null,null,null,"",null,"",null,null,"","",{"$f":"IF(OR(A3077=\"\",B3077=\"\"),\"\",VLOOKUP(A3077&\"_\"&B3077,Lookups!$E:$F,2,FALSE))","v":""},""]
[null,null,null,null,null,"",null,"",null,null,"","",{"$f":"IF(OR(A3078=\"\",B3078=\"\"),\"\",VLOOKUP(A3078&\"_\"&B3078,Lookups!$E:$F,2,FALSE))","v":""},""]
[null,null,null,null,null,"",null,"",null,null,"","",{"$f":"IF(OR(A3079=\"\",B3079=\"\"),\"\",VLOOKUP(A3079&\"_\"&B3079,Lookups!$E:$F,2,FALSE))","v":""},""]
[null,null,null,null,null,"",null,"",null,null,"","",{"$f":"IF(OR(A3080=\"\",B3080=\"\"),\"\",VLOOKUP(A3080&\"_\"&B3080,Lookups!$E:$F,2,FALSE))","v":""},""]
[null,null,null,null,null,"",null,"",null,null,"","",{"$f":"IF(OR(A3081=\"\",B3081=\"\"),\"\",VLOOKUP(A3081&\"_\"&B3081,Lookups!$E:$F,2,FALSE))","v":""},""]
[null,null,null,null,null,"",null,"",null,null,"","",{"$f":"IF(OR(A3082=\"\",B3082=\"\"),\"\",VLOOKUP(A3082&\"_\"&B3082,Lookups!$E:$F,2,FALSE))","v":""},""]
[null,null,null,null,null,"",null,"",null,null,"","",{"$f":"IF(OR(A3083=\"\",B3083=\"\"),\"\",VLOOKUP(A3083&\"_\"&B3083,Lookups!$E:$F,2,FALSE))","v":""},""]
[null,null,null,null,null,"",null,"",null,null,"","",{"$f":"IF(OR(A3084=\"\",B3084=\"\"),\"\",VLOOKUP(A3084&\"_\"&B3084,Lookups!$E:$F,2,FALSE))","v":""},""]
[null,null,null,null,null,"",null,"",null,null,"","",{"$f":"IF(OR(A3085=\"\",B3085=\"\"),\"\",VLOOKUP(A3085&\"_\"&B3085,Lookups!$E:$F,2,FALSE))","v":""},""]
[null,null,null,null,null,"",null,"",null,null,"","",{"$f":"IF(OR(A3086=\"\",B3086=\"\"),\"\",VLOOKUP(A3086&\"_\"&B3086,Lookups!$E:$F,2,FALSE))","v":""},""]
[null,null,null,null,null,"",null,"",null,null,"","",{"$f":"IF(OR(A3087=\"\",B3087=\"\"),\"\",VLOOKUP(A3087&\"_\"&B3087,Lookups!$E:$F,2,FALSE))","v":""},""]
[null,null,null,null,null,"",null,"",null,null,"","",{"$f":"IF(OR(A3088=\"\",B3088=\"\"),\"\",VLOOKUP(A3088&\"_\"&B3088,Lookups!$E:$F,2,FALSE))","v":""},""]
[null,null,null,null,null,"",null,"",null,null,"","",{"$f":"IF(OR(A3089=\"\",B3089=\"\"),\"\",VLOOKUP(A3089&\"_\"&B3089,Lookups!$E:$F,2,FALSE))","v":""},""]
[null,null,null,null,null,"",null,"",null,null,"","",{"$f":"IF(OR(A3090=\"\",B3090=\"\"),\"\",VLOOKUP(A3090&\"_\"&B3090,Lookups!$E:$F,2,FALSE))","v":""},""]
[null,null,null,null,null,"",null,"",null,null,"","",{"$f":"IF(OR(A3091=\"\",B3091=\"\"),\"\",VLOOKUP(A3091&\"_\"&B3091,Lookups!$E:$F,2,FALSE))","v":""},""]
[null,null,null,null,null,"",null,"",null,null,"","",{"$f":"IF(OR(A3092=\"\",B3092=\"\"),\"\",VLOOKUP(A3092&\"_\"&B3092,Lookups!$E:$F,2,FALSE))","v":""},""]
[null,null,null,null,null,"",null,"",null,null,"","",{"$f":"IF(OR(A3093=\"\",B3093=\"\"),\"\",VLOOKUP(A3093&\"_\"&B3093,Lookups!$E:$F,2,FALSE))","v":""},""]
[null,null,null,null,null,"",null,"",null,null,"","",{"$f":"IF(OR(A3094=\"\",B3094=\"\"),\"\",VLOOKUP(A3094&\"_\"&B3094,Lookups!$E:$F,2,FALSE))","v":""},""]
[null,null,null,null,null,"",null,"",null,null,"","",{"$f":"IF(OR(A3095=\"\",B3095=\"\"),\"\",VLOOKUP(A3095&\"_\"&B3095,Lookups!$E:$F,2,FALSE))","v":""},""]
[null,null,null,null,null,"",null,"",null,null,"","",{"$f":"IF(OR(A3096=\"\",B3096=\"\"),\"\",VLOOKUP(A3096&\"_\"&B3096,Lookups!$E:$F,2,FALSE))","v":""},""]
[null,null,null,null,null,"",null,"",null,null,"","",{"$f":"IF(OR(A3097=\"\",B3097=\"\"),\"\",VLOOKUP(A3097&\"_\"&B3097,Lookups!$E:$F,2,FALSE))","v":""},""]
[null,null,null,null,null,"",null,"",null,null,"","",{"$f":"IF(OR(A3098=\"\",B3098=\"\"),\"\",VLOOKUP(A3098&\"_\"&B3098,Lookups!$E:$F,2,FALSE))","v":""},""]
[null,null,null,null,null,"",null,"",null,null,"","",{"$f":"IF(OR(A3099=\"\",B3099=\"\"),\"\",VLOOKUP(A3099&\"_\"&B3099,Lookups!$E:$F,2,FALSE))","v":""},""]
[null,null,null,null,null,"",null,"",null,null,"","",{"$f":"IF(OR(A3100=\"\",B3100=\"\"),\"\",VLOOKUP(A3100&\"_\"&B3100,Lookups!$E:$F,2,FALSE))","v":""},""]
[null,null,null,null,null,"",null,"",null,null,"","",{"$f":"IF(OR(A3101=\"\",B3101=\"\"),\"\",VLOOKUP(A3101&\"_\"&B3101,Lookups!$E:$F,2,FALSE))","v":""},""]
[null,null,null,null,null,"",null,"",null,null,"","",{"$f":"IF(OR(A3102=\"\",B3102=\"\"),\"\",VLOOKUP(A3102&\"_\"&B3102,Lookups!$E:$F,2,FALSE))","v":""},""]
[null,null,null,null,null,"",null,"",null,null,"","",{"$f":"IF(OR(A3103=\"\",B3103=\"\"),\"\",VLOOKUP(A3103&\"_\"&B3103,Lookups!$E:$F,2,FALSE))","v":""},""]
[null,null,null,null,null,"",null,"",null,null,"","",{"$f":"IF(OR(A3104=\"\",B3104=\"\"),\"\",VLOOKUP(A3104&\"_\"&B3104,Lookups!$E:$F,2,FALSE))","v":""},""]
[null,null,null,null,null,"",null,"",null,null,"","",{"$f":"IF(OR(A3105=\"\",B3105=\"\"),\"\",VLOOKUP(A3105&\"_\"&B3105,Lookups!$E:$F,2,FALSE))","v":""},""]
[null,null,null,null,null,"",null,"",null,null,"","",{"$f":"IF(OR(A3106=\"\",B3106=\"\"),\"\",VLOOKUP(A3106&\"_\"&B3106,Lookups!$E:$F,2,FALSE))","v":""},""]
[null,null,null,null,null,"",null,"",null,null,"","",{"$f":"IF(OR(A3107=\"\",B3107=\"\"),\"\",VLOOKUP(A3107&\"_\"&B3107,Lookups!$E:$F,2,FALSE))","v":""},""]
[null,null,null,null,null,"",null,"",null,null,"","",{"$f":"IF(OR(A3108=\"\",B3108=\"\"),\"\",VLOOKUP(A3108&\"_\"&B3108,Lookups!$E:$F,2,FALSE))","v":""},""]
[null,null,null,null,null,"",null,"",null,null,"","",{"$f":"IF(OR(A3109=\"\",B3109=\"\"),\"\",VLOOKUP(A3109&\"_\"&B3109,Lookups!$E:$F,2,FALSE))","v":""},""]
[null,null,null,null,null,"",null,"",null,null,"","",{"$f":"IF(OR(A3110=\"\",B3110=\"\"),\"\",VLOOKUP(A3110&\"_\"&B3110,Lookups!$E:$F,2,FALSE))","v":""},""]
[null,null,null,null,null,"",null,"",null,null,"","",{"$f":"IF(OR(A3111=\"\",B3111=\"\"),\"\",VLOOKUP(A3111&\"_\"&B3111,Lookups!$E:$F,2,FALSE))","v":""},""]
[null,null,null,null,null,"",null,"",null,null,"","",{"$f":"IF(OR(A3112=\"\",B3112=\"\"),\"\",VLOOKUP(A3112&\"_\"&B3112,Lookups!$E:$F,2,FALSE))","v":""},""]
[null,null,null,null,null,"",null,"",null,null,"","",{"$f":"IF(OR(A3113=\"\",B3113=\"\"),\"\",VLOOKUP(A3113&\"_\"&B3113,Lookups!$E:$F,2,FALSE))","v":""},""]
[null,null,null,null,null,"",null,"",null,null,"","",{"$f":"IF(OR(A3114=\"\",B3114=\"\"),\"\",VLOOKUP(A3114&\"_\"&B3114,Lookups!$E:$F,2,FALSE))","v":""},""]
[null,null,null,null,null,"",null,"",null,null,"","",{"$f":"IF(OR(A3115=\"\",B3115=\"\"),\"\",VLOOKUP(A3115&\"_\"&B3115,Lookups!$E:$F,2,FALSE))","v":""},""]
[null,null,null,null,null,"",null,"",null,null,"","",{"$f":"IF(OR(A3116=\"\",B3116=\"\"),\"\",VLOOKUP(A3116&\"_\"&B3116,Lookups!$E:$F,2,FALSE))","v":""},""]
[null,null,null,null,null,"",null,"",null,null,"","",{"$f":"IF(OR(A3117=\"\",B3117=\"\"),\"\",VLOOKUP(A3117&\"_\"&B3117,Lookups!$E:$F,2,FALSE))","v":""},""]
[null,null,null,null,null,"",null,"",null,null,"","",{"$f":"IF(OR(A3118=\"\",B3118=\"\"),\"\",VLOOKUP(A3118&\"_\"&B3118,Lookups!$E:$F,2,FALSE))","v":""},""]
[null,null,null,null,null,"",null,"",null,null,"","",{"$f":"IF(OR(A3119=\"\",B3119=\"\"),\"\",VLOOKUP(A3119&\"_\"&B3119,Lookups!$E:$F,2,FALSE))","v":""},""]
[null,null,null,null,null,"",null,"",null,null,"","",{"$f":"IF(OR(A3120=\"\",B3120=\"\"),\"\",VLOOKUP(A3120&\"_\"&B3120,Lookups!$E:$F,2,FALSE))","v":""},""]
[null,null,null,null,null,"",null,"",null,null,"","",{"$f":"IF(OR(A3121=\"\",B3121=\"\"),\"\",VLOOKUP(A3121&\"_\"&B3121,Lookups!$E:$F,2,FALSE))","v":""},""]
[null,null,null,null,null,"",null,"",null,null,"","",{"$f":"IF(OR(A3122=\"\",B3122=\"\"),\"\",VLOOKUP(A3122&\"_\"&B3122,Lookups!$E:$F,2,FALSE))","v":""},""]
[null,null,null,null,null,"",null,"",null,null,"","",{"$f":"IF(OR(A3123=\"\",B3123=\"\"),\"\",VLOOKUP(A3123&\"_\"&B3123,Lookups!$E:$F,2,FALSE))","v":""},""]
[null,null,null,null,null,"",null,"",null,null,"","",{"$f":"IF(OR(A3124=\"\",B3124=\"\"),\"\",VLOOKUP(A3124&\"_\"&B3124,Lookups!$E:$F,2,FALSE))","v":""},""]
[null,null,null,null,null,"",null,"",null,null,"","",{"$f":"IF(OR(A3125=\"\",B3125=\"\"),\"\",VLOOKUP(A3125&\"_\"&B3125,Lookups!$E:$F,2,FALSE))","v":""},""]
[null,null,null,null,null,"",null,"",null,null,"","",{"$f":"IF(OR(A3126=\"\",B3126=\"\"),\"\",VLOOKUP(A3126&\"_\"&B3126,Lookups!$E:$F,2,FALSE))","v":""},""]
[null,null,null,null,null,"",null,"",null,null,"","",{"$f":"IF(OR(A3127=\"\",B3127=\"\"),\"\",VLOOKUP(A3127&\"_\"&B3127,Lookups!$E:$F,2,FALSE))","v":""},""]
[null,null,null,null,null,"",null,"",null,null,"","",{"$f":"IF(OR(A3128=\"\",B3128=\"\"),\"\",VLOOKUP(A3128&\"_\"&B3128,Lookups!$E:$F,2,FALSE))","v":""},""]
[null,null,null,null,null,"",null,"",null,null,"","",{"$f":"IF(OR(A3129=\"\",B3129=\"\"),\"\",VLOOKUP(A3129&\"_\"&B3129,Lookups!$E:$F,2,FALSE))","v":""},""]
[null,null,null,null,null,"",null,"",null,null,"","",{"$f":"IF(OR(A3130=\"\",B3130=\"\"),\"\",VLOOKUP(A3130&\"_\"&B3130,Lookups!$E:$F,2,FALSE))","v":""},""]
[null,null,null,null,null,"",null,"",null,null,"","",{"$f":"IF(OR(A3131=\"\",B3131=\"\"),\"\",VLOOKUP(A3131&\"_\"&B3131,Lookups!$E:$F,2,FALSE))","v":""},""]
[null,null,null,null,null,"",null,"",null,null,"","",{"$f":"IF(OR(A3132=\"\",B3132=\"\"),\"\",VLOOKUP(A3132&\"_\"&B3132,Lookups!$E:$F,2,FALSE))","v":""},""]
[null,null,null,null,null,"",null,"",null,null,"","",{"$f":"IF(OR(A3133=\"\",B3133=\"\"),\"\",VLOOKUP(A3133&\"_\"&B3133,Lookups!$E:$F,2,FALSE))","v":""},""]
[null,null,null,null,null,"",null,"",null,null,"","",{"$f":"IF(OR(A3134=\"\",B3134=\"\"),\"\",VLOOKUP(A3134&\"_\"&B3134,Lookups!$E:$F,2,FALSE))","v":""},""]
[null,null,null,null,null,"",null,"",null,null,"","",{"$f":"IF(OR(A3135=\"\",B3135=\"\"),\"\",VLOOKUP(A3135&\"_\"&B3135,Lookups!$E:$F,2,FALSE))","v":""},""]
[null,null,null,null,null,"",null,"",null,null,"","",{"$f":"IF(OR(A3136=\"\",B3136=\"\"),\"\",VLOOKUP(A3136&\"_\"&B3136,Lookups!$E:$F,2,FALSE))","v":""},""]
[null,null,null,null,null,"",null,"",null,null,"","",{"$f":"IF(OR(A3137=\"\",B3137=\"\"),\"\",VLOOKUP(A3137&\"_\"&B3137,Lookups!$E:$F,2,FALSE))","v":""},""]
[null,null,null,null,null,"",null,"",null,null,"","",{"$f":"IF(OR(A3138=\"\",B3138=\"\"),\"\",VLOOKUP(A3138&\"_\"&B3138,Lookups!$E:$F,2,FALSE))","v":""},""]
[null,null,null,null,null,"",null,"",null,null,"","",{"$f":"IF(OR(A3139=\"\",B3139=\"\"),\"\",VLOOKUP(A3139&\"_\"&B3139,Lookups!$E:$F,2,FALSE))","v":""},""]
[null,null,null,null,null,{"$f":"IF(OR(D3140=\"\",E3140=\"\"),\"\",ROUND((E3140-D3140)*24,2))","v":""},null,{"$f":"IF(F3140=\"\",\"\",IF(G3140<>\"\",F3140*G3140,F3140))","v":""},null,null,{"$f":"IF(AND(H3140<>\"\",I3140=\"Paid\"),H3140,\"\")","v":""},{"$f":"IF(H3140=\"\",\"\",IF(K3140=\"\",H3140,H3140-K3140))","v":""},{"$f":"IF(OR(A3140=\"\",B3140=\"\"),\"\",VLOOKUP(A3140&\"_\"&B3140,Lookups!$E:$F,2,FALSE))","v":""},{"$f":"IF(AND(K3140=\"\",L3140=\"\"),\"\",IF(K3140=\"\",L3140*M3140,SUM(K3140,L3140)*M3140))","v":""}]
[null,null,null,null,null,"",null,"",null,null,"","",{"$f":"IF(OR(A3141=\"\",B3141=\"\"),\"\",VLOOKUP(A3141&\"_\"&B3141,Lookups!$E:$F,2,FALSE))","v":""},""]
[null,null,null,null,null,"",null,"",null,null,"","",{"$f":"IF(OR(A3142=\"\",B3142=\"\"),\"\",VLOOKUP(A3142&\"_\"&B3142,Lookups!$E:$F,2,FALSE))","v":""},""]
[null,null,null,null,null,"",null,"",null,null,"","",{"$f":"IF(OR(A3143=\"\",B3143=\"\"),\"\",VLOOKUP(A3143&\"_\"&B3143,Lookups!$E:$F,2,FALSE))","v":""},""]
[null,null,null,null,null,"",null,"",null,null,"","",{"$f":"IF(OR(A3144=\"\",B3144=\"\"),\"\",VLOOKUP(A3144&\"_\"&B3144,Lookups!$E:$F,2,FALSE))","v":""},""]
[null,null,null,null,null,"",null,"",null,null,"","",{"$f":"IF(OR(A3145=\"\",B3145=\"\"),\"\",VLOOKUP(A3145&\"_\"&B3145,Lookups!$E:$F,2,FALSE))","v":""},""]
[null,null,null,null,null,"",null,"",null,null,"","",{"$f":"IF(OR(A3146=\"\",B3146=\"\"),\"\",VLOOKUP(A3146&\"_\"&B3146,Lookups!$E:$F,2,FALSE))","v":""},""]
[null,null,null,null,null,"",null,"",null,null,"","",{"$f":"IF(OR(A3147=\"\",B3147=\"\"),\"\",VLOOKUP(A3147&\"_\"&B3147,Lookups!$E:$F,2,FALSE))","v":""},""]
[null,null,null,null,null,"",null,"",null,null,"","",{"$f":"IF(OR(A3148=\"\",B3148=\"\"),\"\",VLOOKUP(A3148&\"_\"&B3148,Lookups!$E:$F,2,FALSE))","v":""},""]
[null,null,null,null,null,"",null,"",null,null,"","",{"$f":"IF(OR(A3149=\"\",B3149=\"\"),\"\",VLOOKUP(A3149&\"_\"&B3149,Lookups!$E:$F,2,FALSE))","v":""},""]
[null,null,null,null,null,"",null,"",null,null,"","",{"$f":"IF(OR(A3150=\"\",B3150=\"\"),\"\",VLOOKUP(A3150&\"_\"&B3150,Lookups!$E:$F,2,FALSE))","v":""},""]
[null,null,null,null,null,"",null,"",null,null,"","",{"$f":"IF(OR(A3151=\"\",B3151=\"\"),\"\",VLOOKUP(A3151&\"_\"&B3151,Lookups!$E:$F,2,FALSE))","v":""},""]
[null,null,null,null,null,"",null,"",null,null,"","",{"$f":"IF(OR(A3152=\"\",B3152=\"\"),\"\",VLOOKUP(A3152&\"_\"&B3152,Lookups!$E:$F,2,FALSE))","v":""},""]
[null,null,null,null,null,"",null,"",null,null,"","",{"$f":"IF(OR(A3153=\"\",B3153=\"\"),\"\",VLOOKUP(A3153&\"_\"&B3153,Lookups!$E:$F,2,FALSE))","v":""},""]
[null,null,null,null,null,"",null,"",null,null,"","",{"$f":"IF(OR(A3154=\"\",B3154=\"\"),\"\",VLOOKUP(A3154&\"_\"&B3154,Lookups!$E:$F,2,FALSE))","v":""},""]
[null,null,null,null,null,"",null,"",null,null,"","",{"$f":"IF(OR(A3155=\"\",B3155=\"\"),\"\",VLOOKUP(A3155&\"_\"&B3155,Lookups!$E:$F,2,FALSE))","v":""},""]
[null,null,null,null,null,"",null,"",null,null,"","",{"$f":"IF(OR(A3156=\"\",B3156=\"\"),\"\",VLOOKUP(A3156&\"_\"&B3156,Lookups!$E:$F,2,FALSE))","v":""},""]
[null,null,null,null,null,"",null,"",null,null,"","",{"$f":"IF(OR(A3157=\"\",B3157=\"\"),\"\",VLOOKUP(A3157&\"_\"&B3157,Lookups!$E:$F,2,FALSE))","v":""},""]
[null,null,null,null,null,"",null,"",null,null,"","",{"$f":"IF(OR(A3158=\"\",B3158=\"\"),\"\",VLOOKUP(A3158&\"_\"&B3158,Lookups!$E:$F,2,FALSE))","v":""},""]
[null,null,null,null,null,"",null,"",null,null,"","",{"$f":"IF(OR(A3159=\"\",B3159=\"\"),\"\",VLOOKUP(A3159&\"_\"&B3159,Lookups!$E:$F,2,FALSE))","v":""},""]
[null,null,null,null,null,"",null,"",null,null,"","",{"$f":"IF(OR(A3160=\"\",B3160=\"\"),\"\",VLOOKUP(A3160&\"_\"&B3160,Lookups!$E:$F,2,FALSE))","v":""},""]
[null,null,null,null,null,"",null,"",null,null,"","",{"$f":"IF(OR(A3161=\"\",B3161=\"\"),\"\",VLOOKUP(A3161&\"_\"&B3161,Lookups!$E:$F,2,FALSE))","v":""},""]
[null,null,null,null,null,"",null,"",null,null,"","",{"$f":"IF(OR(A3162=\"\",B3162=\"\"),\"\",VLOOKUP(A3162&\"_\"&B3162,Lookups!$E:$F,2,FALSE))","v":""},""]
[null,null,null,null,null,"",null,"",null,null,"","",{"$f":"IF(OR(A3163=\"\",B3163=\"\"),\"\",VLOOKUP(A3163&\"_\"&B3163,Lookups!$E:$F,2,FALSE))","v":""},""]
[null,null,null,null,null,"",null,"",null,null,"","",{"$f":"IF(OR(A3164=\"\",B3164=\"\"),\"\",VLOOKUP(A3164&\"_\"&B3164,Lookups!$E:$F,2,FALSE))","v":""},""]
[null,null,null,null,null,"",null,"",null,null,"","",{"$f":"IF(OR(A3165=\"\",B3165=\"\"),\"\",VLOOKUP(A3165&\"_\"&B3165,Lookups!$E:$F,2,FALSE))","v":""},""]
[null,null,null,null,null,"",null,"",null,null,"","",{"$f":"IF(OR(A3166=\"\",B3166=\"\"),\"\",VLOOKUP(A3166&\"_\"&B3166,Lookups!$E:$F,2,FALSE))","v":""},""]
[null,null,null,null,null,"",null,"",null,null,"","",{"$f":"IF(OR(A3167=\"\",B3167=\"\"),\"\",VLOOKUP(A3167&\"_\"&B3167,Lookups!$E:$F,2,FALSE))","v":""},""]
[null,null,null,null,null,"",null,"",null,null,"","",{"$f":"IF(OR(A3168=\"\",B3168=\"\"),\"\",VLOOKUP(A3168&\"_\"&B3168,Lookups!$E:$F,2,FALSE))","v":""},""]
[null,null,null,null,null,"",null,"",null,null,"","",{"$f":"IF(OR(A3169=\"\",B3169=\"\"),\"\",VLOOKUP(A3169&\"_\"&B3169,Lookups!$E:$F,2,FALSE))","v":""},""]
[null,null,null,null,null,"",null,"",null,null,"","",{"$f":"IF(OR(A3170=\"\",B3170=\"\"),\"\",VLOOKUP(A3170&\"_\"&B3170,Lookups!$E:$F,2,FALSE))","v":""},""]
[null,null,null,null,null,"",null,"",null,null,"","",{"$f":"IF(OR(A3171=\"\",B3171=\"\"),\"\",VLOOKUP(A3171&\"_\"&B3171,Lookups!$E:$F,2,FALSE))","v":""},""]
[null,null,null,null,null,"",null,"",null,null,"","",{"$f":"IF(OR(A3172=\"\",B3172=\"\"),\"\",VLOOKUP(A3172&\"_\"&B3172,Lookups!$E:$F,2,FALSE))","v":""},""]
[null,null,null,null,null,"",null,"",null,null,"","",{"$f":"IF(OR(A3173=\"\",B3173=\"\"),\"\",VLOOKUP(A3173&\"_\"&B3173,Lookups!$E:$F,2,FALSE))","v":""},""]
[null,null,null,null,null,"",null,"",null,null,"","",{"$f":"IF(OR(A3174=\"\",B3174=\"\"),\"\",VLOOKUP(A3174&\"_\"&B3174,Lookups!$E:$F,2,FALSE))","v":""},""]
[null,null,null,null,null,"",null,"",null,null,"","",{"$f":"IF(OR(A3175=\"\",B3175=\"\"),\"\",VLOOKUP(A3175&\"_\"&B3175,Lookups!$E:$F,2,FALSE))","v":""},""]
[null,null,null,null,null,"",null,"",null,null,"","",{"$f":"IF(OR(A3176=\"\",B3176=\"\"),\"\",VLOOKUP(A3176&\"_\"&B3176,Lookups!$E:$F,2,FALSE))","v":""},""]
[null,null,null,null,null,"",null,"",null,null,"","",{"$f":"IF(OR(A3177=\"\",B3177=\"\"),\"\",VLOOKUP(A3177&\"_\"&B3177,Lookups!$E:$F,2,FALSE))","v":""},""]
[null,null,null,null,null,"",null,"",null,null,"","",{"$f":"IF(OR(A3178=\"\",B3178=\"\"),\"\",VLOOKUP(A3178&\"_\"&B3178,Lookups!$E:$F,2,FALSE))","v":""},""]
[null,null,null,null,null,"",null,"",null,null,"","",{"$f":"IF(OR(A3179=\"\",B3179=\"\"),\"\",VLOOKUP(A3179&\"_\"&B3179,Lookups!$E:$F,2,FALSE))","v":""},""]
[null,null,null,null,null,"",null,"",null,null,"","",{"$f":"IF(OR(A3180=\"\",B3180=\"\"),\"\",VLOOKUP(A3180&\"_\"&B3180,Lookups!$E:$F,2,FALSE))","v":""},""]
[null,null,null,null,null,"",null,"",null,null,"","",{"$f":"IF(OR(A3181=\"\",B3181=\"\"),\"\",VLOOKUP(A3181&\"_\"&B3181,Lookups!$E:$F,2,FALSE))","v":""},""]
[null,null,null,null,null,"",null,"",null,null,"","",{"$f":"IF(OR(A3182=\"\",B3182=\"\"),\"\",VLOOKUP(A3182&\"_\"&B3182,Lookups!$E:$F,2,FALSE))","v":""},""]
[null,null,null,null,null,"",null,"",null,null,"","",{"$f":"IF(OR(A3183=\"\",B3183=\"\"),\"\",VLOOKUP(A3183&\"_\"&B3183,Lookups!$E:$F,2,FALSE))","v":""},""]
[null,null,null,null,null,"",null,"",null,null,"","",{"$f":"IF(OR(A3184=\"\",B3184=\"\"),\"\",VLOOKUP(A3184&\"_\"&B3184,Lookups!$E:$F,2,FALSE))","v":""},""]
[null,null,null,null,null,"",null,"",null,null,"","",{"$f":"IF(OR(A3185=\"\",B3185=\"\"),\"\",VLOOKUP(A3185&\"_\"&B3185,Lookups!$E:$F,2,FALSE))","v":""},""]
[null,null,null,null,null,"",null,"",null,null,"","",{"$f":"IF(OR(A3186=\"\",B3186=\"\"),\"\",VLOOKUP(A3186&\"_\"&B3186,Lookups!$E:$F,2,FALSE))","v":""},""]
[null,null,null,null,null,"",null,"",null,null,"","",{"$f":"IF(OR(A3187=\"\",B3187=\"\"),\"\",VLOOKUP(A3187&\"_\"&B3187,Lookups!$E:$F,2,FALSE))","v":""},""]
[null,null,null,null,null,"",null,"",null,null,"","",{"$f":"IF(OR(A3188=\"\",B3188=\"\"),\"\",VLOOKUP(A3188&\"_\"&B3188,Lookups!$E:$F,2,FALSE))","v":""},""]
[null,null,null,null,null,"",null,"",null,null,"","",{"$f":"IF(OR(A3189=\"\",B3189=\"\"),\"\",VLOOKUP(A3189&\"_\"&B3189,Lookups!$E:$F,2,FALSE))","v":""},""]
[null,null,null,null,null,"",null,"",null,null,"","",{"$f":"IF(OR(A3190=\"\",B3190=\"\"),\"\",VLOOKUP(A3190&\"_\"&B3190,Lookups!$E:$F,2,FALSE))","v":""},""]
[null,null,null,null,null,"",null,"",null,null,"","",{"$f":"IF(OR(A3191=\"\",B3191=\"\"),\"\",VLOOKUP(A3191&\"_\"&B3191,Lookups!$E:$F,2,FALSE))","v":""},""]
[null,null,null,null,null,"",null,"",null,null,"","",{"$f":"IF(OR(A3192=\"\",B3192=\"\"),\"\",VLOOKUP(A3192&\"_\"&B3192,Lookups!$E:$F,2,FALSE))","v":""},""]
[null,null,null,null,null,"",null,"",null,null,"","",{"$f":"IF(OR(A3193=\"\",B3193=\"\"),\"\",VLOOKUP(A3193&\"_\"&B3193,Lookups!$E:$F,2,FALSE))","v":""},""]
[null,null,null,null,null,"",null,"",null,null,"","",{"$f":"IF(OR(A3194=\"\",B3194=\"\"),\"\",VLOOKUP(A3194&\"_\"&B3194,Lookups!$E:$F,2,FALSE))","v":""},""]
[null,null,null,null,null,"",null,"",null,null,"","",{"$f":"IF(OR(A3195=\"\",B3195=\"\"),\"\",VLOOKUP(A3195&\"_\"&B3195,Lookups!$E:$F,2,FALSE))","v":""},""]
[null,null,null,null,null,"",null,"",null,null,"","",{"$f":"IF(OR(A3196=\"\",B3196=\"\"),\"\",VLOOKUP(A3196&\"_\"&B3196,Lookups!$E:$F,2,FALSE))","v":""},""]
[null,null,null,null,null,"",null,"",null,null,"","",{"$f":"IF(OR(A3197=\"\",B3197=\"\"),\"\",VLOOKUP(A3197&\"_\"&B3197,Lookups!$E:$F,2,FALSE))","v":""},""]
[null,null,null,null,null,"",null,"",null,null,"","",{"$f":"IF(OR(A3198=\"\",B3198=\"\"),\"\",VLOOKUP(A3198&\"_\"&B3198,Lookups!$E:$F,2,FALSE))","v":""},""]
[null,null,null,null,null,"",null,"",null,null,"","",{"$f":"IF(OR(A3199=\"\",B3199=\"\"),\"\",VLOOKUP(A3199&\"_\"&B3199,Lookups!$E:$F,2,FALSE))","v":""},""]
[null,null,null,null,null,"",null,"",null,null,"","",{"$f":"IF(OR(A3200=\"\",B3200=\"\"),\"\",VLOOKUP(A3200&\"_\"&B3200,Lookups!$E:$F,2,FALSE))","v":""},""]
[null,null,null,null,null,"",null,"",null,null,"","",{"$f":"IF(OR(A3201=\"\",B3201=\"\"),\"\",VLOOKUP(A3201&\"_\"&B3201,Lookups!$E:$F,2,FALSE))","v":""},""]
[null,null,null,null,null,"",null,"",null,null,"","",{"$f":"IF(OR(A3202=\"\",B3202=\"\"),\"\",VLOOKUP(A3202&\"_\"&B3202,Lookups!$E:$F,2,FALSE))","v":""},""]
[null,null,null,null,null,"",null,"",null,null,"","",{"$f":"IF(OR(A3203=\"\",B3203=\"\"),\"\",VLOOKUP(A3203&\"_\"&B3203,Lookups!$E:$F,2,FALSE))","v":""},""]
[null,null,null,null,null,{"$f":"IF(OR(D3204=\"\",E3204=\"\"),\"\",ROUND((E3204-D3204)*24,2))","v":""},null,{"$f":"IF(F3204=\"\",\"\",IF(G3204<>\"\",F3204*G3204,F3204))","v":""},null,null,{"$f":"IF(AND(H3204<>\"\",I3204=\"Paid\"),H3204,\"\")","v":""},{"$f":"IF(H3204=\"\",\"\",IF(K3204=\"\",H3204,H3204-K3204))","v":""},{"$f":"IF(OR(A3204=\"\",B3204=\"\"),\"\",VLOOKUP(A3204&\"_\"&B3204,Lookups!$E:$F,2,FALSE))","v":""},{"$f":"IF(AND(K3204=\"\",L3204=\"\"),\"\",IF(K3204=\"\",L3204*M3204,SUM(K3204,L3204)*M3204))","v":""}]
[null,null,null,null,null,"",null,"",null,null,"","",{"$f":"IF(OR(A3205=\"\",B3205=\"\"),\"\",VLOOKUP(A3205&\"_\"&B3205,Lookups!$E:$F,2,FALSE))","v":""},""]
[null,null,null,null,null,"",null,"",null,null,"","",{"$f":"IF(OR(A3206=\"\",B3206=\"\"),\"\",VLOOKUP(A3206&\"_\"&B3206,Lookups!$E:$F,2,FALSE))","v":""},""]
[null,null,null,null,null,"",null,"",null,null,"","",{"$f":"IF(OR(A3207=\"\",B3207=\"\"),\"\",VLOOKUP(A3207&\"_\"&B3207,Lookups!$E:$F,2,FALSE))","v":""},""]
[null,null,null,null,null,"",null,"",null,null,"","",{"$f":"IF(OR(A3208=\"\",B3208=\"\"),\"\",VLOOKUP(A3208&\"_\"&B3208,Lookups!$E:$F,2,FALSE))","v":""},""]
[null,null,null,null,null,"",null,"",null,null,"","",{"$f":"IF(OR(A3209=\"\",B3209=\"\"),\"\",VLOOKUP(A3209&\"_\"&B3209,Lookups!$E:$F,2,FALSE))","v":""},""]
[null,null,null,null,null,"",null,"",null,null,"","",{"$f":"IF(OR(A3210=\"\",B3210=\"\"),\"\",VLOOKUP(A3210&\"_\"&B3210,Lookups!$E:$F,2,FALSE))","v":""},""]
[null,null,null,null,null,"",null,"",null,null,"","",{"$f":"IF(OR(A3211=\"\",B3211=\"\"),\"\",VLOOKUP(A3211&\"_\"&B3211,Lookups!$E:$F,2,FALSE))","v":""},""]
[null,null,null,null,null,"",null,"",null,null,"","",{"$f":"IF(OR(A3212=\"\",B3212=\"\"),\"\",VLOOKUP(A3212&\"_\"&B3212,Lookups!$E:$F,2,FALSE))","v":""},""]
[null,null,null,null,null,"",null,"",null,null,"","",{"$f":"IF(OR(A3213=\"\",B3213=\"\"),\"\",VLOOKUP(A3213&\"_\"&B3213,Lookups!$E:$F,2,FALSE))","v":""},""]
[null,null,null,null,null,"",null,"",null,null,"","",{"$f":"IF(OR(A3214=\"\",B3214=\"\"),\"\",VLOOKUP(A3214&\"_\"&B3214,Lookups!$E:$F,2,FALSE))","v":""},""]
[null,null,null,null,null,"",null,"",null,null,"","",{"$f":"IF(OR(A3215=\"\",B3215=\"\"),\"\",VLOOKUP(A3215&\"_\"&B3215,Lookups!$E:$F,2,FALSE))","v":""},""]
[null,null,null,null,null,"",null,"",null,null,"","",{"$f":"IF(OR(A3216=\"\",B3216=\"\"),\"\",VLOOKUP(A3216&\"_\"&B3216,Lookups!$E:$F,2,FALSE))","v":""},""]
[null,null,null,null,null,"",null,"",null,null,"","",{"$f":"IF(OR(A3217=\"\",B3217=\"\"),\"\",VLOOKUP(A3217&\"_\"&B3217,Lookups!$E:$F,2,FALSE))","v":""},""]
[null,null,null,null,null,"",null,"",null,null,"","",{"$f":"IF(OR(A3218=\"\",B3218=\"\"),\"\",VLOOKUP(A3218&\"_\"&B3218,Lookups!$E:$F,2,FALSE))","v":""},""]
[null,null,null,null,null,"",null,"",null,null,"","",{"$f":"IF(OR(A3219=\"\",B3219=\"\"),\"\",VLOOKUP(A3219&\"_\"&B3219,Lookups!$E:$F,2,FALSE))","v":""},""]
[null,null,null,null,null,"",null,"",null,null,"","",{"$f":"IF(OR(A3220=\"\",B3220=\"\"),\"\",VLOOKUP(A3220&\"_\"&B3220,Lookups!$E:$F,2,FALSE))","v":""},""]
[null,null,null,null,null,"",null,"",null,null,"","",{"$f":"IF(OR(A3221=\"\",B3221=\"\"),\"\",VLOOKUP(A3221&\"_\"&B3221,Lookups!$E:$F,2,FALSE))","v":""},""]
[null,null,null,null,null,"",null,"",null,null,"","",{"$f":"IF(OR(A3222=\"\",B3222=\"\"),\"\",VLOOKUP(A3222&\"_\"&B3222,Lookups!$E:$F,2,FALSE))","v":""},""]
[null,null,null,null,null,"",null,"",null,null,"","",{"$f":"IF(OR(A3223=\"\",B3223=\"\"),\"\",VLOOKUP(A3223&\"_\"&B3223,Lookups!$E:$F,2,FALSE))","v":""},""]
[null,null,null,null,null,"",null,"",null,null,"","",{"$f":"IF(OR(A3224=\"\",B3224=\"\"),\"\",VLOOKUP(A3224&\"_\"&B3224,Lookups!$E:$F,2,FALSE))","v":""},""]
[null,null,null,null,null,"",null,"",null,null,"","",{"$f":"IF(OR(A3225=\"\",B3225=\"\"),\"\",VLOOKUP(A3225&\"_\"&B3225,Lookups!$E:$F,2,FALSE))","v":""},""]
[null,null,null,null,null,"",null,"",null,null,"","",{"$f":"IF(OR(A3226=\"\",B3226=\"\"),\"\",VLOOKUP(A3226&\"_\"&B3226,Lookups!$E:$F,2,FALSE))","v":""},""]
[null,null,null,null,null,"",null,"",null,null,"","",{"$f":"IF(OR(A3227=\"\",B3227=\"\"),\"\",VLOOKUP(A3227&\"_\"&B3227,Lookups!$E:$F,2,FALSE))","v":""},""]
[null,null,null,null,null,"",null,"",null,null,"","",{"$f":"IF(OR(A3228=\"\",B3228=\"\"),\"\",VLOOKUP(A3228&\"_\"&B3228,Lookups!$E:$F,2,FALSE))","v":""},""]
[null,null,null,null,null,"",null,"",null,null,"","",{"$f":"IF(OR(A3229=\"\",B3229=\"\"),\"\",VLOOKUP(A3229&\"_\"&B3229,Lookups!$E:$F,2,FALSE))","v":""},""]
[null,null,null,null,null,"",null,"",null,null,"","",{"$f":"IF(OR(A3230=\"\",B3230=\"\"),\"\",VLOOKUP(A3230&\"_\"&B3230,Lookups!$E:$F,2,FALSE))","v":""},""]
[null,null,null,null,null,"",null,"",null,null,"","",{"$f":"IF(OR(A3231=\"\",B3231=\"\"),\"\",VLOOKUP(A3231&\"_\"&B3231,Lookups!$E:$F,2,FALSE))","v":""},""]
[null,null,null,null,null,"",null,"",null,null,"","",{"$f":"IF(OR(A3232=\"\",B3232=\"\"),\"\",VLOOKUP(A3232&\"_\"&B3232,Lookups!$E:$F,2,FALSE))","v":""},""]
[null,null,null,null,null,"",null,"",null,null,"","",{"$f":"IF(OR(A3233=\"\",B3233=\"\"),\"\",VLOOKUP(A3233&\"_\"&B3233,Lookups!$E:$F,2,FALSE))","v":""},""]
[null,null,null,null,null,"",null,"",null,null,"","",{"$f":"IF(OR(A3234=\"\",B3234=\"\"),\"\",VLOOKUP(A3234&\"_\"&B3234,Lookups!$E:$F,2,FALSE))","v":""},""]
[null,null,null,null,null,"",null,"",null,null,"","",{"$f":"IF(OR(A3235=\"\",B3235=\"\"),\"\",VLOOKUP(A3235&\"_\"&B3235,Lookups!$E:$F,2,FALSE))","v":""},""]
[null,null,null,null,null,"",null,"",null,null,"","",{"$f":"IF(OR(A3236=\"\",B3236=\"\"),\"\",VLOOKUP(A3236&\"_\"&B3236,Lookups!$E:$F,2,FALSE))","v":""},""]
[null,null,null,null,null,"",null,"",null,null,"","",{"$f":"IF(OR(A3237=\"\",B3237=\"\"),\"\",VLOOKUP(A3237&\"_\"&B3237,Lookups!$E:$F,2,FALSE))","v":""},""]
[null,null,null,null,null,"",null,"",null,null,"","",{"$f":"IF(OR(A3238=\"\",B3238=\"\"),\"\",VLOOKUP(A3238&\"_\"&B3238,Lookups!$E:$F,2,FALSE))","v":""},""]
[null,null,null,null,null,"",null,"",null,null,"","",{"$f":"IF(OR(A3239=\"\",B3239=\"\"),\"\",VLOOKUP(A3239&\"_\"&B3239,Lookups!$E:$F,2,FALSE))","v":""},""]
[null,null,null,null,null,"",null,"",null,null,"","",{"$f":"IF(OR(A3240=\"\",B3240=\"\"),\"\",VLOOKUP(A3240&\"_\"&B3240,Lookups!$E:$F,2,FALSE))","v":""},""]
[null,null,null,null,null,"",null,"",null,null,"","",{"$f":"IF(OR(A3241=\"\",B3241=\"\"),\"\",VLOOKUP(A3241&\"_\"&B3241,Lookups!$E:$F,2,FALSE))","v":""},""]
[null,null,null,null,null,"",null,"",null,null,"","",{"$f":"IF(OR(A3242=\"\",B3242=\"\"),\"\",VLOOKUP(A3242&\"_\"&B3242,Lookups!$E:$F,2,FALSE))","v":""},""]
[null,null,null,null,null,"",null,"",null,null,"","",{"$f":"IF(OR(A3243=\"\",B3243=\"\"),\"\",VLOOKUP(A3243&\"_\"&B3243,Lookups!$E:$F,2,FALSE))","v":""},""]
[null,null,null,null,null,"",null,"",null,null,"","",{"$f":"IF(OR(A3244=\"\",B3244=\"\"),\"\",VLOOKUP(A3244&\"_\"&B3244,Lookups!$E:$F,2,FALSE))","v":""},""]
[null,null,null,null,null,"",null,"",null,null,"","",{"$f":"IF(OR(A3245=\"\",B3245=\"\"),\"\",VLOOKUP(A3245&\"_\"&B3245,Lookups!$E:$F,2,FALSE))","v":""},""]
[null,null,null,null,null,"",null,"",null,null,"","",{"$f":"IF(OR(A3246=\"\",B3246=\"\"),\"\",VLOOKUP(A3246&\"_\"&B3246,Lookups!$E:$F,2,FALSE))","v":""},""]
[null,null,null,null,null,"",null,"",null,null,"","",{"$f":"IF(OR(A3247=\"\",B3247=\"\"),\"\",VLOOKUP(A3247&\"_\"&B3247,Lookups!$E:$F,2,FALSE))","v":""},""]
[null,null,null,null,null,"",null,"",null,null,"","",{"$f":"IF(OR(A3248=\"\",B3248=\"\"),\"\",VLOOKUP(A3248&\"_\"&B3248,Lookups!$E:$F,2,FALSE))","v":""},""]
[null,null,null,null,null,"",null,"",null,null,"","",{"$f":"IF(OR(A3249=\"\",B3249=\"\"),\"\",VLOOKUP(A3249&\"_\"&B3249,Lookups!$E:$F,2,FALSE))","v":""},""]
[null,null,null,null,null,"",null,"",null,null,"","",{"$f":"IF(OR(A3250=\"\",B3250=\"\"),\"\",VLOOKUP(A3250&\"_\"&B3250,Lookups!$E:$F,2,FALSE))","v":""},""]
[null,null,null,null,null,"",null,"",null,null,"","",{"$f":"IF(OR(A3251=\"\",B3251=\"\"),\"\",VLOOKUP(A3251&\"_\"&B3251,Lookups!$E:$F,2,FALSE))","v":""},""]
[null,null,null,null,null,"",null,"",null,null,"","",{"$f":"IF(OR(A3252=\"\",B3252=\"\"),\"\",VLOOKUP(A3252&\"_\"&B3252,Lookups!$E:$F,2,FALSE))","v":""},""]
[null,null,null,null,null,"",null,"",null,null,"","",{"$f":"IF(OR(A3253=\"\",B3253=\"\"),\"\",VLOOKUP(A3253&\"_\"&B3253,Lookups!$E:$F,2,FALSE))","v":""},""]
[null,null,null,null,null,"",null,"",null,null,"","",{"$f":"IF(OR(A3254=\"\",B3254=\"\"),\"\",VLOOKUP(A3254&\"_\"&B3254,Lookups!$E:$F,2,FALSE))","v":""},""]
[null,null,null,null,null,"",null,"",null,null,"","",{"$f":"IF(OR(A3255=\"\",B3255=\"\"),\"\",VLOOKUP(A3255&\"_\"&B3255,Lookups!$E:$F,2,FALSE))","v":""},""]
[null,null,null,null,null,"",null,"",null,null,"","",{"$f":"IF(OR(A3256=\"\",B3256=\"\"),\"\",VLOOKUP(A3256&\"_\"&B3256,Lookups!$E:$F,2,FALSE))","v":""},""]
[null,null,null,null,null,"",null,"",null,null,"","",{"$f":"IF(OR(A3257=\"\",B3257=\"\"),\"\",VLOOKUP(A3257&\"_\"&B3257,Lookups!$E:$F,2,FALSE))","v":""},""]
[null,null,null,null,null,"",null,"",null,null,"","",{"$f":"IF(OR(A3258=\"\",B3258=\"\"),\"\",VLOOKUP(A3258&\"_\"&B3258,Lookups!$E:$F,2,FALSE))","v":""},""]
[null,null,null,null,null,"",null,"",null,null,"","",{"$f":"IF(OR(A3259=\"\",B3259=\"\"),\"\",VLOOKUP(A3259&\"_\"&B3259,Lookups!$E:$F,2,FALSE))","v":""},""]
[null,null,null,null,null,"",null,"",null,null,"","",{"$f":"IF(OR(A3260=\"\",B3260=\"\"),\"\",VLOOKUP(A3260&\"_\"&B3260,Lookups!$E:$F,2,FALSE))","v":""},""]
[null,null,null,null,null,"",null,"",null,null,"","",{"$f":"IF(OR(A3261=\"\",B3261=\"\"),\"\",VLOOKUP(A3261&\"_\"&B3261,Lookups!$E:$F,2,FALSE))","v":""},""]
[null,null,null,null,null,"",null,"",null,null,"","",{"$f":"IF(OR(A3262=\"\",B3262=\"\"),\"\",VLOOKUP(A3262&\"_\"&B3262,Lookups!$E:$F,2,FALSE))","v":""},""]
[null,null,null,null,null,"",null,"",null,null,"","",{"$f":"IF(OR(A3263=\"\",B3263=\"\"),\"\",VLOOKUP(A3263&\"_\"&B3263,Lookups!$E:$F,2,FALSE))","v":""},""]
[null,null,null,null,null,"",null,"",null,null,"","",{"$f":"IF(OR(A3264=\"\",B3264=\"\"),\"\",VLOOKUP(A3264&\"_\"&B3264,Lookups!$E:$F,2,FALSE))","v":""},""]
[null,null,null,null,null,"",null,"",null,null,"","",{"$f":"IF(OR(A3265=\"\",B3265=\"\"),\"\",VLOOKUP(A3265&\"_\"&B3265,Lookups!$E:$F,2,FALSE))","v":""},""]
[null,null,null,null,null,"",null,"",null,null,"","",{"$f":"IF(OR(A3266=\"\",B3266=\"\"),\"\",VLOOKUP(A3266&\"_\"&B3266,Lookups!$E:$F,2,FALSE))","v":""},""]
[null,null,null,null,null,"",null,"",null,null,"","",{"$f":"IF(OR(A3267=\"\",B3267=\"\"),\"\",VLOOKUP(A3267&\"_\"&B3267,Lookups!$E:$F,2,FALSE))","v":""},""]
[null,null,null,null,null,{"$f":"IF(OR(D3268=\"\",E3268=\"\"),\"\",ROUND((E3268-D3268)*24,2))","v":""},null,{"$f":"IF(F3268=\"\",\"\",IF(G3268<>\"\",F3268*G3268,F3268))","v":""},null,null,{"$f":"IF(AND(H3268<>\"\",I3268=\"Paid\"),H3268,\"\")","v":""},{"$f":"IF(H3268=\"\",\"\",IF(K3268=\"\",H3268,H3268-K3268))","v":""},{"$f":"IF(OR(A3268=\"\",B3268=\"\"),\"\",VLOOKUP(A3268&\"_\"&B3268,Lookups!$E:$F,2,FALSE))","v":""},{"$f":"IF(AND(K3268=\"\",L3268=\"\"),\"\",IF(K3268=\"\",L3268*M3268,SUM(K3268,L3268)*M3268))","v":""}]
[null,null,null,null,null,"",null,"",null,null,"","",{"$f":"IF(OR(A3269=\"\",B3269=\"\"),\"\",VLOOKUP(A3269&\"_\"&B3269,Lookups!$E:$F,2,FALSE))","v":""},""]
[null,null,null,null,null,"",null,"",null,null,"","",{"$f":"IF(OR(A3270=\"\",B3270=\"\"),\"\",VLOOKUP(A3270&\"_\"&B3270,Lookups!$E:$F,2,FALSE))","v":""},""]
[null,null,null,null,null,"",null,"",null,null,"","",{"$f":"IF(OR(A3271=\"\",B3271=\"\"),\"\",VLOOKUP(A3271&\"_\"&B3271,Lookups!$E:$F,2,FALSE))","v":""},""]
[null,null,null,null,null,"",null,"",null,null,"","",{"$f":"IF(OR(A3272=\"\",B3272=\"\"),\"\",VLOOKUP(A3272&\"_\"&B3272,Lookups!$E:$F,2,FALSE))","v":""},""]
[null,null,null,null,null,"",null,"",null,null,"","",{"$f":"IF(OR(A3273=\"\",B3273=\"\"),\"\",VLOOKUP(A3273&\"_\"&B3273,Lookups!$E:$F,2,FALSE))","v":""},""]
[null,null,null,null,null,"",null,"",null,null,"","",{"$f":"IF(OR(A3274=\"\",B3274=\"\"),\"\",VLOOKUP(A3274&\"_\"&B3274,Lookups!$E:$F,2,FALSE))","v":""},""]
[null,null,null,null,null,"",null,"",null,null,"","",{"$f":"IF(OR(A3275=\"\",B3275=\"\"),\"\",VLOOKUP(A3275&\"_\"&B3275,Lookups!$E:$F,2,FALSE))","v":""},""]
[null,null,null,null,null,"",null,"",null,null,"","",{"$f":"IF(OR(A3276=\"\",B3276=\"\"),\"\",VLOOKUP(A3276&\"_\"&B3276,Lookups!$E:$F,2,FALSE))","v":""},""]
[null,null,null,null,null,"",null,"",null,null,"","",{"$f":"IF(OR(A3277=\"\",B3277=\"\"),\"\",VLOOKUP(A3277&\"_\"&B3277,Lookups!$E:$F,2,FALSE))","v":""},""]
[null,null,null,null,null,"",null,"",null,null,"","",{"$f":"IF(OR(A3278=\"\",B3278=\"\"),\"\",VLOOKUP(A3278&\"_\"&B3278,Lookups!$E:$F,2,FALSE))","v":""},""]
[null,null,null,null,null,"",null,"",null,null,"","",{"$f":"IF(OR(A3279=\"\",B3279=\"\"),\"\",VLOOKUP(A3279&\"_\"&B3279,Lookups!$E:$F,2,FALSE))","v":""},""]
[null,null,null,null,null,"",null,"",null,null,"","",{"$f":"IF(OR(A3280=\"\",B3280=\"\"),\"\",VLOOKUP(A3280&\"_\"&B3280,Lookups!$E:$F,2,FALSE))","v":""},""]
[null,null,null,null,null,"",null,"",null,null,"","",{"$f":"IF(OR(A3281=\"\",B3281=\"\"),\"\",VLOOKUP(A3281&\"_\"&B3281,Lookups!$E:$F,2,FALSE))","v":""},""]
[null,null,null,null,null,"",null,"",null,null,"","",{"$f":"IF(OR(A3282=\"\",B3282=\"\"),\"\",VLOOKUP(A3282&\"_\"&B3282,Lookups!$E:$F,2,FALSE))","v":""},""]
[null,null,null,null,null,"",null,"",null,null,"","",{"$f":"IF(OR(A3283=\"\",B3283=\"\"),\"\",VLOOKUP(A3283&\"_\"&B3283,Lookups!$E:$F,2,FALSE))","v":""},""]
[null,null,null,null,null,"",null,"",null,null,"","",{"$f":"IF(OR(A3284=\"\",B3284=\"\"),\"\",VLOOKUP(A3284&\"_\"&B3284,Lookups!$E:$F,2,FALSE))","v":""},""]
[null,null,null,null,null,"",null,"",null,null,"","",{"$f":"IF(OR(A3285=\"\",B3285=\"\"),\"\",VLOOKUP(A3285&\"_\"&B3285,Lookups!$E:$F,2,FALSE))","v":""},""]
[null,null,null,null,null,"",null,"",null,null,"","",{"$f":"IF(OR(A3286=\"\",B3286=\"\"),\"\",VLOOKUP(A3286&\"_\"&B3286,Lookups!$E:$F,2,FALSE))","v":""},""]
[null,null,null,null,null,"",null,"",null,null,"","",{"$f":"IF(OR(A3287=\"\",B3287=\"\"),\"\",VLOOKUP(A3287&\"_\"&B3287,Lookups!$E:$F,2,FALSE))","v":""},""]
[null,null,null,null,null,"",null,"",null,null,"","",{"$f":"IF(OR(A3288=\"\",B3288=\"\"),\"\",VLOOKUP(A3288&\"_\"&B3288,Lookups!$E:$F,2,FALSE))","v":""},""]
[null,null,null,null,null,"",null,"",null,null,"","",{"$f":"IF(OR(A3289=\"\",B3289=\"\"),\"\",VLOOKUP(A3289&\"_\"&B3289,Lookups!$E:$F,2,FALSE))","v":""},""]
[null,null,null,null,null,"",null,"",null,null,"","",{"$f":"IF(OR(A3290=\"\",B3290=\"\"),\"\",VLOOKUP(A3290&\"_\"&B3290,Lookups!$E:$F,2,FALSE))","v":""},""]
[null,null,null,null,null,"",null,"",null,null,"","",{"$f":"IF(OR(A3291=\"\",B3291=\"\"),\"\",VLOOKUP(A3291&\"_\"&B3291,Lookups!$E:$F,2,FALSE))","v":""},""]
[null,null,null,null,null,"",null,"",null,null,"","",{"$f":"IF(OR(A3292=\"\",B3292=\"\"),\"\",VLOOKUP(A3292&\"_\"&B3292,Lookups!$E:$F,2,FALSE))","v":""},""]
[null,null,null,null,null,"",null,"",null,null,"","",{"$f":"IF(OR(A3293=\"\",B3293=\"\"),\"\",VLOOKUP(A3293&\"_\"&B3293,Lookups!$E:$F,2,FALSE))","v":""},""]
[null,null,null,null,null,"",null,"",null,null,"","",{"$f":"IF(OR(A3294=\"\",B3294=\"\"),\"\",VLOOKUP(A3294&\"_\"&B3294,Lookups!$E:$F,2,FALSE))","v":""},""]
[null,null,null,null,null,"",null,"",null,null,"","",{"$f":"IF(OR(A3295=\"\",B3295=\"\"),\"\",VLOOKUP(A3295&\"_\"&B3295,Lookups!$E:$F,2,FALSE))","v":""},""]
[null,null,null,null,null,"",null,"",null,null,"","",{"$f":"IF(OR(A3296=\"\",B3296=\"\"),\"\",VLOOKUP(A3296&\"_\"&B3296,Lookups!$E:$F,2,FALSE))","v":""},""]
[null,null,null,null,null,"",null,"",null,null,"","",{"$f":"IF(OR(A3297=\"\",B3297=\"\"),\"\",VLOOKUP(A3297&\"_\"&B3297,Lookups!$E:$F,2,FALSE))","v":""},""]
[null,null,null,null,null,"",null,"",null,null,"","",{"$f":"IF(OR(A3298=\"\",B3298=\"\"),\"\",VLOOKUP(A3298&\"_\"&B3298,Lookups!$E:$F,2,FALSE))","v":""},""]
[null,null,null,null,null,"",null,"",null,null,"","",{"$f":"IF(OR(A3299=\"\",B3299=\"\"),\"\",VLOOKUP(A3299&\"_\"&B3299,Lookups!$E:$F,2,FALSE))","v":""},""]
[null,null,null,null,null,"",null,"",null,null,"","",{"$f":"IF(OR(A3300=\"\",B3300=\"\"),\"\",VLOOKUP(A3300&\"_\"&B3300,Lookups!$E:$F,2,FALSE))","v":""},""]
[null,null,null,null,null,"",null,"",null,null,"","",{"$f":"IF(OR(A3301=\"\",B3301=\"\"),\"\",VLOOKUP(A3301&\"_\"&B3301,Lookups!$E:$F,2,FALSE))","v":""},""]
[null,null,null,null,null,"",null,"",null,null,"","",{"$f":"IF(OR(A3302=\"\",B3302=\"\"),\"\",VLOOKUP(A3302&\"_\"&B3302,Lookups!$E:$F,2,FALSE))","v":""},""]
[null,null,null,null,null,"",null,"",null,null,"","",{"$f":"IF(OR(A3303=\"\",B3303=\"\"),\"\",VLOOKUP(A3303&\"_\"&B3303,Lookups!$E:$F,2,FALSE))","v":""},""]
[null,null,null,null,null,"",null,"",null,null,"","",{"$f":"IF(OR(A3304=\"\",B3304=\"\"),\"\",VLOOKUP(A3304&\"_\"&B3304,Lookups!$E:$F,2,FALSE))","v":""},""]
[null,null,null,null,null,"",null,"",null,null,"","",{"$f":"IF(OR(A3305=\"\",B3305=\"\"),\"\",VLOOKUP(A3305&\"_\"&B3305,Lookups!$E:$F,2,FALSE))","v":""},""]
[null,null,null,null,null,"",null,"",null,null,"","",{"$f":"IF(OR(A3306=\"\",B3306=\"\"),\"\",VLOOKUP(A3306&\"_\"&B3306,Lookups!$E:$F,2,FALSE))","v":""},""]
[null,null,null,null,null,"",null,"",null,null,"","",{"$f":"IF(OR(A3307=\"\",B3307=\"\"),\"\",VLOOKUP(A3307&\"_\"&B3307,Lookups!$E:$F,2,FALSE))","v":""},""]
[null,null,null,null,null,"",null,"",null,null,"","",{"$f":"IF(OR(A3308=\"\",B3308=\"\"),\"\",VLOOKUP(A3308&\"_\"&B3308,Lookups!$E:$F,2,FALSE))","v":""},""]
[null,null,null,null,null,"",null,"",null,null,"","",{"$f":"IF(OR(A3309=\"\",B3309=\"\"),\"\",VLOOKUP(A3309&\"_\"&B3309,Lookups!$E:$F,2,FALSE))","v":""},""]
[null,null,null,null,null,"",null,"",null,null,"","",{"$f":"IF(OR(A3310=\"\",B3310=\"\"),\"\",VLOOKUP(A3310&\"_\"&B3310,Lookups!$E:$F,2,FALSE))","v":""},""]
[null,null,null,null,null,"",null,"",null,null,"","",{"$f":"IF(OR(A3311=\"\",B3311=\"\"),\"\",VLOOKUP(A3311&\"_\"&B3311,Lookups!$E:$F,2,FALSE))","v":""},""]
[null,null,null,null,null,"",null,"",null,null,"","",{"$f":"IF(OR(A3312=\"\",B3312=\"\"),\"\",VLOOKUP(A3312&\"_\"&B3312,Lookups!$E:$F,2,FALSE))","v":""},""]
[null,null,null,null,null,"",null,"",null,null,"","",{"$f":"IF(OR(A3313=\"\",B3313=\"\"),\"\",VLOOKUP(A3313&\"_\"&B3313,Lookups!$E:$F,2,FALSE))","v":""},""]
[null,null,null,null,null,"",null,"",null,null,"","",{"$f":"IF(OR(A3314=\"\",B3314=\"\"),\"\",VLOOKUP(A3314&\"_\"&B3314,Lookups!$E:$F,2,FALSE))","v":""},""]
[null,null,null,null,null,"",null,"",null,null,"","",{"$f":"IF(OR(A3315=\"\",B3315=\"\"),\"\",VLOOKUP(A3315&\"_\"&B3315,Lookups!$E:$F,2,FALSE))","v":""},""]
[null,null,null,null,null,"",null,"",null,null,"","",{"$f":"IF(OR(A3316=\"\",B3316=\"\"),\"\",VLOOKUP(A3316&\"_\"&B3316,Lookups!$E:$F,2,FALSE))","v":""},""]
[null,null,null,null,null,"",null,"",null,null,"","",{"$f":"IF(OR(A3317=\"\",B3317=\"\"),\"\",VLOOKUP(A3317&\"_\"&B3317,Lookups!$E:$F,2,FALSE))","v":""},""]
[null,null,null,null,null,"",null,"",null,null,"","",{"$f":"IF(OR(A3318=\"\",B3318=\"\"),\"\",VLOOKUP(A3318&\"_\"&B3318,Lookups!$E:$F,2,FALSE))","v":""},""]
[null,null,null,null,null,"",null,"",null,null,"","",{"$f":"IF(OR(A3319=\"\",B3319=\"\"),\"\",VLOOKUP(A3319&\"_\"&B3319,Lookups!$E:$F,2,FALSE))","v":""},""]
[null,null,null,null,null,"",null,"",null,null,"","",{"$f":"IF(OR(A3320=\"\",B3320=\"\"),\"\",VLOOKUP(A3320&\"_\"&B3320,Lookups!$E:$F,2,FALSE))","v":""},""]
[null,null,null,null,null,"",null,"",null,null,"","",{"$f":"IF(OR(A3321=\"\",B3321=\"\"),\"\",VLOOKUP(A3321&\"_\"&B3321,Lookups!$E:$F,2,FALSE))","v":""},""]
[null,null,null,null,null,"",null,"",null,null,"","",{"$f":"IF(OR(A3322=\"\",B3322=\"\"),\"\",VLOOKUP(A3322&\"_\"&B3322,Lookups!$E:$F,2,FALSE))","v":""},""]
[null,null,null,null,null,"",null,"",null,null,"","",{"$f":"IF(OR(A3323=\"\",B3323=\"\"),\"\",VLOOKUP(A3323&\"_\"&B3323,Lookups!$E:$F,2,FALSE))","v":""},""]
[null,null,null,null,null,"",null,"",null,null,"","",{"$f":"IF(OR(A3324=\"\",B3324=\"\"),\"\",VLOOKUP(A3324&\"_\"&B3324,Lookups!$E:$F,2,FALSE))","v":""},""]
[null,null,null,null,null,"",null,"",null,null,"","",{"$f":"IF(OR(A3325=\"\",B3325=\"\"),\"\",VLOOKUP(A3325&\"_\"&B3325,Lookups!$E:$F,2,FALSE))","v":""},""]
[null,null,null,null,null,"",null,"",null,null,"","",{"$f":"IF(OR(A3326=\"\",B3326=\"\"),\"\",VLOOKUP(A3326&\"_\"&B3326,Lookups!$E:$F,2,FALSE))","v":""},""]
[null,null,null,null,null,"",null,"",null,null,"","",{"$f":"IF(OR(A3327=\"\",B3327=\"\"),\"\",VLOOKUP(A3327&\"_\"&B3327,Lookups!$E:$F,2,FALSE))","v":""},""]
[null,null,null,null,null,"",null,"",null,null,"","",{"$f":"IF(OR(A3328=\"\",B3328=\"\"),\"\",VLOOKUP(A3328&\"_\"&B3328,Lookups!$E:$F,2,FALSE))","v":""},""]
[null,null,null,null,null,"",null,"",null,null,"","",{"$f":"IF(OR(A3329=\"\",B3329=\"\"),\"\",VLOOKUP(A3329&\"_\"&B3329,Lookups!$E:$F,2,FALSE))","v":""},""]
[null,null,null,null,null,"",null,"",null,null,"","",{"$f":"IF(OR(A3330=\"\",B3330=\"\"),\"\",VLOOKUP(A3330&\"_\"&B3330,Lookups!$E:$F,2,FALSE))","v":""},""]
[null,null,null,null,null,"",null,"",null,null,"","",{"$f":"IF(OR(A3331=\"\",B3331=\"\"),\"\",VLOOKUP(A3331&\"_\"&B3331,Lookups!$E:$F,2,FALSE))","v":""},""]
[null,null,null,null,null,{"$f":"IF(OR(D3332=\"\",E3332=\"\"),\"\",ROUND((E3332-D3332)*24,2))","v":""},null,{"$f":"IF(F3332=\"\",\"\",IF(G3332<>\"\",F3332*G3332,F3332))","v":""},null,null,{"$f":"IF(AND(H3332<>\"\",I3332=\"Paid\"),H3332,\"\")","v":""},{"$f":"IF(H3332=\"\",\"\",IF(K3332=\"\",H3332,H3332-K3332))","v":""},{"$f":"IF(OR(A3332=\"\",B3332=\"\"),\"\",VLOOKUP(A3332&\"_\"&B3332,Lookups!$E:$F,2,FALSE))","v":""},{"$f":"IF(AND(K3332=\"\",L3332=\"\"),\"\",IF(K3332=\"\",L3332*M3332,SUM(K3332,L3332)*M3332))","v":""}]
[null,null,null,null,null,"",null,"",null,null,"","",{"$f":"IF(OR(A3333=\"\",B3333=\"\"),\"\",VLOOKUP(A3333&\"_\"&B3333,Lookups!$E:$F,2,FALSE))","v":""},""]
[null,null,null,null,null,"",null,"",null,null,"","",{"$f":"IF(OR(A3334=\"\",B3334=\"\"),\"\",VLOOKUP(A3334&\"_\"&B3334,Lookups!$E:$F,2,FALSE))","v":""},""]
[null,null,null,null,null,"",null,"",null,null,"","",{"$f":"IF(OR(A3335=\"\",B3335=\"\"),\"\",VLOOKUP(A3335&\"_\"&B3335,Lookups!$E:$F,2,FALSE))","v":""},""]
[null,null,null,null,null,"",null,"",null,null,"","",{"$f":"IF(OR(A3336=\"\",B3336=\"\"),\"\",VLOOKUP(A3336&\"_\"&B3336,Lookups!$E:$F,2,FALSE))","v":""},""]
[null,null,null,null,null,"",null,"",null,null,"","",{"$f":"IF(OR(A3337=\"\",B3337=\"\"),\"\",VLOOKUP(A3337&\"_\"&B3337,Lookups!$E:$F,2,FALSE))","v":""},""]
[null,null,null,null,null,"",null,"",null,null,"","",{"$f":"IF(OR(A3338=\"\",B3338=\"\"),\"\",VLOOKUP(A3338&\"_\"&B3338,Lookups!$E:$F,2,FALSE))","v":""},""]
[null,null,null,null,null,"",null,"",null,null,"","",{"$f":"IF(OR(A3339=\"\",B3339=\"\"),\"\",VLOOKUP(A3339&\"_\"&B3339,Lookups!$E:$F,2,FALSE))","v":""},""]
[null,null,null,null,null,"",null,"",null,null,"","",{"$f":"IF(OR(A3340=\"\",B3340=\"\"),\"\",VLOOKUP(A3340&\"_\"&B3340,Lookups!$E:$F,2,FALSE))","v":""},""]
[null,null,null,null,null,"",null,"",null,null,"","",{"$f":"IF(OR(A3341=\"\",B3341=\"\"),\"\",VLOOKUP(A3341&\"_\"&B3341,Lookups!$E:$F,2,FALSE))","v":""},""]
[null,null,null,null,null,"",null,"",null,null,"","",{"$f":"IF(OR(A3342=\"\",B3342=\"\"),\"\",VLOOKUP(A3342&\"_\"&B3342,Lookups!$E:$F,2,FALSE))","v":""},""]
[null,null,null,null,null,"",null,"",null,null,"","",{"$f":"IF(OR(A3343=\"\",B3343=\"\"),\"\",VLOOKUP(A3343&\"_\"&B3343,Lookups!$E:$F,2,FALSE))","v":""},""]
[null,null,null,null,null,"",null,"",null,null,"","",{"$f":"IF(OR(A3344=\"\",B3344=\"\"),\"\",VLOOKUP(A3344&\"_\"&B3344,Lookups!$E:$F,2,FALSE))","v":""},""]
[null,null,null,null,null,"",null,"",null,null,"","",{"$f":"IF(OR(A3345=\"\",B3345=\"\"),\"\",VLOOKUP(A3345&\"_\"&B3345,Lookups!$E:$F,2,FALSE))","v":""},""]
[null,null,null,null,null,"",null,"",null,null,"","",{"$f":"IF(OR(A3346=\"\",B3346=\"\"),\"\",VLOOKUP(A3346&\"_\"&B3346,Lookups!$E:$F,2,FALSE))","v":""},""]
[null,null,null,null,null,"",null,"",null,null,"","",{"$f":"IF(OR(A3347=\"\",B3347=\"\"),\"\",VLOOKUP(A3347&\"_\"&B3347,Lookups!$E:$F,2,FALSE))","v":""},""]
[null,null,null,null,null,"",null,"",null,null,"","",{"$f":"IF(OR(A3348=\"\",B3348=\"\"),\"\",VLOOKUP(A3348&\"_\"&B3348,Lookups!$E:$F,2,FALSE))","v":""},""]
[null,null,null,null,null,"",null,"",null,null,"","",{"$f":"IF(OR(A3349=\"\",B3349=\"\"),\"\",VLOOKUP(A3349&\"_\"&B3349,Lookups!$E:$F,2,FALSE))","v":""},""]
[null,null,null,null,null,"",null,"",null,null,"","",{"$f":"IF(OR(A3350=\"\",B3350=\"\"),\"\",VLOOKUP(A3350&\"_\"&B3350,Lookups!$E:$F,2,FALSE))","v":""},""]
[null,null,null,null,null,"",null,"",null,null,"","",{"$f":"IF(OR(A3351=\"\",B3351=\"\"),\"\",VLOOKUP(A3351&\"_\"&B3351,Lookups!$E:$F,2,FALSE))","v":""},""]
[null,null,null,null,null,"",null,"",null,null,"","",{"$f":"IF(OR(A3352=\"\",B3352=\"\"),\"\",VLOOKUP(A3352&\"_\"&B3352,Lookups!$E:$F,2,FALSE))","v":""},""]
[null,null,null,null,null,"",null,"",null,null,"","",{"$f":"IF(OR(A3353=\"\",B3353=\"\"),\"\",VLOOKUP(A3353&\"_\"&B3353,Lookups!$E:$F,2,FALSE))","v":""},""]
[null,null,null,null,null,"",null,"",null,null,"","",{"$f":"IF(OR(A3354=\"\",B3354=\"\"),\"\",VLOOKUP(A3354&\"_\"&B3354,Lookups!$E:$F,2,FALSE))","v":""},""]
[null,null,null,null,null,"",null,"",null,null,"","",{"$f":"IF(OR(A3355=\"\",B3355=\"\"),\"\",VLOOKUP(A3355&\"_\"&B3355,Lookups!$E:$F,2,FALSE))","v":""},""]
[null,null,null,null,null,"",null,"",null,null,"","",{"$f":"IF(OR(A3356=\"\",B3356=\"\"),\"\",VLOOKUP(A3356&\"_\"&B3356,Lookups!$E:$F,2,FALSE))","v":""},""]
[null,null,null,null,null,"",null,"",null,null,"","",{"$f":"IF(OR(A3357=\"\",B3357=\"\"),\"\",VLOOKUP(A3357&\"_\"&B3357,Lookups!$E:$F,2,FALSE))","v":""},""]
[null,null,null,null,null,"",null,"",null,null,"","",{"$f":"IF(OR(A3358=\"\",B3358=\"\"),\"\",VLOOKUP(A3358&\"_\"&B3358,Lookups!$E:$F,2,FALSE))","v":""},""]
[null,null,null,null,null,"",null,"",null,null,"","",{"$f":"IF(OR(A3359=\"\",B3359=\"\"),\"\",VLOOKUP(A3359&\"_\"&B3359,Lookups!$E:$F,2,FALSE))","v":""},""]
[null,null,null,null,null,"",null,"",null,null,"","",{"$f":"IF(OR(A3360=\"\",B3360=\"\"),\"\",VLOOKUP(A3360&\"_\"&B3360,Lookups!$E:$F,2,FALSE))","v":""},""]
[null,null,null,null,null,"",null,"",null,null,"","",{"$f":"IF(OR(A3361=\"\",B3361=\"\"),\"\",VLOOKUP(A3361&\"_\"&B3361,Lookups!$E:$F,2,FALSE))","v":""},""]
[null,null,null,null,null,"",null,"",null,null,"","",{"$f":"IF(OR(A3362=\"\",B3362=\"\"),\"\",VLOOKUP(A3362&\"_\"&B3362,Lookups!$E:$F,2,FALSE))","v":""},""]
[null,null,null,null,null,"",null,"",null,null,"","",{"$f":"IF(OR(A3363=\"\",B3363=\"\"),\"\",VLOOKUP(A3363&\"_\"&B3363,Lookups!$E:$F,2,FALSE))","v":""},""]
[null,null,null,null,null,"",null,"",null,null,"","",{"$f":"IF(OR(A3364=\"\",B3364=\"\"),\"\",VLOOKUP(A3364&\"_\"&B3364,Lookups!$E:$F,2,FALSE))","v":""},""]
[null,null,null,null,null,"",null,"",null,null,"","",{"$f":"IF(OR(A3365=\"\",B3365=\"\"),\"\",VLOOKUP(A3365&\"_\"&B3365,Lookups!$E:$F,2,FALSE))","v":""},""]
[null,null,null,null,null,"",null,"",null,null,"","",{"$f":"IF(OR(A3366=\"\",B3366=\"\"),\"\",VLOOKUP(A3366&\"_\"&B3366,Lookups!$E:$F,2,FALSE))","v":""},""]
[null,null,null,null,null,"",null,"",null,null,"","",{"$f":"IF(OR(A3367=\"\",B3367=\"\"),\"\",VLOOKUP(A3367&\"_\"&B3367,Lookups!$E:$F,2,FALSE))","v":""},""]
[null,null,null,null,null,"",null,"",null,null,"","",{"$f":"IF(OR(A3368=\"\",B3368=\"\"),\"\",VLOOKUP(A3368&\"_\"&B3368,Lookups!$E:$F,2,FALSE))","v":""},""]
[null,null,null,null,null,"",null,"",null,null,"","",{"$f":"IF(OR(A3369=\"\",B3369=\"\"),\"\",VLOOKUP(A3369&\"_\"&B3369,Lookups!$E:$F,2,FALSE))","v":""},""]
[null,null,null,null,null,"",null,"",null,null,"","",{"$f":"IF(OR(A3370=\"\",B3370=\"\"),\"\",VLOOKUP(A3370&\"_\"&B3370,Lookups!$E:$F,2,FALSE))","v":""},""]
[null,null,null,null,null,"",null,"",null,null,"","",{"$f":"IF(OR(A3371=\"\",B3371=\"\"),\"\",VLOOKUP(A3371&\"_\"&B3371,Lookups!$E:$F,2,FALSE))","v":""},""]
[null,null,null,null,null,"",null,"",null,null,"","",{"$f":"IF(OR(A3372=\"\",B3372=\"\"),\"\",VLOOKUP(A3372&\"_\"&B3372,Lookups!$E:$F,2,FALSE))","v":""},""]
[null,null,null,null,null,"",null,"",null,null,"","",{"$f":"IF(OR(A3373=\"\",B3373=\"\"),\"\",VLOOKUP(A3373&\"_\"&B3373,Lookups!$E:$F,2,FALSE))","v":""},""]
[null,null,null,null,null,"",null,"",null,null,"","",{"$f":"IF(OR(A3374=\"\",B3374=\"\"),\"\",VLOOKUP(A3374&\"_\"&B3374,Lookups!$E:$F,2,FALSE))","v":""},""]
[null,null,null,null,null,"",null,"",null,null,"","",{"$f":"IF(OR(A3375=\"\",B3375=\"\"),\"\",VLOOKUP(A3375&\"_\"&B3375,Lookups!$E:$F,2,FALSE))","v":""},""]
[null,null,null,null,null,"",null,"",null,null,"","",{"$f":"IF(OR(A3376=\"\",B3376=\"\"),\"\",VLOOKUP(A3376&\"_\"&B3376,Lookups!$E:$F,2,FALSE))","v":""},""]
[null,null,null,null,null,"",null,"",null,null,"","",{"$f":"IF(OR(A3377=\"\",B3377=\"\"),\"\",VLOOKUP(A3377&\"_\"&B3377,Lookups!$E:$F,2,FALSE))","v":""},""]
[null,null,null,null,null,"",null,"",null,null,"","",{"$f":"IF(OR(A3378=\"\",B3378=\"\"),\"\",VLOOKUP(A3378&\"_\"&B3378,Lookups!$E:$F,2,FALSE))","v":""},""]
[null,null,null,null,null,"",null,"",null,null,"","",{"$f":"IF(OR(A3379=\"\",B3379=\"\"),\"\",VLOOKUP(A3379&\"_\"&B3379,Lookups!$E:$F,2,FALSE))","v":""},""]
[null,null,null,null,null,"",null,"",null,null,"","",{"$f":"IF(OR(A3380=\"\",B3380=\"\"),\"\",VLOOKUP(A3380&\"_\"&B3380,Lookups!$E:$F,2,FALSE))","v":""},""]
[null,null,null,null,null,"",null,"",null,null,"","",{"$f":"IF(OR(A3381=\"\",B3381=\"\"),\"\",VLOOKUP(A3381&\"_\"&B3381,Lookups!$E:$F,2,FALSE))","v":""},""]
[null,null,null,null,null,"",null,"",null,null,"","",{"$f":"IF(OR(A3382=\"\",B3382=\"\"),\"\",VLOOKUP(A3382&\"_\"&B3382,Lookups!$E:$F,2,FALSE))","v":""},""]
[null,null,null,null,null,"",null,"",null,null,"","",{"$f":"IF(OR(A3383=\"\",B3383=\"\"),\"\",VLOOKUP(A3383&\"_\"&B3383,Lookups!$E:$F,2,FALSE))","v":""},""]
[null,null,null,null,null,"",null,"",null,null,"","",{"$f":"IF(OR(A3384=\"\",B3384=\"\"),\"\",VLOOKUP(A3384&\"_\"&B3384,Lookups!$E:$F,2,FALSE))","v":""},""]
[null,null,null,null,null,"",null,"",null,null,"","",{"$f":"IF(OR(A3385=\"\",B3385=\"\"),\"\",VLOOKUP(A3385&\"_\"&B3385,Lookups!$E:$F,2,FALSE))","v":""},""]
[null,null,null,null,null,"",null,"",null,null,"","",{"$f":"IF(OR(A3386=\"\",B3386=\"\"),\"\",VLOOKUP(A3386&\"_\"&B3386,Lookups!$E:$F,2,FALSE))","v":""},""]
[null,null,null,null,null,"",null,"",null,null,"","",{"$f":"IF(OR(A3387=\"\",B3387=\"\"),\"\",VLOOKUP(A3387&\"_\"&B3387,Lookups!$E:$F,2,FALSE))","v":""},""]
[null,null,null,null,null,"",null,"",null,null,"","",{"$f":"IF(OR(A3388=\"\",B3388=\"\"),\"\",VLOOKUP(A3388&\"_\"&B3388,Lookups!$E:$F,2,FALSE))","v":""},""]
[null,null,null,null,null,"",null,"",null,null,"","",{"$f":"IF(OR(A3389=\"\",B3389=\"\"),\"\",VLOOKUP(A3389&\"_\"&B3389,Lookups!$E:$F,2,FALSE))","v":""},""]
[null,null,null,null,null,"",null,"",null,null,"","",{"$f":"IF(OR(A3390=\"\",B3390=\"\"),\"\",VLOOKUP(A3390&\"_\"&B3390,Lookups!$E:$F,2,FALSE))","v":""},""]
[null,null,null,null,null,"",null,"",null,null,"","",{"$f":"IF(OR(A3391=\"\",B3391=\"\"),\"\",VLOOKUP(A3391&\"_\"&B3391,Lookups!$E:$F,2,FALSE))","v":""},""]
[null,null,null,null,null,"",null,"",null,null,"","",{"$f":"IF(OR(A3392=\"\",B3392=\"\"),\"\",VLOOKUP(A3392&\"_\"&B3392,Lookups!$E:$F,2,FALSE))","v":""},""]
[null,null,null,null,null,"",null,"",null,null,"","",{"$f":"IF(OR(A3393=\"\",B3393=\"\"),\"\",VLOOKUP(A3393&\"_\"&B3393,Lookups!$E:$F,2,FALSE))","v":""},""]
[null,null,null,null,null,"",null,"",null,null,"","",{"$f":"IF(OR(A3394=\"\",B3394=\"\"),\"\",VLOOKUP(A3394&\"_\"&B3394,Lookups!$E:$F,2,FALSE))","v":""},""]
[null,null,null,null,null,"",null,"",null,null,"","",{"$f":"IF(OR(A3395=\"\",B3395=\"\"),\"\",VLOOKUP(A3395&\"_\"&B3395,Lookups!$E:$F,2,FALSE))","v":""},""]
[null,null,null,null,null,{"$f":"IF(OR(D3396=\"\",E3396=\"\"),\"\",ROUND((E3396-D3396)*24,2))","v":""},null,{"$f":"IF(F3396=\"\",\"\",IF(G3396<>\"\",F3396*G3396,F3396))","v":""},null,null,{"$f":"IF(AND(H3396<>\"\",I3396=\"Paid\"),H3396,\"\")","v":""},{"$f":"IF(H3396=\"\",\"\",IF(K3396=\"\",H3396,H3396-K3396))","v":""},{"$f":"IF(OR(A3396=\"\",B3396=\"\"),\"\",VLOOKUP(A3396&\"_\"&B3396,Lookups!$E:$F,2,FALSE))","v":""},{"$f":"IF(AND(K3396=\"\",L3396=\"\"),\"\",IF(K3396=\"\",L3396*M3396,SUM(K3396,L3396)*M3396))","v":""}]
[null,null,null,null,null,"",null,"",null,null,"","",{"$f":"IF(OR(A3397=\"\",B3397=\"\"),\"\",VLOOKUP(A3397&\"_\"&B3397,Lookups!$E:$F,2,FALSE))","v":""},""]
[null,null,null,null,null,"",null,"",null,null,"","",{"$f":"IF(OR(A3398=\"\",B3398=\"\"),\"\",VLOOKUP(A3398&\"_\"&B3398,Lookups!$E:$F,2,FALSE))","v":""},""]
[null,null,null,null,null,"",null,"",null,null,"","",{"$f":"IF(OR(A3399=\"\",B3399=\"\"),\"\",VLOOKUP(A3399&\"_\"&B3399,Lookups!$E:$F,2,FALSE))","v":""},""]
[null,null,null,null,null,"",null,"",null,null,"","",{"$f":"IF(OR(A3400=\"\",B3400=\"\"),\"\",VLOOKUP(A3400&\"_\"&B3400,Lookups!$E:$F,2,FALSE))","v":""},""]
[null,null,null,null,null,"",null,"",null,null,"","",{"$f":"IF(OR(A3401=\"\",B3401=\"\"),\"\",VLOOKUP(A3401&\"_\"&B3401,Lookups!$E:$F,2,FALSE))","v":""},""]
[null,null,null,null,null,"",null,"",null,null,"","",{"$f":"IF(OR(A3402=\"\",B3402=\"\"),\"\",VLOOKUP(A3402&\"_\"&B3402,Lookups!$E:$F,2,FALSE))","v":""},""]
[null,null,null,null,null,"",null,"",null,null,"","",{"$f":"IF(OR(A3403=\"\",B3403=\"\"),\"\",VLOOKUP(A3403&\"_\"&B3403,Lookups!$E:$F,2,FALSE))","v":""},""]
[null,null,null,null,null,"",null,"",null,null,"","",{"$f":"IF(OR(A3404=\"\",B3404=\"\"),\"\",VLOOKUP(A3404&\"_\"&B3404,Lookups!$E:$F,2,FALSE))","v":""},""]
[null,null,null,null,null,"",null,"",null,null,"","",{"$f":"IF(OR(A3405=\"\",B3405=\"\"),\"\",VLOOKUP(A3405&\"_\"&B3405,Lookups!$E:$F,2,FALSE))","v":""},""]
[null,null,null,null,null,"",null,"",null,null,"","",{"$f":"IF(OR(A3406=\"\",B3406=\"\"),\"\",VLOOKUP(A3406&\"_\"&B3406,Lookups!$E:$F,2,FALSE))","v":""},""]
[null,null,null,null,null,"",null,"",null,null,"","",{"$f":"IF(OR(A3407=\"\",B3407=\"\"),\"\",VLOOKUP(A3407&\"_\"&B3407,Lookups!$E:$F,2,FALSE))","v":""},""]
[null,null,null,null,null,"",null,"",null,null,"","",{"$f":"IF(OR(A3408=\"\",B3408=\"\"),\"\",VLOOKUP(A3408&\"_\"&B3408,Lookups!$E:$F,2,FALSE))","v":""},""]
[null,null,null,null,null,"",null,"",null,null,"","",{"$f":"IF(OR(A3409=\"\",B3409=\"\"),\"\",VLOOKUP(A3409&\"_\"&B3409,Lookups!$E:$F,2,FALSE))","v":""},""]
[null,null,null,null,null,"",null,"",null,null,"","",{"$f":"IF(OR(A3410=\"\",B3410=\"\"),\"\",VLOOKUP(A3410&\"_\"&B3410,Lookups!$E:$F,2,FALSE))","v":""},""]
[null,null,null,null,null,"",null,"",null,null,"","",{"$f":"IF(OR(A3411=\"\",B3411=\"\"),\"\",VLOOKUP(A3411&\"_\"&B3411,Lookups!$E:$F,2,FALSE))","v":""},""]
[null,null,null,null,null,"",null,"",null,null,"","",{"$f":"IF(OR(A3412=\"\",B3412=\"\"),\"\",VLOOKUP(A3412&\"_\"&B3412,Lookups!$E:$F,2,FALSE))","v":""},""]
[null,null,null,null,null,"",null,"",null,null,"","",{"$f":"IF(OR(A3413=\"\",B3413=\"\"),\"\",VLOOKUP(A3413&\"_\"&B3413,Lookups!$E:$F,2,FALSE))","v":""},""]
[null,null,null,null,null,"",null,"",null,null,"","",{"$f":"IF(OR(A3414=\"\",B3414=\"\"),\"\",VLOOKUP(A3414&\"_\"&B3414,Lookups!$E:$F,2,FALSE))","v":""},""]
[null,null,null,null,null,"",null,"",null,null,"","",{"$f":"IF(OR(A3415=\"\",B3415=\"\"),\"\",VLOOKUP(A3415&\"_\"&B3415,Lookups!$E:$F,2,FALSE))","v":""},""]
[null,null,null,null,null,"",null,"",null,null,"","",{"$f":"IF(OR(A3416=\"\",B3416=\"\"),\"\",VLOOKUP(A3416&\"_\"&B3416,Lookups!$E:$F,2,FALSE))","v":""},""]
[null,null,null,null,null,"",null,"",null,null,"","",{"$f":"IF(OR(A3417=\"\",B3417=\"\"),\"\",VLOOKUP(A3417&\"_\"&B3417,Lookups!$E:$F,2,FALSE))","v":""},""]
[null,null,null,null,null,"",null,"",null,null,"","",{"$f":"IF(OR(A3418=\"\",B3418=\"\"),\"\",VLOOKUP(A3418&\"_\"&B3418,Lookups!$E:$F,2,FALSE))","v":""},""]
[null,null,null,null,null,"",null,"",null,null,"","",{"$f":"IF(OR(A3419=\"\",B3419=\"\"),\"\",VLOOKUP(A3419&\"_\"&B3419,Lookups!$E:$F,2,FALSE))","v":""},""]
[null,null,null,null,null,"",null,"",null,null,"","",{"$f":"IF(OR(A3420=\"\",B3420=\"\"),\"\",VLOOKUP(A3420&\"_\"&B3420,Lookups!$E:$F,2,FALSE))","v":""},""]
[null,null,null,null,null,"",null,"",null,null,"","",{"$f":"IF(OR(A3421=\"\",B3421=\"\"),\"\",VLOOKUP(A3421&\"_\"&B3421,Lookups!$E:$F,2,FALSE))","v":""},""]
[null,null,null,null,null,"",null,"",null,null,"","",{"$f":"IF(OR(A3422=\"\",B3422=\"\"),\"\",VLOOKUP(A3422&\"_\"&B3422,Lookups!$E:$F,2,FALSE))","v":""},""]
[null,null,null,null,null,"",null,"",null,null,"","",{"$f":"IF(OR(A3423=\"\",B3423=\"\"),\"\",VLOOKUP(A3423&\"_\"&B3423,Lookups!$E:$F,2,FALSE))","v":""},""]
[null,null,null,null,null,"",null,"",null,null,"","",{"$f":"IF(OR(A3424=\"\",B3424=\"\"),\"\",VLOOKUP(A3424&\"_\"&B3424,Lookups!$E:$F,2,FALSE))","v":""},""]
[null,null,null,null,null,"",null,"",null,null,"","",{"$f":"IF(OR(A3425=\"\",B3425=\"\"),\"\",VLOOKUP(A3425&\"_\"&B3425,Lookups!$E:$F,2,FALSE))","v":""},""]
[null,null,null,null,null,"",null,"",null,null,"","",{"$f":"IF(OR(A3426=\"\",B3426=\"\"),\"\",VLOOKUP(A3426&\"_\"&B3426,Lookups!$E:$F,2,FALSE))","v":""},""]
[null,null,null,null,null,"",null,"",null,null,"","",{"$f":"IF(OR(A3427=\"\",B3427=\"\"),\"\",VLOOKUP(A3427&\"_\"&B3427,Lookups!$E:$F,2,FALSE))","v":""},""]
[null,null,null,null,null,"",null,"",null,null,"","",{"$f":"IF(OR(A3428=\"\",B3428=\"\"),\"\",VLOOKUP(A3428&\"_\"&B3428,Lookups!$E:$F,2,FALSE))","v":""},""]
[null,null,null,null,null,"",null,"",null,null,"","",{"$f":"IF(OR(A3429=\"\",B3429=\"\"),\"\",VLOOKUP(A3429&\"_\"&B3429,Lookups!$E:$F,2,FALSE))","v":""},""]
[null,null,null,null,null,"",null,"",null,null,"","",{"$f":"IF(OR(A3430=\"\",B3430=\"\"),\"\",VLOOKUP(A3430&\"_\"&B3430,Lookups!$E:$F,2,FALSE))","v":""},""]
[null,null,null,null,null,"",null,"",null,null,"","",{"$f":"IF(OR(A3431=\"\",B3431=\"\"),\"\",VLOOKUP(A3431&\"_\"&B3431,Lookups!$E:$F,2,FALSE))","v":""},""]
[null,null,null,null,null,"",null,"",null,null,"","",{"$f":"IF(OR(A3432=\"\",B3432=\"\"),\"\",VLOOKUP(A3432&\"_\"&B3432,Lookups!$E:$F,2,FALSE))","v":""},""]
[null,null,null,null,null,"",null,"",null,null,"","",{"$f":"IF(OR(A3433=\"\",B3433=\"\"),\"\",VLOOKUP(A3433&\"_\"&B3433,Lookups!$E:$F,2,FALSE))","v":""},""]
[null,null,null,null,null,"",null,"",null,null,"","",{"$f":"IF(OR(A3434=\"\",B3434=\"\"),\"\",VLOOKUP(A3434&\"_\"&B3434,Lookups!$E:$F,2,FALSE))","v":""},""]
[null,null,null,null,null,"",null,"",null,null,"","",{"$f":"IF(OR(A3435=\"\",B3435=\"\"),\"\",VLOOKUP(A3435&\"_\"&B3435,Lookups!$E:$F,2,FALSE))","v":""},""]
[null,null,null,null,null,"",null,"",null,null,"","",{"$f":"IF(OR(A3436=\"\",B3436=\"\"),\"\",VLOOKUP(A3436&\"_\"&B3436,Lookups!$E:$F,2,FALSE))","v":""},""]
[null,null,null,null,null,"",null,"",null,null,"","",{"$f":"IF(OR(A3437=\"\",B3437=\"\"),\"\",VLOOKUP(A3437&\"_\"&B3437,Lookups!$E:$F,2,FALSE))","v":""},""]
[null,null,null,null,null,"",null,"",null,null,"","",{"$f":"IF(OR(A3438=\"\",B3438=\"\"),\"\",VLOOKUP(A3438&\"_\"&B3438,Lookups!$E:$F,2,FALSE))","v":""},""]
[null,null,null,null,null,"",null,"",null,null,"","",{"$f":"IF(OR(A3439=\"\",B3439=\"\"),\"\",VLOOKUP(A3439&\"_\"&B3439,Lookups!$E:$F,2,FALSE))","v":""},""]
[null,null,null,null,null,"",null,"",null,null,"","",{"$f":"IF(OR(A3440=\"\",B3440=\"\"),\"\",VLOOKUP(A3440&\"_\"&B3440,Lookups!$E:$F,2,FALSE))","v":""},""]
[null,null,null,null,null,"",null,"",null,null,"","",{"$f":"IF(OR(A3441=\"\",B3441=\"\"),\"\",VLOOKUP(A3441&\"_\"&B3441,Lookups!$E:$F,2,FALSE))","v":""},""]
[null,null,null,null,null,"",null,"",null,null,"","",{"$f":"IF(OR(A3442=\"\",B3442=\"\"),\"\",VLOOKUP(A3442&\"_\"&B3442,Lookups!$E:$F,2,FALSE))","v":""},""]
[null,null,null,null,null,"",null,"",null,null,"","",{"$f":"IF(OR(A3443=\"\",B3443=\"\"),\"\",VLOOKUP(A3443&\"_\"&B3443,Lookups!$E:$F,2,FALSE))","v":""},""]
[null,null,null,null,null,"",null,"",null,null,"","",{"$f":"IF(OR(A3444=\"\",B3444=\"\"),\"\",VLOOKUP(A3444&\"_\"&B3444,Lookups!$E:$F,2,FALSE))","v":""},""]
[null,null,null,null,null,"",null,"",null,null,"","",{"$f":"IF(OR(A3445=\"\",B3445=\"\"),\"\",VLOOKUP(A3445&\"_\"&B3445,Lookups!$E:$F,2,FALSE))","v":""},""]
[null,null,null,null,null,"",null,"",null,null,"","",{"$f":"IF(OR(A3446=\"\",B3446=\"\"),\"\",VLOOKUP(A3446&\"_\"&B3446,Lookups!$E:$F,2,FALSE))","v":""},""]
[null,null,null,null,null,"",null,"",null,null,"","",{"$f":"IF(OR(A3447=\"\",B3447=\"\"),\"\",VLOOKUP(A3447&\"_\"&B3447,Lookups!$E:$F,2,FALSE))","v":""},""]
[null,null,null,null,null,"",null,"",null,null,"","",{"$f":"IF(OR(A3448=\"\",B3448=\"\"),\"\",VLOOKUP(A3448&\"_\"&B3448,Lookups!$E:$F,2,FALSE))","v":""},""]
[null,null,null,null,null,"",null,"",null,null,"","",{"$f":"IF(OR(A3449=\"\",B3449=\"\"),\"\",VLOOKUP(A3449&\"_\"&B3449,Lookups!$E:$F,2,FALSE))","v":""},""]
[null,null,null,null,null,"",null,"",null,null,"","",{"$f":"IF(OR(A3450=\"\",B3450=\"\"),\"\",VLOOKUP(A3450&\"_\"&B3450,Lookups!$E:$F,2,FALSE))","v":""},""]
[null,null,null,null,null,"",null,"",null,null,"","",{"$f":"IF(OR(A3451=\"\",B3451=\"\"),\"\",VLOOKUP(A3451&\"_\"&B3451,Lookups!$E:$F,2,FALSE))","v":""},""]
[null,null,null,null,null,"",null,"",null,null,"","",{"$f":"IF(OR(A3452=\"\",B3452=\"\"),\"\",VLOOKUP(A3452&\"_\"&B3452,Lookups!$E:$F,2,FALSE))","v":""},""]
[null,null,null,null,null,"",null,"",null,null,"","",{"$f":"IF(OR(A3453=\"\",B3453=\"\"),\"\",VLOOKUP(A3453&\"_\"&B3453,Lookups!$E:$F,2,FALSE))","v":""},""]
[null,null,null,null,null,"",null,"",null,null,"","",{"$f":"IF(OR(A3454=\"\",B3454=\"\"),\"\",VLOOKUP(A3454&\"_\"&B3454,Lookups!$E:$F,2,FALSE))","v":""},""]
[null,null,null,null,null,"",null,"",null,null,"","",{"$f":"IF(OR(A3455=\"\",B3455=\"\"),\"\",VLOOKUP(A3455&\"_\"&B3455,Lookups!$E:$F,2,FALSE))","v":""},""]
[null,null,null,null,null,"",null,"",null,null,"","",{"$f":"IF(OR(A3456=\"\",B3456=\"\"),\"\",VLOOKUP(A3456&\"_\"&B3456,Lookups!$E:$F,2,FALSE))","v":""},""]
[null,null,null,null,null,"",null,"",null,null,"","",{"$f":"IF(OR(A3457=\"\",B3457=\"\"),\"\",VLOOKUP(A3457&\"_\"&B3457,Lookups!$E:$F,2,FALSE))","v":""},""]
[null,null,null,null,null,"",null,"",null,null,"","",{"$f":"IF(OR(A3458=\"\",B3458=\"\"),\"\",VLOOKUP(A3458&\"_\"&B3458,Lookups!$E:$F,2,FALSE))","v":""},""]
[null,null,null,null,null,"",null,"",null,null,"","",{"$f":"IF(OR(A3459=\"\",B3459=\"\"),\"\",VLOOKUP(A3459&\"_\"&B3459,Lookups!$E:$F,2,FALSE))","v":""},""]
[null,null,null,null,null,{"$f":"IF(OR(D3460=\"\",E3460=\"\"),\"\",ROUND((E3460-D3460)*24,2))","v":""},null,{"$f":"IF(F3460=\"\",\"\",IF(G3460<>\"\",F3460*G3460,F3460))","v":""},null,null,{"$f":"IF(AND(H3460<>\"\",I3460=\"Paid\"),H3460,\"\")","v":""},{"$f":"IF(H3460=\"\",\"\",IF(K3460=\"\",H3460,H3460-K3460))","v":""},{"$f":"IF(OR(A3460=\"\",B3460=\"\"),\"\",VLOOKUP(A3460&\"_\"&B3460,Lookups!$E:$F,2,FALSE))","v":""},{"$f":"IF(AND(K3460=\"\",L3460=\"\"),\"\",IF(K3460=\"\",L3460*M3460,SUM(K3460,L3460)*M3460))","v":""}]
[null,null,null,null,null,"",null,"",null,null,"","",{"$f":"IF(OR(A3461=\"\",B3461=\"\"),\"\",VLOOKUP(A3461&\"_\"&B3461,Lookups!$E:$F,2,FALSE))","v":""},""]
[null,null,null,null,null,"",null,"",null,null,"","",{"$f":"IF(OR(A3462=\"\",B3462=\"\"),\"\",VLOOKUP(A3462&\"_\"&B3462,Lookups!$E:$F,2,FALSE))","v":""},""]
[null,null,null,null,null,"",null,"",null,null,"","",{"$f":"IF(OR(A3463=\"\",B3463=\"\"),\"\",VLOOKUP(A3463&\"_\"&B3463,Lookups!$E:$F,2,FALSE))","v":""},""]
[null,null,null,null,null,"",null,"",null,null,"","",{"$f":"IF(OR(A3464=\"\",B3464=\"\"),\"\",VLOOKUP(A3464&\"_\"&B3464,Lookups!$E:$F,2,FALSE))","v":""},""]
[null,null,null,null,null,"",null,"",null,null,"","",{"$f":"IF(OR(A3465=\"\",B3465=\"\"),\"\",VLOOKUP(A3465&\"_\"&B3465,Lookups!$E:$F,2,FALSE))","v":""},""]
[null,null,null,null,null,"",null,"",null,null,"","",{"$f":"IF(OR(A3466=\"\",B3466=\"\"),\"\",VLOOKUP(A3466&\"_\"&B3466,Lookups!$E:$F,2,FALSE))","v":""},""]
[null,null,null,null,null,"",null,"",null,null,"","",{"$f":"IF(OR(A3467=\"\",B3467=\"\"),\"\",VLOOKUP(A3467&\"_\"&B3467,Lookups!$E:$F,2,FALSE))","v":""},""]
[null,null,null,null,null,"",null,"",null,null,"","",{"$f":"IF(OR(A3468=\"\",B3468=\"\"),\"\",VLOOKUP(A3468&\"_\"&B3468,Lookups!$E:$F,2,FALSE))","v":""},""]
[null,null,null,null,null,"",null,"",null,null,"","",{"$f":"IF(OR(A3469=\"\",B3469=\"\"),\"\",VLOOKUP(A3469&\"_\"&B3469,Lookups!$E:$F,2,FALSE))","v":""},""]
[null,null,null,null,null,"",null,"",null,null,"","",{"$f":"IF(OR(A3470=\"\",B3470=\"\"),\"\",VLOOKUP(A3470&\"_\"&B3470,Lookups!$E:$F,2,FALSE))","v":""},""]
[null,null,null,null,null,"",null,"",null,null,"","",{"$f":"IF(OR(A3471=\"\",B3471=\"\"),\"\",VLOOKUP(A3471&\"_\"&B3471,Lookups!$E:$F,2,FALSE))","v":""},""]
[null,null,null,null,null,"",null,"",null,null,"","",{"$f":"IF(OR(A3472=\"\",B3472=\"\"),\"\",VLOOKUP(A3472&\"_\"&B3472,Lookups!$E:$F,2,FALSE))","v":""},""]
[null,null,null,null,null,"",null,"",null,null,"","",{"$f":"IF(OR(A3473=\"\",B3473=\"\"),\"\",VLOOKUP(A3473&\"_\"&B3473,Lookups!$E:$F,2,FALSE))","v":""},""]
[null,null,null,null,null,"",null,"",null,null,"","",{"$f":"IF(OR(A3474=\"\",B3474=\"\"),\"\",VLOOKUP(A3474&\"_\"&B3474,Lookups!$E:$F,2,FALSE))","v":""},""]
[null,null,null,null,null,"",null,"",null,null,"","",{"$f":"IF(OR(A3475=\"\",B3475=\"\"),\"\",VLOOKUP(A3475&\"_\"&B3475,Lookups!$E:$F,2,FALSE))","v":""},""]
[null,null,null,null,null,"",null,"",null,null,"","",{"$f":"IF(OR(A3476=\"\",B3476=\"\"),\"\",VLOOKUP(A3476&\"_\"&B3476,Lookups!$E:$F,2,FALSE))","v":""},""]
[null,null,null,null,null,"",null,"",null,null,"","",{"$f":"IF(OR(A3477=\"\",B3477=\"\"),\"\",VLOOKUP(A3477&\"_\"&B3477,Lookups!$E:$F,2,FALSE))","v":""},""]
[null,null,null,null,null,"",null,"",null,null,"","",{"$f":"IF(OR(A3478=\"\",B3478=\"\"),\"\",VLOOKUP(A3478&\"_\"&B3478,Lookups!$E:$F,2,FALSE))","v":""},""]
[null,null,null,null,null,"",null,"",null,null,"","",{"$f":"IF(OR(A3479=\"\",B3479=\"\"),\"\",VLOOKUP(A3479&\"_\"&B3479,Lookups!$E:$F,2,FALSE))","v":""},""]
[null,null,null,null,null,"",null,"",null,null,"","",{"$f":"IF(OR(A3480=\"\",B3480=\"\"),\"\",VLOOKUP(A3480&\"_\"&B3480,Lookups!$E:$F,2,FALSE))","v":""},""]
[null,null,null,null,null,"",null,"",null,null,"","",{"$f":"IF(OR(A3481=\"\",B3481=\"\"),\"\",VLOOKUP(A3481&\"_\"&B3481,Lookups!$E:$F,2,FALSE))","v":""},""]
[null,null,null,null,null,"",null,"",null,null,"","",{"$f":"IF(OR(A3482=\"\",B3482=\"\"),\"\",VLOOKUP(A3482&\"_\"&B3482,Lookups!$E:$F,2,FALSE))","v":""},""]
[null,null,null,null,null,"",null,"",null,null,"","",{"$f":"IF(OR(A3483=\"\",B3483=\"\"),\"\",VLOOKUP(A3483&\"_\"&B3483,Lookups!$E:$F,2,FALSE))","v":""},""]
[null,null,null,null,null,"",null,"",null,null,"","",{"$f":"IF(OR(A3484=\"\",B3484=\"\"),\"\",VLOOKUP(A3484&\"_\"&B3484,Lookups!$E:$F,2,FALSE))","v":""},""]
[null,null,null,null,null,"",null,"",null,null,"","",{"$f":"IF(OR(A3485=\"\",B3485=\"\"),\"\",VLOOKUP(A3485&\"_\"&B3485,Lookups!$E:$F,2,FALSE))","v":""},""]
[null,null,null,null,null,"",null,"",null,null,"","",{"$f":"IF(OR(A3486=\"\",B3486=\"\"),\"\",VLOOKUP(A3486&\"_\"&B3486,Lookups!$E:$F,2,FALSE))","v":""},""]
[null,null,null,null,null,"",null,"",null,null,"","",{"$f":"IF(OR(A3487=\"\",B3487=\"\"),\"\",VLOOKUP(A3487&\"_\"&B3487,Lookups!$E:$F,2,FALSE))","v":""},""]
[null,null,null,null,null,"",null,"",null,null,"","",{"$f":"IF(OR(A3488=\"\",B3488=\"\"),\"\",VLOOKUP(A3488&\"_\"&B3488,Lookups!$E:$F,2,FALSE))","v":""},""]
[null,null,null,null,null,"",null,"",null,null,"","",{"$f":"IF(OR(A3489=\"\",B3489=\"\"),\"\",VLOOKUP(A3489&\"_\"&B3489,Lookups!$E:$F,2,FALSE))","v":""},""]
[null,null,null,null,null,"",null,"",null,null,"","",{"$f":"IF(OR(A3490=\"\",B3490=\"\"),\"\",VLOOKUP(A3490&\"_\"&B3490,Lookups!$E:$F,2,FALSE))","v":""},""]
[null,null,null,null,null,"",null,"",null,null,"","",{"$f":"IF(OR(A3491=\"\",B3491=\"\"),\"\",VLOOKUP(A3491&\"_\"&B3491,Lookups!$E:$F,2,FALSE))","v":""},""]
[null,null,null,null,null,"",null,"",null,null,"","",{"$f":"IF(OR(A3492=\"\",B3492=\"\"),\"\",VLOOKUP(A3492&\"_\"&B3492,Lookups!$E:$F,2,FALSE))","v":""},""]
[null,null,null,null,null,"",null,"",null,null,"","",{"$f":"IF(OR(A3493=\"\",B3493=\"\"),\"\",VLOOKUP(A3493&\"_\"&B3493,Lookups!$E:$F,2,FALSE))","v":""},""]
[null,null,null,null,null,"",null,"",null,null,"","",{"$f":"IF(OR(A3494=\"\",B3494=\"\"),\"\",VLOOKUP(A3494&\"_\"&B3494,Lookups!$E:$F,2,FALSE))","v":""},""]
[null,null,null,null,null,"",null,"",null,null,"","",{"$f":"IF(OR(A3495=\"\",B3495=\"\"),\"\",VLOOKUP(A3495&\"_\"&B3495,Lookups!$E:$F,2,FALSE))","v":""},""]
[null,null,null,null,null,"",null,"",null,null,"","",{"$f":"IF(OR(A3496=\"\",B3496=\"\"),\"\",VLOOKUP(A3496&\"_\"&B3496,Lookups!$E:$F,2,FALSE))","v":""},""]
[null,null,null,null,null,"",null,"",null,null,"","",{"$f":"IF(OR(A3497=\"\",B3497=\"\"),\"\",VLOOKUP(A3497&\"_\"&B3497,Lookups!$E:$F,2,FALSE))","v":""},""]
[null,null,null,null,null,"",null,"",null,null,"","",{"$f":"IF(OR(A3498=\"\",B3498=\"\"),\"\",VLOOKUP(A3498&\"_\"&B3498,Lookups!$E:$F,2,FALSE))","v":""},""]
[null,null,null,null,null,"",null,"",null,null,"","",{"$f":"IF(OR(A3499=\"\",B3499=\"\"),\"\",VLOOKUP(A3499&\"_\"&B3499,Lookups!$E:$F,2,FALSE))","v":""},""]
[null,null,null,null,null,"",null,"",null,null,"","",{"$f":"IF(OR(A3500=\"\",B3500=\"\"),\"\",VLOOKUP(A3500&\"_\"&B3500,Lookups!$E:$F,2,FALSE))","v":""},""]
[null,null,null,null,null,"",null,"",null,null,"","",{"$f":"IF(OR(A3501=\"\",B3501=\"\"),\"\",VLOOKUP(A3501&\"_\"&B3501,Lookups!$E:$F,2,FALSE))","v":""},""]
[null,null,null,null,null,"",null,"",null,null,"","",{"$f":"IF(OR(A3502=\"\",B3502=\"\"),\"\",VLOOKUP(A3502&\"_\"&B3502,Lookups!$E:$F,2,FALSE))","v":""},""]
[null,null,null,null,null,"",null,"",null,null,"","",{"$f":"IF(OR(A3503=\"\",B3503=\"\"),\"\",VLOOKUP(A3503&\"_\"&B3503,Lookups!$E:$F,2,FALSE))","v":""},""]
[null,null,null,null,null,"",null,"",null,null,"","",{"$f":"IF(OR(A3504=\"\",B3504=\"\"),\"\",VLOOKUP(A3504&\"_\"&B3504,Lookups!$E:$F,2,FALSE))","v":""},""]
[null,null,null,null,null,"",null,"",null,null,"","",{"$f":"IF(OR(A3505=\"\",B3505=\"\"),\"\",VLOOKUP(A3505&\"_\"&B3505,Lookups!$E:$F,2,FALSE))","v":""},""]
[null,null,null,null,null,"",null,"",null,null,"","",{"$f":"IF(OR(A3506=\"\",B3506=\"\"),\"\",VLOOKUP(A3506&\"_\"&B3506,Lookups!$E:$F,2,FALSE))","v":""},""]
[null,null,null,null,null,"",null,"",null,null,"","",{"$f":"IF(OR(A3507=\"\",B3507=\"\"),\"\",VLOOKUP(A3507&\"_\"&B3507,Lookups!$E:$F,2,FALSE))","v":""},""]
[null,null,null,null,null,"",null,"",null,null,"","",{"$f":"IF(OR(A3508=\"\",B3508=\"\"),\"\",VLOOKUP(A3508&\"_\"&B3508,Lookups!$E:$F,2,FALSE))","v":""},""]
[null,null,null,null,null,"",null,"",null,null,"","",{"$f":"IF(OR(A3509=\"\",B3509=\"\"),\"\",VLOOKUP(A3509&\"_\"&B3509,Lookups!$E:$F,2,FALSE))","v":""},""]
[null,null,null,null,null,"",null,"",null,null,"","",{"$f":"IF(OR(A3510=\"\",B3510=\"\"),\"\",VLOOKUP(A3510&\"_\"&B3510,Lookups!$E:$F,2,FALSE))","v":""},""]
[null,null,null,null,null,"",null,"",null,null,"","",{"$f":"IF(OR(A3511=\"\",B3511=\"\"),\"\",VLOOKUP(A3511&\"_\"&B3511,Lookups!$E:$F,2,FALSE))","v":""},""]
[null,null,null,null,null,"",null,"",null,null,"","",{"$f":"IF(OR(A3512=\"\",B3512=\"\"),\"\",VLOOKUP(A3512&\"_\"&B3512,Lookups!$E:$F,2,FALSE))","v":""},""]
[null,null,null,null,null,"",null,"",null,null,"","",{"$f":"IF(OR(A3513=\"\",B3513=\"\"),\"\",VLOOKUP(A3513&\"_\"&B3513,Lookups!$E:$F,2,FALSE))","v":""},""]
[null,null,null,null,null,"",null,"",null,null,"","",{"$f":"IF(OR(A3514=\"\",B3514=\"\"),\"\",VLOOKUP(A3514&\"_\"&B3514,Lookups!$E:$F,2,FALSE))","v":""},""]
[null,null,null,null,null,"",null,"",null,null,"","",{"$f":"IF(OR(A3515=\"\",B3515=\"\"),\"\",VLOOKUP(A3515&\"_\"&B3515,Lookups!$E:$F,2,FALSE))","v":""},""]
[null,null,null,null,null,"",null,"",null,null,"","",{"$f":"IF(OR(A3516=\"\",B3516=\"\"),\"\",VLOOKUP(A3516&\"_\"&B3516,Lookups!$E:$F,2,FALSE))","v":""},""]
[null,null,null,null,null,"",null,"",null,null,"","",{"$f":"IF(OR(A3517=\"\",B3517=\"\"),\"\",VLOOKUP(A3517&\"_\"&B3517,Lookups!$E:$F,2,FALSE))","v":""},""]
[null,null,null,null,null,"",null,"",null,null,"","",{"$f":"IF(OR(A3518=\"\",B3518=\"\"),\"\",VLOOKUP(A3518&\"_\"&B3518,Lookups!$E:$F,2,FALSE))","v":""},""]
[null,null,null,null,null,"",null,"",null,null,"","",{"$f":"IF(OR(A3519=\"\",B3519=\"\"),\"\",VLOOKUP(A3519&\"_\"&B3519,Lookups!$E:$F,2,FALSE))","v":""},""]
[null,null,null,null,null,"",null,"",null,null,"","",{"$f":"IF(OR(A3520=\"\",B3520=\"\"),\"\",VLOOKUP(A3520&\"_\"&B3520,Lookups!$E:$F,2,FALSE))","v":""},""]
[null,null,null,null,null,"",null,"",null,null,"","",{"$f":"IF(OR(A3521=\"\",B3521=\"\"),\"\",VLOOKUP(A3521&\"_\"&B3521,Lookups!$E:$F,2,FALSE))","v":""},""]
[null,null,null,null,null,"",null,"",null,null,"","",{"$f":"IF(OR(A3522=\"\",B3522=\"\"),\"\",VLOOKUP(A3522&\"_\"&B3522,Lookups!$E:$F,2,FALSE))","v":""},""]
[null,null,null,null,null,"",null,"",null,null,"","",{"$f":"IF(OR(A3523=\"\",B3523=\"\"),\"\",VLOOKUP(A3523&\"_\"&B3523,Lookups!$E:$F,2,FALSE))","v":""},""]
[null,null,null,null,null,{"$f":"IF(OR(D3524=\"\",E3524=\"\"),\"\",ROUND((E3524-D3524)*24,2))","v":""},null,{"$f":"IF(F3524=\"\",\"\",IF(G3524<>\"\",F3524*G3524,F3524))","v":""},null,null,{"$f":"IF(AND(H3524<>\"\",I3524=\"Paid\"),H3524,\"\")","v":""},{"$f":"IF(H3524=\"\",\"\",IF(K3524=\"\",H3524,H3524-K3524))","v":""},{"$f":"IF(OR(A3524=\"\",B3524=\"\"),\"\",VLOOKUP(A3524&\"_\"&B3524,Lookups!$E:$F,2,FALSE))","v":""},{"$f":"IF(AND(K3524=\"\",L3524=\"\"),\"\",IF(K3524=\"\",L3524*M3524,SUM(K3524,L3524)*M3524))","v":""}]
[null,null,null,null,null,"",null,"",null,null,"","",{"$f":"IF(OR(A3525=\"\",B3525=\"\"),\"\",VLOOKUP(A3525&\"_\"&B3525,Lookups!$E:$F,2,FALSE))","v":""},""]
[null,null,null,null,null,"",null,"",null,null,"","",{"$f":"IF(OR(A3526=\"\",B3526=\"\"),\"\",VLOOKUP(A3526&\"_\"&B3526,Lookups!$E:$F,2,FALSE))","v":""},""]
[null,null,null,null,null,"",null,"",null,null,"","",{"$f":"IF(OR(A3527=\"\",B3527=\"\"),\"\",VLOOKUP(A3527&\"_\"&B3527,Lookups!$E:$F,2,FALSE))","v":""},""]
[null,null,null,null,null,"",null,"",null,null,"","",{"$f":"IF(OR(A3528=\"\",B3528=\"\"),\"\",VLOOKUP(A3528&\"_\"&B3528,Lookups!$E:$F,2,FALSE))","v":""},""]
[null,null,null,null,null,"",null,"",null,null,"","",{"$f":"IF(OR(A3529=\"\",B3529=\"\"),\"\",VLOOKUP(A3529&\"_\"&B3529,Lookups!$E:$F,2,FALSE))","v":""},""]
[null,null,null,null,null,"",null,"",null,null,"","",{"$f":"IF(OR(A3530=\"\",B3530=\"\"),\"\",VLOOKUP(A3530&\"_\"&B3530,Lookups!$E:$F,2,FALSE))","v":""},""]
[null,null,null,null,null,"",null,"",null,null,"","",{"$f":"IF(OR(A3531=\"\",B3531=\"\"),\"\",VLOOKUP(A3531&\"_\"&B3531,Lookups!$E:$F,2,FALSE))","v":""},""]
[null,null,null,null,null,"",null,"",null,null,"","",{"$f":"IF(OR(A3532=\"\",B3532=\"\"),\"\",VLOOKUP(A3532&\"_\"&B3532,Lookups!$E:$F,2,FALSE))","v":""},""]
[null,null,null,null,null,"",null,"",null,null,"","",{"$f":"IF(OR(A3533=\"\",B3533=\"\"),\"\",VLOOKUP(A3533&\"_\"&B3533,Lookups!$E:$F,2,FALSE))","v":""},""]
[null,null,null,null,null,"",null,"",null,null,"","",{"$f":"IF(OR(A3534=\"\",B3534=\"\"),\"\",VLOOKUP(A3534&\"_\"&B3534,Lookups!$E:$F,2,FALSE))","v":""},""]
[null,null,null,null,null,"",null,"",null,null,"","",{"$f":"IF(OR(A3535=\"\",B3535=\"\"),\"\",VLOOKUP(A3535&\"_\"&B3535,Lookups!$E:$F,2,FALSE))","v":""},""]
[null,null,null,null,null,"",null,"",null,null,"","",{"$f":"IF(OR(A3536=\"\",B3536=\"\"),\"\",VLOOKUP(A3536&\"_\"&B3536,Lookups!$E:$F,2,FALSE))","v":""},""]
[null,null,null,null,null,"",null,"",null,null,"","",{"$f":"IF(OR(A3537=\"\",B3537=\"\"),\"\",VLOOKUP(A3537&\"_\"&B3537,Lookups!$E:$F,2,FALSE))","v":""},""]
[null,null,null,null,null,"",null,"",null,null,"","",{"$f":"IF(OR(A3538=\"\",B3538=\"\"),\"\",VLOOKUP(A3538&\"_\"&B3538,Lookups!$E:$F,2,FALSE))","v":""},""]
[null,null,null,null,null,"",null,"",null,null,"","",{"$f":"IF(OR(A3539=\"\",B3539=\"\"),\"\",VLOOKUP(A3539&\"_\"&B3539,Lookups!$E:$F,2,FALSE))","v":""},""]
[null,null,null,null,null,"",null,"",null,null,"","",{"$f":"IF(OR(A3540=\"\",B3540=\"\"),\"\",VLOOKUP(A3540&\"_\"&B3540,Lookups!$E:$F,2,FALSE))","v":""},""]
[null,null,null,null,null,"",null,"",null,null,"","",{"$f":"IF(OR(A3541=\"\",B3541=\"\"),\"\",VLOOKUP(A3541&\"_\"&B3541,Lookups!$E:$F,2,FALSE))","v":""},""]
[null,null,null,null,null,"",null,"",null,null,"","",{"$f":"IF(OR(A3542=\"\",B3542=\"\"),\"\",VLOOKUP(A3542&\"_\"&B3542,Lookups!$E:$F,2,FALSE))","v":""},""]
[null,null,null,null,null,"",null,"",null,null,"","",{"$f":"IF(OR(A3543=\"\",B3543=\"\"),\"\",VLOOKUP(A3543&\"_\"&B3543,Lookups!$E:$F,2,FALSE))","v":""},""]
[null,null,null,null,null,"",null,"",null,null,"","",{"$f":"IF(OR(A3544=\"\",B3544=\"\"),\"\",VLOOKUP(A3544&\"_\"&B3544,Lookups!$E:$F,2,FALSE))","v":""},""]
[null,null,null,null,null,"",null,"",null,null,"","",{"$f":"IF(OR(A3545=\"\",B3545=\"\"),\"\",VLOOKUP(A3545&\"_\"&B3545,Lookups!$E:$F,2,FALSE))","v":""},""]
[null,null,null,null,null,"",null,"",null,null,"","",{"$f":"IF(OR(A3546=\"\",B3546=\"\"),\"\",VLOOKUP(A3546&\"_\"&B3546,Lookups!$E:$F,2,FALSE))","v":""},""]
[null,null,null,null,null,"",null,"",null,null,"","",{"$f":"IF(OR(A3547=\"\",B3547=\"\"),\"\",VLOOKUP(A3547&\"_\"&B3547,Lookups!$E:$F,2,FALSE))","v":""},""]
[null,null,null,null,null,"",null,"",null,null,"","",{"$f":"IF(OR(A3548=\"\",B3548=\"\"),\"\",VLOOKUP(A3548&\"_\"&B3548,Lookups!$E:$F,2,FALSE))","v":""},""]
[null,null,null,null,null,"",null,"",null,null,"","",{"$f":"IF(OR(A3549=\"\",B3549=\"\"),\"\",VLOOKUP(A3549&\"_\"&B3549,Lookups!$E:$F,2,FALSE))","v":""},""]
[null,null,null,null,null,"",null,"",null,null,"","",{"$f":"IF(OR(A3550=\"\",B3550=\"\"),\"\",VLOOKUP(A3550&\"_\"&B3550,Lookups!$E:$F,2,FALSE))","v":""},""]
[null,null,null,null,null,"",null,"",null,null,"","",{"$f":"IF(OR(A3551=\"\",B3551=\"\"),\"\",VLOOKUP(A3551&\"_\"&B3551,Lookups!$E:$F,2,FALSE))","v":""},""]
[null,null,null,null,null,"",null,"",null,null,"","",{"$f":"IF(OR(A3552=\"\",B3552=\"\"),\"\",VLOOKUP(A3552&\"_\"&B3552,Lookups!$E:$F,2,FALSE))","v":""},""]
[null,null,null,null,null,"",null,"",null,null,"","",{"$f":"IF(OR(A3553=\"\",B3553=\"\"),\"\",VLOOKUP(A3553&\"_\"&B3553,Lookups!$E:$F,2,FALSE))","v":""},""]
[null,null,null,null,null,"",null,"",null,null,"","",{"$f":"IF(OR(A3554=\"\",B3554=\"\"),\"\",VLOOKUP(A3554&\"_\"&B3554,Lookups!$E:$F,2,FALSE))","v":""},""]
[null,null,null,null,null,"",null,"",null,null,"","",{"$f":"IF(OR(A3555=\"\",B3555=\"\"),\"\",VLOOKUP(A3555&\"_\"&B3555,Lookups!$E:$F,2,FALSE))","v":""},""]
[null,null,null,null,null,"",null,"",null,null,"","",{"$f":"IF(OR(A3556=\"\",B3556=\"\"),\"\",VLOOKUP(A3556&\"_\"&B3556,Lookups!$E:$F,2,FALSE))","v":""},""]
[null,null,null,null,null,"",null,"",null,null,"","",{"$f":"IF(OR(A3557=\"\",B3557=\"\"),\"\",VLOOKUP(A3557&\"_\"&B3557,Lookups!$E:$F,2,FALSE))","v":""},""]
[null,null,null,null,null,"",null,"",null,null,"","",{"$f":"IF(OR(A3558=\"\",B3558=\"\"),\"\",VLOOKUP(A3558&\"_\"&B3558,Lookups!$E:$F,2,FALSE))","v":""},""]
[null,null,null,null,null,"",null,"",null,null,"","",{"$f":"IF(OR(A3559=\"\",B3559=\"\"),\"\",VLOOKUP(A3559&\"_\"&B3559,Lookups!$E:$F,2,FALSE))","v":""},""]
[null,null,null,null,null,"",null,"",null,null,"","",{"$f":"IF(OR(A3560=\"\",B3560=\"\"),\"\",VLOOKUP(A3560&\"_\"&B3560,Lookups!$E:$F,2,FALSE))","v":""},""]
[null,null,null,null,null,"",null,"",null,null,"","",{"$f":"IF(OR(A3561=\"\",B3561=\"\"),\"\",VLOOKUP(A3561&\"_\"&B3561,Lookups!$E:$F,2,FALSE))","v":""},""]
[null,null,null,null,null,"",null,"",null,null,"","",{"$f":"IF(OR(A3562=\"\",B3562=\"\"),\"\",VLOOKUP(A3562&\"_\"&B3562,Lookups!$E:$F,2,FALSE))","v":""},""]
[null,null,null,null,null,"",null,"",null,null,"","",{"$f":"IF(OR(A3563=\"\",B3563=\"\"),\"\",VLOOKUP(A3563&\"_\"&B3563,Lookups!$E:$F,2,FALSE))","v":""},""]
[null,null,null,null,null,"",null,"",null,null,"","",{"$f":"IF(OR(A3564=\"\",B3564=\"\"),\"\",VLOOKUP(A3564&\"_\"&B3564,Lookups!$E:$F,2,FALSE))","v":""},""]
[null,null,null,null,null,"",null,"",null,null,"","",{"$f":"IF(OR(A3565=\"\",B3565=\"\"),\"\",VLOOKUP(A3565&\"_\"&B3565,Lookups!$E:$F,2,FALSE))","v":""},""]
[null,null,null,null,null,"",null,"",null,null,"","",{"$f":"IF(OR(A3566=\"\",B3566=\"\"),\"\",VLOOKUP(A3566&\"_\"&B3566,Lookups!$E:$F,2,FALSE))","v":""},""]
[null,null,null,null,null,"",null,"",null,null,"","",{"$f":"IF(OR(A3567=\"\",B3567=\"\"),\"\",VLOOKUP(A3567&\"_\"&B3567,Lookups!$E:$F,2,FALSE))","v":""},""]
[null,null,null,null,null,"",null,"",null,null,"","",{"$f":"IF(OR(A3568=\"\",B3568=\"\"),\"\",VLOOKUP(A3568&\"_\"&B3568,Lookups!$E:$F,2,FALSE))","v":""},""]
[null,null,null,null,null,"",null,"",null,null,"","",{"$f":"IF(OR(A3569=\"\",B3569=\"\"),\"\",VLOOKUP(A3569&\"_\"&B3569,Lookups!$E:$F,2,FALSE))","v":""},""]
[null,null,null,null,null,"",null,"",null,null,"","",{"$f":"IF(OR(A3570=\"\",B3570=\"\"),\"\",VLOOKUP(A3570&\"_\"&B3570,Lookups!$E:$F,2,FALSE))","v":""},""]
[null,null,null,null,null,"",null,"",null,null,"","",{"$f":"IF(OR(A3571=\"\",B3571=\"\"),\"\",VLOOKUP(A3571&\"_\"&B3571,Lookups!$E:$F,2,FALSE))","v":""},""]
[null,null,null,null,null,"",null,"",null,null,"","",{"$f":"IF(OR(A3572=\"\",B3572=\"\"),\"\",VLOOKUP(A3572&\"_\"&B3572,Lookups!$E:$F,2,FALSE))","v":""},""]
[null,null,null,null,null,"",null,"",null,null,"","",{"$f":"IF(OR(A3573=\"\",B3573=\"\"),\"\",VLOOKUP(A3573&\"_\"&B3573,Lookups!$E:$F,2,FALSE))","v":""},""]
[null,null,null,null,null,"",null,"",null,null,"","",{"$f":"IF(OR(A3574=\"\",B3574=\"\"),\"\",VLOOKUP(A3574&\"_\"&B3574,Lookups!$E:$F,2,FALSE))","v":""},""]
[null,null,null,null,null,"",null,"",null,null,"","",{"$f":"IF(OR(A3575=\"\",B3575=\"\"),\"\",VLOOKUP(A3575&\"_\"&B3575,Lookups!$E:$F,2,FALSE))","v":""},""]
[null,null,null,null,null,"",null,"",null,null,"","",{"$f":"IF(OR(A3576=\"\",B3576=\"\"),\"\",VLOOKUP(A3576&\"_\"&B3576,Lookups!$E:$F,2,FALSE))","v":""},""]
[null,null,null,null,null,"",null,"",null,null,"","",{"$f":"IF(OR(A3577=\"\",B3577=\"\"),\"\",VLOOKUP(A3577&\"_\"&B3577,Lookups!$E:$F,2,FALSE))","v":""},""]
[null,null,null,null,null,"",null,"",null,null,"","",{"$f":"IF(OR(A3578=\"\",B3578=\"\"),\"\",VLOOKUP(A3578&\"_\"&B3578,Lookups!$E:$F,2,FALSE))","v":""},""]
[null,null,null,null,null,"",null,"",null,null,"","",{"$f":"IF(OR(A3579=\"\",B3579=\"\"),\"\",VLOOKUP(A3579&\"_\"&B3579,Lookups!$E:$F,2,FALSE))","v":""},""]
[null,null,null,null,null,"",null,"",null,null,"","",{"$f":"IF(OR(A3580=\"\",B3580=\"\"),\"\",VLOOKUP(A3580&\"_\"&B3580,Lookups!$E:$F,2,FALSE))","v":""},""]
[null,null,null,null,null,"",null,"",null,null,"","",{"$f":"IF(OR(A3581=\"\",B3581=\"\"),\"\",VLOOKUP(A3581&\"_\"&B3581,Lookups!$E:$F,2,FALSE))","v":""},""]
[null,null,null,null,null,"",null,"",null,null,"","",{"$f":"IF(OR(A3582=\"\",B3582=\"\"),\"\",VLOOKUP(A3582&\"_\"&B3582,Lookups!$E:$F,2,FALSE))","v":""},""]
[null,null,null,null,null,"",null,"",null,null,"","",{"$f":"IF(OR(A3583=\"\",B3583=\"\"),\"\",VLOOKUP(A3583&\"_\"&B3583,Lookups!$E:$F,2,FALSE))","v":""},""]
[null,null,null,null,null,"",null,"",null,null,"","",{"$f":"IF(OR(A3584=\"\",B3584=\"\"),\"\",VLOOKUP(A3584&\"_\"&B3584,Lookups!$E:$F,2,FALSE))","v":""},""]
[null,null,null,null,null,"",null,"",null,null,"","",{"$f":"IF(OR(A3585=\"\",B3585=\"\"),\"\",VLOOKUP(A3585&\"_\"&B3585,Lookups!$E:$F,2,FALSE))","v":""},""]
[null,null,null,null,null,"",null,"",null,null,"","",{"$f":"IF(OR(A3586=\"\",B3586=\"\"),\"\",VLOOKUP(A3586&\"_\"&B3586,Lookups!$E:$F,2,FALSE))","v":""},""]
[null,null,null,null,null,"",null,"",null,null,"","",{"$f":"IF(OR(A3587=\"\",B3587=\"\"),\"\",VLOOKUP(A3587&\"_\"&B3587,Lookups!$E:$F,2,FALSE))","v":""},""]
[null,null,null,null,null,{"$f":"IF(OR(D3588=\"\",E3588=\"\"),\"\",ROUND((E3588-D3588)*24,2))","v":""},null,{"$f":"IF(F3588=\"\",\"\",IF(G3588<>\"\",F3588*G3588,F3588))","v":""},null,null,{"$f":"IF(AND(H3588<>\"\",I3588=\"Paid\"),H3588,\"\")","v":""},{"$f":"IF(H3588=\"\",\"\",IF(K3588=\"\",H3588,H3588-K3588))","v":""},{"$f":"IF(OR(A3588=\"\",B3588=\"\"),\"\",VLOOKUP(A3588&\"_\"&B3588,Lookups!$E:$F,2,FALSE))","v":""},{"$f":"IF(AND(K3588=\"\",L3588=\"\"),\"\",IF(K3588=\"\",L3588*M3588,SUM(K3588,L3588)*M3588))","v":""}]
[null,null,null,null,null,"",null,"",null,null,"","",{"$f":"IF(OR(A3589=\"\",B3589=\"\"),\"\",VLOOKUP(A3589&\"_\"&B3589,Lookups!$E:$F,2,FALSE))","v":""},""]
[null,null,null,null,null,"",null,"",null,null,"","",{"$f":"IF(OR(A3590=\"\",B3590=\"\"),\"\",VLOOKUP(A3590&\"_\"&B3590,Lookups!$E:$F,2,FALSE))","v":""},""]
[null,null,null,null,null,"",null,"",null,null,"","",{"$f":"IF(OR(A3591=\"\",B3591=\"\"),\"\",VLOOKUP(A3591&\"_\"&B3591,Lookups!$E:$F,2,FALSE))","v":""},""]
[null,null,null,null,null,"",null,"",null,null,"","",{"$f":"IF(OR(A3592=\"\",B3592=\"\"),\"\",VLOOKUP(A3592&\"_\"&B3592,Lookups!$E:$F,2,FALSE))","v":""},""]
[null,null,null,null,null,"",null,"",null,null,"","",{"$f":"IF(OR(A3593=\"\",B3593=\"\"),\"\",VLOOKUP(A3593&\"_\"&B3593,Lookups!$E:$F,2,FALSE))","v":""},""]
[null,null,null,null,null,"",null,"",null,null,"","",{"$f":"IF(OR(A3594=\"\",B3594=\"\"),\"\",VLOOKUP(A3594&\"_\"&B3594,Lookups!$E:$F,2,FALSE))","v":""},""]
[null,null,null,null,null,"",null,"",null,null,"","",{"$f":"IF(OR(A3595=\"\",B3595=\"\"),\"\",VLOOKUP(A3595&\"_\"&B3595,Lookups!$E:$F,2,FALSE))","v":""},""]
[null,null,null,null,null,"",null,"",null,null,"","",{"$f":"IF(OR(A3596=\"\",B3596=\"\"),\"\",VLOOKUP(A3596&\"_\"&B3596,Lookups!$E:$F,2,FALSE))","v":""},""]
[null,null,null,null,null,"",null,"",null,null,"","",{"$f":"IF(OR(A3597=\"\",B3597=\"\"),\"\",VLOOKUP(A3597&\"_\"&B3597,Lookups!$E:$F,2,FALSE))","v":""},""]
[null,null,null,null,null,"",null,"",null,null,"","",{"$f":"IF(OR(A3598=\"\",B3598=\"\"),\"\",VLOOKUP(A3598&\"_\"&B3598,Lookups!$E:$F,2,FALSE))","v":""},""]
[null,null,null,null,null,"",null,"",null,null,"","",{"$f":"IF(OR(A3599=\"\",B3599=\"\"),\"\",VLOOKUP(A3599&\"_\"&B3599,Lookups!$E:$F,2,FALSE))","v":""},""]
[null,null,null,null,null,"",null,"",null,null,"","",{"$f":"IF(OR(A3600=\"\",B3600=\"\"),\"\",VLOOKUP(A3600&\"_\"&B3600,Lookups!$E:$F,2,FALSE))","v":""},""]
[null,null,null,null,null,"",null,"",null,null,"","",{"$f":"IF(OR(A3601=\"\",B3601=\"\"),\"\",VLOOKUP(A3601&\"_\"&B3601,Lookups!$E:$F,2,FALSE))","v":""},""]
[null,null,null,null,null,"",null,"",null,null,"","",{"$f":"IF(OR(A3602=\"\",B3602=\"\"),\"\",VLOOKUP(A3602&\"_\"&B3602,Lookups!$E:$F,2,FALSE))","v":""},""]
[null,null,null,null,null,"",null,"",null,null,"","",{"$f":"IF(OR(A3603=\"\",B3603=\"\"),\"\",VLOOKUP(A3603&\"_\"&B3603,Lookups!$E:$F,2,FALSE))","v":""},""]
[null,null,null,null,null,"",null,"",null,null,"","",{"$f":"IF(OR(A3604=\"\",B3604=\"\"),\"\",VLOOKUP(A3604&\"_\"&B3604,Lookups!$E:$F,2,FALSE))","v":""},""]
[null,null,null,null,null,"",null,"",null,null,"","",{"$f":"IF(OR(A3605=\"\",B3605=\"\"),\"\",VLOOKUP(A3605&\"_\"&B3605,Lookups!$E:$F,2,FALSE))","v":""},""]
[null,null,null,null,null,"",null,"",null,null,"","",{"$f":"IF(OR(A3606=\"\",B3606=\"\"),\"\",VLOOKUP(A3606&\"_\"&B3606,Lookups!$E:$F,2,FALSE))","v":""},""]
[null,null,null,null,null,"",null,"",null,null,"","",{"$f":"IF(OR(A3607=\"\",B3607=\"\"),\"\",VLOOKUP(A3607&\"_\"&B3607,Lookups!$E:$F,2,FALSE))","v":""},""]
[null,null,null,null,null,"",null,"",null,null,"","",{"$f":"IF(OR(A3608=\"\",B3608=\"\"),\"\",VLOOKUP(A3608&\"_\"&B3608,Lookups!$E:$F,2,FALSE))","v":""},""]
[null,null,null,null,null,"",null,"",null,null,"","",{"$f":"IF(OR(A3609=\"\",B3609=\"\"),\"\",VLOOKUP(A3609&\"_\"&B3609,Lookups!$E:$F,2,FALSE))","v":""},""]
[null,null,null,null,null,"",null,"",null,null,"","",{"$f":"IF(OR(A3610=\"\",B3610=\"\"),\"\",VLOOKUP(A3610&\"_\"&B3610,Lookups!$E:$F,2,FALSE))","v":""},""]
[null,null,null,null,null,"",null,"",null,null,"","",{"$f":"IF(OR(A3611=\"\",B3611=\"\"),\"\",VLOOKUP(A3611&\"_\"&B3611,Lookups!$E:$F,2,FALSE))","v":""},""]
[null,null,null,null,null,"",null,"",null,null,"","",{"$f":"IF(OR(A3612=\"\",B3612=\"\"),\"\",VLOOKUP(A3612&\"_\"&B3612,Lookups!$E:$F,2,FALSE))","v":""},""]
[null,null,null,null,null,"",null,"",null,null,"","",{"$f":"IF(OR(A3613=\"\",B3613=\"\"),\"\",VLOOKUP(A3613&\"_\"&B3613,Lookups!$E:$F,2,FALSE))","v":""},""]
[null,null,null,null,null,"",null,"",null,null,"","",{"$f":"IF(OR(A3614=\"\",B3614=\"\"),\"\",VLOOKUP(A3614&\"_\"&B3614,Lookups!$E:$F,2,FALSE))","v":""},""]
[null,null,null,null,null,"",null,"",null,null,"","",{"$f":"IF(OR(A3615=\"\",B3615=\"\"),\"\",VLOOKUP(A3615&\"_\"&B3615,Lookups!$E:$F,2,FALSE))","v":""},""]
[null,null,null,null,null,"",null,"",null,null,"","",{"$f":"IF(OR(A3616=\"\",B3616=\"\"),\"\",VLOOKUP(A3616&\"_\"&B3616,Lookups!$E:$F,2,FALSE))","v":""},""]
[null,null,null,null,null,"",null,"",null,null,"","",{"$f":"IF(OR(A3617=\"\",B3617=\"\"),\"\",VLOOKUP(A3617&\"_\"&B3617,Lookups!$E:$F,2,FALSE))","v":""},""]
[null,null,null,null,null,"",null,"",null,null,"","",{"$f":"IF(OR(A3618=\"\",B3618=\"\"),\"\",VLOOKUP(A3618&\"_\"&B3618,Lookups!$E:$F,2,FALSE))","v":""},""]
[null,null,null,null,null,"",null,"",null,null,"","",{"$f":"IF(OR(A3619=\"\",B3619=\"\"),\"\",VLOOKUP(A3619&\"_\"&B3619,Lookups!$E:$F,2,FALSE))","v":""},""]
[null,null,null,null,null,"",null,"",null,null,"","",{"$f":"IF(OR(A3620=\"\",B3620=\"\"),\"\",VLOOKUP(A3620&\"_\"&B3620,Lookups!$E:$F,2,FALSE))","v":""},""]
[null,null,null,null,null,"",null,"",null,null,"","",{"$f":"IF(OR(A3621=\"\",B3621=\"\"),\"\",VLOOKUP(A3621&\"_\"&B3621,Lookups!$E:$F,2,FALSE))","v":""},""]
[null,null,null,null,null,"",null,"",null,null,"","",{"$f":"IF(OR(A3622=\"\",B3622=\"\"),\"\",VLOOKUP(A3622&\"_\"&B3622,Lookups!$E:$F,2,FALSE))","v":""},""]
[null,null,null,null,null,"",null,"",null,null,"","",{"$f":"IF(OR(A3623=\"\",B3623=\"\"),\"\",VLOOKUP(A3623&\"_\"&B3623,Lookups!$E:$F,2,FALSE))","v":""},""]
[null,null,null,null,null,"",null,"",null,null,"","",{"$f":"IF(OR(A3624=\"\",B3624=\"\"),\"\",VLOOKUP(A3624&\"_\"&B3624,Lookups!$E:$F,2,FALSE))","v":""},""]
[null,null,null,null,null,"",null,"",null,null,"","",{"$f":"IF(OR(A3625=\"\",B3625=\"\"),\"\",VLOOKUP(A3625&\"_\"&B3625,Lookups!$E:$F,2,FALSE))","v":""},""]
[null,null,null,null,null,"",null,"",null,null,"","",{"$f":"IF(OR(A3626=\"\",B3626=\"\"),\"\",VLOOKUP(A3626&\"_\"&B3626,Lookups!$E:$F,2,FALSE))","v":""},""]
[null,null,null,null,null,"",null,"",null,null,"","",{"$f":"IF(OR(A3627=\"\",B3627=\"\"),\"\",VLOOKUP(A3627&\"_\"&B3627,Lookups!$E:$F,2,FALSE))","v":""},""]
[null,null,null,null,null,"",null,"",null,null,"","",{"$f":"IF(OR(A3628=\"\",B3628=\"\"),\"\",VLOOKUP(A3628&\"_\"&B3628,Lookups!$E:$F,2,FALSE))","v":""},""]
[null,null,null,null,null,"",null,"",null,null,"","",{"$f":"IF(OR(A3629=\"\",B3629=\"\"),\"\",VLOOKUP(A3629&\"_\"&B3629,Lookups!$E:$F,2,FALSE))","v":""},""]
[null,null,null,null,null,"",null,"",null,null,"","",{"$f":"IF(OR(A3630=\"\",B3630=\"\"),\"\",VLOOKUP(A3630&\"_\"&B3630,Lookups!$E:$F,2,FALSE))","v":""},""]
[null,null,null,null,null,"",null,"",null,null,"","",{"$f":"IF(OR(A3631=\"\",B3631=\"\"),\"\",VLOOKUP(A3631&\"_\"&B3631,Lookups!$E:$F,2,FALSE))","v":""},""]
[null,null,null,null,null,"",null,"",null,null,"","",{"$f":"IF(OR(A3632=\"\",B3632=\"\"),\"\",VLOOKUP(A3632&\"_\"&B3632,Lookups!$E:$F,2,FALSE))","v":""},""]
[null,null,null,null,null,"",null,"",null,null,"","",{"$f":"IF(OR(A3633=\"\",B3633=\"\"),\"\",VLOOKUP(A3633&\"_\"&B3633,Lookups!$E:$F,2,FALSE))","v":""},""]
[null,null,null,null,null,"",null,"",null,null,"","",{"$f":"IF(OR(A3634=\"\",B3634=\"\"),\"\",VLOOKUP(A3634&\"_\"&B3634,Lookups!$E:$F,2,FALSE))","v":""},""]
[null,null,null,null,null,"",null,"",null,null,"","",{"$f":"IF(OR(A3635=\"\",B3635=\"\"),\"\",VLOOKUP(A3635&\"_\"&B3635,Lookups!$E:$F,2,FALSE))","v":""},""]
[null,null,null,null,null,"",null,"",null,null,"","",{"$f":"IF(OR(A3636=\"\",B3636=\"\"),\"\",VLOOKUP(A3636&\"_\"&B3636,Lookups!$E:$F,2,FALSE))","v":""},""]
[null,null,null,null,null,"",null,"",null,null,"","",{"$f":"IF(OR(A3637=\"\",B3637=\"\"),\"\",VLOOKUP(A3637&\"_\"&B3637,Lookups!$E:$F,2,FALSE))","v":""},""]
[null,null,null,null,null,"",null,"",null,null,"","",{"$f":"IF(OR(A3638=\"\",B3638=\"\"),\"\",VLOOKUP(A3638&\"_\"&B3638,Lookups!$E:$F,2,FALSE))","v":""},""]
[null,null,null,null,null,"",null,"",null,null,"","",{"$f":"IF(OR(A3639=\"\",B3639=\"\"),\"\",VLOOKUP(A3639&\"_\"&B3639,Lookups!$E:$F,2,FALSE))","v":""},""]
[null,null,null,null,null,"",null,"",null,null,"","",{"$f":"IF(OR(A3640=\"\",B3640=\"\"),\"\",VLOOKUP(A3640&\"_\"&B3640,Lookups!$E:$F,2,FALSE))","v":""},""]
[null,null,null,null,null,"",null,"",null,null,"","",{"$f":"IF(OR(A3641=\"\",B3641=\"\"),\"\",VLOOKUP(A3641&\"_\"&B3641,Lookups!$E:$F,2,FALSE))","v":""},""]
[null,null,null,null,null,"",null,"",null,null,"","",{"$f":"IF(OR(A3642=\"\",B3642=\"\"),\"\",VLOOKUP(A3642&\"_\"&B3642,Lookups!$E:$F,2,FALSE))","v":""},""]
[null,null,null,null,null,"",null,"",null,null,"","",{"$f":"IF(OR(A3643=\"\",B3643=\"\"),\"\",VLOOKUP(A3643&\"_\"&B3643,Lookups!$E:$F,2,FALSE))","v":""},""]
[null,null,null,null,null,"",null,"",null,null,"","",{"$f":"IF(OR(A3644=\"\",B3644=\"\"),\"\",VLOOKUP(A3644&\"_\"&B3644,Lookups!$E:$F,2,FALSE))","v":""},""]
[null,null,null,null,null,"",null,"",null,null,"","",{"$f":"IF(OR(A3645=\"\",B3645=\"\"),\"\",VLOOKUP(A3645&\"_\"&B3645,Lookups!$E:$F,2,FALSE))","v":""},""]
[null,null,null,null,null,"",null,"",null,null,"","",{"$f":"IF(OR(A3646=\"\",B3646=\"\"),\"\",VLOOKUP(A3646&\"_\"&B3646,Lookups!$E:$F,2,FALSE))","v":""},""]
[null,null,null,null,null,"",null,"",null,null,"","",{"$f":"IF(OR(A3647=\"\",B3647=\"\"),\"\",VLOOKUP(A3647&\"_\"&B3647,Lookups!$E:$F,2,FALSE))","v":""},""]
[null,null,null,null,null,"",null,"",null,null,"","",{"$f":"IF(OR(A3648=\"\",B3648=\"\"),\"\",VLOOKUP(A3648&\"_\"&B3648,Lookups!$E:$F,2,FALSE))","v":""},""]
[null,null,null,null,null,"",null,"",null,null,"","",{"$f":"IF(OR(A3649=\"\",B3649=\"\"),\"\",VLOOKUP(A3649&\"_\"&B3649,Lookups!$E:$F,2,FALSE))","v":""},""]
[null,null,null,null,null,"",null,"",null,null,"","",{"$f":"IF(OR(A3650=\"\",B3650=\"\"),\"\",VLOOKUP(A3650&\"_\"&B3650,Lookups!$E:$F,2,FALSE))","v":""},""]
[null,null,null,null,null,"",null,"",null,null,"","",{"$f":"IF(OR(A3651=\"\",B3651=\"\"),\"\",VLOOKUP(A3651&\"_\"&B3651,Lookups!$E:$F,2,FALSE))","v":""},""]
[null,null,null,null,null,{"$f":"IF(OR(D3652=\"\",E3652=\"\"),\"\",ROUND((E3652-D3652)*24,2))","v":""},null,{"$f":"IF(F3652=\"\",\"\",IF(G3652<>\"\",F3652*G3652,F3652))","v":""},null,null,{"$f":"IF(AND(H3652<>\"\",I3652=\"Paid\"),H3652,\"\")","v":""},{"$f":"IF(H3652=\"\",\"\",IF(K3652=\"\",H3652,H3652-K3652))","v":""},{"$f":"IF(OR(A3652=\"\",B3652=\"\"),\"\",VLOOKUP(A3652&\"_\"&B3652,Lookups!$E:$F,2,FALSE))","v":""},{"$f":"IF(AND(K3652=\"\",L3652=\"\"),\"\",IF(K3652=\"\",L3652*M3652,SUM(K3652,L3652)*M3652))","v":""}]
[null,null,null,null,null,"",null,"",null,null,"","",{"$f":"IF(OR(A3653=\"\",B3653=\"\"),\"\",VLOOKUP(A3653&\"_\"&B3653,Lookups!$E:$F,2,FALSE))","v":""},""]
[null,null,null,null,null,"",null,"",null,null,"","",{"$f":"IF(OR(A3654=\"\",B3654=\"\"),\"\",VLOOKUP(A3654&\"_\"&B3654,Lookups!$E:$F,2,FALSE))","v":""},""]
[null,null,null,null,null,"",null,"",null,null,"","",{"$f":"IF(OR(A3655=\"\",B3655=\"\"),\"\",VLOOKUP(A3655&\"_\"&B3655,Lookups!$E:$F,2,FALSE))","v":""},""]
[null,null,null,null,null,"",null,"",null,null,"","",{"$f":"IF(OR(A3656=\"\",B3656=\"\"),\"\",VLOOKUP(A3656&\"_\"&B3656,Lookups!$E:$F,2,FALSE))","v":""},""]
[null,null,null,null,null,"",null,"",null,null,"","",{"$f":"IF(OR(A3657=\"\",B3657=\"\"),\"\",VLOOKUP(A3657&\"_\"&B3657,Lookups!$E:$F,2,FALSE))","v":""},""]
[null,null,null,null,null,"",null,"",null,null,"","",{"$f":"IF(OR(A3658=\"\",B3658=\"\"),\"\",VLOOKUP(A3658&\"_\"&B3658,Lookups!$E:$F,2,FALSE))","v":""},""]
[null,null,null,null,null,"",null,"",null,null,"","",{"$f":"IF(OR(A3659=\"\",B3659=\"\"),\"\",VLOOKUP(A3659&\"_\"&B3659,Lookups!$E:$F,2,FALSE))","v":""},""]
[null,null,null,null,null,"",null,"",null,null,"","",{"$f":"IF(OR(A3660=\"\",B3660=\"\"),\"\",VLOOKUP(A3660&\"_\"&B3660,Lookups!$E:$F,2,FALSE))","v":""},""]
[null,null,null,null,null,"",null,"",null,null,"","",{"$f":"IF(OR(A3661=\"\",B3661=\"\"),\"\",VLOOKUP(A3661&\"_\"&B3661,Lookups!$E:$F,2,FALSE))","v":""},""]
[null,null,null,null,null,"",null,"",null,null,"","",{"$f":"IF(OR(A3662=\"\",B3662=\"\"),\"\",VLOOKUP(A3662&\"_\"&B3662,Lookups!$E:$F,2,FALSE))","v":""},""]
[null,null,null,null,null,"",null,"",null,null,"","",{"$f":"IF(OR(A3663=\"\",B3663=\"\"),\"\",VLOOKUP(A3663&\"_\"&B3663,Lookups!$E:$F,2,FALSE))","v":""},""]
[null,null,null,null,null,"",null,"",null,null,"","",{"$f":"IF(OR(A3664=\"\",B3664=\"\"),\"\",VLOOKUP(A3664&\"_\"&B3664,Lookups!$E:$F,2,FALSE))","v":""},""]
[null,null,null,null,null,"",null,"",null,null,"","",{"$f":"IF(OR(A3665=\"\",B3665=\"\"),\"\",VLOOKUP(A3665&\"_\"&B3665,Lookups!$E:$F,2,FALSE))","v":""},""]
[null,null,null,null,null,"",null,"",null,null,"","",{"$f":"IF(OR(A3666=\"\",B3666=\"\"),\"\",VLOOKUP(A3666&\"_\"&B3666,Lookups!$E:$F,2,FALSE))","v":""},""]
[null,null,null,null,null,"",null,"",null,null,"","",{"$f":"IF(OR(A3667=\"\",B3667=\"\"),\"\",VLOOKUP(A3667&\"_\"&B3667,Lookups!$E:$F,2,FALSE))","v":""},""]
[null,null,null,null,null,"",null,"",null,null,"","",{"$f":"IF(OR(A3668=\"\",B3668=\"\"),\"\",VLOOKUP(A3668&\"_\"&B3668,Lookups!$E:$F,2,FALSE))","v":""},""]
[null,null,null,null,null,"",null,"",null,null,"","",{"$f":"IF(OR(A3669=\"\",B3669=\"\"),\"\",VLOOKUP(A3669&\"_\"&B3669,Lookups!$E:$F,2,FALSE))","v":""},""]
[null,null,null,null,null,"",null,"",null,null,"","",{"$f":"IF(OR(A3670=\"\",B3670=\"\"),\"\",VLOOKUP(A3670&\"_\"&B3670,Lookups!$E:$F,2,FALSE))","v":""},""]
[null,null,null,null,null,"",null,"",null,null,"","",{"$f":"IF(OR(A3671=\"\",B3671=\"\"),\"\",VLOOKUP(A3671&\"_\"&B3671,Lookups!$E:$F,2,FALSE))","v":""},""]
[null,null,null,null,null,"",null,"",null,null,"","",{"$f":"IF(OR(A3672=\"\",B3672=\"\"),\"\",VLOOKUP(A3672&\"_\"&B3672,Lookups!$E:$F,2,FALSE))","v":""},""]
[null,null,null,null,null,"",null,"",null,null,"","",{"$f":"IF(OR(A3673=\"\",B3673=\"\"),\"\",VLOOKUP(A3673&\"_\"&B3673,Lookups!$E:$F,2,FALSE))","v":""},""]
[null,null,null,null,null,"",null,"",null,null,"","",{"$f":"IF(OR(A3674=\"\",B3674=\"\"),\"\",VLOOKUP(A3674&\"_\"&B3674,Lookups!$E:$F,2,FALSE))","v":""},""]
[null,null,null,null,null,"",null,"",null,null,"","",{"$f":"IF(OR(A3675=\"\",B3675=\"\"),\"\",VLOOKUP(A3675&\"_\"&B3675,Lookups!$E:$F,2,FALSE))","v":""},""]
[null,null,null,null,null,"",null,"",null,null,"","",{"$f":"IF(OR(A3676=\"\",B3676=\"\"),\"\",VLOOKUP(A3676&\"_\"&B3676,Lookups!$E:$F,2,FALSE))","v":""},""]
[null,null,null,null,null,"",null,"",null,null,"","",{"$f":"IF(OR(A3677=\"\",B3677=\"\"),\"\",VLOOKUP(A3677&\"_\"&B3677,Lookups!$E:$F,2,FALSE))","v":""},""]
[null,null,null,null,null,"",null,"",null,null,"","",{"$f":"IF(OR(A3678=\"\",B3678=\"\"),\"\",VLOOKUP(A3678&\"_\"&B3678,Lookups!$E:$F,2,FALSE))","v":""},""]
[null,null,null,null,null,"",null,"",null,null,"","",{"$f":"IF(OR(A3679=\"\",B3679=\"\"),\"\",VLOOKUP(A3679&\"_\"&B3679,Lookups!$E:$F,2,FALSE))","v":""},""]
[null,null,null,null,null,"",null,"",null,null,"","",{"$f":"IF(OR(A3680=\"\",B3680=\"\"),\"\",VLOOKUP(A3680&\"_\"&B3680,Lookups!$E:$F,2,FALSE))","v":""},""]
[null,null,null,null,null,"",null,"",null,null,"","",{"$f":"IF(OR(A3681=\"\",B3681=\"\"),\"\",VLOOKUP(A3681&\"_\"&B3681,Lookups!$E:$F,2,FALSE))","v":""},""]
[null,null,null,null,null,"",null,"",null,null,"","",{"$f":"IF(OR(A3682=\"\",B3682=\"\"),\"\",VLOOKUP(A3682&\"_\"&B3682,Lookups!$E:$F,2,FALSE))","v":""},""]
[null,null,null,null,null,"",null,"",null,null,"","",{"$f":"IF(OR(A3683=\"\",B3683=\"\"),\"\",VLOOKUP(A3683&\"_\"&B3683,Lookups!$E:$F,2,FALSE))","v":""},""]
[null,null,null,null,null,"",null,"",null,null,"","",{"$f":"IF(OR(A3684=\"\",B3684=\"\"),\"\",VLOOKUP(A3684&\"_\"&B3684,Lookups!$E:$F,2,FALSE))","v":""},""]
[null,null,null,null,null,"",null,"",null,null,"","",{"$f":"IF(OR(A3685=\"\",B3685=\"\"),\"\",VLOOKUP(A3685&\"_\"&B3685,Lookups!$E:$F,2,FALSE))","v":""},""]
[null,null,null,null,null,"",null,"",null,null,"","",{"$f":"IF(OR(A3686=\"\",B3686=\"\"),\"\",VLOOKUP(A3686&\"_\"&B3686,Lookups!$E:$F,2,FALSE))","v":""},""]
[null,null,null,null,null,"",null,"",null,null,"","",{"$f":"IF(OR(A3687=\"\",B3687=\"\"),\"\",VLOOKUP(A3687&\"_\"&B3687,Lookups!$E:$F,2,FALSE))","v":""},""]
[null,null,null,null,null,"",null,"",null,null,"","",{"$f":"IF(OR(A3688=\"\",B3688=\"\"),\"\",VLOOKUP(A3688&\"_\"&B3688,Lookups!$E:$F,2,FALSE))","v":""},""]
[null,null,null,null,null,"",null,"",null,null,"","",{"$f":"IF(OR(A3689=\"\",B3689=\"\"),\"\",VLOOKUP(A3689&\"_\"&B3689,Lookups!$E:$F,2,FALSE))","v":""},""]
[null,null,null,null,null,"",null,"",null,null,"","",{"$f":"IF(OR(A3690=\"\",B3690=\"\"),\"\",VLOOKUP(A3690&\"_\"&B3690,Lookups!$E:$F,2,FALSE))","v":""},""]
[null,null,null,null,null,"",null,"",null,null,"","",{"$f":"IF(OR(A3691=\"\",B3691=\"\"),\"\",VLOOKUP(A3691&\"_\"&B3691,Lookups!$E:$F,2,FALSE))","v":""},""]
[null,null,null,null,null,"",null,"",null,null,"","",{"$f":"IF(OR(A3692=\"\",B3692=\"\"),\"\",VLOOKUP(A3692&\"_\"&B3692,Lookups!$E:$F,2,FALSE))","v":""},""]
[null,null,null,null,null,"",null,"",null,null,"","",{"$f":"IF(OR(A3693=\"\",B3693=\"\"),\"\",VLOOKUP(A3693&\"_\"&B3693,Lookups!$E:$F,2,FALSE))","v":""},""]
[null,null,null,null,null,"",null,"",null,null,"","",{"$f":"IF(OR(A3694=\"\",B3694=\"\"),\"\",VLOOKUP(A3694&\"_\"&B3694,Lookups!$E:$F,2,FALSE))","v":""},""]
[null,null,null,null,null,"",null,"",null,null,"","",{"$f":"IF(OR(A3695=\"\",B3695=\"\"),\"\",VLOOKUP(A3695&\"_\"&B3695,Lookups!$E:$F,2,FALSE))","v":""},""]
[null,null,null,null,null,"",null,"",null,null,"","",{"$f":"IF(OR(A3696=\"\",B3696=\"\"),\"\",VLOOKUP(A3696&\"_\"&B3696,Lookups!$E:$F,2,FALSE))","v":""},""]
[null,null,null,null,null,"",null,"",null,null,"","",{"$f":"IF(OR(A3697=\"\",B3697=\"\"),\"\",VLOOKUP(A3697&\"_\"&B3697,Lookups!$E:$F,2,FALSE))","v":""},""]
[null,null,null,null,null,"",null,"",null,null,"","",{"$f":"IF(OR(A3698=\"\",B3698=\"\"),\"\",VLOOKUP(A3698&\"_\"&B3698,Lookups!$E:$F,2,FALSE))","v":""},""]
[null,null,null,null,null,"",null,"",null,null,"","",{"$f":"IF(OR(A3699=\"\",B3699=\"\"),\"\",VLOOKUP(A3699&\"_\"&B3699,Lookups!$E:$F,2,FALSE))","v":""},""]
[null,null,null,null,null,"",null,"",null,null,"","",{"$f":"IF(OR(A3700=\"\",B3700=\"\"),\"\",VLOOKUP(A3700&\"_\"&B3700,Lookups!$E:$F,2,FALSE))","v":""},""]
[null,null,null,null,null,"",null,"",null,null,"","",{"$f":"IF(OR(A3701=\"\",B3701=\"\"),\"\",VLOOKUP(A3701&\"_\"&B3701,Lookups!$E:$F,2,FALSE))","v":""},""]
[null,null,null,null,null,"",null,"",null,null,"","",{"$f":"IF(OR(A3702=\"\",B3702=\"\"),\"\",VLOOKUP(A3702&\"_\"&B3702,Lookups!$E:$F,2,FALSE))","v":""},""]
[null,null,null,null,null,"",null,"",null,null,"","",{"$f":"IF(OR(A3703=\"\",B3703=\"\"),\"\",VLOOKUP(A3703&\"_\"&B3703,Lookups!$E:$F,2,FALSE))","v":""},""]
[null,null,null,null,null,"",null,"",null,null,"","",{"$f":"IF(OR(A3704=\"\",B3704=\"\"),\"\",VLOOKUP(A3704&\"_\"&B3704,Lookups!$E:$F,2,FALSE))","v":""},""]
[null,null,null,null,null,"",null,"",null,null,"","",{"$f":"IF(OR(A3705=\"\",B3705=\"\"),\"\",VLOOKUP(A3705&\"_\"&B3705,Lookups!$E:$F,2,FALSE))","v":""},""]
[null,null,null,null,null,"",null,"",null,null,"","",{"$f":"IF(OR(A3706=\"\",B3706=\"\"),\"\",VLOOKUP(A3706&\"_\"&B3706,Lookups!$E:$F,2,FALSE))","v":""},""]
[null,null,null,null,null,"",null,"",null,null,"","",{"$f":"IF(OR(A3707=\"\",B3707=\"\"),\"\",VLOOKUP(A3707&\"_\"&B3707,Lookups!$E:$F,2,FALSE))","v":""},""]
[null,null,null,null,null,"",null,"",null,null,"","",{"$f":"IF(OR(A3708=\"\",B3708=\"\"),\"\",VLOOKUP(A3708&\"_\"&B3708,Lookups!$E:$F,2,FALSE))","v":""},""]
[null,null,null,null,null,"",null,"",null,null,"","",{"$f":"IF(OR(A3709=\"\",B3709=\"\"),\"\",VLOOKUP(A3709&\"_\"&B3709,Lookups!$E:$F,2,FALSE))","v":""},""]
[null,null,null,null,null,"",null,"",null,null,"","",{"$f":"IF(OR(A3710=\"\",B3710=\"\"),\"\",VLOOKUP(A3710&\"_\"&B3710,Lookups!$E:$F,2,FALSE))","v":""},""]
[null,null,null,null,null,"",null,"",null,null,"","",{"$f":"IF(OR(A3711=\"\",B3711=\"\"),\"\",VLOOKUP(A3711&\"_\"&B3711,Lookups!$E:$F,2,FALSE))","v":""},""]
[null,null,null,null,null,"",null,"",null,null,"","",{"$f":"IF(OR(A3712=\"\",B3712=\"\"),\"\",VLOOKUP(A3712&\"_\"&B3712,Lookups!$E:$F,2,FALSE))","v":""},""]
[null,null,null,null,null,"",null,"",null,null,"","",{"$f":"IF(OR(A3713=\"\",B3713=\"\"),\"\",VLOOKUP(A3713&\"_\"&B3713,Lookups!$E:$F,2,FALSE))","v":""},""]
[null,null,null,null,null,"",null,"",null,null,"","",{"$f":"IF(OR(A3714=\"\",B3714=\"\"),\"\",VLOOKUP(A3714&\"_\"&B3714,Lookups!$E:$F,2,FALSE))","v":""},""]
[null,null,null,null,null,"",null,"",null,null,"","",{"$f":"IF(OR(A3715=\"\",B3715=\"\"),\"\",VLOOKUP(A3715&\"_\"&B3715,Lookups!$E:$F,2,FALSE))","v":""},""]
[null,null,null,null,null,{"$f":"IF(OR(D3716=\"\",E3716=\"\"),\"\",ROUND((E3716-D3716)*24,2))","v":""},null,{"$f":"IF(F3716=\"\",\"\",IF(G3716<>\"\",F3716*G3716,F3716))","v":""},null,null,{"$f":"IF(AND(H3716<>\"\",I3716=\"Paid\"),H3716,\"\")","v":""},{"$f":"IF(H3716=\"\",\"\",IF(K3716=\"\",H3716,H3716-K3716))","v":""},{"$f":"IF(OR(A3716=\"\",B3716=\"\"),\"\",VLOOKUP(A3716&\"_\"&B3716,Lookups!$E:$F,2,FALSE))","v":""},{"$f":"IF(AND(K3716=\"\",L3716=\"\"),\"\",IF(K3716=\"\",L3716*M3716,SUM(K3716,L3716)*M3716))","v":""}]
[null,null,null,null,null,"",null,"",null,null,"","",{"$f":"IF(OR(A3717=\"\",B3717=\"\"),\"\",VLOOKUP(A3717&\"_\"&B3717,Lookups!$E:$F,2,FALSE))","v":""},""]
[null,null,null,null,null,"",null,"",null,null,"","",{"$f":"IF(OR(A3718=\"\",B3718=\"\"),\"\",VLOOKUP(A3718&\"_\"&B3718,Lookups!$E:$F,2,FALSE))","v":""},""]
[null,null,null,null,null,"",null,"",null,null,"","",{"$f":"IF(OR(A3719=\"\",B3719=\"\"),\"\",VLOOKUP(A3719&\"_\"&B3719,Lookups!$E:$F,2,FALSE))","v":""},""]
[null,null,null,null,null,"",null,"",null,null,"","",{"$f":"IF(OR(A3720=\"\",B3720=\"\"),\"\",VLOOKUP(A3720&\"_\"&B3720,Lookups!$E:$F,2,FALSE))","v":""},""]
[null,null,null,null,null,"",null,"",null,null,"","",{"$f":"IF(OR(A3721=\"\",B3721=\"\"),\"\",VLOOKUP(A3721&\"_\"&B3721,Lookups!$E:$F,2,FALSE))","v":""},""]
[null,null,null,null,null,"",null,"",null,null,"","",{"$f":"IF(OR(A3722=\"\",B3722=\"\"),\"\",VLOOKUP(A3722&\"_\"&B3722,Lookups!$E:$F,2,FALSE))","v":""},""]
[null,null,null,null,null,"",null,"",null,null,"","",{"$f":"IF(OR(A3723=\"\",B3723=\"\"),\"\",VLOOKUP(A3723&\"_\"&B3723,Lookups!$E:$F,2,FALSE))","v":""},""]
[null,null,null,null,null,"",null,"",null,null,"","",{"$f":"IF(OR(A3724=\"\",B3724=\"\"),\"\",VLOOKUP(A3724&\"_\"&B3724,Lookups!$E:$F,2,FALSE))","v":""},""]
[null,null,null,null,null,"",null,"",null,null,"","",{"$f":"IF(OR(A3725=\"\",B3725=\"\"),\"\",VLOOKUP(A3725&\"_\"&B3725,Lookups!$E:$F,2,FALSE))","v":""},""]
[null,null,null,null,null,"",null,"",null,null,"","",{"$f":"IF(OR(A3726=\"\",B3726=\"\"),\"\",VLOOKUP(A3726&\"_\"&B3726,Lookups!$E:$F,2,FALSE))","v":""},""]
[null,null,null,null,null,"",null,"",null,null,"","",{"$f":"IF(OR(A3727=\"\",B3727=\"\"),\"\",VLOOKUP(A3727&\"_\"&B3727,Lookups!$E:$F,2,FALSE))","v":""},""]
[null,null,null,null,null,"",null,"",null,null,"","",{"$f":"IF(OR(A3728=\"\",B3728=\"\"),\"\",VLOOKUP(A3728&\"_\"&B3728,Lookups!$E:$F,2,FALSE))","v":""},""]
[null,null,null,null,null,"",null,"",null,null,"","",{"$f":"IF(OR(A3729=\"\",B3729=\"\"),\"\",VLOOKUP(A3729&\"_\"&B3729,Lookups!$E:$F,2,FALSE))","v":""},""]
[null,null,null,null,null,"",null,"",null,null,"","",{"$f":"IF(OR(A3730=\"\",B3730=\"\"),\"\",VLOOKUP(A3730&\"_\"&B3730,Lookups!$E:$F,2,FALSE))","v":""},""]
[null,null,null,null,null,"",null,"",null,null,"","",{"$f":"IF(OR(A3731=\"\",B3731=\"\"),\"\",VLOOKUP(A3731&\"_\"&B3731,Lookups!$E:$F,2,FALSE))","v":""},""]
[null,null,null,null,null,"",null,"",null,null,"","",{"$f":"IF(OR(A3732=\"\",B3732=\"\"),\"\",VLOOKUP(A3732&\"_\"&B3732,Lookups!$E:$F,2,FALSE))","v":""},""]
[null,null,null,null,null,"",null,"",null,null,"","",{"$f":"IF(OR(A3733=\"\",B3733=\"\"),\"\",VLOOKUP(A3733&\"_\"&B3733,Lookups!$E:$F,2,FALSE))","v":""},""]
[null,null,null,null,null,"",null,"",null,null,"","",{"$f":"IF(OR(A3734=\"\",B3734=\"\"),\"\",VLOOKUP(A3734&\"_\"&B3734,Lookups!$E:$F,2,FALSE))","v":""},""]
[null,null,null,null,null,"",null,"",null,null,"","",{"$f":"IF(OR(A3735=\"\",B3735=\"\"),\"\",VLOOKUP(A3735&\"_\"&B3735,Lookups!$E:$F,2,FALSE))","v":""},""]
[null,null,null,null,null,"",null,"",null,null,"","",{"$f":"IF(OR(A3736=\"\",B3736=\"\"),\"\",VLOOKUP(A3736&\"_\"&B3736,Lookups!$E:$F,2,FALSE))","v":""},""]
[null,null,null,null,null,"",null,"",null,null,"","",{"$f":"IF(OR(A3737=\"\",B3737=\"\"),\"\",VLOOKUP(A3737&\"_\"&B3737,Lookups!$E:$F,2,FALSE))","v":""},""]
[null,null,null,null,null,"",null,"",null,null,"","",{"$f":"IF(OR(A3738=\"\",B3738=\"\"),\"\",VLOOKUP(A3738&\"_\"&B3738,Lookups!$E:$F,2,FALSE))","v":""},""]
[null,null,null,null,null,"",null,"",null,null,"","",{"$f":"IF(OR(A3739=\"\",B3739=\"\"),\"\",VLOOKUP(A3739&\"_\"&B3739,Lookups!$E:$F,2,FALSE))","v":""},""]
[null,null,null,null,null,"",null,"",null,null,"","",{"$f":"IF(OR(A3740=\"\",B3740=\"\"),\"\",VLOOKUP(A3740&\"_\"&B3740,Lookups!$E:$F,2,FALSE))","v":""},""]
[null,null,null,null,null,"",null,"",null,null,"","",{"$f":"IF(OR(A3741=\"\",B3741=\"\"),\"\",VLOOKUP(A3741&\"_\"&B3741,Lookups!$E:$F,2,FALSE))","v":""},""]
[null,null,null,null,null,"",null,"",null,null,"","",{"$f":"IF(OR(A3742=\"\",B3742=\"\"),\"\",VLOOKUP(A3742&\"_\"&B3742,Lookups!$E:$F,2,FALSE))","v":""},""]
[null,null,null,null,null,"",null,"",null,null,"","",{"$f":"IF(OR(A3743=\"\",B3743=\"\"),\"\",VLOOKUP(A3743&\"_\"&B3743,Lookups!$E:$F,2,FALSE))","v":""},""]
[null,null,null,null,null,"",null,"",null,null,"","",{"$f":"IF(OR(A3744=\"\",B3744=\"\"),\"\",VLOOKUP(A3744&\"_\"&B3744,Lookups!$E:$F,2,FALSE))","v":""},""]
[null,null,null,null,null,"",null,"",null,null,"","",{"$f":"IF(OR(A3745=\"\",B3745=\"\"),\"\",VLOOKUP(A3745&\"_\"&B3745,Lookups!$E:$F,2,FALSE))","v":""},""]
[null,null,null,null,null,"",null,"",null,null,"","",{"$f":"IF(OR(A3746=\"\",B3746=\"\"),\"\",VLOOKUP(A3746&\"_\"&B3746,Lookups!$E:$F,2,FALSE))","v":""},""]
[null,null,null,null,null,"",null,"",null,null,"","",{"$f":"IF(OR(A3747=\"\",B3747=\"\"),\"\",VLOOKUP(A3747&\"_\"&B3747,Lookups!$E:$F,2,FALSE))","v":""},""]
[null,null,null,null,null,"",null,"",null,null,"","",{"$f":"IF(OR(A3748=\"\",B3748=\"\"),\"\",VLOOKUP(A3748&\"_\"&B3748,Lookups!$E:$F,2,FALSE))","v":""},""]
[null,null,null,null,null,"",null,"",null,null,"","",{"$f":"IF(OR(A3749=\"\",B3749=\"\"),\"\",VLOOKUP(A3749&\"_\"&B3749,Lookups!$E:$F,2,FALSE))","v":""},""]
[null,null,null,null,null,"",null,"",null,null,"","",{"$f":"IF(OR(A3750=\"\",B3750=\"\"),\"\",VLOOKUP(A3750&\"_\"&B3750,Lookups!$E:$F,2,FALSE))","v":""},""]
[null,null,null,null,null,"",null,"",null,null,"","",{"$f":"IF(OR(A3751=\"\",B3751=\"\"),\"\",VLOOKUP(A3751&\"_\"&B3751,Lookups!$E:$F,2,FALSE))","v":""},""]
[null,null,null,null,null,"",null,"",null,null,"","",{"$f":"IF(OR(A3752=\"\",B3752=\"\"),\"\",VLOOKUP(A3752&\"_\"&B3752,Lookups!$E:$F,2,FALSE))","v":""},""]
[null,null,null,null,null,"",null,"",null,null,"","",{"$f":"IF(OR(A3753=\"\",B3753=\"\"),\"\",VLOOKUP(A3753&\"_\"&B3753,Lookups!$E:$F,2,FALSE))","v":""},""]
[null,null,null,null,null,"",null,"",null,null,"","",{"$f":"IF(OR(A3754=\"\",B3754=\"\"),\"\",VLOOKUP(A3754&\"_\"&B3754,Lookups!$E:$F,2,FALSE))","v":""},""]
[null,null,null,null,null,"",null,"",null,null,"","",{"$f":"IF(OR(A3755=\"\",B3755=\"\"),\"\",VLOOKUP(A3755&\"_\"&B3755,Lookups!$E:$F,2,FALSE))","v":""},""]
[null,null,null,null,null,"",null,"",null,null,"","",{"$f":"IF(OR(A3756=\"\",B3756=\"\"),\"\",VLOOKUP(A3756&\"_\"&B3756,Lookups!$E:$F,2,FALSE))","v":""},""]
[null,null,null,null,null,"",null,"",null,null,"","",{"$f":"IF(OR(A3757=\"\",B3757=\"\"),\"\",VLOOKUP(A3757&\"_\"&B3757,Lookups!$E:$F,2,FALSE))","v":""},""]
[null,null,null,null,null,"",null,"",null,null,"","",{"$f":"IF(OR(A3758=\"\",B3758=\"\"),\"\",VLOOKUP(A3758&\"_\"&B3758,Lookups!$E:$F,2,FALSE))","v":""},""]
[null,null,null,null,null,"",null,"",null,null,"","",{"$f":"IF(OR(A3759=\"\",B3759=\"\"),\"\",VLOOKUP(A3759&\"_\"&B3759,Lookups!$E:$F,2,FALSE))","v":""},""]
[null,null,null,null,null,"",null,"",null,null,"","",{"$f":"IF(OR(A3760=\"\",B3760=\"\"),\"\",VLOOKUP(A3760&\"_\"&B3760,Lookups!$E:$F,2,FALSE))","v":""},""]
[null,null,null,null,null,"",null,"",null,null,"","",{"$f":"IF(OR(A3761=\"\",B3761=\"\"),\"\",VLOOKUP(A3761&\"_\"&B3761,Lookups!$E:$F,2,FALSE))","v":""},""]
[null,null,null,null,null,"",null,"",null,null,"","",{"$f":"IF(OR(A3762=\"\",B3762=\"\"),\"\",VLOOKUP(A3762&\"_\"&B3762,Lookups!$E:$F,2,FALSE))","v":""},""]
[null,null,null,null,null,"",null,"",null,null,"","",{"$f":"IF(OR(A3763=\"\",B3763=\"\"),\"\",VLOOKUP(A3763&\"_\"&B3763,Lookups!$E:$F,2,FALSE))","v":""},""]
[null,null,null,null,null,"",null,"",null,null,"","",{"$f":"IF(OR(A3764=\"\",B3764=\"\"),\"\",VLOOKUP(A3764&\"_\"&B3764,Lookups!$E:$F,2,FALSE))","v":""},""]
[null,null,null,null,null,"",null,"",null,null,"","",{"$f":"IF(OR(A3765=\"\",B3765=\"\"),\"\",VLOOKUP(A3765&\"_\"&B3765,Lookups!$E:$F,2,FALSE))","v":""},""]
[null,null,null,null,null,"",null,"",null,null,"","",{"$f":"IF(OR(A3766=\"\",B3766=\"\"),\"\",VLOOKUP(A3766&\"_\"&B3766,Lookups!$E:$F,2,FALSE))","v":""},""]
[null,null,null,null,null,"",null,"",null,null,"","",{"$f":"IF(OR(A3767=\"\",B3767=\"\"),\"\",VLOOKUP(A3767&\"_\"&B3767,Lookups!$E:$F,2,FALSE))","v":""},""]
[null,null,null,null,null,"",null,"",null,null,"","",{"$f":"IF(OR(A3768=\"\",B3768=\"\"),\"\",VLOOKUP(A3768&\"_\"&B3768,Lookups!$E:$F,2,FALSE))","v":""},""]
[null,null,null,null,null,"",null,"",null,null,"","",{"$f":"IF(OR(A3769=\"\",B3769=\"\"),\"\",VLOOKUP(A3769&\"_\"&B3769,Lookups!$E:$F,2,FALSE))","v":""},""]
[null,null,null,null,null,"",null,"",null,null,"","",{"$f":"IF(OR(A3770=\"\",B3770=\"\"),\"\",VLOOKUP(A3770&\"_\"&B3770,Lookups!$E:$F,2,FALSE))","v":""},""]
[null,null,null,null,null,"",null,"",null,null,"","",{"$f":"IF(OR(A3771=\"\",B3771=\"\"),\"\",VLOOKUP(A3771&\"_\"&B3771,Lookups!$E:$F,2,FALSE))","v":""},""]
[null,null,null,null,null,"",null,"",null,null,"","",{"$f":"IF(OR(A3772=\"\",B3772=\"\"),\"\",VLOOKUP(A3772&\"_\"&B3772,Lookups!$E:$F,2,FALSE))","v":""},""]
[null,null,null,null,null,"",null,"",null,null,"","",{"$f":"IF(OR(A3773=\"\",B3773=\"\"),\"\",VLOOKUP(A3773&\"_\"&B3773,Lookups!$E:$F,2,FALSE))","v":""},""]
[null,null,null,null,null,"",null,"",null,null,"","",{"$f":"IF(OR(A3774=\"\",B3774=\"\"),\"\",VLOOKUP(A3774&\"_\"&B3774,Lookups!$E:$F,2,FALSE))","v":""},""]
[null,null,null,null,null,"",null,"",null,null,"","",{"$f":"IF(OR(A3775=\"\",B3775=\"\"),\"\",VLOOKUP(A3775&\"_\"&B3775,Lookups!$E:$F,2,FALSE))","v":""},""]
[null,null,null,null,null,"",null,"",null,null,"","",{"$f":"IF(OR(A3776=\"\",B3776=\"\"),\"\",VLOOKUP(A3776&\"_\"&B3776,Lookups!$E:$F,2,FALSE))","v":""},""]
[null,null,null,null,null,"",null,"",null,null,"","",{"$f":"IF(OR(A3777=\"\",B3777=\"\"),\"\",VLOOKUP(A3777&\"_\"&B3777,Lookups!$E:$F,2,FALSE))","v":""},""]
[null,null,null,null,null,"",null,"",null,null,"","",{"$f":"IF(OR(A3778=\"\",B3778=\"\"),\"\",VLOOKUP(A3778&\"_\"&B3778,Lookups!$E:$F,2,FALSE))","v":""},""]
[null,null,null,null,null,"",null,"",null,null,"","",{"$f":"IF(OR(A3779=\"\",B3779=\"\"),\"\",VLOOKUP(A3779&\"_\"&B3779,Lookups!$E:$F,2,FALSE))","v":""},""]
[null,null,null,null,null,{"$f":"IF(OR(D3780=\"\",E3780=\"\"),\"\",ROUND((E3780-D3780)*24,2))","v":""},null,{"$f":"IF(F3780=\"\",\"\",IF(G3780<>\"\",F3780*G3780,F3780))","v":""},null,null,{"$f":"IF(AND(H3780<>\"\",I3780=\"Paid\"),H3780,\"\")","v":""},{"$f":"IF(H3780=\"\",\"\",IF(K3780=\"\",H3780,H3780-K3780))","v":""},{"$f":"IF(OR(A3780=\"\",B3780=\"\"),\"\",VLOOKUP(A3780&\"_\"&B3780,Lookups!$E:$F,2,FALSE))","v":""},{"$f":"IF(AND(K3780=\"\",L3780=\"\"),\"\",IF(K3780=\"\",L3780*M3780,SUM(K3780,L3780)*M3780))","v":""}]
[null,null,null,null,null,"",null,"",null,null,"","",{"$f":"IF(OR(A3781=\"\",B3781=\"\"),\"\",VLOOKUP(A3781&\"_\"&B3781,Lookups!$E:$F,2,FALSE))","v":""},""]
[null,null,null,null,null,"",null,"",null,null,"","",{"$f":"IF(OR(A3782=\"\",B3782=\"\"),\"\",VLOOKUP(A3782&\"_\"&B3782,Lookups!$E:$F,2,FALSE))","v":""},""]
[null,null,null,null,null,"",null,"",null,null,"","",{"$f":"IF(OR(A3783=\"\",B3783=\"\"),\"\",VLOOKUP(A3783&\"_\"&B3783,Lookups!$E:$F,2,FALSE))","v":""},""]
[null,null,null,null,null,"",null,"",null,null,"","",{"$f":"IF(OR(A3784=\"\",B3784=\"\"),\"\",VLOOKUP(A3784&\"_\"&B3784,Lookups!$E:$F,2,FALSE))","v":""},""]
[null,null,null,null,null,"",null,"",null,null,"","",{"$f":"IF(OR(A3785=\"\",B3785=\"\"),\"\",VLOOKUP(A3785&\"_\"&B3785,Lookups!$E:$F,2,FALSE))","v":""},""]
[null,null,null,null,null,"",null,"",null,null,"","",{"$f":"IF(OR(A3786=\"\",B3786=\"\"),\"\",VLOOKUP(A3786&\"_\"&B3786,Lookups!$E:$F,2,FALSE))","v":""},""]
[null,null,null,null,null,"",null,"",null,null,"","",{"$f":"IF(OR(A3787=\"\",B3787=\"\"),\"\",VLOOKUP(A3787&\"_\"&B3787,Lookups!$E:$F,2,FALSE))","v":""},""]
[null,null,null,null,null,"",null,"",null,null,"","",{"$f":"IF(OR(A3788=\"\",B3788=\"\"),\"\",VLOOKUP(A3788&\"_\"&B3788,Lookups!$E:$F,2,FALSE))","v":""},""]
[null,null,null,null,null,"",null,"",null,null,"","",{"$f":"IF(OR(A3789=\"\",B3789=\"\"),\"\",VLOOKUP(A3789&\"_\"&B3789,Lookups!$E:$F,2,FALSE))","v":""},""]
[null,null,null,null,null,"",null,"",null,null,"","",{"$f":"IF(OR(A3790=\"\",B3790=\"\"),\"\",VLOOKUP(A3790&\"_\"&B3790,Lookups!$E:$F,2,FALSE))","v":""},""]
[null,null,null,null,null,"",null,"",null,null,"","",{"$f":"IF(OR(A3791=\"\",B3791=\"\"),\"\",VLOOKUP(A3791&\"_\"&B3791,Lookups!$E:$F,2,FALSE))","v":""},""]
[null,null,null,null,null,"",null,"",null,null,"","",{"$f":"IF(OR(A3792=\"\",B3792=\"\"),\"\",VLOOKUP(A3792&\"_\"&B3792,Lookups!$E:$F,2,FALSE))","v":""},""]
[null,null,null,null,null,"",null,"",null,null,"","",{"$f":"IF(OR(A3793=\"\",B3793=\"\"),\"\",VLOOKUP(A3793&\"_\"&B3793,Lookups!$E:$F,2,FALSE))","v":""},""]
[null,null,null,null,null,"",null,"",null,null,"","",{"$f":"IF(OR(A3794=\"\",B3794=\"\"),\"\",VLOOKUP(A3794&\"_\"&B3794,Lookups!$E:$F,2,FALSE))","v":""},""]
[null,null,null,null,null,"",null,"",null,null,"","",{"$f":"IF(OR(A3795=\"\",B3795=\"\"),\"\",VLOOKUP(A3795&\"_\"&B3795,Lookups!$E:$F,2,FALSE))","v":""},""]
[null,null,null,null,null,"",null,"",null,null,"","",{"$f":"IF(OR(A3796=\"\",B3796=\"\"),\"\",VLOOKUP(A3796&\"_\"&B3796,Lookups!$E:$F,2,FALSE))","v":""},""]
[null,null,null,null,null,"",null,"",null,null,"","",{"$f":"IF(OR(A3797=\"\",B3797=\"\"),\"\",VLOOKUP(A3797&\"_\"&B3797,Lookups!$E:$F,2,FALSE))","v":""},""]
[null,null,null,null,null,"",null,"",null,null,"","",{"$f":"IF(OR(A3798=\"\",B3798=\"\"),\"\",VLOOKUP(A3798&\"_\"&B3798,Lookups!$E:$F,2,FALSE))","v":""},""]
[null,null,null,null,null,"",null,"",null,null,"","",{"$f":"IF(OR(A3799=\"\",B3799=\"\"),\"\",VLOOKUP(A3799&\"_\"&B3799,Lookups!$E:$F,2,FALSE))","v":""},""]
[null,null,null,null,null,"",null,"",null,null,"","",{"$f":"IF(OR(A3800=\"\",B3800=\"\"),\"\",VLOOKUP(A3800&\"_\"&B3800,Lookups!$E:$F,2,FALSE))","v":""},""]
[null,null,null,null,null,"",null,"",null,null,"","",{"$f":"IF(OR(A3801=\"\",B3801=\"\"),\"\",VLOOKUP(A3801&\"_\"&B3801,Lookups!$E:$F,2,FALSE))","v":""},""]
[null,null,null,null,null,"",null,"",null,null,"","",{"$f":"IF(OR(A3802=\"\",B3802=\"\"),\"\",VLOOKUP(A3802&\"_\"&B3802,Lookups!$E:$F,2,FALSE))","v":""},""]
[null,null,null,null,null,"",null,"",null,null,"","",{"$f":"IF(OR(A3803=\"\",B3803=\"\"),\"\",VLOOKUP(A3803&\"_\"&B3803,Lookups!$E:$F,2,FALSE))","v":""},""]
[null,null,null,null,null,"",null,"",null,null,"","",{"$f":"IF(OR(A3804=\"\",B3804=\"\"),\"\",VLOOKUP(A3804&\"_\"&B3804,Lookups!$E:$F,2,FALSE))","v":""},""]
[null,null,null,null,null,"",null,"",null,null,"","",{"$f":"IF(OR(A3805=\"\",B3805=\"\"),\"\",VLOOKUP(A3805&\"_\"&B3805,Lookups!$E:$F,2,FALSE))","v":""},""]
[null,null,null,null,null,"",null,"",null,null,"","",{"$f":"IF(OR(A3806=\"\",B3806=\"\"),\"\",VLOOKUP(A3806&\"_\"&B3806,Lookups!$E:$F,2,FALSE))","v":""},""]
[null,null,null,null,null,"",null,"",null,null,"","",{"$f":"IF(OR(A3807=\"\",B3807=\"\"),\"\",VLOOKUP(A3807&\"_\"&B3807,Lookups!$E:$F,2,FALSE))","v":""},""]
[null,null,null,null,null,"",null,"",null,null,"","",{"$f":"IF(OR(A3808=\"\",B3808=\"\"),\"\",VLOOKUP(A3808&\"_\"&B3808,Lookups!$E:$F,2,FALSE))","v":""},""]
[null,null,null,null,null,"",null,"",null,null,"","",{"$f":"IF(OR(A3809=\"\",B3809=\"\"),\"\",VLOOKUP(A3809&\"_\"&B3809,Lookups!$E:$F,2,FALSE))","v":""},""]
[null,null,null,null,null,"",null,"",null,null,"","",{"$f":"IF(OR(A3810=\"\",B3810=\"\"),\"\",VLOOKUP(A3810&\"_\"&B3810,Lookups!$E:$F,2,FALSE))","v":""},""]
[null,null,null,null,null,"",null,"",null,null,"","",{"$f":"IF(OR(A3811=\"\",B3811=\"\"),\"\",VLOOKUP(A3811&\"_\"&B3811,Lookups!$E:$F,2,FALSE))","v":""},""]
[null,null,null,null,null,"",null,"",null,null,"","",{"$f":"IF(OR(A3812=\"\",B3812=\"\"),\"\",VLOOKUP(A3812&\"_\"&B3812,Lookups!$E:$F,2,FALSE))","v":""},""]
[null,null,null,null,null,"",null,"",null,null,"","",{"$f":"IF(OR(A3813=\"\",B3813=\"\"),\"\",VLOOKUP(A3813&\"_\"&B3813,Lookups!$E:$F,2,FALSE))","v":""},""]
[null,null,null,null,null,"",null,"",null,null,"","",{"$f":"IF(OR(A3814=\"\",B3814=\"\"),\"\",VLOOKUP(A3814&\"_\"&B3814,Lookups!$E:$F,2,FALSE))","v":""},""]
[null,null,null,null,null,"",null,"",null,null,"","",{"$f":"IF(OR(A3815=\"\",B3815=\"\"),\"\",VLOOKUP(A3815&\"_\"&B3815,Lookups!$E:$F,2,FALSE))","v":""},""]
[null,null,null,null,null,"",null,"",null,null,"","",{"$f":"IF(OR(A3816=\"\",B3816=\"\"),\"\",VLOOKUP(A3816&\"_\"&B3816,Lookups!$E:$F,2,FALSE))","v":""},""]
[null,null,null,null,null,"",null,"",null,null,"","",{"$f":"IF(OR(A3817=\"\",B3817=\"\"),\"\",VLOOKUP(A3817&\"_\"&B3817,Lookups!$E:$F,2,FALSE))","v":""},""]
[null,null,null,null,null,"",null,"",null,null,"","",{"$f":"IF(OR(A3818=\"\",B3818=\"\"),\"\",VLOOKUP(A3818&\"_\"&B3818,Lookups!$E:$F,2,FALSE))","v":""},""]
[null,null,null,null,null,"",null,"",null,null,"","",{"$f":"IF(OR(A3819=\"\",B3819=\"\"),\"\",VLOOKUP(A3819&\"_\"&B3819,Lookups!$E:$F,2,FALSE))","v":""},""]
[null,null,null,null,null,"",null,"",null,null,"","",{"$f":"IF(OR(A3820=\"\",B3820=\"\"),\"\",VLOOKUP(A3820&\"_\"&B3820,Lookups!$E:$F,2,FALSE))","v":""},""]
[null,null,null,null,null,"",null,"",null,null,"","",{"$f":"IF(OR(A3821=\"\",B3821=\"\"),\"\",VLOOKUP(A3821&\"_\"&B3821,Lookups!$E:$F,2,FALSE))","v":""},""]
[null,null,null,null,null,"",null,"",null,null,"","",{"$f":"IF(OR(A3822=\"\",B3822=\"\"),\"\",VLOOKUP(A3822&\"_\"&B3822,Lookups!$E:$F,2,FALSE))","v":""},""]
[null,null,null,null,null,"",null,"",null,null,"","",{"$f":"IF(OR(A3823=\"\",B3823=\"\"),\"\",VLOOKUP(A3823&\"_\"&B3823,Lookups!$E:$F,2,FALSE))","v":""},""]
[null,null,null,null,null,"",null,"",null,null,"","",{"$f":"IF(OR(A3824=\"\",B3824=\"\"),\"\",VLOOKUP(A3824&\"_\"&B3824,Lookups!$E:$F,2,FALSE))","v":""},""]
[null,null,null,null,null,"",null,"",null,null,"","",{"$f":"IF(OR(A3825=\"\",B3825=\"\"),\"\",VLOOKUP(A3825&\"_\"&B3825,Lookups!$E:$F,2,FALSE))","v":""},""]
[null,null,null,null,null,"",null,"",null,null,"","",{"$f":"IF(OR(A3826=\"\",B3826=\"\"),\"\",VLOOKUP(A3826&\"_\"&B3826,Lookups!$E:$F,2,FALSE))","v":""},""]
[null,null,null,null,null,"",null,"",null,null,"","",{"$f":"IF(OR(A3827=\"\",B3827=\"\"),\"\",VLOOKUP(A3827&\"_\"&B3827,Lookups!$E:$F,2,FALSE))","v":""},""]
[null,null,null,null,null,"",null,"",null,null,"","",{"$f":"IF(OR(A3828=\"\",B3828=\"\"),\"\",VLOOKUP(A3828&\"_\"&B3828,Lookups!$E:$F,2,FALSE))","v":""},""]
[null,null,null,null,null,"",null,"",null,null,"","",{"$f":"IF(OR(A3829=\"\",B3829=\"\"),\"\",VLOOKUP(A3829&\"_\"&B3829,Lookups!$E:$F,2,FALSE))","v":""},""]
[null,null,null,null,null,"",null,"",null,null,"","",{"$f":"IF(OR(A3830=\"\",B3830=\"\"),\"\",VLOOKUP(A3830&\"_\"&B3830,Lookups!$E:$F,2,FALSE))","v":""},""]
[null,null,null,null,null,"",null,"",null,null,"","",{"$f":"IF(OR(A3831=\"\",B3831=\"\"),\"\",VLOOKUP(A3831&\"_\"&B3831,Lookups!$E:$F,2,FALSE))","v":""},""]
[null,null,null,null,null,"",null,"",null,null,"","",{"$f":"IF(OR(A3832=\"\",B3832=\"\"),\"\",VLOOKUP(A3832&\"_\"&B3832,Lookups!$E:$F,2,FALSE))","v":""},""]
[null,null,null,null,null,"",null,"",null,null,"","",{"$f":"IF(OR(A3833=\"\",B3833=\"\"),\"\",VLOOKUP(A3833&\"_\"&B3833,Lookups!$E:$F,2,FALSE))","v":""},""]
[null,null,null,null,null,"",null,"",null,null,"","",{"$f":"IF(OR(A3834=\"\",B3834=\"\"),\"\",VLOOKUP(A3834&\"_\"&B3834,Lookups!$E:$F,2,FALSE))","v":""},""]
[null,null,null,null,null,"",null,"",null,null,"","",{"$f":"IF(OR(A3835=\"\",B3835=\"\"),\"\",VLOOKUP(A3835&\"_\"&B3835,Lookups!$E:$F,2,FALSE))","v":""},""]
[null,null,null,null,null,"",null,"",null,null,"","",{"$f":"IF(OR(A3836=\"\",B3836=\"\"),\"\",VLOOKUP(A3836&\"_\"&B3836,Lookups!$E:$F,2,FALSE))","v":""},""]
[null,null,null,null,null,"",null,"",null,null,"","",{"$f":"IF(OR(A3837=\"\",B3837=\"\"),\"\",VLOOKUP(A3837&\"_\"&B3837,Lookups!$E:$F,2,FALSE))","v":""},""]
[null,null,null,null,null,"",null,"",null,null,"","",{"$f":"IF(OR(A3838=\"\",B3838=\"\"),\"\",VLOOKUP(A3838&\"_\"&B3838,Lookups!$E:$F,2,FALSE))","v":""},""]
[null,null,null,null,null,"",null,"",null,null,"","",{"$f":"IF(OR(A3839=\"\",B3839=\"\"),\"\",VLOOKUP(A3839&\"_\"&B3839,Lookups!$E:$F,2,FALSE))","v":""},""]
[null,null,null,null,null,"",null,"",null,null,"","",{"$f":"IF(OR(A3840=\"\",B3840=\"\"),\"\",VLOOKUP(A3840&\"_\"&B3840,Lookups!$E:$F,2,FALSE))","v":""},""]
[null,null,null,null,null,"",null,"",null,null,"","",{"$f":"IF(OR(A3841=\"\",B3841=\"\"),\"\",VLOOKUP(A3841&\"_\"&B3841,Lookups!$E:$F,2,FALSE))","v":""},""]
[null,null,null,null,null,"",null,"",null,null,"","",{"$f":"IF(OR(A3842=\"\",B3842=\"\"),\"\",VLOOKUP(A3842&\"_\"&B3842,Lookups!$E:$F,2,FALSE))","v":""},""]
[null,null,null,null,null,"",null,"",null,null,"","",{"$f":"IF(OR(A3843=\"\",B3843=\"\"),\"\",VLOOKUP(A3843&\"_\"&B3843,Lookups!$E:$F,2,FALSE))","v":""},""]
[null,null,null,null,null,{"$f":"IF(OR(D3844=\"\",E3844=\"\"),\"\",ROUND((E3844-D3844)*24,2))","v":""},null,{"$f":"IF(F3844=\"\",\"\",IF(G3844<>\"\",F3844*G3844,F3844))","v":""},null,null,{"$f":"IF(AND(H3844<>\"\",I3844=\"Paid\"),H3844,\"\")","v":""},{"$f":"IF(H3844=\"\",\"\",IF(K3844=\"\",H3844,H3844-K3844))","v":""},{"$f":"IF(OR(A3844=\"\",B3844=\"\"),\"\",VLOOKUP(A3844&\"_\"&B3844,Lookups!$E:$F,2,FALSE))","v":""},{"$f":"IF(AND(K3844=\"\",L3844=\"\"),\"\",IF(K3844=\"\",L3844*M3844,SUM(K3844,L3844)*M3844))","v":""}]
[null,null,null,null,null,"",null,"",null,null,"","",{"$f":"IF(OR(A3845=\"\",B3845=\"\"),\"\",VLOOKUP(A3845&\"_\"&B3845,Lookups!$E:$F,2,FALSE))","v":""},""]
[null,null,null,null,null,"",null,"",null,null,"","",{"$f":"IF(OR(A3846=\"\",B3846=\"\"),\"\",VLOOKUP(A3846&\"_\"&B3846,Lookups!$E:$F,2,FALSE))","v":""},""]
[null,null,null,null,null,"",null,"",null,null,"","",{"$f":"IF(OR(A3847=\"\",B3847=\"\"),\"\",VLOOKUP(A3847&\"_\"&B3847,Lookups!$E:$F,2,FALSE))","v":""},""]
[null,null,null,null,null,"",null,"",null,null,"","",{"$f":"IF(OR(A3848=\"\",B3848=\"\"),\"\",VLOOKUP(A3848&\"_\"&B3848,Lookups!$E:$F,2,FALSE))","v":""},""]
[null,null,null,null,null,"",null,"",null,null,"","",{"$f":"IF(OR(A3849=\"\",B3849=\"\"),\"\",VLOOKUP(A3849&\"_\"&B3849,Lookups!$E:$F,2,FALSE))","v":""},""]
[null,null,null,null,null,"",null,"",null,null,"","",{"$f":"IF(OR(A3850=\"\",B3850=\"\"),\"\",VLOOKUP(A3850&\"_\"&B3850,Lookups!$E:$F,2,FALSE))","v":""},""]
[null,null,null,null,null,"",null,"",null,null,"","",{"$f":"IF(OR(A3851=\"\",B3851=\"\"),\"\",VLOOKUP(A3851&\"_\"&B3851,Lookups!$E:$F,2,FALSE))","v":""},""]
[null,null,null,null,null,"",null,"",null,null,"","",{"$f":"IF(OR(A3852=\"\",B3852=\"\"),\"\",VLOOKUP(A3852&\"_\"&B3852,Lookups!$E:$F,2,FALSE))","v":""},""]
[null,null,null,null,null,"",null,"",null,null,"","",{"$f":"IF(OR(A3853=\"\",B3853=\"\"),\"\",VLOOKUP(A3853&\"_\"&B3853,Lookups!$E:$F,2,FALSE))","v":""},""]
[null,null,null,null,null,"",null,"",null,null,"","",{"$f":"IF(OR(A3854=\"\",B3854=\"\"),\"\",VLOOKUP(A3854&\"_\"&B3854,Lookups!$E:$F,2,FALSE))","v":""},""]
[null,null,null,null,null,"",null,"",null,null,"","",{"$f":"IF(OR(A3855=\"\",B3855=\"\"),\"\",VLOOKUP(A3855&\"_\"&B3855,Lookups!$E:$F,2,FALSE))","v":""},""]
[null,null,null,null,null,"",null,"",null,null,"","",{"$f":"IF(OR(A3856=\"\",B3856=\"\"),\"\",VLOOKUP(A3856&\"_\"&B3856,Lookups!$E:$F,2,FALSE))","v":""},""]
[null,null,null,null,null,"",null,"",null,null,"","",{"$f":"IF(OR(A3857=\"\",B3857=\"\"),\"\",VLOOKUP(A3857&\"_\"&B3857,Lookups!$E:$F,2,FALSE))","v":""},""]
[null,null,null,null,null,"",null,"",null,null,"","",{"$f":"IF(OR(A3858=\"\",B3858=\"\"),\"\",VLOOKUP(A3858&\"_\"&B3858,Lookups!$E:$F,2,FALSE))","v":""},""]
[null,null,null,null,null,"",null,"",null,null,"","",{"$f":"IF(OR(A3859=\"\",B3859=\"\"),\"\",VLOOKUP(A3859&\"_\"&B3859,Lookups!$E:$F,2,FALSE))","v":""},""]
[null,null,null,null,null,"",null,"",null,null,"","",{"$f":"IF(OR(A3860=\"\",B3860=\"\"),\"\",VLOOKUP(A3860&\"_\"&B3860,Lookups!$E:$F,2,FALSE))","v":""},""]
[null,null,null,null,null,"",null,"",null,null,"","",{"$f":"IF(OR(A3861=\"\",B3861=\"\"),\"\",VLOOKUP(A3861&\"_\"&B3861,Lookups!$E:$F,2,FALSE))","v":""},""]
[null,null,null,null,null,"",null,"",null,null,"","",{"$f":"IF(OR(A3862=\"\",B3862=\"\"),\"\",VLOOKUP(A3862&\"_\"&B3862,Lookups!$E:$F,2,FALSE))","v":""},""]
[null,null,null,null,null,"",null,"",null,null,"","",{"$f":"IF(OR(A3863=\"\",B3863=\"\"),\"\",VLOOKUP(A3863&\"_\"&B3863,Lookups!$E:$F,2,FALSE))","v":""},""]
[null,null,null,null,null,"",null,"",null,null,"","",{"$f":"IF(OR(A3864=\"\",B3864=\"\"),\"\",VLOOKUP(A3864&\"_\"&B3864,Lookups!$E:$F,2,FALSE))","v":""},""]
[null,null,null,null,null,"",null,"",null,null,"","",{"$f":"IF(OR(A3865=\"\",B3865=\"\"),\"\",VLOOKUP(A3865&\"_\"&B3865,Lookups!$E:$F,2,FALSE))","v":""},""]
[null,null,null,null,null,"",null,"",null,null,"","",{"$f":"IF(OR(A3866=\"\",B3866=\"\"),\"\",VLOOKUP(A3866&\"_\"&B3866,Lookups!$E:$F,2,FALSE))","v":""},""]
[null,null,null,null,null,"",null,"",null,null,"","",{"$f":"IF(OR(A3867=\"\",B3867=\"\"),\"\",VLOOKUP(A3867&\"_\"&B3867,Lookups!$E:$F,2,FALSE))","v":""},""]
[null,null,null,null,null,"",null,"",null,null,"","",{"$f":"IF(OR(A3868=\"\",B3868=\"\"),\"\",VLOOKUP(A3868&\"_\"&B3868,Lookups!$E:$F,2,FALSE))","v":""},""]
[null,null,null,null,null,"",null,"",null,null,"","",{"$f":"IF(OR(A3869=\"\",B3869=\"\"),\"\",VLOOKUP(A3869&\"_\"&B3869,Lookups!$E:$F,2,FALSE))","v":""},""]
[null,null,null,null,null,"",null,"",null,null,"","",{"$f":"IF(OR(A3870=\"\",B3870=\"\"),\"\",VLOOKUP(A3870&\"_\"&B3870,Lookups!$E:$F,2,FALSE))","v":""},""]
[null,null,null,null,null,"",null,"",null,null,"","",{"$f":"IF(OR(A3871=\"\",B3871=\"\"),\"\",VLOOKUP(A3871&\"_\"&B3871,Lookups!$E:$F,2,FALSE))","v":""},""]
[null,null,null,null,null,"",null,"",null,null,"","",{"$f":"IF(OR(A3872=\"\",B3872=\"\"),\"\",VLOOKUP(A3872&\"_\"&B3872,Lookups!$E:$F,2,FALSE))","v":""},""]
[null,null,null,null,null,"",null,"",null,null,"","",{"$f":"IF(OR(A3873=\"\",B3873=\"\"),\"\",VLOOKUP(A3873&\"_\"&B3873,Lookups!$E:$F,2,FALSE))","v":""},""]
[null,null,null,null,null,"",null,"",null,null,"","",{"$f":"IF(OR(A3874=\"\",B3874=\"\"),\"\",VLOOKUP(A3874&\"_\"&B3874,Lookups!$E:$F,2,FALSE))","v":""},""]
[null,null,null,null,null,"",null,"",null,null,"","",{"$f":"IF(OR(A3875=\"\",B3875=\"\"),\"\",VLOOKUP(A3875&\"_\"&B3875,Lookups!$E:$F,2,FALSE))","v":""},""]
[null,null,null,null,null,"",null,"",null,null,"","",{"$f":"IF(OR(A3876=\"\",B3876=\"\"),\"\",VLOOKUP(A3876&\"_\"&B3876,Lookups!$E:$F,2,FALSE))","v":""},""]
[null,null,null,null,null,"",null,"",null,null,"","",{"$f":"IF(OR(A3877=\"\",B3877=\"\"),\"\",VLOOKUP(A3877&\"_\"&B3877,Lookups!$E:$F,2,FALSE))","v":""},""]
[null,null,null,null,null,"",null,"",null,null,"","",{"$f":"IF(OR(A3878=\"\",B3878=\"\"),\"\",VLOOKUP(A3878&\"_\"&B3878,Lookups!$E:$F,2,FALSE))","v":""},""]
[null,null,null,null,null,"",null,"",null,null,"","",{"$f":"IF(OR(A3879=\"\",B3879=\"\"),\"\",VLOOKUP(A3879&\"_\"&B3879,Lookups!$E:$F,2,FALSE))","v":""},""]
[null,null,null,null,null,"",null,"",null,null,"","",{"$f":"IF(OR(A3880=\"\",B3880=\"\"),\"\",VLOOKUP(A3880&\"_\"&B3880,Lookups!$E:$F,2,FALSE))","v":""},""]
[null,null,null,null,null,"",null,"",null,null,"","",{"$f":"IF(OR(A3881=\"\",B3881=\"\"),\"\",VLOOKUP(A3881&\"_\"&B3881,Lookups!$E:$F,2,FALSE))","v":""},""]
[null,null,null,null,null,"",null,"",null,null,"","",{"$f":"IF(OR(A3882=\"\",B3882=\"\"),\"\",VLOOKUP(A3882&\"_\"&B3882,Lookups!$E:$F,2,FALSE))","v":""},""]
[null,null,null,null,null,"",null,"",null,null,"","",{"$f":"IF(OR(A3883=\"\",B3883=\"\"),\"\",VLOOKUP(A3883&\"_\"&B3883,Lookups!$E:$F,2,FALSE))","v":""},""]
[null,null,null,null,null,"",null,"",null,null,"","",{"$f":"IF(OR(A3884=\"\",B3884=\"\"),\"\",VLOOKUP(A3884&\"_\"&B3884,Lookups!$E:$F,2,FALSE))","v":""},""]
[null,null,null,null,null,"",null,"",null,null,"","",{"$f":"IF(OR(A3885=\"\",B3885=\"\"),\"\",VLOOKUP(A3885&\"_\"&B3885,Lookups!$E:$F,2,FALSE))","v":""},""]
[null,null,null,null,null,"",null,"",null,null,"","",{"$f":"IF(OR(A3886=\"\",B3886=\"\"),\"\",VLOOKUP(A3886&\"_\"&B3886,Lookups!$E:$F,2,FALSE))","v":""},""]
[null,null,null,null,null,"",null,"",null,null,"","",{"$f":"IF(OR(A3887=\"\",B3887=\"\"),\"\",VLOOKUP(A3887&\"_\"&B3887,Lookups!$E:$F,2,FALSE))","v":""},""]
[null,null,null,null,null,"",null,"",null,null,"","",{"$f":"IF(OR(A3888=\"\",B3888=\"\"),\"\",VLOOKUP(A3888&\"_\"&B3888,Lookups!$E:$F,2,FALSE))","v":""},""]
[null,null,null,null,null,"",null,"",null,null,"","",{"$f":"IF(OR(A3889=\"\",B3889=\"\"),\"\",VLOOKUP(A3889&\"_\"&B3889,Lookups!$E:$F,2,FALSE))","v":""},""]
[null,null,null,null,null,"",null,"",null,null,"","",{"$f":"IF(OR(A3890=\"\",B3890=\"\"),\"\",VLOOKUP(A3890&\"_\"&B3890,Lookups!$E:$F,2,FALSE))","v":""},""]
[null,null,null,null,null,"",null,"",null,null,"","",{"$f":"IF(OR(A3891=\"\",B3891=\"\"),\"\",VLOOKUP(A3891&\"_\"&B3891,Lookups!$E:$F,2,FALSE))","v":""},""]
[null,null,null,null,null,"",null,"",null,null,"","",{"$f":"IF(OR(A3892=\"\",B3892=\"\"),\"\",VLOOKUP(A3892&\"_\"&B3892,Lookups!$E:$F,2,FALSE))","v":""},""]
[null,null,null,null,null,"",null,"",null,null,"","",{"$f":"IF(OR(A3893=\"\",B3893=\"\"),\"\",VLOOKUP(A3893&\"_\"&B3893,Lookups!$E:$F,2,FALSE))","v":""},""]
[null,null,null,null,null,"",null,"",null,null,"","",{"$f":"IF(OR(A3894=\"\",B3894=\"\"),\"\",VLOOKUP(A3894&\"_\"&B3894,Lookups!$E:$F,2,FALSE))","v":""},""]
[null,null,null,null,null,"",null,"",null,null,"","",{"$f":"IF(OR(A3895=\"\",B3895=\"\"),\"\",VLOOKUP(A3895&\"_\"&B3895,Lookups!$E:$F,2,FALSE))","v":""},""]
[null,null,null,null,null,"",null,"",null,null,"","",{"$f":"IF(OR(A3896=\"\",B3896=\"\"),\"\",VLOOKUP(A3896&\"_\"&B3896,Lookups!$E:$F,2,FALSE))","v":""},""]
[null,null,null,null,null,"",null,"",null,null,"","",{"$f":"IF(OR(A3897=\"\",B3897=\"\"),\"\",VLOOKUP(A3897&\"_\"&B3897,Lookups!$E:$F,2,FALSE))","v":""},""]
[null,null,null,null,null,"",null,"",null,null,"","",{"$f":"IF(OR(A3898=\"\",B3898=\"\"),\"\",VLOOKUP(A3898&\"_\"&B3898,Lookups!$E:$F,2,FALSE))","v":""},""]
[null,null,null,null,null,"",null,"",null,null,"","",{"$f":"IF(OR(A3899=\"\",B3899=\"\"),\"\",VLOOKUP(A3899&\"_\"&B3899,Lookups!$E:$F,2,FALSE))","v":""},""]
[null,null,null,null,null,"",null,"",null,null,"","",{"$f":"IF(OR(A3900=\"\",B3900=\"\"),\"\",VLOOKUP(A3900&\"_\"&B3900,Lookups!$E:$F,2,FALSE))","v":""},""]
[null,null,null,null,null,"",null,"",null,null,"","",{"$f":"IF(OR(A3901=\"\",B3901=\"\"),\"\",VLOOKUP(A3901&\"_\"&B3901,Lookups!$E:$F,2,FALSE))","v":""},""]
[null,null,null,null,null,"",null,"",null,null,"","",{"$f":"IF(OR(A3902=\"\",B3902=\"\"),\"\",VLOOKUP(A3902&\"_\"&B3902,Lookups!$E:$F,2,FALSE))","v":""},""]
[null,null,null,null,null,"",null,"",null,null,"","",{"$f":"IF(OR(A3903=\"\",B3903=\"\"),\"\",VLOOKUP(A3903&\"_\"&B3903,Lookups!$E:$F,2,FALSE))","v":""},""]
[null,null,null,null,null,"",null,"",null,null,"","",{"$f":"IF(OR(A3904=\"\",B3904=\"\"),\"\",VLOOKUP(A3904&\"_\"&B3904,Lookups!$E:$F,2,FALSE))","v":""},""]
[null,null,null,null,null,"",null,"",null,null,"","",{"$f":"IF(OR(A3905=\"\",B3905=\"\"),\"\",VLOOKUP(A3905&\"_\"&B3905,Lookups!$E:$F,2,FALSE))","v":""},""]
[null,null,null,null,null,"",null,"",null,null,"","",{"$f":"IF(OR(A3906=\"\",B3906=\"\"),\"\",VLOOKUP(A3906&\"_\"&B3906,Lookups!$E:$F,2,FALSE))","v":""},""]
[null,null,null,null,null,"",null,"",null,null,"","",{"$f":"IF(OR(A3907=\"\",B3907=\"\"),\"\",VLOOKUP(A3907&\"_\"&B3907,Lookups!$E:$F,2,FALSE))","v":""},""]
[null,null,null,null,null,{"$f":"IF(OR(D3908=\"\",E3908=\"\"),\"\",ROUND((E3908-D3908)*24,2))","v":""},null,{"$f":"IF(F3908=\"\",\"\",IF(G3908<>\"\",F3908*G3908,F3908))","v":""},null,null,{"$f":"IF(AND(H3908<>\"\",I3908=\"Paid\"),H3908,\"\")","v":""},{"$f":"IF(H3908=\"\",\"\",IF(K3908=\"\",H3908,H3908-K3908))","v":""},{"$f":"IF(OR(A3908=\"\",B3908=\"\"),\"\",VLOOKUP(A3908&\"_\"&B3908,Lookups!$E:$F,2,FALSE))","v":""},{"$f":"IF(AND(K3908=\"\",L3908=\"\"),\"\",IF(K3908=\"\",L3908*M3908,SUM(K3908,L3908)*M3908))","v":""}]
[null,null,null,null,null,"",null,"",null,null,"","",{"$f":"IF(OR(A3909=\"\",B3909=\"\"),\"\",VLOOKUP(A3909&\"_\"&B3909,Lookups!$E:$F,2,FALSE))","v":""},""]
[null,null,null,null,null,"",null,"",null,null,"","",{"$f":"IF(OR(A3910=\"\",B3910=\"\"),\"\",VLOOKUP(A3910&\"_\"&B3910,Lookups!$E:$F,2,FALSE))","v":""},""]
[null,null,null,null,null,"",null,"",null,null,"","",{"$f":"IF(OR(A3911=\"\",B3911=\"\"),\"\",VLOOKUP(A3911&\"_\"&B3911,Lookups!$E:$F,2,FALSE))","v":""},""]
[null,null,null,null,null,"",null,"",null,null,"","",{"$f":"IF(OR(A3912=\"\",B3912=\"\"),\"\",VLOOKUP(A3912&\"_\"&B3912,Lookups!$E:$F,2,FALSE))","v":""},""]
[null,null,null,null,null,"",null,"",null,null,"","",{"$f":"IF(OR(A3913=\"\",B3913=\"\"),\"\",VLOOKUP(A3913&\"_\"&B3913,Lookups!$E:$F,2,FALSE))","v":""},""]
[null,null,null,null,null,"",null,"",null,null,"","",{"$f":"IF(OR(A3914=\"\",B3914=\"\"),\"\",VLOOKUP(A3914&\"_\"&B3914,Lookups!$E:$F,2,FALSE))","v":""},""]
[null,null,null,null,null,"",null,"",null,null,"","",{"$f":"IF(OR(A3915=\"\",B3915=\"\"),\"\",VLOOKUP(A3915&\"_\"&B3915,Lookups!$E:$F,2,FALSE))","v":""},""]
[null,null,null,null,null,"",null,"",null,null,"","",{"$f":"IF(OR(A3916=\"\",B3916=\"\"),\"\",VLOOKUP(A3916&\"_\"&B3916,Lookups!$E:$F,2,FALSE))","v":""},""]
[null,null,null,null,null,"",null,"",null,null,"","",{"$f":"IF(OR(A3917=\"\",B3917=\"\"),\"\",VLOOKUP(A3917&\"_\"&B3917,Lookups!$E:$F,2,FALSE))","v":""},""]
[null,null,null,null,null,"",null,"",null,null,"","",{"$f":"IF(OR(A3918=\"\",B3918=\"\"),\"\",VLOOKUP(A3918&\"_\"&B3918,Lookups!$E:$F,2,FALSE))","v":""},""]
[null,null,null,null,null,"",null,"",null,null,"","",{"$f":"IF(OR(A3919=\"\",B3919=\"\"),\"\",VLOOKUP(A3919&\"_\"&B3919,Lookups!$E:$F,2,FALSE))","v":""},""]
[null,null,null,null,null,"",null,"",null,null,"","",{"$f":"IF(OR(A3920=\"\",B3920=\"\"),\"\",VLOOKUP(A3920&\"_\"&B3920,Lookups!$E:$F,2,FALSE))","v":""},""]
[null,null,null,null,null,"",null,"",null,null,"","",{"$f":"IF(OR(A3921=\"\",B3921=\"\"),\"\",VLOOKUP(A3921&\"_\"&B3921,Lookups!$E:$F,2,FALSE))","v":""},""]
[null,null,null,null,null,"",null,"",null,null,"","",{"$f":"IF(OR(A3922=\"\",B3922=\"\"),\"\",VLOOKUP(A3922&\"_\"&B3922,Lookups!$E:$F,2,FALSE))","v":""},""]
[null,null,null,null,null,"",null,"",null,null,"","",{"$f":"IF(OR(A3923=\"\",B3923=\"\"),\"\",VLOOKUP(A3923&\"_\"&B3923,Lookups!$E:$F,2,FALSE))","v":""},""]
[null,null,null,null,null,"",null,"",null,null,"","",{"$f":"IF(OR(A3924=\"\",B3924=\"\"),\"\",VLOOKUP(A3924&\"_\"&B3924,Lookups!$E:$F,2,FALSE))","v":""},""]
[null,null,null,null,null,"",null,"",null,null,"","",{"$f":"IF(OR(A3925=\"\",B3925=\"\"),\"\",VLOOKUP(A3925&\"_\"&B3925,Lookups!$E:$F,2,FALSE))","v":""},""]
[null,null,null,null,null,"",null,"",null,null,"","",{"$f":"IF(OR(A3926=\"\",B3926=\"\"),\"\",VLOOKUP(A3926&\"_\"&B3926,Lookups!$E:$F,2,FALSE))","v":""},""]
[null,null,null,null,null,"",null,"",null,null,"","",{"$f":"IF(OR(A3927=\"\",B3927=\"\"),\"\",VLOOKUP(A3927&\"_\"&B3927,Lookups!$E:$F,2,FALSE))","v":""},""]
[null,null,null,null,null,"",null,"",null,null,"","",{"$f":"IF(OR(A3928=\"\",B3928=\"\"),\"\",VLOOKUP(A3928&\"_\"&B3928,Lookups!$E:$F,2,FALSE))","v":""},""]
[null,null,null,null,null,"",null,"",null,null,"","",{"$f":"IF(OR(A3929=\"\",B3929=\"\"),\"\",VLOOKUP(A3929&\"_\"&B3929,Lookups!$E:$F,2,FALSE))","v":""},""]
[null,null,null,null,null,"",null,"",null,null,"","",{"$f":"IF(OR(A3930=\"\",B3930=\"\"),\"\",VLOOKUP(A3930&\"_\"&B3930,Lookups!$E:$F,2,FALSE))","v":""},""]
[null,null,null,null,null,"",null,"",null,null,"","",{"$f":"IF(OR(A3931=\"\",B3931=\"\"),\"\",VLOOKUP(A3931&\"_\"&B3931,Lookups!$E:$F,2,FALSE))","v":""},""]
[null,null,null,null,null,"",null,"",null,null,"","",{"$f":"IF(OR(A3932=\"\",B3932=\"\"),\"\",VLOOKUP(A3932&\"_\"&B3932,Lookups!$E:$F,2,FALSE))","v":""},""]
[null,null,null,null,null,"",null,"",null,null,"","",{"$f":"IF(OR(A3933=\"\",B3933=\"\"),\"\",VLOOKUP(A3933&\"_\"&B3933,Lookups!$E:$F,2,FALSE))","v":""},""]
[null,null,null,null,null,"",null,"",null,null,"","",{"$f":"IF(OR(A3934=\"\",B3934=\"\"),\"\",VLOOKUP(A3934&\"_\"&B3934,Lookups!$E:$F,2,FALSE))","v":""},""]
[null,null,null,null,null,"",null,"",null,null,"","",{"$f":"IF(OR(A3935=\"\",B3935=\"\"),\"\",VLOOKUP(A3935&\"_\"&B3935,Lookups!$E:$F,2,FALSE))","v":""},""]
[null,null,null,null,null,"",null,"",null,null,"","",{"$f":"IF(OR(A3936=\"\",B3936=\"\"),\"\",VLOOKUP(A3936&\"_\"&B3936,Lookups!$E:$F,2,FALSE))","v":""},""]
[null,null,null,null,null,"",null,"",null,null,"","",{"$f":"IF(OR(A3937=\"\",B3937=\"\"),\"\",VLOOKUP(A3937&\"_\"&B3937,Lookups!$E:$F,2,FALSE))","v":""},""]
[null,null,null,null,null,"",null,"",null,null,"","",{"$f":"IF(OR(A3938=\"\",B3938=\"\"),\"\",VLOOKUP(A3938&\"_\"&B3938,Lookups!$E:$F,2,FALSE))","v":""},""]
[null,null,null,null,null,"",null,"",null,null,"","",{"$f":"IF(OR(A3939=\"\",B3939=\"\"),\"\",VLOOKUP(A3939&\"_\"&B3939,Lookups!$E:$F,2,FALSE))","v":""},""]
[null,null,null,null,null,"",null,"",null,null,"","",{"$f":"IF(OR(A3940=\"\",B3940=\"\"),\"\",VLOOKUP(A3940&\"_\"&B3940,Lookups!$E:$F,2,FALSE))","v":""},""]
[null,null,null,null,null,"",null,"",null,null,"","",{"$f":"IF(OR(A3941=\"\",B3941=\"\"),\"\",VLOOKUP(A3941&\"_\"&B3941,Lookups!$E:$F,2,FALSE))","v":""},""]
[null,null,null,null,null,"",null,"",null,null,"","",{"$f":"IF(OR(A3942=\"\",B3942=\"\"),\"\",VLOOKUP(A3942&\"_\"&B3942,Lookups!$E:$F,2,FALSE))","v":""},""]
[null,null,null,null,null,"",null,"",null,null,"","",{"$f":"IF(OR(A3943=\"\",B3943=\"\"),\"\",VLOOKUP(A3943&\"_\"&B3943,Lookups!$E:$F,2,FALSE))","v":""},""]
[null,null,null,null,null,"",null,"",null,null,"","",{"$f":"IF(OR(A3944=\"\",B3944=\"\"),\"\",VLOOKUP(A3944&\"_\"&B3944,Lookups!$E:$F,2,FALSE))","v":""},""]
[null,null,null,null,null,"",null,"",null,null,"","",{"$f":"IF(OR(A3945=\"\",B3945=\"\"),\"\",VLOOKUP(A3945&\"_\"&B3945,Lookups!$E:$F,2,FALSE))","v":""},""]
[null,null,null,null,null,"",null,"",null,null,"","",{"$f":"IF(OR(A3946=\"\",B3946=\"\"),\"\",VLOOKUP(A3946&\"_\"&B3946,Lookups!$E:$F,2,FALSE))","v":""},""]
[null,null,null,null,null,"",null,"",null,null,"","",{"$f":"IF(OR(A3947=\"\",B3947=\"\"),\"\",VLOOKUP(A3947&\"_\"&B3947,Lookups!$E:$F,2,FALSE))","v":""},""]
[null,null,null,null,null,"",null,"",null,null,"","",{"$f":"IF(OR(A3948=\"\",B3948=\"\"),\"\",VLOOKUP(A3948&\"_\"&B3948,Lookups!$E:$F,2,FALSE))","v":""},""]
[null,null,null,null,null,"",null,"",null,null,"","",{"$f":"IF(OR(A3949=\"\",B3949=\"\"),\"\",VLOOKUP(A3949&\"_\"&B3949,Lookups!$E:$F,2,FALSE))","v":""},""]
[null,null,null,null,null,"",null,"",null,null,"","",{"$f":"IF(OR(A3950=\"\",B3950=\"\"),\"\",VLOOKUP(A3950&\"_\"&B3950,Lookups!$E:$F,2,FALSE))","v":""},""]
[null,null,null,null,null,"",null,"",null,null,"","",{"$f":"IF(OR(A3951=\"\",B3951=\"\"),\"\",VLOOKUP(A3951&\"_\"&B3951,Lookups!$E:$F,2,FALSE))","v":""},""]
[null,null,null,null,null,"",null,"",null,null,"","",{"$f":"IF(OR(A3952=\"\",B3952=\"\"),\"\",VLOOKUP(A3952&\"_\"&B3952,Lookups!$E:$F,2,FALSE))","v":""},""]
[null,null,null,null,null,"",null,"",null,null,"","",{"$f":"IF(OR(A3953=\"\",B3953=\"\"),\"\",VLOOKUP(A3953&\"_\"&B3953,Lookups!$E:$F,2,FALSE))","v":""},""]
[null,null,null,null,null,"",null,"",null,null,"","",{"$f":"IF(OR(A3954=\"\",B3954=\"\"),\"\",VLOOKUP(A3954&\"_\"&B3954,Lookups!$E:$F,2,FALSE))","v":""},""]
[null,null,null,null,null,"",null,"",null,null,"","",{"$f":"IF(OR(A3955=\"\",B3955=\"\"),\"\",VLOOKUP(A3955&\"_\"&B3955,Lookups!$E:$F,2,FALSE))","v":""},""]
[null,null,null,null,null,"",null,"",null,null,"","",{"$f":"IF(OR(A3956=\"\",B3956=\"\"),\"\",VLOOKUP(A3956&\"_\"&B3956,Lookups!$E:$F,2,FALSE))","v":""},""]
[null,null,null,null,null,"",null,"",null,null,"","",{"$f":"IF(OR(A3957=\"\",B3957=\"\"),\"\",VLOOKUP(A3957&\"_\"&B3957,Lookups!$E:$F,2,FALSE))","v":""},""]
[null,null,null,null,null,"",null,"",null,null,"","",{"$f":"IF(OR(A3958=\"\",B3958=\"\"),\"\",VLOOKUP(A3958&\"_\"&B3958,Lookups!$E:$F,2,FALSE))","v":""},""]
[null,null,null,null,null,"",null,"",null,null,"","",{"$f":"IF(OR(A3959=\"\",B3959=\"\"),\"\",VLOOKUP(A3959&\"_\"&B3959,Lookups!$E:$F,2,FALSE))","v":""},""]
[null,null,null,null,null,"",null,"",null,null,"","",{"$f":"IF(OR(A3960=\"\",B3960=\"\"),\"\",VLOOKUP(A3960&\"_\"&B3960,Lookups!$E:$F,2,FALSE))","v":""},""]
[null,null,null,null,null,"",null,"",null,null,"","",{"$f":"IF(OR(A3961=\"\",B3961=\"\"),\"\",VLOOKUP(A3961&\"_\"&B3961,Lookups!$E:$F,2,FALSE))","v":""},""]
[null,null,null,null,null,"",null,"",null,null,"","",{"$f":"IF(OR(A3962=\"\",B3962=\"\"),\"\",VLOOKUP(A3962&\"_\"&B3962,Lookups!$E:$F,2,FALSE))","v":""},""]
[null,null,null,null,null,"",null,"",null,null,"","",{"$f":"IF(OR(A3963=\"\",B3963=\"\"),\"\",VLOOKUP(A3963&\"_\"&B3963,Lookups!$E:$F,2,FALSE))","v":""},""]
[null,null,null,null,null,"",null,"",null,null,"","",{"$f":"IF(OR(A3964=\"\",B3964=\"\"),\"\",VLOOKUP(A3964&\"_\"&B3964,Lookups!$E:$F,2,FALSE))","v":""},""]
[null,null,null,null,null,"",null,"",null,null,"","",{"$f":"IF(OR(A3965=\"\",B3965=\"\"),\"\",VLOOKUP(A3965&\"_\"&B3965,Lookups!$E:$F,2,FALSE))","v":""},""]
[null,null,null,null,null,"",null,"",null,null,"","",{"$f":"IF(OR(A3966=\"\",B3966=\"\"),\"\",VLOOKUP(A3966&\"_\"&B3966,Lookups!$E:$F,2,FALSE))","v":""},""]
[null,null,null,null,null,"",null,"",null,null,"","",{"$f":"IF(OR(A3967=\"\",B3967=\"\"),\"\",VLOOKUP(A3967&\"_\"&B3967,Lookups!$E:$F,2,FALSE))","v":""},""]
[null,null,null,null,null,"",null,"",null,null,"","",{"$f":"IF(OR(A3968=\"\",B3968=\"\"),\"\",VLOOKUP(A3968&\"_\"&B3968,Lookups!$E:$F,2,FALSE))","v":""},""]
[null,null,null,null,null,"",null,"",null,null,"","",{"$f":"IF(OR(A3969=\"\",B3969=\"\"),\"\",VLOOKUP(A3969&\"_\"&B3969,Lookups!$E:$F,2,FALSE))","v":""},""]
[null,null,null,null,null,"",null,"",null,null,"","",{"$f":"IF(OR(A3970=\"\",B3970=\"\"),\"\",VLOOKUP(A3970&\"_\"&B3970,Lookups!$E:$F,2,FALSE))","v":""},""]
[null,null,null,null,null,"",null,"",null,null,"","",{"$f":"IF(OR(A3971=\"\",B3971=\"\"),\"\",VLOOKUP(A3971&\"_\"&B3971,Lookups!$E:$F,2,FALSE))","v":""},""]
[null,null,null,null,null,{"$f":"IF(OR(D3972=\"\",E3972=\"\"),\"\",ROUND((E3972-D3972)*24,2))","v":""},null,{"$f":"IF(F3972=\"\",\"\",IF(G3972<>\"\",F3972*G3972,F3972))","v":""},null,null,{"$f":"IF(AND(H3972<>\"\",I3972=\"Paid\"),H3972,\"\")","v":""},{"$f":"IF(H3972=\"\",\"\",IF(K3972=\"\",H3972,H3972-K3972))","v":""},{"$f":"IF(OR(A3972=\"\",B3972=\"\"),\"\",VLOOKUP(A3972&\"_\"&B3972,Lookups!$E:$F,2,FALSE))","v":""},{"$f":"IF(AND(K3972=\"\",L3972=\"\"),\"\",IF(K3972=\"\",L3972*M3972,SUM(K3972,L3972)*M3972))","v":""}]
[null,null,null,null,null,"",null,"",null,null,"","",{"$f":"IF(OR(A3973=\"\",B3973=\"\"),\"\",VLOOKUP(A3973&\"_\"&B3973,Lookups!$E:$F,2,FALSE))","v":""},""]
[null,null,null,null,null,"",null,"",null,null,"","",{"$f":"IF(OR(A3974=\"\",B3974=\"\"),\"\",VLOOKUP(A3974&\"_\"&B3974,Lookups!$E:$F,2,FALSE))","v":""},""]
[null,null,null,null,null,"",null,"",null,null,"","",{"$f":"IF(OR(A3975=\"\",B3975=\"\"),\"\",VLOOKUP(A3975&\"_\"&B3975,Lookups!$E:$F,2,FALSE))","v":""},""]
[null,null,null,null,null,"",null,"",null,null,"","",{"$f":"IF(OR(A3976=\"\",B3976=\"\"),\"\",VLOOKUP(A3976&\"_\"&B3976,Lookups!$E:$F,2,FALSE))","v":""},""]
[null,null,null,null,null,"",null,"",null,null,"","",{"$f":"IF(OR(A3977=\"\",B3977=\"\"),\"\",VLOOKUP(A3977&\"_\"&B3977,Lookups!$E:$F,2,FALSE))","v":""},""]
[null,null,null,null,null,"",null,"",null,null,"","",{"$f":"IF(OR(A3978=\"\",B3978=\"\"),\"\",VLOOKUP(A3978&\"_\"&B3978,Lookups!$E:$F,2,FALSE))","v":""},""]
[null,null,null,null,null,"",null,"",null,null,"","",{"$f":"IF(OR(A3979=\"\",B3979=\"\"),\"\",VLOOKUP(A3979&\"_\"&B3979,Lookups!$E:$F,2,FALSE))","v":""},""]
[null,null,null,null,null,"",null,"",null,null,"","",{"$f":"IF(OR(A3980=\"\",B3980=\"\"),\"\",VLOOKUP(A3980&\"_\"&B3980,Lookups!$E:$F,2,FALSE))","v":""},""]
[null,null,null,null,null,"",null,"",null,null,"","",{"$f":"IF(OR(A3981=\"\",B3981=\"\"),\"\",VLOOKUP(A3981&\"_\"&B3981,Lookups!$E:$F,2,FALSE))","v":""},""]
[null,null,null,null,null,"",null,"",null,null,"","",{"$f":"IF(OR(A3982=\"\",B3982=\"\"),\"\",VLOOKUP(A3982&\"_\"&B3982,Lookups!$E:$F,2,FALSE))","v":""},""]
[null,null,null,null,null,"",null,"",null,null,"","",{"$f":"IF(OR(A3983=\"\",B3983=\"\"),\"\",VLOOKUP(A3983&\"_\"&B3983,Lookups!$E:$F,2,FALSE))","v":""},""]
[null,null,null,null,null,"",null,"",null,null,"","",{"$f":"IF(OR(A3984=\"\",B3984=\"\"),\"\",VLOOKUP(A3984&\"_\"&B3984,Lookups!$E:$F,2,FALSE))","v":""},""]
[null,null,null,null,null,"",null,"",null,null,"","",{"$f":"IF(OR(A3985=\"\",B3985=\"\"),\"\",VLOOKUP(A3985&\"_\"&B3985,Lookups!$E:$F,2,FALSE))","v":""},""]
[null,null,null,null,null,"",null,"",null,null,"","",{"$f":"IF(OR(A3986=\"\",B3986=\"\"),\"\",VLOOKUP(A3986&\"_\"&B3986,Lookups!$E:$F,2,FALSE))","v":""},""]
[null,null,null,null,null,"",null,"",null,null,"","",{"$f":"IF(OR(A3987=\"\",B3987=\"\"),\"\",VLOOKUP(A3987&\"_\"&B3987,Lookups!$E:$F,2,FALSE))","v":""},""]
[null,null,null,null,null,"",null,"",null,null,"","",{"$f":"IF(OR(A3988=\"\",B3988=\"\"),\"\",VLOOKUP(A3988&\"_\"&B3988,Lookups!$E:$F,2,FALSE))","v":""},""]
[null,null,null,null,null,"",null,"",null,null,"","",{"$f":"IF(OR(A3989=\"\",B3989=\"\"),\"\",VLOOKUP(A3989&\"_\"&B3989,Lookups!$E:$F,2,FALSE))","v":""},""]
[null,null,null,null,null,"",null,"",null,null,"","",{"$f":"IF(OR(A3990=\"\",B3990=\"\"),\"\",VLOOKUP(A3990&\"_\"&B3990,Lookups!$E:$F,2,FALSE))","v":""},""]
[null,null,null,null,null,"",null,"",null,null,"","",{"$f":"IF(OR(A3991=\"\",B3991=\"\"),\"\",VLOOKUP(A3991&\"_\"&B3991,Lookups!$E:$F,2,FALSE))","v":""},""]
[null,null,null,null,null,"",null,"",null,null,"","",{"$f":"IF(OR(A3992=\"\",B3992=\"\"),\"\",VLOOKUP(A3992&\"_\"&B3992,Lookups!$E:$F,2,FALSE))","v":""},""]
[null,null,null,null,null,"",null,"",null,null,"","",{"$f":"IF(OR(A3993=\"\",B3993=\"\"),\"\",VLOOKUP(A3993&\"_\"&B3993,Lookups!$E:$F,2,FALSE))","v":""},""]
[null,null,null,null,null,"",null,"",null,null,"","",{"$f":"IF(OR(A3994=\"\",B3994=\"\"),\"\",VLOOKUP(A3994&\"_\"&B3994,Lookups!$E:$F,2,FALSE))","v":""},""]
[null,null,null,null,null,"",null,"",null,null,"","",{"$f":"IF(OR(A3995=\"\",B3995=\"\"),\"\",VLOOKUP(A3995&\"_\"&B3995,Lookups!$E:$F,2,FALSE))","v":""},""]
[null,null,null,null,null,"",null,"",null,null,"","",{"$f":"IF(OR(A3996=\"\",B3996=\"\"),\"\",VLOOKUP(A3996&\"_\"&B3996,Lookups!$E:$F,2,FALSE))","v":""},""]
[null,null,null,null,null,"",null,"",null,null,"","",{"$f":"IF(OR(A3997=\"\",B3997=\"\"),\"\",VLOOKUP(A3997&\"_\"&B3997,Lookups!$E:$F,2,FALSE))","v":""},""]
[null,null,null,null,null,"",null,"",null,null,"","",{"$f":"IF(OR(A3998=\"\",B3998=\"\"),\"\",VLOOKUP(A3998&\"_\"&B3998,Lookups!$E:$F,2,FALSE))","v":""},""]
[null,null,null,null,null,"",null,"",null,null,"","",{"$f":"IF(OR(A3999=\"\",B3999=\"\"),\"\",VLOOKUP(A3999&\"_\"&B3999,Lookups!$E:$F,2,FALSE))","v":""},""]
[null,null,null,null,null,"",null,"",null,null,"","",{"$f":"IF(OR(A4000=\"\",B4000=\"\"),\"\",VLOOKUP(A4000&\"_\"&B4000,Lookups!$E:$F,2,FALSE))","v":""},""]
[null,null,null,null,null,"",null,"",null,null,"","",{"$f":"IF(OR(A4001=\"\",B4001=\"\"),\"\",VLOOKUP(A4001&\"_\"&B4001,Lookups!$E:$F,2,FALSE))","v":""},""]
[null,null,null,null,null,"",null,"",null,null,"","",{"$f":"IF(OR(A4002=\"\",B4002=\"\"),\"\",VLOOKUP(A4002&\"_\"&B4002,Lookups!$E:$F,2,FALSE))","v":""},""]
[null,null,null,null,null,"",null,"",null,null,"","",{"$f":"IF(OR(A4003=\"\",B4003=\"\"),\"\",VLOOKUP(A4003&\"_\"&B4003,Lookups!$E:$F,2,FALSE))","v":""},""]
[null,null,null,null,null,"",null,"",null,null,"","",{"$f":"IF(OR(A4004=\"\",B4004=\"\"),\"\",VLOOKUP(A4004&\"_\"&B4004,Lookups!$E:$F,2,FALSE))","v":""},""]
[null,null,null,null,null,"",null,"",null,null,"","",{"$f":"IF(OR(A4005=\"\",B4005=\"\"),\"\",VLOOKUP(A4005&\"_\"&B4005,Lookups!$E:$F,2,FALSE))","v":""},""]
[null,null,null,null,null,"",null,"",null,null,"","",{"$f":"IF(OR(A4006=\"\",B4006=\"\"),\"\",VLOOKUP(A4006&\"_\"&B4006,Lookups!$E:$F,2,FALSE))","v":""},""]
[null,null,null,null,null,"",null,"",null,null,"","",{"$f":"IF(OR(A4007=\"\",B4007=\"\"),\"\",VLOOKUP(A4007&\"_\"&B4007,Lookups!$E:$F,2,FALSE))","v":""},""]
[null,null,null,null,null,"",null,"",null,null,"","",{"$f":"IF(OR(A4008=\"\",B4008=\"\"),\"\",VLOOKUP(A4008&\"_\"&B4008,Lookups!$E:$F,2,FALSE))","v":""},""]
[null,null,null,null,null,"",null,"",null,null,"","",{"$f":"IF(OR(A4009=\"\",B4009=\"\"),\"\",VLOOKUP(A4009&\"_\"&B4009,Lookups!$E:$F,2,FALSE))","v":""},""]
[null,null,null,null,null,"",null,"",null,null,"","",{"$f":"IF(OR(A4010=\"\",B4010=\"\"),\"\",VLOOKUP(A4010&\"_\"&B4010,Lookups!$E:$F,2,FALSE))","v":""},""]
[null,null,null,null,null,"",null,"",null,null,"","",{"$f":"IF(OR(A4011=\"\",B4011=\"\"),\"\",VLOOKUP(A4011&\"_\"&B4011,Lookups!$E:$F,2,FALSE))","v":""},""]
[null,null,null,null,null,"",null,"",null,null,"","",{"$f":"IF(OR(A4012=\"\",B4012=\"\"),\"\",VLOOKUP(A4012&\"_\"&B4012,Lookups!$E:$F,2,FALSE))","v":""},""]
[null,null,null,null,null,"",null,"",null,null,"","",{"$f":"IF(OR(A4013=\"\",B4013=\"\"),\"\",VLOOKUP(A4013&\"_\"&B4013,Lookups!$E:$F,2,FALSE))","v":""},""]
[null,null,null,null,null,"",null,"",null,null,"","",{"$f":"IF(OR(A4014=\"\",B4014=\"\"),\"\",VLOOKUP(A4014&\"_\"&B4014,Lookups!$E:$F,2,FALSE))","v":""},""]
[null,null,null,null,null,"",null,"",null,null,"","",{"$f":"IF(OR(A4015=\"\",B4015=\"\"),\"\",VLOOKUP(A4015&\"_\"&B4015,Lookups!$E:$F,2,FALSE))","v":""},""]
[null,null,null,null,null,"",null,"",null,null,"","",{"$f":"IF(OR(A4016=\"\",B4016=\"\"),\"\",VLOOKUP(A4016&\"_\"&B4016,Lookups!$E:$F,2,FALSE))","v":""},""]
[null,null,null,null,null,"",null,"",null,null,"","",{"$f":"IF(OR(A4017=\"\",B4017=\"\"),\"\",VLOOKUP(A4017&\"_\"&B4017,Lookups!$E:$F,2,FALSE))","v":""},""]
[null,null,null,null,null,"",null,"",null,null,"","",{"$f":"IF(OR(A4018=\"\",B4018=\"\"),\"\",VLOOKUP(A4018&\"_\"&B4018,Lookups!$E:$F,2,FALSE))","v":""},""]
[null,null,null,null,null,"",null,"",null,null,"","",{"$f":"IF(OR(A4019=\"\",B4019=\"\"),\"\",VLOOKUP(A4019&\"_\"&B4019,Lookups!$E:$F,2,FALSE))","v":""},""]
[null,null,null,null,null,"",null,"",null,null,"","",{"$f":"IF(OR(A4020=\"\",B4020=\"\"),\"\",VLOOKUP(A4020&\"_\"&B4020,Lookups!$E:$F,2,FALSE))","v":""},""]
[null,null,null,null,null,"",null,"",null,null,"","",{"$f":"IF(OR(A4021=\"\",B4021=\"\"),\"\",VLOOKUP(A4021&\"_\"&B4021,Lookups!$E:$F,2,FALSE))","v":""},""]
[null,null,null,null,null,"",null,"",null,null,"","",{"$f":"IF(OR(A4022=\"\",B4022=\"\"),\"\",VLOOKUP(A4022&\"_\"&B4022,Lookups!$E:$F,2,FALSE))","v":""},""]
[null,null,null,null,null,"",null,"",null,null,"","",{"$f":"IF(OR(A4023=\"\",B4023=\"\"),\"\",VLOOKUP(A4023&\"_\"&B4023,Lookups!$E:$F,2,FALSE))","v":""},""]
[null,null,null,null,null,"",null,"",null,null,"","",{"$f":"IF(OR(A4024=\"\",B4024=\"\"),\"\",VLOOKUP(A4024&\"_\"&B4024,Lookups!$E:$F,2,FALSE))","v":""},""]
[null,null,null,null,null,"",null,"",null,null,"","",{"$f":"IF(OR(A4025=\"\",B4025=\"\"),\"\",VLOOKUP(A4025&\"_\"&B4025,Lookups!$E:$F,2,FALSE))","v":""},""]
[null,null,null,null,null,"",null,"",null,null,"","",{"$f":"IF(OR(A4026=\"\",B4026=\"\"),\"\",VLOOKUP(A4026&\"_\"&B4026,Lookups!$E:$F,2,FALSE))","v":""},""]
[null,null,null,null,null,"",null,"",null,null,"","",{"$f":"IF(OR(A4027=\"\",B4027=\"\"),\"\",VLOOKUP(A4027&\"_\"&B4027,Lookups!$E:$F,2,FALSE))","v":""},""]
[null,null,null,null,null,"",null,"",null,null,"","",{"$f":"IF(OR(A4028=\"\",B4028=\"\"),\"\",VLOOKUP(A4028&\"_\"&B4028,Lookups!$E:$F,2,FALSE))","v":""},""]
[null,null,null,null,null,"",null,"",null,null,"","",{"$f":"IF(OR(A4029=\"\",B4029=\"\"),\"\",VLOOKUP(A4029&\"_\"&B4029,Lookups!$E:$F,2,FALSE))","v":""},""]
[null,null,null,null,null,"",null,"",null,null,"","",{"$f":"IF(OR(A4030=\"\",B4030=\"\"),\"\",VLOOKUP(A4030&\"_\"&B4030,Lookups!$E:$F,2,FALSE))","v":""},""]
[null,null,null,null,null,"",null,"",null,null,"","",{"$f":"IF(OR(A4031=\"\",B4031=\"\"),\"\",VLOOKUP(A4031&\"_\"&B4031,Lookups!$E:$F,2,FALSE))","v":""},""]
[null,null,null,null,null,"",null,"",null,null,"","",{"$f":"IF(OR(A4032=\"\",B4032=\"\"),\"\",VLOOKUP(A4032&\"_\"&B4032,Lookups!$E:$F,2,FALSE))","v":""},""]
[null,null,null,null,null,"",null,"",null,null,"","",{"$f":"IF(OR(A4033=\"\",B4033=\"\"),\"\",VLOOKUP(A4033&\"_\"&B4033,Lookups!$E:$F,2,FALSE))","v":""},""]
[null,null,null,null,null,"",null,"",null,null,"","",{"$f":"IF(OR(A4034=\"\",B4034=\"\"),\"\",VLOOKUP(A4034&\"_\"&B4034,Lookups!$E:$F,2,FALSE))","v":""},""]
[null,null,null,null,null,"",null,"",null,null,"","",{"$f":"IF(OR(A4035=\"\",B4035=\"\"),\"\",VLOOKUP(A4035&\"_\"&B4035,Lookups!$E:$F,2,FALSE))","v":""},""]
[null,null,null,null,null,{"$f":"IF(OR(D4036=\"\",E4036=\"\"),\"\",ROUND((E4036-D4036)*24,2))","v":""},null,{"$f":"IF(F4036=\"\",\"\",IF(G4036<>\"\",F4036*G4036,F4036))","v":""},null,null,{"$f":"IF(AND(H4036<>\"\",I4036=\"Paid\"),H4036,\"\")","v":""},{"$f":"IF(H4036=\"\",\"\",IF(K4036=\"\",H4036,H4036-K4036))","v":""},{"$f":"IF(OR(A4036=\"\",B4036=\"\"),\"\",VLOOKUP(A4036&\"_\"&B4036,Lookups!$E:$F,2,FALSE))","v":""},{"$f":"IF(AND(K4036=\"\",L4036=\"\"),\"\",IF(K4036=\"\",L4036*M4036,SUM(K4036,L4036)*M4036))","v":""}]
[null,null,null,null,null,"",null,"",null,null,"","",{"$f":"IF(OR(A4037=\"\",B4037=\"\"),\"\",VLOOKUP(A4037&\"_\"&B4037,Lookups!$E:$F,2,FALSE))","v":""},""]
[null,null,null,null,null,"",null,"",null,null,"","",{"$f":"IF(OR(A4038=\"\",B4038=\"\"),\"\",VLOOKUP(A4038&\"_\"&B4038,Lookups!$E:$F,2,FALSE))","v":""},""]
[null,null,null,null,null,"",null,"",null,null,"","",{"$f":"IF(OR(A4039=\"\",B4039=\"\"),\"\",VLOOKUP(A4039&\"_\"&B4039,Lookups!$E:$F,2,FALSE))","v":""},""]
[null,null,null,null,null,"",null,"",null,null,"","",{"$f":"IF(OR(A4040=\"\",B4040=\"\"),\"\",VLOOKUP(A4040&\"_\"&B4040,Lookups!$E:$F,2,FALSE))","v":""},""]
[null,null,null,null,null,"",null,"",null,null,"","",{"$f":"IF(OR(A4041=\"\",B4041=\"\"),\"\",VLOOKUP(A4041&\"_\"&B4041,Lookups!$E:$F,2,FALSE))","v":""},""]
[null,null,null,null,null,"",null,"",null,null,"","",{"$f":"IF(OR(A4042=\"\",B4042=\"\"),\"\",VLOOKUP(A4042&\"_\"&B4042,Lookups!$E:$F,2,FALSE))","v":""},""]
[null,null,null,null,null,"",null,"",null,null,"","",{"$f":"IF(OR(A4043=\"\",B4043=\"\"),\"\",VLOOKUP(A4043&\"_\"&B4043,Lookups!$E:$F,2,FALSE))","v":""},""]
[null,null,null,null,null,"",null,"",null,null,"","",{"$f":"IF(OR(A4044=\"\",B4044=\"\"),\"\",VLOOKUP(A4044&\"_\"&B4044,Lookups!$E:$F,2,FALSE))","v":""},""]
[null,null,null,null,null,"",null,"",null,null,"","",{"$f":"IF(OR(A4045=\"\",B4045=\"\"),\"\",VLOOKUP(A4045&\"_\"&B4045,Lookups!$E:$F,2,FALSE))","v":""},""]
[null,null,null,null,null,"",null,"",null,null,"","",{"$f":"IF(OR(A4046=\"\",B4046=\"\"),\"\",VLOOKUP(A4046&\"_\"&B4046,Lookups!$E:$F,2,FALSE))","v":""},""]
[null,null,null,null,null,"",null,"",null,null,"","",{"$f":"IF(OR(A4047=\"\",B4047=\"\"),\"\",VLOOKUP(A4047&\"_\"&B4047,Lookups!$E:$F,2,FALSE))","v":""},""]
[null,null,null,null,null,"",null,"",null,null,"","",{"$f":"IF(OR(A4048=\"\",B4048=\"\"),\"\",VLOOKUP(A4048&\"_\"&B4048,Lookups!$E:$F,2,FALSE))","v":""},""]
[null,null,null,null,null,"",null,"",null,null,"","",{"$f":"IF(OR(A4049=\"\",B4049=\"\"),\"\",VLOOKUP(A4049&\"_\"&B4049,Lookups!$E:$F,2,FALSE))","v":""},""]
[null,null,null,null,null,"",null,"",null,null,"","",{"$f":"IF(OR(A4050=\"\",B4050=\"\"),\"\",VLOOKUP(A4050&\"_\"&B4050,Lookups!$E:$F,2,FALSE))","v":""},""]
[null,null,null,null,null,"",null,"",null,null,"","",{"$f":"IF(OR(A4051=\"\",B4051=\"\"),\"\",VLOOKUP(A4051&\"_\"&B4051,Lookups!$E:$F,2,FALSE))","v":""},""]
[null,null,null,null,null,"",null,"",null,null,"","",{"$f":"IF(OR(A4052=\"\",B4052=\"\"),\"\",VLOOKUP(A4052&\"_\"&B4052,Lookups!$E:$F,2,FALSE))","v":""},""]
[null,null,null,null,null,"",null,"",null,null,"","",{"$f":"IF(OR(A4053=\"\",B4053=\"\"),\"\",VLOOKUP(A4053&\"_\"&B4053,Lookups!$E:$F,2,FALSE))","v":""},""]
[null,null,null,null,null,"",null,"",null,null,"","",{"$f":"IF(OR(A4054=\"\",B4054=\"\"),\"\",VLOOKUP(A4054&\"_\"&B4054,Lookups!$E:$F,2,FALSE))","v":""},""]
[null,null,null,null,null,"",null,"",null,null,"","",{"$f":"IF(OR(A4055=\"\",B4055=\"\"),\"\",VLOOKUP(A4055&\"_\"&B4055,Lookups!$E:$F,2,FALSE))","v":""},""]
[null,null,null,null,null,"",null,"",null,null,"","",{"$f":"IF(OR(A4056=\"\",B4056=\"\"),\"\",VLOOKUP(A4056&\"_\"&B4056,Lookups!$E:$F,2,FALSE))","v":""},""]
[null,null,null,null,null,"",null,"",null,null,"","",{"$f":"IF(OR(A4057=\"\",B4057=\"\"),\"\",VLOOKUP(A4057&\"_\"&B4057,Lookups!$E:$F,2,FALSE))","v":""},""]
[null,null,null,null,null,"",null,"",null,null,"","",{"$f":"IF(OR(A4058=\"\",B4058=\"\"),\"\",VLOOKUP(A4058&\"_\"&B4058,Lookups!$E:$F,2,FALSE))","v":""},""]
[null,null,null,null,null,"",null,"",null,null,"","",{"$f":"IF(OR(A4059=\"\",B4059=\"\"),\"\",VLOOKUP(A4059&\"_\"&B4059,Lookups!$E:$F,2,FALSE))","v":""},""]
[null,null,null,null,null,"",null,"",null,null,"","",{"$f":"IF(OR(A4060=\"\",B4060=\"\"),\"\",VLOOKUP(A4060&\"_\"&B4060,Lookups!$E:$F,2,FALSE))","v":""},""]
[null,null,null,null,null,"",null,"",null,null,"","",{"$f":"IF(OR(A4061=\"\",B4061=\"\"),\"\",VLOOKUP(A4061&\"_\"&B4061,Lookups!$E:$F,2,FALSE))","v":""},""]
[null,null,null,null,null,"",null,"",null,null,"","",{"$f":"IF(OR(A4062=\"\",B4062=\"\"),\"\",VLOOKUP(A4062&\"_\"&B4062,Lookups!$E:$F,2,FALSE))","v":""},""]
[null,null,null,null,null,"",null,"",null,null,"","",{"$f":"IF(OR(A4063=\"\",B4063=\"\"),\"\",VLOOKUP(A4063&\"_\"&B4063,Lookups!$E:$F,2,FALSE))","v":""},""]
[null,null,null,null,null,"",null,"",null,null,"","",{"$f":"IF(OR(A4064=\"\",B4064=\"\"),\"\",VLOOKUP(A4064&\"_\"&B4064,Lookups!$E:$F,2,FALSE))","v":""},""]
[null,null,null,null,null,"",null,"",null,null,"","",{"$f":"IF(OR(A4065=\"\",B4065=\"\"),\"\",VLOOKUP(A4065&\"_\"&B4065,Lookups!$E:$F,2,FALSE))","v":""},""]
[null,null,null,null,null,"",null,"",null,null,"","",{"$f":"IF(OR(A4066=\"\",B4066=\"\"),\"\",VLOOKUP(A4066&\"_\"&B4066,Lookups!$E:$F,2,FALSE))","v":""},""]
[null,null,null,null,null,"",null,"",null,null,"","",{"$f":"IF(OR(A4067=\"\",B4067=\"\"),\"\",VLOOKUP(A4067&\"_\"&B4067,Lookups!$E:$F,2,FALSE))","v":""},""]
[null,null,null,null,null,"",null,"",null,null,"","",{"$f":"IF(OR(A4068=\"\",B4068=\"\"),\"\",VLOOKUP(A4068&\"_\"&B4068,Lookups!$E:$F,2,FALSE))","v":""},""]
[null,null,null,null,null,"",null,"",null,null,"","",{"$f":"IF(OR(A4069=\"\",B4069=\"\"),\"\",VLOOKUP(A4069&\"_\"&B4069,Lookups!$E:$F,2,FALSE))","v":""},""]
[null,null,null,null,null,"",null,"",null,null,"","",{"$f":"IF(OR(A4070=\"\",B4070=\"\"),\"\",VLOOKUP(A4070&\"_\"&B4070,Lookups!$E:$F,2,FALSE))","v":""},""]
[null,null,null,null,null,"",null,"",null,null,"","",{"$f":"IF(OR(A4071=\"\",B4071=\"\"),\"\",VLOOKUP(A4071&\"_\"&B4071,Lookups!$E:$F,2,FALSE))","v":""},""]
[null,null,null,null,null,"",null,"",null,null,"","",{"$f":"IF(OR(A4072=\"\",B4072=\"\"),\"\",VLOOKUP(A4072&\"_\"&B4072,Lookups!$E:$F,2,FALSE))","v":""},""]
[null,null,null,null,null,"",null,"",null,null,"","",{"$f":"IF(OR(A4073=\"\",B4073=\"\"),\"\",VLOOKUP(A4073&\"_\"&B4073,Lookups!$E:$F,2,FALSE))","v":""},""]
[null,null,null,null,null,"",null,"",null,null,"","",{"$f":"IF(OR(A4074=\"\",B4074=\"\"),\"\",VLOOKUP(A4074&\"_\"&B4074,Lookups!$E:$F,2,FALSE))","v":""},""]
[null,null,null,null,null,"",null,"",null,null,"","",{"$f":"IF(OR(A4075=\"\",B4075=\"\"),\"\",VLOOKUP(A4075&\"_\"&B4075,Lookups!$E:$F,2,FALSE))","v":""},""]
[null,null,null,null,null,"",null,"",null,null,"","",{"$f":"IF(OR(A4076=\"\",B4076=\"\"),\"\",VLOOKUP(A4076&\"_\"&B4076,Lookups!$E:$F,2,FALSE))","v":""},""]
[null,null,null,null,null,"",null,"",null,null,"","",{"$f":"IF(OR(A4077=\"\",B4077=\"\"),\"\",VLOOKUP(A4077&\"_\"&B4077,Lookups!$E:$F,2,FALSE))","v":""},""]
[null,null,null,null,null,"",null,"",null,null,"","",{"$f":"IF(OR(A4078=\"\",B4078=\"\"),\"\",VLOOKUP(A4078&\"_\"&B4078,Lookups!$E:$F,2,FALSE))","v":""},""]
[null,null,null,null,null,"",null,"",null,null,"","",{"$f":"IF(OR(A4079=\"\",B4079=\"\"),\"\",VLOOKUP(A4079&\"_\"&B4079,Lookups!$E:$F,2,FALSE))","v":""},""]
[null,null,null,null,null,"",null,"",null,null,"","",{"$f":"IF(OR(A4080=\"\",B4080=\"\"),\"\",VLOOKUP(A4080&\"_\"&B4080,Lookups!$E:$F,2,FALSE))","v":""},""]
[null,null,null,null,null,"",null,"",null,null,"","",{"$f":"IF(OR(A4081=\"\",B4081=\"\"),\"\",VLOOKUP(A4081&\"_\"&B4081,Lookups!$E:$F,2,FALSE))","v":""},""]
[null,null,null,null,null,"",null,"",null,null,"","",{"$f":"IF(OR(A4082=\"\",B4082=\"\"),\"\",VLOOKUP(A4082&\"_\"&B4082,Lookups!$E:$F,2,FALSE))","v":""},""]
[null,null,null,null,null,"",null,"",null,null,"","",{"$f":"IF(OR(A4083=\"\",B4083=\"\"),\"\",VLOOKUP(A4083&\"_\"&B4083,Lookups!$E:$F,2,FALSE))","v":""},""]
[null,null,null,null,null,"",null,"",null,null,"","",{"$f":"IF(OR(A4084=\"\",B4084=\"\"),\"\",VLOOKUP(A4084&\"_\"&B4084,Lookups!$E:$F,2,FALSE))","v":""},""]
[null,null,null,null,null,"",null,"",null,null,"","",{"$f":"IF(OR(A4085=\"\",B4085=\"\"),\"\",VLOOKUP(A4085&\"_\"&B4085,Lookups!$E:$F,2,FALSE))","v":""},""]
[null,null,null,null,null,"",null,"",null,null,"","",{"$f":"IF(OR(A4086=\"\",B4086=\"\"),\"\",VLOOKUP(A4086&\"_\"&B4086,Lookups!$E:$F,2,FALSE))","v":""},""]
[null,null,null,null,null,"",null,"",null,null,"","",{"$f":"IF(OR(A4087=\"\",B4087=\"\"),\"\",VLOOKUP(A4087&\"_\"&B4087,Lookups!$E:$F,2,FALSE))","v":""},""]
[null,null,null,null,null,"",null,"",null,null,"","",{"$f":"IF(OR(A4088=\"\",B4088=\"\"),\"\",VLOOKUP(A4088&\"_\"&B4088,Lookups!$E:$F,2,FALSE))","v":""},""]
[null,null,null,null,null,"",null,"",null,null,"","",{"$f":"IF(OR(A4089=\"\",B4089=\"\"),\"\",VLOOKUP(A4089&\"_\"&B4089,Lookups!$E:$F,2,FALSE))","v":""},""]
[null,null,null,null,null,"",null,"",null,null,"","",{"$f":"IF(OR(A4090=\"\",B4090=\"\"),\"\",VLOOKUP(A4090&\"_\"&B4090,Lookups!$E:$F,2,FALSE))","v":""},""]
[null,null,null,null,null,"",null,"",null,null,"","",{"$f":"IF(OR(A4091=\"\",B4091=\"\"),\"\",VLOOKUP(A4091&\"_\"&B4091,Lookups!$E:$F,2,FALSE))","v":""},""]
[null,null,null,null,null,"",null,"",null,null,"","",{"$f":"IF(OR(A4092=\"\",B4092=\"\"),\"\",VLOOKUP(A4092&\"_\"&B4092,Lookups!$E:$F,2,FALSE))","v":""},""]
[null,null,null,null,null,"",null,"",null,null,"","",{"$f":"IF(OR(A4093=\"\",B4093=\"\"),\"\",VLOOKUP(A4093&\"_\"&B4093,Lookups!$E:$F,2,FALSE))","v":""},""]
[null,null,null,null,null,"",null,"",null,null,"","",{"$f":"IF(OR(A4094=\"\",B4094=\"\"),\"\",VLOOKUP(A4094&\"_\"&B4094,Lookups!$E:$F,2,FALSE))","v":""},""]
[null,null,null,null,null,"",null,"",null,null,"","",{"$f":"IF(OR(A4095=\"\",B4095=\"\"),\"\",VLOOKUP(A4095&\"_\"&B4095,Lookups!$E:$F,2,FALSE))","v":""},""]
[null,null,null,null,null,"",null,"",null,null,"","",{"$f":"IF(OR(A4096=\"\",B4096=\"\"),\"\",VLOOKUP(A4096&\"_\"&B4096,Lookups!$E:$F,2,FALSE))","v":""},""]
[null,null,null,null,null,"",null,"",null,null,"","",{"$f":"IF(OR(A4097=\"\",B4097=\"\"),\"\",VLOOKUP(A4097&\"_\"&B4097,Lookups!$E:$F,2,FALSE))","v":""},""]
[null,null,null,null,null,"",null,"",null,null,"","",{"$f":"IF(OR(A4098=\"\",B4098=\"\"),\"\",VLOOKUP(A4098&\"_\"&B4098,Lookups!$E:$F,2,FALSE))","v":""},""]
[null,null,null,null,null,"",null,"",null,null,"","",{"$f":"IF(OR(A4099=\"\",B4099=\"\"),\"\",VLOOKUP(A4099&\"_\"&B4099,Lookups!$E:$F,2,FALSE))","v":""},""]
[null,null,null,null,null,{"$f":"IF(OR(D4100=\"\",E4100=\"\"),\"\",ROUND((E4100-D4100)*24,2))","v":""},null,{"$f":"IF(F4100=\"\",\"\",IF(G4100<>\"\",F4100*G4100,F4100))","v":""},null,null,{"$f":"IF(AND(H4100<>\"\",I4100=\"Paid\"),H4100,\"\")","v":""},{"$f":"IF(H4100=\"\",\"\",IF(K4100=\"\",H4100,H4100-K4100))","v":""},{"$f":"IF(OR(A4100=\"\",B4100=\"\"),\"\",VLOOKUP(A4100&\"_\"&B4100,Lookups!$E:$F,2,FALSE))","v":""},{"$f":"IF(AND(K4100=\"\",L4100=\"\"),\"\",IF(K4100=\"\",L4100*M4100,SUM(K4100,L4100)*M4100))","v":""}]
[null,null,null,null,null,"",null,"",null,null,"","",{"$f":"IF(OR(A4101=\"\",B4101=\"\"),\"\",VLOOKUP(A4101&\"_\"&B4101,Lookups!$E:$F,2,FALSE))","v":""},""]
[null,null,null,null,null,"",null,"",null,null,"","",{"$f":"IF(OR(A4102=\"\",B4102=\"\"),\"\",VLOOKUP(A4102&\"_\"&B4102,Lookups!$E:$F,2,FALSE))","v":""},""]
[null,null,null,null,null,"",null,"",null,null,"","",{"$f":"IF(OR(A4103=\"\",B4103=\"\"),\"\",VLOOKUP(A4103&\"_\"&B4103,Lookups!$E:$F,2,FALSE))","v":""},""]
[null,null,null,null,null,"",null,"",null,null,"","",{"$f":"IF(OR(A4104=\"\",B4104=\"\"),\"\",VLOOKUP(A4104&\"_\"&B4104,Lookups!$E:$F,2,FALSE))","v":""},""]
[null,null,null,null,null,"",null,"",null,null,"","",{"$f":"IF(OR(A4105=\"\",B4105=\"\"),\"\",VLOOKUP(A4105&\"_\"&B4105,Lookups!$E:$F,2,FALSE))","v":""},""]
[null,null,null,null,null,"",null,"",null,null,"","",{"$f":"IF(OR(A4106=\"\",B4106=\"\"),\"\",VLOOKUP(A4106&\"_\"&B4106,Lookups!$E:$F,2,FALSE))","v":""},""]
[null,null,null,null,null,"",null,"",null,null,"","",{"$f":"IF(OR(A4107=\"\",B4107=\"\"),\"\",VLOOKUP(A4107&\"_\"&B4107,Lookups!$E:$F,2,FALSE))","v":""},""]
[null,null,null,null,null,"",null,"",null,null,"","",{"$f":"IF(OR(A4108=\"\",B4108=\"\"),\"\",VLOOKUP(A4108&\"_\"&B4108,Lookups!$E:$F,2,FALSE))","v":""},""]
[null,null,null,null,null,"",null,"",null,null,"","",{"$f":"IF(OR(A4109=\"\",B4109=\"\"),\"\",VLOOKUP(A4109&\"_\"&B4109,Lookups!$E:$F,2,FALSE))","v":""},""]
[null,null,null,null,null,"",null,"",null,null,"","",{"$f":"IF(OR(A4110=\"\",B4110=\"\"),\"\",VLOOKUP(A4110&\"_\"&B4110,Lookups!$E:$F,2,FALSE))","v":""},""]
[null,null,null,null,null,"",null,"",null,null,"","",{"$f":"IF(OR(A4111=\"\",B4111=\"\"),\"\",VLOOKUP(A4111&\"_\"&B4111,Lookups!$E:$F,2,FALSE))","v":""},""]
[null,null,null,null,null,"",null,"",null,null,"","",{"$f":"IF(OR(A4112=\"\",B4112=\"\"),\"\",VLOOKUP(A4112&\"_\"&B4112,Lookups!$E:$F,2,FALSE))","v":""},""]
[null,null,null,null,null,"",null,"",null,null,"","",{"$f":"IF(OR(A4113=\"\",B4113=\"\"),\"\",VLOOKUP(A4113&\"_\"&B4113,Lookups!$E:$F,2,FALSE))","v":""},""]
[null,null,null,null,null,"",null,"",null,null,"","",{"$f":"IF(OR(A4114=\"\",B4114=\"\"),\"\",VLOOKUP(A4114&\"_\"&B4114,Lookups!$E:$F,2,FALSE))","v":""},""]
[null,null,null,null,null,"",null,"",null,null,"","",{"$f":"IF(OR(A4115=\"\",B4115=\"\"),\"\",VLOOKUP(A4115&\"_\"&B4115,Lookups!$E:$F,2,FALSE))","v":""},""]
[null,null,null,null,null,"",null,"",null,null,"","",{"$f":"IF(OR(A4116=\"\",B4116=\"\"),\"\",VLOOKUP(A4116&\"_\"&B4116,Lookups!$E:$F,2,FALSE))","v":""},""]
[null,null,null,null,null,"",null,"",null,null,"","",{"$f":"IF(OR(A4117=\"\",B4117=\"\"),\"\",VLOOKUP(A4117&\"_\"&B4117,Lookups!$E:$F,2,FALSE))","v":""},""]
[null,null,null,null,null,"",null,"",null,null,"","",{"$f":"IF(OR(A4118=\"\",B4118=\"\"),\"\",VLOOKUP(A4118&\"_\"&B4118,Lookups!$E:$F,2,FALSE))","v":""},""]
[null,null,null,null,null,"",null,"",null,null,"","",{"$f":"IF(OR(A4119=\"\",B4119=\"\"),\"\",VLOOKUP(A4119&\"_\"&B4119,Lookups!$E:$F,2,FALSE))","v":""},""]
[null,null,null,null,null,"",null,"",null,null,"","",{"$f":"IF(OR(A4120=\"\",B4120=\"\"),\"\",VLOOKUP(A4120&\"_\"&B4120,Lookups!$E:$F,2,FALSE))","v":""},""]
[null,null,null,null,null,"",null,"",null,null,"","",{"$f":"IF(OR(A4121=\"\",B4121=\"\"),\"\",VLOOKUP(A4121&\"_\"&B4121,Lookups!$E:$F,2,FALSE))","v":""},""]
[null,null,null,null,null,"",null,"",null,null,"","",{"$f":"IF(OR(A4122=\"\",B4122=\"\"),\"\",VLOOKUP(A4122&\"_\"&B4122,Lookups!$E:$F,2,FALSE))","v":""},""]
[null,null,null,null,null,"",null,"",null,null,"","",{"$f":"IF(OR(A4123=\"\",B4123=\"\"),\"\",VLOOKUP(A4123&\"_\"&B4123,Lookups!$E:$F,2,FALSE))","v":""},""]
[null,null,null,null,null,"",null,"",null,null,"","",{"$f":"IF(OR(A4124=\"\",B4124=\"\"),\"\",VLOOKUP(A4124&\"_\"&B4124,Lookups!$E:$F,2,FALSE))","v":""},""]
[null,null,null,null,null,"",null,"",null,null,"","",{"$f":"IF(OR(A4125=\"\",B4125=\"\"),\"\",VLOOKUP(A4125&\"_\"&B4125,Lookups!$E:$F,2,FALSE))","v":""},""]
[null,null,null,null,null,"",null,"",null,null,"","",{"$f":"IF(OR(A4126=\"\",B4126=\"\"),\"\",VLOOKUP(A4126&\"_\"&B4126,Lookups!$E:$F,2,FALSE))","v":""},""]
[null,null,null,null,null,"",null,"",null,null,"","",{"$f":"IF(OR(A4127=\"\",B4127=\"\"),\"\",VLOOKUP(A4127&\"_\"&B4127,Lookups!$E:$F,2,FALSE))","v":""},""]
[null,null,null,null,null,"",null,"",null,null,"","",{"$f":"IF(OR(A4128=\"\",B4128=\"\"),\"\",VLOOKUP(A4128&\"_\"&B4128,Lookups!$E:$F,2,FALSE))","v":""},""]
[null,null,null,null,null,"",null,"",null,null,"","",{"$f":"IF(OR(A4129=\"\",B4129=\"\"),\"\",VLOOKUP(A4129&\"_\"&B4129,Lookups!$E:$F,2,FALSE))","v":""},""]
[null,null,null,null,null,"",null,"",null,null,"","",{"$f":"IF(OR(A4130=\"\",B4130=\"\"),\"\",VLOOKUP(A4130&\"_\"&B4130,Lookups!$E:$F,2,FALSE))","v":""},""]
[null,null,null,null,null,"",null,"",null,null,"","",{"$f":"IF(OR(A4131=\"\",B4131=\"\"),\"\",VLOOKUP(A4131&\"_\"&B4131,Lookups!$E:$F,2,FALSE))","v":""},""]
[null,null,null,null,null,"",null,"",null,null,"","",{"$f":"IF(OR(A4132=\"\",B4132=\"\"),\"\",VLOOKUP(A4132&\"_\"&B4132,Lookups!$E:$F,2,FALSE))","v":""},""]
[null,null,null,null,null,"",null,"",null,null,"","",{"$f":"IF(OR(A4133=\"\",B4133=\"\"),\"\",VLOOKUP(A4133&\"_\"&B4133,Lookups!$E:$F,2,FALSE))","v":""},""]
[null,null,null,null,null,"",null,"",null,null,"","",{"$f":"IF(OR(A4134=\"\",B4134=\"\"),\"\",VLOOKUP(A4134&\"_\"&B4134,Lookups!$E:$F,2,FALSE))","v":""},""]
[null,null,null,null,null,"",null,"",null,null,"","",{"$f":"IF(OR(A4135=\"\",B4135=\"\"),\"\",VLOOKUP(A4135&\"_\"&B4135,Lookups!$E:$F,2,FALSE))","v":""},""]
[null,null,null,null,null,"",null,"",null,null,"","",{"$f":"IF(OR(A4136=\"\",B4136=\"\"),\"\",VLOOKUP(A4136&\"_\"&B4136,Lookups!$E:$F,2,FALSE))","v":""},""]
[null,null,null,null,null,"",null,"",null,null,"","",{"$f":"IF(OR(A4137=\"\",B4137=\"\"),\"\",VLOOKUP(A4137&\"_\"&B4137,Lookups!$E:$F,2,FALSE))","v":""},""]
[null,null,null,null,null,"",null,"",null,null,"","",{"$f":"IF(OR(A4138=\"\",B4138=\"\"),\"\",VLOOKUP(A4138&\"_\"&B4138,Lookups!$E:$F,2,FALSE))","v":""},""]
[null,null,null,null,null,"",null,"",null,null,"","",{"$f":"IF(OR(A4139=\"\",B4139=\"\"),\"\",VLOOKUP(A4139&\"_\"&B4139,Lookups!$E:$F,2,FALSE))","v":""},""]
[null,null,null,null,null,"",null,"",null,null,"","",{"$f":"IF(OR(A4140=\"\",B4140=\"\"),\"\",VLOOKUP(A4140&\"_\"&B4140,Lookups!$E:$F,2,FALSE))","v":""},""]
[null,null,null,null,null,"",null,"",null,null,"","",{"$f":"IF(OR(A4141=\"\",B4141=\"\"),\"\",VLOOKUP(A4141&\"_\"&B4141,Lookups!$E:$F,2,FALSE))","v":""},""]
[null,null,null,null,null,"",null,"",null,null,"","",{"$f":"IF(OR(A4142=\"\",B4142=\"\"),\"\",VLOOKUP(A4142&\"_\"&B4142,Lookups!$E:$F,2,FALSE))","v":""},""]
[null,null,null,null,null,"",null,"",null,null,"","",{"$f":"IF(OR(A4143=\"\",B4143=\"\"),\"\",VLOOKUP(A4143&\"_\"&B4143,Lookups!$E:$F,2,FALSE))","v":""},""]
[null,null,null,null,null,"",null,"",null,null,"","",{"$f":"IF(OR(A4144=\"\",B4144=\"\"),\"\",VLOOKUP(A4144&\"_\"&B4144,Lookups!$E:$F,2,FALSE))","v":""},""]
[null,null,null,null,null,"",null,"",null,null,"","",{"$f":"IF(OR(A4145=\"\",B4145=\"\"),\"\",VLOOKUP(A4145&\"_\"&B4145,Lookups!$E:$F,2,FALSE))","v":""},""]
[null,null,null,null,null,"",null,"",null,null,"","",{"$f":"IF(OR(A4146=\"\",B4146=\"\"),\"\",VLOOKUP(A4146&\"_\"&B4146,Lookups!$E:$F,2,FALSE))","v":""},""]
[null,null,null,null,null,"",null,"",null,null,"","",{"$f":"IF(OR(A4147=\"\",B4147=\"\"),\"\",VLOOKUP(A4147&\"_\"&B4147,Lookups!$E:$F,2,FALSE))","v":""},""]
[null,null,null,null,null,"",null,"",null,null,"","",{"$f":"IF(OR(A4148=\"\",B4148=\"\"),\"\",VLOOKUP(A4148&\"_\"&B4148,Lookups!$E:$F,2,FALSE))","v":""},""]
[null,null,null,null,null,"",null,"",null,null,"","",{"$f":"IF(OR(A4149=\"\",B4149=\"\"),\"\",VLOOKUP(A4149&\"_\"&B4149,Lookups!$E:$F,2,FALSE))","v":""},""]
[null,null,null,null,null,"",null,"",null,null,"","",{"$f":"IF(OR(A4150=\"\",B4150=\"\"),\"\",VLOOKUP(A4150&\"_\"&B4150,Lookups!$E:$F,2,FALSE))","v":""},""]
[null,null,null,null,null,"",null,"",null,null,"","",{"$f":"IF(OR(A4151=\"\",B4151=\"\"),\"\",VLOOKUP(A4151&\"_\"&B4151,Lookups!$E:$F,2,FALSE))","v":""},""]
[null,null,null,null,null,"",null,"",null,null,"","",{"$f":"IF(OR(A4152=\"\",B4152=\"\"),\"\",VLOOKUP(A4152&\"_\"&B4152,Lookups!$E:$F,2,FALSE))","v":""},""]
[null,null,null,null,null,"",null,"",null,null,"","",{"$f":"IF(OR(A4153=\"\",B4153=\"\"),\"\",VLOOKUP(A4153&\"_\"&B4153,Lookups!$E:$F,2,FALSE))","v":""},""]
[null,null,null,null,null,"",null,"",null,null,"","",{"$f":"IF(OR(A4154=\"\",B4154=\"\"),\"\",VLOOKUP(A4154&\"_\"&B4154,Lookups!$E:$F,2,FALSE))","v":""},""]
[null,null,null,null,null,"",null,"",null,null,"","",{"$f":"IF(OR(A4155=\"\",B4155=\"\"),\"\",VLOOKUP(A4155&\"_\"&B4155,Lookups!$E:$F,2,FALSE))","v":""},""]
[null,null,null,null,null,"",null,"",null,null,"","",{"$f":"IF(OR(A4156=\"\",B4156=\"\"),\"\",VLOOKUP(A4156&\"_\"&B4156,Lookups!$E:$F,2,FALSE))","v":""},""]
[null,null,null,null,null,"",null,"",null,null,"","",{"$f":"IF(OR(A4157=\"\",B4157=\"\"),\"\",VLOOKUP(A4157&\"_\"&B4157,Lookups!$E:$F,2,FALSE))","v":""},""]
[null,null,null,null,null,"",null,"",null,null,"","",{"$f":"IF(OR(A4158=\"\",B4158=\"\"),\"\",VLOOKUP(A4158&\"_\"&B4158,Lookups!$E:$F,2,FALSE))","v":""},""]
[null,null,null,null,null,"",null,"",null,null,"","",{"$f":"IF(OR(A4159=\"\",B4159=\"\"),\"\",VLOOKUP(A4159&\"_\"&B4159,Lookups!$E:$F,2,FALSE))","v":""},""]
[null,null,null,null,null,"",null,"",null,null,"","",{"$f":"IF(OR(A4160=\"\",B4160=\"\"),\"\",VLOOKUP(A4160&\"_\"&B4160,Lookups!$E:$F,2,FALSE))","v":""},""]
[null,null,null,null,null,"",null,"",null,null,"","",{"$f":"IF(OR(A4161=\"\",B4161=\"\"),\"\",VLOOKUP(A4161&\"_\"&B4161,Lookups!$E:$F,2,FALSE))","v":""},""]
[null,null,null,null,null,"",null,"",null,null,"","",{"$f":"IF(OR(A4162=\"\",B4162=\"\"),\"\",VLOOKUP(A4162&\"_\"&B4162,Lookups!$E:$F,2,FALSE))","v":""},""]
[null,null,null,null,null,"",null,"",null,null,"","",{"$f":"IF(OR(A4163=\"\",B4163=\"\"),\"\",VLOOKUP(A4163&\"_\"&B4163,Lookups!$E:$F,2,FALSE))","v":""},""]
[null,null,null,null,null,{"$f":"IF(OR(D4164=\"\",E4164=\"\"),\"\",ROUND((E4164-D4164)*24,2))","v":""},null,{"$f":"IF(F4164=\"\",\"\",IF(G4164<>\"\",F4164*G4164,F4164))","v":""},null,null,{"$f":"IF(AND(H4164<>\"\",I4164=\"Paid\"),H4164,\"\")","v":""},{"$f":"IF(H4164=\"\",\"\",IF(K4164=\"\",H4164,H4164-K4164))","v":""},{"$f":"IF(OR(A4164=\"\",B4164=\"\"),\"\",VLOOKUP(A4164&\"_\"&B4164,Lookups!$E:$F,2,FALSE))","v":""},{"$f":"IF(AND(K4164=\"\",L4164=\"\"),\"\",IF(K4164=\"\",L4164*M4164,SUM(K4164,L4164)*M4164))","v":""}]
[null,null,null,null,null,"",null,"",null,null,"","",{"$f":"IF(OR(A4165=\"\",B4165=\"\"),\"\",VLOOKUP(A4165&\"_\"&B4165,Lookups!$E:$F,2,FALSE))","v":""},""]
[null,null,null,null,null,"",null,"",null,null,"","",{"$f":"IF(OR(A4166=\"\",B4166=\"\"),\"\",VLOOKUP(A4166&\"_\"&B4166,Lookups!$E:$F,2,FALSE))","v":""},""]
[null,null,null,null,null,"",null,"",null,null,"","",{"$f":"IF(OR(A4167=\"\",B4167=\"\"),\"\",VLOOKUP(A4167&\"_\"&B4167,Lookups!$E:$F,2,FALSE))","v":""},""]
[null,null,null,null,null,"",null,"",null,null,"","",{"$f":"IF(OR(A4168=\"\",B4168=\"\"),\"\",VLOOKUP(A4168&\"_\"&B4168,Lookups!$E:$F,2,FALSE))","v":""},""]
[null,null,null,null,null,"",null,"",null,null,"","",{"$f":"IF(OR(A4169=\"\",B4169=\"\"),\"\",VLOOKUP(A4169&\"_\"&B4169,Lookups!$E:$F,2,FALSE))","v":""},""]
[null,null,null,null,null,"",null,"",null,null,"","",{"$f":"IF(OR(A4170=\"\",B4170=\"\"),\"\",VLOOKUP(A4170&\"_\"&B4170,Lookups!$E:$F,2,FALSE))","v":""},""]
[null,null,null,null,null,"",null,"",null,null,"","",{"$f":"IF(OR(A4171=\"\",B4171=\"\"),\"\",VLOOKUP(A4171&\"_\"&B4171,Lookups!$E:$F,2,FALSE))","v":""},""]
[null,null,null,null,null,"",null,"",null,null,"","",{"$f":"IF(OR(A4172=\"\",B4172=\"\"),\"\",VLOOKUP(A4172&\"_\"&B4172,Lookups!$E:$F,2,FALSE))","v":""},""]
[null,null,null,null,null,"",null,"",null,null,"","",{"$f":"IF(OR(A4173=\"\",B4173=\"\"),\"\",VLOOKUP(A4173&\"_\"&B4173,Lookups!$E:$F,2,FALSE))","v":""},""]
[null,null,null,null,null,"",null,"",null,null,"","",{"$f":"IF(OR(A4174=\"\",B4174=\"\"),\"\",VLOOKUP(A4174&\"_\"&B4174,Lookups!$E:$F,2,FALSE))","v":""},""]
[null,null,null,null,null,"",null,"",null,null,"","",{"$f":"IF(OR(A4175=\"\",B4175=\"\"),\"\",VLOOKUP(A4175&\"_\"&B4175,Lookups!$E:$F,2,FALSE))","v":""},""]
[null,null,null,null,null,"",null,"",null,null,"","",{"$f":"IF(OR(A4176=\"\",B4176=\"\"),\"\",VLOOKUP(A4176&\"_\"&B4176,Lookups!$E:$F,2,FALSE))","v":""},""]
[null,null,null,null,null,"",null,"",null,null,"","",{"$f":"IF(OR(A4177=\"\",B4177=\"\"),\"\",VLOOKUP(A4177&\"_\"&B4177,Lookups!$E:$F,2,FALSE))","v":""},""]
[null,null,null,null,null,"",null,"",null,null,"","",{"$f":"IF(OR(A4178=\"\",B4178=\"\"),\"\",VLOOKUP(A4178&\"_\"&B4178,Lookups!$E:$F,2,FALSE))","v":""},""]
[null,null,null,null,null,"",null,"",null,null,"","",{"$f":"IF(OR(A4179=\"\",B4179=\"\"),\"\",VLOOKUP(A4179&\"_\"&B4179,Lookups!$E:$F,2,FALSE))","v":""},""]
[null,null,null,null,null,"",null,"",null,null,"","",{"$f":"IF(OR(A4180=\"\",B4180=\"\"),\"\",VLOOKUP(A4180&\"_\"&B4180,Lookups!$E:$F,2,FALSE))","v":""},""]
[null,null,null,null,null,"",null,"",null,null,"","",{"$f":"IF(OR(A4181=\"\",B4181=\"\"),\"\",VLOOKUP(A4181&\"_\"&B4181,Lookups!$E:$F,2,FALSE))","v":""},""]
[null,null,null,null,null,"",null,"",null,null,"","",{"$f":"IF(OR(A4182=\"\",B4182=\"\"),\"\",VLOOKUP(A4182&\"_\"&B4182,Lookups!$E:$F,2,FALSE))","v":""},""]
[null,null,null,null,null,"",null,"",null,null,"","",{"$f":"IF(OR(A4183=\"\",B4183=\"\"),\"\",VLOOKUP(A4183&\"_\"&B4183,Lookups!$E:$F,2,FALSE))","v":""},""]
[null,null,null,null,null,"",null,"",null,null,"","",{"$f":"IF(OR(A4184=\"\",B4184=\"\"),\"\",VLOOKUP(A4184&\"_\"&B4184,Lookups!$E:$F,2,FALSE))","v":""},""]
[null,null,null,null,null,"",null,"",null,null,"","",{"$f":"IF(OR(A4185=\"\",B4185=\"\"),\"\",VLOOKUP(A4185&\"_\"&B4185,Lookups!$E:$F,2,FALSE))","v":""},""]
[null,null,null,null,null,"",null,"",null,null,"","",{"$f":"IF(OR(A4186=\"\",B4186=\"\"),\"\",VLOOKUP(A4186&\"_\"&B4186,Lookups!$E:$F,2,FALSE))","v":""},""]
[null,null,null,null,null,"",null,"",null,null,"","",{"$f":"IF(OR(A4187=\"\",B4187=\"\"),\"\",VLOOKUP(A4187&\"_\"&B4187,Lookups!$E:$F,2,FALSE))","v":""},""]
[null,null,null,null,null,"",null,"",null,null,"","",{"$f":"IF(OR(A4188=\"\",B4188=\"\"),\"\",VLOOKUP(A4188&\"_\"&B4188,Lookups!$E:$F,2,FALSE))","v":""},""]
[null,null,null,null,null,"",null,"",null,null,"","",{"$f":"IF(OR(A4189=\"\",B4189=\"\"),\"\",VLOOKUP(A4189&\"_\"&B4189,Lookups!$E:$F,2,FALSE))","v":""},""]
[null,null,null,null,null,"",null,"",null,null,"","",{"$f":"IF(OR(A4190=\"\",B4190=\"\"),\"\",VLOOKUP(A4190&\"_\"&B4190,Lookups!$E:$F,2,FALSE))","v":""},""]
[null,null,null,null,null,"",null,"",null,null,"","",{"$f":"IF(OR(A4191=\"\",B4191=\"\"),\"\",VLOOKUP(A4191&\"_\"&B4191,Lookups!$E:$F,2,FALSE))","v":""},""]
[null,null,null,null,null,"",null,"",null,null,"","",{"$f":"IF(OR(A4192=\"\",B4192=\"\"),\"\",VLOOKUP(A4192&\"_\"&B4192,Lookups!$E:$F,2,FALSE))","v":""},""]
[null,null,null,null,null,"",null,"",null,null,"","",{"$f":"IF(OR(A4193=\"\",B4193=\"\"),\"\",VLOOKUP(A4193&\"_\"&B4193,Lookups!$E:$F,2,FALSE))","v":""},""]
[null,null,null,null,null,"",null,"",null,null,"","",{"$f":"IF(OR(A4194=\"\",B4194=\"\"),\"\",VLOOKUP(A4194&\"_\"&B4194,Lookups!$E:$F,2,FALSE))","v":""},""]
[null,null,null,null,null,"",null,"",null,null,"","",{"$f":"IF(OR(A4195=\"\",B4195=\"\"),\"\",VLOOKUP(A4195&\"_\"&B4195,Lookups!$E:$F,2,FALSE))","v":""},""]
[null,null,null,null,null,"",null,"",null,null,"","",{"$f":"IF(OR(A4196=\"\",B4196=\"\"),\"\",VLOOKUP(A4196&\"_\"&B4196,Lookups!$E:$F,2,FALSE))","v":""},""]
[null,null,null,null,null,"",null,"",null,null,"","",{"$f":"IF(OR(A4197=\"\",B4197=\"\"),\"\",VLOOKUP(A4197&\"_\"&B4197,Lookups!$E:$F,2,FALSE))","v":""},""]
[null,null,null,null,null,"",null,"",null,null,"","",{"$f":"IF(OR(A4198=\"\",B4198=\"\"),\"\",VLOOKUP(A4198&\"_\"&B4198,Lookups!$E:$F,2,FALSE))","v":""},""]
[null,null,null,null,null,"",null,"",null,null,"","",{"$f":"IF(OR(A4199=\"\",B4199=\"\"),\"\",VLOOKUP(A4199&\"_\"&B4199,Lookups!$E:$F,2,FALSE))","v":""},""]
[null,null,null,null,null,"",null,"",null,null,"","",{"$f":"IF(OR(A4200=\"\",B4200=\"\"),\"\",VLOOKUP(A4200&\"_\"&B4200,Lookups!$E:$F,2,FALSE))","v":""},""]
[null,null,null,null,null,"",null,"",null,null,"","",{"$f":"IF(OR(A4201=\"\",B4201=\"\"),\"\",VLOOKUP(A4201&\"_\"&B4201,Lookups!$E:$F,2,FALSE))","v":""},""]
[null,null,null,null,null,"",null,"",null,null,"","",{"$f":"IF(OR(A4202=\"\",B4202=\"\"),\"\",VLOOKUP(A4202&\"_\"&B4202,Lookups!$E:$F,2,FALSE))","v":""},""]
[null,null,null,null,null,"",null,"",null,null,"","",{"$f":"IF(OR(A4203=\"\",B4203=\"\"),\"\",VLOOKUP(A4203&\"_\"&B4203,Lookups!$E:$F,2,FALSE))","v":""},""]
[null,null,null,null,null,"",null,"",null,null,"","",{"$f":"IF(OR(A4204=\"\",B4204=\"\"),\"\",VLOOKUP(A4204&\"_\"&B4204,Lookups!$E:$F,2,FALSE))","v":""},""]
[null,null,null,null,null,"",null,"",null,null,"","",{"$f":"IF(OR(A4205=\"\",B4205=\"\"),\"\",VLOOKUP(A4205&\"_\"&B4205,Lookups!$E:$F,2,FALSE))","v":""},""]
[null,null,null,null,null,"",null,"",null,null,"","",{"$f":"IF(OR(A4206=\"\",B4206=\"\"),\"\",VLOOKUP(A4206&\"_\"&B4206,Lookups!$E:$F,2,FALSE))","v":""},""]
[null,null,null,null,null,"",null,"",null,null,"","",{"$f":"IF(OR(A4207=\"\",B4207=\"\"),\"\",VLOOKUP(A4207&\"_\"&B4207,Lookups!$E:$F,2,FALSE))","v":""},""]
[null,null,null,null,null,"",null,"",null,null,"","",{"$f":"IF(OR(A4208=\"\",B4208=\"\"),\"\",VLOOKUP(A4208&\"_\"&B4208,Lookups!$E:$F,2,FALSE))","v":""},""]
[null,null,null,null,null,"",null,"",null,null,"","",{"$f":"IF(OR(A4209=\"\",B4209=\"\"),\"\",VLOOKUP(A4209&\"_\"&B4209,Lookups!$E:$F,2,FALSE))","v":""},""]
[null,null,null,null,null,"",null,"",null,null,"","",{"$f":"IF(OR(A4210=\"\",B4210=\"\"),\"\",VLOOKUP(A4210&\"_\"&B4210,Lookups!$E:$F,2,FALSE))","v":""},""]
[null,null,null,null,null,"",null,"",null,null,"","",{"$f":"IF(OR(A4211=\"\",B4211=\"\"),\"\",VLOOKUP(A4211&\"_\"&B4211,Lookups!$E:$F,2,FALSE))","v":""},""]
[null,null,null,null,null,"",null,"",null,null,"","",{"$f":"IF(OR(A4212=\"\",B4212=\"\"),\"\",VLOOKUP(A4212&\"_\"&B4212,Lookups!$E:$F,2,FALSE))","v":""},""]
[null,null,null,null,null,"",null,"",null,null,"","",{"$f":"IF(OR(A4213=\"\",B4213=\"\"),\"\",VLOOKUP(A4213&\"_\"&B4213,Lookups!$E:$F,2,FALSE))","v":""},""]
[null,null,null,null,null,"",null,"",null,null,"","",{"$f":"IF(OR(A4214=\"\",B4214=\"\"),\"\",VLOOKUP(A4214&\"_\"&B4214,Lookups!$E:$F,2,FALSE))","v":""},""]
[null,null,null,null,null,"",null,"",null,null,"","",{"$f":"IF(OR(A4215=\"\",B4215=\"\"),\"\",VLOOKUP(A4215&\"_\"&B4215,Lookups!$E:$F,2,FALSE))","v":""},""]
[null,null,null,null,null,"",null,"",null,null,"","",{"$f":"IF(OR(A4216=\"\",B4216=\"\"),\"\",VLOOKUP(A4216&\"_\"&B4216,Lookups!$E:$F,2,FALSE))","v":""},""]
[null,null,null,null,null,"",null,"",null,null,"","",{"$f":"IF(OR(A4217=\"\",B4217=\"\"),\"\",VLOOKUP(A4217&\"_\"&B4217,Lookups!$E:$F,2,FALSE))","v":""},""]
[null,null,null,null,null,"",null,"",null,null,"","",{"$f":"IF(OR(A4218=\"\",B4218=\"\"),\"\",VLOOKUP(A4218&\"_\"&B4218,Lookups!$E:$F,2,FALSE))","v":""},""]
[null,null,null,null,null,"",null,"",null,null,"","",{"$f":"IF(OR(A4219=\"\",B4219=\"\"),\"\",VLOOKUP(A4219&\"_\"&B4219,Lookups!$E:$F,2,FALSE))","v":""},""]
[null,null,null,null,null,"",null,"",null,null,"","",{"$f":"IF(OR(A4220=\"\",B4220=\"\"),\"\",VLOOKUP(A4220&\"_\"&B4220,Lookups!$E:$F,2,FALSE))","v":""},""]
[null,null,null,null,null,"",null,"",null,null,"","",{"$f":"IF(OR(A4221=\"\",B4221=\"\"),\"\",VLOOKUP(A4221&\"_\"&B4221,Lookups!$E:$F,2,FALSE))","v":""},""]
[null,null,null,null,null,"",null,"",null,null,"","",{"$f":"IF(OR(A4222=\"\",B4222=\"\"),\"\",VLOOKUP(A4222&\"_\"&B4222,Lookups!$E:$F,2,FALSE))","v":""},""]
[null,null,null,null,null,"",null,"",null,null,"","",{"$f":"IF(OR(A4223=\"\",B4223=\"\"),\"\",VLOOKUP(A4223&\"_\"&B4223,Lookups!$E:$F,2,FALSE))","v":""},""]
[null,null,null,null,null,"",null,"",null,null,"","",{"$f":"IF(OR(A4224=\"\",B4224=\"\"),\"\",VLOOKUP(A4224&\"_\"&B4224,Lookups!$E:$F,2,FALSE))","v":""},""]
[null,null,null,null,null,"",null,"",null,null,"","",{"$f":"IF(OR(A4225=\"\",B4225=\"\"),\"\",VLOOKUP(A4225&\"_\"&B4225,Lookups!$E:$F,2,FALSE))","v":""},""]
[null,null,null,null,null,"",null,"",null,null,"","",{"$f":"IF(OR(A4226=\"\",B4226=\"\"),\"\",VLOOKUP(A4226&\"_\"&B4226,Lookups!$E:$F,2,FALSE))","v":""},""]
[null,null,null,null,null,"",null,"",null,null,"","",{"$f":"IF(OR(A4227=\"\",B4227=\"\"),\"\",VLOOKUP(A4227&\"_\"&B4227,Lookups!$E:$F,2,FALSE))","v":""},""]
[null,null,null,null,null,{"$f":"IF(OR(D4228=\"\",E4228=\"\"),\"\",ROUND((E4228-D4228)*24,2))","v":""},null,{"$f":"IF(F4228=\"\",\"\",IF(G4228<>\"\",F4228*G4228,F4228))","v":""},null,null,{"$f":"IF(AND(H4228<>\"\",I4228=\"Paid\"),H4228,\"\")","v":""},{"$f":"IF(H4228=\"\",\"\",IF(K4228=\"\",H4228,H4228-K4228))","v":""},{"$f":"IF(OR(A4228=\"\",B4228=\"\"),\"\",VLOOKUP(A4228&\"_\"&B4228,Lookups!$E:$F,2,FALSE))","v":""},{"$f":"IF(AND(K4228=\"\",L4228=\"\"),\"\",IF(K4228=\"\",L4228*M4228,SUM(K4228,L4228)*M4228))","v":""}]
[null,null,null,null,null,"",null,"",null,null,"","",{"$f":"IF(OR(A4229=\"\",B4229=\"\"),\"\",VLOOKUP(A4229&\"_\"&B4229,Lookups!$E:$F,2,FALSE))","v":""},""]
[null,null,null,null,null,"",null,"",null,null,"","",{"$f":"IF(OR(A4230=\"\",B4230=\"\"),\"\",VLOOKUP(A4230&\"_\"&B4230,Lookups!$E:$F,2,FALSE))","v":""},""]
[null,null,null,null,null,"",null,"",null,null,"","",{"$f":"IF(OR(A4231=\"\",B4231=\"\"),\"\",VLOOKUP(A4231&\"_\"&B4231,Lookups!$E:$F,2,FALSE))","v":""},""]
[null,null,null,null,null,"",null,"",null,null,"","",{"$f":"IF(OR(A4232=\"\",B4232=\"\"),\"\",VLOOKUP(A4232&\"_\"&B4232,Lookups!$E:$F,2,FALSE))","v":""},""]
[null,null,null,null,null,"",null,"",null,null,"","",{"$f":"IF(OR(A4233=\"\",B4233=\"\"),\"\",VLOOKUP(A4233&\"_\"&B4233,Lookups!$E:$F,2,FALSE))","v":""},""]
[null,null,null,null,null,"",null,"",null,null,"","",{"$f":"IF(OR(A4234=\"\",B4234=\"\"),\"\",VLOOKUP(A4234&\"_\"&B4234,Lookups!$E:$F,2,FALSE))","v":""},""]
[null,null,null,null,null,"",null,"",null,null,"","",{"$f":"IF(OR(A4235=\"\",B4235=\"\"),\"\",VLOOKUP(A4235&\"_\"&B4235,Lookups!$E:$F,2,FALSE))","v":""},""]
[null,null,null,null,null,"",null,"",null,null,"","",{"$f":"IF(OR(A4236=\"\",B4236=\"\"),\"\",VLOOKUP(A4236&\"_\"&B4236,Lookups!$E:$F,2,FALSE))","v":""},""]
[null,null,null,null,null,"",null,"",null,null,"","",{"$f":"IF(OR(A4237=\"\",B4237=\"\"),\"\",VLOOKUP(A4237&\"_\"&B4237,Lookups!$E:$F,2,FALSE))","v":""},""]
[null,null,null,null,null,"",null,"",null,null,"","",{"$f":"IF(OR(A4238=\"\",B4238=\"\"),\"\",VLOOKUP(A4238&\"_\"&B4238,Lookups!$E:$F,2,FALSE))","v":""},""]
[null,null,null,null,null,"",null,"",null,null,"","",{"$f":"IF(OR(A4239=\"\",B4239=\"\"),\"\",VLOOKUP(A4239&\"_\"&B4239,Lookups!$E:$F,2,FALSE))","v":""},""]
[null,null,null,null,null,"",null,"",null,null,"","",{"$f":"IF(OR(A4240=\"\",B4240=\"\"),\"\",VLOOKUP(A4240&\"_\"&B4240,Lookups!$E:$F,2,FALSE))","v":""},""]
[null,null,null,null,null,"",null,"",null,null,"","",{"$f":"IF(OR(A4241=\"\",B4241=\"\"),\"\",VLOOKUP(A4241&\"_\"&B4241,Lookups!$E:$F,2,FALSE))","v":""},""]
[null,null,null,null,null,"",null,"",null,null,"","",{"$f":"IF(OR(A4242=\"\",B4242=\"\"),\"\",VLOOKUP(A4242&\"_\"&B4242,Lookups!$E:$F,2,FALSE))","v":""},""]
[null,null,null,null,null,"",null,"",null,null,"","",{"$f":"IF(OR(A4243=\"\",B4243=\"\"),\"\",VLOOKUP(A4243&\"_\"&B4243,Lookups!$E:$F,2,FALSE))","v":""},""]
[null,null,null,null,null,"",null,"",null,null,"","",{"$f":"IF(OR(A4244=\"\",B4244=\"\"),\"\",VLOOKUP(A4244&\"_\"&B4244,Lookups!$E:$F,2,FALSE))","v":""},""]
[null,null,null,null,null,"",null,"",null,null,"","",{"$f":"IF(OR(A4245=\"\",B4245=\"\"),\"\",VLOOKUP(A4245&\"_\"&B4245,Lookups!$E:$F,2,FALSE))","v":""},""]
[null,null,null,null,null,"",null,"",null,null,"","",{"$f":"IF(OR(A4246=\"\",B4246=\"\"),\"\",VLOOKUP(A4246&\"_\"&B4246,Lookups!$E:$F,2,FALSE))","v":""},""]
[null,null,null,null,null,"",null,"",null,null,"","",{"$f":"IF(OR(A4247=\"\",B4247=\"\"),\"\",VLOOKUP(A4247&\"_\"&B4247,Lookups!$E:$F,2,FALSE))","v":""},""]
[null,null,null,null,null,"",null,"",null,null,"","",{"$f":"IF(OR(A4248=\"\",B4248=\"\"),\"\",VLOOKUP(A4248&\"_\"&B4248,Lookups!$E:$F,2,FALSE))","v":""},""]
[null,null,null,null,null,"",null,"",null,null,"","",{"$f":"IF(OR(A4249=\"\",B4249=\"\"),\"\",VLOOKUP(A4249&\"_\"&B4249,Lookups!$E:$F,2,FALSE))","v":""},""]
[null,null,null,null,null,"",null,"",null,null,"","",{"$f":"IF(OR(A4250=\"\",B4250=\"\"),\"\",VLOOKUP(A4250&\"_\"&B4250,Lookups!$E:$F,2,FALSE))","v":""},""]
[null,null,null,null,null,"",null,"",null,null,"","",{"$f":"IF(OR(A4251=\"\",B4251=\"\"),\"\",VLOOKUP(A4251&\"_\"&B4251,Lookups!$E:$F,2,FALSE))","v":""},""]
[null,null,null,null,null,"",null,"",null,null,"","",{"$f":"IF(OR(A4252=\"\",B4252=\"\"),\"\",VLOOKUP(A4252&\"_\"&B4252,Lookups!$E:$F,2,FALSE))","v":""},""]
[null,null,null,null,null,"",null,"",null,null,"","",{"$f":"IF(OR(A4253=\"\",B4253=\"\"),\"\",VLOOKUP(A4253&\"_\"&B4253,Lookups!$E:$F,2,FALSE))","v":""},""]
[null,null,null,null,null,"",null,"",null,null,"","",{"$f":"IF(OR(A4254=\"\",B4254=\"\"),\"\",VLOOKUP(A4254&\"_\"&B4254,Lookups!$E:$F,2,FALSE))","v":""},""]
[null,null,null,null,null,"",null,"",null,null,"","",{"$f":"IF(OR(A4255=\"\",B4255=\"\"),\"\",VLOOKUP(A4255&\"_\"&B4255,Lookups!$E:$F,2,FALSE))","v":""},""]
[null,null,null,null,null,"",null,"",null,null,"","",{"$f":"IF(OR(A4256=\"\",B4256=\"\"),\"\",VLOOKUP(A4256&\"_\"&B4256,Lookups!$E:$F,2,FALSE))","v":""},""]
[null,null,null,null,null,"",null,"",null,null,"","",{"$f":"IF(OR(A4257=\"\",B4257=\"\"),\"\",VLOOKUP(A4257&\"_\"&B4257,Lookups!$E:$F,2,FALSE))","v":""},""]
[null,null,null,null,null,"",null,"",null,null,"","",{"$f":"IF(OR(A4258=\"\",B4258=\"\"),\"\",VLOOKUP(A4258&\"_\"&B4258,Lookups!$E:$F,2,FALSE))","v":""},""]
[null,null,null,null,null,"",null,"",null,null,"","",{"$f":"IF(OR(A4259=\"\",B4259=\"\"),\"\",VLOOKUP(A4259&\"_\"&B4259,Lookups!$E:$F,2,FALSE))","v":""},""]
[null,null,null,null,null,"",null,"",null,null,"","",{"$f":"IF(OR(A4260=\"\",B4260=\"\"),\"\",VLOOKUP(A4260&\"_\"&B4260,Lookups!$E:$F,2,FALSE))","v":""},""]
[null,null,null,null,null,"",null,"",null,null,"","",{"$f":"IF(OR(A4261=\"\",B4261=\"\"),\"\",VLOOKUP(A4261&\"_\"&B4261,Lookups!$E:$F,2,FALSE))","v":""},""]
[null,null,null,null,null,"",null,"",null,null,"","",{"$f":"IF(OR(A4262=\"\",B4262=\"\"),\"\",VLOOKUP(A4262&\"_\"&B4262,Lookups!$E:$F,2,FALSE))","v":""},""]
[null,null,null,null,null,"",null,"",null,null,"","",{"$f":"IF(OR(A4263=\"\",B4263=\"\"),\"\",VLOOKUP(A4263&\"_\"&B4263,Lookups!$E:$F,2,FALSE))","v":""},""]
[null,null,null,null,null,"",null,"",null,null,"","",{"$f":"IF(OR(A4264=\"\",B4264=\"\"),\"\",VLOOKUP(A4264&\"_\"&B4264,Lookups!$E:$F,2,FALSE))","v":""},""]
[null,null,null,null,null,"",null,"",null,null,"","",{"$f":"IF(OR(A4265=\"\",B4265=\"\"),\"\",VLOOKUP(A4265&\"_\"&B4265,Lookups!$E:$F,2,FALSE))","v":""},""]
[null,null,null,null,null,"",null,"",null,null,"","",{"$f":"IF(OR(A4266=\"\",B4266=\"\"),\"\",VLOOKUP(A4266&\"_\"&B4266,Lookups!$E:$F,2,FALSE))","v":""},""]
[null,null,null,null,null,"",null,"",null,null,"","",{"$f":"IF(OR(A4267=\"\",B4267=\"\"),\"\",VLOOKUP(A4267&\"_\"&B4267,Lookups!$E:$F,2,FALSE))","v":""},""]
[null,null,null,null,null,"",null,"",null,null,"","",{"$f":"IF(OR(A4268=\"\",B4268=\"\"),\"\",VLOOKUP(A4268&\"_\"&B4268,Lookups!$E:$F,2,FALSE))","v":""},""]
[null,null,null,null,null,"",null,"",null,null,"","",{"$f":"IF(OR(A4269=\"\",B4269=\"\"),\"\",VLOOKUP(A4269&\"_\"&B4269,Lookups!$E:$F,2,FALSE))","v":""},""]
[null,null,null,null,null,"",null,"",null,null,"","",{"$f":"IF(OR(A4270=\"\",B4270=\"\"),\"\",VLOOKUP(A4270&\"_\"&B4270,Lookups!$E:$F,2,FALSE))","v":""},""]
[null,null,null,null,null,"",null,"",null,null,"","",{"$f":"IF(OR(A4271=\"\",B4271=\"\"),\"\",VLOOKUP(A4271&\"_\"&B4271,Lookups!$E:$F,2,FALSE))","v":""},""]
[null,null,null,null,null,"",null,"",null,null,"","",{"$f":"IF(OR(A4272=\"\",B4272=\"\"),\"\",VLOOKUP(A4272&\"_\"&B4272,Lookups!$E:$F,2,FALSE))","v":""},""]
[null,null,null,null,null,"",null,"",null,null,"","",{"$f":"IF(OR(A4273=\"\",B4273=\"\"),\"\",VLOOKUP(A4273&\"_\"&B4273,Lookups!$E:$F,2,FALSE))","v":""},""]
[null,null,null,null,null,"",null,"",null,null,"","",{"$f":"IF(OR(A4274=\"\",B4274=\"\"),\"\",VLOOKUP(A4274&\"_\"&B4274,Lookups!$E:$F,2,FALSE))","v":""},""]
[null,null,null,null,null,"",null,"",null,null,"","",{"$f":"IF(OR(A4275=\"\",B4275=\"\"),\"\",VLOOKUP(A4275&\"_\"&B4275,Lookups!$E:$F,2,FALSE))","v":""},""]
[null,null,null,null,null,"",null,"",null,null,"","",{"$f":"IF(OR(A4276=\"\",B4276=\"\"),\"\",VLOOKUP(A4276&\"_\"&B4276,Lookups!$E:$F,2,FALSE))","v":""},""]
[null,null,null,null,null,"",null,"",null,null,"","",{"$f":"IF(OR(A4277=\"\",B4277=\"\"),\"\",VLOOKUP(A4277&\"_\"&B4277,Lookups!$E:$F,2,FALSE))","v":""},""]
[null,null,null,null,null,"",null,"",null,null,"","",{"$f":"IF(OR(A4278=\"\",B4278=\"\"),\"\",VLOOKUP(A4278&\"_\"&B4278,Lookups!$E:$F,2,FALSE))","v":""},""]
[null,null,null,null,null,"",null,"",null,null,"","",{"$f":"IF(OR(A4279=\"\",B4279=\"\"),\"\",VLOOKUP(A4279&\"_\"&B4279,Lookups!$E:$F,2,FALSE))","v":""},""]
[null,null,null,null,null,"",null,"",null,null,"","",{"$f":"IF(OR(A4280=\"\",B4280=\"\"),\"\",VLOOKUP(A4280&\"_\"&B4280,Lookups!$E:$F,2,FALSE))","v":""},""]
[null,null,null,null,null,"",null,"",null,null,"","",{"$f":"IF(OR(A4281=\"\",B4281=\"\"),\"\",VLOOKUP(A4281&\"_\"&B4281,Lookups!$E:$F,2,FALSE))","v":""},""]
[null,null,null,null,null,"",null,"",null,null,"","",{"$f":"IF(OR(A4282=\"\",B4282=\"\"),\"\",VLOOKUP(A4282&\"_\"&B4282,Lookups!$E:$F,2,FALSE))","v":""},""]
[null,null,null,null,null,"",null,"",null,null,"","",{"$f":"IF(OR(A4283=\"\",B4283=\"\"),\"\",VLOOKUP(A4283&\"_\"&B4283,Lookups!$E:$F,2,FALSE))","v":""},""]
[null,null,null,null,null,"",null,"",null,null,"","",{"$f":"IF(OR(A4284=\"\",B4284=\"\"),\"\",VLOOKUP(A4284&\"_\"&B4284,Lookups!$E:$F,2,FALSE))","v":""},""]
[null,null,null,null,null,"",null,"",null,null,"","",{"$f":"IF(OR(A4285=\"\",B4285=\"\"),\"\",VLOOKUP(A4285&\"_\"&B4285,Lookups!$E:$F,2,FALSE))","v":""},""]
[null,null,null,null,null,"",null,"",null,null,"","",{"$f":"IF(OR(A4286=\"\",B4286=\"\"),\"\",VLOOKUP(A4286&\"_\"&B4286,Lookups!$E:$F,2,FALSE))","v":""},""]
[null,null,null,null,null,"",null,"",null,null,"","",{"$f":"IF(OR(A4287=\"\",B4287=\"\"),\"\",VLOOKUP(A4287&\"_\"&B4287,Lookups!$E:$F,2,FALSE))","v":""},""]
[null,null,null,null,null,"",null,"",null,null,"","",{"$f":"IF(OR(A4288=\"\",B4288=\"\"),\"\",VLOOKUP(A4288&\"_\"&B4288,Lookups!$E:$F,2,FALSE))","v":""},""]
[null,null,null,null,null,"",null,"",null,null,"","",{"$f":"IF(OR(A4289=\"\",B4289=\"\"),\"\",VLOOKUP(A4289&\"_\"&B4289,Lookups!$E:$F,2,FALSE))","v":""},""]
[null,null,null,null,null,"",null,"",null,null,"","",{"$f":"IF(OR(A4290=\"\",B4290=\"\"),\"\",VLOOKUP(A4290&\"_\"&B4290,Lookups!$E:$F,2,FALSE))","v":""},""]
[null,null,null,null,null,"",null,"",null,null,"","",{"$f":"IF(OR(A4291=\"\",B4291=\"\"),\"\",VLOOKUP(A4291&\"_\"&B4291,Lookups!$E:$F,2,FALSE))","v":""},""]
[null,null,null,null,null,{"$f":"IF(OR(D4292=\"\",E4292=\"\"),\"\",ROUND((E4292-D4292)*24,2))","v":""},null,{"$f":"IF(F4292=\"\",\"\",IF(G4292<>\"\",F4292*G4292,F4292))","v":""},null,null,{"$f":"IF(AND(H4292<>\"\",I4292=\"Paid\"),H4292,\"\")","v":""},{"$f":"IF(H4292=\"\",\"\",IF(K4292=\"\",H4292,H4292-K4292))","v":""},{"$f":"IF(OR(A4292=\"\",B4292=\"\"),\"\",VLOOKUP(A4292&\"_\"&B4292,Lookups!$E:$F,2,FALSE))","v":""},{"$f":"IF(AND(K4292=\"\",L4292=\"\"),\"\",IF(K4292=\"\",L4292*M4292,SUM(K4292,L4292)*M4292))","v":""}]
[null,null,null,null,null,"",null,"",null,null,"","",{"$f":"IF(OR(A4293=\"\",B4293=\"\"),\"\",VLOOKUP(A4293&\"_\"&B4293,Lookups!$E:$F,2,FALSE))","v":""},""]
[null,null,null,null,null,"",null,"",null,null,"","",{"$f":"IF(OR(A4294=\"\",B4294=\"\"),\"\",VLOOKUP(A4294&\"_\"&B4294,Lookups!$E:$F,2,FALSE))","v":""},""]
[null,null,null,null,null,"",null,"",null,null,"","",{"$f":"IF(OR(A4295=\"\",B4295=\"\"),\"\",VLOOKUP(A4295&\"_\"&B4295,Lookups!$E:$F,2,FALSE))","v":""},""]
[null,null,null,null,null,"",null,"",null,null,"","",{"$f":"IF(OR(A4296=\"\",B4296=\"\"),\"\",VLOOKUP(A4296&\"_\"&B4296,Lookups!$E:$F,2,FALSE))","v":""},""]
[null,null,null,null,null,"",null,"",null,null,"","",{"$f":"IF(OR(A4297=\"\",B4297=\"\"),\"\",VLOOKUP(A4297&\"_\"&B4297,Lookups!$E:$F,2,FALSE))","v":""},""]
[null,null,null,null,null,"",null,"",null,null,"","",{"$f":"IF(OR(A4298=\"\",B4298=\"\"),\"\",VLOOKUP(A4298&\"_\"&B4298,Lookups!$E:$F,2,FALSE))","v":""},""]
[null,null,null,null,null,"",null,"",null,null,"","",{"$f":"IF(OR(A4299=\"\",B4299=\"\"),\"\",VLOOKUP(A4299&\"_\"&B4299,Lookups!$E:$F,2,FALSE))","v":""},""]
[null,null,null,null,null,"",null,"",null,null,"","",{"$f":"IF(OR(A4300=\"\",B4300=\"\"),\"\",VLOOKUP(A4300&\"_\"&B4300,Lookups!$E:$F,2,FALSE))","v":""},""]
[null,null,null,null,null,"",null,"",null,null,"","",{"$f":"IF(OR(A4301=\"\",B4301=\"\"),\"\",VLOOKUP(A4301&\"_\"&B4301,Lookups!$E:$F,2,FALSE))","v":""},""]
[null,null,null,null,null,"",null,"",null,null,"","",{"$f":"IF(OR(A4302=\"\",B4302=\"\"),\"\",VLOOKUP(A4302&\"_\"&B4302,Lookups!$E:$F,2,FALSE))","v":""},""]
[null,null,null,null,null,"",null,"",null,null,"","",{"$f":"IF(OR(A4303=\"\",B4303=\"\"),\"\",VLOOKUP(A4303&\"_\"&B4303,Lookups!$E:$F,2,FALSE))","v":""},""]
[null,null,null,null,null,"",null,"",null,null,"","",{"$f":"IF(OR(A4304=\"\",B4304=\"\"),\"\",VLOOKUP(A4304&\"_\"&B4304,Lookups!$E:$F,2,FALSE))","v":""},""]
[null,null,null,null,null,"",null,"",null,null,"","",{"$f":"IF(OR(A4305=\"\",B4305=\"\"),\"\",VLOOKUP(A4305&\"_\"&B4305,Lookups!$E:$F,2,FALSE))","v":""},""]
[null,null,null,null,null,"",null,"",null,null,"","",{"$f":"IF(OR(A4306=\"\",B4306=\"\"),\"\",VLOOKUP(A4306&\"_\"&B4306,Lookups!$E:$F,2,FALSE))","v":""},""]
[null,null,null,null,null,"",null,"",null,null,"","",{"$f":"IF(OR(A4307=\"\",B4307=\"\"),\"\",VLOOKUP(A4307&\"_\"&B4307,Lookups!$E:$F,2,FALSE))","v":""},""]
[null,null,null,null,null,"",null,"",null,null,"","",{"$f":"IF(OR(A4308=\"\",B4308=\"\"),\"\",VLOOKUP(A4308&\"_\"&B4308,Lookups!$E:$F,2,FALSE))","v":""},""]
[null,null,null,null,null,"",null,"",null,null,"","",{"$f":"IF(OR(A4309=\"\",B4309=\"\"),\"\",VLOOKUP(A4309&\"_\"&B4309,Lookups!$E:$F,2,FALSE))","v":""},""]
[null,null,null,null,null,"",null,"",null,null,"","",{"$f":"IF(OR(A4310=\"\",B4310=\"\"),\"\",VLOOKUP(A4310&\"_\"&B4310,Lookups!$E:$F,2,FALSE))","v":""},""]
[null,null,null,null,null,"",null,"",null,null,"","",{"$f":"IF(OR(A4311=\"\",B4311=\"\"),\"\",VLOOKUP(A4311&\"_\"&B4311,Lookups!$E:$F,2,FALSE))","v":""},""]
[null,null,null,null,null,"",null,"",null,null,"","",{"$f":"IF(OR(A4312=\"\",B4312=\"\"),\"\",VLOOKUP(A4312&\"_\"&B4312,Lookups!$E:$F,2,FALSE))","v":""},""]
[null,null,null,null,null,"",null,"",null,null,"","",{"$f":"IF(OR(A4313=\"\",B4313=\"\"),\"\",VLOOKUP(A4313&\"_\"&B4313,Lookups!$E:$F,2,FALSE))","v":""},""]
[null,null,null,null,null,"",null,"",null,null,"","",{"$f":"IF(OR(A4314=\"\",B4314=\"\"),\"\",VLOOKUP(A4314&\"_\"&B4314,Lookups!$E:$F,2,FALSE))","v":""},""]
[null,null,null,null,null,"",null,"",null,null,"","",{"$f":"IF(OR(A4315=\"\",B4315=\"\"),\"\",VLOOKUP(A4315&\"_\"&B4315,Lookups!$E:$F,2,FALSE))","v":""},""]
[null,null,null,null,null,"",null,"",null,null,"","",{"$f":"IF(OR(A4316=\"\",B4316=\"\"),\"\",VLOOKUP(A4316&\"_\"&B4316,Lookups!$E:$F,2,FALSE))","v":""},""]
[null,null,null,null,null,"",null,"",null,null,"","",{"$f":"IF(OR(A4317=\"\",B4317=\"\"),\"\",VLOOKUP(A4317&\"_\"&B4317,Lookups!$E:$F,2,FALSE))","v":""},""]
[null,null,null,null,null,"",null,"",null,null,"","",{"$f":"IF(OR(A4318=\"\",B4318=\"\"),\"\",VLOOKUP(A4318&\"_\"&B4318,Lookups!$E:$F,2,FALSE))","v":""},""]
[null,null,null,null,null,"",null,"",null,null,"","",{"$f":"IF(OR(A4319=\"\",B4319=\"\"),\"\",VLOOKUP(A4319&\"_\"&B4319,Lookups!$E:$F,2,FALSE))","v":""},""]
[null,null,null,null,null,"",null,"",null,null,"","",{"$f":"IF(OR(A4320=\"\",B4320=\"\"),\"\",VLOOKUP(A4320&\"_\"&B4320,Lookups!$E:$F,2,FALSE))","v":""},""]
[null,null,null,null,null,"",null,"",null,null,"","",{"$f":"IF(OR(A4321=\"\",B4321=\"\"),\"\",VLOOKUP(A4321&\"_\"&B4321,Lookups!$E:$F,2,FALSE))","v":""},""]
[null,null,null,null,null,"",null,"",null,null,"","",{"$f":"IF(OR(A4322=\"\",B4322=\"\"),\"\",VLOOKUP(A4322&\"_\"&B4322,Lookups!$E:$F,2,FALSE))","v":""},""]
[null,null,null,null,null,"",null,"",null,null,"","",{"$f":"IF(OR(A4323=\"\",B4323=\"\"),\"\",VLOOKUP(A4323&\"_\"&B4323,Lookups!$E:$F,2,FALSE))","v":""},""]
[null,null,null,null,null,"",null,"",null,null,"","",{"$f":"IF(OR(A4324=\"\",B4324=\"\"),\"\",VLOOKUP(A4324&\"_\"&B4324,Lookups!$E:$F,2,FALSE))","v":""},""]
[null,null,null,null,null,"",null,"",null,null,"","",{"$f":"IF(OR(A4325=\"\",B4325=\"\"),\"\",VLOOKUP(A4325&\"_\"&B4325,Lookups!$E:$F,2,FALSE))","v":""},""]
[null,null,null,null,null,"",null,"",null,null,"","",{"$f":"IF(OR(A4326=\"\",B4326=\"\"),\"\",VLOOKUP(A4326&\"_\"&B4326,Lookups!$E:$F,2,FALSE))","v":""},""]
[null,null,null,null,null,"",null,"",null,null,"","",{"$f":"IF(OR(A4327=\"\",B4327=\"\"),\"\",VLOOKUP(A4327&\"_\"&B4327,Lookups!$E:$F,2,FALSE))","v":""},""]
[null,null,null,null,null,"",null,"",null,null,"","",{"$f":"IF(OR(A4328=\"\",B4328=\"\"),\"\",VLOOKUP(A4328&\"_\"&B4328,Lookups!$E:$F,2,FALSE))","v":""},""]
[null,null,null,null,null,"",null,"",null,null,"","",{"$f":"IF(OR(A4329=\"\",B4329=\"\"),\"\",VLOOKUP(A4329&\"_\"&B4329,Lookups!$E:$F,2,FALSE))","v":""},""]
[null,null,null,null,null,"",null,"",null,null,"","",{"$f":"IF(OR(A4330=\"\",B4330=\"\"),\"\",VLOOKUP(A4330&\"_\"&B4330,Lookups!$E:$F,2,FALSE))","v":""},""]
[null,null,null,null,null,"",null,"",null,null,"","",{"$f":"IF(OR(A4331=\"\",B4331=\"\"),\"\",VLOOKUP(A4331&\"_\"&B4331,Lookups!$E:$F,2,FALSE))","v":""},""]
[null,null,null,null,null,"",null,"",null,null,"","",{"$f":"IF(OR(A4332=\"\",B4332=\"\"),\"\",VLOOKUP(A4332&\"_\"&B4332,Lookups!$E:$F,2,FALSE))","v":""},""]
[null,null,null,null,null,"",null,"",null,null,"","",{"$f":"IF(OR(A4333=\"\",B4333=\"\"),\"\",VLOOKUP(A4333&\"_\"&B4333,Lookups!$E:$F,2,FALSE))","v":""},""]
[null,null,null,null,null,"",null,"",null,null,"","",{"$f":"IF(OR(A4334=\"\",B4334=\"\"),\"\",VLOOKUP(A4334&\"_\"&B4334,Lookups!$E:$F,2,FALSE))","v":""},""]
[null,null,null,null,null,"",null,"",null,null,"","",{"$f":"IF(OR(A4335=\"\",B4335=\"\"),\"\",VLOOKUP(A4335&\"_\"&B4335,Lookups!$E:$F,2,FALSE))","v":""},""]
[null,null,null,null,null,"",null,"",null,null,"","",{"$f":"IF(OR(A4336=\"\",B4336=\"\"),\"\",VLOOKUP(A4336&\"_\"&B4336,Lookups!$E:$F,2,FALSE))","v":""},""]
[null,null,null,null,null,"",null,"",null,null,"","",{"$f":"IF(OR(A4337=\"\",B4337=\"\"),\"\",VLOOKUP(A4337&\"_\"&B4337,Lookups!$E:$F,2,FALSE))","v":""},""]
[null,null,null,null,null,"",null,"",null,null,"","",{"$f":"IF(OR(A4338=\"\",B4338=\"\"),\"\",VLOOKUP(A4338&\"_\"&B4338,Lookups!$E:$F,2,FALSE))","v":""},""]
[null,null,null,null,null,"",null,"",null,null,"","",{"$f":"IF(OR(A4339=\"\",B4339=\"\"),\"\",VLOOKUP(A4339&\"_\"&B4339,Lookups!$E:$F,2,FALSE))","v":""},""]
[null,null,null,null,null,"",null,"",null,null,"","",{"$f":"IF(OR(A4340=\"\",B4340=\"\"),\"\",VLOOKUP(A4340&\"_\"&B4340,Lookups!$E:$F,2,FALSE))","v":""},""]
[null,null,null,null,null,"",null,"",null,null,"","",{"$f":"IF(OR(A4341=\"\",B4341=\"\"),\"\",VLOOKUP(A4341&\"_\"&B4341,Lookups!$E:$F,2,FALSE))","v":""},""]
[null,null,null,null,null,"",null,"",null,null,"","",{"$f":"IF(OR(A4342=\"\",B4342=\"\"),\"\",VLOOKUP(A4342&\"_\"&B4342,Lookups!$E:$F,2,FALSE))","v":""},""]
[null,null,null,null,null,"",null,"",null,null,"","",{"$f":"IF(OR(A4343=\"\",B4343=\"\"),\"\",VLOOKUP(A4343&\"_\"&B4343,Lookups!$E:$F,2,FALSE))","v":""},""]
[null,null,null,null,null,"",null,"",null,null,"","",{"$f":"IF(OR(A4344=\"\",B4344=\"\"),\"\",VLOOKUP(A4344&\"_\"&B4344,Lookups!$E:$F,2,FALSE))","v":""},""]
[null,null,null,null,null,"",null,"",null,null,"","",{"$f":"IF(OR(A4345=\"\",B4345=\"\"),\"\",VLOOKUP(A4345&\"_\"&B4345,Lookups!$E:$F,2,FALSE))","v":""},""]
[null,null,null,null,null,"",null,"",null,null,"","",{"$f":"IF(OR(A4346=\"\",B4346=\"\"),\"\",VLOOKUP(A4346&\"_\"&B4346,Lookups!$E:$F,2,FALSE))","v":""},""]
[null,null,null,null,null,"",null,"",null,null,"","",{"$f":"IF(OR(A4347=\"\",B4347=\"\"),\"\",VLOOKUP(A4347&\"_\"&B4347,Lookups!$E:$F,2,FALSE))","v":""},""]
[null,null,null,null,null,"",null,"",null,null,"","",{"$f":"IF(OR(A4348=\"\",B4348=\"\"),\"\",VLOOKUP(A4348&\"_\"&B4348,Lookups!$E:$F,2,FALSE))","v":""},""]
[null,null,null,null,null,"",null,"",null,null,"","",{"$f":"IF(OR(A4349=\"\",B4349=\"\"),\"\",VLOOKUP(A4349&\"_\"&B4349,Lookups!$E:$F,2,FALSE))","v":""},""]
[null,null,null,null,null,"",null,"",null,null,"","",{"$f":"IF(OR(A4350=\"\",B4350=\"\"),\"\",VLOOKUP(A4350&\"_\"&B4350,Lookups!$E:$F,2,FALSE))","v":""},""]
[null,null,null,null,null,"",null,"",null,null,"","",{"$f":"IF(OR(A4351=\"\",B4351=\"\"),\"\",VLOOKUP(A4351&\"_\"&B4351,Lookups!$E:$F,2,FALSE))","v":""},""]
[null,null,null,null,null,"",null,"",null,null,"","",{"$f":"IF(OR(A4352=\"\",B4352=\"\"),\"\",VLOOKUP(A4352&\"_\"&B4352,Lookups!$E:$F,2,FALSE))","v":""},""]
[null,null,null,null,null,"",null,"",null,null,"","",{"$f":"IF(OR(A4353=\"\",B4353=\"\"),\"\",VLOOKUP(A4353&\"_\"&B4353,Lookups!$E:$F,2,FALSE))","v":""},""]
[null,null,null,null,null,"",null,"",null,null,"","",{"$f":"IF(OR(A4354=\"\",B4354=\"\"),\"\",VLOOKUP(A4354&\"_\"&B4354,Lookups!$E:$F,2,FALSE))","v":""},""]
[null,null,null,null,null,"",null,"",null,null,"","",{"$f":"IF(OR(A4355=\"\",B4355=\"\"),\"\",VLOOKUP(A4355&\"_\"&B4355,Lookups!$E:$F,2,FALSE))","v":""},""]
[null,null,null,null,null,{"$f":"IF(OR(D4356=\"\",E4356=\"\"),\"\",ROUND((E4356-D4356)*24,2))","v":""},null,{"$f":"IF(F4356=\"\",\"\",IF(G4356<>\"\",F4356*G4356,F4356))","v":""},null,null,{"$f":"IF(AND(H4356<>\"\",I4356=\"Paid\"),H4356,\"\")","v":""},{"$f":"IF(H4356=\"\",\"\",IF(K4356=\"\",H4356,H4356-K4356))","v":""},{"$f":"IF(OR(A4356=\"\",B4356=\"\"),\"\",VLOOKUP(A4356&\"_\"&B4356,Lookups!$E:$F,2,FALSE))","v":""},{"$f":"IF(AND(K4356=\"\",L4356=\"\"),\"\",IF(K4356=\"\",L4356*M4356,SUM(K4356,L4356)*M4356))","v":""}]
[null,null,null,null,null,"",null,"",null,null,"","",{"$f":"IF(OR(A4357=\"\",B4357=\"\"),\"\",VLOOKUP(A4357&\"_\"&B4357,Lookups!$E:$F,2,FALSE))","v":""},""]
[null,null,null,null,null,"",null,"",null,null,"","",{"$f":"IF(OR(A4358=\"\",B4358=\"\"),\"\",VLOOKUP(A4358&\"_\"&B4358,Lookups!$E:$F,2,FALSE))","v":""},""]
[null,null,null,null,null,"",null,"",null,null,"","",{"$f":"IF(OR(A4359=\"\",B4359=\"\"),\"\",VLOOKUP(A4359&\"_\"&B4359,Lookups!$E:$F,2,FALSE))","v":""},""]
[null,null,null,null,null,"",null,"",null,null,"","",{"$f":"IF(OR(A4360=\"\",B4360=\"\"),\"\",VLOOKUP(A4360&\"_\"&B4360,Lookups!$E:$F,2,FALSE))","v":""},""]
[null,null,null,null,null,"",null,"",null,null,"","",{"$f":"IF(OR(A4361=\"\",B4361=\"\"),\"\",VLOOKUP(A4361&\"_\"&B4361,Lookups!$E:$F,2,FALSE))","v":""},""]
[null,null,null,null,null,"",null,"",null,null,"","",{"$f":"IF(OR(A4362=\"\",B4362=\"\"),\"\",VLOOKUP(A4362&\"_\"&B4362,Lookups!$E:$F,2,FALSE))","v":""},""]
[null,null,null,null,null,"",null,"",null,null,"","",{"$f":"IF(OR(A4363=\"\",B4363=\"\"),\"\",VLOOKUP(A4363&\"_\"&B4363,Lookups!$E:$F,2,FALSE))","v":""},""]
[null,null,null,null,null,"",null,"",null,null,"","",{"$f":"IF(OR(A4364=\"\",B4364=\"\"),\"\",VLOOKUP(A4364&\"_\"&B4364,Lookups!$E:$F,2,FALSE))","v":""},""]
[null,null,null,null,null,"",null,"",null,null,"","",{"$f":"IF(OR(A4365=\"\",B4365=\"\"),\"\",VLOOKUP(A4365&\"_\"&B4365,Lookups!$E:$F,2,FALSE))","v":""},""]
[null,null,null,null,null,"",null,"",null,null,"","",{"$f":"IF(OR(A4366=\"\",B4366=\"\"),\"\",VLOOKUP(A4366&\"_\"&B4366,Lookups!$E:$F,2,FALSE))","v":""},""]
[null,null,null,null,null,"",null,"",null,null,"","",{"$f":"IF(OR(A4367=\"\",B4367=\"\"),\"\",VLOOKUP(A4367&\"_\"&B4367,Lookups!$E:$F,2,FALSE))","v":""},""]
[null,null,null,null,null,"",null,"",null,null,"","",{"$f":"IF(OR(A4368=\"\",B4368=\"\"),\"\",VLOOKUP(A4368&\"_\"&B4368,Lookups!$E:$F,2,FALSE))","v":""},""]
[null,null,null,null,null,"",null,"",null,null,"","",{"$f":"IF(OR(A4369=\"\",B4369=\"\"),\"\",VLOOKUP(A4369&\"_\"&B4369,Lookups!$E:$F,2,FALSE))","v":""},""]
[null,null,null,null,null,"",null,"",null,null,"","",{"$f":"IF(OR(A4370=\"\",B4370=\"\"),\"\",VLOOKUP(A4370&\"_\"&B4370,Lookups!$E:$F,2,FALSE))","v":""},""]
[null,null,null,null,null,"",null,"",null,null,"","",{"$f":"IF(OR(A4371=\"\",B4371=\"\"),\"\",VLOOKUP(A4371&\"_\"&B4371,Lookups!$E:$F,2,FALSE))","v":""},""]
[null,null,null,null,null,"",null,"",null,null,"","",{"$f":"IF(OR(A4372=\"\",B4372=\"\"),\"\",VLOOKUP(A4372&\"_\"&B4372,Lookups!$E:$F,2,FALSE))","v":""},""]
[null,null,null,null,null,"",null,"",null,null,"","",{"$f":"IF(OR(A4373=\"\",B4373=\"\"),\"\",VLOOKUP(A4373&\"_\"&B4373,Lookups!$E:$F,2,FALSE))","v":""},""]
[null,null,null,null,null,"",null,"",null,null,"","",{"$f":"IF(OR(A4374=\"\",B4374=\"\"),\"\",VLOOKUP(A4374&\"_\"&B4374,Lookups!$E:$F,2,FALSE))","v":""},""]
[null,null,null,null,null,"",null,"",null,null,"","",{"$f":"IF(OR(A4375=\"\",B4375=\"\"),\"\",VLOOKUP(A4375&\"_\"&B4375,Lookups!$E:$F,2,FALSE))","v":""},""]
[null,null,null,null,null,"",null,"",null,null,"","",{"$f":"IF(OR(A4376=\"\",B4376=\"\"),\"\",VLOOKUP(A4376&\"_\"&B4376,Lookups!$E:$F,2,FALSE))","v":""},""]
[null,null,null,null,null,"",null,"",null,null,"","",{"$f":"IF(OR(A4377=\"\",B4377=\"\"),\"\",VLOOKUP(A4377&\"_\"&B4377,Lookups!$E:$F,2,FALSE))","v":""},""]
[null,null,null,null,null,"",null,"",null,null,"","",{"$f":"IF(OR(A4378=\"\",B4378=\"\"),\"\",VLOOKUP(A4378&\"_\"&B4378,Lookups!$E:$F,2,FALSE))","v":""},""]
[null,null,null,null,null,"",null,"",null,null,"","",{"$f":"IF(OR(A4379=\"\",B4379=\"\"),\"\",VLOOKUP(A4379&\"_\"&B4379,Lookups!$E:$F,2,FALSE))","v":""},""]
[null,null,null,null,null,"",null,"",null,null,"","",{"$f":"IF(OR(A4380=\"\",B4380=\"\"),\"\",VLOOKUP(A4380&\"_\"&B4380,Lookups!$E:$F,2,FALSE))","v":""},""]
[null,null,null,null,null,"",null,"",null,null,"","",{"$f":"IF(OR(A4381=\"\",B4381=\"\"),\"\",VLOOKUP(A4381&\"_\"&B4381,Lookups!$E:$F,2,FALSE))","v":""},""]
[null,null,null,null,null,"",null,"",null,null,"","",{"$f":"IF(OR(A4382=\"\",B4382=\"\"),\"\",VLOOKUP(A4382&\"_\"&B4382,Lookups!$E:$F,2,FALSE))","v":""},""]
[null,null,null,null,null,"",null,"",null,null,"","",{"$f":"IF(OR(A4383=\"\",B4383=\"\"),\"\",VLOOKUP(A4383&\"_\"&B4383,Lookups!$E:$F,2,FALSE))","v":""},""]
[null,null,null,null,null,"",null,"",null,null,"","",{"$f":"IF(OR(A4384=\"\",B4384=\"\"),\"\",VLOOKUP(A4384&\"_\"&B4384,Lookups!$E:$F,2,FALSE))","v":""},""]
[null,null,null,null,null,"",null,"",null,null,"","",{"$f":"IF(OR(A4385=\"\",B4385=\"\"),\"\",VLOOKUP(A4385&\"_\"&B4385,Lookups!$E:$F,2,FALSE))","v":""},""]
[null,null,null,null,null,"",null,"",null,null,"","",{"$f":"IF(OR(A4386=\"\",B4386=\"\"),\"\",VLOOKUP(A4386&\"_\"&B4386,Lookups!$E:$F,2,FALSE))","v":""},""]
[null,null,null,null,null,"",null,"",null,null,"","",{"$f":"IF(OR(A4387=\"\",B4387=\"\"),\"\",VLOOKUP(A4387&\"_\"&B4387,Lookups!$E:$F,2,FALSE))","v":""},""]
[null,null,null,null,null,"",null,"",null,null,"","",{"$f":"IF(OR(A4388=\"\",B4388=\"\"),\"\",VLOOKUP(A4388&\"_\"&B4388,Lookups!$E:$F,2,FALSE))","v":""},""]
[null,null,null,null,null,"",null,"",null,null,"","",{"$f":"IF(OR(A4389=\"\",B4389=\"\"),\"\",VLOOKUP(A4389&\"_\"&B4389,Lookups!$E:$F,2,FALSE))","v":""},""]
[null,null,null,null,null,"",null,"",null,null,"","",{"$f":"IF(OR(A4390=\"\",B4390=\"\"),\"\",VLOOKUP(A4390&\"_\"&B4390,Lookups!$E:$F,2,FALSE))","v":""},""]
[null,null,null,null,null,"",null,"",null,null,"","",{"$f":"IF(OR(A4391=\"\",B4391=\"\"),\"\",VLOOKUP(A4391&\"_\"&B4391,Lookups!$E:$F,2,FALSE))","v":""},""]
[null,null,null,null,null,"",null,"",null,null,"","",{"$f":"IF(OR(A4392=\"\",B4392=\"\"),\"\",VLOOKUP(A4392&\"_\"&B4392,Lookups!$E:$F,2,FALSE))","v":""},""]
[null,null,null,null,null,"",null,"",null,null,"","",{"$f":"IF(OR(A4393=\"\",B4393=\"\"),\"\",VLOOKUP(A4393&\"_\"&B4393,Lookups!$E:$F,2,FALSE))","v":""},""]
[null,null,null,null,null,"",null,"",null,null,"","",{"$f":"IF(OR(A4394=\"\",B4394=\"\"),\"\",VLOOKUP(A4394&\"_\"&B4394,Lookups!$E:$F,2,FALSE))","v":""},""]
[null,null,null,null,null,"",null,"",null,null,"","",{"$f":"IF(OR(A4395=\"\",B4395=\"\"),\"\",VLOOKUP(A4395&\"_\"&B4395,Lookups!$E:$F,2,FALSE))","v":""},""]
[null,null,null,null,null,"",null,"",null,null,"","",{"$f":"IF(OR(A4396=\"\",B4396=\"\"),\"\",VLOOKUP(A4396&\"_\"&B4396,Lookups!$E:$F,2,FALSE))","v":""},""]
[null,null,null,null,null,"",null,"",null,null,"","",{"$f":"IF(OR(A4397=\"\",B4397=\"\"),\"\",VLOOKUP(A4397&\"_\"&B4397,Lookups!$E:$F,2,FALSE))","v":""},""]
[null,null,null,null,null,"",null,"",null,null,"","",{"$f":"IF(OR(A4398=\"\",B4398=\"\"),\"\",VLOOKUP(A4398&\"_\"&B4398,Lookups!$E:$F,2,FALSE))","v":""},""]
[null,null,null,null,null,"",null,"",null,null,"","",{"$f":"IF(OR(A4399=\"\",B4399=\"\"),\"\",VLOOKUP(A4399&\"_\"&B4399,Lookups!$E:$F,2,FALSE))","v":""},""]
[null,null,null,null,null,"",null,"",null,null,"","",{"$f":"IF(OR(A4400=\"\",B4400=\"\"),\"\",VLOOKUP(A4400&\"_\"&B4400,Lookups!$E:$F,2,FALSE))","v":""},""]
[null,null,null,null,null,"",null,"",null,null,"","",{"$f":"IF(OR(A4401=\"\",B4401=\"\"),\"\",VLOOKUP(A4401&\"_\"&B4401,Lookups!$E:$F,2,FALSE))","v":""},""]
[null,null,null,null,null,"",null,"",null,null,"","",{"$f":"IF(OR(A4402=\"\",B4402=\"\"),\"\",VLOOKUP(A4402&\"_\"&B4402,Lookups!$E:$F,2,FALSE))","v":""},""]
[null,null,null,null,null,"",null,"",null,null,"","",{"$f":"IF(OR(A4403=\"\",B4403=\"\"),\"\",VLOOKUP(A4403&\"_\"&B4403,Lookups!$E:$F,2,FALSE))","v":""},""]
[null,null,null,null,null,"",null,"",null,null,"","",{"$f":"IF(OR(A4404=\"\",B4404=\"\"),\"\",VLOOKUP(A4404&\"_\"&B4404,Lookups!$E:$F,2,FALSE))","v":""},""]
[null,null,null,null,null,"",null,"",null,null,"","",{"$f":"IF(OR(A4405=\"\",B4405=\"\"),\"\",VLOOKUP(A4405&\"_\"&B4405,Lookups!$E:$F,2,FALSE))","v":""},""]
[null,null,null,null,null,"",null,"",null,null,"","",{"$f":"IF(OR(A4406=\"\",B4406=\"\"),\"\",VLOOKUP(A4406&\"_\"&B4406,Lookups!$E:$F,2,FALSE))","v":""},""]
[null,null,null,null,null,"",null,"",null,null,"","",{"$f":"IF(OR(A4407=\"\",B4407=\"\"),\"\",VLOOKUP(A4407&\"_\"&B4407,Lookups!$E:$F,2,FALSE))","v":""},""]
[null,null,null,null,null,"",null,"",null,null,"","",{"$f":"IF(OR(A4408=\"\",B4408=\"\"),\"\",VLOOKUP(A4408&\"_\"&B4408,Lookups!$E:$F,2,FALSE))","v":""},""]
[null,null,null,null,null,"",null,"",null,null,"","",{"$f":"IF(OR(A4409=\"\",B4409=\"\"),\"\",VLOOKUP(A4409&\"_\"&B4409,Lookups!$E:$F,2,FALSE))","v":""},""]
[null,null,null,null,null,"",null,"",null,null,"","",{"$f":"IF(OR(A4410=\"\",B4410=\"\"),\"\",VLOOKUP(A4410&\"_\"&B4410,Lookups!$E:$F,2,FALSE))","v":""},""]
[null,null,null,null,null,"",null,"",null,null,"","",{"$f":"IF(OR(A4411=\"\",B4411=\"\"),\"\",VLOOKUP(A4411&\"_\"&B4411,Lookups!$E:$F,2,FALSE))","v":""},""]
[null,null,null,null,null,"",null,"",null,null,"","",{"$f":"IF(OR(A4412=\"\",B4412=\"\"),\"\",VLOOKUP(A4412&\"_\"&B4412,Lookups!$E:$F,2,FALSE))","v":""},""]
[null,null,null,null,null,"",null,"",null,null,"","",{"$f":"IF(OR(A4413=\"\",B4413=\"\"),\"\",VLOOKUP(A4413&\"_\"&B4413,Lookups!$E:$F,2,FALSE))","v":""},""]
[null,null,null,null,null,"",null,"",null,null,"","",{"$f":"IF(OR(A4414=\"\",B4414=\"\"),\"\",VLOOKUP(A4414&\"_\"&B4414,Lookups!$E:$F,2,FALSE))","v":""},""]
[null,null,null,null,null,"",null,"",null,null,"","",{"$f":"IF(OR(A4415=\"\",B4415=\"\"),\"\",VLOOKUP(A4415&\"_\"&B4415,Lookups!$E:$F,2,FALSE))","v":""},""]
[null,null,null,null,null,"",null,"",null,null,"","",{"$f":"IF(OR(A4416=\"\",B4416=\"\"),\"\",VLOOKUP(A4416&\"_\"&B4416,Lookups!$E:$F,2,FALSE))","v":""},""]
[null,null,null,null,null,"",null,"",null,null,"","",{"$f":"IF(OR(A4417=\"\",B4417=\"\"),\"\",VLOOKUP(A4417&\"_\"&B4417,Lookups!$E:$F,2,FALSE))","v":""},""]
[null,null,null,null,null,"",null,"",null,null,"","",{"$f":"IF(OR(A4418=\"\",B4418=\"\"),\"\",VLOOKUP(A4418&\"_\"&B4418,Lookups!$E:$F,2,FALSE))","v":""},""]
[null,null,null,null,null,"",null,"",null,null,"","",{"$f":"IF(OR(A4419=\"\",B4419=\"\"),\"\",VLOOKUP(A4419&\"_\"&B4419,Lookups!$E:$F,2,FALSE))","v":""},""]
[null,null,null,null,null,{"$f":"IF(OR(D4420=\"\",E4420=\"\"),\"\",ROUND((E4420-D4420)*24,2))","v":""},null,{"$f":"IF(F4420=\"\",\"\",IF(G4420<>\"\",F4420*G4420,F4420))","v":""},null,null,{"$f":"IF(AND(H4420<>\"\",I4420=\"Paid\"),H4420,\"\")","v":""},{"$f":"IF(H4420=\"\",\"\",IF(K4420=\"\",H4420,H4420-K4420))","v":""},{"$f":"IF(OR(A4420=\"\",B4420=\"\"),\"\",VLOOKUP(A4420&\"_\"&B4420,Lookups!$E:$F,2,FALSE))","v":""},{"$f":"IF(AND(K4420=\"\",L4420=\"\"),\"\",IF(K4420=\"\",L4420*M4420,SUM(K4420,L4420)*M4420))","v":""}]
[null,null,null,null,null,"",null,"",null,null,"","",{"$f":"IF(OR(A4421=\"\",B4421=\"\"),\"\",VLOOKUP(A4421&\"_\"&B4421,Lookups!$E:$F,2,FALSE))","v":""},""]
[null,null,null,null,null,"",null,"",null,null,"","",{"$f":"IF(OR(A4422=\"\",B4422=\"\"),\"\",VLOOKUP(A4422&\"_\"&B4422,Lookups!$E:$F,2,FALSE))","v":""},""]
[null,null,null,null,null,"",null,"",null,null,"","",{"$f":"IF(OR(A4423=\"\",B4423=\"\"),\"\",VLOOKUP(A4423&\"_\"&B4423,Lookups!$E:$F,2,FALSE))","v":""},""]
[null,null,null,null,null,"",null,"",null,null,"","",{"$f":"IF(OR(A4424=\"\",B4424=\"\"),\"\",VLOOKUP(A4424&\"_\"&B4424,Lookups!$E:$F,2,FALSE))","v":""},""]
[null,null,null,null,null,"",null,"",null,null,"","",{"$f":"IF(OR(A4425=\"\",B4425=\"\"),\"\",VLOOKUP(A4425&\"_\"&B4425,Lookups!$E:$F,2,FALSE))","v":""},""]
[null,null,null,null,null,"",null,"",null,null,"","",{"$f":"IF(OR(A4426=\"\",B4426=\"\"),\"\",VLOOKUP(A4426&\"_\"&B4426,Lookups!$E:$F,2,FALSE))","v":""},""]
[null,null,null,null,null,"",null,"",null,null,"","",{"$f":"IF(OR(A4427=\"\",B4427=\"\"),\"\",VLOOKUP(A4427&\"_\"&B4427,Lookups!$E:$F,2,FALSE))","v":""},""]
[null,null,null,null,null,"",null,"",null,null,"","",{"$f":"IF(OR(A4428=\"\",B4428=\"\"),\"\",VLOOKUP(A4428&\"_\"&B4428,Lookups!$E:$F,2,FALSE))","v":""},""]
[null,null,null,null,null,"",null,"",null,null,"","",{"$f":"IF(OR(A4429=\"\",B4429=\"\"),\"\",VLOOKUP(A4429&\"_\"&B4429,Lookups!$E:$F,2,FALSE))","v":""},""]
[null,null,null,null,null,"",null,"",null,null,"","",{"$f":"IF(OR(A4430=\"\",B4430=\"\"),\"\",VLOOKUP(A4430&\"_\"&B4430,Lookups!$E:$F,2,FALSE))","v":""},""]
[null,null,null,null,null,"",null,"",null,null,"","",{"$f":"IF(OR(A4431=\"\",B4431=\"\"),\"\",VLOOKUP(A4431&\"_\"&B4431,Lookups!$E:$F,2,FALSE))","v":""},""]
[null,null,null,null,null,"",null,"",null,null,"","",{"$f":"IF(OR(A4432=\"\",B4432=\"\"),\"\",VLOOKUP(A4432&\"_\"&B4432,Lookups!$E:$F,2,FALSE))","v":""},""]
[null,null,null,null,null,"",null,"",null,null,"","",{"$f":"IF(OR(A4433=\"\",B4433=\"\"),\"\",VLOOKUP(A4433&\"_\"&B4433,Lookups!$E:$F,2,FALSE))","v":""},""]
[null,null,null,null,null,"",null,"",null,null,"","",{"$f":"IF(OR(A4434=\"\",B4434=\"\"),\"\",VLOOKUP(A4434&\"_\"&B4434,Lookups!$E:$F,2,FALSE))","v":""},""]
[null,null,null,null,null,"",null,"",null,null,"","",{"$f":"IF(OR(A4435=\"\",B4435=\"\"),\"\",VLOOKUP(A4435&\"_\"&B4435,Lookups!$E:$F,2,FALSE))","v":""},""]
[null,null,null,null,null,"",null,"",null,null,"","",{"$f":"IF(OR(A4436=\"\",B4436=\"\"),\"\",VLOOKUP(A4436&\"_\"&B4436,Lookups!$E:$F,2,FALSE))","v":""},""]
[null,null,null,null,null,"",null,"",null,null,"","",{"$f":"IF(OR(A4437=\"\",B4437=\"\"),\"\",VLOOKUP(A4437&\"_\"&B4437,Lookups!$E:$F,2,FALSE))","v":""},""]
[null,null,null,null,null,"",null,"",null,null,"","",{"$f":"IF(OR(A4438=\"\",B4438=\"\"),\"\",VLOOKUP(A4438&\"_\"&B4438,Lookups!$E:$F,2,FALSE))","v":""},""]
[null,null,null,null,null,"",null,"",null,null,"","",{"$f":"IF(OR(A4439=\"\",B4439=\"\"),\"\",VLOOKUP(A4439&\"_\"&B4439,Lookups!$E:$F,2,FALSE))","v":""},""]
[null,null,null,null,null,"",null,"",null,null,"","",{"$f":"IF(OR(A4440=\"\",B4440=\"\"),\"\",VLOOKUP(A4440&\"_\"&B4440,Lookups!$E:$F,2,FALSE))","v":""},""]
[null,null,null,null,null,"",null,"",null,null,"","",{"$f":"IF(OR(A4441=\"\",B4441=\"\"),\"\",VLOOKUP(A4441&\"_\"&B4441,Lookups!$E:$F,2,FALSE))","v":""},""]
[null,null,null,null,null,"",null,"",null,null,"","",{"$f":"IF(OR(A4442=\"\",B4442=\"\"),\"\",VLOOKUP(A4442&\"_\"&B4442,Lookups!$E:$F,2,FALSE))","v":""},""]
[null,null,null,null,null,"",null,"",null,null,"","",{"$f":"IF(OR(A4443=\"\",B4443=\"\"),\"\",VLOOKUP(A4443&\"_\"&B4443,Lookups!$E:$F,2,FALSE))","v":""},""]
[null,null,null,null,null,"",null,"",null,null,"","",{"$f":"IF(OR(A4444=\"\",B4444=\"\"),\"\",VLOOKUP(A4444&\"_\"&B4444,Lookups!$E:$F,2,FALSE))","v":""},""]
[null,null,null,null,null,"",null,"",null,null,"","",{"$f":"IF(OR(A4445=\"\",B4445=\"\"),\"\",VLOOKUP(A4445&\"_\"&B4445,Lookups!$E:$F,2,FALSE))","v":""},""]
[null,null,null,null,null,"",null,"",null,null,"","",{"$f":"IF(OR(A4446=\"\",B4446=\"\"),\"\",VLOOKUP(A4446&\"_\"&B4446,Lookups!$E:$F,2,FALSE))","v":""},""]
[null,null,null,null,null,"",null,"",null,null,"","",{"$f":"IF(OR(A4447=\"\",B4447=\"\"),\"\",VLOOKUP(A4447&\"_\"&B4447,Lookups!$E:$F,2,FALSE))","v":""},""]
[null,null,null,null,null,"",null,"",null,null,"","",{"$f":"IF(OR(A4448=\"\",B4448=\"\"),\"\",VLOOKUP(A4448&\"_\"&B4448,Lookups!$E:$F,2,FALSE))","v":""},""]
[null,null,null,null,null,"",null,"",null,null,"","",{"$f":"IF(OR(A4449=\"\",B4449=\"\"),\"\",VLOOKUP(A4449&\"_\"&B4449,Lookups!$E:$F,2,FALSE))","v":""},""]
[null,null,null,null,null,"",null,"",null,null,"","",{"$f":"IF(OR(A4450=\"\",B4450=\"\"),\"\",VLOOKUP(A4450&\"_\"&B4450,Lookups!$E:$F,2,FALSE))","v":""},""]
[null,null,null,null,null,"",null,"",null,null,"","",{"$f":"IF(OR(A4451=\"\",B4451=\"\"),\"\",VLOOKUP(A4451&\"_\"&B4451,Lookups!$E:$F,2,FALSE))","v":""},""]
[null,null,null,null,null,"",null,"",null,null,"","",{"$f":"IF(OR(A4452=\"\",B4452=\"\"),\"\",VLOOKUP(A4452&\"_\"&B4452,Lookups!$E:$F,2,FALSE))","v":""},""]
[null,null,null,null,null,"",null,"",null,null,"","",{"$f":"IF(OR(A4453=\"\",B4453=\"\"),\"\",VLOOKUP(A4453&\"_\"&B4453,Lookups!$E:$F,2,FALSE))","v":""},""]
[null,null,null,null,null,"",null,"",null,null,"","",{"$f":"IF(OR(A4454=\"\",B4454=\"\"),\"\",VLOOKUP(A4454&\"_\"&B4454,Lookups!$E:$F,2,FALSE))","v":""},""]
[null,null,null,null,null,"",null,"",null,null,"","",{"$f":"IF(OR(A4455=\"\",B4455=\"\"),\"\",VLOOKUP(A4455&\"_\"&B4455,Lookups!$E:$F,2,FALSE))","v":""},""]
[null,null,null,null,null,"",null,"",null,null,"","",{"$f":"IF(OR(A4456=\"\",B4456=\"\"),\"\",VLOOKUP(A4456&\"_\"&B4456,Lookups!$E:$F,2,FALSE))","v":""},""]
[null,null,null,null,null,"",null,"",null,null,"","",{"$f":"IF(OR(A4457=\"\",B4457=\"\"),\"\",VLOOKUP(A4457&\"_\"&B4457,Lookups!$E:$F,2,FALSE))","v":""},""]
[null,null,null,null,null,"",null,"",null,null,"","",{"$f":"IF(OR(A4458=\"\",B4458=\"\"),\"\",VLOOKUP(A4458&\"_\"&B4458,Lookups!$E:$F,2,FALSE))","v":""},""]
[null,null,null,null,null,"",null,"",null,null,"","",{"$f":"IF(OR(A4459=\"\",B4459=\"\"),\"\",VLOOKUP(A4459&\"_\"&B4459,Lookups!$E:$F,2,FALSE))","v":""},""]
[null,null,null,null,null,"",null,"",null,null,"","",{"$f":"IF(OR(A4460=\"\",B4460=\"\"),\"\",VLOOKUP(A4460&\"_\"&B4460,Lookups!$E:$F,2,FALSE))","v":""},""]
[null,null,null,null,null,"",null,"",null,null,"","",{"$f":"IF(OR(A4461=\"\",B4461=\"\"),\"\",VLOOKUP(A4461&\"_\"&B4461,Lookups!$E:$F,2,FALSE))","v":""},""]
[null,null,null,null,null,"",null,"",null,null,"","",{"$f":"IF(OR(A4462=\"\",B4462=\"\"),\"\",VLOOKUP(A4462&\"_\"&B4462,Lookups!$E:$F,2,FALSE))","v":""},""]
[null,null,null,null,null,"",null,"",null,null,"","",{"$f":"IF(OR(A4463=\"\",B4463=\"\"),\"\",VLOOKUP(A4463&\"_\"&B4463,Lookups!$E:$F,2,FALSE))","v":""},""]
[null,null,null,null,null,"",null,"",null,null,"","",{"$f":"IF(OR(A4464=\"\",B4464=\"\"),\"\",VLOOKUP(A4464&\"_\"&B4464,Lookups!$E:$F,2,FALSE))","v":""},""]
[null,null,null,null,null,"",null,"",null,null,"","",{"$f":"IF(OR(A4465=\"\",B4465=\"\"),\"\",VLOOKUP(A4465&\"_\"&B4465,Lookups!$E:$F,2,FALSE))","v":""},""]
[null,null,null,null,null,"",null,"",null,null,"","",{"$f":"IF(OR(A4466=\"\",B4466=\"\"),\"\",VLOOKUP(A4466&\"_\"&B4466,Lookups!$E:$F,2,FALSE))","v":""},""]
[null,null,null,null,null,"",null,"",null,null,"","",{"$f":"IF(OR(A4467=\"\",B4467=\"\"),\"\",VLOOKUP(A4467&\"_\"&B4467,Lookups!$E:$F,2,FALSE))","v":""},""]
[null,null,null,null,null,"",null,"",null,null,"","",{"$f":"IF(OR(A4468=\"\",B4468=\"\"),\"\",VLOOKUP(A4468&\"_\"&B4468,Lookups!$E:$F,2,FALSE))","v":""},""]
[null,null,null,null,null,"",null,"",null,null,"","",{"$f":"IF(OR(A4469=\"\",B4469=\"\"),\"\",VLOOKUP(A4469&\"_\"&B4469,Lookups!$E:$F,2,FALSE))","v":""},""]
[null,null,null,null,null,"",null,"",null,null,"","",{"$f":"IF(OR(A4470=\"\",B4470=\"\"),\"\",VLOOKUP(A4470&\"_\"&B4470,Lookups!$E:$F,2,FALSE))","v":""},""]
[null,null,null,null,null,"",null,"",null,null,"","",{"$f":"IF(OR(A4471=\"\",B4471=\"\"),\"\",VLOOKUP(A4471&\"_\"&B4471,Lookups!$E:$F,2,FALSE))","v":""},""]
[null,null,null,null,null,"",null,"",null,null,"","",{"$f":"IF(OR(A4472=\"\",B4472=\"\"),\"\",VLOOKUP(A4472&\"_\"&B4472,Lookups!$E:$F,2,FALSE))","v":""},""]
[null,null,null,null,null,"",null,"",null,null,"","",{"$f":"IF(OR(A4473=\"\",B4473=\"\"),\"\",VLOOKUP(A4473&\"_\"&B4473,Lookups!$E:$F,2,FALSE))","v":""},""]
[null,null,null,null,null,"",null,"",null,null,"","",{"$f":"IF(OR(A4474=\"\",B4474=\"\"),\"\",VLOOKUP(A4474&\"_\"&B4474,Lookups!$E:$F,2,FALSE))","v":""},""]
[null,null,null,null,null,"",null,"",null,null,"","",{"$f":"IF(OR(A4475=\"\",B4475=\"\"),\"\",VLOOKUP(A4475&\"_\"&B4475,Lookups!$E:$F,2,FALSE))","v":""},""]
[null,null,null,null,null,"",null,"",null,null,"","",{"$f":"IF(OR(A4476=\"\",B4476=\"\"),\"\",VLOOKUP(A4476&\"_\"&B4476,Lookups!$E:$F,2,FALSE))","v":""},""]
[null,null,null,null,null,"",null,"",null,null,"","",{"$f":"IF(OR(A4477=\"\",B4477=\"\"),\"\",VLOOKUP(A4477&\"_\"&B4477,Lookups!$E:$F,2,FALSE))","v":""},""]
[null,null,null,null,null,"",null,"",null,null,"","",{"$f":"IF(OR(A4478=\"\",B4478=\"\"),\"\",VLOOKUP(A4478&\"_\"&B4478,Lookups!$E:$F,2,FALSE))","v":""},""]
[null,null,null,null,null,"",null,"",null,null,"","",{"$f":"IF(OR(A4479=\"\",B4479=\"\"),\"\",VLOOKUP(A4479&\"_\"&B4479,Lookups!$E:$F,2,FALSE))","v":""},""]
[null,null,null,null,null,"",null,"",null,null,"","",{"$f":"IF(OR(A4480=\"\",B4480=\"\"),\"\",VLOOKUP(A4480&\"_\"&B4480,Lookups!$E:$F,2,FALSE))","v":""},""]
[null,null,null,null,null,"",null,"",null,null,"","",{"$f":"IF(OR(A4481=\"\",B4481=\"\"),\"\",VLOOKUP(A4481&\"_\"&B4481,Lookups!$E:$F,2,FALSE))","v":""},""]
[null,null,null,null,null,"",null,"",null,null,"","",{"$f":"IF(OR(A4482=\"\",B4482=\"\"),\"\",VLOOKUP(A4482&\"_\"&B4482,Lookups!$E:$F,2,FALSE))","v":""},""]
[null,null,null,null,null,"",null,"",null,null,"","",{"$f":"IF(OR(A4483=\"\",B4483=\"\"),\"\",VLOOKUP(A4483&\"_\"&B4483,Lookups!$E:$F,2,FALSE))","v":""},""]
[null,null,null,null,null,{"$f":"IF(OR(D4484=\"\",E4484=\"\"),\"\",ROUND((E4484-D4484)*24,2))","v":""},null,{"$f":"IF(F4484=\"\",\"\",IF(G4484<>\"\",F4484*G4484,F4484))","v":""},null,null,{"$f":"IF(AND(H4484<>\"\",I4484=\"Paid\"),H4484,\"\")","v":""},{"$f":"IF(H4484=\"\",\"\",IF(K4484=\"\",H4484,H4484-K4484))","v":""},{"$f":"IF(OR(A4484=\"\",B4484=\"\"),\"\",VLOOKUP(A4484&\"_\"&B4484,Lookups!$E:$F,2,FALSE))","v":""},{"$f":"IF(AND(K4484=\"\",L4484=\"\"),\"\",IF(K4484=\"\",L4484*M4484,SUM(K4484,L4484)*M4484))","v":""}]
[null,null,null,null,null,"",null,"",null,null,"","",{"$f":"IF(OR(A4485=\"\",B4485=\"\"),\"\",VLOOKUP(A4485&\"_\"&B4485,Lookups!$E:$F,2,FALSE))","v":""},""]
[null,null,null,null,null,"",null,"",null,null,"","",{"$f":"IF(OR(A4486=\"\",B4486=\"\"),\"\",VLOOKUP(A4486&\"_\"&B4486,Lookups!$E:$F,2,FALSE))","v":""},""]
[null,null,null,null,null,"",null,"",null,null,"","",{"$f":"IF(OR(A4487=\"\",B4487=\"\"),\"\",VLOOKUP(A4487&\"_\"&B4487,Lookups!$E:$F,2,FALSE))","v":""},""]
[null,null,null,null,null,"",null,"",null,null,"","",{"$f":"IF(OR(A4488=\"\",B4488=\"\"),\"\",VLOOKUP(A4488&\"_\"&B4488,Lookups!$E:$F,2,FALSE))","v":""},""]
[null,null,null,null,null,"",null,"",null,null,"","",{"$f":"IF(OR(A4489=\"\",B4489=\"\"),\"\",VLOOKUP(A4489&\"_\"&B4489,Lookups!$E:$F,2,FALSE))","v":""},""]
[null,null,null,null,null,"",null,"",null,null,"","",{"$f":"IF(OR(A4490=\"\",B4490=\"\"),\"\",VLOOKUP(A4490&\"_\"&B4490,Lookups!$E:$F,2,FALSE))","v":""},""]
[null,null,null,null,null,"",null,"",null,null,"","",{"$f":"IF(OR(A4491=\"\",B4491=\"\"),\"\",VLOOKUP(A4491&\"_\"&B4491,Lookups!$E:$F,2,FALSE))","v":""},""]
[null,null,null,null,null,"",null,"",null,null,"","",{"$f":"IF(OR(A4492=\"\",B4492=\"\"),\"\",VLOOKUP(A4492&\"_\"&B4492,Lookups!$E:$F,2,FALSE))","v":""},""]
[null,null,null,null,null,"",null,"",null,null,"","",{"$f":"IF(OR(A4493=\"\",B4493=\"\"),\"\",VLOOKUP(A4493&\"_\"&B4493,Lookups!$E:$F,2,FALSE))","v":""},""]
[null,null,null,null,null,"",null,"",null,null,"","",{"$f":"IF(OR(A4494=\"\",B4494=\"\"),\"\",VLOOKUP(A4494&\"_\"&B4494,Lookups!$E:$F,2,FALSE))","v":""},""]
[null,null,null,null,null,"",null,"",null,null,"","",{"$f":"IF(OR(A4495=\"\",B4495=\"\"),\"\",VLOOKUP(A4495&\"_\"&B4495,Lookups!$E:$F,2,FALSE))","v":""},""]
[null,null,null,null,null,"",null,"",null,null,"","",{"$f":"IF(OR(A4496=\"\",B4496=\"\"),\"\",VLOOKUP(A4496&\"_\"&B4496,Lookups!$E:$F,2,FALSE))","v":""},""]
[null,null,null,null,null,"",null,"",null,null,"","",{"$f":"IF(OR(A4497=\"\",B4497=\"\"),\"\",VLOOKUP(A4497&\"_\"&B4497,Lookups!$E:$F,2,FALSE))","v":""},""]
[null,null,null,null,null,"",null,"",null,null,"","",{"$f":"IF(OR(A4498=\"\",B4498=\"\"),\"\",VLOOKUP(A4498&\"_\"&B4498,Lookups!$E:$F,2,FALSE))","v":""},""]
[null,null,null,null,null,"",null,"",null,null,"","",{"$f":"IF(OR(A4499=\"\",B4499=\"\"),\"\",VLOOKUP(A4499&\"_\"&B4499,Lookups!$E:$F,2,FALSE))","v":""},""]
[null,null,null,null,null,"",null,"",null,null,"","",{"$f":"IF(OR(A4500=\"\",B4500=\"\"),\"\",VLOOKUP(A4500&\"_\"&B4500,Lookups!$E:$F,2,FALSE))","v":""},""]
[null,null,null,null,null,"",null,"",null,null,"","",{"$f":"IF(OR(A4501=\"\",B4501=\"\"),\"\",VLOOKUP(A4501&\"_\"&B4501,Lookups!$E:$F,2,FALSE))","v":""},""]
[null,null,null,null,null,"",null,"",null,null,"","",{"$f":"IF(OR(A4502=\"\",B4502=\"\"),\"\",VLOOKUP(A4502&\"_\"&B4502,Lookups!$E:$F,2,FALSE))","v":""},""]
[null,null,null,null,null,"",null,"",null,null,"","",{"$f":"IF(OR(A4503=\"\",B4503=\"\"),\"\",VLOOKUP(A4503&\"_\"&B4503,Lookups!$E:$F,2,FALSE))","v":""},""]
[null,null,null,null,null,"",null,"",null,null,"","",{"$f":"IF(OR(A4504=\"\",B4504=\"\"),\"\",VLOOKUP(A4504&\"_\"&B4504,Lookups!$E:$F,2,FALSE))","v":""},""]
[null,null,null,null,null,"",null,"",null,null,"","",{"$f":"IF(OR(A4505=\"\",B4505=\"\"),\"\",VLOOKUP(A4505&\"_\"&B4505,Lookups!$E:$F,2,FALSE))","v":""},""]
[null,null,null,null,null,"",null,"",null,null,"","",{"$f":"IF(OR(A4506=\"\",B4506=\"\"),\"\",VLOOKUP(A4506&\"_\"&B4506,Lookups!$E:$F,2,FALSE))","v":""},""]
[null,null,null,null,null,"",null,"",null,null,"","",{"$f":"IF(OR(A4507=\"\",B4507=\"\"),\"\",VLOOKUP(A4507&\"_\"&B4507,Lookups!$E:$F,2,FALSE))","v":""},""]
[null,null,null,null,null,"",null,"",null,null,"","",{"$f":"IF(OR(A4508=\"\",B4508=\"\"),\"\",VLOOKUP(A4508&\"_\"&B4508,Lookups!$E:$F,2,FALSE))","v":""},""]
[null,null,null,null,null,"",null,"",null,null,"","",{"$f":"IF(OR(A4509=\"\",B4509=\"\"),\"\",VLOOKUP(A4509&\"_\"&B4509,Lookups!$E:$F,2,FALSE))","v":""},""]
[null,null,null,null,null,"",null,"",null,null,"","",{"$f":"IF(OR(A4510=\"\",B4510=\"\"),\"\",VLOOKUP(A4510&\"_\"&B4510,Lookups!$E:$F,2,FALSE))","v":""},""]
[null,null,null,null,null,"",null,"",null,null,"","",{"$f":"IF(OR(A4511=\"\",B4511=\"\"),\"\",VLOOKUP(A4511&\"_\"&B4511,Lookups!$E:$F,2,FALSE))","v":""},""]
[null,null,null,null,null,"",null,"",null,null,"","",{"$f":"IF(OR(A4512=\"\",B4512=\"\"),\"\",VLOOKUP(A4512&\"_\"&B4512,Lookups!$E:$F,2,FALSE))","v":""},""]
[null,null,null,null,null,"",null,"",null,null,"","",{"$f":"IF(OR(A4513=\"\",B4513=\"\"),\"\",VLOOKUP(A4513&\"_\"&B4513,Lookups!$E:$F,2,FALSE))","v":""},""]
[null,null,null,null,null,"",null,"",null,null,"","",{"$f":"IF(OR(A4514=\"\",B4514=\"\"),\"\",VLOOKUP(A4514&\"_\"&B4514,Lookups!$E:$F,2,FALSE))","v":""},""]
[null,null,null,null,null,"",null,"",null,null,"","",{"$f":"IF(OR(A4515=\"\",B4515=\"\"),\"\",VLOOKUP(A4515&\"_\"&B4515,Lookups!$E:$F,2,FALSE))","v":""},""]
[null,null,null,null,null,"",null,"",null,null,"","",{"$f":"IF(OR(A4516=\"\",B4516=\"\"),\"\",VLOOKUP(A4516&\"_\"&B4516,Lookups!$E:$F,2,FALSE))","v":""},""]
[null,null,null,null,null,"",null,"",null,null,"","",{"$f":"IF(OR(A4517=\"\",B4517=\"\"),\"\",VLOOKUP(A4517&\"_\"&B4517,Lookups!$E:$F,2,FALSE))","v":""},""]
[null,null,null,null,null,"",null,"",null,null,"","",{"$f":"IF(OR(A4518=\"\",B4518=\"\"),\"\",VLOOKUP(A4518&\"_\"&B4518,Lookups!$E:$F,2,FALSE))","v":""},""]
[null,null,null,null,null,"",null,"",null,null,"","",{"$f":"IF(OR(A4519=\"\",B4519=\"\"),\"\",VLOOKUP(A4519&\"_\"&B4519,Lookups!$E:$F,2,FALSE))","v":""},""]
[null,null,null,null,null,"",null,"",null,null,"","",{"$f":"IF(OR(A4520=\"\",B4520=\"\"),\"\",VLOOKUP(A4520&\"_\"&B4520,Lookups!$E:$F,2,FALSE))","v":""},""]
[null,null,null,null,null,"",null,"",null,null,"","",{"$f":"IF(OR(A4521=\"\",B4521=\"\"),\"\",VLOOKUP(A4521&\"_\"&B4521,Lookups!$E:$F,2,FALSE))","v":""},""]
[null,null,null,null,null,"",null,"",null,null,"","",{"$f":"IF(OR(A4522=\"\",B4522=\"\"),\"\",VLOOKUP(A4522&\"_\"&B4522,Lookups!$E:$F,2,FALSE))","v":""},""]
[null,null,null,null,null,"",null,"",null,null,"","",{"$f":"IF(OR(A4523=\"\",B4523=\"\"),\"\",VLOOKUP(A4523&\"_\"&B4523,Lookups!$E:$F,2,FALSE))","v":""},""]
[null,null,null,null,null,"",null,"",null,null,"","",{"$f":"IF(OR(A4524=\"\",B4524=\"\"),\"\",VLOOKUP(A4524&\"_\"&B4524,Lookups!$E:$F,2,FALSE))","v":""},""]
[null,null,null,null,null,"",null,"",null,null,"","",{"$f":"IF(OR(A4525=\"\",B4525=\"\"),\"\",VLOOKUP(A4525&\"_\"&B4525,Lookups!$E:$F,2,FALSE))","v":""},""]
[null,null,null,null,null,"",null,"",null,null,"","",{"$f":"IF(OR(A4526=\"\",B4526=\"\"),\"\",VLOOKUP(A4526&\"_\"&B4526,Lookups!$E:$F,2,FALSE))","v":""},""]
[null,null,null,null,null,"",null,"",null,null,"","",{"$f":"IF(OR(A4527=\"\",B4527=\"\"),\"\",VLOOKUP(A4527&\"_\"&B4527,Lookups!$E:$F,2,FALSE))","v":""},""]
[null,null,null,null,null,"",null,"",null,null,"","",{"$f":"IF(OR(A4528=\"\",B4528=\"\"),\"\",VLOOKUP(A4528&\"_\"&B4528,Lookups!$E:$F,2,FALSE))","v":""},""]
[null,null,null,null,null,"",null,"",null,null,"","",{"$f":"IF(OR(A4529=\"\",B4529=\"\"),\"\",VLOOKUP(A4529&\"_\"&B4529,Lookups!$E:$F,2,FALSE))","v":""},""]
[null,null,null,null,null,"",null,"",null,null,"","",{"$f":"IF(OR(A4530=\"\",B4530=\"\"),\"\",VLOOKUP(A4530&\"_\"&B4530,Lookups!$E:$F,2,FALSE))","v":""},""]
[null,null,null,null,null,"",null,"",null,null,"","",{"$f":"IF(OR(A4531=\"\",B4531=\"\"),\"\",VLOOKUP(A4531&\"_\"&B4531,Lookups!$E:$F,2,FALSE))","v":""},""]
[null,null,null,null,null,"",null,"",null,null,"","",{"$f":"IF(OR(A4532=\"\",B4532=\"\"),\"\",VLOOKUP(A4532&\"_\"&B4532,Lookups!$E:$F,2,FALSE))","v":""},""]
[null,null,null,null,null,"",null,"",null,null,"","",{"$f":"IF(OR(A4533=\"\",B4533=\"\"),\"\",VLOOKUP(A4533&\"_\"&B4533,Lookups!$E:$F,2,FALSE))","v":""},""]
[null,null,null,null,null,"",null,"",null,null,"","",{"$f":"IF(OR(A4534=\"\",B4534=\"\"),\"\",VLOOKUP(A4534&\"_\"&B4534,Lookups!$E:$F,2,FALSE))","v":""},""]
[null,null,null,null,null,"",null,"",null,null,"","",{"$f":"IF(OR(A4535=\"\",B4535=\"\"),\"\",VLOOKUP(A4535&\"_\"&B4535,Lookups!$E:$F,2,FALSE))","v":""},""]
[null,null,null,null,null,"",null,"",null,null,"","",{"$f":"IF(OR(A4536=\"\",B4536=\"\"),\"\",VLOOKUP(A4536&\"_\"&B4536,Lookups!$E:$F,2,FALSE))","v":""},""]
[null,null,null,null,null,"",null,"",null,null,"","",{"$f":"IF(OR(A4537=\"\",B4537=\"\"),\"\",VLOOKUP(A4537&\"_\"&B4537,Lookups!$E:$F,2,FALSE))","v":""},""]
[null,null,null,null,null,"",null,"",null,null,"","",{"$f":"IF(OR(A4538=\"\",B4538=\"\"),\"\",VLOOKUP(A4538&\"_\"&B4538,Lookups!$E:$F,2,FALSE))","v":""},""]
[null,null,null,null,null,"",null,"",null,null,"","",{"$f":"IF(OR(A4539=\"\",B4539=\"\"),\"\",VLOOKUP(A4539&\"_\"&B4539,Lookups!$E:$F,2,FALSE))","v":""},""]
[null,null,null,null,null,"",null,"",null,null,"","",{"$f":"IF(OR(A4540=\"\",B4540=\"\"),\"\",VLOOKUP(A4540&\"_\"&B4540,Lookups!$E:$F,2,FALSE))","v":""},""]
[null,null,null,null,null,"",null,"",null,null,"","",{"$f":"IF(OR(A4541=\"\",B4541=\"\"),\"\",VLOOKUP(A4541&\"_\"&B4541,Lookups!$E:$F,2,FALSE))","v":""},""]
[null,null,null,null,null,"",null,"",null,null,"","",{"$f":"IF(OR(A4542=\"\",B4542=\"\"),\"\",VLOOKUP(A4542&\"_\"&B4542,Lookups!$E:$F,2,FALSE))","v":""},""]
[null,null,null,null,null,"",null,"",null,null,"","",{"$f":"IF(OR(A4543=\"\",B4543=\"\"),\"\",VLOOKUP(A4543&\"_\"&B4543,Lookups!$E:$F,2,FALSE))","v":""},""]
[null,null,null,null,null,"",null,"",null,null,"","",{"$f":"IF(OR(A4544=\"\",B4544=\"\"),\"\",VLOOKUP(A4544&\"_\"&B4544,Lookups!$E:$F,2,FALSE))","v":""},""]
[null,null,null,null,null,"",null,"",null,null,"","",{"$f":"IF(OR(A4545=\"\",B4545=\"\"),\"\",VLOOKUP(A4545&\"_\"&B4545,Lookups!$E:$F,2,FALSE))","v":""},""]
[null,null,null,null,null,"",null,"",null,null,"","",{"$f":"IF(OR(A4546=\"\",B4546=\"\"),\"\",VLOOKUP(A4546&\"_\"&B4546,Lookups!$E:$F,2,FALSE))","v":""},""]
[null,null,null,null,null,"",null,"",null,null,"","",{"$f":"IF(OR(A4547=\"\",B4547=\"\"),\"\",VLOOKUP(A4547&\"_\"&B4547,Lookups!$E:$F,2,FALSE))","v":""},""]
[null,null,null,null,null,{"$f":"IF(OR(D4548=\"\",E4548=\"\"),\"\",ROUND((E4548-D4548)*24,2))","v":""},null,{"$f":"IF(F4548=\"\",\"\",IF(G4548<>\"\",F4548*G4548,F4548))","v":""},null,null,{"$f":"IF(AND(H4548<>\"\",I4548=\"Paid\"),H4548,\"\")","v":""},{"$f":"IF(H4548=\"\",\"\",IF(K4548=\"\",H4548,H4548-K4548))","v":""},{"$f":"IF(OR(A4548=\"\",B4548=\"\"),\"\",VLOOKUP(A4548&\"_\"&B4548,Lookups!$E:$F,2,FALSE))","v":""},{"$f":"IF(AND(K4548=\"\",L4548=\"\"),\"\",IF(K4548=\"\",L4548*M4548,SUM(K4548,L4548)*M4548))","v":""}]
[null,null,null,null,null,"",null,"",null,null,"","",{"$f":"IF(OR(A4549=\"\",B4549=\"\"),\"\",VLOOKUP(A4549&\"_\"&B4549,Lookups!$E:$F,2,FALSE))","v":""},""]
[null,null,null,null,null,"",null,"",null,null,"","",{"$f":"IF(OR(A4550=\"\",B4550=\"\"),\"\",VLOOKUP(A4550&\"_\"&B4550,Lookups!$E:$F,2,FALSE))","v":""},""]
[null,null,null,null,null,"",null,"",null,null,"","",{"$f":"IF(OR(A4551=\"\",B4551=\"\"),\"\",VLOOKUP(A4551&\"_\"&B4551,Lookups!$E:$F,2,FALSE))","v":""},""]
[null,null,null,null,null,"",null,"",null,null,"","",{"$f":"IF(OR(A4552=\"\",B4552=\"\"),\"\",VLOOKUP(A4552&\"_\"&B4552,Lookups!$E:$F,2,FALSE))","v":""},""]
[null,null,null,null,null,"",null,"",null,null,"","",{"$f":"IF(OR(A4553=\"\",B4553=\"\"),\"\",VLOOKUP(A4553&\"_\"&B4553,Lookups!$E:$F,2,FALSE))","v":""},""]
[null,null,null,null,null,"",null,"",null,null,"","",{"$f":"IF(OR(A4554=\"\",B4554=\"\"),\"\",VLOOKUP(A4554&\"_\"&B4554,Lookups!$E:$F,2,FALSE))","v":""},""]
[null,null,null,null,null,"",null,"",null,null,"","",{"$f":"IF(OR(A4555=\"\",B4555=\"\"),\"\",VLOOKUP(A4555&\"_\"&B4555,Lookups!$E:$F,2,FALSE))","v":""},""]
[null,null,null,null,null,"",null,"",null,null,"","",{"$f":"IF(OR(A4556=\"\",B4556=\"\"),\"\",VLOOKUP(A4556&\"_\"&B4556,Lookups!$E:$F,2,FALSE))","v":""},""]
[null,null,null,null,null,"",null,"",null,null,"","",{"$f":"IF(OR(A4557=\"\",B4557=\"\"),\"\",VLOOKUP(A4557&\"_\"&B4557,Lookups!$E:$F,2,FALSE))","v":""},""]
[null,null,null,null,null,"",null,"",null,null,"","",{"$f":"IF(OR(A4558=\"\",B4558=\"\"),\"\",VLOOKUP(A4558&\"_\"&B4558,Lookups!$E:$F,2,FALSE))","v":""},""]
[null,null,null,null,null,"",null,"",null,null,"","",{"$f":"IF(OR(A4559=\"\",B4559=\"\"),\"\",VLOOKUP(A4559&\"_\"&B4559,Lookups!$E:$F,2,FALSE))","v":""},""]
[null,null,null,null,null,"",null,"",null,null,"","",{"$f":"IF(OR(A4560=\"\",B4560=\"\"),\"\",VLOOKUP(A4560&\"_\"&B4560,Lookups!$E:$F,2,FALSE))","v":""},""]
[null,null,null,null,null,"",null,"",null,null,"","",{"$f":"IF(OR(A4561=\"\",B4561=\"\"),\"\",VLOOKUP(A4561&\"_\"&B4561,Lookups!$E:$F,2,FALSE))","v":""},""]
[null,null,null,null,null,"",null,"",null,null,"","",{"$f":"IF(OR(A4562=\"\",B4562=\"\"),\"\",VLOOKUP(A4562&\"_\"&B4562,Lookups!$E:$F,2,FALSE))","v":""},""]
[null,null,null,null,null,"",null,"",null,null,"","",{"$f":"IF(OR(A4563=\"\",B4563=\"\"),\"\",VLOOKUP(A4563&\"_\"&B4563,Lookups!$E:$F,2,FALSE))","v":""},""]
[null,null,null,null,null,"",null,"",null,null,"","",{"$f":"IF(OR(A4564=\"\",B4564=\"\"),\"\",VLOOKUP(A4564&\"_\"&B4564,Lookups!$E:$F,2,FALSE))","v":""},""]
[null,null,null,null,null,"",null,"",null,null,"","",{"$f":"IF(OR(A4565=\"\",B4565=\"\"),\"\",VLOOKUP(A4565&\"_\"&B4565,Lookups!$E:$F,2,FALSE))","v":""},""]
[null,null,null,null,null,"",null,"",null,null,"","",{"$f":"IF(OR(A4566=\"\",B4566=\"\"),\"\",VLOOKUP(A4566&\"_\"&B4566,Lookups!$E:$F,2,FALSE))","v":""},""]
[null,null,null,null,null,"",null,"",null,null,"","",{"$f":"IF(OR(A4567=\"\",B4567=\"\"),\"\",VLOOKUP(A4567&\"_\"&B4567,Lookups!$E:$F,2,FALSE))","v":""},""]
[null,null,null,null,null,"",null,"",null,null,"","",{"$f":"IF(OR(A4568=\"\",B4568=\"\"),\"\",VLOOKUP(A4568&\"_\"&B4568,Lookups!$E:$F,2,FALSE))","v":""},""]
[null,null,null,null,null,"",null,"",null,null,"","",{"$f":"IF(OR(A4569=\"\",B4569=\"\"),\"\",VLOOKUP(A4569&\"_\"&B4569,Lookups!$E:$F,2,FALSE))","v":""},""]
[null,null,null,null,null,"",null,"",null,null,"","",{"$f":"IF(OR(A4570=\"\",B4570=\"\"),\"\",VLOOKUP(A4570&\"_\"&B4570,Lookups!$E:$F,2,FALSE))","v":""},""]
[null,null,null,null,null,"",null,"",null,null,"","",{"$f":"IF(OR(A4571=\"\",B4571=\"\"),\"\",VLOOKUP(A4571&\"_\"&B4571,Lookups!$E:$F,2,FALSE))","v":""},""]
[null,null,null,null,null,"",null,"",null,null,"","",{"$f":"IF(OR(A4572=\"\",B4572=\"\"),\"\",VLOOKUP(A4572&\"_\"&B4572,Lookups!$E:$F,2,FALSE))","v":""},""]
[null,null,null,null,null,"",null,"",null,null,"","",{"$f":"IF(OR(A4573=\"\",B4573=\"\"),\"\",VLOOKUP(A4573&\"_\"&B4573,Lookups!$E:$F,2,FALSE))","v":""},""]
[null,null,null,null,null,"",null,"",null,null,"","",{"$f":"IF(OR(A4574=\"\",B4574=\"\"),\"\",VLOOKUP(A4574&\"_\"&B4574,Lookups!$E:$F,2,FALSE))","v":""},""]
[null,null,null,null,null,"",null,"",null,null,"","",{"$f":"IF(OR(A4575=\"\",B4575=\"\"),\"\",VLOOKUP(A4575&\"_\"&B4575,Lookups!$E:$F,2,FALSE))","v":""},""]
[null,null,null,null,null,"",null,"",null,null,"","",{"$f":"IF(OR(A4576=\"\",B4576=\"\"),\"\",VLOOKUP(A4576&\"_\"&B4576,Lookups!$E:$F,2,FALSE))","v":""},""]
[null,null,null,null,null,"",null,"",null,null,"","",{"$f":"IF(OR(A4577=\"\",B4577=\"\"),\"\",VLOOKUP(A4577&\"_\"&B4577,Lookups!$E:$F,2,FALSE))","v":""},""]
[null,null,null,null,null,"",null,"",null,null,"","",{"$f":"IF(OR(A4578=\"\",B4578=\"\"),\"\",VLOOKUP(A4578&\"_\"&B4578,Lookups!$E:$F,2,FALSE))","v":""},""]
[null,null,null,null,null,"",null,"",null,null,"","",{"$f":"IF(OR(A4579=\"\",B4579=\"\"),\"\",VLOOKUP(A4579&\"_\"&B4579,Lookups!$E:$F,2,FALSE))","v":""},""]
[null,null,null,null,null,"",null,"",null,null,"","",{"$f":"IF(OR(A4580=\"\",B4580=\"\"),\"\",VLOOKUP(A4580&\"_\"&B4580,Lookups!$E:$F,2,FALSE))","v":""},""]
[null,null,null,null,null,"",null,"",null,null,"","",{"$f":"IF(OR(A4581=\"\",B4581=\"\"),\"\",VLOOKUP(A4581&\"_\"&B4581,Lookups!$E:$F,2,FALSE))","v":""},""]
[null,null,null,null,null,"",null,"",null,null,"","",{"$f":"IF(OR(A4582=\"\",B4582=\"\"),\"\",VLOOKUP(A4582&\"_\"&B4582,Lookups!$E:$F,2,FALSE))","v":""},""]
[null,null,null,null,null,"",null,"",null,null,"","",{"$f":"IF(OR(A4583=\"\",B4583=\"\"),\"\",VLOOKUP(A4583&\"_\"&B4583,Lookups!$E:$F,2,FALSE))","v":""},""]
[null,null,null,null,null,"",null,"",null,null,"","",{"$f":"IF(OR(A4584=\"\",B4584=\"\"),\"\",VLOOKUP(A4584&\"_\"&B4584,Lookups!$E:$F,2,FALSE))","v":""},""]
[null,null,null,null,null,"",null,"",null,null,"","",{"$f":"IF(OR(A4585=\"\",B4585=\"\"),\"\",VLOOKUP(A4585&\"_\"&B4585,Lookups!$E:$F,2,FALSE))","v":""},""]
[null,null,null,null,null,"",null,"",null,null,"","",{"$f":"IF(OR(A4586=\"\",B4586=\"\"),\"\",VLOOKUP(A4586&\"_\"&B4586,Lookups!$E:$F,2,FALSE))","v":""},""]
[null,null,null,null,null,"",null,"",null,null,"","",{"$f":"IF(OR(A4587=\"\",B4587=\"\"),\"\",VLOOKUP(A4587&\"_\"&B4587,Lookups!$E:$F,2,FALSE))","v":""},""]
[null,null,null,null,null,"",null,"",null,null,"","",{"$f":"IF(OR(A4588=\"\",B4588=\"\"),\"\",VLOOKUP(A4588&\"_\"&B4588,Lookups!$E:$F,2,FALSE))","v":""},""]
[null,null,null,null,null,"",null,"",null,null,"","",{"$f":"IF(OR(A4589=\"\",B4589=\"\"),\"\",VLOOKUP(A4589&\"_\"&B4589,Lookups!$E:$F,2,FALSE))","v":""},""]
[null,null,null,null,null,"",null,"",null,null,"","",{"$f":"IF(OR(A4590=\"\",B4590=\"\"),\"\",VLOOKUP(A4590&\"_\"&B4590,Lookups!$E:$F,2,FALSE))","v":""},""]
[null,null,null,null,null,"",null,"",null,null,"","",{"$f":"IF(OR(A4591=\"\",B4591=\"\"),\"\",VLOOKUP(A4591&\"_\"&B4591,Lookups!$E:$F,2,FALSE))","v":""},""]
[null,null,null,null,null,"",null,"",null,null,"","",{"$f":"IF(OR(A4592=\"\",B4592=\"\"),\"\",VLOOKUP(A4592&\"_\"&B4592,Lookups!$E:$F,2,FALSE))","v":""},""]
[null,null,null,null,null,"",null,"",null,null,"","",{"$f":"IF(OR(A4593=\"\",B4593=\"\"),\"\",VLOOKUP(A4593&\"_\"&B4593,Lookups!$E:$F,2,FALSE))","v":""},""]
[null,null,null,null,null,"",null,"",null,null,"","",{"$f":"IF(OR(A4594=\"\",B4594=\"\"),\"\",VLOOKUP(A4594&\"_\"&B4594,Lookups!$E:$F,2,FALSE))","v":""},""]
[null,null,null,null,null,"",null,"",null,null,"","",{"$f":"IF(OR(A4595=\"\",B4595=\"\"),\"\",VLOOKUP(A4595&\"_\"&B4595,Lookups!$E:$F,2,FALSE))","v":""},""]
[null,null,null,null,null,"",null,"",null,null,"","",{"$f":"IF(OR(A4596=\"\",B4596=\"\"),\"\",VLOOKUP(A4596&\"_\"&B4596,Lookups!$E:$F,2,FALSE))","v":""},""]
[null,null,null,null,null,"",null,"",null,null,"","",{"$f":"IF(OR(A4597=\"\",B4597=\"\"),\"\",VLOOKUP(A4597&\"_\"&B4597,Lookups!$E:$F,2,FALSE))","v":""},""]
[null,null,null,null,null,"",null,"",null,null,"","",{"$f":"IF(OR(A4598=\"\",B4598=\"\"),\"\",VLOOKUP(A4598&\"_\"&B4598,Lookups!$E:$F,2,FALSE))","v":""},""]
[null,null,null,null,null,"",null,"",null,null,"","",{"$f":"IF(OR(A4599=\"\",B4599=\"\"),\"\",VLOOKUP(A4599&\"_\"&B4599,Lookups!$E:$F,2,FALSE))","v":""},""]
[null,null,null,null,null,"",null,"",null,null,"","",{"$f":"IF(OR(A4600=\"\",B4600=\"\"),\"\",VLOOKUP(A4600&\"_\"&B4600,Lookups!$E:$F,2,FALSE))","v":""},""]
[null,null,null,null,null,"",null,"",null,null,"","",{"$f":"IF(OR(A4601=\"\",B4601=\"\"),\"\",VLOOKUP(A4601&\"_\"&B4601,Lookups!$E:$F,2,FALSE))","v":""},""]
[null,null,null,null,null,"",null,"",null,null,"","",{"$f":"IF(OR(A4602=\"\",B4602=\"\"),\"\",VLOOKUP(A4602&\"_\"&B4602,Lookups!$E:$F,2,FALSE))","v":""},""]
[null,null,null,null,null,"",null,"",null,null,"","",{"$f":"IF(OR(A4603=\"\",B4603=\"\"),\"\",VLOOKUP(A4603&\"_\"&B4603,Lookups!$E:$F,2,FALSE))","v":""},""]
[null,null,null,null,null,"",null,"",null,null,"","",{"$f":"IF(OR(A4604=\"\",B4604=\"\"),\"\",VLOOKUP(A4604&\"_\"&B4604,Lookups!$E:$F,2,FALSE))","v":""},""]
[null,null,null,null,null,"",null,"",null,null,"","",{"$f":"IF(OR(A4605=\"\",B4605=\"\"),\"\",VLOOKUP(A4605&\"_\"&B4605,Lookups!$E:$F,2,FALSE))","v":""},""]
[null,null,null,null,null,"",null,"",null,null,"","",{"$f":"IF(OR(A4606=\"\",B4606=\"\"),\"\",VLOOKUP(A4606&\"_\"&B4606,Lookups!$E:$F,2,FALSE))","v":""},""]
[null,null,null,null,null,"",null,"",null,null,"","",{"$f":"IF(OR(A4607=\"\",B4607=\"\"),\"\",VLOOKUP(A4607&\"_\"&B4607,Lookups!$E:$F,2,FALSE))","v":""},""]
[null,null,null,null,null,"",null,"",null,null,"","",{"$f":"IF(OR(A4608=\"\",B4608=\"\"),\"\",VLOOKUP(A4608&\"_\"&B4608,Lookups!$E:$F,2,FALSE))","v":""},""]
[null,null,null,null,null,"",null,"",null,null,"","",{"$f":"IF(OR(A4609=\"\",B4609=\"\"),\"\",VLOOKUP(A4609&\"_\"&B4609,Lookups!$E:$F,2,FALSE))","v":""},""]
[null,null,null,null,null,"",null,"",null,null,"","",{"$f":"IF(OR(A4610=\"\",B4610=\"\"),\"\",VLOOKUP(A4610&\"_\"&B4610,Lookups!$E:$F,2,FALSE))","v":""},""]
[null,null,null,null,null,"",null,"",null,null,"","",{"$f":"IF(OR(A4611=\"\",B4611=\"\"),\"\",VLOOKUP(A4611&\"_\"&B4611,Lookups!$E:$F,2,FALSE))","v":""},""]
[null,null,null,null,null,{"$f":"IF(OR(D4612=\"\",E4612=\"\"),\"\",ROUND((E4612-D4612)*24,2))","v":""},null,{"$f":"IF(F4612=\"\",\"\",IF(G4612<>\"\",F4612*G4612,F4612))","v":""},null,null,{"$f":"IF(AND(H4612<>\"\",I4612=\"Paid\"),H4612,\"\")","v":""},{"$f":"IF(H4612=\"\",\"\",IF(K4612=\"\",H4612,H4612-K4612))","v":""},{"$f":"IF(OR(A4612=\"\",B4612=\"\"),\"\",VLOOKUP(A4612&\"_\"&B4612,Lookups!$E:$F,2,FALSE))","v":""},{"$f":"IF(AND(K4612=\"\",L4612=\"\"),\"\",IF(K4612=\"\",L4612*M4612,SUM(K4612,L4612)*M4612))","v":""}]
[null,null,null,null,null,"",null,"",null,null,"","",{"$f":"IF(OR(A4613=\"\",B4613=\"\"),\"\",VLOOKUP(A4613&\"_\"&B4613,Lookups!$E:$F,2,FALSE))","v":""},""]
[null,null,null,null,null,"",null,"",null,null,"","",{"$f":"IF(OR(A4614=\"\",B4614=\"\"),\"\",VLOOKUP(A4614&\"_\"&B4614,Lookups!$E:$F,2,FALSE))","v":""},""]
[null,null,null,null,null,"",null,"",null,null,"","",{"$f":"IF(OR(A4615=\"\",B4615=\"\"),\"\",VLOOKUP(A4615&\"_\"&B4615,Lookups!$E:$F,2,FALSE))","v":""},""]
[null,null,null,null,null,"",null,"",null,null,"","",{"$f":"IF(OR(A4616=\"\",B4616=\"\"),\"\",VLOOKUP(A4616&\"_\"&B4616,Lookups!$E:$F,2,FALSE))","v":""},""]
[null,null,null,null,null,"",null,"",null,null,"","",{"$f":"IF(OR(A4617=\"\",B4617=\"\"),\"\",VLOOKUP(A4617&\"_\"&B4617,Lookups!$E:$F,2,FALSE))","v":""},""]
[null,null,null,null,null,"",null,"",null,null,"","",{"$f":"IF(OR(A4618=\"\",B4618=\"\"),\"\",VLOOKUP(A4618&\"_\"&B4618,Lookups!$E:$F,2,FALSE))","v":""},""]
[null,null,null,null,null,"",null,"",null,null,"","",{"$f":"IF(OR(A4619=\"\",B4619=\"\"),\"\",VLOOKUP(A4619&\"_\"&B4619,Lookups!$E:$F,2,FALSE))","v":""},""]
[null,null,null,null,null,"",null,"",null,null,"","",{"$f":"IF(OR(A4620=\"\",B4620=\"\"),\"\",VLOOKUP(A4620&\"_\"&B4620,Lookups!$E:$F,2,FALSE))","v":""},""]
[null,null,null,null,null,"",null,"",null,null,"","",{"$f":"IF(OR(A4621=\"\",B4621=\"\"),\"\",VLOOKUP(A4621&\"_\"&B4621,Lookups!$E:$F,2,FALSE))","v":""},""]
[null,null,null,null,null,"",null,"",null,null,"","",{"$f":"IF(OR(A4622=\"\",B4622=\"\"),\"\",VLOOKUP(A4622&\"_\"&B4622,Lookups!$E:$F,2,FALSE))","v":""},""]
[null,null,null,null,null,"",null,"",null,null,"","",{"$f":"IF(OR(A4623=\"\",B4623=\"\"),\"\",VLOOKUP(A4623&\"_\"&B4623,Lookups!$E:$F,2,FALSE))","v":""},""]
[null,null,null,null,null,"",null,"",null,null,"","",{"$f":"IF(OR(A4624=\"\",B4624=\"\"),\"\",VLOOKUP(A4624&\"_\"&B4624,Lookups!$E:$F,2,FALSE))","v":""},""]
[null,null,null,null,null,"",null,"",null,null,"","",{"$f":"IF(OR(A4625=\"\",B4625=\"\"),\"\",VLOOKUP(A4625&\"_\"&B4625,Lookups!$E:$F,2,FALSE))","v":""},""]
[null,null,null,null,null,"",null,"",null,null,"","",{"$f":"IF(OR(A4626=\"\",B4626=\"\"),\"\",VLOOKUP(A4626&\"_\"&B4626,Lookups!$E:$F,2,FALSE))","v":""},""]
[null,null,null,null,null,"",null,"",null,null,"","",{"$f":"IF(OR(A4627=\"\",B4627=\"\"),\"\",VLOOKUP(A4627&\"_\"&B4627,Lookups!$E:$F,2,FALSE))","v":""},""]
[null,null,null,null,null,"",null,"",null,null,"","",{"$f":"IF(OR(A4628=\"\",B4628=\"\"),\"\",VLOOKUP(A4628&\"_\"&B4628,Lookups!$E:$F,2,FALSE))","v":""},""]
[null,null,null,null,null,"",null,"",null,null,"","",{"$f":"IF(OR(A4629=\"\",B4629=\"\"),\"\",VLOOKUP(A4629&\"_\"&B4629,Lookups!$E:$F,2,FALSE))","v":""},""]
[null,null,null,null,null,"",null,"",null,null,"","",{"$f":"IF(OR(A4630=\"\",B4630=\"\"),\"\",VLOOKUP(A4630&\"_\"&B4630,Lookups!$E:$F,2,FALSE))","v":""},""]
[null,null,null,null,null,"",null,"",null,null,"","",{"$f":"IF(OR(A4631=\"\",B4631=\"\"),\"\",VLOOKUP(A4631&\"_\"&B4631,Lookups!$E:$F,2,FALSE))","v":""},""]
[null,null,null,null,null,"",null,"",null,null,"","",{"$f":"IF(OR(A4632=\"\",B4632=\"\"),\"\",VLOOKUP(A4632&\"_\"&B4632,Lookups!$E:$F,2,FALSE))","v":""},""]
[null,null,null,null,null,"",null,"",null,null,"","",{"$f":"IF(OR(A4633=\"\",B4633=\"\"),\"\",VLOOKUP(A4633&\"_\"&B4633,Lookups!$E:$F,2,FALSE))","v":""},""]
[null,null,null,null,null,"",null,"",null,null,"","",{"$f":"IF(OR(A4634=\"\",B4634=\"\"),\"\",VLOOKUP(A4634&\"_\"&B4634,Lookups!$E:$F,2,FALSE))","v":""},""]
[null,null,null,null,null,"",null,"",null,null,"","",{"$f":"IF(OR(A4635=\"\",B4635=\"\"),\"\",VLOOKUP(A4635&\"_\"&B4635,Lookups!$E:$F,2,FALSE))","v":""},""]
[null,null,null,null,null,"",null,"",null,null,"","",{"$f":"IF(OR(A4636=\"\",B4636=\"\"),\"\",VLOOKUP(A4636&\"_\"&B4636,Lookups!$E:$F,2,FALSE))","v":""},""]
[null,null,null,null,null,"",null,"",null,null,"","",{"$f":"IF(OR(A4637=\"\",B4637=\"\"),\"\",VLOOKUP(A4637&\"_\"&B4637,Lookups!$E:$F,2,FALSE))","v":""},""]
[null,null,null,null,null,"",null,"",null,null,"","",{"$f":"IF(OR(A4638=\"\",B4638=\"\"),\"\",VLOOKUP(A4638&\"_\"&B4638,Lookups!$E:$F,2,FALSE))","v":""},""]
[null,null,null,null,null,"",null,"",null,null,"","",{"$f":"IF(OR(A4639=\"\",B4639=\"\"),\"\",VLOOKUP(A4639&\"_\"&B4639,Lookups!$E:$F,2,FALSE))","v":""},""]
[null,null,null,null,null,"",null,"",null,null,"","",{"$f":"IF(OR(A4640=\"\",B4640=\"\"),\"\",VLOOKUP(A4640&\"_\"&B4640,Lookups!$E:$F,2,FALSE))","v":""},""]
[null,null,null,null,null,"",null,"",null,null,"","",{"$f":"IF(OR(A4641=\"\",B4641=\"\"),\"\",VLOOKUP(A4641&\"_\"&B4641,Lookups!$E:$F,2,FALSE))","v":""},""]
[null,null,null,null,null,"",null,"",null,null,"","",{"$f":"IF(OR(A4642=\"\",B4642=\"\"),\"\",VLOOKUP(A4642&\"_\"&B4642,Lookups!$E:$F,2,FALSE))","v":""},""]
[null,null,null,null,null,"",null,"",null,null,"","",{"$f":"IF(OR(A4643=\"\",B4643=\"\"),\"\",VLOOKUP(A4643&\"_\"&B4643,Lookups!$E:$F,2,FALSE))","v":""},""]
[null,null,null,null,null,"",null,"",null,null,"","",{"$f":"IF(OR(A4644=\"\",B4644=\"\"),\"\",VLOOKUP(A4644&\"_\"&B4644,Lookups!$E:$F,2,FALSE))","v":""},""]
[null,null,null,null,null,"",null,"",null,null,"","",{"$f":"IF(OR(A4645=\"\",B4645=\"\"),\"\",VLOOKUP(A4645&\"_\"&B4645,Lookups!$E:$F,2,FALSE))","v":""},""]
[null,null,null,null,null,"",null,"",null,null,"","",{"$f":"IF(OR(A4646=\"\",B4646=\"\"),\"\",VLOOKUP(A4646&\"_\"&B4646,Lookups!$E:$F,2,FALSE))","v":""},""]
[null,null,null,null,null,"",null,"",null,null,"","",{"$f":"IF(OR(A4647=\"\",B4647=\"\"),\"\",VLOOKUP(A4647&\"_\"&B4647,Lookups!$E:$F,2,FALSE))","v":""},""]
[null,null,null,null,null,"",null,"",null,null,"","",{"$f":"IF(OR(A4648=\"\",B4648=\"\"),\"\",VLOOKUP(A4648&\"_\"&B4648,Lookups!$E:$F,2,FALSE))","v":""},""]
[null,null,null,null,null,"",null,"",null,null,"","",{"$f":"IF(OR(A4649=\"\",B4649=\"\"),\"\",VLOOKUP(A4649&\"_\"&B4649,Lookups!$E:$F,2,FALSE))","v":""},""]
[null,null,null,null,null,"",null,"",null,null,"","",{"$f":"IF(OR(A4650=\"\",B4650=\"\"),\"\",VLOOKUP(A4650&\"_\"&B4650,Lookups!$E:$F,2,FALSE))","v":""},""]
[null,null,null,null,null,"",null,"",null,null,"","",{"$f":"IF(OR(A4651=\"\",B4651=\"\"),\"\",VLOOKUP(A4651&\"_\"&B4651,Lookups!$E:$F,2,FALSE))","v":""},""]
[null,null,null,null,null,"",null,"",null,null,"","",{"$f":"IF(OR(A4652=\"\",B4652=\"\"),\"\",VLOOKUP(A4652&\"_\"&B4652,Lookups!$E:$F,2,FALSE))","v":""},""]
[null,null,null,null,null,"",null,"",null,null,"","",{"$f":"IF(OR(A4653=\"\",B4653=\"\"),\"\",VLOOKUP(A4653&\"_\"&B4653,Lookups!$E:$F,2,FALSE))","v":""},""]
[null,null,null,null,null,"",null,"",null,null,"","",{"$f":"IF(OR(A4654=\"\",B4654=\"\"),\"\",VLOOKUP(A4654&\"_\"&B4654,Lookups!$E:$F,2,FALSE))","v":""},""]
[null,null,null,null,null,"",null,"",null,null,"","",{"$f":"IF(OR(A4655=\"\",B4655=\"\"),\"\",VLOOKUP(A4655&\"_\"&B4655,Lookups!$E:$F,2,FALSE))","v":""},""]
[null,null,null,null,null,"",null,"",null,null,"","",{"$f":"IF(OR(A4656=\"\",B4656=\"\"),\"\",VLOOKUP(A4656&\"_\"&B4656,Lookups!$E:$F,2,FALSE))","v":""},""]
[null,null,null,null,null,"",null,"",null,null,"","",{"$f":"IF(OR(A4657=\"\",B4657=\"\"),\"\",VLOOKUP(A4657&\"_\"&B4657,Lookups!$E:$F,2,FALSE))","v":""},""]
[null,null,null,null,null,"",null,"",null,null,"","",{"$f":"IF(OR(A4658=\"\",B4658=\"\"),\"\",VLOOKUP(A4658&\"_\"&B4658,Lookups!$E:$F,2,FALSE))","v":""},""]
[null,null,null,null,null,"",null,"",null,null,"","",{"$f":"IF(OR(A4659=\"\",B4659=\"\"),\"\",VLOOKUP(A4659&\"_\"&B4659,Lookups!$E:$F,2,FALSE))","v":""},""]
[null,null,null,null,null,"",null,"",null,null,"","",{"$f":"IF(OR(A4660=\"\",B4660=\"\"),\"\",VLOOKUP(A4660&\"_\"&B4660,Lookups!$E:$F,2,FALSE))","v":""},""]
[null,null,null,null,null,"",null,"",null,null,"","",{"$f":"IF(OR(A4661=\"\",B4661=\"\"),\"\",VLOOKUP(A4661&\"_\"&B4661,Lookups!$E:$F,2,FALSE))","v":""},""]
[null,null,null,null,null,"",null,"",null,null,"","",{"$f":"IF(OR(A4662=\"\",B4662=\"\"),\"\",VLOOKUP(A4662&\"_\"&B4662,Lookups!$E:$F,2,FALSE))","v":""},""]
[null,null,null,null,null,"",null,"",null,null,"","",{"$f":"IF(OR(A4663=\"\",B4663=\"\"),\"\",VLOOKUP(A4663&\"_\"&B4663,Lookups!$E:$F,2,FALSE))","v":""},""]
[null,null,null,null,null,"",null,"",null,null,"","",{"$f":"IF(OR(A4664=\"\",B4664=\"\"),\"\",VLOOKUP(A4664&\"_\"&B4664,Lookups!$E:$F,2,FALSE))","v":""},""]
[null,null,null,null,null,"",null,"",null,null,"","",{"$f":"IF(OR(A4665=\"\",B4665=\"\"),\"\",VLOOKUP(A4665&\"_\"&B4665,Lookups!$E:$F,2,FALSE))","v":""},""]
[null,null,null,null,null,"",null,"",null,null,"","",{"$f":"IF(OR(A4666=\"\",B4666=\"\"),\"\",VLOOKUP(A4666&\"_\"&B4666,Lookups!$E:$F,2,FALSE))","v":""},""]
[null,null,null,null,null,"",null,"",null,null,"","",{"$f":"IF(OR(A4667=\"\",B4667=\"\"),\"\",VLOOKUP(A4667&\"_\"&B4667,Lookups!$E:$F,2,FALSE))","v":""},""]
[null,null,null,null,null,"",null,"",null,null,"","",{"$f":"IF(OR(A4668=\"\",B4668=\"\"),\"\",VLOOKUP(A4668&\"_\"&B4668,Lookups!$E:$F,2,FALSE))","v":""},""]
[null,null,null,null,null,"",null,"",null,null,"","",{"$f":"IF(OR(A4669=\"\",B4669=\"\"),\"\",VLOOKUP(A4669&\"_\"&B4669,Lookups!$E:$F,2,FALSE))","v":""},""]
[null,null,null,null,null,"",null,"",null,null,"","",{"$f":"IF(OR(A4670=\"\",B4670=\"\"),\"\",VLOOKUP(A4670&\"_\"&B4670,Lookups!$E:$F,2,FALSE))","v":""},""]
[null,null,null,null,null,"",null,"",null,null,"","",{"$f":"IF(OR(A4671=\"\",B4671=\"\"),\"\",VLOOKUP(A4671&\"_\"&B4671,Lookups!$E:$F,2,FALSE))","v":""},""]
[null,null,null,null,null,"",null,"",null,null,"","",{"$f":"IF(OR(A4672=\"\",B4672=\"\"),\"\",VLOOKUP(A4672&\"_\"&B4672,Lookups!$E:$F,2,FALSE))","v":""},""]
[null,null,null,null,null,"",null,"",null,null,"","",{"$f":"IF(OR(A4673=\"\",B4673=\"\"),\"\",VLOOKUP(A4673&\"_\"&B4673,Lookups!$E:$F,2,FALSE))","v":""},""]
[null,null,null,null,null,"",null,"",null,null,"","",{"$f":"IF(OR(A4674=\"\",B4674=\"\"),\"\",VLOOKUP(A4674&\"_\"&B4674,Lookups!$E:$F,2,FALSE))","v":""},""]
[null,null,null,null,null,"",null,"",null,null,"","",{"$f":"IF(OR(A4675=\"\",B4675=\"\"),\"\",VLOOKUP(A4675&\"_\"&B4675,Lookups!$E:$F,2,FALSE))","v":""},""]
[null,null,null,null,null,{"$f":"IF(OR(D4676=\"\",E4676=\"\"),\"\",ROUND((E4676-D4676)*24,2))","v":""},null,{"$f":"IF(F4676=\"\",\"\",IF(G4676<>\"\",F4676*G4676,F4676))","v":""},null,null,{"$f":"IF(AND(H4676<>\"\",I4676=\"Paid\"),H4676,\"\")","v":""},{"$f":"IF(H4676=\"\",\"\",IF(K4676=\"\",H4676,H4676-K4676))","v":""},{"$f":"IF(OR(A4676=\"\",B4676=\"\"),\"\",VLOOKUP(A4676&\"_\"&B4676,Lookups!$E:$F,2,FALSE))","v":""},{"$f":"IF(AND(K4676=\"\",L4676=\"\"),\"\",IF(K4676=\"\",L4676*M4676,SUM(K4676,L4676)*M4676))","v":""}]
[null,null,null,null,null,"",null,"",null,null,"","",{"$f":"IF(OR(A4677=\"\",B4677=\"\"),\"\",VLOOKUP(A4677&\"_\"&B4677,Lookups!$E:$F,2,FALSE))","v":""},""]
[null,null,null,null,null,"",null,"",null,null,"","",{"$f":"IF(OR(A4678=\"\",B4678=\"\"),\"\",VLOOKUP(A4678&\"_\"&B4678,Lookups!$E:$F,2,FALSE))","v":""},""]
[null,null,null,null,null,"",null,"",null,null,"","",{"$f":"IF(OR(A4679=\"\",B4679=\"\"),\"\",VLOOKUP(A4679&\"_\"&B4679,Lookups!$E:$F,2,FALSE))","v":""},""]
[null,null,null,null,null,"",null,"",null,null,"","",{"$f":"IF(OR(A4680=\"\",B4680=\"\"),\"\",VLOOKUP(A4680&\"_\"&B4680,Lookups!$E:$F,2,FALSE))","v":""},""]
[null,null,null,null,null,"",null,"",null,null,"","",{"$f":"IF(OR(A4681=\"\",B4681=\"\"),\"\",VLOOKUP(A4681&\"_\"&B4681,Lookups!$E:$F,2,FALSE))","v":""},""]
[null,null,null,null,null,"",null,"",null,null,"","",{"$f":"IF(OR(A4682=\"\",B4682=\"\"),\"\",VLOOKUP(A4682&\"_\"&B4682,Lookups!$E:$F,2,FALSE))","v":""},""]
[null,null,null,null,null,"",null,"",null,null,"","",{"$f":"IF(OR(A4683=\"\",B4683=\"\"),\"\",VLOOKUP(A4683&\"_\"&B4683,Lookups!$E:$F,2,FALSE))","v":""},""]
[null,null,null,null,null,"",null,"",null,null,"","",{"$f":"IF(OR(A4684=\"\",B4684=\"\"),\"\",VLOOKUP(A4684&\"_\"&B4684,Lookups!$E:$F,2,FALSE))","v":""},""]
[null,null,null,null,null,"",null,"",null,null,"","",{"$f":"IF(OR(A4685=\"\",B4685=\"\"),\"\",VLOOKUP(A4685&\"_\"&B4685,Lookups!$E:$F,2,FALSE))","v":""},""]
[null,null,null,null,null,"",null,"",null,null,"","",{"$f":"IF(OR(A4686=\"\",B4686=\"\"),\"\",VLOOKUP(A4686&\"_\"&B4686,Lookups!$E:$F,2,FALSE))","v":""},""]
[null,null,null,null,null,"",null,"",null,null,"","",{"$f":"IF(OR(A4687=\"\",B4687=\"\"),\"\",VLOOKUP(A4687&\"_\"&B4687,Lookups!$E:$F,2,FALSE))","v":""},""]
[null,null,null,null,null,"",null,"",null,null,"","",{"$f":"IF(OR(A4688=\"\",B4688=\"\"),\"\",VLOOKUP(A4688&\"_\"&B4688,Lookups!$E:$F,2,FALSE))","v":""},""]
[null,null,null,null,null,"",null,"",null,null,"","",{"$f":"IF(OR(A4689=\"\",B4689=\"\"),\"\",VLOOKUP(A4689&\"_\"&B4689,Lookups!$E:$F,2,FALSE))","v":""},""]
[null,null,null,null,null,"",null,"",null,null,"","",{"$f":"IF(OR(A4690=\"\",B4690=\"\"),\"\",VLOOKUP(A4690&\"_\"&B4690,Lookups!$E:$F,2,FALSE))","v":""},""]
[null,null,null,null,null,"",null,"",null,null,"","",{"$f":"IF(OR(A4691=\"\",B4691=\"\"),\"\",VLOOKUP(A4691&\"_\"&B4691,Lookups!$E:$F,2,FALSE))","v":""},""]
[null,null,null,null,null,"",null,"",null,null,"","",{"$f":"IF(OR(A4692=\"\",B4692=\"\"),\"\",VLOOKUP(A4692&\"_\"&B4692,Lookups!$E:$F,2,FALSE))","v":""},""]
[null,null,null,null,null,"",null,"",null,null,"","",{"$f":"IF(OR(A4693=\"\",B4693=\"\"),\"\",VLOOKUP(A4693&\"_\"&B4693,Lookups!$E:$F,2,FALSE))","v":""},""]
[null,null,null,null,null,"",null,"",null,null,"","",{"$f":"IF(OR(A4694=\"\",B4694=\"\"),\"\",VLOOKUP(A4694&\"_\"&B4694,Lookups!$E:$F,2,FALSE))","v":""},""]
[null,null,null,null,null,"",null,"",null,null,"","",{"$f":"IF(OR(A4695=\"\",B4695=\"\"),\"\",VLOOKUP(A4695&\"_\"&B4695,Lookups!$E:$F,2,FALSE))","v":""},""]
[null,null,null,null,null,"",null,"",null,null,"","",{"$f":"IF(OR(A4696=\"\",B4696=\"\"),\"\",VLOOKUP(A4696&\"_\"&B4696,Lookups!$E:$F,2,FALSE))","v":""},""]
[null,null,null,null,null,"",null,"",null,null,"","",{"$f":"IF(OR(A4697=\"\",B4697=\"\"),\"\",VLOOKUP(A4697&\"_\"&B4697,Lookups!$E:$F,2,FALSE))","v":""},""]
[null,null,null,null,null,"",null,"",null,null,"","",{"$f":"IF(OR(A4698=\"\",B4698=\"\"),\"\",VLOOKUP(A4698&\"_\"&B4698,Lookups!$E:$F,2,FALSE))","v":""},""]
[null,null,null,null,null,"",null,"",null,null,"","",{"$f":"IF(OR(A4699=\"\",B4699=\"\"),\"\",VLOOKUP(A4699&\"_\"&B4699,Lookups!$E:$F,2,FALSE))","v":""},""]
[null,null,null,null,null,"",null,"",null,null,"","",{"$f":"IF(OR(A4700=\"\",B4700=\"\"),\"\",VLOOKUP(A4700&\"_\"&B4700,Lookups!$E:$F,2,FALSE))","v":""},""]
[null,null,null,null,null,"",null,"",null,null,"","",{"$f":"IF(OR(A4701=\"\",B4701=\"\"),\"\",VLOOKUP(A4701&\"_\"&B4701,Lookups!$E:$F,2,FALSE))","v":""},""]
[null,null,null,null,null,"",null,"",null,null,"","",{"$f":"IF(OR(A4702=\"\",B4702=\"\"),\"\",VLOOKUP(A4702&\"_\"&B4702,Lookups!$E:$F,2,FALSE))","v":""},""]
[null,null,null,null,null,"",null,"",null,null,"","",{"$f":"IF(OR(A4703=\"\",B4703=\"\"),\"\",VLOOKUP(A4703&\"_\"&B4703,Lookups!$E:$F,2,FALSE))","v":""},""]
[null,null,null,null,null,"",null,"",null,null,"","",{"$f":"IF(OR(A4704=\"\",B4704=\"\"),\"\",VLOOKUP(A4704&\"_\"&B4704,Lookups!$E:$F,2,FALSE))","v":""},""]
[null,null,null,null,null,"",null,"",null,null,"","",{"$f":"IF(OR(A4705=\"\",B4705=\"\"),\"\",VLOOKUP(A4705&\"_\"&B4705,Lookups!$E:$F,2,FALSE))","v":""},""]
[null,null,null,null,null,"",null,"",null,null,"","",{"$f":"IF(OR(A4706=\"\",B4706=\"\"),\"\",VLOOKUP(A4706&\"_\"&B4706,Lookups!$E:$F,2,FALSE))","v":""},""]
[null,null,null,null,null,"",null,"",null,null,"","",{"$f":"IF(OR(A4707=\"\",B4707=\"\"),\"\",VLOOKUP(A4707&\"_\"&B4707,Lookups!$E:$F,2,FALSE))","v":""},""]
[null,null,null,null,null,"",null,"",null,null,"","",{"$f":"IF(OR(A4708=\"\",B4708=\"\"),\"\",VLOOKUP(A4708&\"_\"&B4708,Lookups!$E:$F,2,FALSE))","v":""},""]
[null,null,null,null,null,"",null,"",null,null,"","",{"$f":"IF(OR(A4709=\"\",B4709=\"\"),\"\",VLOOKUP(A4709&\"_\"&B4709,Lookups!$E:$F,2,FALSE))","v":""},""]
[null,null,null,null,null,"",null,"",null,null,"","",{"$f":"IF(OR(A4710=\"\",B4710=\"\"),\"\",VLOOKUP(A4710&\"_\"&B4710,Lookups!$E:$F,2,FALSE))","v":""},""]
[null,null,null,null,null,"",null,"",null,null,"","",{"$f":"IF(OR(A4711=\"\",B4711=\"\"),\"\",VLOOKUP(A4711&\"_\"&B4711,Lookups!$E:$F,2,FALSE))","v":""},""]
[null,null,null,null,null,"",null,"",null,null,"","",{"$f":"IF(OR(A4712=\"\",B4712=\"\"),\"\",VLOOKUP(A4712&\"_\"&B4712,Lookups!$E:$F,2,FALSE))","v":""},""]
[null,null,null,null,null,"",null,"",null,null,"","",{"$f":"IF(OR(A4713=\"\",B4713=\"\"),\"\",VLOOKUP(A4713&\"_\"&B4713,Lookups!$E:$F,2,FALSE))","v":""},""]
[null,null,null,null,null,"",null,"",null,null,"","",{"$f":"IF(OR(A4714=\"\",B4714=\"\"),\"\",VLOOKUP(A4714&\"_\"&B4714,Lookups!$E:$F,2,FALSE))","v":""},""]
[null,null,null,null,null,"",null,"",null,null,"","",{"$f":"IF(OR(A4715=\"\",B4715=\"\"),\"\",VLOOKUP(A4715&\"_\"&B4715,Lookups!$E:$F,2,FALSE))","v":""},""]
[null,null,null,null,null,"",null,"",null,null,"","",{"$f":"IF(OR(A4716=\"\",B4716=\"\"),\"\",VLOOKUP(A4716&\"_\"&B4716,Lookups!$E:$F,2,FALSE))","v":""},""]
[null,null,null,null,null,"",null,"",null,null,"","",{"$f":"IF(OR(A4717=\"\",B4717=\"\"),\"\",VLOOKUP(A4717&\"_\"&B4717,Lookups!$E:$F,2,FALSE))","v":""},""]
[null,null,null,null,null,"",null,"",null,null,"","",{"$f":"IF(OR(A4718=\"\",B4718=\"\"),\"\",VLOOKUP(A4718&\"_\"&B4718,Lookups!$E:$F,2,FALSE))","v":""},""]
[null,null,null,null,null,"",null,"",null,null,"","",{"$f":"IF(OR(A4719=\"\",B4719=\"\"),\"\",VLOOKUP(A4719&\"_\"&B4719,Lookups!$E:$F,2,FALSE))","v":""},""]
[null,null,null,null,null,"",null,"",null,null,"","",{"$f":"IF(OR(A4720=\"\",B4720=\"\"),\"\",VLOOKUP(A4720&\"_\"&B4720,Lookups!$E:$F,2,FALSE))","v":""},""]
[null,null,null,null,null,"",null,"",null,null,"","",{"$f":"IF(OR(A4721=\"\",B4721=\"\"),\"\",VLOOKUP(A4721&\"_\"&B4721,Lookups!$E:$F,2,FALSE))","v":""},""]
[null,null,null,null,null,"",null,"",null,null,"","",{"$f":"IF(OR(A4722=\"\",B4722=\"\"),\"\",VLOOKUP(A4722&\"_\"&B4722,Lookups!$E:$F,2,FALSE))","v":""},""]
[null,null,null,null,null,"",null,"",null,null,"","",{"$f":"IF(OR(A4723=\"\",B4723=\"\"),\"\",VLOOKUP(A4723&\"_\"&B4723,Lookups!$E:$F,2,FALSE))","v":""},""]
[null,null,null,null,null,"",null,"",null,null,"","",{"$f":"IF(OR(A4724=\"\",B4724=\"\"),\"\",VLOOKUP(A4724&\"_\"&B4724,Lookups!$E:$F,2,FALSE))","v":""},""]
[null,null,null,null,null,"",null,"",null,null,"","",{"$f":"IF(OR(A4725=\"\",B4725=\"\"),\"\",VLOOKUP(A4725&\"_\"&B4725,Lookups!$E:$F,2,FALSE))","v":""},""]
[null,null,null,null,null,"",null,"",null,null,"","",{"$f":"IF(OR(A4726=\"\",B4726=\"\"),\"\",VLOOKUP(A4726&\"_\"&B4726,Lookups!$E:$F,2,FALSE))","v":""},""]
[null,null,null,null,null,"",null,"",null,null,"","",{"$f":"IF(OR(A4727=\"\",B4727=\"\"),\"\",VLOOKUP(A4727&\"_\"&B4727,Lookups!$E:$F,2,FALSE))","v":""},""]
[null,null,null,null,null,"",null,"",null,null,"","",{"$f":"IF(OR(A4728=\"\",B4728=\"\"),\"\",VLOOKUP(A4728&\"_\"&B4728,Lookups!$E:$F,2,FALSE))","v":""},""]
[null,null,null,null,null,"",null,"",null,null,"","",{"$f":"IF(OR(A4729=\"\",B4729=\"\"),\"\",VLOOKUP(A4729&\"_\"&B4729,Lookups!$E:$F,2,FALSE))","v":""},""]
[null,null,null,null,null,"",null,"",null,null,"","",{"$f":"IF(OR(A4730=\"\",B4730=\"\"),\"\",VLOOKUP(A4730&\"_\"&B4730,Lookups!$E:$F,2,FALSE))","v":""},""]
[null,null,null,null,null,"",null,"",null,null,"","",{"$f":"IF(OR(A4731=\"\",B4731=\"\"),\"\",VLOOKUP(A4731&\"_\"&B4731,Lookups!$E:$F,2,FALSE))","v":""},""]
[null,null,null,null,null,"",null,"",null,null,"","",{"$f":"IF(OR(A4732=\"\",B4732=\"\"),\"\",VLOOKUP(A4732&\"_\"&B4732,Lookups!$E:$F,2,FALSE))","v":""},""]
[null,null,null,null,null,"",null,"",null,null,"","",{"$f":"IF(OR(A4733=\"\",B4733=\"\"),\"\",VLOOKUP(A4733&\"_\"&B4733,Lookups!$E:$F,2,FALSE))","v":""},""]
[null,null,null,null,null,"",null,"",null,null,"","",{"$f":"IF(OR(A4734=\"\",B4734=\"\"),\"\",VLOOKUP(A4734&\"_\"&B4734,Lookups!$E:$F,2,FALSE))","v":""},""]
[null,null,null,null,null,"",null,"",null,null,"","",{"$f":"IF(OR(A4735=\"\",B4735=\"\"),\"\",VLOOKUP(A4735&\"_\"&B4735,Lookups!$E:$F,2,FALSE))","v":""},""]
[null,null,null,null,null,"",null,"",null,null,"","",{"$f":"IF(OR(A4736=\"\",B4736=\"\"),\"\",VLOOKUP(A4736&\"_\"&B4736,Lookups!$E:$F,2,FALSE))","v":""},""]
[null,null,null,null,null,"",null,"",null,null,"","",{"$f":"IF(OR(A4737=\"\",B4737=\"\"),\"\",VLOOKUP(A4737&\"_\"&B4737,Lookups!$E:$F,2,FALSE))","v":""},""]
[null,null,null,null,null,"",null,"",null,null,"","",{"$f":"IF(OR(A4738=\"\",B4738=\"\"),\"\",VLOOKUP(A4738&\"_\"&B4738,Lookups!$E:$F,2,FALSE))","v":""},""]
[null,null,null,null,null,"",null,"",null,null,"","",{"$f":"IF(OR(A4739=\"\",B4739=\"\"),\"\",VLOOKUP(A4739&\"_\"&B4739,Lookups!$E:$F,2,FALSE))","v":""},""]
[null,null,null,null,null,{"$f":"IF(OR(D4740=\"\",E4740=\"\"),\"\",ROUND((E4740-D4740)*24,2))","v":""},null,{"$f":"IF(F4740=\"\",\"\",IF(G4740<>\"\",F4740*G4740,F4740))","v":""},null,null,{"$f":"IF(AND(H4740<>\"\",I4740=\"Paid\"),H4740,\"\")","v":""},{"$f":"IF(H4740=\"\",\"\",IF(K4740=\"\",H4740,H4740-K4740))","v":""},{"$f":"IF(OR(A4740=\"\",B4740=\"\"),\"\",VLOOKUP(A4740&\"_\"&B4740,Lookups!$E:$F,2,FALSE))","v":""},{"$f":"IF(AND(K4740=\"\",L4740=\"\"),\"\",IF(K4740=\"\",L4740*M4740,SUM(K4740,L4740)*M4740))","v":""}]
[null,null,null,null,null,"",null,"",null,null,"","",{"$f":"IF(OR(A4741=\"\",B4741=\"\"),\"\",VLOOKUP(A4741&\"_\"&B4741,Lookups!$E:$F,2,FALSE))","v":""},""]
[null,null,null,null,null,"",null,"",null,null,"","",{"$f":"IF(OR(A4742=\"\",B4742=\"\"),\"\",VLOOKUP(A4742&\"_\"&B4742,Lookups!$E:$F,2,FALSE))","v":""},""]
[null,null,null,null,null,"",null,"",null,null,"","",{"$f":"IF(OR(A4743=\"\",B4743=\"\"),\"\",VLOOKUP(A4743&\"_\"&B4743,Lookups!$E:$F,2,FALSE))","v":""},""]
[null,null,null,null,null,"",null,"",null,null,"","",{"$f":"IF(OR(A4744=\"\",B4744=\"\"),\"\",VLOOKUP(A4744&\"_\"&B4744,Lookups!$E:$F,2,FALSE))","v":""},""]
[null,null,null,null,null,"",null,"",null,null,"","",{"$f":"IF(OR(A4745=\"\",B4745=\"\"),\"\",VLOOKUP(A4745&\"_\"&B4745,Lookups!$E:$F,2,FALSE))","v":""},""]
[null,null,null,null,null,"",null,"",null,null,"","",{"$f":"IF(OR(A4746=\"\",B4746=\"\"),\"\",VLOOKUP(A4746&\"_\"&B4746,Lookups!$E:$F,2,FALSE))","v":""},""]
[null,null,null,null,null,"",null,"",null,null,"","",{"$f":"IF(OR(A4747=\"\",B4747=\"\"),\"\",VLOOKUP(A4747&\"_\"&B4747,Lookups!$E:$F,2,FALSE))","v":""},""]
[null,null,null,null,null,"",null,"",null,null,"","",{"$f":"IF(OR(A4748=\"\",B4748=\"\"),\"\",VLOOKUP(A4748&\"_\"&B4748,Lookups!$E:$F,2,FALSE))","v":""},""]
[null,null,null,null,null,"",null,"",null,null,"","",{"$f":"IF(OR(A4749=\"\",B4749=\"\"),\"\",VLOOKUP(A4749&\"_\"&B4749,Lookups!$E:$F,2,FALSE))","v":""},""]
[null,null,null,null,null,"",null,"",null,null,"","",{"$f":"IF(OR(A4750=\"\",B4750=\"\"),\"\",VLOOKUP(A4750&\"_\"&B4750,Lookups!$E:$F,2,FALSE))","v":""},""]
[null,null,null,null,null,"",null,"",null,null,"","",{"$f":"IF(OR(A4751=\"\",B4751=\"\"),\"\",VLOOKUP(A4751&\"_\"&B4751,Lookups!$E:$F,2,FALSE))","v":""},""]
[null,null,null,null,null,"",null,"",null,null,"","",{"$f":"IF(OR(A4752=\"\",B4752=\"\"),\"\",VLOOKUP(A4752&\"_\"&B4752,Lookups!$E:$F,2,FALSE))","v":""},""]
[null,null,null,null,null,"",null,"",null,null,"","",{"$f":"IF(OR(A4753=\"\",B4753=\"\"),\"\",VLOOKUP(A4753&\"_\"&B4753,Lookups!$E:$F,2,FALSE))","v":""},""]
[null,null,null,null,null,"",null,"",null,null,"","",{"$f":"IF(OR(A4754=\"\",B4754=\"\"),\"\",VLOOKUP(A4754&\"_\"&B4754,Lookups!$E:$F,2,FALSE))","v":""},""]
[null,null,null,null,null,"",null,"",null,null,"","",{"$f":"IF(OR(A4755=\"\",B4755=\"\"),\"\",VLOOKUP(A4755&\"_\"&B4755,Lookups!$E:$F,2,FALSE))","v":""},""]
[null,null,null,null,null,"",null,"",null,null,"","",{"$f":"IF(OR(A4756=\"\",B4756=\"\"),\"\",VLOOKUP(A4756&\"_\"&B4756,Lookups!$E:$F,2,FALSE))","v":""},""]
[null,null,null,null,null,"",null,"",null,null,"","",{"$f":"IF(OR(A4757=\"\",B4757=\"\"),\"\",VLOOKUP(A4757&\"_\"&B4757,Lookups!$E:$F,2,FALSE))","v":""},""]
[null,null,null,null,null,"",null,"",null,null,"","",{"$f":"IF(OR(A4758=\"\",B4758=\"\"),\"\",VLOOKUP(A4758&\"_\"&B4758,Lookups!$E:$F,2,FALSE))","v":""},""]
[null,null,null,null,null,"",null,"",null,null,"","",{"$f":"IF(OR(A4759=\"\",B4759=\"\"),\"\",VLOOKUP(A4759&\"_\"&B4759,Lookups!$E:$F,2,FALSE))","v":""},""]
[null,null,null,null,null,"",null,"",null,null,"","",{"$f":"IF(OR(A4760=\"\",B4760=\"\"),\"\",VLOOKUP(A4760&\"_\"&B4760,Lookups!$E:$F,2,FALSE))","v":""},""]
[null,null,null,null,null,"",null,"",null,null,"","",{"$f":"IF(OR(A4761=\"\",B4761=\"\"),\"\",VLOOKUP(A4761&\"_\"&B4761,Lookups!$E:$F,2,FALSE))","v":""},""]
[null,null,null,null,null,"",null,"",null,null,"","",{"$f":"IF(OR(A4762=\"\",B4762=\"\"),\"\",VLOOKUP(A4762&\"_\"&B4762,Lookups!$E:$F,2,FALSE))","v":""},""]
[null,null,null,null,null,"",null,"",null,null,"","",{"$f":"IF(OR(A4763=\"\",B4763=\"\"),\"\",VLOOKUP(A4763&\"_\"&B4763,Lookups!$E:$F,2,FALSE))","v":""},""]
[null,null,null,null,null,"",null,"",null,null,"","",{"$f":"IF(OR(A4764=\"\",B4764=\"\"),\"\",VLOOKUP(A4764&\"_\"&B4764,Lookups!$E:$F,2,FALSE))","v":""},""]
[null,null,null,null,null,"",null,"",null,null,"","",{"$f":"IF(OR(A4765=\"\",B4765=\"\"),\"\",VLOOKUP(A4765&\"_\"&B4765,Lookups!$E:$F,2,FALSE))","v":""},""]
[null,null,null,null,null,"",null,"",null,null,"","",{"$f":"IF(OR(A4766=\"\",B4766=\"\"),\"\",VLOOKUP(A4766&\"_\"&B4766,Lookups!$E:$F,2,FALSE))","v":""},""]
[null,null,null,null,null,"",null,"",null,null,"","",{"$f":"IF(OR(A4767=\"\",B4767=\"\"),\"\",VLOOKUP(A4767&\"_\"&B4767,Lookups!$E:$F,2,FALSE))","v":""},""]
[null,null,null,null,null,"",null,"",null,null,"","",{"$f":"IF(OR(A4768=\"\",B4768=\"\"),\"\",VLOOKUP(A4768&\"_\"&B4768,Lookups!$E:$F,2,FALSE))","v":""},""]
[null,null,null,null,null,"",null,"",null,null,"","",{"$f":"IF(OR(A4769=\"\",B4769=\"\"),\"\",VLOOKUP(A4769&\"_\"&B4769,Lookups!$E:$F,2,FALSE))","v":""},""]
[null,null,null,null,null,"",null,"",null,null,"","",{"$f":"IF(OR(A4770=\"\",B4770=\"\"),\"\",VLOOKUP(A4770&\"_\"&B4770,Lookups!$E:$F,2,FALSE))","v":""},""]
[null,null,null,null,null,"",null,"",null,null,"","",{"$f":"IF(OR(A4771=\"\",B4771=\"\"),\"\",VLOOKUP(A4771&\"_\"&B4771,Lookups!$E:$F,2,FALSE))","v":""},""]
[null,null,null,null,null,"",null,"",null,null,"","",{"$f":"IF(OR(A4772=\"\",B4772=\"\"),\"\",VLOOKUP(A4772&\"_\"&B4772,Lookups!$E:$F,2,FALSE))","v":""},""]
[null,null,null,null,null,"",null,"",null,null,"","",{"$f":"IF(OR(A4773=\"\",B4773=\"\"),\"\",VLOOKUP(A4773&\"_\"&B4773,Lookups!$E:$F,2,FALSE))","v":""},""]
[null,null,null,null,null,"",null,"",null,null,"","",{"$f":"IF(OR(A4774=\"\",B4774=\"\"),\"\",VLOOKUP(A4774&\"_\"&B4774,Lookups!$E:$F,2,FALSE))","v":""},""]
[null,null,null,null,null,"",null,"",null,null,"","",{"$f":"IF(OR(A4775=\"\",B4775=\"\"),\"\",VLOOKUP(A4775&\"_\"&B4775,Lookups!$E:$F,2,FALSE))","v":""},""]
[null,null,null,null,null,"",null,"",null,null,"","",{"$f":"IF(OR(A4776=\"\",B4776=\"\"),\"\",VLOOKUP(A4776&\"_\"&B4776,Lookups!$E:$F,2,FALSE))","v":""},""]
[null,null,null,null,null,"",null,"",null,null,"","",{"$f":"IF(OR(A4777=\"\",B4777=\"\"),\"\",VLOOKUP(A4777&\"_\"&B4777,Lookups!$E:$F,2,FALSE))","v":""},""]
[null,null,null,null,null,"",null,"",null,null,"","",{"$f":"IF(OR(A4778=\"\",B4778=\"\"),\"\",VLOOKUP(A4778&\"_\"&B4778,Lookups!$E:$F,2,FALSE))","v":""},""]
[null,null,null,null,null,"",null,"",null,null,"","",{"$f":"IF(OR(A4779=\"\",B4779=\"\"),\"\",VLOOKUP(A4779&\"_\"&B4779,Lookups!$E:$F,2,FALSE))","v":""},""]
[null,null,null,null,null,"",null,"",null,null,"","",{"$f":"IF(OR(A4780=\"\",B4780=\"\"),\"\",VLOOKUP(A4780&\"_\"&B4780,Lookups!$E:$F,2,FALSE))","v":""},""]
[null,null,null,null,null,"",null,"",null,null,"","",{"$f":"IF(OR(A4781=\"\",B4781=\"\"),\"\",VLOOKUP(A4781&\"_\"&B4781,Lookups!$E:$F,2,FALSE))","v":""},""]
[null,null,null,null,null,"",null,"",null,null,"","",{"$f":"IF(OR(A4782=\"\",B4782=\"\"),\"\",VLOOKUP(A4782&\"_\"&B4782,Lookups!$E:$F,2,FALSE))","v":""},""]
[null,null,null,null,null,"",null,"",null,null,"","",{"$f":"IF(OR(A4783=\"\",B4783=\"\"),\"\",VLOOKUP(A4783&\"_\"&B4783,Lookups!$E:$F,2,FALSE))","v":""},""]
[null,null,null,null,null,"",null,"",null,null,"","",{"$f":"IF(OR(A4784=\"\",B4784=\"\"),\"\",VLOOKUP(A4784&\"_\"&B4784,Lookups!$E:$F,2,FALSE))","v":""},""]
[null,null,null,null,null,"",null,"",null,null,"","",{"$f":"IF(OR(A4785=\"\",B4785=\"\"),\"\",VLOOKUP(A4785&\"_\"&B4785,Lookups!$E:$F,2,FALSE))","v":""},""]
[null,null,null,null,null,"",null,"",null,null,"","",{"$f":"IF(OR(A4786=\"\",B4786=\"\"),\"\",VLOOKUP(A4786&\"_\"&B4786,Lookups!$E:$F,2,FALSE))","v":""},""]
[null,null,null,null,null,"",null,"",null,null,"","",{"$f":"IF(OR(A4787=\"\",B4787=\"\"),\"\",VLOOKUP(A4787&\"_\"&B4787,Lookups!$E:$F,2,FALSE))","v":""},""]
[null,null,null,null,null,"",null,"",null,null,"","",{"$f":"IF(OR(A4788=\"\",B4788=\"\"),\"\",VLOOKUP(A4788&\"_\"&B4788,Lookups!$E:$F,2,FALSE))","v":""},""]
[null,null,null,null,null,"",null,"",null,null,"","",{"$f":"IF(OR(A4789=\"\",B4789=\"\"),\"\",VLOOKUP(A4789&\"_\"&B4789,Lookups!$E:$F,2,FALSE))","v":""},""]
[null,null,null,null,null,"",null,"",null,null,"","",{"$f":"IF(OR(A4790=\"\",B4790=\"\"),\"\",VLOOKUP(A4790&\"_\"&B4790,Lookups!$E:$F,2,FALSE))","v":""},""]
[null,null,null,null,null,"",null,"",null,null,"","",{"$f":"IF(OR(A4791=\"\",B4791=\"\"),\"\",VLOOKUP(A4791&\"_\"&B4791,Lookups!$E:$F,2,FALSE))","v":""},""]
[null,null,null,null,null,"",null,"",null,null,"","",{"$f":"IF(OR(A4792=\"\",B4792=\"\"),\"\",VLOOKUP(A4792&\"_\"&B4792,Lookups!$E:$F,2,FALSE))","v":""},""]
[null,null,null,null,null,"",null,"",null,null,"","",{"$f":"IF(OR(A4793=\"\",B4793=\"\"),\"\",VLOOKUP(A4793&\"_\"&B4793,Lookups!$E:$F,2,FALSE))","v":""},""]
[null,null,null,null,null,"",null,"",null,null,"","",{"$f":"IF(OR(A4794=\"\",B4794=\"\"),\"\",VLOOKUP(A4794&\"_\"&B4794,Lookups!$E:$F,2,FALSE))","v":""},""]
[null,null,null,null,null,"",null,"",null,null,"","",{"$f":"IF(OR(A4795=\"\",B4795=\"\"),\"\",VLOOKUP(A4795&\"_\"&B4795,Lookups!$E:$F,2,FALSE))","v":""},""]
[null,null,null,null,null,"",null,"",null,null,"","",{"$f":"IF(OR(A4796=\"\",B4796=\"\"),\"\",VLOOKUP(A4796&\"_\"&B4796,Lookups!$E:$F,2,FALSE))","v":""},""]
[null,null,null,null,null,"",null,"",null,null,"","",{"$f":"IF(OR(A4797=\"\",B4797=\"\"),\"\",VLOOKUP(A4797&\"_\"&B4797,Lookups!$E:$F,2,FALSE))","v":""},""]
[null,null,null,null,null,"",null,"",null,null,"","",{"$f":"IF(OR(A4798=\"\",B4798=\"\"),\"\",VLOOKUP(A4798&\"_\"&B4798,Lookups!$E:$F,2,FALSE))","v":""},""]
[null,null,null,null,null,"",null,"",null,null,"","",{"$f":"IF(OR(A4799=\"\",B4799=\"\"),\"\",VLOOKUP(A4799&\"_\"&B4799,Lookups!$E:$F,2,FALSE))","v":""},""]
[null,null,null,null,null,"",null,"",null,null,"","",{"$f":"IF(OR(A4800=\"\",B4800=\"\"),\"\",VLOOKUP(A4800&\"_\"&B4800,Lookups!$E:$F,2,FALSE))","v":""},""]
[null,null,null,null,null,"",null,"",null,null,"","",{"$f":"IF(OR(A4801=\"\",B4801=\"\"),\"\",VLOOKUP(A4801&\"_\"&B4801,Lookups!$E:$F,2,FALSE))","v":""},""]
[null,null,null,null,null,"",null,"",null,null,"","",{"$f":"IF(OR(A4802=\"\",B4802=\"\"),\"\",VLOOKUP(A4802&\"_\"&B4802,Lookups!$E:$F,2,FALSE))","v":""},""]
[null,null,null,null,null,"",null,"",null,null,"","",{"$f":"IF(OR(A4803=\"\",B4803=\"\"),\"\",VLOOKUP(A4803&\"_\"&B4803,Lookups!$E:$F,2,FALSE))","v":""},""]
[null,null,null,null,null,{"$f":"IF(OR(D4804=\"\",E4804=\"\"),\"\",ROUND((E4804-D4804)*24,2))","v":""},null,{"$f":"IF(F4804=\"\",\"\",IF(G4804<>\"\",F4804*G4804,F4804))","v":""},null,null,{"$f":"IF(AND(H4804<>\"\",I4804=\"Paid\"),H4804,\"\")","v":""},{"$f":"IF(H4804=\"\",\"\",IF(K4804=\"\",H4804,H4804-K4804))","v":""},{"$f":"IF(OR(A4804=\"\",B4804=\"\"),\"\",VLOOKUP(A4804&\"_\"&B4804,Lookups!$E:$F,2,FALSE))","v":""},{"$f":"IF(AND(K4804=\"\",L4804=\"\"),\"\",IF(K4804=\"\",L4804*M4804,SUM(K4804,L4804)*M4804))","v":""}]
[null,null,null,null,null,"",null,"",null,null,"","",{"$f":"IF(OR(A4805=\"\",B4805=\"\"),\"\",VLOOKUP(A4805&\"_\"&B4805,Lookups!$E:$F,2,FALSE))","v":""},""]
[null,null,null,null,null,"",null,"",null,null,"","",{"$f":"IF(OR(A4806=\"\",B4806=\"\"),\"\",VLOOKUP(A4806&\"_\"&B4806,Lookups!$E:$F,2,FALSE))","v":""},""]
[null,null,null,null,null,"",null,"",null,null,"","",{"$f":"IF(OR(A4807=\"\",B4807=\"\"),\"\",VLOOKUP(A4807&\"_\"&B4807,Lookups!$E:$F,2,FALSE))","v":""},""]
[null,null,null,null,null,"",null,"",null,null,"","",{"$f":"IF(OR(A4808=\"\",B4808=\"\"),\"\",VLOOKUP(A4808&\"_\"&B4808,Lookups!$E:$F,2,FALSE))","v":""},""]
[null,null,null,null,null,"",null,"",null,null,"","",{"$f":"IF(OR(A4809=\"\",B4809=\"\"),\"\",VLOOKUP(A4809&\"_\"&B4809,Lookups!$E:$F,2,FALSE))","v":""},""]
[null,null,null,null,null,"",null,"",null,null,"","",{"$f":"IF(OR(A4810=\"\",B4810=\"\"),\"\",VLOOKUP(A4810&\"_\"&B4810,Lookups!$E:$F,2,FALSE))","v":""},""]
[null,null,null,null,null,"",null,"",null,null,"","",{"$f":"IF(OR(A4811=\"\",B4811=\"\"),\"\",VLOOKUP(A4811&\"_\"&B4811,Lookups!$E:$F,2,FALSE))","v":""},""]
[null,null,null,null,null,"",null,"",null,null,"","",{"$f":"IF(OR(A4812=\"\",B4812=\"\"),\"\",VLOOKUP(A4812&\"_\"&B4812,Lookups!$E:$F,2,FALSE))","v":""},""]
[null,null,null,null,null,"",null,"",null,null,"","",{"$f":"IF(OR(A4813=\"\",B4813=\"\"),\"\",VLOOKUP(A4813&\"_\"&B4813,Lookups!$E:$F,2,FALSE))","v":""},""]
[null,null,null,null,null,"",null,"",null,null,"","",{"$f":"IF(OR(A4814=\"\",B4814=\"\"),\"\",VLOOKUP(A4814&\"_\"&B4814,Lookups!$E:$F,2,FALSE))","v":""},""]
[null,null,null,null,null,"",null,"",null,null,"","",{"$f":"IF(OR(A4815=\"\",B4815=\"\"),\"\",VLOOKUP(A4815&\"_\"&B4815,Lookups!$E:$F,2,FALSE))","v":""},""]
[null,null,null,null,null,"",null,"",null,null,"","",{"$f":"IF(OR(A4816=\"\",B4816=\"\"),\"\",VLOOKUP(A4816&\"_\"&B4816,Lookups!$E:$F,2,FALSE))","v":""},""]
[null,null,null,null,null,"",null,"",null,null,"","",{"$f":"IF(OR(A4817=\"\",B4817=\"\"),\"\",VLOOKUP(A4817&\"_\"&B4817,Lookups!$E:$F,2,FALSE))","v":""},""]
[null,null,null,null,null,"",null,"",null,null,"","",{"$f":"IF(OR(A4818=\"\",B4818=\"\"),\"\",VLOOKUP(A4818&\"_\"&B4818,Lookups!$E:$F,2,FALSE))","v":""},""]
[null,null,null,null,null,"",null,"",null,null,"","",{"$f":"IF(OR(A4819=\"\",B4819=\"\"),\"\",VLOOKUP(A4819&\"_\"&B4819,Lookups!$E:$F,2,FALSE))","v":""},""]
[null,null,null,null,null,"",null,"",null,null,"","",{"$f":"IF(OR(A4820=\"\",B4820=\"\"),\"\",VLOOKUP(A4820&\"_\"&B4820,Lookups!$E:$F,2,FALSE))","v":""},""]
[null,null,null,null,null,"",null,"",null,null,"","",{"$f":"IF(OR(A4821=\"\",B4821=\"\"),\"\",VLOOKUP(A4821&\"_\"&B4821,Lookups!$E:$F,2,FALSE))","v":""},""]
[null,null,null,null,null,"",null,"",null,null,"","",{"$f":"IF(OR(A4822=\"\",B4822=\"\"),\"\",VLOOKUP(A4822&\"_\"&B4822,Lookups!$E:$F,2,FALSE))","v":""},""]
[null,null,null,null,null,"",null,"",null,null,"","",{"$f":"IF(OR(A4823=\"\",B4823=\"\"),\"\",VLOOKUP(A4823&\"_\"&B4823,Lookups!$E:$F,2,FALSE))","v":""},""]
[null,null,null,null,null,"",null,"",null,null,"","",{"$f":"IF(OR(A4824=\"\",B4824=\"\"),\"\",VLOOKUP(A4824&\"_\"&B4824,Lookups!$E:$F,2,FALSE))","v":""},""]
[null,null,null,null,null,"",null,"",null,null,"","",{"$f":"IF(OR(A4825=\"\",B4825=\"\"),\"\",VLOOKUP(A4825&\"_\"&B4825,Lookups!$E:$F,2,FALSE))","v":""},""]
[null,null,null,null,null,"",null,"",null,null,"","",{"$f":"IF(OR(A4826=\"\",B4826=\"\"),\"\",VLOOKUP(A4826&\"_\"&B4826,Lookups!$E:$F,2,FALSE))","v":""},""]
[null,null,null,null,null,"",null,"",null,null,"","",{"$f":"IF(OR(A4827=\"\",B4827=\"\"),\"\",VLOOKUP(A4827&\"_\"&B4827,Lookups!$E:$F,2,FALSE))","v":""},""]
[null,null,null,null,null,"",null,"",null,null,"","",{"$f":"IF(OR(A4828=\"\",B4828=\"\"),\"\",VLOOKUP(A4828&\"_\"&B4828,Lookups!$E:$F,2,FALSE))","v":""},""]
[null,null,null,null,null,"",null,"",null,null,"","",{"$f":"IF(OR(A4829=\"\",B4829=\"\"),\"\",VLOOKUP(A4829&\"_\"&B4829,Lookups!$E:$F,2,FALSE))","v":""},""]
[null,null,null,null,null,"",null,"",null,null,"","",{"$f":"IF(OR(A4830=\"\",B4830=\"\"),\"\",VLOOKUP(A4830&\"_\"&B4830,Lookups!$E:$F,2,FALSE))","v":""},""]
[null,null,null,null,null,"",null,"",null,null,"","",{"$f":"IF(OR(A4831=\"\",B4831=\"\"),\"\",VLOOKUP(A4831&\"_\"&B4831,Lookups!$E:$F,2,FALSE))","v":""},""]
[null,null,null,null,null,"",null,"",null,null,"","",{"$f":"IF(OR(A4832=\"\",B4832=\"\"),\"\",VLOOKUP(A4832&\"_\"&B4832,Lookups!$E:$F,2,FALSE))","v":""},""]
[null,null,null,null,null,"",null,"",null,null,"","",{"$f":"IF(OR(A4833=\"\",B4833=\"\"),\"\",VLOOKUP(A4833&\"_\"&B4833,Lookups!$E:$F,2,FALSE))","v":""},""]
[null,null,null,null,null,"",null,"",null,null,"","",{"$f":"IF(OR(A4834=\"\",B4834=\"\"),\"\",VLOOKUP(A4834&\"_\"&B4834,Lookups!$E:$F,2,FALSE))","v":""},""]
[null,null,null,null,null,"",null,"",null,null,"","",{"$f":"IF(OR(A4835=\"\",B4835=\"\"),\"\",VLOOKUP(A4835&\"_\"&B4835,Lookups!$E:$F,2,FALSE))","v":""},""]
[null,null,null,null,null,"",null,"",null,null,"","",{"$f":"IF(OR(A4836=\"\",B4836=\"\"),\"\",VLOOKUP(A4836&\"_\"&B4836,Lookups!$E:$F,2,FALSE))","v":""},""]
[null,null,null,null,null,"",null,"",null,null,"","",{"$f":"IF(OR(A4837=\"\",B4837=\"\"),\"\",VLOOKUP(A4837&\"_\"&B4837,Lookups!$E:$F,2,FALSE))","v":""},""]
[null,null,null,null,null,"",null,"",null,null,"","",{"$f":"IF(OR(A4838=\"\",B4838=\"\"),\"\",VLOOKUP(A4838&\"_\"&B4838,Lookups!$E:$F,2,FALSE))","v":""},""]
[null,null,null,null,null,"",null,"",null,null,"","",{"$f":"IF(OR(A4839=\"\",B4839=\"\"),\"\",VLOOKUP(A4839&\"_\"&B4839,Lookups!$E:$F,2,FALSE))","v":""},""]
[null,null,null,null,null,"",null,"",null,null,"","",{"$f":"IF(OR(A4840=\"\",B4840=\"\"),\"\",VLOOKUP(A4840&\"_\"&B4840,Lookups!$E:$F,2,FALSE))","v":""},""]
[null,null,null,null,null,"",null,"",null,null,"","",{"$f":"IF(OR(A4841=\"\",B4841=\"\"),\"\",VLOOKUP(A4841&\"_\"&B4841,Lookups!$E:$F,2,FALSE))","v":""},""]
[null,null,null,null,null,"",null,"",null,null,"","",{"$f":"IF(OR(A4842=\"\",B4842=\"\"),\"\",VLOOKUP(A4842&\"_\"&B4842,Lookups!$E:$F,2,FALSE))","v":""},""]
[null,null,null,null,null,"",null,"",null,null,"","",{"$f":"IF(OR(A4843=\"\",B4843=\"\"),\"\",VLOOKUP(A4843&\"_\"&B4843,Lookups!$E:$F,2,FALSE))","v":""},""]
[null,null,null,null,null,"",null,"",null,null,"","",{"$f":"IF(OR(A4844=\"\",B4844=\"\"),\"\",VLOOKUP(A4844&\"_\"&B4844,Lookups!$E:$F,2,FALSE))","v":""},""]
[null,null,null,null,null,"",null,"",null,null,"","",{"$f":"IF(OR(A4845=\"\",B4845=\"\"),\"\",VLOOKUP(A4845&\"_\"&B4845,Lookups!$E:$F,2,FALSE))","v":""},""]
[null,null,null,null,null,"",null,"",null,null,"","",{"$f":"IF(OR(A4846=\"\",B4846=\"\"),\"\",VLOOKUP(A4846&\"_\"&B4846,Lookups!$E:$F,2,FALSE))","v":""},""]
[null,null,null,null,null,"",null,"",null,null,"","",{"$f":"IF(OR(A4847=\"\",B4847=\"\"),\"\",VLOOKUP(A4847&\"_\"&B4847,Lookups!$E:$F,2,FALSE))","v":""},""]
[null,null,null,null,null,"",null,"",null,null,"","",{"$f":"IF(OR(A4848=\"\",B4848=\"\"),\"\",VLOOKUP(A4848&\"_\"&B4848,Lookups!$E:$F,2,FALSE))","v":""},""]
[null,null,null,null,null,"",null,"",null,null,"","",{"$f":"IF(OR(A4849=\"\",B4849=\"\"),\"\",VLOOKUP(A4849&\"_\"&B4849,Lookups!$E:$F,2,FALSE))","v":""},""]
[null,null,null,null,null,"",null,"",null,null,"","",{"$f":"IF(OR(A4850=\"\",B4850=\"\"),\"\",VLOOKUP(A4850&\"_\"&B4850,Lookups!$E:$F,2,FALSE))","v":""},""]
[null,null,null,null,null,"",null,"",null,null,"","",{"$f":"IF(OR(A4851=\"\",B4851=\"\"),\"\",VLOOKUP(A4851&\"_\"&B4851,Lookups!$E:$F,2,FALSE))","v":""},""]
[null,null,null,null,null,"",null,"",null,null,"","",{"$f":"IF(OR(A4852=\"\",B4852=\"\"),\"\",VLOOKUP(A4852&\"_\"&B4852,Lookups!$E:$F,2,FALSE))","v":""},""]
[null,null,null,null,null,"",null,"",null,null,"","",{"$f":"IF(OR(A4853=\"\",B4853=\"\"),\"\",VLOOKUP(A4853&\"_\"&B4853,Lookups!$E:$F,2,FALSE))","v":""},""]
[null,null,null,null,null,"",null,"",null,null,"","",{"$f":"IF(OR(A4854=\"\",B4854=\"\"),\"\",VLOOKUP(A4854&\"_\"&B4854,Lookups!$E:$F,2,FALSE))","v":""},""]
[null,null,null,null,null,"",null,"",null,null,"","",{"$f":"IF(OR(A4855=\"\",B4855=\"\"),\"\",VLOOKUP(A4855&\"_\"&B4855,Lookups!$E:$F,2,FALSE))","v":""},""]
[null,null,null,null,null,"",null,"",null,null,"","",{"$f":"IF(OR(A4856=\"\",B4856=\"\"),\"\",VLOOKUP(A4856&\"_\"&B4856,Lookups!$E:$F,2,FALSE))","v":""},""]
[null,null,null,null,null,"",null,"",null,null,"","",{"$f":"IF(OR(A4857=\"\",B4857=\"\"),\"\",VLOOKUP(A4857&\"_\"&B4857,Lookups!$E:$F,2,FALSE))","v":""},""]
[null,null,null,null,null,"",null,"",null,null,"","",{"$f":"IF(OR(A4858=\"\",B4858=\"\"),\"\",VLOOKUP(A4858&\"_\"&B4858,Lookups!$E:$F,2,FALSE))","v":""},""]
[null,null,null,null,null,"",null,"",null,null,"","",{"$f":"IF(OR(A4859=\"\",B4859=\"\"),\"\",VLOOKUP(A4859&\"_\"&B4859,Lookups!$E:$F,2,FALSE))","v":""},""]
[null,null,null,null,null,"",null,"",null,null,"","",{"$f":"IF(OR(A4860=\"\",B4860=\"\"),\"\",VLOOKUP(A4860&\"_\"&B4860,Lookups!$E:$F,2,FALSE))","v":""},""]
[null,null,null,null,null,"",null,"",null,null,"","",{"$f":"IF(OR(A4861=\"\",B4861=\"\"),\"\",VLOOKUP(A4861&\"_\"&B4861,Lookups!$E:$F,2,FALSE))","v":""},""]
[null,null,null,null,null,"",null,"",null,null,"","",{"$f":"IF(OR(A4862=\"\",B4862=\"\"),\"\",VLOOKUP(A4862&\"_\"&B4862,Lookups!$E:$F,2,FALSE))","v":""},""]
[null,null,null,null,null,"",null,"",null,null,"","",{"$f":"IF(OR(A4863=\"\",B4863=\"\"),\"\",VLOOKUP(A4863&\"_\"&B4863,Lookups!$E:$F,2,FALSE))","v":""},""]
[null,null,null,null,null,"",null,"",null,null,"","",{"$f":"IF(OR(A4864=\"\",B4864=\"\"),\"\",VLOOKUP(A4864&\"_\"&B4864,Lookups!$E:$F,2,FALSE))","v":""},""]
[null,null,null,null,null,"",null,"",null,null,"","",{"$f":"IF(OR(A4865=\"\",B4865=\"\"),\"\",VLOOKUP(A4865&\"_\"&B4865,Lookups!$E:$F,2,FALSE))","v":""},""]
[null,null,null,null,null,"",null,"",null,null,"","",{"$f":"IF(OR(A4866=\"\",B4866=\"\"),\"\",VLOOKUP(A4866&\"_\"&B4866,Lookups!$E:$F,2,FALSE))","v":""},""]
[null,null,null,null,null,"",null,"",null,null,"","",{"$f":"IF(OR(A4867=\"\",B4867=\"\"),\"\",VLOOKUP(A4867&\"_\"&B4867,Lookups!$E:$F,2,FALSE))","v":""},""]
[null,null,null,null,null,{"$f":"IF(OR(D4868=\"\",E4868=\"\"),\"\",ROUND((E4868-D4868)*24,2))","v":""},null,{"$f":"IF(F4868=\"\",\"\",IF(G4868<>\"\",F4868*G4868,F4868))","v":""},null,null,{"$f":"IF(AND(H4868<>\"\",I4868=\"Paid\"),H4868,\"\")","v":""},{"$f":"IF(H4868=\"\",\"\",IF(K4868=\"\",H4868,H4868-K4868))","v":""},{"$f":"IF(OR(A4868=\"\",B4868=\"\"),\"\",VLOOKUP(A4868&\"_\"&B4868,Lookups!$E:$F,2,FALSE))","v":""},{"$f":"IF(AND(K4868=\"\",L4868=\"\"),\"\",IF(K4868=\"\",L4868*M4868,SUM(K4868,L4868)*M4868))","v":""}]
[null,null,null,null,null,"",null,"",null,null,"","",{"$f":"IF(OR(A4869=\"\",B4869=\"\"),\"\",VLOOKUP(A4869&\"_\"&B4869,Lookups!$E:$F,2,FALSE))","v":""},""]
[null,null,null,null,null,"",null,"",null,null,"","",{"$f":"IF(OR(A4870=\"\",B4870=\"\"),\"\",VLOOKUP(A4870&\"_\"&B4870,Lookups!$E:$F,2,FALSE))","v":""},""]
[null,null,null,null,null,"",null,"",null,null,"","",{"$f":"IF(OR(A4871=\"\",B4871=\"\"),\"\",VLOOKUP(A4871&\"_\"&B4871,Lookups!$E:$F,2,FALSE))","v":""},""]
[null,null,null,null,null,"",null,"",null,null,"","",{"$f":"IF(OR(A4872=\"\",B4872=\"\"),\"\",VLOOKUP(A4872&\"_\"&B4872,Lookups!$E:$F,2,FALSE))","v":""},""]
[null,null,null,null,null,"",null,"",null,null,"","",{"$f":"IF(OR(A4873=\"\",B4873=\"\"),\"\",VLOOKUP(A4873&\"_\"&B4873,Lookups!$E:$F,2,FALSE))","v":""},""]
[null,null,null,null,null,"",null,"",null,null,"","",{"$f":"IF(OR(A4874=\"\",B4874=\"\"),\"\",VLOOKUP(A4874&\"_\"&B4874,Lookups!$E:$F,2,FALSE))","v":""},""]
[null,null,null,null,null,"",null,"",null,null,"","",{"$f":"IF(OR(A4875=\"\",B4875=\"\"),\"\",VLOOKUP(A4875&\"_\"&B4875,Lookups!$E:$F,2,FALSE))","v":""},""]
[null,null,null,null,null,"",null,"",null,null,"","",{"$f":"IF(OR(A4876=\"\",B4876=\"\"),\"\",VLOOKUP(A4876&\"_\"&B4876,Lookups!$E:$F,2,FALSE))","v":""},""]
[null,null,null,null,null,"",null,"",null,null,"","",{"$f":"IF(OR(A4877=\"\",B4877=\"\"),\"\",VLOOKUP(A4877&\"_\"&B4877,Lookups!$E:$F,2,FALSE))","v":""},""]
[null,null,null,null,null,"",null,"",null,null,"","",{"$f":"IF(OR(A4878=\"\",B4878=\"\"),\"\",VLOOKUP(A4878&\"_\"&B4878,Lookups!$E:$F,2,FALSE))","v":""},""]
[null,null,null,null,null,"",null,"",null,null,"","",{"$f":"IF(OR(A4879=\"\",B4879=\"\"),\"\",VLOOKUP(A4879&\"_\"&B4879,Lookups!$E:$F,2,FALSE))","v":""},""]
[null,null,null,null,null,"",null,"",null,null,"","",{"$f":"IF(OR(A4880=\"\",B4880=\"\"),\"\",VLOOKUP(A4880&\"_\"&B4880,Lookups!$E:$F,2,FALSE))","v":""},""]
[null,null,null,null,null,"",null,"",null,null,"","",{"$f":"IF(OR(A4881=\"\",B4881=\"\"),\"\",VLOOKUP(A4881&\"_\"&B4881,Lookups!$E:$F,2,FALSE))","v":""},""]
[null,null,null,null,null,"",null,"",null,null,"","",{"$f":"IF(OR(A4882=\"\",B4882=\"\"),\"\",VLOOKUP(A4882&\"_\"&B4882,Lookups!$E:$F,2,FALSE))","v":""},""]
[null,null,null,null,null,"",null,"",null,null,"","",{"$f":"IF(OR(A4883=\"\",B4883=\"\"),\"\",VLOOKUP(A4883&\"_\"&B4883,Lookups!$E:$F,2,FALSE))","v":""},""]
[null,null,null,null,null,"",null,"",null,null,"","",{"$f":"IF(OR(A4884=\"\",B4884=\"\"),\"\",VLOOKUP(A4884&\"_\"&B4884,Lookups!$E:$F,2,FALSE))","v":""},""]
[null,null,null,null,null,"",null,"",null,null,"","",{"$f":"IF(OR(A4885=\"\",B4885=\"\"),\"\",VLOOKUP(A4885&\"_\"&B4885,Lookups!$E:$F,2,FALSE))","v":""},""]
[null,null,null,null,null,"",null,"",null,null,"","",{"$f":"IF(OR(A4886=\"\",B4886=\"\"),\"\",VLOOKUP(A4886&\"_\"&B4886,Lookups!$E:$F,2,FALSE))","v":""},""]
[null,null,null,null,null,"",null,"",null,null,"","",{"$f":"IF(OR(A4887=\"\",B4887=\"\"),\"\",VLOOKUP(A4887&\"_\"&B4887,Lookups!$E:$F,2,FALSE))","v":""},""]
[null,null,null,null,null,"",null,"",null,null,"","",{"$f":"IF(OR(A4888=\"\",B4888=\"\"),\"\",VLOOKUP(A4888&\"_\"&B4888,Lookups!$E:$F,2,FALSE))","v":""},""]
[null,null,null,null,null,"",null,"",null,null,"","",{"$f":"IF(OR(A4889=\"\",B4889=\"\"),\"\",VLOOKUP(A4889&\"_\"&B4889,Lookups!$E:$F,2,FALSE))","v":""},""]
[null,null,null,null,null,"",null,"",null,null,"","",{"$f":"IF(OR(A4890=\"\",B4890=\"\"),\"\",VLOOKUP(A4890&\"_\"&B4890,Lookups!$E:$F,2,FALSE))","v":""},""]
[null,null,null,null,null,"",null,"",null,null,"","",{"$f":"IF(OR(A4891=\"\",B4891=\"\"),\"\",VLOOKUP(A4891&\"_\"&B4891,Lookups!$E:$F,2,FALSE))","v":""},""]
[null,null,null,null,null,"",null,"",null,null,"","",{"$f":"IF(OR(A4892=\"\",B4892=\"\"),\"\",VLOOKUP(A4892&\"_\"&B4892,Lookups!$E:$F,2,FALSE))","v":""},""]
[null,null,null,null,null,"",null,"",null,null,"","",{"$f":"IF(OR(A4893=\"\",B4893=\"\"),\"\",VLOOKUP(A4893&\"_\"&B4893,Lookups!$E:$F,2,FALSE))","v":""},""]
[null,null,null,null,null,"",null,"",null,null,"","",{"$f":"IF(OR(A4894=\"\",B4894=\"\"),\"\",VLOOKUP(A4894&\"_\"&B4894,Lookups!$E:$F,2,FALSE))","v":""},""]
[null,null,null,null,null,"",null,"",null,null,"","",{"$f":"IF(OR(A4895=\"\",B4895=\"\"),\"\",VLOOKUP(A4895&\"_\"&B4895,Lookups!$E:$F,2,FALSE))","v":""},""]
[null,null,null,null,null,"",null,"",null,null,"","",{"$f":"IF(OR(A4896=\"\",B4896=\"\"),\"\",VLOOKUP(A4896&\"_\"&B4896,Lookups!$E:$F,2,FALSE))","v":""},""]
[null,null,null,null,null,"",null,"",null,null,"","",{"$f":"IF(OR(A4897=\"\",B4897=\"\"),\"\",VLOOKUP(A4897&\"_\"&B4897,Lookups!$E:$F,2,FALSE))","v":""},""]
[null,null,null,null,null,"",null,"",null,null,"","",{"$f":"IF(OR(A4898=\"\",B4898=\"\"),\"\",VLOOKUP(A4898&\"_\"&B4898,Lookups!$E:$F,2,FALSE))","v":""},""]
[null,null,null,null,null,"",null,"",null,null,"","",{"$f":"IF(OR(A4899=\"\",B4899=\"\"),\"\",VLOOKUP(A4899&\"_\"&B4899,Lookups!$E:$F,2,FALSE))","v":""},""]
[null,null,null,null,null,"",null,"",null,null,"","",{"$f":"IF(OR(A4900=\"\",B4900=\"\"),\"\",VLOOKUP(A4900&\"_\"&B4900,Lookups!$E:$F,2,FALSE))","v":""},""]
[null,null,null,null,null,"",null,"",null,null,"","",{"$f":"IF(OR(A4901=\"\",B4901=\"\"),\"\",VLOOKUP(A4901&\"_\"&B4901,Lookups!$E:$F,2,FALSE))","v":""},""]
[null,null,null,null,null,"",null,"",null,null,"","",{"$f":"IF(OR(A4902=\"\",B4902=\"\"),\"\",VLOOKUP(A4902&\"_\"&B4902,Lookups!$E:$F,2,FALSE))","v":""},""]
[null,null,null,null,null,"",null,"",null,null,"","",{"$f":"IF(OR(A4903=\"\",B4903=\"\"),\"\",VLOOKUP(A4903&\"_\"&B4903,Lookups!$E:$F,2,FALSE))","v":""},""]
[null,null,null,null,null,"",null,"",null,null,"","",{"$f":"IF(OR(A4904=\"\",B4904=\"\"),\"\",VLOOKUP(A4904&\"_\"&B4904,Lookups!$E:$F,2,FALSE))","v":""},""]
[null,null,null,null,null,"",null,"",null,null,"","",{"$f":"IF(OR(A4905=\"\",B4905=\"\"),\"\",VLOOKUP(A4905&\"_\"&B4905,Lookups!$E:$F,2,FALSE))","v":""},""]
[null,null,null,null,null,"",null,"",null,null,"","",{"$f":"IF(OR(A4906=\"\",B4906=\"\"),\"\",VLOOKUP(A4906&\"_\"&B4906,Lookups!$E:$F,2,FALSE))","v":""},""]
[null,null,null,null,null,"",null,"",null,null,"","",{"$f":"IF(OR(A4907=\"\",B4907=\"\"),\"\",VLOOKUP(A4907&\"_\"&B4907,Lookups!$E:$F,2,FALSE))","v":""},""]
[null,null,null,null,null,"",null,"",null,null,"","",{"$f":"IF(OR(A4908=\"\",B4908=\"\"),\"\",VLOOKUP(A4908&\"_\"&B4908,Lookups!$E:$F,2,FALSE))","v":""},""]
[null,null,null,null,null,"",null,"",null,null,"","",{"$f":"IF(OR(A4909=\"\",B4909=\"\"),\"\",VLOOKUP(A4909&\"_\"&B4909,Lookups!$E:$F,2,FALSE))","v":""},""]
[null,null,null,null,null,"",null,"",null,null,"","",{"$f":"IF(OR(A4910=\"\",B4910=\"\"),\"\",VLOOKUP(A4910&\"_\"&B4910,Lookups!$E:$F,2,FALSE))","v":""},""]
[null,null,null,null,null,"",null,"",null,null,"","",{"$f":"IF(OR(A4911=\"\",B4911=\"\"),\"\",VLOOKUP(A4911&\"_\"&B4911,Lookups!$E:$F,2,FALSE))","v":""},""]
[null,null,null,null,null,"",null,"",null,null,"","",{"$f":"IF(OR(A4912=\"\",B4912=\"\"),\"\",VLOOKUP(A4912&\"_\"&B4912,Lookups!$E:$F,2,FALSE))","v":""},""]
[null,null,null,null,null,"",null,"",null,null,"","",{"$f":"IF(OR(A4913=\"\",B4913=\"\"),\"\",VLOOKUP(A4913&\"_\"&B4913,Lookups!$E:$F,2,FALSE))","v":""},""]
[null,null,null,null,null,"",null,"",null,null,"","",{"$f":"IF(OR(A4914=\"\",B4914=\"\"),\"\",VLOOKUP(A4914&\"_\"&B4914,Lookups!$E:$F,2,FALSE))","v":""},""]
[null,null,null,null,null,"",null,"",null,null,"","",{"$f":"IF(OR(A4915=\"\",B4915=\"\"),\"\",VLOOKUP(A4915&\"_\"&B4915,Lookups!$E:$F,2,FALSE))","v":""},""]
[null,null,null,null,null,"",null,"",null,null,"","",{"$f":"IF(OR(A4916=\"\",B4916=\"\"),\"\",VLOOKUP(A4916&\"_\"&B4916,Lookups!$E:$F,2,FALSE))","v":""},""]
[null,null,null,null,null,"",null,"",null,null,"","",{"$f":"IF(OR(A4917=\"\",B4917=\"\"),\"\",VLOOKUP(A4917&\"_\"&B4917,Lookups!$E:$F,2,FALSE))","v":""},""]
[null,null,null,null,null,"",null,"",null,null,"","",{"$f":"IF(OR(A4918=\"\",B4918=\"\"),\"\",VLOOKUP(A4918&\"_\"&B4918,Lookups!$E:$F,2,FALSE))","v":""},""]
[null,null,null,null,null,"",null,"",null,null,"","",{"$f":"IF(OR(A4919=\"\",B4919=\"\"),\"\",VLOOKUP(A4919&\"_\"&B4919,Lookups!$E:$F,2,FALSE))","v":""},""]
[null,null,null,null,null,"",null,"",null,null,"","",{"$f":"IF(OR(A4920=\"\",B4920=\"\"),\"\",VLOOKUP(A4920&\"_\"&B4920,Lookups!$E:$F,2,FALSE))","v":""},""]
[null,null,null,null,null,"",null,"",null,null,"","",{"$f":"IF(OR(A4921=\"\",B4921=\"\"),\"\",VLOOKUP(A4921&\"_\"&B4921,Lookups!$E:$F,2,FALSE))","v":""},""]
[null,null,null,null,null,"",null,"",null,null,"","",{"$f":"IF(OR(A4922=\"\",B4922=\"\"),\"\",VLOOKUP(A4922&\"_\"&B4922,Lookups!$E:$F,2,FALSE))","v":""},""]
[null,null,null,null,null,"",null,"",null,null,"","",{"$f":"IF(OR(A4923=\"\",B4923=\"\"),\"\",VLOOKUP(A4923&\"_\"&B4923,Lookups!$E:$F,2,FALSE))","v":""},""]
[null,null,null,null,null,"",null,"",null,null,"","",{"$f":"IF(OR(A4924=\"\",B4924=\"\"),\"\",VLOOKUP(A4924&\"_\"&B4924,Lookups!$E:$F,2,FALSE))","v":""},""]
[null,null,null,null,null,"",null,"",null,null,"","",{"$f":"IF(OR(A4925=\"\",B4925=\"\"),\"\",VLOOKUP(A4925&\"_\"&B4925,Lookups!$E:$F,2,FALSE))","v":""},""]
[null,null,null,null,null,"",null,"",null,null,"","",{"$f":"IF(OR(A4926=\"\",B4926=\"\"),\"\",VLOOKUP(A4926&\"_\"&B4926,Lookups!$E:$F,2,FALSE))","v":""},""]
[null,null,null,null,null,"",null,"",null,null,"","",{"$f":"IF(OR(A4927=\"\",B4927=\"\"),\"\",VLOOKUP(A4927&\"_\"&B4927,Lookups!$E:$F,2,FALSE))","v":""},""]
[null,null,null,null,null,"",null,"",null,null,"","",{"$f":"IF(OR(A4928=\"\",B4928=\"\"),\"\",VLOOKUP(A4928&\"_\"&B4928,Lookups!$E:$F,2,FALSE))","v":""},""]
[null,null,null,null,null,"",null,"",null,null,"","",{"$f":"IF(OR(A4929=\"\",B4929=\"\"),\"\",VLOOKUP(A4929&\"_\"&B4929,Lookups!$E:$F,2,FALSE))","v":""},""]
[null,null,null,null,null,"",null,"",null,null,"","",{"$f":"IF(OR(A4930=\"\",B4930=\"\"),\"\",VLOOKUP(A4930&\"_\"&B4930,Lookups!$E:$F,2,FALSE))","v":""},""]
[null,null,null,null,null,"",null,"",null,null,"","",{"$f":"IF(OR(A4931=\"\",B4931=\"\"),\"\",VLOOKUP(A4931&\"_\"&B4931,Lookups!$E:$F,2,FALSE))","v":""},""]
[null,null,null,null,null,{"$f":"IF(OR(D4932=\"\",E4932=\"\"),\"\",ROUND((E4932-D4932)*24,2))","v":""},null,{"$f":"IF(F4932=\"\",\"\",IF(G4932<>\"\",F4932*G4932,F4932))","v":""},null,null,{"$f":"IF(AND(H4932<>\"\",I4932=\"Paid\"),H4932,\"\")","v":""},{"$f":"IF(H4932=\"\",\"\",IF(K4932=\"\",H4932,H4932-K4932))","v":""},{"$f":"IF(OR(A4932=\"\",B4932=\"\"),\"\",VLOOKUP(A4932&\"_\"&B4932,Lookups!$E:$F,2,FALSE))","v":""},{"$f":"IF(AND(K4932=\"\",L4932=\"\"),\"\",IF(K4932=\"\",L4932*M4932,SUM(K4932,L4932)*M4932))","v":""}]
[null,null,null,null,null,"",null,"",null,null,"","",{"$f":"IF(OR(A4933=\"\",B4933=\"\"),\"\",VLOOKUP(A4933&\"_\"&B4933,Lookups!$E:$F,2,FALSE))","v":""},""]
[null,null,null,null,null,"",null,"",null,null,"","",{"$f":"IF(OR(A4934=\"\",B4934=\"\"),\"\",VLOOKUP(A4934&\"_\"&B4934,Lookups!$E:$F,2,FALSE))","v":""},""]
[null,null,null,null,null,"",null,"",null,null,"","",{"$f":"IF(OR(A4935=\"\",B4935=\"\"),\"\",VLOOKUP(A4935&\"_\"&B4935,Lookups!$E:$F,2,FALSE))","v":""},""]
[null,null,null,null,null,"",null,"",null,null,"","",{"$f":"IF(OR(A4936=\"\",B4936=\"\"),\"\",VLOOKUP(A4936&\"_\"&B4936,Lookups!$E:$F,2,FALSE))","v":""},""]
[null,null,null,null,null,"",null,"",null,null,"","",{"$f":"IF(OR(A4937=\"\",B4937=\"\"),\"\",VLOOKUP(A4937&\"_\"&B4937,Lookups!$E:$F,2,FALSE))","v":""},""]
[null,null,null,null,null,"",null,"",null,null,"","",{"$f":"IF(OR(A4938=\"\",B4938=\"\"),\"\",VLOOKUP(A4938&\"_\"&B4938,Lookups!$E:$F,2,FALSE))","v":""},""]
[null,null,null,null,null,"",null,"",null,null,"","",{"$f":"IF(OR(A4939=\"\",B4939=\"\"),\"\",VLOOKUP(A4939&\"_\"&B4939,Lookups!$E:$F,2,FALSE))","v":""},""]
[null,null,null,null,null,"",null,"",null,null,"","",{"$f":"IF(OR(A4940=\"\",B4940=\"\"),\"\",VLOOKUP(A4940&\"_\"&B4940,Lookups!$E:$F,2,FALSE))","v":""},""]
[null,null,null,null,null,"",null,"",null,null,"","",{"$f":"IF(OR(A4941=\"\",B4941=\"\"),\"\",VLOOKUP(A4941&\"_\"&B4941,Lookups!$E:$F,2,FALSE))","v":""},""]
[null,null,null,null,null,"",null,"",null,null,"","",{"$f":"IF(OR(A4942=\"\",B4942=\"\"),\"\",VLOOKUP(A4942&\"_\"&B4942,Lookups!$E:$F,2,FALSE))","v":""},""]
[null,null,null,null,null,"",null,"",null,null,"","",{"$f":"IF(OR(A4943=\"\",B4943=\"\"),\"\",VLOOKUP(A4943&\"_\"&B4943,Lookups!$E:$F,2,FALSE))","v":""},""]
[null,null,null,null,null,"",null,"",null,null,"","",{"$f":"IF(OR(A4944=\"\",B4944=\"\"),\"\",VLOOKUP(A4944&\"_\"&B4944,Lookups!$E:$F,2,FALSE))","v":""},""]
[null,null,null,null,null,"",null,"",null,null,"","",{"$f":"IF(OR(A4945=\"\",B4945=\"\"),\"\",VLOOKUP(A4945&\"_\"&B4945,Lookups!$E:$F,2,FALSE))","v":""},""]
[null,null,null,null,null,"",null,"",null,null,"","",{"$f":"IF(OR(A4946=\"\",B4946=\"\"),\"\",VLOOKUP(A4946&\"_\"&B4946,Lookups!$E:$F,2,FALSE))","v":""},""]
[null,null,null,null,null,"",null,"",null,null,"","",{"$f":"IF(OR(A4947=\"\",B4947=\"\"),\"\",VLOOKUP(A4947&\"_\"&B4947,Lookups!$E:$F,2,FALSE))","v":""},""]
[null,null,null,null,null,"",null,"",null,null,"","",{"$f":"IF(OR(A4948=\"\",B4948=\"\"),\"\",VLOOKUP(A4948&\"_\"&B4948,Lookups!$E:$F,2,FALSE))","v":""},""]
[null,null,null,null,null,"",null,"",null,null,"","",{"$f":"IF(OR(A4949=\"\",B4949=\"\"),\"\",VLOOKUP(A4949&\"_\"&B4949,Lookups!$E:$F,2,FALSE))","v":""},""]
[null,null,null,null,null,"",null,"",null,null,"","",{"$f":"IF(OR(A4950=\"\",B4950=\"\"),\"\",VLOOKUP(A4950&\"_\"&B4950,Lookups!$E:$F,2,FALSE))","v":""},""]
[null,null,null,null,null,"",null,"",null,null,"","",{"$f":"IF(OR(A4951=\"\",B4951=\"\"),\"\",VLOOKUP(A4951&\"_\"&B4951,Lookups!$E:$F,2,FALSE))","v":""},""]
[null,null,null,null,null,"",null,"",null,null,"","",{"$f":"IF(OR(A4952=\"\",B4952=\"\"),\"\",VLOOKUP(A4952&\"_\"&B4952,Lookups!$E:$F,2,FALSE))","v":""},""]
[null,null,null,null,null,"",null,"",null,null,"","",{"$f":"IF(OR(A4953=\"\",B4953=\"\"),\"\",VLOOKUP(A4953&\"_\"&B4953,Lookups!$E:$F,2,FALSE))","v":""},""]
[null,null,null,null,null,"",null,"",null,null,"","",{"$f":"IF(OR(A4954=\"\",B4954=\"\"),\"\",VLOOKUP(A4954&\"_\"&B4954,Lookups!$E:$F,2,FALSE))","v":""},""]
[null,null,null,null,null,"",null,"",null,null,"","",{"$f":"IF(OR(A4955=\"\",B4955=\"\"),\"\",VLOOKUP(A4955&\"_\"&B4955,Lookups!$E:$F,2,FALSE))","v":""},""]
[null,null,null,null,null,"",null,"",null,null,"","",{"$f":"IF(OR(A4956=\"\",B4956=\"\"),\"\",VLOOKUP(A4956&\"_\"&B4956,Lookups!$E:$F,2,FALSE))","v":""},""]
[null,null,null,null,null,"",null,"",null,null,"","",{"$f":"IF(OR(A4957=\"\",B4957=\"\"),\"\",VLOOKUP(A4957&\"_\"&B4957,Lookups!$E:$F,2,FALSE))","v":""},""]
[null,null,null,null,null,"",null,"",null,null,"","",{"$f":"IF(OR(A4958=\"\",B4958=\"\"),\"\",VLOOKUP(A4958&\"_\"&B4958,Lookups!$E:$F,2,FALSE))","v":""},""]
[null,null,null,null,null,"",null,"",null,null,"","",{"$f":"IF(OR(A4959=\"\",B4959=\"\"),\"\",VLOOKUP(A4959&\"_\"&B4959,Lookups!$E:$F,2,FALSE))","v":""},""]
[null,null,null,null,null,"",null,"",null,null,"","",{"$f":"IF(OR(A4960=\"\",B4960=\"\"),\"\",VLOOKUP(A4960&\"_\"&B4960,Lookups!$E:$F,2,FALSE))","v":""},""]
[null,null,null,null,null,"",null,"",null,null,"","",{"$f":"IF(OR(A4961=\"\",B4961=\"\"),\"\",VLOOKUP(A4961&\"_\"&B4961,Lookups!$E:$F,2,FALSE))","v":""},""]
[null,null,null,null,null,"",null,"",null,null,"","",{"$f":"IF(OR(A4962=\"\",B4962=\"\"),\"\",VLOOKUP(A4962&\"_\"&B4962,Lookups!$E:$F,2,FALSE))","v":""},""]
[null,null,null,null,null,"",null,"",null,null,"","",{"$f":"IF(OR(A4963=\"\",B4963=\"\"),\"\",VLOOKUP(A4963&\"_\"&B4963,Lookups!$E:$F,2,FALSE))","v":""},""]
[null,null,null,null,null,"",null,"",null,null,"","",{"$f":"IF(OR(A4964=\"\",B4964=\"\"),\"\",VLOOKUP(A4964&\"_\"&B4964,Lookups!$E:$F,2,FALSE))","v":""},""]
[null,null,null,null,null,"",null,"",null,null,"","",{"$f":"IF(OR(A4965=\"\",B4965=\"\"),\"\",VLOOKUP(A4965&\"_\"&B4965,Lookups!$E:$F,2,FALSE))","v":""},""]
[null,null,null,null,null,"",null,"",null,null,"","",{"$f":"IF(OR(A4966=\"\",B4966=\"\"),\"\",VLOOKUP(A4966&\"_\"&B4966,Lookups!$E:$F,2,FALSE))","v":""},""]
[null,null,null,null,null,"",null,"",null,null,"","",{"$f":"IF(OR(A4967=\"\",B4967=\"\"),\"\",VLOOKUP(A4967&\"_\"&B4967,Lookups!$E:$F,2,FALSE))","v":""},""]
[null,null,null,null,null,"",null,"",null,null,"","",{"$f":"IF(OR(A4968=\"\",B4968=\"\"),\"\",VLOOKUP(A4968&\"_\"&B4968,Lookups!$E:$F,2,FALSE))","v":""},""]
[null,null,null,null,null,"",null,"",null,null,"","",{"$f":"IF(OR(A4969=\"\",B4969=\"\"),\"\",VLOOKUP(A4969&\"_\"&B4969,Lookups!$E:$F,2,FALSE))","v":""},""]
[null,null,null,null,null,"",null,"",null,null,"","",{"$f":"IF(OR(A4970=\"\",B4970=\"\"),\"\",VLOOKUP(A4970&\"_\"&B4970,Lookups!$E:$F,2,FALSE))","v":""},""]
[null,null,null,null,null,"",null,"",null,null,"","",{"$f":"IF(OR(A4971=\"\",B4971=\"\"),\"\",VLOOKUP(A4971&\"_\"&B4971,Lookups!$E:$F,2,FALSE))","v":""},""]
[null,null,null,null,null,"",null,"",null,null,"","",{"$f":"IF(OR(A4972=\"\",B4972=\"\"),\"\",VLOOKUP(A4972&\"_\"&B4972,Lookups!$E:$F,2,FALSE))","v":""},""]
[null,null,null,null,null,"",null,"",null,null,"","",{"$f":"IF(OR(A4973=\"\",B4973=\"\"),\"\",VLOOKUP(A4973&\"_\"&B4973,Lookups!$E:$F,2,FALSE))","v":""},""]
[null,null,null,null,null,"",null,"",null,null,"","",{"$f":"IF(OR(A4974=\"\",B4974=\"\"),\"\",VLOOKUP(A4974&\"_\"&B4974,Lookups!$E:$F,2,FALSE))","v":""},""]
[null,null,null,null,null,"",null,"",null,null,"","",{"$f":"IF(OR(A4975=\"\",B4975=\"\"),\"\",VLOOKUP(A4975&\"_\"&B4975,Lookups!$E:$F,2,FALSE))","v":""},""]
[null,null,null,null,null,"",null,"",null,null,"","",{"$f":"IF(OR(A4976=\"\",B4976=\"\"),\"\",VLOOKUP(A4976&\"_\"&B4976,Lookups!$E:$F,2,FALSE))","v":""},""]
[null,null,null,null,null,"",null,"",null,null,"","",{"$f":"IF(OR(A4977=\"\",B4977=\"\"),\"\",VLOOKUP(A4977&\"_\"&B4977,Lookups!$E:$F,2,FALSE))","v":""},""]
[null,null,null,null,null,"",null,"",null,null,"","",{"$f":"IF(OR(A4978=\"\",B4978=\"\"),\"\",VLOOKUP(A4978&\"_\"&B4978,Lookups!$E:$F,2,FALSE))","v":""},""]
[null,null,null,null,null,"",null,"",null,null,"","",{"$f":"IF(OR(A4979=\"\",B4979=\"\"),\"\",VLOOKUP(A4979&\"_\"&B4979,Lookups!$E:$F,2,FALSE))","v":""},""]
[null,null,null,null,null,"",null,"",null,null,"","",{"$f":"IF(OR(A4980=\"\",B4980=\"\"),\"\",VLOOKUP(A4980&\"_\"&B4980,Lookups!$E:$F,2,FALSE))","v":""},""]
[null,null,null,null,null,"",null,"",null,null,"","",{"$f":"IF(OR(A4981=\"\",B4981=\"\"),\"\",VLOOKUP(A4981&\"_\"&B4981,Lookups!$E:$F,2,FALSE))","v":""},""]
[null,null,null,null,null,"",null,"",null,null,"","",{"$f":"IF(OR(A4982=\"\",B4982=\"\"),\"\",VLOOKUP(A4982&\"_\"&B4982,Lookups!$E:$F,2,FALSE))","v":""},""]
[null,null,null,null,null,"",null,"",null,null,"","",{"$f":"IF(OR(A4983=\"\",B4983=\"\"),\"\",VLOOKUP(A4983&\"_\"&B4983,Lookups!$E:$F,2,FALSE))","v":""},""]
[null,null,null,null,null,"",null,"",null,null,"","",{"$f":"IF(OR(A4984=\"\",B4984=\"\"),\"\",VLOOKUP(A4984&\"_\"&B4984,Lookups!$E:$F,2,FALSE))","v":""},""]
[null,null,null,null,null,"",null,"",null,null,"","",{"$f":"IF(OR(A4985=\"\",B4985=\"\"),\"\",VLOOKUP(A4985&\"_\"&B4985,Lookups!$E:$F,2,FALSE))","v":""},""]
[null,null,null,null,null,"",null,"",null,null,"","",{"$f":"IF(OR(A4986=\"\",B4986=\"\"),\"\",VLOOKUP(A4986&\"_\"&B4986,Lookups!$E:$F,2,FALSE))","v":""},""]
[null,null,null,null,null,"",null,"",null,null,"","",{"$f":"IF(OR(A4987=\"\",B4987=\"\"),\"\",VLOOKUP(A4987&\"_\"&B4987,Lookups!$E:$F,2,FALSE))","v":""},""]
[null,null,null,null,null,"",null,"",null,null,"","",{"$f":"IF(OR(A4988=\"\",B4988=\"\"),\"\",VLOOKUP(A4988&\"_\"&B4988,Lookups!$E:$F,2,FALSE))","v":""},""]
[null,null,null,null,null,"",null,"",null,null,"","",{"$f":"IF(OR(A4989=\"\",B4989=\"\"),\"\",VLOOKUP(A4989&\"_\"&B4989,Lookups!$E:$F,2,FALSE))","v":""},""]
[null,null,null,null,null,"",null,"",null,null,"","",{"$f":"IF(OR(A4990=\"\",B4990=\"\"),\"\",VLOOKUP(A4990&\"_\"&B4990,Lookups!$E:$F,2,FALSE))","v":""},""]
[null,null,null,null,null,"",null,"",null,null,"","",{"$f":"IF(OR(A4991=\"\",B4991=\"\"),\"\",VLOOKUP(A4991&\"_\"&B4991,Lookups!$E:$F,2,FALSE))","v":""},""]
[null,null,null,null,null,"",null,"",null,null,"","",{"$f":"IF(OR(A4992=\"\",B4992=\"\"),\"\",VLOOKUP(A4992&\"_\"&B4992,Lookups!$E:$F,2,FALSE))","v":""},""]
[null,null,null,null,null,"",null,"",null,null,"","",{"$f":"IF(OR(A4993=\"\",B4993=\"\"),\"\",VLOOKUP(A4993&\"_\"&B4993,Lookups!$E:$F,2,FALSE))","v":""},""]
[null,null,null,null,null,"",null,"",null,null,"","",{"$f":"IF(OR(A4994=\"\",B4994=\"\"),\"\",VLOOKUP(A4994&\"_\"&B4994,Lookups!$E:$F,2,FALSE))","v":""},""]
[null,null,null,null,null,"",null,"",null,null,"","",{"$f":"IF(OR(A4995=\"\",B4995=\"\"),\"\",VLOOKUP(A4995&\"_\"&B4995,Lookups!$E:$F,2,FALSE))","v":""},""]
[null,null,null,null,null,{"$f":"IF(OR(D4996=\"\",E4996=\"\"),\"\",ROUND((E4996-D4996)*24,2))","v":""},null,{"$f":"IF(F4996=\"\",\"\",IF(G4996<>\"\",F4996*G4996,F4996))","v":""},null,null,{"$f":"IF(AND(H4996<>\"\",I4996=\"Paid\"),H4996,\"\")","v":""},{"$f":"IF(H4996=\"\",\"\",IF(K4996=\"\",H4996,H4996-K4996))","v":""},{"$f":"IF(OR(A4996=\"\",B4996=\"\"),\"\",VLOOKUP(A4996&\"_\"&B4996,Lookups!$E:$F,2,FALSE))","v":""},{"$f":"IF(AND(K4996=\"\",L4996=\"\"),\"\",IF(K4996=\"\",L4996*M4996,SUM(K4996,L4996)*M4996))","v":""}]
[null,null,null,null,null,"",null,"",null,null,"","",{"$f":"IF(OR(A4997=\"\",B4997=\"\"),\"\",VLOOKUP(A4997&\"_\"&B4997,Lookups!$E:$F,2,FALSE))","v":""},""]
[null,null,null,null,null,"",null,"",null,null,"","",{"$f":"IF(OR(A4998=\"\",B4998=\"\"),\"\",VLOOKUP(A4998&\"_\"&B4998,Lookups!$E:$F,2,FALSE))","v":""},""]
[null,null,null,null,null,"",null,"",null,null,"","",{"$f":"IF(OR(A4999=\"\",B4999=\"\"),\"\",VLOOKUP(A4999&\"_\"&B4999,Lookups!$E:$F,2,FALSE))","v":""},""]
[null,null,null,null,null,"",null,"",null,null,"","",{"$f":"IF(OR(A5000=\"\",B5000=\"\"),\"\",VLOOKUP(A5000&\"_\"&B5000,Lookups!$E:$F,2,FALSE))","v":""},""]

{"sheet":"Lookups","index":2,"n_rows":5000,"n_cols":6,"rows_kept":5000,"cut":false,"hidden":false,"merged":[]}
["Client_Name",null,"Project_Name"]
["Client Name",null,"Project Name","Project Client","Client-Project Lookup","Default Rate"]
["Client 1",null,"Project 1","Client 1",{"$f":"IF(OR(C3=\"\",D3=\"\"),\"\",D3&\"_\"&C3)","v":"Client 1_Project 1"},50]
["Client 2",null,"Project 2","Client 1",{"$f":"IF(OR(C4=\"\",D4=\"\"),\"\",D4&\"_\"&C4)","v":"Client 1_Project 2"},50]
["Client 3",null,"Project 3","Client 1","Client 1_Project 3",50]
[null,null,"Project 4","Client 2","Client 2_Project 4",50]
[null,null,"Project 5","Client 2","Client 2_Project 5",50]
[null,null,"Project 6","Client 2","Client 2_Project 6",50]
[null,null,"Project 7","Client 3","Client 3_Project 7",50]
[null,null,"Project 8","Client 3","Client 3_Project 8",50]
[null,null,"Project 9","Client 3","Client 3_Project 9",50]
[null,null,null,null,""]
[null,null,null,null,""]
[null,null,null,null,""]
[null,null,null,null,""]
[null,null,null,null,""]
[null,null,null,null,""]
[null,null,null,null,""]
[null,null,null,null,""]
[null,null,null,null,""]
[null,null,null,null,""]
[null,null,null,null,""]
[null,null,null,null,""]
[null,null,null,null,""]
[null,null,null,null,""]
[null,null,null,null,""]
[null,null,null,null,""]
[null,null,null,null,""]
[null,null,null,null,""]
[null,null,null,null,""]
[null,null,null,null,""]
[null,null,null,null,""]
[null,null,null,null,""]
[null,null,null,null,""]
[null,null,null,null,""]
[null,null,null,null,""]
[null,null,null,null,""]
[null,null,null,null,""]
[null,null,null,null,""]
[null,null,null,null,""]
[null,null,null,null,""]
[null,null,null,null,""]
[null,null,null,null,""]
[null,null,null,null,""]
[null,null,null,null,""]
[null,null,null,null,""]
[null,null,null,null,""]
[null,null,null,null,""]
[null,null,null,null,""]
[null,null,null,null,""]
[null,null,null,null,""]
[null,null,null,null,""]
[null,null,null,null,""]
[null,null,null,null,""]
[null,null,null,null,""]
[null,null,null,null,""]
[null,null,null,null,""]
[null,null,null,null,""]
[null,null,null,null,""]
[null,null,null,null,""]
[null,null,null,null,""]
[null,null,null,null,""]
[null,null,null,null,""]
[null,null,null,null,""]
[null,null,null,null,""]
[null,null,null,null,""]
[null,null,null,null,""]
[null,null,null,null,{"$f":"IF(OR(C68=\"\",D68=\"\"),\"\",D68&\"_\"&C68)","v":""}]
[null,null,null,null,""]
[null,null,null,null,""]
[null,null,null,null,""]
[null,null,null,null,""]
[null,null,null,null,""]
[null,null,null,null,""]
[null,null,null,null,""]
[null,null,null,null,""]
[null,null,null,null,""]
[null,null,null,null,""]
[null,null,null,null,""]
[null,null,null,null,""]
[null,null,null,null,""]
[null,null,null,null,""]
[null,null,null,null,""]
[null,null,null,null,""]
[null,null,null,null,""]
[null,null,null,null,""]
[null,null,null,null,""]
[null,null,null,null,""]
[null,null,null,null,""]
[null,null,null,null,""]
[null,null,null,null,""]
[null,null,null,null,""]
[null,null,null,null,""]
[null,null,null,null,""]
[null,null,null,null,""]
[null,null,null,null,""]
[null,null,null,null,""]
[null,null,null,null,""]
[null,null,null,null,""]
[null,null,null,null,""]
[null,null,null,null,""]
[null,null,null,null,""]
[null,null,null,null,""]
[null,null,null,null,""]
[null,null,null,null,""]
[null,null,null,null,""]
[null,null,null,null,""]
[null,null,null,null,""]
[null,null,null,null,""]
[null,null,null,null,""]
[null,null,null,null,""]
[null,null,null,null,""]
[null,null,null,null,""]
[null,null,null,null,""]
[null,null,null,null,""]
[null,null,null,null,""]
[null,null,null,null,""]
[null,null,null,null,""]
[null,null,null,null,""]
[null,null,null,null,""]
[null,null,null,null,""]
[null,null,null,null,""]
[null,null,null,null,""]
[null,null,null,null,""]
[null,null,null,null,""]
[null,null,null,null,""]
[null,null,null,null,""]
[null,null,null,null,""]
[null,null,null,null,""]
[null,null,null,null,""]
[null,null,null,null,""]
[null,null,null,null,{"$f":"IF(OR(C132=\"\",D132=\"\"),\"\",D132&\"_\"&C132)","v":""}]
[null,null,null,null,""]
[null,null,null,null,""]
[null,null,null,null,""]
[null,null,null,null,""]
[null,null,null,null,""]
[null,null,null,null,""]
[null,null,null,null,""]
[null,null,null,null,""]
[null,null,null,null,""]
[null,null,null,null,""]
[null,null,null,null,""]
[null,null,null,null,""]
[null,null,null,null,""]
[null,null,null,null,""]
[null,null,null,null,""]
[null,null,null,null,""]
[null,null,null,null,""]
[null,null,null,null,""]
[null,null,null,null,""]
[null,null,null,null,""]
[null,null,null,null,""]
[null,null,null,null,""]
[null,null,null,null,""]
[null,null,null,null,""]
[null,null,null,null,""]
[null,null,null,null,""]
[null,null,null,null,""]
[null,null,null,null,""]
[null,null,null,null,""]
[null,null,null,null,""]
[null,null,null,null,""]
[null,null,null,null,""]
[null,null,null,null,""]
[null,null,null,null,""]
[null,null,null,null,""]
[null,null,null,null,""]
[null,null,null,null,""]
[null,null,null,null,""]
[null,null,null,null,""]
[null,null,null,null,""]
[null,null,null,null,""]
[null,null,null,null,""]
[null,null,null,null,""]
[null,null,null,null,""]
[null,null,null,null,""]
[null,null,null,null,""]
[null,null,null,null,""]
[null,null,null,null,""]
[null,null,null,null,""]
[null,null,null,null,""]
[null,null,null,null,""]
[null,null,null,null,""]
[null,null,null,null,""]
[null,null,null,null,""]
[null,null,null,null,""]
[null,null,null,null,""]
[null,null,null,null,""]
[null,null,null,null,""]
[null,null,null,null,""]
[null,null,null,null,""]
[null,null,null,null,""]
[null,null,null,null,""]
[null,null,null,null,""]
[null,null,null,null,{"$f":"IF(OR(C196=\"\",D196=\"\"),\"\",D196&\"_\"&C196)","v":""}]
[null,null,null,null,""]
[null,null,null,null,""]
[null,null,null,null,""]
[null,null,null,null,""]
[null,null,null,null,""]
[null,null,null,null,""]
[null,null,null,null,""]
[null,null,null,null,""]
[null,null,null,null,""]
[null,null,null,null,""]
[null,null,null,null,""]
[null,null,null,null,""]
[null,null,null,null,""]
[null,null,null,null,""]
[null,null,null,null,""]
[null,null,null,null,""]
[null,null,null,null,""]
[null,null,null,null,""]
[null,null,null,null,""]
[null,null,null,null,""]
[null,null,null,null,""]
[null,null,null,null,""]
[null,null,null,null,""]
[null,null,null,null,""]
[null,null,null,null,""]
[null,null,null,null,""]
[null,null,null,null,""]
[null,null,null,null,""]
[null,null,null,null,""]
[null,null,null,null,""]
[null,null,null,null,""]
[null,null,null,null,""]
[null,null,null,null,""]
[null,null,null,null,""]
[null,null,null,null,""]
[null,null,null,null,""]
[null,null,null,null,""]
[null,null,null,null,""]
[null,null,null,null,""]
[null,null,null,null,""]
[null,null,null,null,""]
[null,null,null,null,""]
[null,null,null,null,""]
[null,null,null,null,""]
[null,null,null,null,""]
[null,null,null,null,""]
[null,null,null,null,""]
[null,null,null,null,""]
[null,null,null,null,""]
[null,null,null,null,""]
[null,null,null,null,""]
[null,null,null,null,""]
[null,null,null,null,""]
[null,null,null,null,""]
[null,null,null,null,""]
[null,null,null,null,""]
[null,null,null,null,""]
[null,null,null,null,""]
[null,null,null,null,""]
[null,null,null,null,""]
[null,null,null,null,""]
[null,null,null,null,""]
[null,null,null,null,""]
[null,null,null,null,{"$f":"IF(OR(C260=\"\",D260=\"\"),\"\",D260&\"_\"&C260)","v":""}]
[null,null,null,null,""]
[null,null,null,null,""]
[null,null,null,null,""]
[null,null,null,null,""]
[null,null,null,null,""]
[null,null,null,null,""]
[null,null,null,null,""]
[null,null,null,null,""]
[null,null,null,null,""]
[null,null,null,null,""]
[null,null,null,null,""]
[null,null,null,null,""]
[null,null,null,null,""]
[null,null,null,null,""]
[null,null,null,null,""]
[null,null,null,null,""]
[null,null,null,null,""]
[null,null,null,null,""]
[null,null,null,null,""]
[null,null,null,null,""]
[null,null,null,null,""]
[null,null,null,null,""]
[null,null,null,null,""]
[null,null,null,null,""]
[null,null,null,null,""]
[null,null,null,null,""]
[null,null,null,null,""]
[null,null,null,null,""]
[null,null,null,null,""]
[null,null,null,null,""]
[null,null,null,null,""]
[null,null,null,null,""]
[null,null,null,null,""]
[null,null,null,null,""]
[null,null,null,null,""]
[null,null,null,null,""]
[null,null,null,null,""]
[null,null,null,null,""]
[null,null,null,null,""]
[null,null,null,null,""]
[null,null,null,null,""]
[null,null,null,null,""]
[null,null,null,null,""]
[null,null,null,null,""]
[null,null,null,null,""]
[null,null,null,null,""]
[null,null,null,null,""]
[null,null,null,null,""]
[null,null,null,null,""]
[null,null,null,null,""]
[null,null,null,null,""]
[null,null,null,null,""]
[null,null,null,null,""]
[null,null,null,null,""]
[null,null,null,null,""]
[null,null,null,null,""]
[null,null,null,null,""]
[null,null,null,null,""]
[null,null,null,null,""]
[null,null,null,null,""]
[null,null,null,null,""]
[null,null,null,null,""]
[null,null,null,null,""]
[null,null,null,null,{"$f":"IF(OR(C324=\"\",D324=\"\"),\"\",D324&\"_\"&C324)","v":""}]
[null,null,null,null,""]
[null,null,null,null,""]
[null,null,null,null,""]
[null,null,null,null,""]
[null,null,null,null,""]
[null,null,null,null,""]
[null,null,null,null,""]
[null,null,null,null,""]
[null,null,null,null,""]
[null,null,null,null,""]
[null,null,null,null,""]
[null,null,null,null,""]
[null,null,null,null,""]
[null,null,null,null,""]
[null,null,null,null,""]
[null,null,null,null,""]
[null,null,null,null,""]
[null,null,null,null,""]
[null,null,null,null,""]
[null,null,null,null,""]
[null,null,null,null,""]
[null,null,null,null,""]
[null,null,null,null,""]
[null,null,null,null,""]
[null,null,null,null,""]
[null,null,null,null,""]
[null,null,null,null,""]
[null,null,null,null,""]
[null,null,null,null,""]
[null,null,null,null,""]
[null,null,null,null,""]
[null,null,null,null,""]
[null,null,null,null,""]
[null,null,null,null,""]
[null,null,null,null,""]
[null,null,null,null,""]
[null,null,null,null,""]
[null,null,null,null,""]
[null,null,null,null,""]
[null,null,null,null,""]
[null,null,null,null,""]
[null,null,null,null,""]
[null,null,null,null,""]
[null,null,null,null,""]
[null,null,null,null,""]
[null,null,null,null,""]
[null,null,null,null,""]
[null,null,null,null,""]
[null,null,null,null,""]
[null,null,null,null,""]
[null,null,null,null,""]
[null,null,null,null,""]
[null,null,null,null,""]
[null,null,null,null,""]
[null,null,null,null,""]
[null,null,null,null,""]
[null,null,null,null,""]
[null,null,null,null,""]
[null,null,null,null,""]
[null,null,null,null,""]
[null,null,null,null,""]
[null,null,null,null,""]
[null,null,null,null,""]
[null,null,null,null,{"$f":"IF(OR(C388=\"\",D388=\"\"),\"\",D388&\"_\"&C388)","v":""}]
[null,null,null,null,""]
[null,null,null,null,""]
[null,null,null,null,""]
[null,null,null,null,""]
[null,null,null,null,""]
[null,null,null,null,""]
[null,null,null,null,""]
[null,null,null,null,""]
[null,null,null,null,""]
[null,null,null,null,""]
[null,null,null,null,""]
[null,null,null,null,""]
[null,null,null,null,""]
[null,null,null,null,""]
[null,null,null,null,""]
[null,null,null,null,""]
[null,null,null,null,""]
[null,null,null,null,""]
[null,null,null,null,""]
[null,null,null,null,""]
[null,null,null,null,""]
[null,null,null,null,""]
[null,null,null,null,""]
[null,null,null,null,""]
[null,null,null,null,""]
[null,null,null,null,""]
[null,null,null,null,""]
[null,null,null,null,""]
[null,null,null,null,""]
[null,null,null,null,""]
[null,null,null,null,""]
[null,null,null,null,""]
[null,null,null,null,""]
[null,null,null,null,""]
[null,null,null,null,""]
[null,null,null,null,""]
[null,null,null,null,""]
[null,null,null,null,""]
[null,null,null,null,""]
[null,null,null,null,""]
[null,null,null,null,""]
[null,null,null,null,""]
[null,null,null,null,""]
[null,null,null,null,""]
[null,null,null,null,""]
[null,null,null,null,""]
[null,null,null,null,""]
[null,null,null,null,""]
[null,null,null,null,""]
[null,null,null,null,""]
[null,null,null,null,""]
[null,null,null,null,""]
[null,null,null,null,""]
[null,null,null,null,""]
[null,null,null,null,""]
[null,null,null,null,""]
[null,null,null,null,""]
[null,null,null,null,""]
[null,null,null,null,""]
[null,null,null,null,""]
[null,null,null,null,""]
[null,null,null,null,""]
[null,null,null,null,""]
[null,null,null,null,{"$f":"IF(OR(C452=\"\",D452=\"\"),\"\",D452&\"_\"&C452)","v":""}]
[null,null,null,null,""]
[null,null,null,null,""]
[null,null,null,null,""]
[null,null,null,null,""]
[null,null,null,null,""]
[null,null,null,null,""]
[null,null,null,null,""]
[null,null,null,null,""]
[null,null,null,null,""]
[null,null,null,null,""]
[null,null,null,null,""]
[null,null,null,null,""]
[null,null,null,null,""]
[null,null,null,null,""]
[null,null,null,null,""]
[null,null,null,null,""]
[null,null,null,null,""]
[null,null,null,null,""]
[null,null,null,null,""]
[null,null,null,null,""]
[null,null,null,null,""]
[null,null,null,null,""]
[null,null,null,null,""]
[null,null,null,null,""]
[null,null,null,null,""]
[null,null,null,null,""]
[null,null,null,null,""]
[null,null,null,null,""]
[null,null,null,null,""]
[null,null,null,null,""]
[null,null,null,null,""]
[null,null,null,null,""]
[null,null,null,null,""]
[null,null,null,null,""]
[null,null,null,null,""]
[null,null,null,null,""]
[null,null,null,null,""]
[null,null,null,null,""]
[null,null,null,null,""]
[null,null,null,null,""]
[null,null,null,null,""]
[null,null,null,null,""]
[null,null,null,null,""]
[null,null,null,null,""]
[null,null,null,null,""]
[null,null,null,null,""]
[null,null,null,null,""]
[null,null,null,null,""]
[null,null,null,null,""]
[null,null,null,null,""]
[null,null,null,null,""]
[null,null,null,null,""]
[null,null,null,null,""]
[null,null,null,null,""]
[null,null,null,null,""]
[null,null,null,null,""]
[null,null,null,null,""]
[null,null,null,null,""]
[null,null,null,null,""]
[null,null,null,null,""]
[null,null,null,null,""]
[null,null,null,null,""]
[null,null,null,null,""]
[null,null,null,null,{"$f":"IF(OR(C516=\"\",D516=\"\"),\"\",D516&\"_\"&C516)","v":""}]
[null,null,null,null,""]
[null,null,null,null,""]
[null,null,null,null,""]
[null,null,null,null,""]
[null,null,null,null,""]
[null,null,null,null,""]
[null,null,null,null,""]
[null,null,null,null,""]
[null,null,null,null,""]
[null,null,null,null,""]
[null,null,null,null,""]
[null,null,null,null,""]
[null,null,null,null,""]
[null,null,null,null,""]
[null,null,null,null,""]
[null,null,null,null,""]
[null,null,null,null,""]
[null,null,null,null,""]
[null,null,null,null,""]
[null,null,null,null,""]
[null,null,null,null,""]
[null,null,null,null,""]
[null,null,null,null,""]
[null,null,null,null,""]
[null,null,null,null,""]
[null,null,null,null,""]
[null,null,null,null,""]
[null,null,null,null,""]
[null,null,null,null,""]
[null,null,null,null,""]
[null,null,null,null,""]
[null,null,null,null,""]
[null,null,null,null,""]
[null,null,null,null,""]
[null,null,null,null,""]
[null,null,null,null,""]
[null,null,null,null,""]
[null,null,null,null,""]
[null,null,null,null,""]
[null,null,null,null,""]
[null,null,null,null,""]
[null,null,null,null,""]
[null,null,null,null,""]
[null,null,null,null,""]
[null,null,null,null,""]
[null,null,null,null,""]
[null,null,null,null,""]
[null,null,null,null,""]
[null,null,null,null,""]
[null,null,null,null,""]
[null,null,null,null,""]
[null,null,null,null,""]
[null,null,null,null,""]
[null,null,null,null,""]
[null,null,null,null,""]
[null,null,null,null,""]
[null,null,null,null,""]
[null,null,null,null,""]
[null,null,null,null,""]
[null,null,null,null,""]
[null,null,null,null,""]
[null,null,null,null,""]
[null,null,null,null,""]
[null,null,null,null,{"$f":"IF(OR(C580=\"\",D580=\"\"),\"\",D580&\"_\"&C580)","v":""}]
[null,null,null,null,""]
[null,null,null,null,""]
[null,null,null,null,""]
[null,null,null,null,""]
[null,null,null,null,""]
[null,null,null,null,""]
[null,null,null,null,""]
[null,null,null,null,""]
[null,null,null,null,""]
[null,null,null,null,""]
[null,null,null,null,""]
[null,null,null,null,""]
[null,null,null,null,""]
[null,null,null,null,""]
[null,null,null,null,""]
[null,null,null,null,""]
[null,null,null,null,""]
[null,null,null,null,""]
[null,null,null,null,""]
[null,null,null,null,""]
[null,null,null,null,""]
[null,null,null,null,""]
[null,null,null,null,""]
[null,null,null,null,""]
[null,null,null,null,""]
[null,null,null,null,""]
[null,null,null,null,""]
[null,null,null,null,""]
[null,null,null,null,""]
[null,null,null,null,""]
[null,null,null,null,""]
[null,null,null,null,""]
[null,null,null,null,""]
[null,null,null,null,""]
[null,null,null,null,""]
[null,null,null,null,""]
[null,null,null,null,""]
[null,null,null,null,""]
[null,null,null,null,""]
[null,null,null,null,""]
[null,null,null,null,""]
[null,null,null,null,""]
[null,null,null,null,""]
[null,null,null,null,""]
[null,null,null,null,""]
[null,null,null,null,""]
[null,null,null,null,""]
[null,null,null,null,""]
[null,null,null,null,""]
[null,null,null,null,""]
[null,null,null,null,""]
[null,null,null,null,""]
[null,null,null,null,""]
[null,null,null,null,""]
[null,null,null,null,""]
[null,null,null,null,""]
[null,null,null,null,""]
[null,null,null,null,""]
[null,null,null,null,""]
[null,null,null,null,""]
[null,null,null,null,""]
[null,null,null,null,""]
[null,null,null,null,""]
[null,null,null,null,{"$f":"IF(OR(C644=\"\",D644=\"\"),\"\",D644&\"_\"&C644)","v":""}]
[null,null,null,null,""]
[null,null,null,null,""]
[null,null,null,null,""]
[null,null,null,null,""]
[null,null,null,null,""]
[null,null,null,null,""]
[null,null,null,null,""]
[null,null,null,null,""]
[null,null,null,null,""]
[null,null,null,null,""]
[null,null,null,null,""]
[null,null,null,null,""]
[null,null,null,null,""]
[null,null,null,null,""]
[null,null,null,null,""]
[null,null,null,null,""]
[null,null,null,null,""]
[null,null,null,null,""]
[null,null,null,null,""]
[null,null,null,null,""]
[null,null,null,null,""]
[null,null,null,null,""]
[null,null,null,null,""]
[null,null,null,null,""]
[null,null,null,null,""]
[null,null,null,null,""]
[null,null,null,null,""]
[null,null,null,null,""]
[null,null,null,null,""]
[null,null,null,null,""]
[null,null,null,null,""]
[null,null,null,null,""]
[null,null,null,null,""]
[null,null,null,null,""]
[null,null,null,null,""]
[null,null,null,null,""]
[null,null,null,null,""]
[null,null,null,null,""]
[null,null,null,null,""]
[null,null,null,null,""]
[null,null,null,null,""]
[null,null,null,null,""]
[null,null,null,null,""]
[null,null,null,null,""]
[null,null,null,null,""]
[null,null,null,null,""]
[null,null,null,null,""]
[null,null,null,null,""]
[null,null,null,null,""]
[null,null,null,null,""]
[null,null,null,null,""]
[null,null,null,null,""]
[null,null,null,null,""]
[null,null,null,null,""]
[null,null,null,null,""]
[null,null,null,null,""]
[null,null,null,null,""]
[null,null,null,null,""]
[null,null,null,null,""]
[null,null,null,null,""]
[null,null,null,null,""]
[null,null,null,null,""]
[null,null,null,null,""]
[null,null,null,null,{"$f":"IF(OR(C708=\"\",D708=\"\"),\"\",D708&\"_\"&C708)","v":""}]
[null,null,null,null,""]
[null,null,null,null,""]
[null,null,null,null,""]
[null,null,null,null,""]
[null,null,null,null,""]
[null,null,null,null,""]
[null,null,null,null,""]
[null,null,null,null,""]
[null,null,null,null,""]
[null,null,null,null,""]
[null,null,null,null,""]
[null,null,null,null,""]
[null,null,null,null,""]
[null,null,null,null,""]
[null,null,null,null,""]
[null,null,null,null,""]
[null,null,null,null,""]
[null,null,null,null,""]
[null,null,null,null,""]
[null,null,null,null,""]
[null,null,null,null,""]
[null,null,null,null,""]
[null,null,null,null,""]
[null,null,null,null,""]
[null,null,null,null,""]
[null,null,null,null,""]
[null,null,null,null,""]
[null,null,null,null,""]
[null,null,null,null,""]
[null,null,null,null,""]
[null,null,null,null,""]
[null,null,null,null,""]
[null,null,null,null,""]
[null,null,null,null,""]
[null,null,null,null,""]
[null,null,null,null,""]
[null,null,null,null,""]
[null,null,null,null,""]
[null,null,null,null,""]
[null,null,null,null,""]
[null,null,null,null,""]
[null,null,null,null,""]
[null,null,null,null,""]
[null,null,null,null,""]
[null,null,null,null,""]
[null,null,null,null,""]
[null,null,null,null,""]
[null,null,null,null,""]
[null,null,null,null,""]
[null,null,null,null,""]
[null,null,null,null,""]
[null,null,null,null,""]
[null,null,null,null,""]
[null,null,null,null,""]
[null,null,null,null,""]
[null,null,null,null,""]
[null,null,null,null,""]
[null,null,null,null,""]
[null,null,null,null,""]
[null,null,null,null,""]
[null,null,null,null,""]
[null,null,null,null,""]
[null,null,null,null,""]
[null,null,null,null,{"$f":"IF(OR(C772=\"\",D772=\"\"),\"\",D772&\"_\"&C772)","v":""}]
[null,null,null,null,""]
[null,null,null,null,""]
[null,null,null,null,""]
[null,null,null,null,""]
[null,null,null,null,""]
[null,null,null,null,""]
[null,null,null,null,""]
[null,null,null,null,""]
[null,null,null,null,""]
[null,null,null,null,""]
[null,null,null,null,""]
[null,null,null,null,""]
[null,null,null,null,""]
[null,null,null,null,""]
[null,null,null,null,""]
[null,null,null,null,""]
[null,null,null,null,""]
[null,null,null,null,""]
[null,null,null,null,""]
[null,null,null,null,""]
[null,null,null,null,""]
[null,null,null,null,""]
[null,null,null,null,""]
[null,null,null,null,""]
[null,null,null,null,""]
[null,null,null,null,""]
[null,null,null,null,""]
[null,null,null,null,""]
[null,null,null,null,""]
[null,null,null,null,""]
[null,null,null,null,""]
[null,null,null,null,""]
[null,null,null,null,""]
[null,null,null,null,""]
[null,null,null,null,""]
[null,null,null,null,""]
[null,null,null,null,""]
[null,null,null,null,""]
[null,null,null,null,""]
[null,null,null,null,""]
[null,null,null,null,""]
[null,null,null,null,""]
[null,null,null,null,""]
[null,null,null,null,""]
[null,null,null,null,""]
[null,null,null,null,""]
[null,null,null,null,""]
[null,null,null,null,""]
[null,null,null,null,""]
[null,null,null,null,""]
[null,null,null,null,""]
[null,null,null,null,""]
[null,null,null,null,""]
[null,null,null,null,""]
[null,null,null,null,""]
[null,null,null,null,""]
[null,null,null,null,""]
[null,null,null,null,""]
[null,null,null,null,""]
[null,null,null,null,""]
[null,null,null,null,""]
[null,null,null,null,""]
[null,null,null,null,""]
[null,null,null,null,{"$f":"IF(OR(C836=\"\",D836=\"\"),\"\",D836&\"_\"&C836)","v":""}]
[null,null,null,null,""]
[null,null,null,null,""]
[null,null,null,null,""]
[null,null,null,null,""]
[null,null,null,null,""]
[null,null,null,null,""]
[null,null,null,null,""]
[null,null,null,null,""]
[null,null,null,null,""]
[null,null,null,null,""]
[null,null,null,null,""]
[null,null,null,null,""]
[null,null,null,null,""]
[null,null,null,null,""]
[null,null,null,null,""]
[null,null,null,null,""]
[null,null,null,null,""]
[null,null,null,null,""]
[null,null,null,null,""]
[null,null,null,null,""]
[null,null,null,null,""]
[null,null,null,null,""]
[null,null,null,null,""]
[null,null,null,null,""]
[null,null,null,null,""]
[null,null,null,null,""]
[null,null,null,null,""]
[null,null,null,null,""]
[null,null,null,null,""]
[null,null,null,null,""]
[null,null,null,null,""]
[null,null,null,null,""]
[null,null,null,null,""]
[null,null,null,null,""]
[null,null,null,null,""]
[null,null,null,null,""]
[null,null,null,null,""]
[null,null,null,null,""]
[null,null,null,null,""]
[null,null,null,null,""]
[null,null,null,null,""]
[null,null,null,null,""]
[null,null,null,null,""]
[null,null,null,null,""]
[null,null,null,null,""]
[null,null,null,null,""]
[null,null,null,null,""]
[null,null,null,null,""]
[null,null,null,null,""]
[null,null,null,null,""]
[null,null,null,null,""]
[null,null,null,null,""]
[null,null,null,null,""]
[null,null,null,null,""]
[null,null,null,null,""]
[null,null,null,null,""]
[null,null,null,null,""]
[null,null,null,null,""]
[null,null,null,null,""]
[null,null,null,null,""]
[null,null,null,null,""]
[null,null,null,null,""]
[null,null,null,null,""]
[null,null,null,null,{"$f":"IF(OR(C900=\"\",D900=\"\"),\"\",D900&\"_\"&C900)","v":""}]
[null,null,null,null,""]
[null,null,null,null,""]
[null,null,null,null,""]
[null,null,null,null,""]
[null,null,null,null,""]
[null,null,null,null,""]
[null,null,null,null,""]
[null,null,null,null,""]
[null,null,null,null,""]
[null,null,null,null,""]
[null,null,null,null,""]
[null,null,null,null,""]
[null,null,null,null,""]
[null,null,null,null,""]
[null,null,null,null,""]
[null,null,null,null,""]
[null,null,null,null,""]
[null,null,null,null,""]
[null,null,null,null,""]
[null,null,null,null,""]
[null,null,null,null,""]
[null,null,null,null,""]
[null,null,null,null,""]
[null,null,null,null,""]
[null,null,null,null,""]
[null,null,null,null,""]
[null,null,null,null,""]
[null,null,null,null,""]
[null,null,null,null,""]
[null,null,null,null,""]
[null,null,null,null,""]
[null,null,null,null,""]
[null,null,null,null,""]
[null,null,null,null,""]
[null,null,null,null,""]
[null,null,null,null,""]
[null,null,null,null,""]
[null,null,null,null,""]
[null,null,null,null,""]
[null,null,null,null,""]
[null,null,null,null,""]
[null,null,null,null,""]
[null,null,null,null,""]
[null,null,null,null,""]
[null,null,null,null,""]
[null,null,null,null,""]
[null,null,null,null,""]
[null,null,null,null,""]
[null,null,null,null,""]
[null,null,null,null,""]
[null,null,null,null,""]
[null,null,null,null,""]
[null,null,null,null,""]
[null,null,null,null,""]
[null,null,null,null,""]
[null,null,null,null,""]
[null,null,null,null,""]
[null,null,null,null,""]
[null,null,null,null,""]
[null,null,null,null,""]
[null,null,null,null,""]
[null,null,null,null,""]
[null,null,null,null,""]
[null,null,null,null,{"$f":"IF(OR(C964=\"\",D964=\"\"),\"\",D964&\"_\"&C964)","v":""}]
[null,null,null,null,""]
[null,null,null,null,""]
[null,null,null,null,""]
[null,null,null,null,""]
[null,null,null,null,""]
[null,null,null,null,""]
[null,null,null,null,""]
[null,null,null,null,""]
[null,null,null,null,""]
[null,null,null,null,""]
[null,null,null,null,""]
[null,null,null,null,""]
[null,null,null,null,""]
[null,null,null,null,""]
[null,null,null,null,""]
[null,null,null,null,""]
[null,null,null,null,""]
[null,null,null,null,""]
[null,null,null,null,""]
[null,null,null,null,""]
[null,null,null,null,""]
[null,null,null,null,""]
[null,null,null,null,""]
[null,null,null,null,""]
[null,null,null,null,""]
[null,null,null,null,""]
[null,null,null,null,""]
[null,null,null,null,""]
[null,null,null,null,""]
[null,null,null,null,""]
[null,null,null,null,""]
[null,null,null,null,""]
[null,null,null,null,""]
[null,null,null,null,""]
[null,null,null,null,""]
[null,null,null,null,""]
[null,null,null,null,""]
[null,null,null,null,""]
[null,null,null,null,""]
[null,null,null,null,""]
[null,null,null,null,""]
[null,null,null,null,""]
[null,null,null,null,""]
[null,null,null,null,""]
[null,null,null,null,""]
[null,null,null,null,""]
[null,null,null,null,""]
[null,null,null,null,""]
[null,null,null,null,""]
[null,null,null,null,""]
[null,null,null,null,""]
[null,null,null,null,""]
[null,null,null,null,""]
[null,null,null,null,""]
[null,null,null,null,""]
[null,null,null,null,""]
[null,null,null,null,""]
[null,null,null,null,""]
[null,null,null,null,""]
[null,null,null,null,""]
[null,null,null,null,""]
[null,null,null,null,""]
[null,null,null,null,""]
[null,null,null,null,{"$f":"IF(OR(C1028=\"\",D1028=\"\"),\"\",D1028&\"_\"&C1028)","v":""}]
[null,null,null,null,""]
[null,null,null,null,""]
[null,null,null,null,""]
[null,null,null,null,""]
[null,null,null,null,""]
[null,null,null,null,""]
[null,null,null,null,""]
[null,null,null,null,""]
[null,null,null,null,""]
[null,null,null,null,""]
[null,null,null,null,""]
[null,null,null,null,""]
[null,null,null,null,""]
[null,null,null,null,""]
[null,null,null,null,""]
[null,null,null,null,""]
[null,null,null,null,""]
[null,null,null,null,""]
[null,null,null,null,""]
[null,null,null,null,""]
[null,null,null,null,""]
[null,null,null,null,""]
[null,null,null,null,""]
[null,null,null,null,""]
[null,null,null,null,""]
[null,null,null,null,""]
[null,null,null,null,""]
[null,null,null,null,""]
[null,null,null,null,""]
[null,null,null,null,""]
[null,null,null,null,""]
[null,null,null,null,""]
[null,null,null,null,""]
[null,null,null,null,""]
[null,null,null,null,""]
[null,null,null,null,""]
[null,null,null,null,""]
[null,null,null,null,""]
[null,null,null,null,""]
[null,null,null,null,""]
[null,null,null,null,""]
[null,null,null,null,""]
[null,null,null,null,""]
[null,null,null,null,""]
[null,null,null,null,""]
[null,null,null,null,""]
[null,null,null,null,""]
[null,null,null,null,""]
[null,null,null,null,""]
[null,null,null,null,""]
[null,null,null,null,""]
[null,null,null,null,""]
[null,null,null,null,""]
[null,null,null,null,""]
[null,null,null,null,""]
[null,null,null,null,""]
[null,null,null,null,""]
[null,null,null,null,""]
[null,null,null,null,""]
[null,null,null,null,""]
[null,null,null,null,""]
[null,null,null,null,""]
[null,null,null,null,""]
[null,null,null,null,{"$f":"IF(OR(C1092=\"\",D1092=\"\"),\"\",D1092&\"_\"&C1092)","v":""}]
[null,null,null,null,""]
[null,null,null,null,""]
[null,null,null,null,""]
[null,null,null,null,""]
[null,null,null,null,""]
[null,null,null,null,""]
[null,null,null,null,""]
[null,null,null,null,""]
[null,null,null,null,""]
[null,null,null,null,""]
[null,null,null,null,""]
[null,null,null,null,""]
[null,null,null,null,""]
[null,null,null,null,""]
[null,null,null,null,""]
[null,null,null,null,""]
[null,null,null,null,""]
[null,null,null,null,""]
[null,null,null,null,""]
[null,null,null,null,""]
[null,null,null,null,""]
[null,null,null,null,""]
[null,null,null,null,""]
[null,null,null,null,""]
[null,null,null,null,""]
[null,null,null,null,""]
[null,null,null,null,""]
[null,null,null,null,""]
[null,null,null,null,""]
[null,null,null,null,""]
[null,null,null,null,""]
[null,null,null,null,""]
[null,null,null,null,""]
[null,null,null,null,""]
[null,null,null,null,""]
[null,null,null,null,""]
[null,null,null,null,""]
[null,null,null,null,""]
[null,null,null,null,""]
[null,null,null,null,""]
[null,null,null,null,""]
[null,null,null,null,""]
[null,null,null,null,""]
[null,null,null,null,""]
[null,null,null,null,""]
[null,null,null,null,""]
[null,null,null,null,""]
[null,null,null,null,""]
[null,null,null,null,""]
[null,null,null,null,""]
[null,null,null,null,""]
[null,null,null,null,""]
[null,null,null,null,""]
[null,null,null,null,""]
[null,null,null,null,""]
[null,null,null,null,""]
[null,null,null,null,""]
[null,null,null,null,""]
[null,null,null,null,""]
[null,null,null,null,""]
[null,null,null,null,""]
[null,null,null,null,""]
[null,null,null,null,""]
[null,null,null,null,{"$f":"IF(OR(C1156=\"\",D1156=\"\"),\"\",D1156&\"_\"&C1156)","v":""}]
[null,null,null,null,""]
[null,null,null,null,""]
[null,null,null,null,""]
[null,null,null,null,""]
[null,null,null,null,""]
[null,null,null,null,""]
[null,null,null,null,""]
[null,null,null,null,""]
[null,null,null,null,""]
[null,null,null,null,""]
[null,null,null,null,""]
[null,null,null,null,""]
[null,null,null,null,""]
[null,null,null,null,""]
[null,null,null,null,""]
[null,null,null,null,""]
[null,null,null,null,""]
[null,null,null,null,""]
[null,null,null,null,""]
[null,null,null,null,""]
[null,null,null,null,""]
[null,null,null,null,""]
[null,null,null,null,""]
[null,null,null,null,""]
[null,null,null,null,""]
[null,null,null,null,""]
[null,null,null,null,""]
[null,null,null,null,""]
[null,null,null,null,""]
[null,null,null,null,""]
[null,null,null,null,""]
[null,null,null,null,""]
[null,null,null,null,""]
[null,null,null,null,""]
[null,null,null,null,""]
[null,null,null,null,""]
[null,null,null,null,""]
[null,null,null,null,""]
[null,null,null,null,""]
[null,null,null,null,""]
[null,null,null,null,""]
[null,null,null,null,""]
[null,null,null,null,""]
[null,null,null,null,""]
[null,null,null,null,""]
[null,null,null,null,""]
[null,null,null,null,""]
[null,null,null,null,""]
[null,null,null,null,""]
[null,null,null,null,""]
[null,null,null,null,""]
[null,null,null,null,""]
[null,null,null,null,""]
[null,null,null,null,""]
[null,null,null,null,""]
[null,null,null,null,""]
[null,null,null,null,""]
[null,null,null,null,""]
[null,null,null,null,""]
[null,null,null,null,""]
[null,null,null,null,""]
[null,null,null,null,""]
[null,null,null,null,""]
[null,null,null,null,{"$f":"IF(OR(C1220=\"\",D1220=\"\"),\"\",D1220&\"_\"&C1220)","v":""}]
[null,null,null,null,""]
[null,null,null,null,""]
[null,null,null,null,""]
[null,null,null,null,""]
[null,null,null,null,""]
[null,null,null,null,""]
[null,null,null,null,""]
[null,null,null,null,""]
[null,null,null,null,""]
[null,null,null,null,""]
[null,null,null,null,""]
[null,null,null,null,""]
[null,null,null,null,""]
[null,null,null,null,""]
[null,null,null,null,""]
[null,null,null,null,""]
[null,null,null,null,""]
[null,null,null,null,""]
[null,null,null,null,""]
[null,null,null,null,""]
[null,null,null,null,""]
[null,null,null,null,""]
[null,null,null,null,""]
[null,null,null,null,""]
[null,null,null,null,""]
[null,null,null,null,""]
[null,null,null,null,""]
[null,null,null,null,""]
[null,null,null,null,""]
[null,null,null,null,""]
[null,null,null,null,""]
[null,null,null,null,""]
[null,null,null,null,""]
[null,null,null,null,""]
[null,null,null,null,""]
[null,null,null,null,""]
[null,null,null,null,""]
[null,null,null,null,""]
[null,null,null,null,""]
[null,null,null,null,""]
[null,null,null,null,""]
[null,null,null,null,""]
[null,null,null,null,""]
[null,null,null,null,""]
[null,null,null,null,""]
[null,null,null,null,""]
[null,null,null,null,""]
[null,null,null,null,""]
[null,null,null,null,""]
[null,null,null,null,""]
[null,null,null,null,""]
[null,null,null,null,""]
[null,null,null,null,""]
[null,null,null,null,""]
[null,null,null,null,""]
[null,null,null,null,""]
[null,null,null,null,""]
[null,null,null,null,""]
[null,null,null,null,""]
[null,null,null,null,""]
[null,null,null,null,""]
[null,null,null,null,""]
[null,null,null,null,""]
[null,null,null,null,{"$f":"IF(OR(C1284=\"\",D1284=\"\"),\"\",D1284&\"_\"&C1284)","v":""}]
[null,null,null,null,""]
[null,null,null,null,""]
[null,null,null,null,""]
[null,null,null,null,""]
[null,null,null,null,""]
[null,null,null,null,""]
[null,null,null,null,""]
[null,null,null,null,""]
[null,null,null,null,""]
[null,null,null,null,""]
[null,null,null,null,""]
[null,null,null,null,""]
[null,null,null,null,""]
[null,null,null,null,""]
[null,null,null,null,""]
[null,null,null,null,""]
[null,null,null,null,""]
[null,null,null,null,""]
[null,null,null,null,""]
[null,null,null,null,""]
[null,null,null,null,""]
[null,null,null,null,""]
[null,null,null,null,""]
[null,null,null,null,""]
[null,null,null,null,""]
[null,null,null,null,""]
[null,null,null,null,""]
[null,null,null,null,""]
[null,null,null,null,""]
[null,null,null,null,""]
[null,null,null,null,""]
[null,null,null,null,""]
[null,null,null,null,""]
[null,null,null,null,""]
[null,null,null,null,""]
[null,null,null,null,""]
[null,null,null,null,""]
[null,null,null,null,""]
[null,null,null,null,""]
[null,null,null,null,""]
[null,null,null,null,""]
[null,null,null,null,""]
[null,null,null,null,""]
[null,null,null,null,""]
[null,null,null,null,""]
[null,null,null,null,""]
[null,null,null,null,""]
[null,null,null,null,""]
[null,null,null,null,""]
[null,null,null,null,""]
[null,null,null,null,""]
[null,null,null,null,""]
[null,null,null,null,""]
[null,null,null,null,""]
[null,null,null,null,""]
[null,null,null,null,""]
[null,null,null,null,""]
[null,null,null,null,""]
[null,null,null,null,""]
[null,null,null,null,""]
[null,null,null,null,""]
[null,null,null,null,""]
[null,null,null,null,""]
[null,null,null,null,{"$f":"IF(OR(C1348=\"\",D1348=\"\"),\"\",D1348&\"_\"&C1348)","v":""}]
[null,null,null,null,""]
[null,null,null,null,""]
[null,null,null,null,""]
[null,null,null,null,""]
[null,null,null,null,""]
[null,null,null,null,""]
[null,null,null,null,""]
[null,null,null,null,""]
[null,null,null,null,""]
[null,null,null,null,""]
[null,null,null,null,""]
[null,null,null,null,""]
[null,null,null,null,""]
[null,null,null,null,""]
[null,null,null,null,""]
[null,null,null,null,""]
[null,null,null,null,""]
[null,null,null,null,""]
[null,null,null,null,""]
[null,null,null,null,""]
[null,null,null,null,""]
[null,null,null,null,""]
[null,null,null,null,""]
[null,null,null,null,""]
[null,null,null,null,""]
[null,null,null,null,""]
[null,null,null,null,""]
[null,null,null,null,""]
[null,null,null,null,""]
[null,null,null,null,""]
[null,null,null,null,""]
[null,null,null,null,""]
[null,null,null,null,""]
[null,null,null,null,""]
[null,null,null,null,""]
[null,null,null,null,""]
[null,null,null,null,""]
[null,null,null,null,""]
[null,null,null,null,""]
[null,null,null,null,""]
[null,null,null,null,""]
[null,null,null,null,""]
[null,null,null,null,""]
[null,null,null,null,""]
[null,null,null,null,""]
[null,null,null,null,""]
[null,null,null,null,""]
[null,null,null,null,""]
[null,null,null,null,""]
[null,null,null,null,""]
[null,null,null,null,""]
[null,null,null,null,""]
[null,null,null,null,""]
[null,null,null,null,""]
[null,null,null,null,""]
[null,null,null,null,""]
[null,null,null,null,""]
[null,null,null,null,""]
[null,null,null,null,""]
[null,null,null,null,""]
[null,null,null,null,""]
[null,null,null,null,""]
[null,null,null,null,""]
[null,null,null,null,{"$f":"IF(OR(C1412=\"\",D1412=\"\"),\"\",D1412&\"_\"&C1412)","v":""}]
[null,null,null,null,""]
[null,null,null,null,""]
[null,null,null,null,""]
[null,null,null,null,""]
[null,null,null,null,""]
[null,null,null,null,""]
[null,null,null,null,""]
[null,null,null,null,""]
[null,null,null,null,""]
[null,null,null,null,""]
[null,null,null,null,""]
[null,null,null,null,""]
[null,null,null,null,""]
[null,null,null,null,""]
[null,null,null,null,""]
[null,null,null,null,""]
[null,null,null,null,""]
[null,null,null,null,""]
[null,null,null,null,""]
[null,null,null,null,""]
[null,null,null,null,""]
[null,null,null,null,""]
[null,null,null,null,""]
[null,null,null,null,""]
[null,null,null,null,""]
[null,null,null,null,""]
[null,null,null,null,""]
[null,null,null,null,""]
[null,null,null,null,""]
[null,null,null,null,""]
[null,null,null,null,""]
[null,null,null,null,""]
[null,null,null,null,""]
[null,null,null,null,""]
[null,null,null,null,""]
[null,null,null,null,""]
[null,null,null,null,""]
[null,null,null,null,""]
[null,null,null,null,""]
[null,null,null,null,""]
[null,null,null,null,""]
[null,null,null,null,""]
[null,null,null,null,""]
[null,null,null,null,""]
[null,null,null,null,""]
[null,null,null,null,""]
[null,null,null,null,""]
[null,null,null,null,""]
[null,null,null,null,""]
[null,null,null,null,""]
[null,null,null,null,""]
[null,null,null,null,""]
[null,null,null,null,""]
[null,null,null,null,""]
[null,null,null,null,""]
[null,null,null,null,""]
[null,null,null,null,""]
[null,null,null,null,""]
[null,null,null,null,""]
[null,null,null,null,""]
[null,null,null,null,""]
[null,null,null,null,""]
[null,null,null,null,""]
[null,null,null,null,{"$f":"IF(OR(C1476=\"\",D1476=\"\"),\"\",D1476&\"_\"&C1476)","v":""}]
[null,null,null,null,""]
[null,null,null,null,""]
[null,null,null,null,""]
[null,null,null,null,""]
[null,null,null,null,""]
[null,null,null,null,""]
[null,null,null,null,""]
[null,null,null,null,""]
[null,null,null,null,""]
[null,null,null,null,""]
[null,null,null,null,""]
[null,null,null,null,""]
[null,null,null,null,""]
[null,null,null,null,""]
[null,null,null,null,""]
[null,null,null,null,""]
[null,null,null,null,""]
[null,null,null,null,""]
[null,null,null,null,""]
[null,null,null,null,""]
[null,null,null,null,""]
[null,null,null,null,""]
[null,null,null,null,""]
[null,null,null,null,""]
[null,null,null,null,""]
[null,null,null,null,""]
[null,null,null,null,""]
[null,null,null,null,""]
[null,null,null,null,""]
[null,null,null,null,""]
[null,null,null,null,""]
[null,null,null,null,""]
[null,null,null,null,""]
[null,null,null,null,""]
[null,null,null,null,""]
[null,null,null,null,""]
[null,null,null,null,""]
[null,null,null,null,""]
[null,null,null,null,""]
[null,null,null,null,""]
[null,null,null,null,""]
[null,null,null,null,""]
[null,null,null,null,""]
[null,null,null,null,""]
[null,null,null,null,""]
[null,null,null,null,""]
[null,null,null,null,""]
[null,null,null,null,""]
[null,null,null,null,""]
[null,null,null,null,""]
[null,null,null,null,""]
[null,null,null,null,""]
[null,null,null,null,""]
[null,null,null,null,""]
[null,null,null,null,""]
[null,null,null,null,""]
[null,null,null,null,""]
[null,null,null,null,""]
[null,null,null,null,""]
[null,null,null,null,""]
[null,null,null,null,""]
[null,null,null,null,""]
[null,null,null,null,""]
[null,null,null,null,{"$f":"IF(OR(C1540=\"\",D1540=\"\"),\"\",D1540&\"_\"&C1540)","v":""}]
[null,null,null,null,""]
[null,null,null,null,""]
[null,null,null,null,""]
[null,null,null,null,""]
[null,null,null,null,""]
[null,null,null,null,""]
[null,null,null,null,""]
[null,null,null,null,""]
[null,null,null,null,""]
[null,null,null,null,""]
[null,null,null,null,""]
[null,null,null,null,""]
[null,null,null,null,""]
[null,null,null,null,""]
[null,null,null,null,""]
[null,null,null,null,""]
[null,null,null,null,""]
[null,null,null,null,""]
[null,null,null,null,""]
[null,null,null,null,""]
[null,null,null,null,""]
[null,null,null,null,""]
[null,null,null,null,""]
[null,null,null,null,""]
[null,null,null,null,""]
[null,null,null,null,""]
[null,null,null,null,""]
[null,null,null,null,""]
[null,null,null,null,""]
[null,null,null,null,""]
[null,null,null,null,""]
[null,null,null,null,""]
[null,null,null,null,""]
[null,null,null,null,""]
[null,null,null,null,""]
[null,null,null,null,""]
[null,null,null,null,""]
[null,null,null,null,""]
[null,null,null,null,""]
[null,null,null,null,""]
[null,null,null,null,""]
[null,null,null,null,""]
[null,null,null,null,""]
[null,null,null,null,""]
[null,null,null,null,""]
[null,null,null,null,""]
[null,null,null,null,""]
[null,null,null,null,""]
[null,null,null,null,""]
[null,null,null,null,""]
[null,null,null,null,""]
[null,null,null,null,""]
[null,null,null,null,""]
[null,null,null,null,""]
[null,null,null,null,""]
[null,null,null,null,""]
[null,null,null,null,""]
[null,null,null,null,""]
[null,null,null,null,""]
[null,null,null,null,""]
[null,null,null,null,""]
[null,null,null,null,""]
[null,null,null,null,""]
[null,null,null,null,{"$f":"IF(OR(C1604=\"\",D1604=\"\"),\"\",D1604&\"_\"&C1604)","v":""}]
[null,null,null,null,""]
[null,null,null,null,""]
[null,null,null,null,""]
[null,null,null,null,""]
[null,null,null,null,""]
[null,null,null,null,""]
[null,null,null,null,""]
[null,null,null,null,""]
[null,null,null,null,""]
[null,null,null,null,""]
[null,null,null,null,""]
[null,null,null,null,""]
[null,null,null,null,""]
[null,null,null,null,""]
[null,null,null,null,""]
[null,null,null,null,""]
[null,null,null,null,""]
[null,null,null,null,""]
[null,null,null,null,""]
[null,null,null,null,""]
[null,null,null,null,""]
[null,null,null,null,""]
[null,null,null,null,""]
[null,null,null,null,""]
[null,null,null,null,""]
[null,null,null,null,""]
[null,null,null,null,""]
[null,null,null,null,""]
[null,null,null,null,""]
[null,null,null,null,""]
[null,null,null,null,""]
[null,null,null,null,""]
[null,null,null,null,""]
[null,null,null,null,""]
[null,null,null,null,""]
[null,null,null,null,""]
[null,null,null,null,""]
[null,null,null,null,""]
[null,null,null,null,""]
[null,null,null,null,""]
[null,null,null,null,""]
[null,null,null,null,""]
[null,null,null,null,""]
[null,null,null,null,""]
[null,null,null,null,""]
[null,null,null,null,""]
[null,null,null,null,""]
[null,null,null,null,""]
[null,null,null,null,""]
[null,null,null,null,""]
[null,null,null,null,""]
[null,null,null,null,""]
[null,null,null,null,""]
[null,null,null,null,""]
[null,null,null,null,""]
[null,null,null,null,""]
[null,null,null,null,""]
[null,null,null,null,""]
[null,null,null,null,""]
[null,null,null,null,""]
[null,null,null,null,""]
[null,null,null,null,""]
[null,null,null,null,""]
[null,null,null,null,{"$f":"IF(OR(C1668=\"\",D1668=\"\"),\"\",D1668&\"_\"&C1668)","v":""}]
[null,null,null,null,""]
[null,null,null,null,""]
[null,null,null,null,""]
[null,null,null,null,""]
[null,null,null,null,""]
[null,null,null,null,""]
[null,null,null,null,""]
[null,null,null,null,""]
[null,null,null,null,""]
[null,null,null,null,""]
[null,null,null,null,""]
[null,null,null,null,""]
[null,null,null,null,""]
[null,null,null,null,""]
[null,null,null,null,""]
[null,null,null,null,""]
[null,null,null,null,""]
[null,null,null,null,""]
[null,null,null,null,""]
[null,null,null,null,""]
[null,null,null,null,""]
[null,null,null,null,""]
[null,null,null,null,""]
[null,null,null,null,""]
[null,null,null,null,""]
[null,null,null,null,""]
[null,null,null,null,""]
[null,null,null,null,""]
[null,null,null,null,""]
[null,null,null,null,""]
[null,null,null,null,""]
[null,null,null,null,""]
[null,null,null,null,""]
[null,null,null,null,""]
[null,null,null,null,""]
[null,null,null,null,""]
[null,null,null,null,""]
[null,null,null,null,""]
[null,null,null,null,""]
[null,null,null,null,""]
[null,null,null,null,""]
[null,null,null,null,""]
[null,null,null,null,""]
[null,null,null,null,""]
[null,null,null,null,""]
[null,null,null,null,""]
[null,null,null,null,""]
[null,null,null,null,""]
[null,null,null,null,""]
[null,null,null,null,""]
[null,null,null,null,""]
[null,null,null,null,""]
[null,null,null,null,""]
[null,null,null,null,""]
[null,null,null,null,""]
[null,null,null,null,""]
[null,null,null,null,""]
[null,null,null,null,""]
[null,null,null,null,""]
[null,null,null,null,""]
[null,null,null,null,""]
[null,null,null,null,""]
[null,null,null,null,""]
[null,null,null,null,{"$f":"IF(OR(C1732=\"\",D1732=\"\"),\"\",D1732&\"_\"&C1732)","v":""}]
[null,null,null,null,""]
[null,null,null,null,""]
[null,null,null,null,""]
[null,null,null,null,""]
[null,null,null,null,""]
[null,null,null,null,""]
[null,null,null,null,""]
[null,null,null,null,""]
[null,null,null,null,""]
[null,null,null,null,""]
[null,null,null,null,""]
[null,null,null,null,""]
[null,null,null,null,""]
[null,null,null,null,""]
[null,null,null,null,""]
[null,null,null,null,""]
[null,null,null,null,""]
[null,null,null,null,""]
[null,null,null,null,""]
[null,null,null,null,""]
[null,null,null,null,""]
[null,null,null,null,""]
[null,null,null,null,""]
[null,null,null,null,""]
[null,null,null,null,""]
[null,null,null,null,""]
[null,null,null,null,""]
[null,null,null,null,""]
[null,null,null,null,""]
[null,null,null,null,""]
[null,null,null,null,""]
[null,null,null,null,""]
[null,null,null,null,""]
[null,null,null,null,""]
[null,null,null,null,""]
[null,null,null,null,""]
[null,null,null,null,""]
[null,null,null,null,""]
[null,null,null,null,""]
[null,null,null,null,""]
[null,null,null,null,""]
[null,null,null,null,""]
[null,null,null,null,""]
[null,null,null,null,""]
[null,null,null,null,""]
[null,null,null,null,""]
[null,null,null,null,""]
[null,null,null,null,""]
[null,null,null,null,""]
[null,null,null,null,""]
[null,null,null,null,""]
[null,null,null,null,""]
[null,null,null,null,""]
[null,null,null,null,""]
[null,null,null,null,""]
[null,null,null,null,""]
[null,null,null,null,""]
[null,null,null,null,""]
[null,null,null,null,""]
[null,null,null,null,""]
[null,null,null,null,""]
[null,null,null,null,""]
[null,null,null,null,""]
[null,null,null,null,{"$f":"IF(OR(C1796=\"\",D1796=\"\"),\"\",D1796&\"_\"&C1796)","v":""}]
[null,null,null,null,""]
[null,null,null,null,""]
[null,null,null,null,""]
[null,null,null,null,""]
[null,null,null,null,""]
[null,null,null,null,""]
[null,null,null,null,""]
[null,null,null,null,""]
[null,null,null,null,""]
[null,null,null,null,""]
[null,null,null,null,""]
[null,null,null,null,""]
[null,null,null,null,""]
[null,null,null,null,""]
[null,null,null,null,""]
[null,null,null,null,""]
[null,null,null,null,""]
[null,null,null,null,""]
[null,null,null,null,""]
[null,null,null,null,""]
[null,null,null,null,""]
[null,null,null,null,""]
[null,null,null,null,""]
[null,null,null,null,""]
[null,null,null,null,""]
[null,null,null,null,""]
[null,null,null,null,""]
[null,null,null,null,""]
[null,null,null,null,""]
[null,null,null,null,""]
[null,null,null,null,""]
[null,null,null,null,""]
[null,null,null,null,""]
[null,null,null,null,""]
[null,null,null,null,""]
[null,null,null,null,""]
[null,null,null,null,""]
[null,null,null,null,""]
[null,null,null,null,""]
[null,null,null,null,""]
[null,null,null,null,""]
[null,null,null,null,""]
[null,null,null,null,""]
[null,null,null,null,""]
[null,null,null,null,""]
[null,null,null,null,""]
[null,null,null,null,""]
[null,null,null,null,""]
[null,null,null,null,""]
[null,null,null,null,""]
[null,null,null,null,""]
[null,null,null,null,""]
[null,null,null,null,""]
[null,null,null,null,""]
[null,null,null,null,""]
[null,null,null,null,""]
[null,null,null,null,""]
[null,null,null,null,""]
[null,null,null,null,""]
[null,null,null,null,""]
[null,null,null,null,""]
[null,null,null,null,""]
[null,null,null,null,""]
[null,null,null,null,{"$f":"IF(OR(C1860=\"\",D1860=\"\"),\"\",D1860&\"_\"&C1860)","v":""}]
[null,null,null,null,""]
[null,null,null,null,""]
[null,null,null,null,""]
[null,null,null,null,""]
[null,null,null,null,""]
[null,null,null,null,""]
[null,null,null,null,""]
[null,null,null,null,""]
[null,null,null,null,""]
[null,null,null,null,""]
[null,null,null,null,""]
[null,null,null,null,""]
[null,null,null,null,""]
[null,null,null,null,""]
[null,null,null,null,""]
[null,null,null,null,""]
[null,null,null,null,""]
[null,null,null,null,""]
[null,null,null,null,""]
[null,null,null,null,""]
[null,null,null,null,""]
[null,null,null,null,""]
[null,null,null,null,""]
[null,null,null,null,""]
[null,null,null,null,""]
[null,null,null,null,""]
[null,null,null,null,""]
[null,null,null,null,""]
[null,null,null,null,""]
[null,null,null,null,""]
[null,null,null,null,""]
[null,null,null,null,""]
[null,null,null,null,""]
[null,null,null,null,""]
[null,null,null,null,""]
[null,null,null,null,""]
[null,null,null,null,""]
[null,null,null,null,""]
[null,null,null,null,""]
[null,null,null,null,""]
[null,null,null,null,""]
[null,null,null,null,""]
[null,null,null,null,""]
[null,null,null,null,""]
[null,null,null,null,""]
[null,null,null,null,""]
[null,null,null,null,""]
[null,null,null,null,""]
[null,null,null,null,""]
[null,null,null,null,""]
[null,null,null,null,""]
[null,null,null,null,""]
[null,null,null,null,""]
[null,null,null,null,""]
[null,null,null,null,""]
[null,null,null,null,""]
[null,null,null,null,""]
[null,null,null,null,""]
[null,null,null,null,""]
[null,null,null,null,""]
[null,null,null,null,""]
[null,null,null,null,""]
[null,null,null,null,""]
[null,null,null,null,{"$f":"IF(OR(C1924=\"\",D1924=\"\"),\"\",D1924&\"_\"&C1924)","v":""}]
[null,null,null,null,""]
[null,null,null,null,""]
[null,null,null,null,""]
[null,null,null,null,""]
[null,null,null,null,""]
[null,null,null,null,""]
[null,null,null,null,""]
[null,null,null,null,""]
[null,null,null,null,""]
[null,null,null,null,""]
[null,null,null,null,""]
[null,null,null,null,""]
[null,null,null,null,""]
[null,null,null,null,""]
[null,null,null,null,""]
[null,null,null,null,""]
[null,null,null,null,""]
[null,null,null,null,""]
[null,null,null,null,""]
[null,null,null,null,""]
[null,null,null,null,""]
[null,null,null,null,""]
[null,null,null,null,""]
[null,null,null,null,""]
[null,null,null,null,""]
[null,null,null,null,""]
[null,null,null,null,""]
[null,null,null,null,""]
[null,null,null,null,""]
[null,null,null,null,""]
[null,null,null,null,""]
[null,null,null,null,""]
[null,null,null,null,""]
[null,null,null,null,""]
[null,null,null,null,""]
[null,null,null,null,""]
[null,null,null,null,""]
[null,null,null,null,""]
[null,null,null,null,""]
[null,null,null,null,""]
[null,null,null,null,""]
[null,null,null,null,""]
[null,null,null,null,""]
[null,null,null,null,""]
[null,null,null,null,""]
[null,null,null,null,""]
[null,null,null,null,""]
[null,null,null,null,""]
[null,null,null,null,""]
[null,null,null,null,""]
[null,null,null,null,""]
[null,null,null,null,""]
[null,null,null,null,""]
[null,null,null,null,""]
[null,null,null,null,""]
[null,null,null,null,""]
[null,null,null,null,""]
[null,null,null,null,""]
[null,null,null,null,""]
[null,null,null,null,""]
[null,null,null,null,""]
[null,null,null,null,""]
[null,null,null,null,""]
[null,null,null,null,{"$f":"IF(OR(C1988=\"\",D1988=\"\"),\"\",D1988&\"_\"&C1988)","v":""}]
[null,null,null,null,""]
[null,null,null,null,""]
[null,null,null,null,""]
[null,null,null,null,""]
[null,null,null,null,""]
[null,null,null,null,""]
[null,null,null,null,""]
[null,null,null,null,""]
[null,null,null,null,""]
[null,null,null,null,""]
[null,null,null,null,""]
[null,null,null,null,""]
[null,null,null,null,""]
[null,null,null,null,""]
[null,null,null,null,""]
[null,null,null,null,""]
[null,null,null,null,""]
[null,null,null,null,""]
[null,null,null,null,""]
[null,null,null,null,""]
[null,null,null,null,""]
[null,null,null,null,""]
[null,null,null,null,""]
[null,null,null,null,""]
[null,null,null,null,""]
[null,null,null,null,""]
[null,null,null,null,""]
[null,null,null,null,""]
[null,null,null,null,""]
[null,null,null,null,""]
[null,null,null,null,""]
[null,null,null,null,""]
[null,null,null,null,""]
[null,null,null,null,""]
[null,null,null,null,""]
[null,null,null,null,""]
[null,null,null,null,""]
[null,null,null,null,""]
[null,null,null,null,""]
[null,null,null,null,""]
[null,null,null,null,""]
[null,null,null,null,""]
[null,null,null,null,""]
[null,null,null,null,""]
[null,null,null,null,""]
[null,null,null,null,""]
[null,null,null,null,""]
[null,null,null,null,""]
[null,null,null,null,""]
[null,null,null,null,""]
[null,null,null,null,""]
[null,null,null,null,""]
[null,null,null,null,""]
[null,null,null,null,""]
[null,null,null,null,""]
[null,null,null,null,""]
[null,null,null,null,""]
[null,null,null,null,""]
[null,null,null,null,""]
[null,null,null,null,""]
[null,null,null,null,""]
[null,null,null,null,""]
[null,null,null,null,""]
[null,null,null,null,{"$f":"IF(OR(C2052=\"\",D2052=\"\"),\"\",D2052&\"_\"&C2052)","v":""}]
[null,null,null,null,""]
[null,null,null,null,""]
[null,null,null,null,""]
[null,null,null,null,""]
[null,null,null,null,""]
[null,null,null,null,""]
[null,null,null,null,""]
[null,null,null,null,""]
[null,null,null,null,""]
[null,null,null,null,""]
[null,null,null,null,""]
[null,null,null,null,""]
[null,null,null,null,""]
[null,null,null,null,""]
[null,null,null,null,""]
[null,null,null,null,""]
[null,null,null,null,""]
[null,null,null,null,""]
[null,null,null,null,""]
[null,null,null,null,""]
[null,null,null,null,""]
[null,null,null,null,""]
[null,null,null,null,""]
[null,null,null,null,""]
[null,null,null,null,""]
[null,null,null,null,""]
[null,null,null,null,""]
[null,null,null,null,""]
[null,null,null,null,""]
[null,null,null,null,""]
[null,null,null,null,""]
[null,null,null,null,""]
[null,null,null,null,""]
[null,null,null,null,""]
[null,null,null,null,""]
[null,null,null,null,""]
[null,null,null,null,""]
[null,null,null,null,""]
[null,null,null,null,""]
[null,null,null,null,""]
[null,null,null,null,""]
[null,null,null,null,""]
[null,null,null,null,""]
[null,null,null,null,""]
[null,null,null,null,""]
[null,null,null,null,""]
[null,null,null,null,""]
[null,null,null,null,""]
[null,null,null,null,""]
[null,null,null,null,""]
[null,null,null,null,""]
[null,null,null,null,""]
[null,null,null,null,""]
[null,null,null,null,""]
[null,null,null,null,""]
[null,null,null,null,""]
[null,null,null,null,""]
[null,null,null,null,""]
[null,null,null,null,""]
[null,null,null,null,""]
[null,null,null,null,""]
[null,null,null,null,""]
[null,null,null,null,""]
[null,null,null,null,{"$f":"IF(OR(C2116=\"\",D2116=\"\"),\"\",D2116&\"_\"&C2116)","v":""}]
[null,null,null,null,""]
[null,null,null,null,""]
[null,null,null,null,""]
[null,null,null,null,""]
[null,null,null,null,""]
[null,null,null,null,""]
[null,null,null,null,""]
[null,null,null,null,""]
[null,null,null,null,""]
[null,null,null,null,""]
[null,null,null,null,""]
[null,null,null,null,""]
[null,null,null,null,""]
[null,null,null,null,""]
[null,null,null,null,""]
[null,null,null,null,""]
[null,null,null,null,""]
[null,null,null,null,""]
[null,null,null,null,""]
[null,null,null,null,""]
[null,null,null,null,""]
[null,null,null,null,""]
[null,null,null,null,""]
[null,null,null,null,""]
[null,null,null,null,""]
[null,null,null,null,""]
[null,null,null,null,""]
[null,null,null,null,""]
[null,null,null,null,""]
[null,null,null,null,""]
[null,null,null,null,""]
[null,null,null,null,""]
[null,null,null,null,""]
[null,null,null,null,""]
[null,null,null,null,""]
[null,null,null,null,""]
[null,null,null,null,""]
[null,null,null,null,""]
[null,null,null,null,""]
[null,null,null,null,""]
[null,null,null,null,""]
[null,null,null,null,""]
[null,null,null,null,""]
[null,null,null,null,""]
[null,null,null,null,""]
[null,null,null,null,""]
[null,null,null,null,""]
[null,null,null,null,""]
[null,null,null,null,""]
[null,null,null,null,""]
[null,null,null,null,""]
[null,null,null,null,""]
[null,null,null,null,""]
[null,null,null,null,""]
[null,null,null,null,""]
[null,null,null,null,""]
[null,null,null,null,""]
[null,null,null,null,""]
[null,null,null,null,""]
[null,null,null,null,""]
[null,null,null,null,""]
[null,null,null,null,""]
[null,null,null,null,""]
[null,null,null,null,{"$f":"IF(OR(C2180=\"\",D2180=\"\"),\"\",D2180&\"_\"&C2180)","v":""}]
[null,null,null,null,""]
[null,null,null,null,""]
[null,null,null,null,""]
[null,null,null,null,""]
[null,null,null,null,""]
[null,null,null,null,""]
[null,null,null,null,""]
[null,null,null,null,""]
[null,null,null,null,""]
[null,null,null,null,""]
[null,null,null,null,""]
[null,null,null,null,""]
[null,null,null,null,""]
[null,null,null,null,""]
[null,null,null,null,""]
[null,null,null,null,""]
[null,null,null,null,""]
[null,null,null,null,""]
[null,null,null,null,""]
[null,null,null,null,""]
[null,null,null,null,""]
[null,null,null,null,""]
[null,null,null,null,""]
[null,null,null,null,""]
[null,null,null,null,""]
[null,null,null,null,""]
[null,null,null,null,""]
[null,null,null,null,""]
[null,null,null,null,""]
[null,null,null,null,""]
[null,null,null,null,""]
[null,null,null,null,""]
[null,null,null,null,""]
[null,null,null,null,""]
[null,null,null,null,""]
[null,null,null,null,""]
[null,null,null,null,""]
[null,null,null,null,""]
[null,null,null,null,""]
[null,null,null,null,""]
[null,null,null,null,""]
[null,null,null,null,""]
[null,null,null,null,""]
[null,null,null,null,""]
[null,null,null,null,""]
[null,null,null,null,""]
[null,null,null,null,""]
[null,null,null,null,""]
[null,null,null,null,""]
[null,null,null,null,""]
[null,null,null,null,""]
[null,null,null,null,""]
[null,null,null,null,""]
[null,null,null,null,""]
[null,null,null,null,""]
[null,null,null,null,""]
[null,null,null,null,""]
[null,null,null,null,""]
[null,null,null,null,""]
[null,null,null,null,""]
[null,null,null,null,""]
[null,null,null,null,""]
[null,null,null,null,""]
[null,null,null,null,{"$f":"IF(OR(C2244=\"\",D2244=\"\"),\"\",D2244&\"_\"&C2244)","v":""}]
[null,null,null,null,""]
[null,null,null,null,""]
[null,null,null,null,""]
[null,null,null,null,""]
[null,null,null,null,""]
[null,null,null,null,""]
[null,null,null,null,""]
[null,null,null,null,""]
[null,null,null,null,""]
[null,null,null,null,""]
[null,null,null,null,""]
[null,null,null,null,""]
[null,null,null,null,""]
[null,null,null,null,""]
[null,null,null,null,""]
[null,null,null,null,""]
[null,null,null,null,""]
[null,null,null,null,""]
[null,null,null,null,""]
[null,null,null,null,""]
[null,null,null,null,""]
[null,null,null,null,""]
[null,null,null,null,""]
[null,null,null,null,""]
[null,null,null,null,""]
[null,null,null,null,""]
[null,null,null,null,""]
[null,null,null,null,""]
[null,null,null,null,""]
[null,null,null,null,""]
[null,null,null,null,""]
[null,null,null,null,""]
[null,null,null,null,""]
[null,null,null,null,""]
[null,null,null,null,""]
[null,null,null,null,""]
[null,null,null,null,""]
[null,null,null,null,""]
[null,null,null,null,""]
[null,null,null,null,""]
[null,null,null,null,""]
[null,null,null,null,""]
[null,null,null,null,""]
[null,null,null,null,""]
[null,null,null,null,""]
[null,null,null,null,""]
[null,null,null,null,""]
[null,null,null,null,""]
[null,null,null,null,""]
[null,null,null,null,""]
[null,null,null,null,""]
[null,null,null,null,""]
[null,null,null,null,""]
[null,null,null,null,""]
[null,null,null,null,""]
[null,null,null,null,""]
[null,null,null,null,""]
[null,null,null,null,""]
[null,null,null,null,""]
[null,null,null,null,""]
[null,null,null,null,""]
[null,null,null,null,""]
[null,null,null,null,""]
[null,null,null,null,{"$f":"IF(OR(C2308=\"\",D2308=\"\"),\"\",D2308&\"_\"&C2308)","v":""}]
[null,null,null,null,""]
[null,null,null,null,""]
[null,null,null,null,""]
[null,null,null,null,""]
[null,null,null,null,""]
[null,null,null,null,""]
[null,null,null,null,""]
[null,null,null,null,""]
[null,null,null,null,""]
[null,null,null,null,""]
[null,null,null,null,""]
[null,null,null,null,""]
[null,null,null,null,""]
[null,null,null,null,""]
[null,null,null,null,""]
[null,null,null,null,""]
[null,null,null,null,""]
[null,null,null,null,""]
[null,null,null,null,""]
[null,null,null,null,""]
[null,null,null,null,""]
[null,null,null,null,""]
[null,null,null,null,""]
[null,null,null,null,""]
[null,null,null,null,""]
[null,null,null,null,""]
[null,null,null,null,""]
[null,null,null,null,""]
[null,null,null,null,""]
[null,null,null,null,""]
[null,null,null,null,""]
[null,null,null,null,""]
[null,null,null,null,""]
[null,null,null,null,""]
[null,null,null,null,""]
[null,null,null,null,""]
[null,null,null,null,""]
[null,null,null,null,""]
[null,null,null,null,""]
[null,null,null,null,""]
[null,null,null,null,""]
[null,null,null,null,""]
[null,null,null,null,""]
[null,null,null,null,""]
[null,null,null,null,""]
[null,null,null,null,""]
[null,null,null,null,""]
[null,null,null,null,""]
[null,null,null,null,""]
[null,null,null,null,""]
[null,null,null,null,""]
[null,null,null,null,""]
[null,null,null,null,""]
[null,null,null,null,""]
[null,null,null,null,""]
[null,null,null,null,""]
[null,null,null,null,""]
[null,null,null,null,""]
[null,null,null,null,""]
[null,null,null,null,""]
[null,null,null,null,""]
[null,null,null,null,""]
[null,null,null,null,""]
[null,null,null,null,{"$f":"IF(OR(C2372=\"\",D2372=\"\"),\"\",D2372&\"_\"&C2372)","v":""}]
[null,null,null,null,""]
[null,null,null,null,""]
[null,null,null,null,""]
[null,null,null,null,""]
[null,null,null,null,""]
[null,null,null,null,""]
[null,null,null,null,""]
[null,null,null,null,""]
[null,null,null,null,""]
[null,null,null,null,""]
[null,null,null,null,""]
[null,null,null,null,""]
[null,null,null,null,""]
[null,null,null,null,""]
[null,null,null,null,""]
[null,null,null,null,""]
[null,null,null,null,""]
[null,null,null,null,""]
[null,null,null,null,""]
[null,null,null,null,""]
[null,null,null,null,""]
[null,null,null,null,""]
[null,null,null,null,""]
[null,null,null,null,""]
[null,null,null,null,""]
[null,null,null,null,""]
[null,null,null,null,""]
[null,null,null,null,""]
[null,null,null,null,""]
[null,null,null,null,""]
[null,null,null,null,""]
[null,null,null,null,""]
[null,null,null,null,""]
[null,null,null,null,""]
[null,null,null,null,""]
[null,null,null,null,""]
[null,null,null,null,""]
[null,null,null,null,""]
[null,null,null,null,""]
[null,null,null,null,""]
[null,null,null,null,""]
[null,null,null,null,""]
[null,null,null,null,""]
[null,null,null,null,""]
[null,null,null,null,""]
[null,null,null,null,""]
[null,null,null,null,""]
[null,null,null,null,""]
[null,null,null,null,""]
[null,null,null,null,""]
[null,null,null,null,""]
[null,null,null,null,""]
[null,null,null,null,""]
[null,null,null,null,""]
[null,null,null,null,""]
[null,null,null,null,""]
[null,null,null,null,""]
[null,null,null,null,""]
[null,null,null,null,""]
[null,null,null,null,""]
[null,null,null,null,""]
[null,null,null,null,""]
[null,null,null,null,""]
[null,null,null,null,{"$f":"IF(OR(C2436=\"\",D2436=\"\"),\"\",D2436&\"_\"&C2436)","v":""}]
[null,null,null,null,""]
[null,null,null,null,""]
[null,null,null,null,""]
[null,null,null,null,""]
[null,null,null,null,""]
[null,null,null,null,""]
[null,null,null,null,""]
[null,null,null,null,""]
[null,null,null,null,""]
[null,null,null,null,""]
[null,null,null,null,""]
[null,null,null,null,""]
[null,null,null,null,""]
[null,null,null,null,""]
[null,null,null,null,""]
[null,null,null,null,""]
[null,null,null,null,""]
[null,null,null,null,""]
[null,null,null,null,""]
[null,null,null,null,""]
[null,null,null,null,""]
[null,null,null,null,""]
[null,null,null,null,""]
[null,null,null,null,""]
[null,null,null,null,""]
[null,null,null,null,""]
[null,null,null,null,""]
[null,null,null,null,""]
[null,null,null,null,""]
[null,null,null,null,""]
[null,null,null,null,""]
[null,null,null,null,""]
[null,null,null,null,""]
[null,null,null,null,""]
[null,null,null,null,""]
[null,null,null,null,""]
[null,null,null,null,""]
[null,null,null,null,""]
[null,null,null,null,""]
[null,null,null,null,""]
[null,null,null,null,""]
[null,null,null,null,""]
[null,null,null,null,""]
[null,null,null,null,""]
[null,null,null,null,""]
[null,null,null,null,""]
[null,null,null,null,""]
[null,null,null,null,""]
[null,null,null,null,""]
[null,null,null,null,""]
[null,null,null,null,""]
[null,null,null,null,""]
[null,null,null,null,""]
[null,null,null,null,""]
[null,null,null,null,""]
[null,null,null,null,""]
[null,null,null,null,""]
[null,null,null,null,""]
[null,null,null,null,""]
[null,null,null,null,""]
[null,null,null,null,""]
[null,null,null,null,""]
[null,null,null,null,""]
[null,null,null,null,{"$f":"IF(OR(C2500=\"\",D2500=\"\"),\"\",D2500&\"_\"&C2500)","v":""}]
[null,null,null,null,""]
[null,null,null,null,""]
[null,null,null,null,""]
[null,null,null,null,""]
[null,null,null,null,""]
[null,null,null,null,""]
[null,null,null,null,""]
[null,null,null,null,""]
[null,null,null,null,""]
[null,null,null,null,""]
[null,null,null,null,""]
[null,null,null,null,""]
[null,null,null,null,""]
[null,null,null,null,""]
[null,null,null,null,""]
[null,null,null,null,""]
[null,null,null,null,""]
[null,null,null,null,""]
[null,null,null,null,""]
[null,null,null,null,""]
[null,null,null,null,""]
[null,null,null,null,""]
[null,null,null,null,""]
[null,null,null,null,""]
[null,null,null,null,""]
[null,null,null,null,""]
[null,null,null,null,""]
[null,null,null,null,""]
[null,null,null,null,""]
[null,null,null,null,""]
[null,null,null,null,""]
[null,null,null,null,""]
[null,null,null,null,""]
[null,null,null,null,""]
[null,null,null,null,""]
[null,null,null,null,""]
[null,null,null,null,""]
[null,null,null,null,""]
[null,null,null,null,""]
[null,null,null,null,""]
[null,null,null,null,""]
[null,null,null,null,""]
[null,null,null,null,""]
[null,null,null,null,""]
[null,null,null,null,""]
[null,null,null,null,""]
[null,null,null,null,""]
[null,null,null,null,""]
[null,null,null,null,""]
[null,null,null,null,""]
[null,null,null,null,""]
[null,null,null,null,""]
[null,null,null,null,""]
[null,null,null,null,""]
[null,null,null,null,""]
[null,null,null,null,""]
[null,null,null,null,""]
[null,null,null,null,""]
[null,null,null,null,""]
[null,null,null,null,""]
[null,null,null,null,""]
[null,null,null,null,""]
[null,null,null,null,""]
[null,null,null,null,{"$f":"IF(OR(C2564=\"\",D2564=\"\"),\"\",D2564&\"_\"&C2564)","v":""}]
[null,null,null,null,""]
[null,null,null,null,""]
[null,null,null,null,""]
[null,null,null,null,""]
[null,null,null,null,""]
[null,null,null,null,""]
[null,null,null,null,""]
[null,null,null,null,""]
[null,null,null,null,""]
[null,null,null,null,""]
[null,null,null,null,""]
[null,null,null,null,""]
[null,null,null,null,""]
[null,null,null,null,""]
[null,null,null,null,""]
[null,null,null,null,""]
[null,null,null,null,""]
[null,null,null,null,""]
[null,null,null,null,""]
[null,null,null,null,""]
[null,null,null,null,""]
[null,null,null,null,""]
[null,null,null,null,""]
[null,null,null,null,""]
[null,null,null,null,""]
[null,null,null,null,""]
[null,null,null,null,""]
[null,null,null,null,""]
[null,null,null,null,""]
[null,null,null,null,""]
[null,null,null,null,""]
[null,null,null,null,""]
[null,null,null,null,""]
[null,null,null,null,""]
[null,null,null,null,""]
[null,null,null,null,""]
[null,null,null,null,""]
[null,null,null,null,""]
[null,null,null,null,""]
[null,null,null,null,""]
[null,null,null,null,""]
[null,null,null,null,""]
[null,null,null,null,""]
[null,null,null,null,""]
[null,null,null,null,""]
[null,null,null,null,""]
[null,null,null,null,""]
[null,null,null,null,""]
[null,null,null,null,""]
[null,null,null,null,""]
[null,null,null,null,""]
[null,null,null,null,""]
[null,null,null,null,""]
[null,null,null,null,""]
[null,null,null,null,""]
[null,null,null,null,""]
[null,null,null,null,""]
[null,null,null,null,""]
[null,null,null,null,""]
[null,null,null,null,""]
[null,null,null,null,""]
[null,null,null,null,""]
[null,null,null,null,""]
[null,null,null,null,{"$f":"IF(OR(C2628=\"\",D2628=\"\"),\"\",D2628&\"_\"&C2628)","v":""}]
[null,null,null,null,""]
[null,null,null,null,""]
[null,null,null,null,""]
[null,null,null,null,""]
[null,null,null,null,""]
[null,null,null,null,""]
[null,null,null,null,""]
[null,null,null,null,""]
[null,null,null,null,""]
[null,null,null,null,""]
[null,null,null,null,""]
[null,null,null,null,""]
[null,null,null,null,""]
[null,null,null,null,""]
[null,null,null,null,""]
[null,null,null,null,""]
[null,null,null,null,""]
[null,null,null,null,""]
[null,null,null,null,""]
[null,null,null,null,""]
[null,null,null,null,""]
[null,null,null,null,""]
[null,null,null,null,""]
[null,null,null,null,""]
[null,null,null,null,""]
[null,null,null,null,""]
[null,null,null,null,""]
[null,null,null,null,""]
[null,null,null,null,""]
[null,null,null,null,""]
[null,null,null,null,""]
[null,null,null,null,""]
[null,null,null,null,""]
[null,null,null,null,""]
[null,null,null,null,""]
[null,null,null,null,""]
[null,null,null,null,""]
[null,null,null,null,""]
[null,null,null,null,""]
[null,null,null,null,""]
[null,null,null,null,""]
[null,null,null,null,""]
[null,null,null,null,""]
[null,null,null,null,""]
[null,null,null,null,""]
[null,null,null,null,""]
[null,null,null,null,""]
[null,null,null,null,""]
[null,null,null,null,""]
[null,null,null,null,""]
[null,null,null,null,""]
[null,null,null,null,""]
[null,null,null,null,""]
[null,null,null,null,""]
[null,null,null,null,""]
[null,null,null,null,""]
[null,null,null,null,""]
[null,null,null,null,""]
[null,null,null,null,""]
[null,null,null,null,""]
[null,null,null,null,""]
[null,null,null,null,""]
[null,null,null,null,""]
[null,null,null,null,{"$f":"IF(OR(C2692=\"\",D2692=\"\"),\"\",D2692&\"_\"&C2692)","v":""}]
[null,null,null,null,""]
[null,null,null,null,""]
[null,null,null,null,""]
[null,null,null,null,""]
[null,null,null,null,""]
[null,null,null,null,""]
[null,null,null,null,""]
[null,null,null,null,""]
[null,null,null,null,""]
[null,null,null,null,""]
[null,null,null,null,""]
[null,null,null,null,""]
[null,null,null,null,""]
[null,null,null,null,""]
[null,null,null,null,""]
[null,null,null,null,""]
[null,null,null,null,""]
[null,null,null,null,""]
[null,null,null,null,""]
[null,null,null,null,""]
[null,null,null,null,""]
[null,null,null,null,""]
[null,null,null,null,""]
[null,null,null,null,""]
[null,null,null,null,""]
[null,null,null,null,""]
[null,null,null,null,""]
[null,null,null,null,""]
[null,null,null,null,""]
[null,null,null,null,""]
[null,null,null,null,""]
[null,null,null,null,""]
[null,null,null,null,""]
[null,null,null,null,""]
[null,null,null,null,""]
[null,null,null,null,""]
[null,null,null,null,""]
[null,null,null,null,""]
[null,null,null,null,""]
[null,null,null,null,""]
[null,null,null,null,""]
[null,null,null,null,""]
[null,null,null,null,""]
[null,null,null,null,""]
[null,null,null,null,""]
[null,null,null,null,""]
[null,null,null,null,""]
[null,null,null,null,""]
[null,null,null,null,""]
[null,null,null,null,""]
[null,null,null,null,""]
[null,null,null,null,""]
[null,null,null,null,""]
[null,null,null,null,""]
[null,null,null,null,""]
[null,null,null,null,""]
[null,null,null,null,""]
[null,null,null,null,""]
[null,null,null,null,""]
[null,null,null,null,""]
[null,null,null,null,""]
[null,null,null,null,""]
[null,null,null,null,""]
[null,null,null,null,{"$f":"IF(OR(C2756=\"\",D2756=\"\"),\"\",D2756&\"_\"&C2756)","v":""}]
[null,null,null,null,""]
[null,null,null,null,""]
[null,null,null,null,""]
[null,null,null,null,""]
[null,null,null,null,""]
[null,null,null,null,""]
[null,null,null,null,""]
[null,null,null,null,""]
[null,null,null,null,""]
[null,null,null,null,""]
[null,null,null,null,""]
[null,null,null,null,""]
[null,null,null,null,""]
[null,null,null,null,""]
[null,null,null,null,""]
[null,null,null,null,""]
[null,null,null,null,""]
[null,null,null,null,""]
[null,null,null,null,""]
[null,null,null,null,""]
[null,null,null,null,""]
[null,null,null,null,""]
[null,null,null,null,""]
[null,null,null,null,""]
[null,null,null,null,""]
[null,null,null,null,""]
[null,null,null,null,""]
[null,null,null,null,""]
[null,null,null,null,""]
[null,null,null,null,""]
[null,null,null,null,""]
[null,null,null,null,""]
[null,null,null,null,""]
[null,null,null,null,""]
[null,null,null,null,""]
[null,null,null,null,""]
[null,null,null,null,""]
[null,null,null,null,""]
[null,null,null,null,""]
[null,null,null,null,""]
[null,null,null,null,""]
[null,null,null,null,""]
[null,null,null,null,""]
[null,null,null,null,""]
[null,null,null,null,""]
[null,null,null,null,""]
[null,null,null,null,""]
[null,null,null,null,""]
[null,null,null,null,""]
[null,null,null,null,""]
[null,null,null,null,""]
[null,null,null,null,""]
[null,null,null,null,""]
[null,null,null,null,""]
[null,null,null,null,""]
[null,null,null,null,""]
[null,null,null,null,""]
[null,null,null,null,""]
[null,null,null,null,""]
[null,null,null,null,""]
[null,null,null,null,""]
[null,null,null,null,""]
[null,null,null,null,""]
[null,null,null,null,{"$f":"IF(OR(C2820=\"\",D2820=\"\"),\"\",D2820&\"_\"&C2820)","v":""}]
[null,null,null,null,""]
[null,null,null,null,""]
[null,null,null,null,""]
[null,null,null,null,""]
[null,null,null,null,""]
[null,null,null,null,""]
[null,null,null,null,""]
[null,null,null,null,""]
[null,null,null,null,""]
[null,null,null,null,""]
[null,null,null,null,""]
[null,null,null,null,""]
[null,null,null,null,""]
[null,null,null,null,""]
[null,null,null,null,""]
[null,null,null,null,""]
[null,null,null,null,""]
[null,null,null,null,""]
[null,null,null,null,""]
[null,null,null,null,""]
[null,null,null,null,""]
[null,null,null,null,""]
[null,null,null,null,""]
[null,null,null,null,""]
[null,null,null,null,""]
[null,null,null,null,""]
[null,null,null,null,""]
[null,null,null,null,""]
[null,null,null,null,""]
[null,null,null,null,""]
[null,null,null,null,""]
[null,null,null,null,""]
[null,null,null,null,""]
[null,null,null,null,""]
[null,null,null,null,""]
[null,null,null,null,""]
[null,null,null,null,""]
[null,null,null,null,""]
[null,null,null,null,""]
[null,null,null,null,""]
[null,null,null,null,""]
[null,null,null,null,""]
[null,null,null,null,""]
[null,null,null,null,""]
[null,null,null,null,""]
[null,null,null,null,""]
[null,null,null,null,""]
[null,null,null,null,""]
[null,null,null,null,""]
[null,null,null,null,""]
[null,null,null,null,""]
[null,null,null,null,""]
[null,null,null,null,""]
[null,null,null,null,""]
[null,null,null,null,""]
[null,null,null,null,""]
[null,null,null,null,""]
[null,null,null,null,""]
[null,null,null,null,""]
[null,null,null,null,""]
[null,null,null,null,""]
[null,null,null,null,""]
[null,null,null,null,""]
[null,null,null,null,{"$f":"IF(OR(C2884=\"\",D2884=\"\"),\"\",D2884&\"_\"&C2884)","v":""}]
[null,null,null,null,""]
[null,null,null,null,""]
[null,null,null,null,""]
[null,null,null,null,""]
[null,null,null,null,""]
[null,null,null,null,""]
[null,null,null,null,""]
[null,null,null,null,""]
[null,null,null,null,""]
[null,null,null,null,""]
[null,null,null,null,""]
[null,null,null,null,""]
[null,null,null,null,""]
[null,null,null,null,""]
[null,null,null,null,""]
[null,null,null,null,""]
[null,null,null,null,""]
[null,null,null,null,""]
[null,null,null,null,""]
[null,null,null,null,""]
[null,null,null,null,""]
[null,null,null,null,""]
[null,null,null,null,""]
[null,null,null,null,""]
[null,null,null,null,""]
[null,null,null,null,""]
[null,null,null,null,""]
[null,null,null,null,""]
[null,null,null,null,""]
[null,null,null,null,""]
[null,null,null,null,""]
[null,null,null,null,""]
[null,null,null,null,""]
[null,null,null,null,""]
[null,null,null,null,""]
[null,null,null,null,""]
[null,null,null,null,""]
[null,null,null,null,""]
[null,null,null,null,""]
[null,null,null,null,""]
[null,null,null,null,""]
[null,null,null,null,""]
[null,null,null,null,""]
[null,null,null,null,""]
[null,null,null,null,""]
[null,null,null,null,""]
[null,null,null,null,""]
[null,null,null,null,""]
[null,null,null,null,""]
[null,null,null,null,""]
[null,null,null,null,""]
[null,null,null,null,""]
[null,null,null,null,""]
[null,null,null,null,""]
[null,null,null,null,""]
[null,null,null,null,""]
[null,null,null,null,""]
[null,null,null,null,""]
[null,null,null,null,""]
[null,null,null,null,""]
[null,null,null,null,""]
[null,null,null,null,""]
[null,null,null,null,""]
[null,null,null,null,{"$f":"IF(OR(C2948=\"\",D2948=\"\"),\"\",D2948&\"_\"&C2948)","v":""}]
[null,null,null,null,""]
[null,null,null,null,""]
[null,null,null,null,""]
[null,null,null,null,""]
[null,null,null,null,""]
[null,null,null,null,""]
[null,null,null,null,""]
[null,null,null,null,""]
[null,null,null,null,""]
[null,null,null,null,""]
[null,null,null,null,""]
[null,null,null,null,""]
[null,null,null,null,""]
[null,null,null,null,""]
[null,null,null,null,""]
[null,null,null,null,""]
[null,null,null,null,""]
[null,null,null,null,""]
[null,null,null,null,""]
[null,null,null,null,""]
[null,null,null,null,""]
[null,null,null,null,""]
[null,null,null,null,""]
[null,null,null,null,""]
[null,null,null,null,""]
[null,null,null,null,""]
[null,null,null,null,""]
[null,null,null,null,""]
[null,null,null,null,""]
[null,null,null,null,""]
[null,null,null,null,""]
[null,null,null,null,""]
[null,null,null,null,""]
[null,null,null,null,""]
[null,null,null,null,""]
[null,null,null,null,""]
[null,null,null,null,""]
[null,null,null,null,""]
[null,null,null,null,""]
[null,null,null,null,""]
[null,null,null,null,""]
[null,null,null,null,""]
[null,null,null,null,""]
[null,null,null,null,""]
[null,null,null,null,""]
[null,null,null,null,""]
[null,null,null,null,""]
[null,null,null,null,""]
[null,null,null,null,""]
[null,null,null,null,""]
[null,null,null,null,""]
[null,null,null,null,""]
[null,null,null,null,""]
[null,null,null,null,""]
[null,null,null,null,""]
[null,null,null,null,""]
[null,null,null,null,""]
[null,null,null,null,""]
[null,null,null,null,""]
[null,null,null,null,""]
[null,null,null,null,""]
[null,null,null,null,""]
[null,null,null,null,""]
[null,null,null,null,{"$f":"IF(OR(C3012=\"\",D3012=\"\"),\"\",D3012&\"_\"&C3012)","v":""}]
[null,null,null,null,""]
[null,null,null,null,""]
[null,null,null,null,""]
[null,null,null,null,""]
[null,null,null,null,""]
[null,null,null,null,""]
[null,null,null,null,""]
[null,null,null,null,""]
[null,null,null,null,""]
[null,null,null,null,""]
[null,null,null,null,""]
[null,null,null,null,""]
[null,null,null,null,""]
[null,null,null,null,""]
[null,null,null,null,""]
[null,null,null,null,""]
[null,null,null,null,""]
[null,null,null,null,""]
[null,null,null,null,""]
[null,null,null,null,""]
[null,null,null,null,""]
[null,null,null,null,""]
[null,null,null,null,""]
[null,null,null,null,""]
[null,null,null,null,""]
[null,null,null,null,""]
[null,null,null,null,""]
[null,null,null,null,""]
[null,null,null,null,""]
[null,null,null,null,""]
[null,null,null,null,""]
[null,null,null,null,""]
[null,null,null,null,""]
[null,null,null,null,""]
[null,null,null,null,""]
[null,null,null,null,""]
[null,null,null,null,""]
[null,null,null,null,""]
[null,null,null,null,""]
[null,null,null,null,""]
[null,null,null,null,""]
[null,null,null,null,""]
[null,null,null,null,""]
[null,null,null,null,""]
[null,null,null,null,""]
[null,null,null,null,""]
[null,null,null,null,""]
[null,null,null,null,""]
[null,null,null,null,""]
[null,null,null,null,""]
[null,null,null,null,""]
[null,null,null,null,""]
[null,null,null,null,""]
[null,null,null,null,""]
[null,null,null,null,""]
[null,null,null,null,""]
[null,null,null,null,""]
[null,null,null,null,""]
[null,null,null,null,""]
[null,null,null,null,""]
[null,null,null,null,""]
[null,null,null,null,""]
[null,null,null,null,""]
[null,null,null,null,{"$f":"IF(OR(C3076=\"\",D3076=\"\"),\"\",D3076&\"_\"&C3076)","v":""}]
[null,null,null,null,""]
[null,null,null,null,""]
[null,null,null,null,""]
[null,null,null,null,""]
[null,null,null,null,""]
[null,null,null,null,""]
[null,null,null,null,""]
[null,null,null,null,""]
[null,null,null,null,""]
[null,null,null,null,""]
[null,null,null,null,""]
[null,null,null,null,""]
[null,null,null,null,""]
[null,null,null,null,""]
[null,null,null,null,""]
[null,null,null,null,""]
[null,null,null,null,""]
[null,null,null,null,""]
[null,null,null,null,""]
[null,null,null,null,""]
[null,null,null,null,""]
[null,null,null,null,""]
[null,null,null,null,""]
[null,null,null,null,""]
[null,null,null,null,""]
[null,null,null,null,""]
[null,null,null,null,""]
[null,null,null,null,""]
[null,null,null,null,""]
[null,null,null,null,""]
[null,null,null,null,""]
[null,null,null,null,""]
[null,null,null,null,""]
[null,null,null,null,""]
[null,null,null,null,""]
[null,null,null,null,""]
[null,null,null,null,""]
[null,null,null,null,""]
[null,null,null,null,""]
[null,null,null,null,""]
[null,null,null,null,""]
[null,null,null,null,""]
[null,null,null,null,""]
[null,null,null,null,""]
[null,null,null,null,""]
[null,null,null,null,""]
[null,null,null,null,""]
[null,null,null,null,""]
[null,null,null,null,""]
[null,null,null,null,""]
[null,null,null,null,""]
[null,null,null,null,""]
[null,null,null,null,""]
[null,null,null,null,""]
[null,null,null,null,""]
[null,null,null,null,""]
[null,null,null,null,""]
[null,null,null,null,""]
[null,null,null,null,""]
[null,null,null,null,""]
[null,null,null,null,""]
[null,null,null,null,""]
[null,null,null,null,""]
[null,null,null,null,{"$f":"IF(OR(C3140=\"\",D3140=\"\"),\"\",D3140&\"_\"&C3140)","v":""}]
[null,null,null,null,""]
[null,null,null,null,""]
[null,null,null,null,""]
[null,null,null,null,""]
[null,null,null,null,""]
[null,null,null,null,""]
[null,null,null,null,""]
[null,null,null,null,""]
[null,null,null,null,""]
[null,null,null,null,""]
[null,null,null,null,""]
[null,null,null,null,""]
[null,null,null,null,""]
[null,null,null,null,""]
[null,null,null,null,""]
[null,null,null,null,""]
[null,null,null,null,""]
[null,null,null,null,""]
[null,null,null,null,""]
[null,null,null,null,""]
[null,null,null,null,""]
[null,null,null,null,""]
[null,null,null,null,""]
[null,null,null,null,""]
[null,null,null,null,""]
[null,null,null,null,""]
[null,null,null,null,""]
[null,null,null,null,""]
[null,null,null,null,""]
[null,null,null,null,""]
[null,null,null,null,""]
[null,null,null,null,""]
[null,null,null,null,""]
[null,null,null,null,""]
[null,null,null,null,""]
[null,null,null,null,""]
[null,null,null,null,""]
[null,null,null,null,""]
[null,null,null,null,""]
[null,null,null,null,""]
[null,null,null,null,""]
[null,null,null,null,""]
[null,null,null,null,""]
[null,null,null,null,""]
[null,null,null,null,""]
[null,null,null,null,""]
[null,null,null,null,""]
[null,null,null,null,""]
[null,null,null,null,""]
[null,null,null,null,""]
[null,null,null,null,""]
[null,null,null,null,""]
[null,null,null,null,""]
[null,null,null,null,""]
[null,null,null,null,""]
[null,null,null,null,""]
[null,null,null,null,""]
[null,null,null,null,""]
[null,null,null,null,""]
[null,null,null,null,""]
[null,null,null,null,""]
[null,null,null,null,""]
[null,null,null,null,""]
[null,null,null,null,{"$f":"IF(OR(C3204=\"\",D3204=\"\"),\"\",D3204&\"_\"&C3204)","v":""}]
[null,null,null,null,""]
[null,null,null,null,""]
[null,null,null,null,""]
[null,null,null,null,""]
[null,null,null,null,""]
[null,null,null,null,""]
[null,null,null,null,""]
[null,null,null,null,""]
[null,null,null,null,""]
[null,null,null,null,""]
[null,null,null,null,""]
[null,null,null,null,""]
[null,null,null,null,""]
[null,null,null,null,""]
[null,null,null,null,""]
[null,null,null,null,""]
[null,null,null,null,""]
[null,null,null,null,""]
[null,null,null,null,""]
[null,null,null,null,""]
[null,null,null,null,""]
[null,null,null,null,""]
[null,null,null,null,""]
[null,null,null,null,""]
[null,null,null,null,""]
[null,null,null,null,""]
[null,null,null,null,""]
[null,null,null,null,""]
[null,null,null,null,""]
[null,null,null,null,""]
[null,null,null,null,""]
[null,null,null,null,""]
[null,null,null,null,""]
[null,null,null,null,""]
[null,null,null,null,""]
[null,null,null,null,""]
[null,null,null,null,""]
[null,null,null,null,""]
[null,null,null,null,""]
[null,null,null,null,""]
[null,null,null,null,""]
[null,null,null,null,""]
[null,null,null,null,""]
[null,null,null,null,""]
[null,null,null,null,""]
[null,null,null,null,""]
[null,null,null,null,""]
[null,null,null,null,""]
[null,null,null,null,""]
[null,null,null,null,""]
[null,null,null,null,""]
[null,null,null,null,""]
[null,null,null,null,""]
[null,null,null,null,""]
[null,null,null,null,""]
[null,null,null,null,""]
[null,null,null,null,""]
[null,null,null,null,""]
[null,null,null,null,""]
[null,null,null,null,""]
[null,null,null,null,""]
[null,null,null,null,""]
[null,null,null,null,""]
[null,null,null,null,{"$f":"IF(OR(C3268=\"\",D3268=\"\"),\"\",D3268&\"_\"&C3268)","v":""}]
[null,null,null,null,""]
[null,null,null,null,""]
[null,null,null,null,""]
[null,null,null,null,""]
[null,null,null,null,""]
[null,null,null,null,""]
[null,null,null,null,""]
[null,null,null,null,""]
[null,null,null,null,""]
[null,null,null,null,""]
[null,null,null,null,""]
[null,null,null,null,""]
[null,null,null,null,""]
[null,null,null,null,""]
[null,null,null,null,""]
[null,null,null,null,""]
[null,null,null,null,""]
[null,null,null,null,""]
[null,null,null,null,""]
[null,null,null,null,""]
[null,null,null,null,""]
[null,null,null,null,""]
[null,null,null,null,""]
[null,null,null,null,""]
[null,null,null,null,""]
[null,null,null,null,""]
[null,null,null,null,""]
[null,null,null,null,""]
[null,null,null,null,""]
[null,null,null,null,""]
[null,null,null,null,""]
[null,null,null,null,""]
[null,null,null,null,""]
[null,null,null,null,""]
[null,null,null,null,""]
[null,null,null,null,""]
[null,null,null,null,""]
[null,null,null,null,""]
[null,null,null,null,""]
[null,null,null,null,""]
[null,null,null,null,""]
[null,null,null,null,""]
[null,null,null,null,""]
[null,null,null,null,""]
[null,null,null,null,""]
[null,null,null,null,""]
[null,null,null,null,""]
[null,null,null,null,""]
[null,null,null,null,""]
[null,null,null,null,""]
[null,null,null,null,""]
[null,null,null,null,""]
[null,null,null,null,""]
[null,null,null,null,""]
[null,null,null,null,""]
[null,null,null,null,""]
[null,null,null,null,""]
[null,null,null,null,""]
[null,null,null,null,""]
[null,null,null,null,""]
[null,null,null,null,""]
[null,null,null,null,""]
[null,null,null,null,""]
[null,null,null,null,{"$f":"IF(OR(C3332=\"\",D3332=\"\"),\"\",D3332&\"_\"&C3332)","v":""}]
[null,null,null,null,""]
[null,null,null,null,""]
[null,null,null,null,""]
[null,null,null,null,""]
[null,null,null,null,""]
[null,null,null,null,""]
[null,null,null,null,""]
[null,null,null,null,""]
[null,null,null,null,""]
[null,null,null,null,""]
[null,null,null,null,""]
[null,null,null,null,""]
[null,null,null,null,""]
[null,null,null,null,""]
[null,null,null,null,""]
[null,null,null,null,""]
[null,null,null,null,""]
[null,null,null,null,""]
[null,null,null,null,""]
[null,null,null,null,""]
[null,null,null,null,""]
[null,null,null,null,""]
[null,null,null,null,""]
[null,null,null,null,""]
[null,null,null,null,""]
[null,null,null,null,""]
[null,null,null,null,""]
[null,null,null,null,""]
[null,null,null,null,""]
[null,null,null,null,""]
[null,null,null,null,""]
[null,null,null,null,""]
[null,null,null,null,""]
[null,null,null,null,""]
[null,null,null,null,""]
[null,null,null,null,""]
[null,null,null,null,""]
[null,null,null,null,""]
[null,null,null,null,""]
[null,null,null,null,""]
[null,null,null,null,""]
[null,null,null,null,""]
[null,null,null,null,""]
[null,null,null,null,""]
[null,null,null,null,""]
[null,null,null,null,""]
[null,null,null,null,""]
[null,null,null,null,""]
[null,null,null,null,""]
[null,null,null,null,""]
[null,null,null,null,""]
[null,null,null,null,""]
[null,null,null,null,""]
[null,null,null,null,""]
[null,null,null,null,""]
[null,null,null,null,""]
[null,null,null,null,""]
[null,null,null,null,""]
[null,null,null,null,""]
[null,null,null,null,""]
[null,null,null,null,""]
[null,null,null,null,""]
[null,null,null,null,""]
[null,null,null,null,{"$f":"IF(OR(C3396=\"\",D3396=\"\"),\"\",D3396&\"_\"&C3396)","v":""}]
[null,null,null,null,""]
[null,null,null,null,""]
[null,null,null,null,""]
[null,null,null,null,""]
[null,null,null,null,""]
[null,null,null,null,""]
[null,null,null,null,""]
[null,null,null,null,""]
[null,null,null,null,""]
[null,null,null,null,""]
[null,null,null,null,""]
[null,null,null,null,""]
[null,null,null,null,""]
[null,null,null,null,""]
[null,null,null,null,""]
[null,null,null,null,""]
[null,null,null,null,""]
[null,null,null,null,""]
[null,null,null,null,""]
[null,null,null,null,""]
[null,null,null,null,""]
[null,null,null,null,""]
[null,null,null,null,""]
[null,null,null,null,""]
[null,null,null,null,""]
[null,null,null,null,""]
[null,null,null,null,""]
[null,null,null,null,""]
[null,null,null,null,""]
[null,null,null,null,""]
[null,null,null,null,""]
[null,null,null,null,""]
[null,null,null,null,""]
[null,null,null,null,""]
[null,null,null,null,""]
[null,null,null,null,""]
[null,null,null,null,""]
[null,null,null,null,""]
[null,null,null,null,""]
[null,null,null,null,""]
[null,null,null,null,""]
[null,null,null,null,""]
[null,null,null,null,""]
[null,null,null,null,""]
[null,null,null,null,""]
[null,null,null,null,""]
[null,null,null,null,""]
[null,null,null,null,""]
[null,null,null,null,""]
[null,null,null,null,""]
[null,null,null,null,""]
[null,null,null,null,""]
[null,null,null,null,""]
[null,null,null,null,""]
[null,null,null,null,""]
[null,null,null,null,""]
[null,null,null,null,""]
[null,null,null,null,""]
[null,null,null,null,""]
[null,null,null,null,""]
[null,null,null,null,""]
[null,null,null,null,""]
[null,null,null,null,""]
[null,null,null,null,{"$f":"IF(OR(C3460=\"\",D3460=\"\"),\"\",D3460&\"_\"&C3460)","v":""}]
[null,null,null,null,""]
[null,null,null,null,""]
[null,null,null,null,""]
[null,null,null,null,""]
[null,null,null,null,""]
[null,null,null,null,""]
[null,null,null,null,""]
[null,null,null,null,""]
[null,null,null,null,""]
[null,null,null,null,""]
[null,null,null,null,""]
[null,null,null,null,""]
[null,null,null,null,""]
[null,null,null,null,""]
[null,null,null,null,""]
[null,null,null,null,""]
[null,null,null,null,""]
[null,null,null,null,""]
[null,null,null,null,""]
[null,null,null,null,""]
[null,null,null,null,""]
[null,null,null,null,""]
[null,null,null,null,""]
[null,null,null,null,""]
[null,null,null,null,""]
[null,null,null,null,""]
[null,null,null,null,""]
[null,null,null,null,""]
[null,null,null,null,""]
[null,null,null,null,""]
[null,null,null,null,""]
[null,null,null,null,""]
[null,null,null,null,""]
[null,null,null,null,""]
[null,null,null,null,""]
[null,null,null,null,""]
[null,null,null,null,""]
[null,null,null,null,""]
[null,null,null,null,""]
[null,null,null,null,""]
[null,null,null,null,""]
[null,null,null,null,""]
[null,null,null,null,""]
[null,null,null,null,""]
[null,null,null,null,""]
[null,null,null,null,""]
[null,null,null,null,""]
[null,null,null,null,""]
[null,null,null,null,""]
[null,null,null,null,""]
[null,null,null,null,""]
[null,null,null,null,""]
[null,null,null,null,""]
[null,null,null,null,""]
[null,null,null,null,""]
[null,null,null,null,""]
[null,null,null,null,""]
[null,null,null,null,""]
[null,null,null,null,""]
[null,null,null,null,""]
[null,null,null,null,""]
[null,null,null,null,""]
[null,null,null,null,""]
[null,null,null,null,{"$f":"IF(OR(C3524=\"\",D3524=\"\"),\"\",D3524&\"_\"&C3524)","v":""}]
[null,null,null,null,""]
[null,null,null,null,""]
[null,null,null,null,""]
[null,null,null,null,""]
[null,null,null,null,""]
[null,null,null,null,""]
[null,null,null,null,""]
[null,null,null,null,""]
[null,null,null,null,""]
[null,null,null,null,""]
[null,null,null,null,""]
[null,null,null,null,""]
[null,null,null,null,""]
[null,null,null,null,""]
[null,null,null,null,""]
[null,null,null,null,""]
[null,null,null,null,""]
[null,null,null,null,""]
[null,null,null,null,""]
[null,null,null,null,""]
[null,null,null,null,""]
[null,null,null,null,""]
[null,null,null,null,""]
[null,null,null,null,""]
[null,null,null,null,""]
[null,null,null,null,""]
[null,null,null,null,""]
[null,null,null,null,""]
[null,null,null,null,""]
[null,null,null,null,""]
[null,null,null,null,""]
[null,null,null,null,""]
[null,null,null,null,""]
[null,null,null,null,""]
[null,null,null,null,""]
[null,null,null,null,""]
[null,null,null,null,""]
[null,null,null,null,""]
[null,null,null,null,""]
[null,null,null,null,""]
[null,null,null,null,""]
[null,null,null,null,""]
[null,null,null,null,""]
[null,null,null,null,""]
[null,null,null,null,""]
[null,null,null,null,""]
[null,null,null,null,""]
[null,null,null,null,""]
[null,null,null,null,""]
[null,null,null,null,""]
[null,null,null,null,""]
[null,null,null,null,""]
[null,null,null,null,""]
[null,null,null,null,""]
[null,null,null,null,""]
[null,null,null,null,""]
[null,null,null,null,""]
[null,null,null,null,""]
[null,null,null,null,""]
[null,null,null,null,""]
[null,null,null,null,""]
[null,null,null,null,""]
[null,null,null,null,""]
[null,null,null,null,{"$f":"IF(OR(C3588=\"\",D3588=\"\"),\"\",D3588&\"_\"&C3588)","v":""}]
[null,null,null,null,""]
[null,null,null,null,""]
[null,null,null,null,""]
[null,null,null,null,""]
[null,null,null,null,""]
[null,null,null,null,""]
[null,null,null,null,""]
[null,null,null,null,""]
[null,null,null,null,""]
[null,null,null,null,""]
[null,null,null,null,""]
[null,null,null,null,""]
[null,null,null,null,""]
[null,null,null,null,""]
[null,null,null,null,""]
[null,null,null,null,""]
[null,null,null,null,""]
[null,null,null,null,""]
[null,null,null,null,""]
[null,null,null,null,""]
[null,null,null,null,""]
[null,null,null,null,""]
[null,null,null,null,""]
[null,null,null,null,""]
[null,null,null,null,""]
[null,null,null,null,""]
[null,null,null,null,""]
[null,null,null,null,""]
[null,null,null,null,""]
[null,null,null,null,""]
[null,null,null,null,""]
[null,null,null,null,""]
[null,null,null,null,""]
[null,null,null,null,""]
[null,null,null,null,""]
[null,null,null,null,""]
[null,null,null,null,""]
[null,null,null,null,""]
[null,null,null,null,""]
[null,null,null,null,""]
[null,null,null,null,""]
[null,null,null,null,""]
[null,null,null,null,""]
[null,null,null,null,""]
[null,null,null,null,""]
[null,null,null,null,""]
[null,null,null,null,""]
[null,null,null,null,""]
[null,null,null,null,""]
[null,null,null,null,""]
[null,null,null,null,""]
[null,null,null,null,""]
[null,null,null,null,""]
[null,null,null,null,""]
[null,null,null,null,""]
[null,null,null,null,""]
[null,null,null,null,""]
[null,null,null,null,""]
[null,null,null,null,""]
[null,null,null,null,""]
[null,null,null,null,""]
[null,null,null,null,""]
[null,null,null,null,""]
[null,null,null,null,{"$f":"IF(OR(C3652=\"\",D3652=\"\"),\"\",D3652&\"_\"&C3652)","v":""}]
[null,null,null,null,""]
[null,null,null,null,""]
[null,null,null,null,""]
[null,null,null,null,""]
[null,null,null,null,""]
[null,null,null,null,""]
[null,null,null,null,""]
[null,null,null,null,""]
[null,null,null,null,""]
[null,null,null,null,""]
[null,null,null,null,""]
[null,null,null,null,""]
[null,null,null,null,""]
[null,null,null,null,""]
[null,null,null,null,""]
[null,null,null,null,""]
[null,null,null,null,""]
[null,null,null,null,""]
[null,null,null,null,""]
[null,null,null,null,""]
[null,null,null,null,""]
[null,null,null,null,""]
[null,null,null,null,""]
[null,null,null,null,""]
[null,null,null,null,""]
[null,null,null,null,""]
[null,null,null,null,""]
[null,null,null,null,""]
[null,null,null,null,""]
[null,null,null,null,""]
[null,null,null,null,""]
[null,null,null,null,""]
[null,null,null,null,""]
[null,null,null,null,""]
[null,null,null,null,""]
[null,null,null,null,""]
[null,null,null,null,""]
[null,null,null,null,""]
[null,null,null,null,""]
[null,null,null,null,""]
[null,null,null,null,""]
[null,null,null,null,""]
[null,null,null,null,""]
[null,null,null,null,""]
[null,null,null,null,""]
[null,null,null,null,""]
[null,null,null,null,""]
[null,null,null,null,""]
[null,null,null,null,""]
[null,null,null,null,""]
[null,null,null,null,""]
[null,null,null,null,""]
[null,null,null,null,""]
[null,null,null,null,""]
[null,null,null,null,""]
[null,null,null,null,""]
[null,null,null,null,""]
[null,null,null,null,""]
[null,null,null,null,""]
[null,null,null,null,""]
[null,null,null,null,""]
[null,null,null,null,""]
[null,null,null,null,""]
[null,null,null,null,{"$f":"IF(OR(C3716=\"\",D3716=\"\"),\"\",D3716&\"_\"&C3716)","v":""}]
[null,null,null,null,""]
[null,null,null,null,""]
[null,null,null,null,""]
[null,null,null,null,""]
[null,null,null,null,""]
[null,null,null,null,""]
[null,null,null,null,""]
[null,null,null,null,""]
[null,null,null,null,""]
[null,null,null,null,""]
[null,null,null,null,""]
[null,null,null,null,""]
[null,null,null,null,""]
[null,null,null,null,""]
[null,null,null,null,""]
[null,null,null,null,""]
[null,null,null,null,""]
[null,null,null,null,""]
[null,null,null,null,""]
[null,null,null,null,""]
[null,null,null,null,""]
[null,null,null,null,""]
[null,null,null,null,""]
[null,null,null,null,""]
[null,null,null,null,""]
[null,null,null,null,""]
[null,null,null,null,""]
[null,null,null,null,""]
[null,null,null,null,""]
[null,null,null,null,""]
[null,null,null,null,""]
[null,null,null,null,""]
[null,null,null,null,""]
[null,null,null,null,""]
[null,null,null,null,""]
[null,null,null,null,""]
[null,null,null,null,""]
[null,null,null,null,""]
[null,null,null,null,""]
[null,null,null,null,""]
[null,null,null,null,""]
[null,null,null,null,""]
[null,null,null,null,""]
[null,null,null,null,""]
[null,null,null,null,""]
[null,null,null,null,""]
[null,null,null,null,""]
[null,null,null,null,""]
[null,null,null,null,""]
[null,null,null,null,""]
[null,null,null,null,""]
[null,null,null,null,""]
[null,null,null,null,""]
[null,null,null,null,""]
[null,null,null,null,""]
[null,null,null,null,""]
[null,null,null,null,""]
[null,null,null,null,""]
[null,null,null,null,""]
[null,null,null,null,""]
[null,null,null,null,""]
[null,null,null,null,""]
[null,null,null,null,""]
[null,null,null,null,{"$f":"IF(OR(C3780=\"\",D3780=\"\"),\"\",D3780&\"_\"&C3780)","v":""}]
[null,null,null,null,""]
[null,null,null,null,""]
[null,null,null,null,""]
[null,null,null,null,""]
[null,null,null,null,""]
[null,null,null,null,""]
[null,null,null,null,""]
[null,null,null,null,""]
[null,null,null,null,""]
[null,null,null,null,""]
[null,null,null,null,""]
[null,null,null,null,""]
[null,null,null,null,""]
[null,null,null,null,""]
[null,null,null,null,""]
[null,null,null,null,""]
[null,null,null,null,""]
[null,null,null,null,""]
[null,null,null,null,""]
[null,null,null,null,""]
[null,null,null,null,""]
[null,null,null,null,""]
[null,null,null,null,""]
[null,null,null,null,""]
[null,null,null,null,""]
[null,null,null,null,""]
[null,null,null,null,""]
[null,null,null,null,""]
[null,null,null,null,""]
[null,null,null,null,""]
[null,null,null,null,""]
[null,null,null,null,""]
[null,null,null,null,""]
[null,null,null,null,""]
[null,null,null,null,""]
[null,null,null,null,""]
[null,null,null,null,""]
[null,null,null,null,""]
[null,null,null,null,""]
[null,null,null,null,""]
[null,null,null,null,""]
[null,null,null,null,""]
[null,null,null,null,""]
[null,null,null,null,""]
[null,null,null,null,""]
[null,null,null,null,""]
[null,null,null,null,""]
[null,null,null,null,""]
[null,null,null,null,""]
[null,null,null,null,""]
[null,null,null,null,""]
[null,null,null,null,""]
[null,null,null,null,""]
[null,null,null,null,""]
[null,null,null,null,""]
[null,null,null,null,""]
[null,null,null,null,""]
[null,null,null,null,""]
[null,null,null,null,""]
[null,null,null,null,""]
[null,null,null,null,""]
[null,null,null,null,""]
[null,null,null,null,""]
[null,null,null,null,{"$f":"IF(OR(C3844=\"\",D3844=\"\"),\"\",D3844&\"_\"&C3844)","v":""}]
[null,null,null,null,""]
[null,null,null,null,""]
[null,null,null,null,""]
[null,null,null,null,""]
[null,null,null,null,""]
[null,null,null,null,""]
[null,null,null,null,""]
[null,null,null,null,""]
[null,null,null,null,""]
[null,null,null,null,""]
[null,null,null,null,""]
[null,null,null,null,""]
[null,null,null,null,""]
[null,null,null,null,""]
[null,null,null,null,""]
[null,null,null,null,""]
[null,null,null,null,""]
[null,null,null,null,""]
[null,null,null,null,""]
[null,null,null,null,""]
[null,null,null,null,""]
[null,null,null,null,""]
[null,null,null,null,""]
[null,null,null,null,""]
[null,null,null,null,""]
[null,null,null,null,""]
[null,null,null,null,""]
[null,null,null,null,""]
[null,null,null,null,""]
[null,null,null,null,""]
[null,null,null,null,""]
[null,null,null,null,""]
[null,null,null,null,""]
[null,null,null,null,""]
[null,null,null,null,""]
[null,null,null,null,""]
[null,null,null,null,""]
[null,null,null,null,""]
[null,null,null,null,""]
[null,null,null,null,""]
[null,null,null,null,""]
[null,null,null,null,""]
[null,null,null,null,""]
[null,null,null,null,""]
[null,null,null,null,""]
[null,null,null,null,""]
[null,null,null,null,""]
[null,null,null,null,""]
[null,null,null,null,""]
[null,null,null,null,""]
[null,null,null,null,""]
[null,null,null,null,""]
[null,null,null,null,""]
[null,null,null,null,""]
[null,null,null,null,""]
[null,null,null,null,""]
[null,null,null,null,""]
[null,null,null,null,""]
[null,null,null,null,""]
[null,null,null,null,""]
[null,null,null,null,""]
[null,null,null,null,""]
[null,null,null,null,""]
[null,null,null,null,{"$f":"IF(OR(C3908=\"\",D3908=\"\"),\"\",D3908&\"_\"&C3908)","v":""}]
[null,null,null,null,""]
[null,null,null,null,""]
[null,null,null,null,""]
[null,null,null,null,""]
[null,null,null,null,""]
[null,null,null,null,""]
[null,null,null,null,""]
[null,null,null,null,""]
[null,null,null,null,""]
[null,null,null,null,""]
[null,null,null,null,""]
[null,null,null,null,""]
[null,null,null,null,""]
[null,null,null,null,""]
[null,null,null,null,""]
[null,null,null,null,""]
[null,null,null,null,""]
[null,null,null,null,""]
[null,null,null,null,""]
[null,null,null,null,""]
[null,null,null,null,""]
[null,null,null,null,""]
[null,null,null,null,""]
[null,null,null,null,""]
[null,null,null,null,""]
[null,null,null,null,""]
[null,null,null,null,""]
[null,null,null,null,""]
[null,null,null,null,""]
[null,null,null,null,""]
[null,null,null,null,""]
[null,null,null,null,""]
[null,null,null,null,""]
[null,null,null,null,""]
[null,null,null,null,""]
[null,null,null,null,""]
[null,null,null,null,""]
[null,null,null,null,""]
[null,null,null,null,""]
[null,null,null,null,""]
[null,null,null,null,""]
[null,null,null,null,""]
[null,null,null,null,""]
[null,null,null,null,""]
[null,null,null,null,""]
[null,null,null,null,""]
[null,null,null,null,""]
[null,null,null,null,""]
[null,null,null,null,""]
[null,null,null,null,""]
[null,null,null,null,""]
[null,null,null,null,""]
[null,null,null,null,""]
[null,null,null,null,""]
[null,null,null,null,""]
[null,null,null,null,""]
[null,null,null,null,""]
[null,null,null,null,""]
[null,null,null,null,""]
[null,null,null,null,""]
[null,null,null,null,""]
[null,null,null,null,""]
[null,null,null,null,""]
[null,null,null,null,{"$f":"IF(OR(C3972=\"\",D3972=\"\"),\"\",D3972&\"_\"&C3972)","v":""}]
[null,null,null,null,""]
[null,null,null,null,""]
[null,null,null,null,""]
[null,null,null,null,""]
[null,null,null,null,""]
[null,null,null,null,""]
[null,null,null,null,""]
[null,null,null,null,""]
[null,null,null,null,""]
[null,null,null,null,""]
[null,null,null,null,""]
[null,null,null,null,""]
[null,null,null,null,""]
[null,null,null,null,""]
[null,null,null,null,""]
[null,null,null,null,""]
[null,null,null,null,""]
[null,null,null,null,""]
[null,null,null,null,""]
[null,null,null,null,""]
[null,null,null,null,""]
[null,null,null,null,""]
[null,null,null,null,""]
[null,null,null,null,""]
[null,null,null,null,""]
[null,null,null,null,""]
[null,null,null,null,""]
[null,null,null,null,""]
[null,null,null,null,""]
[null,null,null,null,""]
[null,null,null,null,""]
[null,null,null,null,""]
[null,null,null,null,""]
[null,null,null,null,""]
[null,null,null,null,""]
[null,null,null,null,""]
[null,null,null,null,""]
[null,null,null,null,""]
[null,null,null,null,""]
[null,null,null,null,""]
[null,null,null,null,""]
[null,null,null,null,""]
[null,null,null,null,""]
[null,null,null,null,""]
[null,null,null,null,""]
[null,null,null,null,""]
[null,null,null,null,""]
[null,null,null,null,""]
[null,null,null,null,""]
[null,null,null,null,""]
[null,null,null,null,""]
[null,null,null,null,""]
[null,null,null,null,""]
[null,null,null,null,""]
[null,null,null,null,""]
[null,null,null,null,""]
[null,null,null,null,""]
[null,null,null,null,""]
[null,null,null,null,""]
[null,null,null,null,""]
[null,null,null,null,""]
[null,null,null,null,""]
[null,null,null,null,""]
[null,null,null,null,{"$f":"IF(OR(C4036=\"\",D4036=\"\"),\"\",D4036&\"_\"&C4036)","v":""}]
[null,null,null,null,""]
[null,null,null,null,""]
[null,null,null,null,""]
[null,null,null,null,""]
[null,null,null,null,""]
[null,null,null,null,""]
[null,null,null,null,""]
[null,null,null,null,""]
[null,null,null,null,""]
[null,null,null,null,""]
[null,null,null,null,""]
[null,null,null,null,""]
[null,null,null,null,""]
[null,null,null,null,""]
[null,null,null,null,""]
[null,null,null,null,""]
[null,null,null,null,""]
[null,null,null,null,""]
[null,null,null,null,""]
[null,null,null,null,""]
[null,null,null,null,""]
[null,null,null,null,""]
[null,null,null,null,""]
[null,null,null,null,""]
[null,null,null,null,""]
[null,null,null,null,""]
[null,null,null,null,""]
[null,null,null,null,""]
[null,null,null,null,""]
[null,null,null,null,""]
[null,null,null,null,""]
[null,null,null,null,""]
[null,null,null,null,""]
[null,null,null,null,""]
[null,null,null,null,""]
[null,null,null,null,""]
[null,null,null,null,""]
[null,null,null,null,""]
[null,null,null,null,""]
[null,null,null,null,""]
[null,null,null,null,""]
[null,null,null,null,""]
[null,null,null,null,""]
[null,null,null,null,""]
[null,null,null,null,""]
[null,null,null,null,""]
[null,null,null,null,""]
[null,null,null,null,""]
[null,null,null,null,""]
[null,null,null,null,""]
[null,null,null,null,""]
[null,null,null,null,""]
[null,null,null,null,""]
[null,null,null,null,""]
[null,null,null,null,""]
[null,null,null,null,""]
[null,null,null,null,""]
[null,null,null,null,""]
[null,null,null,null,""]
[null,null,null,null,""]
[null,null,null,null,""]
[null,null,null,null,""]
[null,null,null,null,""]
[null,null,null,null,{"$f":"IF(OR(C4100=\"\",D4100=\"\"),\"\",D4100&\"_\"&C4100)","v":""}]
[null,null,null,null,""]
[null,null,null,null,""]
[null,null,null,null,""]
[null,null,null,null,""]
[null,null,null,null,""]
[null,null,null,null,""]
[null,null,null,null,""]
[null,null,null,null,""]
[null,null,null,null,""]
[null,null,null,null,""]
[null,null,null,null,""]
[null,null,null,null,""]
[null,null,null,null,""]
[null,null,null,null,""]
[null,null,null,null,""]
[null,null,null,null,""]
[null,null,null,null,""]
[null,null,null,null,""]
[null,null,null,null,""]
[null,null,null,null,""]
[null,null,null,null,""]
[null,null,null,null,""]
[null,null,null,null,""]
[null,null,null,null,""]
[null,null,null,null,""]
[null,null,null,null,""]
[null,null,null,null,""]
[null,null,null,null,""]
[null,null,null,null,""]
[null,null,null,null,""]
[null,null,null,null,""]
[null,null,null,null,""]
[null,null,null,null,""]
[null,null,null,null,""]
[null,null,null,null,""]
[null,null,null,null,""]
[null,null,null,null,""]
[null,null,null,null,""]
[null,null,null,null,""]
[null,null,null,null,""]
[null,null,null,null,""]
[null,null,null,null,""]
[null,null,null,null,""]
[null,null,null,null,""]
[null,null,null,null,""]
[null,null,null,null,""]
[null,null,null,null,""]
[null,null,null,null,""]
[null,null,null,null,""]
[null,null,null,null,""]
[null,null,null,null,""]
[null,null,null,null,""]
[null,null,null,null,""]
[null,null,null,null,""]
[null,null,null,null,""]
[null,null,null,null,""]
[null,null,null,null,""]
[null,null,null,null,""]
[null,null,null,null,""]
[null,null,null,null,""]
[null,null,null,null,""]
[null,null,null,null,""]
[null,null,null,null,""]
[null,null,null,null,{"$f":"IF(OR(C4164=\"\",D4164=\"\"),\"\",D4164&\"_\"&C4164)","v":""}]
[null,null,null,null,""]
[null,null,null,null,""]
[null,null,null,null,""]
[null,null,null,null,""]
[null,null,null,null,""]
[null,null,null,null,""]
[null,null,null,null,""]
[null,null,null,null,""]
[null,null,null,null,""]
[null,null,null,null,""]
[null,null,null,null,""]
[null,null,null,null,""]
[null,null,null,null,""]
[null,null,null,null,""]
[null,null,null,null,""]
[null,null,null,null,""]
[null,null,null,null,""]
[null,null,null,null,""]
[null,null,null,null,""]
[null,null,null,null,""]
[null,null,null,null,""]
[null,null,null,null,""]
[null,null,null,null,""]
[null,null,null,null,""]
[null,null,null,null,""]
[null,null,null,null,""]
[null,null,null,null,""]
[null,null,null,null,""]
[null,null,null,null,""]
[null,null,null,null,""]
[null,null,null,null,""]
[null,null,null,null,""]
[null,null,null,null,""]
[null,null,null,null,""]
[null,null,null,null,""]
[null,null,null,null,""]
[null,null,null,null,""]
[null,null,null,null,""]
[null,null,null,null,""]
[null,null,null,null,""]
[null,null,null,null,""]
[null,null,null,null,""]
[null,null,null,null,""]
[null,null,null,null,""]
[null,null,null,null,""]
[null,null,null,null,""]
[null,null,null,null,""]
[null,null,null,null,""]
[null,null,null,null,""]
[null,null,null,null,""]
[null,null,null,null,""]
[null,null,null,null,""]
[null,null,null,null,""]
[null,null,null,null,""]
[null,null,null,null,""]
[null,null,null,null,""]
[null,null,null,null,""]
[null,null,null,null,""]
[null,null,null,null,""]
[null,null,null,null,""]
[null,null,null,null,""]
[null,null,null,null,""]
[null,null,null,null,""]
[null,null,null,null,{"$f":"IF(OR(C4228=\"\",D4228=\"\"),\"\",D4228&\"_\"&C4228)","v":""}]
[null,null,null,null,""]
[null,null,null,null,""]
[null,null,null,null,""]
[null,null,null,null,""]
[null,null,null,null,""]
[null,null,null,null,""]
[null,null,null,null,""]
[null,null,null,null,""]
[null,null,null,null,""]
[null,null,null,null,""]
[null,null,null,null,""]
[null,null,null,null,""]
[null,null,null,null,""]
[null,null,null,null,""]
[null,null,null,null,""]
[null,null,null,null,""]
[null,null,null,null,""]
[null,null,null,null,""]
[null,null,null,null,""]
[null,null,null,null,""]
[null,null,null,null,""]
[null,null,null,null,""]
[null,null,null,null,""]
[null,null,null,null,""]
[null,null,null,null,""]
[null,null,null,null,""]
[null,null,null,null,""]
[null,null,null,null,""]
[null,null,null,null,""]
[null,null,null,null,""]
[null,null,null,null,""]
[null,null,null,null,""]
[null,null,null,null,""]
[null,null,null,null,""]
[null,null,null,null,""]
[null,null,null,null,""]
[null,null,null,null,""]
[null,null,null,null,""]
[null,null,null,null,""]
[null,null,null,null,""]
[null,null,null,null,""]
[null,null,null,null,""]
[null,null,null,null,""]
[null,null,null,null,""]
[null,null,null,null,""]
[null,null,null,null,""]
[null,null,null,null,""]
[null,null,null,null,""]
[null,null,null,null,""]
[null,null,null,null,""]
[null,null,null,null,""]
[null,null,null,null,""]
[null,null,null,null,""]
[null,null,null,null,""]
[null,null,null,null,""]
[null,null,null,null,""]
[null,null,null,null,""]
[null,null,null,null,""]
[null,null,null,null,""]
[null,null,null,null,""]
[null,null,null,null,""]
[null,null,null,null,""]
[null,null,null,null,""]
[null,null,null,null,{"$f":"IF(OR(C4292=\"\",D4292=\"\"),\"\",D4292&\"_\"&C4292)","v":""}]
[null,null,null,null,""]
[null,null,null,null,""]
[null,null,null,null,""]
[null,null,null,null,""]
[null,null,null,null,""]
[null,null,null,null,""]
[null,null,null,null,""]
[null,null,null,null,""]
[null,null,null,null,""]
[null,null,null,null,""]
[null,null,null,null,""]
[null,null,null,null,""]
[null,null,null,null,""]
[null,null,null,null,""]
[null,null,null,null,""]
[null,null,null,null,""]
[null,null,null,null,""]
[null,null,null,null,""]
[null,null,null,null,""]
[null,null,null,null,""]
[null,null,null,null,""]
[null,null,null,null,""]
[null,null,null,null,""]
[null,null,null,null,""]
[null,null,null,null,""]
[null,null,null,null,""]
[null,null,null,null,""]
[null,null,null,null,""]
[null,null,null,null,""]
[null,null,null,null,""]
[null,null,null,null,""]
[null,null,null,null,""]
[null,null,null,null,""]
[null,null,null,null,""]
[null,null,null,null,""]
[null,null,null,null,""]
[null,null,null,null,""]
[null,null,null,null,""]
[null,null,null,null,""]
[null,null,null,null,""]
[null,null,null,null,""]
[null,null,null,null,""]
[null,null,null,null,""]
[null,null,null,null,""]
[null,null,null,null,""]
[null,null,null,null,""]
[null,null,null,null,""]
[null,null,null,null,""]
[null,null,null,null,""]
[null,null,null,null,""]
[null,null,null,null,""]
[null,null,null,null,""]
[null,null,null,null,""]
[null,null,null,null,""]
[null,null,null,null,""]
[null,null,null,null,""]
[null,null,null,null,""]
[null,null,null,null,""]
[null,null,null,null,""]
[null,null,null,null,""]
[null,null,null,null,""]
[null,null,null,null,""]
[null,null,null,null,""]
[null,null,null,null,{"$f":"IF(OR(C4356=\"\",D4356=\"\"),\"\",D4356&\"_\"&C4356)","v":""}]
[null,null,null,null,""]
[null,null,null,null,""]
[null,null,null,null,""]
[null,null,null,null,""]
[null,null,null,null,""]
[null,null,null,null,""]
[null,null,null,null,""]
[null,null,null,null,""]
[null,null,null,null,""]
[null,null,null,null,""]
[null,null,null,null,""]
[null,null,null,null,""]
[null,null,null,null,""]
[null,null,null,null,""]
[null,null,null,null,""]
[null,null,null,null,""]
[null,null,null,null,""]
[null,null,null,null,""]
[null,null,null,null,""]
[null,null,null,null,""]
[null,null,null,null,""]
[null,null,null,null,""]
[null,null,null,null,""]
[null,null,null,null,""]
[null,null,null,null,""]
[null,null,null,null,""]
[null,null,null,null,""]
[null,null,null,null,""]
[null,null,null,null,""]
[null,null,null,null,""]
[null,null,null,null,""]
[null,null,null,null,""]
[null,null,null,null,""]
[null,null,null,null,""]
[null,null,null,null,""]
[null,null,null,null,""]
[null,null,null,null,""]
[null,null,null,null,""]
[null,null,null,null,""]
[null,null,null,null,""]
[null,null,null,null,""]
[null,null,null,null,""]
[null,null,null,null,""]
[null,null,null,null,""]
[null,null,null,null,""]
[null,null,null,null,""]
[null,null,null,null,""]
[null,null,null,null,""]
[null,null,null,null,""]
[null,null,null,null,""]
[null,null,null,null,""]
[null,null,null,null,""]
[null,null,null,null,""]
[null,null,null,null,""]
[null,null,null,null,""]
[null,null,null,null,""]
[null,null,null,null,""]
[null,null,null,null,""]
[null,null,null,null,""]
[null,null,null,null,""]
[null,null,null,null,""]
[null,null,null,null,""]
[null,null,null,null,""]
[null,null,null,null,{"$f":"IF(OR(C4420=\"\",D4420=\"\"),\"\",D4420&\"_\"&C4420)","v":""}]
[null,null,null,null,""]
[null,null,null,null,""]
[null,null,null,null,""]
[null,null,null,null,""]
[null,null,null,null,""]
[null,null,null,null,""]
[null,null,null,null,""]
[null,null,null,null,""]
[null,null,null,null,""]
[null,null,null,null,""]
[null,null,null,null,""]
[null,null,null,null,""]
[null,null,null,null,""]
[null,null,null,null,""]
[null,null,null,null,""]
[null,null,null,null,""]
[null,null,null,null,""]
[null,null,null,null,""]
[null,null,null,null,""]
[null,null,null,null,""]
[null,null,null,null,""]
[null,null,null,null,""]
[null,null,null,null,""]
[null,null,null,null,""]
[null,null,null,null,""]
[null,null,null,null,""]
[null,null,null,null,""]
[null,null,null,null,""]
[null,null,null,null,""]
[null,null,null,null,""]
[null,null,null,null,""]
[null,null,null,null,""]
[null,null,null,null,""]
[null,null,null,null,""]
[null,null,null,null,""]
[null,null,null,null,""]
[null,null,null,null,""]
[null,null,null,null,""]
[null,null,null,null,""]
[null,null,null,null,""]
[null,null,null,null,""]
[null,null,null,null,""]
[null,null,null,null,""]
[null,null,null,null,""]
[null,null,null,null,""]
[null,null,null,null,""]
[null,null,null,null,""]
[null,null,null,null,""]
[null,null,null,null,""]
[null,null,null,null,""]
[null,null,null,null,""]
[null,null,null,null,""]
[null,null,null,null,""]
[null,null,null,null,""]
[null,null,null,null,""]
[null,null,null,null,""]
[null,null,null,null,""]
[null,null,null,null,""]
[null,null,null,null,""]
[null,null,null,null,""]
[null,null,null,null,""]
[null,null,null,null,""]
[null,null,null,null,""]
[null,null,null,null,{"$f":"IF(OR(C4484=\"\",D4484=\"\"),\"\",D4484&\"_\"&C4484)","v":""}]
[null,null,null,null,""]
[null,null,null,null,""]
[null,null,null,null,""]
[null,null,null,null,""]
[null,null,null,null,""]
[null,null,null,null,""]
[null,null,null,null,""]
[null,null,null,null,""]
[null,null,null,null,""]
[null,null,null,null,""]
[null,null,null,null,""]
[null,null,null,null,""]
[null,null,null,null,""]
[null,null,null,null,""]
[null,null,null,null,""]
[null,null,null,null,""]
[null,null,null,null,""]
[null,null,null,null,""]
[null,null,null,null,""]
[null,null,null,null,""]
[null,null,null,null,""]
[null,null,null,null,""]
[null,null,null,null,""]
[null,null,null,null,""]
[null,null,null,null,""]
[null,null,null,null,""]
[null,null,null,null,""]
[null,null,null,null,""]
[null,null,null,null,""]
[null,null,null,null,""]
[null,null,null,null,""]
[null,null,null,null,""]
[null,null,null,null,""]
[null,null,null,null,""]
[null,null,null,null,""]
[null,null,null,null,""]
[null,null,null,null,""]
[null,null,null,null,""]
[null,null,null,null,""]
[null,null,null,null,""]
[null,null,null,null,""]
[null,null,null,null,""]
[null,null,null,null,""]
[null,null,null,null,""]
[null,null,null,null,""]
[null,null,null,null,""]
[null,null,null,null,""]
[null,null,null,null,""]
[null,null,null,null,""]
[null,null,null,null,""]
[null,null,null,null,""]
[null,null,null,null,""]
[null,null,null,null,""]
[null,null,null,null,""]
[null,null,null,null,""]
[null,null,null,null,""]
[null,null,null,null,""]
[null,null,null,null,""]
[null,null,null,null,""]
[null,null,null,null,""]
[null,null,null,null,""]
[null,null,null,null,""]
[null,null,null,null,""]
[null,null,null,null,{"$f":"IF(OR(C4548=\"\",D4548=\"\"),\"\",D4548&\"_\"&C4548)","v":""}]
[null,null,null,null,""]
[null,null,null,null,""]
[null,null,null,null,""]
[null,null,null,null,""]
[null,null,null,null,""]
[null,null,null,null,""]
[null,null,null,null,""]
[null,null,null,null,""]
[null,null,null,null,""]
[null,null,null,null,""]
[null,null,null,null,""]
[null,null,null,null,""]
[null,null,null,null,""]
[null,null,null,null,""]
[null,null,null,null,""]
[null,null,null,null,""]
[null,null,null,null,""]
[null,null,null,null,""]
[null,null,null,null,""]
[null,null,null,null,""]
[null,null,null,null,""]
[null,null,null,null,""]
[null,null,null,null,""]
[null,null,null,null,""]
[null,null,null,null,""]
[null,null,null,null,""]
[null,null,null,null,""]
[null,null,null,null,""]
[null,null,null,null,""]
[null,null,null,null,""]
[null,null,null,null,""]
[null,null,null,null,""]
[null,null,null,null,""]
[null,null,null,null,""]
[null,null,null,null,""]
[null,null,null,null,""]
[null,null,null,null,""]
[null,null,null,null,""]
[null,null,null,null,""]
[null,null,null,null,""]
[null,null,null,null,""]
[null,null,null,null,""]
[null,null,null,null,""]
[null,null,null,null,""]
[null,null,null,null,""]
[null,null,null,null,""]
[null,null,null,null,""]
[null,null,null,null,""]
[null,null,null,null,""]
[null,null,null,null,""]
[null,null,null,null,""]
[null,null,null,null,""]
[null,null,null,null,""]
[null,null,null,null,""]
[null,null,null,null,""]
[null,null,null,null,""]
[null,null,null,null,""]
[null,null,null,null,""]
[null,null,null,null,""]
[null,null,null,null,""]
[null,null,null,null,""]
[null,null,null,null,""]
[null,null,null,null,""]
[null,null,null,null,{"$f":"IF(OR(C4612=\"\",D4612=\"\"),\"\",D4612&\"_\"&C4612)","v":""}]
[null,null,null,null,""]
[null,null,null,null,""]
[null,null,null,null,""]
[null,null,null,null,""]
[null,null,null,null,""]
[null,null,null,null,""]
[null,null,null,null,""]
[null,null,null,null,""]
[null,null,null,null,""]
[null,null,null,null,""]
[null,null,null,null,""]
[null,null,null,null,""]
[null,null,null,null,""]
[null,null,null,null,""]
[null,null,null,null,""]
[null,null,null,null,""]
[null,null,null,null,""]
[null,null,null,null,""]
[null,null,null,null,""]
[null,null,null,null,""]
[null,null,null,null,""]
[null,null,null,null,""]
[null,null,null,null,""]
[null,null,null,null,""]
[null,null,null,null,""]
[null,null,null,null,""]
[null,null,null,null,""]
[null,null,null,null,""]
[null,null,null,null,""]
[null,null,null,null,""]
[null,null,null,null,""]
[null,null,null,null,""]
[null,null,null,null,""]
[null,null,null,null,""]
[null,null,null,null,""]
[null,null,null,null,""]
[null,null,null,null,""]
[null,null,null,null,""]
[null,null,null,null,""]
[null,null,null,null,""]
[null,null,null,null,""]
[null,null,null,null,""]
[null,null,null,null,""]
[null,null,null,null,""]
[null,null,null,null,""]
[null,null,null,null,""]
[null,null,null,null,""]
[null,null,null,null,""]
[null,null,null,null,""]
[null,null,null,null,""]
[null,null,null,null,""]
[null,null,null,null,""]
[null,null,null,null,""]
[null,null,null,null,""]
[null,null,null,null,""]
[null,null,null,null,""]
[null,null,null,null,""]
[null,null,null,null,""]
[null,null,null,null,""]
[null,null,null,null,""]
[null,null,null,null,""]
[null,null,null,null,""]
[null,null,null,null,""]
[null,null,null,null,{"$f":"IF(OR(C4676=\"\",D4676=\"\"),\"\",D4676&\"_\"&C4676)","v":""}]
[null,null,null,null,""]
[null,null,null,null,""]
[null,null,null,null,""]
[null,null,null,null,""]
[null,null,null,null,""]
[null,null,null,null,""]
[null,null,null,null,""]
[null,null,null,null,""]
[null,null,null,null,""]
[null,null,null,null,""]
[null,null,null,null,""]
[null,null,null,null,""]
[null,null,null,null,""]
[null,null,null,null,""]
[null,null,null,null,""]
[null,null,null,null,""]
[null,null,null,null,""]
[null,null,null,null,""]
[null,null,null,null,""]
[null,null,null,null,""]
[null,null,null,null,""]
[null,null,null,null,""]
[null,null,null,null,""]
[null,null,null,null,""]
[null,null,null,null,""]
[null,null,null,null,""]
[null,null,null,null,""]
[null,null,null,null,""]
[null,null,null,null,""]
[null,null,null,null,""]
[null,null,null,null,""]
[null,null,null,null,""]
[null,null,null,null,""]
[null,null,null,null,""]
[null,null,null,null,""]
[null,null,null,null,""]
[null,null,null,null,""]
[null,null,null,null,""]
[null,null,null,null,""]
[null,null,null,null,""]
[null,null,null,null,""]
[null,null,null,null,""]
[null,null,null,null,""]
[null,null,null,null,""]
[null,null,null,null,""]
[null,null,null,null,""]
[null,null,null,null,""]
[null,null,null,null,""]
[null,null,null,null,""]
[null,null,null,null,""]
[null,null,null,null,""]
[null,null,null,null,""]
[null,null,null,null,""]
[null,null,null,null,""]
[null,null,null,null,""]
[null,null,null,null,""]
[null,null,null,null,""]
[null,null,null,null,""]
[null,null,null,null,""]
[null,null,null,null,""]
[null,null,null,null,""]
[null,null,null,null,""]
[null,null,null,null,""]
[null,null,null,null,{"$f":"IF(OR(C4740=\"\",D4740=\"\"),\"\",D4740&\"_\"&C4740)","v":""}]
[null,null,null,null,""]
[null,null,null,null,""]
[null,null,null,null,""]
[null,null,null,null,""]
[null,null,null,null,""]
[null,null,null,null,""]
[null,null,null,null,""]
[null,null,null,null,""]
[null,null,null,null,""]
[null,null,null,null,""]
[null,null,null,null,""]
[null,null,null,null,""]
[null,null,null,null,""]
[null,null,null,null,""]
[null,null,null,null,""]
[null,null,null,null,""]
[null,null,null,null,""]
[null,null,null,null,""]
[null,null,null,null,""]
[null,null,null,null,""]
[null,null,null,null,""]
[null,null,null,null,""]
[null,null,null,null,""]
[null,null,null,null,""]
[null,null,null,null,""]
[null,null,null,null,""]
[null,null,null,null,""]
[null,null,null,null,""]
[null,null,null,null,""]
[null,null,null,null,""]
[null,null,null,null,""]
[null,null,null,null,""]
[null,null,null,null,""]
[null,null,null,null,""]
[null,null,null,null,""]
[null,null,null,null,""]
[null,null,null,null,""]
[null,null,null,null,""]
[null,null,null,null,""]
[null,null,null,null,""]
[null,null,null,null,""]
[null,null,null,null,""]
[null,null,null,null,""]
[null,null,null,null,""]
[null,null,null,null,""]
[null,null,null,null,""]
[null,null,null,null,""]
[null,null,null,null,""]
[null,null,null,null,""]
[null,null,null,null,""]
[null,null,null,null,""]
[null,null,null,null,""]
[null,null,null,null,""]
[null,null,null,null,""]
[null,null,null,null,""]
[null,null,null,null,""]
[null,null,null,null,""]
[null,null,null,null,""]
[null,null,null,null,""]
[null,null,null,null,""]
[null,null,null,null,""]
[null,null,null,null,""]
[null,null,null,null,""]
[null,null,null,null,{"$f":"IF(OR(C4804=\"\",D4804=\"\"),\"\",D4804&\"_\"&C4804)","v":""}]
[null,null,null,null,""]
[null,null,null,null,""]
[null,null,null,null,""]
[null,null,null,null,""]
[null,null,null,null,""]
[null,null,null,null,""]
[null,null,null,null,""]
[null,null,null,null,""]
[null,null,null,null,""]
[null,null,null,null,""]
[null,null,null,null,""]
[null,null,null,null,""]
[null,null,null,null,""]
[null,null,null,null,""]
[null,null,null,null,""]
[null,null,null,null,""]
[null,null,null,null,""]
[null,null,null,null,""]
[null,null,null,null,""]
[null,null,null,null,""]
[null,null,null,null,""]
[null,null,null,null,""]
[null,null,null,null,""]
[null,null,null,null,""]
[null,null,null,null,""]
[null,null,null,null,""]
[null,null,null,null,""]
[null,null,null,null,""]
[null,null,null,null,""]
[null,null,null,null,""]
[null,null,null,null,""]
[null,null,null,null,""]
[null,null,null,null,""]
[null,null,null,null,""]
[null,null,null,null,""]
[null,null,null,null,""]
[null,null,null,null,""]
[null,null,null,null,""]
[null,null,null,null,""]
[null,null,null,null,""]
[null,null,null,null,""]
[null,null,null,null,""]
[null,null,null,null,""]
[null,null,null,null,""]
[null,null,null,null,""]
[null,null,null,null,""]
[null,null,null,null,""]
[null,null,null,null,""]
[null,null,null,null,""]
[null,null,null,null,""]
[null,null,null,null,""]
[null,null,null,null,""]
[null,null,null,null,""]
[null,null,null,null,""]
[null,null,null,null,""]
[null,null,null,null,""]
[null,null,null,null,""]
[null,null,null,null,""]
[null,null,null,null,""]
[null,null,null,null,""]
[null,null,null,null,""]
[null,null,null,null,""]
[null,null,null,null,""]
[null,null,null,null,{"$f":"IF(OR(C4868=\"\",D4868=\"\"),\"\",D4868&\"_\"&C4868)","v":""}]
[null,null,null,null,""]
[null,null,null,null,""]
[null,null,null,null,""]
[null,null,null,null,""]
[null,null,null,null,""]
[null,null,null,null,""]
[null,null,null,null,""]
[null,null,null,null,""]
[null,null,null,null,""]
[null,null,null,null,""]
[null,null,null,null,""]
[null,null,null,null,""]
[null,null,null,null,""]
[null,null,null,null,""]
[null,null,null,null,""]
[null,null,null,null,""]
[null,null,null,null,""]
[null,null,null,null,""]
[null,null,null,null,""]
[null,null,null,null,""]
[null,null,null,null,""]
[null,null,null,null,""]
[null,null,null,null,""]
[null,null,null,null,""]
[null,null,null,null,""]
[null,null,null,null,""]
[null,null,null,null,""]
[null,null,null,null,""]
[null,null,null,null,""]
[null,null,null,null,""]
[null,null,null,null,""]
[null,null,null,null,""]
[null,null,null,null,""]
[null,null,null,null,""]
[null,null,null,null,""]
[null,null,null,null,""]
[null,null,null,null,""]
[null,null,null,null,""]
[null,null,null,null,""]
[null,null,null,null,""]
[null,null,null,null,""]
[null,null,null,null,""]
[null,null,null,null,""]
[null,null,null,null,""]
[null,null,null,null,""]
[null,null,null,null,""]
[null,null,null,null,""]
[null,null,null,null,""]
[null,null,null,null,""]
[null,null,null,null,""]
[null,null,null,null,""]
[null,null,null,null,""]
[null,null,null,null,""]
[null,null,null,null,""]
[null,null,null,null,""]
[null,null,null,null,""]
[null,null,null,null,""]
[null,null,null,null,""]
[null,null,null,null,""]
[null,null,null,null,""]
[null,null,null,null,""]
[null,null,null,null,""]
[null,null,null,null,""]
[null,null,null,null,{"$f":"IF(OR(C4932=\"\",D4932=\"\"),\"\",D4932&\"_\"&C4932)","v":""}]
[null,null,null,null,""]
[null,null,null,null,""]
[null,null,null,null,""]
[null,null,null,null,""]
[null,null,null,null,""]
[null,null,null,null,""]
[null,null,null,null,""]
[null,null,null,null,""]
[null,null,null,null,""]
[null,null,null,null,""]
[null,null,null,null,""]
[null,null,null,null,""]
[null,null,null,null,""]
[null,null,null,null,""]
[null,null,null,null,""]
[null,null,null,null,""]
[null,null,null,null,""]
[null,null,null,null,""]
[null,null,null,null,""]
[null,null,null,null,""]
[null,null,null,null,""]
[null,null,null,null,""]
[null,null,null,null,""]
[null,null,null,null,""]
[null,null,null,null,""]
[null,null,null,null,""]
[null,null,null,null,""]
[null,null,null,null,""]
[null,null,null,null,""]
[null,null,null,null,""]
[null,null,null,null,""]
[null,null,null,null,""]
[null,null,null,null,""]
[null,null,null,null,""]
[null,null,null,null,""]
[null,null,null,null,""]
[null,null,null,null,""]
[null,null,null,null,""]
[null,null,null,null,""]
[null,null,null,null,""]
[null,null,null,null,""]
[null,null,null,null,""]
[null,null,null,null,""]
[null,null,null,null,""]
[null,null,null,null,""]
[null,null,null,null,""]
[null,null,null,null,""]
[null,null,null,null,""]
[null,null,null,null,""]
[null,null,null,null,""]
[null,null,null,null,""]
[null,null,null,null,""]
[null,null,null,null,""]
[null,null,null,null,""]
[null,null,null,null,""]
[null,null,null,null,""]
[null,null,null,null,""]
[null,null,null,null,""]
[null,null,null,null,""]
[null,null,null,null,""]
[null,null,null,null,""]
[null,null,null,null,""]
[null,null,null,null,""]
[null,null,null,null,{"$f":"IF(OR(C4996=\"\",D4996=\"\"),\"\",D4996&\"_\"&C4996)","v":""}]
[null,null,null,null,""]
[null,null,null,null,""]
[null,null,null,null,""]
[null,null,null,null,""]

{"sheet":"Template","index":3,"n_rows":2,"n_cols":10,"rows_kept":2,"cut":false,"hidden":false,"merged":[]}
["Totals",null,null,null,null,{"$f":"SUM(F3:F500)","v":0},null,{"$f":"SUM(H3:H500)","v":0}]
["Client","Project","Date","Start","Finish","Hours","Rate","Extended","Invoice #","Details"]