{"text_format":"1","workbook":"xlsx","n_sheets":12,"sheets":["Inputs","SULL2","DFG2","Store Rank PTD","Store Rank Count PTD","Store Rank Count QTD YTD","Chart list","Slide list","Ops Item list","Database PTD","Stores","Dates"],"not_rendered":{"charts":11,"images":0,"macros":1,"external_links":2,"defined_names":30,"comments":1,"pivot_tables":11},"unopened":[],"bounds":{"document_bytes":16777216,"sheet_cells":100000,"rows_first":2000,"rows_last":500,"rows_between":2000,"halvings":0,"cell_chars":16384,"cell_head_chars":4096},"cells_cut":0,"cells_raw":0,"read":"whole","date_system":"1900"}

{"sheet":"Inputs","index":0,"n_rows":8,"n_cols":7,"rows_kept":8,"cut":false,"hidden":false,"merged":[]}
[null,"CY","PY",null,null,"Year","Label"]
["Period",9,null,null,null,{"$f":"B3","v":2017},"CY"]
["Year",2017,{"$f":"B3-1","v":2016},null,null,{"$f":"F2-1","v":2016},"PY"]
["Quarter",{"$f":"IF(B2>9,4,IF(B2>6,3,IF(B2>3,2,1)))","v":3},null,null,null,{"$f":"F3-1","v":2015},"PY2"]
["EOP Date","2017-09-05","2016-09-06"]
[]
["Update:","PTD"]
["2-digit year",{"$f":"RIGHT(B3,2)","v":"17"},{"$f":"RIGHT(C3,2)","v":"16"}]

{"sheet":"SULL2","index":1,"n_rows":38,"n_cols":19,"rows_kept":38,"cut":false,"hidden":true,"merged":[[0,0,0,2],[0,4,0,6],[0,8,0,10],[0,12,0,14],[0,17,3,32]]}
["oSat",null,null,null,"Recommend",null,null,null,"Pace",null,null,null,"Food Quality",null,null,null,null,"InMoment Trends - Sullivan's"]
["Brand","SULL",null,null,"Brand","SULL",null,null,"Brand","SULL",null,null,"Brand","SULL"]
[]
["Average of Overall Sat.","Column Labels",null,null,"Average of Recommend","Column Labels",null,null,"Average of Pace of dining","Column Labels",null,null,"Average of Quality of food","Column Labels"]
["Row Labels",2015,2016,2017,"Row Labels",2015,2016,2017,"Row Labels",2015,2016,2017,"Row Labels",2015,2016,2017]
[1,null,68.260229276895956,71.078056768558952,1,null,0,0,1,null,71.258201058201067,74.130458515283848,1,null,73.545326278659601,75.232751091703051]
[2,null,69.063153904473097,71.966726943942135,2,null,0,0,2,null,70.96755117513267,73.686618444846303,2,null,75.658453373768012,76.400904159131997]
[3,null,76.203039513677808,78.149819059107358,3,null,0,0,3,null,75.486119554204663,81.052714113389641,3,null,77.901823708206678,80.699758745476487]
[4,null,74.722231614539297,85.804705882352934,4,null,0,0,4,null,76.583685545224,85.639159663865556,4,null,77.695350803043098,88.391512605041996]
[5,null,71.710299769408152,74.534647550776583,5,null,0,0,5,null,74.485703305149897,78.372879330943874,5,null,75.246656418139892,78.729390681003608]
[6,null,76.073854748603353,75.559682539682555,6,null,0,69.37873015873015,6,null,77.440558659217885,77.78539682539683,6,null,77.769273743016754,76.823333333333323]
[7,null,75.045860566448809,74.910327868852463,7,null,0,69.675737704918035,7,null,77.455664488017433,77.050655737704915,7,null,78.984531590413937,77.564754098360666]
[8,null,77.100472255017721,79.271889400921665,8,null,0,74.815360983102906,8,null,80.887131050767408,81.877726574500784,8,null,78.502715466351816,82.180491551459298]
[9,73.793189557321227,73.10544662309367,77.212554112554102,9,0,0,74.464069264069266,9,77.193757094211122,75.942374727668849,80.395959595959596,9,78.093076049943249,77.8830065359477,80.083261183261186]
[10,71.725495376486123,74.149937264742789,null,10,0,0,null,10,76.227344782034322,73.52873274780427,null,10,76.740026420079261,77.783688833124216]
[11,72.134799999999998,70.294655704008221,null,11,0,0,null,11,75.473866666666666,73.065775950668041,null,11,75.604933333333335,75.235662898252826]
[12,69.655108359133152,72.913547646383464,null,12,0,0,null,12,73.372755417956668,77.166934557979332,null,12,73.05861713106296,75.6686567164179]
[13,68.325894736842102,71.56742671009772,null,13,0,0,null,13,72.009052631578953,71.876330076004351,null,13,77.487684210526297,75.348859934853408]
["Grand Total",71.126897605956515,73.093088892106934,76.498712236305423,"Grand Total",0,0,32.037099790091155,"Grand Total",74.855355318489543,75.088058684310752,78.887952089099045,"Grand Total",76.196867428989009,76.709538946168905,79.567350827641292]
[]
[]
[]
[]
[]
[]
[]
[]
[]
[]
[]
[]
[]
[]
[]
[]
[]
[]
[null,null,null,null,null,null,null,null,null,null,null,null,null,null,null,null,null,null,"Source: InMoment Summary Report"]

{"sheet":"DFG2","index":2,"n_rows":38,"n_cols":19,"rows_kept":38,"cut":false,"hidden":true,"merged":[[0,0,0,2],[0,4,0,6],[0,8,0,10],[0,12,0,14],[0,17,3,32]]}
["oSat",null,null,null,"Recommend",null,null,null,"Pace",null,null,null,"Food Quality",null,null,null,null,"InMoment Trends - Del Frisco's Grille"]
["Brand","DFG",null,null,"Brand","DFG",null,null,"Brand","DFG",null,null,"Brand","DFG"]
[]
["Average of Overall Sat.","Column Labels",null,null,"Average of Recommend","Column Labels",null,null,"Average of Pace of dining","Column Labels",null,null,"Average of Quality of food","Column Labels"]
["Row Labels",2015,2016,2017,"Row Labels",2015,2016,2017,"Row Labels",2015,2016,2017,"Row Labels",2015,2016,2017]
[1,null,68.316125419932803,69.964477933261577,1,null,0,0,1,null,73.907278835386336,72.005274488697523,1,null,71.234378499440098,73.963616792249724]
[2,null,65.113457076566121,69.108293612964715,2,null,0,0,2,null,71.776488785769544,74.177788369876083,2,null,68.91415313225059,71.597616777883701]
[3,null,74.486960600375241,77.523884514435693,3,null,0,0,3,null,75.794840525328325,78.562554680664903,3,null,76.252532833020638,78.745231846019266]
[4,null,67.87892116182573,86.687697805002557,4,null,0,0,4,null,70.880746887966794,87.599744767738642,4,null,71.120663900414939,86.213476263399698]
[5,null,71.187224669603523,80.067691095350654,5,null,0,0,5,null,73.750925110132144,81.022458628841605,5,null,74.181409691629966,81.482663514578405]
[6,null,73.969230769230762,74.843060959792481,6,null,0,67.827367055771731,6,null,75.979881656804736,77.82632944228277,6,null,76.088284023668635,78.079896238651116]
[7,null,72.911314285714269,79.157675244010647,7,null,0,70.267080745341644,7,null,75.646628571428579,81.549334516415271,7,null,73.718857142857146,80.924134871339845]
[8,null,74.167891891891898,78.733741648106886,8,null,0,73.829398663697106,8,null,74.700432432432436,79.851670378619161,8,null,75.245513513513515,79.062806236080178]
[9,66.168822553897172,70.148303393213581,73.499263932702405,9,0,0,66.353207150368036,9,70.475953565505804,72.951497005988017,76.451104100946367,9,69.654726368159203,74.656586826347308,78.328180862250264]
[10,62.766732673267327,70.393154761904768,null,10,0,0,null,10,65.739801980198024,73.514285714285705,null,10,64.361584158415852,74.416815476190479]
[11,61.105555555555561,73.721428571428561,null,11,0,0,null,11,64.235763888888869,74.122641509433961,null,11,62.838715277777773,75.478975741239893]
[12,58.668088235294121,69.793364928909952,null,12,0,0,null,12,65.450147058823532,72.274644549763039,null,12,63.668235294117636,72.627251184834137]
[13,64.048119469026545,68.744595910418695,null,13,0,0,null,13,68.574446902654856,72.058130477117828,null,13,67.154314159292042,75.276436222005856]
["Grand Total",62.551463697408145,70.833228726231994,76.620642971736402,"Grand Total",0,0,30.919672623908721,"Grand Total",66.895222679214214,73.642955543218264,78.782917708231366,"Grand Total",65.535515051552494,73.785527552877923,78.7108470447169]
[]
[]
[]
[]
[]
[]
[]
[]
[]
[]
[]
[]
[]
[]
[]
[]
[]
[]
[null,null,null,null,null,null,null,null,null,null,null,null,null,null,null,null,null,null,"Source: InMoment Summary Report"]

{"sheet":"Store Rank PTD","index":3,"n_rows":13,"n_cols":9,"rows_kept":13,"cut":false,"hidden":false,"merged":[]}
["Type","DFDE",null,null,null,null,null,"Min axis",{"$f":"IF(K1=\"\",VLOOKUP(B1&\"_\"&A4,'Chart list'!$N:$P,2,FALSE),K1)","v":40}]
["Status","Open",null,null,null,null,null,"Max axis",{"$f":"IF(K2=\"\",VLOOKUP(B1&\"_\"&A4,'Chart list'!$N:$P,3,FALSE),K2)","v":"Auto"}]
[null,null,null,null,null,null,null,"Decimals",{"$f":"IF(K3=\"\",VLOOKUP(B1&\"_\"&A4,'Chart list'!$N:$Q,4,FALSE),K3)","v":1}]
["Sum of Overall Sat.","Column Labels"]
["Row Labels","2014-08","2013-08"]
["Orlando, FL",86.2,75]
["Denver, CO",85.6,73.900000000000006]
["Fort Worth, TX",79.5,77.3]
["New York City, NY",73.900000000000006,70.8]
["Houston, TX",72,75]
["Charlotte, NC",70.8,72.2]
["Philadelphia, PA",70.599999999999994,76.3]
["Boston, MA",67.8,68.8]

{"sheet":"Store Rank Count PTD","index":4,"n_rows":5,"n_cols":2,"rows_kept":5,"cut":false,"hidden":true,"merged":[]}
["Type","DFG"]
["Status","Open"]
[]
["Sum of # of Surveys","Column Labels"]
["Row Labels"]

{"sheet":"Store Rank Count QTD YTD","index":5,"n_rows":18,"n_cols":3,"rows_kept":18,"cut":false,"hidden":true,"merged":[]}
["Type","DFDE"]
["Status","Open"]
[]
["Sum of # of Surveys","Column Labels"]
["Row Labels","'17 Q2 QTD","'16 Q2 QTD"]
["New York City, NY",462,713]
["Fort Worth, TX",408,514]
["Philadelphia, PA",406,461]
["Denver, CO",320,349]
["Boston, MA",279,380]
["Charlotte, NC",285,281]
["Washington, DC",179,220]
["Las Vegas, NV",177,212]
["Houston, TX",164,177]
["Orlando, FL",137,124]
["Chicago, IL",81,134]
["Plano, TX",183]
["Dallas, TX",158]

{"sheet":"Chart list","index":6,"n_rows":25,"n_cols":21,"rows_kept":25,"cut":false,"hidden":false,"merged":[]}
["Slide #","Content","Brand","Metric label","Column #","Column Label","Order","Low","High","Chart Sheet","Notes",null,null,"Brand_Label","Low","High","Decimals"]
[1,"oSat","DFDE",{"$f":"\"OSAT - Q\"&Inputs!$B$4&\" '\"&Inputs!$B$8&\" vs. Q\"&Inputs!$B$4&\" '\"&Inputs!$C$8","v":"OSAT - Q3 '17 vs. Q3 '16"},"C","Overall Sat.","Descending",40,"Auto","Store Rank",null,null,null,{"$f":"C2&\"_\"&\"Sum of \"&F2","v":"DFDE_Sum of Overall Sat."},{"$f":"H2","v":40},{"$f":"I2","v":"Auto"},1,null,null,45,100]
[{"$f":"A2+1","v":2},"% Low","DFDE",{"$f":"\"% of Low Scores - Q\"&Inputs!$B$4&\" '\"&Inputs!$B$8&\" vs. Q\"&Inputs!$B$4&\" '\"&Inputs!$C$8","v":"% of Low Scores - Q3 '17 vs. Q3 '16"},"L","% of Low Scores","Ascending","Auto","Auto","Store Rank",null,null,null,{"$f":"C3&\"_\"&\"Sum of \"&F3","v":"DFDE_Sum of % of Low Scores"},{"$f":"H3","v":"Auto"},{"$f":"I3","v":"Auto"},1,null,null,0,30]
[{"$f":"A3+1","v":3},"Pace","DFDE",{"$f":"\"Pace of Dining -  Q\"&Inputs!$B$4&\" '\"&Inputs!$B$8&\" vs. Q\"&Inputs!$B$4&\" '\"&Inputs!$C$8","v":"Pace of Dining -  Q3 '17 vs. Q3 '16"},"G","Pace of dining","Descending",40,"Auto","Store Rank",null,null,null,"DFDE_Sum of Pace of dining",40,"Auto",1,null,null,40,90]
[{"$f":"A4+1","v":4},"Food","DFDE",{"$f":"\"Quality of Food -  Q\"&Inputs!$B$4&\" '\"&Inputs!$B$8&\" vs. Q\"&Inputs!$B$4&\" '\"&Inputs!$C$8","v":"Quality of Food -  Q3 '17 vs. Q3 '16"},"H","Quality of food","Descending",40,"Auto","Store Rank",null,null,null,"DFDE_Sum of Quality of food",40,"Auto",1,null,null,40,90]
[{"$f":"A5+1","v":5},"Recommend","DFDE",{"$f":"\"Recommend -  Q\"&Inputs!$B$4&\" '\"&Inputs!$B$8&\" vs. Q\"&Inputs!$B$4&\" '\"&Inputs!$C$8","v":"Recommend -  Q3 '17 vs. Q3 '16"},"D","Recommend (NPS)","Descending","Auto","Auto","Store Rank",null,null,null,"DFDE_Sum of Recommend (NPS)","Auto","Auto",1,null,null,0,100]
[{"$f":"A6+1","v":6},"oSat","SULL",{"$f":"\"OSAT - Q\"&Inputs!$B$4&\" '\"&Inputs!$B$8&\" vs. Q\"&Inputs!$B$4&\" '\"&Inputs!$C$8","v":"OSAT - Q3 '17 vs. Q3 '16"},"C","Overall Sat.","Descending",40,"Auto","Store Rank",null,null,null,"SULL_Sum of Overall Sat.",40,"Auto",1,null,null,45,100]
[7,"% Low","SULL",{"$f":"\"% of Low Scores - Q\"&Inputs!$B$4&\" '\"&Inputs!$B$8&\" vs. Q\"&Inputs!$B$4&\" '\"&Inputs!$C$8","v":"% of Low Scores - Q3 '17 vs. Q3 '16"},"L","% of Low Scores","Ascending","Auto","Auto","Store Rank",null,null,null,"SULL_Sum of % of Low Scores","Auto","Auto",1,null,null,0,30]
[8,"Pace","SULL",{"$f":"\"Pace of Dining -  Q\"&Inputs!$B$4&\" '\"&Inputs!$B$8&\" vs. Q\"&Inputs!$B$4&\" '\"&Inputs!$C$8","v":"Pace of Dining -  Q3 '17 vs. Q3 '16"},"G","Pace of dining","Descending",40,"Auto","Store Rank",null,null,null,"SULL_Sum of Pace of dining",40,"Auto",1,null,null,40,90]
[9,"Food","SULL",{"$f":"\"Quality of Food -  Q\"&Inputs!$B$4&\" '\"&Inputs!$B$8&\" vs. Q\"&Inputs!$B$4&\" '\"&Inputs!$C$8","v":"Quality of Food -  Q3 '17 vs. Q3 '16"},"H","Quality of food","Descending",40,"Auto","Store Rank",null,null,null,"SULL_Sum of Quality of food",40,"Auto",1,null,null,40,90]
[10,"Recommend","SULL",{"$f":"\"Recommend -  Q\"&Inputs!$B$4&\" '\"&Inputs!$B$8&\" vs. Q\"&Inputs!$B$4&\" '\"&Inputs!$C$8","v":"Recommend -  Q3 '17 vs. Q3 '16"},"D","Recommend (NPS)","Descending","Auto","Auto","Store Rank",null,null,null,"SULL_Sum of Recommend (NPS)","Auto","Auto",1,null,null,0,100]
[11,"oSat","DFG",{"$f":"\"OSAT - Q\"&Inputs!$B$4&\" '\"&Inputs!$B$8&\" vs. Q\"&Inputs!$B$4&\" '\"&Inputs!$C$8","v":"OSAT - Q3 '17 vs. Q3 '16"},"C","Overall Sat.","Descending",40,"Auto","Store Rank",null,null,null,"DFG_Sum of Overall Sat.",40,"Auto",1,null,null,45,100]
[12,"% Low","DFG",{"$f":"\"% of Low Scores - Q\"&Inputs!$B$4&\" '\"&Inputs!$B$8&\" vs. Q\"&Inputs!$B$4&\" '\"&Inputs!$C$8","v":"% of Low Scores - Q3 '17 vs. Q3 '16"},"L","% of Low Scores","Ascending","Auto","Auto","Store Rank",null,null,null,"DFG_Sum of % of Low Scores","Auto","Auto",1,null,null,0,30]
[13,"Pace","DFG",{"$f":"\"Pace of Dining -  Q\"&Inputs!$B$4&\" '\"&Inputs!$B$8&\" vs. Q\"&Inputs!$B$4&\" '\"&Inputs!$C$8","v":"Pace of Dining -  Q3 '17 vs. Q3 '16"},"G","Pace of dining","Descending",40,"Auto","Store Rank",null,null,null,"DFG_Sum of Pace of dining",40,"Auto",1,null,null,40,90]
[14,"Food","DFG",{"$f":"\"Quality of Food -  Q\"&Inputs!$B$4&\" '\"&Inputs!$B$8&\" vs. Q\"&Inputs!$B$4&\" '\"&Inputs!$C$8","v":"Quality of Food -  Q3 '17 vs. Q3 '16"},"H","Quality of food","Descending",40,"Auto","Store Rank",null,null,null,"DFG_Sum of Quality of food",40,"Auto",1,null,null,40,90]
[15,"Recommend","DFG",{"$f":"\"Recommend -  Q\"&Inputs!$B$4&\" '\"&Inputs!$B$8&\" vs. Q\"&Inputs!$B$4&\" '\"&Inputs!$C$8","v":"Recommend -  Q3 '17 vs. Q3 '16"},"D","Recommend (NPS)","Descending","Auto","Auto","Store Rank",null,null,null,"DFG_Sum of Recommend (NPS)","Auto","Auto",1,null,null,0,100]
[16,"Survey rate","DFDE",{"$f":"\"Surveys Per 100 Entrees -  Q\"&Inputs!$B$4&\" '\"&Inputs!$B$8&\" vs. Q\"&Inputs!$B$4&\" '\"&Inputs!$C$8","v":"Surveys Per 100 Entrees -  Q3 '17 vs. Q3 '16"},"Q","# of Surveys","Descending","Auto","Auto","Store Rank","Separate chart due to dual axis",null,null,{"$f":"C17&\"_\"&\"Sum of \"&F17","v":"DFDE_Sum of # of Surveys"},{"$f":"H17","v":"Auto"},"Auto",0,null,null,"Auto","Auto"]
[17,"Survey rate","SULL",{"$f":"\"Surveys Per 100 Entrees -  Q\"&Inputs!$B$4&\" '\"&Inputs!$B$8&\" vs. Q\"&Inputs!$B$4&\" '\"&Inputs!$C$8","v":"Surveys Per 100 Entrees -  Q3 '17 vs. Q3 '16"},"Q","# of Surveys","Descending","Auto","Auto","Store Rank","Separate chart due to dual axis",null,null,"SULL_Sum of # of Surveys","Auto","Auto",0,null,null,"Auto","Auto"]
[18,"Survey rate","DFG",{"$f":"\"Surveys Per 100 Entrees -  Q\"&Inputs!$B$4&\" '\"&Inputs!$B$8&\" vs. Q\"&Inputs!$B$4&\" '\"&Inputs!$C$8","v":"Surveys Per 100 Entrees -  Q3 '17 vs. Q3 '16"},"Q","# of Surveys","Descending","Auto","Auto","Store Rank","Separate chart due to dual axis",null,null,"DFG_Sum of # of Surveys","Auto","Auto",0,null,null,"Auto","Auto"]
[19,"Count","DFDE",{"$f":"\"# of Surveys -  Q\"&Inputs!$B$4&\" '\"&Inputs!$B$8&\" vs. Q\"&Inputs!$B$4&\" '\"&Inputs!$C$8","v":"# of Surveys -  Q3 '17 vs. Q3 '16"},"O","Surveys Per 100 Entrees","Descending","Auto","Auto","Store Rank","Separate chart due to dual axis",null,null,"DFDE_Sum of Surveys Per 100 Entrees","Auto","Auto",2,null,null,"Auto","Auto"]
[20,"Count","SULL",{"$f":"\"# of Surveys -  Q\"&Inputs!$B$4&\" '\"&Inputs!$B$8&\" vs. Q\"&Inputs!$B$4&\" '\"&Inputs!$C$8","v":"# of Surveys -  Q3 '17 vs. Q3 '16"},"O","Surveys Per 100 Entrees","Descending","Auto","Auto","Store Rank","Separate chart due to dual axis",null,null,"SULL_Sum of Surveys Per 100 Entrees","Auto","Auto",2,null,null,"Auto","Auto"]
[21,"Count","DFG",{"$f":"\"# of Surveys -  Q\"&Inputs!$B$4&\" '\"&Inputs!$B$8&\" vs. Q\"&Inputs!$B$4&\" '\"&Inputs!$C$8","v":"# of Surveys -  Q3 '17 vs. Q3 '16"},"O","Surveys Per 100 Entrees","Descending","Auto","Auto","Store Rank","Separate chart due to dual axis",null,null,"DFG_Sum of Surveys Per 100 Entrees","Auto","Auto",2,null,null,"Auto","Auto"]
[]
[]
[null,null,null,"Surveys Per 100 Entrees"]

{"sheet":"Slide list","index":7,"n_rows":2,"n_cols":4,"rows_kept":2,"cut":false,"hidden":true,"merged":[]}
["Slide #","Slide content","Slide title","Slide title dynamic"]
[34,"DFDE InMoment Trends (quad chart)","InMoment Trends","No"]

{"sheet":"Ops Item list","index":8,"n_rows":25,"n_cols":12,"rows_kept":25,"cut":false,"hidden":true,"merged":[]}
["Item #","Slide #","Item type","Item content","Text","Dynamic","Paste type","Slide item ID","Height","Width","Left","Top"]
[1,34,"Text box","DFDE Overall Satisfaction","Overall Satisfaction","No",null,"Text Placeholder 1",0.42,5.93,0.5,1.19]
[{"$f":"A2+1","v":2},34,"Chart","DFDE Overall Satisfaction chart",null,"Yes","ppPastePNG","Content Placeholder 10",2.25,5.93,0.5,1.64]
[3,34,"Text box","DFDE Pace of Dining","Pace of Dining","No",null,"Text Placeholder 2",0.42,5.93,6.87,1.19]
[4,34,"Chart","DFDE Pace of Dining Chart",null,"Yes","ppPastePNG","Content Placeholder 11",2.25,5.93,6.87,1.64]
[5,34,"Text box","DFDE Recommend","Recommend","No",null,"Text Placeholder 4",0.42,5.93,0.51,4.1900000000000004]
[6,34,"Chart","DFDE Recommend Chart",null,"Yes","ppPastePNG","Content Placeholder 13",2.25,5.93,0.5,4.6399999999999997]
[7,34,"Text box","DFDE Food Quality","Food Quality","No",null,"Text Placeholder 6",0.42,5.93,6.87,4.1900000000000004]
[8,34,"Chart","DFDE Food Quality Chart",null,"Yes","ppPastePNG","Content Placeholder 14",2.25,5.93,6.87,4.6399999999999997]
[{"$f":"A9+1","v":9},42,"Text box","SULL Overall Satisfaction","Overall Satisfaction","No",null,"Text Placeholder 1",0.42,5.93,0.5,1.19]
[10,42,"Chart","SULL Overall Satisfaction chart",null,"Yes","ppPastePNG","Content Placeholder 12",2.25,5.93,0.5,1.64]
[11,42,"Text box","SULL Pace of Dining","Pace of Dining","No",null,"Text Placeholder 2",0.42,5.93,6.87,1.19]
[12,42,"Chart","SULL Pace of Dining Chart",null,"Yes","ppPastePNG","Content Placeholder 15",2.25,5.93,6.87,1.64]
[13,42,"Text box","SULL Recommend","Recommend","No",null,"Text Placeholder 4",0.42,5.93,0.51,4.1900000000000004]
[14,42,"Chart","SULL Recommend Chart",null,"Yes","ppPastePNG","Content Placeholder 16",2.25,5.93,0.5,4.6399999999999997]
[15,42,"Text box","SULL Food Quality","Food Quality","No",null,"Text Placeholder 6",0.42,5.93,6.87,4.1900000000000004]
[16,42,"Chart","SULL Food Quality Chart",null,"Yes","ppPastePNG","Content Placeholder 17",2.25,5.93,6.87,4.6399999999999997]
[17,50,"Text box","DFG Overall Satisfaction","Overall Satisfaction","No",null,"Text Placeholder 1",0.42,5.93,0.5,1.19]
[18,50,"Chart","DFG Overall Satisfaction chart",null,"Yes","ppPastePNG","Content Placeholder 12",2.25,5.93,0.5,1.64]
[19,50,"Text box","DFG Pace of Dining","Pace of Dining","No",null,"Text Placeholder 2",0.42,5.93,6.87,1.19]
[20,50,"Chart","DFG Pace of Dining Chart",null,"Yes","ppPastePNG","Content Placeholder 15",2.25,5.93,6.87,1.64]
[21,50,"Text box","DFG Recommend","Recommend","No",null,"Text Placeholder 4",0.42,5.93,0.51,4.1900000000000004]
[22,50,"Chart","DFG Recommend Chart",null,"Yes","ppPastePNG","Content Placeholder 16",2.25,5.93,0.5,4.6399999999999997]
[23,50,"Text box","DFG Food Quality","Food Quality","No",null,"Text Placeholder 6",0.42,5.93,6.87,4.1900000000000004]
[24,50,"Chart","DFG Food Quality Chart",null,"Yes","ppPastePNG","Content Placeholder 17",2.25,5.93,6.87,4.6399999999999997]

{"sheet":"Database PTD","index":9,"n_rows":1762,"n_cols":28,"rows_kept":1762,"cut":false,"hidden":false,"merged":[]}
["Location","Start Date","Overall Sat.","Recommend","Recommend (NPS)","Attentiveness","Hospitality","Pace of dining","Quality of food","Atmosphere","Value","% Yes - Manager Visits","% of Low Scores","# Open Call Backs","Comments","# of Surveys","Store","Month","Year","Type","Year_Period","Status","IM Label","Traffic","Surveys Per 100 Entrees",null,"Traffic formula",{"$f":"SUMIFS([2]Database!$L:$L,[2]Database!$H:$H,\"Traffic\",[2]Database!$B:$B,$Q1,[2]Database!$F:$F,$S1,[2]Database!$D:$D,$R1)","v":{"$error":"#VALUE!"}}]
["8501 - Austin, TX - Sullivan's","",50,64.3,0,64.3,50,64.3,71.400000000000006,64.3,"",92.9,28.6,0,12,14,{"$f":"MID(A2,1,4)*1","v":8501},1,2012,{"$f":"VLOOKUP(Q2,Stores!$A:$B,2,FALSE)","v":"SULL"},{"$f":"S2&\"-\"&REPT(\"0\",2-LEN(R2))&R2","v":"2012-01"},{"$f":"VLOOKUP($Q2,Stores!$A:$D,4,FALSE)","v":"Open"},{"$f":"VLOOKUP(Q2,Stores!$A:$C,3,FALSE)","v":"Austin, TX"},6062,{"$f":"P2/(X2/100)","v":0.23094688221709009}]
["8502 - Indianapolis, IN - Sullivan's","",66.2,70.400000000000006,0,77.5,83.1,66.2,73.2,69,"",70.400000000000006,8.5,0,51,71,{"$f":"MID(A3,1,4)*1","v":8502},1,2012,{"$f":"VLOOKUP(Q3,Stores!$A:$B,2,FALSE)","v":"SULL"},{"$f":"S3&\"-\"&REPT(\"0\",2-LEN(R3))&R3","v":"2012-01"},{"$f":"VLOOKUP($Q3,Stores!$A:$D,4,FALSE)","v":"Open"},{"$f":"VLOOKUP(Q3,Stores!$A:$C,3,FALSE)","v":"Indianapolis, IN"},7492,{"$f":"P3/(X3/100)","v":0.94767752269087024}]
["8503 - Denver, CO - Sullivan's","",80.8,80.8,0,88.5,88.5,76.900000000000006,84.6,80.8,"",69.2,11.5,0,17,26,8503,1,2012,{"$f":"VLOOKUP(Q4,Stores!$A:$B,2,FALSE)","v":"SULL"},"2012-01",{"$f":"VLOOKUP($Q4,Stores!$A:$D,4,FALSE)","v":"Closed"},{"$f":"VLOOKUP(Q4,Stores!$A:$C,3,FALSE)","v":"Denver, CO"},2880,0.90277777777777779]
["8504 - Houston, TX - Sullivan's","",80.8,80.8,0,84.6,88.5,84.6,96.2,76.900000000000006,"",76.900000000000006,0,0,17,26,8504,1,2012,{"$f":"VLOOKUP(Q5,Stores!$A:$B,2,FALSE)","v":"SULL"},"2012-01",{"$f":"VLOOKUP($Q5,Stores!$A:$D,4,FALSE)","v":"Closed"},{"$f":"VLOOKUP(Q5,Stores!$A:$C,3,FALSE)","v":"Houston, TX"},3832,0.67849686847599167]
["8510 - Wilmington, DE - Sullivan's","",58.7,76,0,77.3,81.3,65.3,73.3,69.3,"",76,6.7,0,57,75,8510,1,2012,{"$f":"VLOOKUP(Q6,Stores!$A:$B,2,FALSE)","v":"SULL"},"2012-01",{"$f":"VLOOKUP($Q6,Stores!$A:$D,4,FALSE)","v":"Open"},{"$f":"VLOOKUP(Q6,Stores!$A:$C,3,FALSE)","v":"Wilmington, DE"},5555,1.3501350135013501]
["8522 - King of Prussia, PA - Sullivan's","",48.1,55.8,0,63.5,69.2,50,46.2,42.3,"",71.2,9.6,0,45,52,8522,1,2012,{"$f":"VLOOKUP(Q7,Stores!$A:$B,2,FALSE)","v":"SULL"},"2012-01",{"$f":"VLOOKUP($Q7,Stores!$A:$D,4,FALSE)","v":"Open"},{"$f":"VLOOKUP(Q7,Stores!$A:$C,3,FALSE)","v":"King of Prussia, PA"},6655,0.7813673929376409]
["8525 - Tucson, AZ - Sullivan's","",90.5,90.5,0,100,100,85.7,90.5,85.7,"",71.400000000000006,0,0,18,21,8525,1,2012,{"$f":"VLOOKUP(Q8,Stores!$A:$B,2,FALSE)","v":"SULL"},"2012-01",{"$f":"VLOOKUP($Q8,Stores!$A:$D,4,FALSE)","v":"Open"},{"$f":"VLOOKUP(Q8,Stores!$A:$C,3,FALSE)","v":"Tucson, AZ"},3814,0.5506030414263241]
["8532 - Omaha, NE - Sullivan's","",69,72.400000000000006,0,75.900000000000006,75.900000000000006,72.400000000000006,65.5,69,"",75.900000000000006,13.8,2,21,29,8532,1,2012,{"$f":"VLOOKUP(Q9,Stores!$A:$B,2,FALSE)","v":"SULL"},"2012-01",{"$f":"VLOOKUP($Q9,Stores!$A:$D,4,FALSE)","v":"Open"},{"$f":"VLOOKUP(Q9,Stores!$A:$C,3,FALSE)","v":"Omaha, NE"},4046,0.71675729115175479]
["8535 - Baltimore, MD - Sullivan's","",64.3,71.400000000000006,0,64.3,85.7,57.1,78.599999999999994,71.400000000000006,"",71.400000000000006,14.3,0,9,14,8535,1,2012,{"$f":"VLOOKUP(Q10,Stores!$A:$B,2,FALSE)","v":"SULL"},"2012-01",{"$f":"VLOOKUP($Q10,Stores!$A:$D,4,FALSE)","v":"Open"},{"$f":"VLOOKUP(Q10,Stores!$A:$C,3,FALSE)","v":"Baltimore, MD"},4074,0.3436426116838488]
["8536 - Leawood, KS - Sullivan's","",68.400000000000006,73.7,0,74.400000000000006,81.2,67.7,70.7,72.2,"",87.2,9,0,100,133,8536,1,2012,{"$f":"VLOOKUP(Q11,Stores!$A:$B,2,FALSE)","v":"SULL"},"2012-01",{"$f":"VLOOKUP($Q11,Stores!$A:$D,4,FALSE)","v":"Open"},{"$f":"VLOOKUP(Q11,Stores!$A:$C,3,FALSE)","v":"Leawood, KS"},7335,1.8132242672119974]
["8541 - Chicago, IL - Sullivan's","",46.2,61.5,0,61.5,61.5,61.5,46.2,53.8,"",61.5,30.8,1,12,13,8541,1,2012,{"$f":"VLOOKUP(Q12,Stores!$A:$B,2,FALSE)","v":"SULL"},"2012-01",{"$f":"VLOOKUP($Q12,Stores!$A:$D,4,FALSE)","v":"Open"},{"$f":"VLOOKUP(Q12,Stores!$A:$C,3,FALSE)","v":"Chicago, IL"},2845,0.45694200351493852]
["8542 - Naperville, IL - Sullivan's","",64.8,71.8,0,78.900000000000006,83.1,81.7,74.599999999999994,71.8,"",73.2,1.4,0,55,71,8542,1,2012,{"$f":"VLOOKUP(Q13,Stores!$A:$B,2,FALSE)","v":"SULL"},"2012-01",{"$f":"VLOOKUP($Q13,Stores!$A:$D,4,FALSE)","v":"Open"},{"$f":"VLOOKUP(Q13,Stores!$A:$C,3,FALSE)","v":"Naperville, IL"},6252,1.1356365962891874]
["8543 - Lincolnshire, IL - Sullivan's","",73.3,86.7,0,80,86.7,93.3,80,73.3,"",93.3,0,0,12,15,8543,1,2012,{"$f":"VLOOKUP(Q14,Stores!$A:$B,2,FALSE)","v":"SULL"},"2012-01",{"$f":"VLOOKUP($Q14,Stores!$A:$D,4,FALSE)","v":"Open"},{"$f":"VLOOKUP(Q14,Stores!$A:$C,3,FALSE)","v":"Lincolnshire, IL"},3817,0.3929787791459261]
["8551 - Baton Rouge, LA - Sullivan's","",81.5,87,0,85.9,94.6,87,84.8,83.7,"",91.3,2.2000000000000002,0,71,92,8551,1,2012,{"$f":"VLOOKUP(Q15,Stores!$A:$B,2,FALSE)","v":"SULL"},"2012-01",{"$f":"VLOOKUP($Q15,Stores!$A:$D,4,FALSE)","v":"Open"},{"$f":"VLOOKUP(Q15,Stores!$A:$C,3,FALSE)","v":"Baton Rouge, LA"},5800,1.5862068965517242]
["8561 - Raleigh, NC - Sullivan's","",74.400000000000006,82.1,0,87.2,87.2,74.400000000000006,82.1,66.7,"",71.8,2.6,0,28,39,8561,1,2012,{"$f":"VLOOKUP(Q16,Stores!$A:$B,2,FALSE)","v":"SULL"},"2012-01",{"$f":"VLOOKUP($Q16,Stores!$A:$D,4,FALSE)","v":"Open"},{"$f":"VLOOKUP(Q16,Stores!$A:$C,3,FALSE)","v":"Raleigh, NC"},6148,0.63435263500325312]
["8562 - Charlotte, NC - Sullivan's","",67.099999999999994,79.3,0,73.2,75.599999999999994,67.099999999999994,74.400000000000006,59.8,"",56.1,7.3,0,54,82,8562,1,2012,{"$f":"VLOOKUP(Q17,Stores!$A:$B,2,FALSE)","v":"SULL"},"2012-01",{"$f":"VLOOKUP($Q17,Stores!$A:$D,4,FALSE)","v":"Open"},{"$f":"VLOOKUP(Q17,Stores!$A:$C,3,FALSE)","v":"Charlotte, NC"},6774,1.2105107764983762]
["8570 - Palm Desert, CA - Sullivan's","",80.8,80.8,0,84.6,92.3,76.900000000000006,80.8,73.099999999999994,"",84.6,11.5,0,24,26,8570,1,2012,{"$f":"VLOOKUP(Q18,Stores!$A:$B,2,FALSE)","v":"SULL"},"2012-01",{"$f":"VLOOKUP($Q18,Stores!$A:$D,4,FALSE)","v":"Open"},{"$f":"VLOOKUP(Q18,Stores!$A:$C,3,FALSE)","v":"Palm Desert, CA"},5849,0.44452043084287912]
["8591 - Anchorage, AK - Sullivan's","",78.599999999999994,85.7,0,75,96.4,71.400000000000006,78.599999999999994,78.599999999999994,"",67.900000000000006,7.1,0,25,28,8591,1,2012,{"$f":"VLOOKUP(Q19,Stores!$A:$B,2,FALSE)","v":"SULL"},"2012-01",{"$f":"VLOOKUP($Q19,Stores!$A:$D,4,FALSE)","v":"Open"},{"$f":"VLOOKUP(Q19,Stores!$A:$C,3,FALSE)","v":"Anchorage, AK"},5941,0.47130112775627003]
["8592 - Seattle, WA - Sullivan's","",84.6,87.2,0,92.3,97.4,87.2,94.9,74.400000000000006,"",71.8,0,0,28,39,8592,1,2012,{"$f":"VLOOKUP(Q20,Stores!$A:$B,2,FALSE)","v":"SULL"},"2012-01",{"$f":"VLOOKUP($Q20,Stores!$A:$D,4,FALSE)","v":"Closed"},{"$f":"VLOOKUP(Q20,Stores!$A:$C,3,FALSE)","v":"Seattle, WA"},4818,0.8094645080946451]
["8601 - Dallas, TX - Del Frisco's","",77.8,79.400000000000006,0,82.5,87.3,76.2,82.5,77.8,"",79.400000000000006,6.3,1,47,63,8601,1,2012,{"$f":"VLOOKUP(Q21,Stores!$A:$B,2,FALSE)","v":"DFDE"},"2012-01",{"$f":"VLOOKUP($Q21,Stores!$A:$D,4,FALSE)","v":"Closed"},{"$f":"VLOOKUP(Q21,Stores!$A:$C,3,FALSE)","v":"Dallas, TX"},6112,1.0307591623036649]
["8602 - Fort Worth, TX - Del Frisco's","",80.3,84.7,0,84.7,92,76.599999999999994,86.1,82.5,"",68.599999999999994,8,0,97,137,8602,1,2012,{"$f":"VLOOKUP(Q22,Stores!$A:$B,2,FALSE)","v":"DFDE"},"2012-01",{"$f":"VLOOKUP($Q22,Stores!$A:$D,4,FALSE)","v":"Open"},{"$f":"VLOOKUP(Q22,Stores!$A:$C,3,FALSE)","v":"Fort Worth, TX"},7919,1.7300164162141685]
["8603 - Denver, CO - Del Frisco's","",67.900000000000006,77.400000000000006,0,72.599999999999994,84.5,77.400000000000006,76.2,67.900000000000006,"",52.4,7.1,0,55,84,8603,1,2012,{"$f":"VLOOKUP(Q23,Stores!$A:$B,2,FALSE)","v":"DFDE"},"2012-01",{"$f":"VLOOKUP($Q23,Stores!$A:$D,4,FALSE)","v":"Open"},{"$f":"VLOOKUP(Q23,Stores!$A:$C,3,FALSE)","v":"Denver, CO"},10432,0.80521472392638038]
["8604 - Charlotte, NC - Del Frisco's","",70.099999999999994,76.5,0,78.900000000000006,81.900000000000006,72.099999999999994,78.900000000000006,81.900000000000006,"",54.9,9.8000000000000007,0,157,204,8604,1,2012,{"$f":"VLOOKUP(Q24,Stores!$A:$B,2,FALSE)","v":"DFDE"},"2012-01",{"$f":"VLOOKUP($Q24,Stores!$A:$D,4,FALSE)","v":"Open"},{"$f":"VLOOKUP(Q24,Stores!$A:$C,3,FALSE)","v":"Charlotte, NC"},10112,2.0174050632911391]
["8605 - Houston, TX - Del Frisco's","",77.900000000000006,80.2,0,82.6,87.2,77.900000000000006,84.9,84.9,"",73.3,8.1,1,59,86,8605,1,2012,{"$f":"VLOOKUP(Q25,Stores!$A:$B,2,FALSE)","v":"DFDE"},"2012-01",{"$f":"VLOOKUP($Q25,Stores!$A:$D,4,FALSE)","v":"Open"},{"$f":"VLOOKUP(Q25,Stores!$A:$C,3,FALSE)","v":"Houston, TX"},8909,0.96531597261196544]
["8620 - New York City, NY - Del Frisco's","",75.7,83.6,0,84.7,87.6,80.2,83.1,80.2,"",65.5,5.6,3,135,177,8620,1,2012,{"$f":"VLOOKUP(Q26,Stores!$A:$B,2,FALSE)","v":"DFDE"},"2012-01",{"$f":"VLOOKUP($Q26,Stores!$A:$D,4,FALSE)","v":"Open"},{"$f":"VLOOKUP(Q26,Stores!$A:$C,3,FALSE)","v":"New York City, NY"},20389,0.86811516013536716]
["8635 - Boston, MA - Del Frisco's","",76.599999999999994,81.900000000000006,0,85.1,89.4,75.5,86.2,75.5,"",75.5,5.3,0,69,94,8635,1,2012,{"$f":"VLOOKUP(Q27,Stores!$A:$B,2,FALSE)","v":"DFDE"},"2012-01",{"$f":"VLOOKUP($Q27,Stores!$A:$D,4,FALSE)","v":"Open"},{"$f":"VLOOKUP(Q27,Stores!$A:$C,3,FALSE)","v":"Boston, MA"},9259,1.015228426395939]
["8640 - Las Vegas, NV - Del Frisco's","",73.099999999999994,79.099999999999994,0,74.599999999999994,79.099999999999994,70.099999999999994,77.599999999999994,64.2,"",59.7,9,0,44,67,8640,1,2012,{"$f":"VLOOKUP(Q28,Stores!$A:$B,2,FALSE)","v":"DFDE"},"2012-01",{"$f":"VLOOKUP($Q28,Stores!$A:$D,4,FALSE)","v":"Open"},{"$f":"VLOOKUP(Q28,Stores!$A:$C,3,FALSE)","v":"Las Vegas, NV"},8265,0.81064730792498485]
["8650 - Chicago, IL - Del Frisco's","",81.8,84.8,0,84.8,87.9,81.8,90.9,81.8,"",42.4,9.1,1,27,33,8650,1,2012,{"$f":"VLOOKUP(Q29,Stores!$A:$B,2,FALSE)","v":"DFDE"},"2012-01",{"$f":"VLOOKUP($Q29,Stores!$A:$D,4,FALSE)","v":"Open"},{"$f":"VLOOKUP(Q29,Stores!$A:$C,3,FALSE)","v":"Chicago, IL"},5356,0.61613144137415976]
["8655 - Washington, DC -  Del Frisco's","",47.9,60.6,0,59.6,67,48.9,59.6,63.8,"",59.6,24.5,1,68,94,8655,1,2012,{"$f":"VLOOKUP(Q30,Stores!$A:$B,2,FALSE)","v":"DFDE"},"2012-01",{"$f":"VLOOKUP($Q30,Stores!$A:$D,4,FALSE)","v":"Open"},{"$f":"VLOOKUP(Q30,Stores!$A:$C,3,FALSE)","v":"Washington, DC"},9202,1.0215170615083677]
["8680 - Philadelphia, PA - Del Frisco's","",69.3,77.7,0,78.3,84.3,67.5,78.3,69.3,"",60.2,11.4,0,128,166,8680,1,2012,{"$f":"VLOOKUP(Q31,Stores!$A:$B,2,FALSE)","v":"DFDE"},"2012-01",{"$f":"VLOOKUP($Q31,Stores!$A:$D,4,FALSE)","v":"Open"},{"$f":"VLOOKUP(Q31,Stores!$A:$C,3,FALSE)","v":"Philadelphia, PA"},15498,1.0711059491547297]
["8701 - New York City, NY - Grille","",52.3,75,0,65.900000000000006,68.2,61.4,68.2,50,"",56.8,13.6,0,34,44,8701,1,2012,{"$f":"VLOOKUP(Q32,Stores!$A:$B,2,FALSE)","v":"DFG"},"2012-01",{"$f":"VLOOKUP($Q32,Stores!$A:$D,4,FALSE)","v":"Open"},{"$f":"VLOOKUP(Q32,Stores!$A:$C,3,FALSE)","v":"New York City, NY"},10393,0.42336187818724136]
["8702 - Dallas, TX - Grille","",58.3,87.5,0,79.2,95.8,83.3,79.2,79.2,"",66.7,8.3000000000000007,0,16,24,8702,1,2012,{"$f":"VLOOKUP(Q33,Stores!$A:$B,2,FALSE)","v":"DFG"},"2012-01",{"$f":"VLOOKUP($Q33,Stores!$A:$D,4,FALSE)","v":"Open"},{"$f":"VLOOKUP(Q33,Stores!$A:$C,3,FALSE)","v":"Dallas, TX"},9666,0.24829298572315334]
["8703 - Washington, DC - Grille","",46.2,38.5,0,61.5,61.5,46.2,38.5,46.2,"",46.2,30.8,1,8,13,8703,1,2012,{"$f":"VLOOKUP(Q34,Stores!$A:$B,2,FALSE)","v":"DFG"},"2012-01",{"$f":"VLOOKUP($Q34,Stores!$A:$D,4,FALSE)","v":"Open"},{"$f":"VLOOKUP(Q34,Stores!$A:$C,3,FALSE)","v":"Washington, DC"},4938,0.26326447954637505]
["8704 - Phoenix, AZ - Grille","",66.7,77.8,0,83.3,83.3,77.8,77.8,72.2,"",77.8,11.1,0,12,18,8704,1,2012,{"$f":"VLOOKUP(Q35,Stores!$A:$B,2,FALSE)","v":"DFG"},"2012-01",{"$f":"VLOOKUP($Q35,Stores!$A:$D,4,FALSE)","v":"Closed"},{"$f":"VLOOKUP(Q35,Stores!$A:$C,3,FALSE)","v":"Phoenix, AZ"},3515,0.5120910384068279]
["8705 - Palm Beach, FL - Grille","",77.3,84.1,0,84.1,86.4,68.2,75,75,"",93.2,4.5,0,33,44,8705,1,2012,{"$f":"VLOOKUP(Q36,Stores!$A:$B,2,FALSE)","v":"DFG"},"2012-01",{"$f":"VLOOKUP($Q36,Stores!$A:$D,4,FALSE)","v":"Closed"},{"$f":"VLOOKUP(Q36,Stores!$A:$C,3,FALSE)","v":"Palm Beach, FL"},3462,1.2709416522241479]
["8706 - Atlanta, GA - Grille","",50,68.2,0,63.6,77.3,63.6,77.3,81.8,"",63.6,18.2,1,11,22,8706,1,2012,{"$f":"VLOOKUP(Q37,Stores!$A:$B,2,FALSE)","v":"DFG"},"2012-01",{"$f":"VLOOKUP($Q37,Stores!$A:$D,4,FALSE)","v":"Open"},{"$f":"VLOOKUP(Q37,Stores!$A:$C,3,FALSE)","v":"Atlanta, GA"},7687,0.28619747625861841]
["8707 - River Oaks, TX - Grille","",70.400000000000006,77.8,0,81.5,92.6,74.099999999999994,70.400000000000006,77.8,"",59.3,0,0,17,27,8707,1,2012,{"$f":"VLOOKUP(Q38,Stores!$A:$B,2,FALSE)","v":"DFG"},"2012-01",{"$f":"VLOOKUP($Q38,Stores!$A:$D,4,FALSE)","v":"Open"},{"$f":"VLOOKUP(Q38,Stores!$A:$C,3,FALSE)","v":"Houston, TX"},8181,0.33003300330033003]
["8708 - Chestnut Hill, MA - Grille","",43.9,61,0,53.7,61,56.1,56.1,46.3,"",63.4,24.4,0,34,41,8708,1,2012,{"$f":"VLOOKUP(Q39,Stores!$A:$B,2,FALSE)","v":"DFG"},"2012-01",{"$f":"VLOOKUP($Q39,Stores!$A:$D,4,FALSE)","v":"Open"},{"$f":"VLOOKUP(Q39,Stores!$A:$C,3,FALSE)","v":"Chestnut Hill, MA"},6299,0.65089696777266226]
["8709 - Santa Monica, CA - Grille","",57.1,57.1,0,71.400000000000006,85.7,85.7,42.9,71.400000000000006,"",57.1,0,0,3,7,8709,1,2012,{"$f":"VLOOKUP(Q40,Stores!$A:$B,2,FALSE)","v":"DFG"},"2012-01",{"$f":"VLOOKUP($Q40,Stores!$A:$D,4,FALSE)","v":"Open"},{"$f":"VLOOKUP(Q40,Stores!$A:$C,3,FALSE)","v":"Santa Monica, CA"},10756,6.5079955373744891E-2]
["8710 - Fort Worth, TX - Grille","",62.7,76.5,0,68.599999999999994,74.5,64.7,62.7,68.599999999999994,"",72.5,3.9,0,35,51,8710,1,2012,{"$f":"VLOOKUP(Q41,Stores!$A:$B,2,FALSE)","v":"DFG"},"2012-01",{"$f":"VLOOKUP($Q41,Stores!$A:$D,4,FALSE)","v":"Open"},{"$f":"VLOOKUP(Q41,Stores!$A:$C,3,FALSE)","v":"Fort Worth, TX"},11149,0.45744012915956589]
["8712 - Southlake, TX - Grille","",76.599999999999994,87.2,0,86.2,91.5,79.8,80.900000000000006,81.900000000000006,"",96.8,5.3,0,68,94,8712,1,2012,{"$f":"VLOOKUP(Q42,Stores!$A:$B,2,FALSE)","v":"DFG"},"2012-01",{"$f":"VLOOKUP($Q42,Stores!$A:$D,4,FALSE)","v":"Open"},{"$f":"VLOOKUP(Q42,Stores!$A:$C,3,FALSE)","v":"Southlake, TX"},12423,0.75666103195685419]
["8713 - Burlington, MA - Grille",41794,53.1,59.4,0,68.8,71.900000000000006,65.599999999999994,62.5,56.3,"",34.4,18.8,1,26,32,8713,1,2012,{"$f":"VLOOKUP(Q43,Stores!$A:$B,2,FALSE)","v":"DFG"},"2012-01",{"$f":"VLOOKUP($Q43,Stores!$A:$D,4,FALSE)","v":"Open"},{"$f":"VLOOKUP(Q43,Stores!$A:$C,3,FALSE)","v":"Burlington, MA"},8655,0.36972848064702485]
["8714 - N Bethesda, MD - Grille",41908,53.3,60,0,60,60,53.3,46.7,60,"",60,20,1,12,15,8714,1,2012,{"$f":"VLOOKUP(Q44,Stores!$A:$B,2,FALSE)","v":"DFG"},"2012-01",{"$f":"VLOOKUP($Q44,Stores!$A:$D,4,FALSE)","v":"Open"},{"$f":"VLOOKUP(Q44,Stores!$A:$C,3,FALSE)","v":"N. Bethesda, MD"},6598,0.22734161867232494]
["8715 - Irvine, CA - Grille","",68.8,75,0,81.3,93.8,62.5,75,68.8,"",62.5,12.5,0,12,16,8715,1,2012,{"$f":"VLOOKUP(Q45,Stores!$A:$B,2,FALSE)","v":"DFG"},"2012-01",{"$f":"VLOOKUP($Q45,Stores!$A:$D,4,FALSE)","v":"Open"},{"$f":"VLOOKUP(Q45,Stores!$A:$C,3,FALSE)","v":"Irvine, CA"},7273,0.21999175030936338]
["8716 - Tampa, FL - Grille","",62.5,70.8,0,68.8,81.3,60.4,66.7,62.5,"",39.6,10.4,0,35,48,8716,1,2012,{"$f":"VLOOKUP(Q46,Stores!$A:$B,2,FALSE)","v":"DFG"},"2012-01",{"$f":"VLOOKUP($Q46,Stores!$A:$D,4,FALSE)","v":"Open"},{"$f":"VLOOKUP(Q46,Stores!$A:$C,3,FALSE)","v":"Tampa, FL"},9062,0.52968439638048992]
["8717 - Pasadena, CA - Grille",41992,50,69.400000000000006,0,74.2,80.599999999999994,69.400000000000006,66.099999999999994,74.2,"",83.9,16.100000000000001,0,48,62,8717,1,2012,{"$f":"VLOOKUP(Q47,Stores!$A:$B,2,FALSE)","v":"DFG"},"2012-01",{"$f":"VLOOKUP($Q47,Stores!$A:$D,4,FALSE)","v":"Open"},{"$f":"VLOOKUP(Q47,Stores!$A:$C,3,FALSE)","v":"Pasadena, CA"},5833,1.0629178810217728]
["8501 - Austin, TX - Sullivan's","",73.5,79.400000000000006,0,79.400000000000006,88.2,79.400000000000006,79.400000000000006,76.5,"",94.1,8.8000000000000007,0,29,34,8501,2,2012,{"$f":"VLOOKUP(Q48,Stores!$A:$B,2,FALSE)","v":"SULL"},"2012-02",{"$f":"VLOOKUP($Q48,Stores!$A:$D,4,FALSE)","v":"Open"},{"$f":"VLOOKUP(Q48,Stores!$A:$C,3,FALSE)","v":"Austin, TX"},6711,0.50663090448517356]
["8502 - Indianapolis, IN - Sullivan's","",61,66.099999999999994,0,76.3,79.7,76.3,72.900000000000006,67.8,"",78,8.5,0,37,59,8502,2,2012,{"$f":"VLOOKUP(Q49,Stores!$A:$B,2,FALSE)","v":"SULL"},"2012-02",{"$f":"VLOOKUP($Q49,Stores!$A:$D,4,FALSE)","v":"Open"},{"$f":"VLOOKUP(Q49,Stores!$A:$C,3,FALSE)","v":"Indianapolis, IN"},8291,0.71161500422144497]
["8503 - Denver, CO - Sullivan's","",86.4,86.4,0,81.8,81.8,86.4,86.4,77.3,"",81.8,9.1,0,17,22,8503,2,2012,{"$f":"VLOOKUP(Q50,Stores!$A:$B,2,FALSE)","v":"SULL"},"2012-02",{"$f":"VLOOKUP($Q50,Stores!$A:$D,4,FALSE)","v":"Closed"},{"$f":"VLOOKUP(Q50,Stores!$A:$C,3,FALSE)","v":"Denver, CO"},2902,0.75809786354238462]
["8504 - Houston, TX - Sullivan's","",78.900000000000006,76.3,0,81.599999999999994,84.2,81.599999999999994,81.599999999999994,76.3,"",60.5,5.3,0,26,38,8504,2,2012,{"$f":"VLOOKUP(Q51,Stores!$A:$B,2,FALSE)","v":"SULL"},"2012-02",{"$f":"VLOOKUP($Q51,Stores!$A:$D,4,FALSE)","v":"Closed"},{"$f":"VLOOKUP(Q51,Stores!$A:$C,3,FALSE)","v":"Houston, TX"},4832,0.78642384105960261]
["8510 - Wilmington, DE - Sullivan's","",66.7,75,0,83.3,85,73.3,71.7,71.7,"",75,8.3000000000000007,0,45,60,8510,2,2012,{"$f":"VLOOKUP(Q52,Stores!$A:$B,2,FALSE)","v":"SULL"},"2012-02",{"$f":"VLOOKUP($Q52,Stores!$A:$D,4,FALSE)","v":"Open"},{"$f":"VLOOKUP(Q52,Stores!$A:$C,3,FALSE)","v":"Wilmington, DE"},5696,1.053370786516854]
["8522 - King of Prussia, PA - Sullivan's","",66.7,76.2,0,85.7,85.7,69,73.8,66.7,"",81,4.8,0,34,42,8522,2,2012,{"$f":"VLOOKUP(Q53,Stores!$A:$B,2,FALSE)","v":"SULL"},"2012-02",{"$f":"VLOOKUP($Q53,Stores!$A:$D,4,FALSE)","v":"Open"},{"$f":"VLOOKUP(Q53,Stores!$A:$C,3,FALSE)","v":"King of Prussia, PA"},7326,0.57330057330057327]
["8525 - Tucson, AZ - Sullivan's","",85.4,90.2,0,95.1,95.1,85.4,92.7,85.4,"",70.7,7.3,1,37,41,8525,2,2012,{"$f":"VLOOKUP(Q54,Stores!$A:$B,2,FALSE)","v":"SULL"},"2012-02",{"$f":"VLOOKUP($Q54,Stores!$A:$D,4,FALSE)","v":"Open"},{"$f":"VLOOKUP(Q54,Stores!$A:$C,3,FALSE)","v":"Tucson, AZ"},5040,0.81349206349206349]
["8532 - Omaha, NE - Sullivan's","",59.3,70.400000000000006,0,70.400000000000006,77.8,63,55.6,77.8,"",81.5,11.1,0,18,27,8532,2,2012,{"$f":"VLOOKUP(Q55,Stores!$A:$B,2,FALSE)","v":"SULL"},"2012-02",{"$f":"VLOOKUP($Q55,Stores!$A:$D,4,FALSE)","v":"Open"},{"$f":"VLOOKUP(Q55,Stores!$A:$C,3,FALSE)","v":"Omaha, NE"},4818,0.56039850560398508]
["8535 - Baltimore, MD - Sullivan's","",62.1,82.8,0,62.1,75.900000000000006,69,75.900000000000006,69,"",75.900000000000006,10.3,0,21,29,8535,2,2012,{"$f":"VLOOKUP(Q56,Stores!$A:$B,2,FALSE)","v":"SULL"},"2012-02",{"$f":"VLOOKUP($Q56,Stores!$A:$D,4,FALSE)","v":"Open"},{"$f":"VLOOKUP(Q56,Stores!$A:$C,3,FALSE)","v":"Baltimore, MD"},5133,0.56497175141242939]
["8536 - Leawood, KS - Sullivan's","",65,70,0,75,87.5,72.5,72.5,77.5,"",82.5,7.5,0,31,40,8536,2,2012,{"$f":"VLOOKUP(Q57,Stores!$A:$B,2,FALSE)","v":"SULL"},"2012-02",{"$f":"VLOOKUP($Q57,Stores!$A:$D,4,FALSE)","v":"Open"},{"$f":"VLOOKUP(Q57,Stores!$A:$C,3,FALSE)","v":"Leawood, KS"},5527,0.72371992039080868]
["8541 - Chicago, IL - Sullivan's","",69.599999999999994,69.599999999999994,0,73.900000000000006,82.6,60.9,65.2,78.3,"",73.900000000000006,13,0,18,23,8541,2,2012,{"$f":"VLOOKUP(Q58,Stores!$A:$B,2,FALSE)","v":"SULL"},"2012-02",{"$f":"VLOOKUP($Q58,Stores!$A:$D,4,FALSE)","v":"Open"},{"$f":"VLOOKUP(Q58,Stores!$A:$C,3,FALSE)","v":"Chicago, IL"},4208,0.54657794676806082]
["8542 - Naperville, IL - Sullivan's","",67.2,79.3,0,82.8,89.7,74.099999999999994,79.3,72.400000000000006,"",74.099999999999994,5.2,0,41,58,8542,2,2012,{"$f":"VLOOKUP(Q59,Stores!$A:$B,2,FALSE)","v":"SULL"},"2012-02",{"$f":"VLOOKUP($Q59,Stores!$A:$D,4,FALSE)","v":"Open"},{"$f":"VLOOKUP(Q59,Stores!$A:$C,3,FALSE)","v":"Naperville, IL"},6579,0.8815929472564219]
["8543 - Lincolnshire, IL - Sullivan's","",60,73.3,0,73.3,93.3,86.7,66.7,60,"",80,6.7,0,13,15,8543,2,2012,{"$f":"VLOOKUP(Q60,Stores!$A:$B,2,FALSE)","v":"SULL"},"2012-02",{"$f":"VLOOKUP($Q60,Stores!$A:$D,4,FALSE)","v":"Open"},{"$f":"VLOOKUP(Q60,Stores!$A:$C,3,FALSE)","v":"Lincolnshire, IL"},4002,0.3748125937031484]
["8551 - Baton Rouge, LA - Sullivan's","",86.5,89.2,0,90.5,93.2,85.1,86.5,90.5,"",93.2,2.7,1,57,74,8551,2,2012,{"$f":"VLOOKUP(Q61,Stores!$A:$B,2,FALSE)","v":"SULL"},"2012-02",{"$f":"VLOOKUP($Q61,Stores!$A:$D,4,FALSE)","v":"Open"},{"$f":"VLOOKUP(Q61,Stores!$A:$C,3,FALSE)","v":"Baton Rouge, LA"},5473,1.3520920884341312]
["8561 - Raleigh, NC - Sullivan's","",70,70,0,73.3,83.3,73.3,75,70,"",46.7,15,1,42,60,8561,2,2012,{"$f":"VLOOKUP(Q62,Stores!$A:$B,2,FALSE)","v":"SULL"},"2012-02",{"$f":"VLOOKUP($Q62,Stores!$A:$D,4,FALSE)","v":"Open"},{"$f":"VLOOKUP(Q62,Stores!$A:$C,3,FALSE)","v":"Raleigh, NC"},7453,0.80504494834294915]
["8562 - Charlotte, NC - Sullivan's","",56,64,0,72,76,64,72,72,"",56,12,0,21,25,8562,2,2012,{"$f":"VLOOKUP(Q63,Stores!$A:$B,2,FALSE)","v":"SULL"},"2012-02",{"$f":"VLOOKUP($Q63,Stores!$A:$D,4,FALSE)","v":"Open"},{"$f":"VLOOKUP(Q63,Stores!$A:$C,3,FALSE)","v":"Charlotte, NC"},5314,0.47045540082800152]
["8570 - Palm Desert, CA - Sullivan's","",73.900000000000006,91.3,0,82.6,87,78.3,69.599999999999994,82.6,"",100,4.3,0,20,23,8570,2,2012,{"$f":"VLOOKUP(Q64,Stores!$A:$B,2,FALSE)","v":"SULL"},"2012-02",{"$f":"VLOOKUP($Q64,Stores!$A:$D,4,FALSE)","v":"Open"},{"$f":"VLOOKUP(Q64,Stores!$A:$C,3,FALSE)","v":"Palm Desert, CA"},6539,0.35173573940969566]
["8591 - Anchorage, AK - Sullivan's","",86.2,89.7,0,89.7,89.7,86.2,82.8,65.5,"",89.7,10.3,0,25,29,8591,2,2012,{"$f":"VLOOKUP(Q65,Stores!$A:$B,2,FALSE)","v":"SULL"},"2012-02",{"$f":"VLOOKUP($Q65,Stores!$A:$D,4,FALSE)","v":"Open"},{"$f":"VLOOKUP(Q65,Stores!$A:$C,3,FALSE)","v":"Anchorage, AK"},5994,0.48381715048381718]
["8592 - Seattle, WA - Sullivan's","",89.4,85.1,0,91.5,97.9,87.2,85.1,89.4,"",68.099999999999994,2.1,0,35,47,8592,2,2012,{"$f":"VLOOKUP(Q66,Stores!$A:$B,2,FALSE)","v":"SULL"},"2012-02",{"$f":"VLOOKUP($Q66,Stores!$A:$D,4,FALSE)","v":"Closed"},{"$f":"VLOOKUP(Q66,Stores!$A:$C,3,FALSE)","v":"Seattle, WA"},5973,0.78687426753725098]
["8601 - Dallas, TX - Del Frisco's","",75,85.3,0,77.900000000000006,89.7,77.900000000000006,76.5,76.5,"",79.400000000000006,8.8000000000000007,2,52,68,{"$f":"MID(A67,1,4)*1","v":8601},2,2012,{"$f":"VLOOKUP(Q67,Stores!$A:$B,2,FALSE)","v":"DFDE"},{"$f":"S67&\"-\"&REPT(\"0\",2-LEN(R67))&R67","v":"2012-02"},{"$f":"VLOOKUP($Q67,Stores!$A:$D,4,FALSE)","v":"Closed"},{"$f":"VLOOKUP(Q67,Stores!$A:$C,3,FALSE)","v":"Dallas, TX"},6356,{"$f":"P67/(X67/100)","v":1.0698552548772813}]
["8602 - Fort Worth, TX - Del Frisco's","",77.099999999999994,82.4,0,85.5,91.6,80.2,80.2,86.3,"",65.599999999999994,6.9,0,92,131,8602,2,2012,{"$f":"VLOOKUP(Q68,Stores!$A:$B,2,FALSE)","v":"DFDE"},"2012-02",{"$f":"VLOOKUP($Q68,Stores!$A:$D,4,FALSE)","v":"Open"},{"$f":"VLOOKUP(Q68,Stores!$A:$C,3,FALSE)","v":"Fort Worth, TX"},8630,1.5179606025492469]
["8603 - Denver, CO - Del Frisco's","",69.7,77.5,0,75.3,83.1,69.7,77.5,70.8,"",38.200000000000003,10.1,0,53,89,8603,2,2012,{"$f":"VLOOKUP(Q69,Stores!$A:$B,2,FALSE)","v":"DFDE"},"2012-02",{"$f":"VLOOKUP($Q69,Stores!$A:$D,4,FALSE)","v":"Open"},{"$f":"VLOOKUP(Q69,Stores!$A:$C,3,FALSE)","v":"Denver, CO"},12116,0.7345658633212282]
["8604 - Charlotte, NC - Del Frisco's","",66.7,72.7,0,72.7,81.8,68.2,74.2,80.3,"",53,4.5,0,43,66,8604,2,2012,{"$f":"VLOOKUP(Q70,Stores!$A:$B,2,FALSE)","v":"DFDE"},"2012-02",{"$f":"VLOOKUP($Q70,Stores!$A:$D,4,FALSE)","v":"Open"},{"$f":"VLOOKUP(Q70,Stores!$A:$C,3,FALSE)","v":"Charlotte, NC"},6370,1.0361067503924646]
["8605 - Houston, TX - Del Frisco's","",68.8,77.5,0,80,81.3,73.8,78.8,78.8,"",52.5,6.3,3,58,80,8605,2,2012,{"$f":"VLOOKUP(Q71,Stores!$A:$B,2,FALSE)","v":"DFDE"},"2012-02",{"$f":"VLOOKUP($Q71,Stores!$A:$D,4,FALSE)","v":"Open"},{"$f":"VLOOKUP(Q71,Stores!$A:$C,3,FALSE)","v":"Houston, TX"},10370,0.77145612343297976]
["8620 - New York City, NY - Del Frisco's","",74.8,81.8,0,84.9,87.4,74.8,80.5,78,"",62.3,5.7,1,111,159,8620,2,2012,{"$f":"VLOOKUP(Q72,Stores!$A:$B,2,FALSE)","v":"DFDE"},"2012-02",{"$f":"VLOOKUP($Q72,Stores!$A:$D,4,FALSE)","v":"Open"},{"$f":"VLOOKUP(Q72,Stores!$A:$C,3,FALSE)","v":"New York City, NY"},21185,0.75053103611045557]
["8635 - Boston, MA - Del Frisco's","",78.8,83.3,0,80.3,87.9,75.8,78.8,74.2,"",78.8,3,0,47,66,8635,2,2012,{"$f":"VLOOKUP(Q73,Stores!$A:$B,2,FALSE)","v":"DFDE"},"2012-02",{"$f":"VLOOKUP($Q73,Stores!$A:$D,4,FALSE)","v":"Open"},{"$f":"VLOOKUP(Q73,Stores!$A:$C,3,FALSE)","v":"Boston, MA"},8543,0.77256233173358302]
["8640 - Las Vegas, NV - Del Frisco's","",70.8,83.3,0,84.7,87.5,77.8,75,75,"",59.7,11.1,0,56,72,8640,2,2012,{"$f":"VLOOKUP(Q74,Stores!$A:$B,2,FALSE)","v":"DFDE"},"2012-02",{"$f":"VLOOKUP($Q74,Stores!$A:$D,4,FALSE)","v":"Open"},{"$f":"VLOOKUP(Q74,Stores!$A:$C,3,FALSE)","v":"Las Vegas, NV"},7349,0.97972513267111183]
["8650 - Chicago, IL - Del Frisco's","",70.2,70.2,0,72.3,76.599999999999994,63.8,76.599999999999994,80.900000000000006,"",46.8,14.9,0,32,47,8650,2,2012,{"$f":"VLOOKUP(Q75,Stores!$A:$B,2,FALSE)","v":"DFDE"},"2012-02",{"$f":"VLOOKUP($Q75,Stores!$A:$D,4,FALSE)","v":"Open"},{"$f":"VLOOKUP(Q75,Stores!$A:$C,3,FALSE)","v":"Chicago, IL"},7907,0.59441001644112812]
["8655 - Washington, DC -  Del Frisco's","",52.8,67.900000000000006,0,66,84.9,62.3,75.5,69.8,"",62.3,9.4,0,39,53,8655,2,2012,{"$f":"VLOOKUP(Q76,Stores!$A:$B,2,FALSE)","v":"DFDE"},"2012-02",{"$f":"VLOOKUP($Q76,Stores!$A:$D,4,FALSE)","v":"Open"},{"$f":"VLOOKUP(Q76,Stores!$A:$C,3,FALSE)","v":"Washington, DC"},8649,0.6127876055035264]
["8680 - Philadelphia, PA - Del Frisco's","",65.7,77.599999999999994,0,80.599999999999994,78.400000000000006,70.900000000000006,76.099999999999994,72.400000000000006,"",54.5,8.1999999999999993,0,91,134,8680,2,2012,{"$f":"VLOOKUP(Q77,Stores!$A:$B,2,FALSE)","v":"DFDE"},"2012-02",{"$f":"VLOOKUP($Q77,Stores!$A:$D,4,FALSE)","v":"Open"},{"$f":"VLOOKUP(Q77,Stores!$A:$C,3,FALSE)","v":"Philadelphia, PA"},15157,0.88407996305337477]
["8701 - New York City, NY - Grille","",64.400000000000006,71.099999999999994,0,71.099999999999994,75.599999999999994,66.7,66.7,57.8,"",64.400000000000006,8.9,0,28,45,8701,2,2012,{"$f":"VLOOKUP(Q78,Stores!$A:$B,2,FALSE)","v":"DFG"},"2012-02",{"$f":"VLOOKUP($Q78,Stores!$A:$D,4,FALSE)","v":"Open"},{"$f":"VLOOKUP(Q78,Stores!$A:$C,3,FALSE)","v":"New York City, NY"},10219,0.44035619923671593]
["8702 - Dallas, TX - Grille","",66.7,53.3,0,73.3,86.7,80,86.7,80,"",40,6.7,0,9,15,8702,2,2012,{"$f":"VLOOKUP(Q79,Stores!$A:$B,2,FALSE)","v":"DFG"},"2012-02",{"$f":"VLOOKUP($Q79,Stores!$A:$D,4,FALSE)","v":"Open"},{"$f":"VLOOKUP(Q79,Stores!$A:$C,3,FALSE)","v":"Dallas, TX"},9104,0.16476274165202107]
["8703 - Washington, DC - Grille","",57.7,61.5,0,69.2,73.099999999999994,61.5,61.5,65.400000000000006,"",53.8,23.1,1,21,26,8703,2,2012,{"$f":"VLOOKUP(Q80,Stores!$A:$B,2,FALSE)","v":"DFG"},"2012-02",{"$f":"VLOOKUP($Q80,Stores!$A:$D,4,FALSE)","v":"Open"},{"$f":"VLOOKUP(Q80,Stores!$A:$C,3,FALSE)","v":"Washington, DC"},5379,0.48336121955753858]
["8704 - Phoenix, AZ - Grille","",71.400000000000006,71.400000000000006,0,78.599999999999994,78.599999999999994,64.3,71.400000000000006,71.400000000000006,"",57.1,14.3,0,9,14,8704,2,2012,{"$f":"VLOOKUP(Q81,Stores!$A:$B,2,FALSE)","v":"DFG"},"2012-02",{"$f":"VLOOKUP($Q81,Stores!$A:$D,4,FALSE)","v":"Closed"},{"$f":"VLOOKUP(Q81,Stores!$A:$C,3,FALSE)","v":"Phoenix, AZ"},4411,0.31738834731353432]
["8705 - Palm Beach, FL - Grille","",84.4,86.7,0,84.4,93.3,77.8,75.599999999999994,82.2,"",86.7,4.4000000000000004,0,34,45,8705,2,2012,{"$f":"VLOOKUP(Q82,Stores!$A:$B,2,FALSE)","v":"DFG"},"2012-02",{"$f":"VLOOKUP($Q82,Stores!$A:$D,4,FALSE)","v":"Closed"},{"$f":"VLOOKUP(Q82,Stores!$A:$C,3,FALSE)","v":"Palm Beach, FL"},3750,1.2]
["8706 - Atlanta, GA - Grille","",65,75,0,70,80,65,75,70,"",70,5,0,12,20,8706,2,2012,{"$f":"VLOOKUP(Q83,Stores!$A:$B,2,FALSE)","v":"DFG"},"2012-02",{"$f":"VLOOKUP($Q83,Stores!$A:$D,4,FALSE)","v":"Open"},{"$f":"VLOOKUP(Q83,Stores!$A:$C,3,FALSE)","v":"Atlanta, GA"},7874,0.25400050800101603]
["8707 - River Oaks, TX - Grille","",79,82.3,0,88.7,95.2,79,72.599999999999994,77.400000000000006,"",66.099999999999994,4.8,0,44,62,8707,2,2012,{"$f":"VLOOKUP(Q84,Stores!$A:$B,2,FALSE)","v":"DFG"},"2012-02",{"$f":"VLOOKUP($Q84,Stores!$A:$D,4,FALSE)","v":"Open"},{"$f":"VLOOKUP(Q84,Stores!$A:$C,3,FALSE)","v":"Houston, TX"},8747,0.70881445066880078]
["8708 - Chestnut Hill, MA - Grille","",77.400000000000006,77.400000000000006,0,71,83.9,64.5,77.400000000000006,67.7,"",64.5,12.9,0,24,31,8708,2,2012,{"$f":"VLOOKUP(Q85,Stores!$A:$B,2,FALSE)","v":"DFG"},"2012-02",{"$f":"VLOOKUP($Q85,Stores!$A:$D,4,FALSE)","v":"Open"},{"$f":"VLOOKUP(Q85,Stores!$A:$C,3,FALSE)","v":"Chestnut Hill, MA"},6028,0.51426675514266751]
["8709 - Santa Monica, CA - Grille","",66.7,100,0,83.3,66.7,83.3,100,83.3,"",50,0,0,6,6,8709,2,2012,{"$f":"VLOOKUP(Q86,Stores!$A:$B,2,FALSE)","v":"DFG"},"2012-02",{"$f":"VLOOKUP($Q86,Stores!$A:$D,4,FALSE)","v":"Open"},{"$f":"VLOOKUP(Q86,Stores!$A:$C,3,FALSE)","v":"Santa Monica, CA"},11450,5.2401746724890827E-2]
["8710 - Fort Worth, TX - Grille","",70.7,85.4,0,75.599999999999994,82.9,70.7,80.5,85.4,"",56.1,4.9000000000000004,0,26,41,8710,2,2012,{"$f":"VLOOKUP(Q87,Stores!$A:$B,2,FALSE)","v":"DFG"},"2012-02",{"$f":"VLOOKUP($Q87,Stores!$A:$D,4,FALSE)","v":"Open"},{"$f":"VLOOKUP(Q87,Stores!$A:$C,3,FALSE)","v":"Fort Worth, TX"},11279,0.3635074031385761]
["8712 - Southlake, TX - Grille","",63,69,0,74,77,68,73,65,"",90,13,1,82,100,8712,2,2012,{"$f":"VLOOKUP(Q88,Stores!$A:$B,2,FALSE)","v":"DFG"},"2012-02",{"$f":"VLOOKUP($Q88,Stores!$A:$D,4,FALSE)","v":"Open"},{"$f":"VLOOKUP(Q88,Stores!$A:$C,3,FALSE)","v":"Southlake, TX"},12304,0.81274382314694404]
["8713 - Burlington, MA - Grille",41794,41.7,58.3,0,83.3,87.5,54.2,58.3,29.2,"",45.8,12.5,1,18,24,8713,2,2012,{"$f":"VLOOKUP(Q89,Stores!$A:$B,2,FALSE)","v":"DFG"},"2012-02",{"$f":"VLOOKUP($Q89,Stores!$A:$D,4,FALSE)","v":"Open"},{"$f":"VLOOKUP(Q89,Stores!$A:$C,3,FALSE)","v":"Burlington, MA"},7728,0.3105590062111801]
["8714 - N Bethesda, MD - Grille",41908,54.5,54.5,0,50,63.6,50,36.4,40.9,"",59.1,13.6,0,16,22,8714,2,2012,{"$f":"VLOOKUP(Q90,Stores!$A:$B,2,FALSE)","v":"DFG"},"2012-02",{"$f":"VLOOKUP($Q90,Stores!$A:$D,4,FALSE)","v":"Open"},{"$f":"VLOOKUP(Q90,Stores!$A:$C,3,FALSE)","v":"N. Bethesda, MD"},6296,0.34942820838627697]
["8715 - Irvine, CA - Grille","",83.9,87.1,0,83.9,90.3,83.9,93.5,90.3,"",64.5,0,0,19,31,8715,2,2012,{"$f":"VLOOKUP(Q91,Stores!$A:$B,2,FALSE)","v":"DFG"},"2012-02",{"$f":"VLOOKUP($Q91,Stores!$A:$D,4,FALSE)","v":"Open"},{"$f":"VLOOKUP(Q91,Stores!$A:$C,3,FALSE)","v":"Irvine, CA"},7021,0.44153254522147845]
["8716 - Tampa, FL - Grille","",75.8,78.8,0,72.7,78.8,63.6,81.8,90.9,"",51.5,12.1,0,24,33,8716,2,2012,{"$f":"VLOOKUP(Q92,Stores!$A:$B,2,FALSE)","v":"DFG"},"2012-02",{"$f":"VLOOKUP($Q92,Stores!$A:$D,4,FALSE)","v":"Open"},{"$f":"VLOOKUP(Q92,Stores!$A:$C,3,FALSE)","v":"Tampa, FL"},9785,0.33725089422585591]
["8717 - Pasadena, CA - Grille",41992,65.7,71.400000000000006,0,74.3,80,62.9,54.3,71.400000000000006,"",68.599999999999994,8.6,0,26,35,8717,2,2012,{"$f":"VLOOKUP(Q93,Stores!$A:$B,2,FALSE)","v":"DFG"},"2012-02",{"$f":"VLOOKUP($Q93,Stores!$A:$D,4,FALSE)","v":"Open"},{"$f":"VLOOKUP(Q93,Stores!$A:$C,3,FALSE)","v":"Pasadena, CA"},6891,0.50790886663764334]
["8501 - Austin, TX - Sullivan's","",85.7,88.1,0,95.2,95.2,88.1,90.5,90.5,"",81,4.8,0,36,42,8501,3,2012,{"$f":"VLOOKUP(Q94,Stores!$A:$B,2,FALSE)","v":"SULL"},"2012-03",{"$f":"VLOOKUP($Q94,Stores!$A:$D,4,FALSE)","v":"Open"},{"$f":"VLOOKUP(Q94,Stores!$A:$C,3,FALSE)","v":"Austin, TX"},6811,0.6166495375128469]
["8502 - Indianapolis, IN - Sullivan's","",55.7,59.5,0,70.900000000000006,77.2,62,59.5,57,"",73.400000000000006,10.1,0,52,79,8502,3,2012,{"$f":"VLOOKUP(Q95,Stores!$A:$B,2,FALSE)","v":"SULL"},"2012-03",{"$f":"VLOOKUP($Q95,Stores!$A:$D,4,FALSE)","v":"Open"},{"$f":"VLOOKUP(Q95,Stores!$A:$C,3,FALSE)","v":"Indianapolis, IN"},8586,0.92010249242953646]
["8503 - Denver, CO - Sullivan's","",66,68.099999999999994,0,70.2,76.599999999999994,70.2,70.2,66,"",85.1,14.9,0,33,47,8503,3,2012,{"$f":"VLOOKUP(Q96,Stores!$A:$B,2,FALSE)","v":"SULL"},"2012-03",{"$f":"VLOOKUP($Q96,Stores!$A:$D,4,FALSE)","v":"Closed"},{"$f":"VLOOKUP(Q96,Stores!$A:$C,3,FALSE)","v":"Denver, CO"},3280,1.4329268292682928]
["8504 - Houston, TX - Sullivan's","",75,77.3,0,84.1,90.9,77.3,72.7,84.1,"",72.7,9.1,0,37,44,8504,3,2012,{"$f":"VLOOKUP(Q97,Stores!$A:$B,2,FALSE)","v":"SULL"},"2012-03",{"$f":"VLOOKUP($Q97,Stores!$A:$D,4,FALSE)","v":"Closed"},{"$f":"VLOOKUP(Q97,Stores!$A:$C,3,FALSE)","v":"Houston, TX"},4584,0.95986038394415352]
["8510 - Wilmington, DE - Sullivan's","",71.400000000000006,78,0,84.6,85.7,74.7,74.7,73.599999999999994,"",72.5,8.8000000000000007,0,70,91,8510,3,2012,{"$f":"VLOOKUP(Q98,Stores!$A:$B,2,FALSE)","v":"SULL"},"2012-03",{"$f":"VLOOKUP($Q98,Stores!$A:$D,4,FALSE)","v":"Open"},{"$f":"VLOOKUP(Q98,Stores!$A:$C,3,FALSE)","v":"Wilmington, DE"},5609,1.6223925833481903]
["8522 - King of Prussia, PA - Sullivan's","",65.3,74.7,0,76.8,84.2,67.400000000000006,76.8,58.9,"",72.599999999999994,10.5,0,75,95,8522,3,2012,{"$f":"VLOOKUP(Q99,Stores!$A:$B,2,FALSE)","v":"SULL"},"2012-03",{"$f":"VLOOKUP($Q99,Stores!$A:$D,4,FALSE)","v":"Open"},{"$f":"VLOOKUP(Q99,Stores!$A:$C,3,FALSE)","v":"King of Prussia, PA"},7517,1.2638020486896369]
["8525 - Tucson, AZ - Sullivan's","",90.4,91.8,0,93.2,94.5,90.4,93.2,87.7,"",80.8,2.7,0,58,73,8525,3,2012,{"$f":"VLOOKUP(Q100,Stores!$A:$B,2,FALSE)","v":"SULL"},"2012-03",{"$f":"VLOOKUP($Q100,Stores!$A:$D,4,FALSE)","v":"Open"},{"$f":"VLOOKUP(Q100,Stores!$A:$C,3,FALSE)","v":"Tucson, AZ"},4388,1.6636280765724702]
["8532 - Omaha, NE - Sullivan's","",76.7,90,0,86.7,93.3,76.7,66.7,83.3,"",70,6.7,1,16,30,8532,3,2012,{"$f":"VLOOKUP(Q101,Stores!$A:$B,2,FALSE)","v":"SULL"},"2012-03",{"$f":"VLOOKUP($Q101,Stores!$A:$D,4,FALSE)","v":"Open"},{"$f":"VLOOKUP(Q101,Stores!$A:$C,3,FALSE)","v":"Omaha, NE"},4562,0.65760631302060502]
["8535 - Baltimore, MD - Sullivan's","",64,76,0,56,72,60,64,56,"",80,8,0,17,25,8535,3,2012,{"$f":"VLOOKUP(Q102,Stores!$A:$B,2,FALSE)","v":"SULL"},"2012-03",{"$f":"VLOOKUP($Q102,Stores!$A:$D,4,FALSE)","v":"Open"},{"$f":"VLOOKUP(Q102,Stores!$A:$C,3,FALSE)","v":"Baltimore, MD"},5520,0.45289855072463764]
["8536 - Leawood, KS - Sullivan's","",71.400000000000006,75,0,83.9,85.7,82.1,78.599999999999994,75,"",85.7,7.1,0,47,56,8536,3,2012,{"$f":"VLOOKUP(Q103,Stores!$A:$B,2,FALSE)","v":"SULL"},"2012-03",{"$f":"VLOOKUP($Q103,Stores!$A:$D,4,FALSE)","v":"Open"},{"$f":"VLOOKUP(Q103,Stores!$A:$C,3,FALSE)","v":"Leawood, KS"},4366,1.2826385707741641]
["8541 - Chicago, IL - Sullivan's","",73.099999999999994,80.8,0,73.099999999999994,80.8,73.099999999999994,76.900000000000006,76.900000000000006,"",88.5,11.5,0,19,26,8541,3,2012,{"$f":"VLOOKUP(Q104,Stores!$A:$B,2,FALSE)","v":"SULL"},"2012-03",{"$f":"VLOOKUP($Q104,Stores!$A:$D,4,FALSE)","v":"Open"},{"$f":"VLOOKUP(Q104,Stores!$A:$C,3,FALSE)","v":"Chicago, IL"},3447,0.7542790832608065]
["8542 - Naperville, IL - Sullivan's","",66.400000000000006,73.3,0,82.4,85.5,76.3,67.2,72.5,"",82.4,6.9,0,101,131,8542,3,2012,{"$f":"VLOOKUP(Q105,Stores!$A:$B,2,FALSE)","v":"SULL"},"2012-03",{"$f":"VLOOKUP($Q105,Stores!$A:$D,4,FALSE)","v":"Open"},{"$f":"VLOOKUP(Q105,Stores!$A:$C,3,FALSE)","v":"Naperville, IL"},6348,2.0636420919974796]
["8543 - Lincolnshire, IL - Sullivan's","",75,79.2,0,70.8,79.2,66.7,66.7,62.5,"",91.7,4.2,0,17,24,8543,3,2012,{"$f":"VLOOKUP(Q106,Stores!$A:$B,2,FALSE)","v":"SULL"},"2012-03",{"$f":"VLOOKUP($Q106,Stores!$A:$D,4,FALSE)","v":"Open"},{"$f":"VLOOKUP(Q106,Stores!$A:$C,3,FALSE)","v":"Lincolnshire, IL"},4062,0.59084194977843429]
["8551 - Baton Rouge, LA - Sullivan's","",84.7,89.4,0,83.5,90.6,83.5,83.5,88.2,"",85.9,2.4,0,58,85,8551,3,2012,{"$f":"VLOOKUP(Q107,Stores!$A:$B,2,FALSE)","v":"SULL"},"2012-03",{"$f":"VLOOKUP($Q107,Stores!$A:$D,4,FALSE)","v":"Open"},{"$f":"VLOOKUP(Q107,Stores!$A:$C,3,FALSE)","v":"Baton Rouge, LA"},5429,1.565665868484067]
["8561 - Raleigh, NC - Sullivan's","",65.3,69.400000000000006,0,81.599999999999994,83.7,65.3,71.400000000000006,59.2,"",73.5,6.1,0,31,49,8561,3,2012,{"$f":"VLOOKUP(Q108,Stores!$A:$B,2,FALSE)","v":"SULL"},"2012-03",{"$f":"VLOOKUP($Q108,Stores!$A:$D,4,FALSE)","v":"Open"},{"$f":"VLOOKUP(Q108,Stores!$A:$C,3,FALSE)","v":"Raleigh, NC"},5784,0.84716459197786997]
["8562 - Charlotte, NC - Sullivan's","",63.8,72.3,0,80.900000000000006,80.900000000000006,74.5,63.8,66,"",80.900000000000006,10.6,0,37,47,8562,3,2012,{"$f":"VLOOKUP(Q109,Stores!$A:$B,2,FALSE)","v":"SULL"},"2012-03",{"$f":"VLOOKUP($Q109,Stores!$A:$D,4,FALSE)","v":"Open"},{"$f":"VLOOKUP(Q109,Stores!$A:$C,3,FALSE)","v":"Charlotte, NC"},4647,1.0114052076608564]
["8570 - Palm Desert, CA - Sullivan's","",62.7,64.400000000000006,0,72.900000000000006,74.599999999999994,67.8,61,61,"",72.900000000000006,10.199999999999999,2,48,59,8570,3,2012,{"$f":"VLOOKUP(Q110,Stores!$A:$B,2,FALSE)","v":"SULL"},"2012-03",{"$f":"VLOOKUP($Q110,Stores!$A:$D,4,FALSE)","v":"Open"},{"$f":"VLOOKUP(Q110,Stores!$A:$C,3,FALSE)","v":"Palm Desert, CA"},7324,0.80557072637902793]
["8591 - Anchorage, AK - Sullivan's","",71.400000000000006,81.599999999999994,0,85.7,87.8,73.5,77.599999999999994,69.400000000000006,"",85.7,10.199999999999999,0,43,49,8591,3,2012,{"$f":"VLOOKUP(Q111,Stores!$A:$B,2,FALSE)","v":"SULL"},"2012-03",{"$f":"VLOOKUP($Q111,Stores!$A:$D,4,FALSE)","v":"Open"},{"$f":"VLOOKUP(Q111,Stores!$A:$C,3,FALSE)","v":"Anchorage, AK"},5515,0.88848594741613784]
["8592 - Seattle, WA - Sullivan's","",74.3,79.7,0,83.8,89.2,81.099999999999994,68.900000000000006,77,"",71.599999999999994,5.4,0,51,74,8592,3,2012,{"$f":"VLOOKUP(Q112,Stores!$A:$B,2,FALSE)","v":"SULL"},"2012-03",{"$f":"VLOOKUP($Q112,Stores!$A:$D,4,FALSE)","v":"Closed"},{"$f":"VLOOKUP(Q112,Stores!$A:$C,3,FALSE)","v":"Seattle, WA"},6121,1.2089527854925666]
["8601 - Dallas, TX - Del Frisco's","",80.599999999999994,89.6,0,82.1,88.1,74.599999999999994,80.599999999999994,73.099999999999994,"",80.599999999999994,4.5,1,45,67,8601,3,2012,{"$f":"VLOOKUP(Q113,Stores!$A:$B,2,FALSE)","v":"DFDE"},"2012-03",{"$f":"VLOOKUP($Q113,Stores!$A:$D,4,FALSE)","v":"Closed"},{"$f":"VLOOKUP(Q113,Stores!$A:$C,3,FALSE)","v":"Dallas, TX"},4932,1.3584752635847526]
["8602 - Fort Worth, TX - Del Frisco's","",79.2,84,0,81.599999999999994,85.6,76,83.2,84.8,"",64,9.6,0,92,125,8602,3,2012,{"$f":"VLOOKUP(Q114,Stores!$A:$B,2,FALSE)","v":"DFDE"},"2012-03",{"$f":"VLOOKUP($Q114,Stores!$A:$D,4,FALSE)","v":"Open"},{"$f":"VLOOKUP(Q114,Stores!$A:$C,3,FALSE)","v":"Fort Worth, TX"},7035,1.7768301350390905]
["8603 - Denver, CO - Del Frisco's","",70.599999999999994,81.599999999999994,0,76.099999999999994,78.5,74.8,84,73,"",48.5,6.1,0,123,163,8603,3,2012,{"$f":"VLOOKUP(Q115,Stores!$A:$B,2,FALSE)","v":"DFDE"},"2012-03",{"$f":"VLOOKUP($Q115,Stores!$A:$D,4,FALSE)","v":"Open"},{"$f":"VLOOKUP(Q115,Stores!$A:$C,3,FALSE)","v":"Denver, CO"},11303,1.4420950190214987]
["8604 - Charlotte, NC - Del Frisco's","",85.5,85.5,0,85.5,88.2,85.5,86.8,85.5,"",59.2,7.9,0,47,76,8604,3,2012,{"$f":"VLOOKUP(Q116,Stores!$A:$B,2,FALSE)","v":"DFDE"},"2012-03",{"$f":"VLOOKUP($Q116,Stores!$A:$D,4,FALSE)","v":"Open"},{"$f":"VLOOKUP(Q116,Stores!$A:$C,3,FALSE)","v":"Charlotte, NC"},5532,1.3738250180766449]
["8605 - Houston, TX - Del Frisco's","",74.7,83.2,0,87.4,89.5,78.900000000000006,85.3,84.2,"",70.5,2.1,1,64,95,8605,3,2012,{"$f":"VLOOKUP(Q117,Stores!$A:$B,2,FALSE)","v":"DFDE"},"2012-03",{"$f":"VLOOKUP($Q117,Stores!$A:$D,4,FALSE)","v":"Open"},{"$f":"VLOOKUP(Q117,Stores!$A:$C,3,FALSE)","v":"Houston, TX"},8914,1.0657392865155935]
["8620 - New York City, NY - Del Frisco's","",73.400000000000006,78.900000000000006,0,83.9,87.9,73.900000000000006,80.400000000000006,72.900000000000006,"",65.8,5.5,2,143,199,8620,3,2012,{"$f":"VLOOKUP(Q118,Stores!$A:$B,2,FALSE)","v":"DFDE"},"2012-03",{"$f":"VLOOKUP($Q118,Stores!$A:$D,4,FALSE)","v":"Open"},{"$f":"VLOOKUP(Q118,Stores!$A:$C,3,FALSE)","v":"New York City, NY"},21832,0.91150604617075859]
["8635 - Boston, MA - Del Frisco's","",72.599999999999994,82.3,0,83.9,87.1,75,83.1,75.8,"",70.2,8.9,0,88,124,8635,3,2012,{"$f":"VLOOKUP(Q119,Stores!$A:$B,2,FALSE)","v":"DFDE"},"2012-03",{"$f":"VLOOKUP($Q119,Stores!$A:$D,4,FALSE)","v":"Open"},{"$f":"VLOOKUP(Q119,Stores!$A:$C,3,FALSE)","v":"Boston, MA"},11346,1.0928961748633881]
["8640 - Las Vegas, NV - Del Frisco's","",72.599999999999994,74,0,84.9,89,74,72.599999999999994,74,"",65.8,9.6,0,59,73,8640,3,2012,{"$f":"VLOOKUP(Q120,Stores!$A:$B,2,FALSE)","v":"DFDE"},"2012-03",{"$f":"VLOOKUP($Q120,Stores!$A:$D,4,FALSE)","v":"Open"},{"$f":"VLOOKUP(Q120,Stores!$A:$C,3,FALSE)","v":"Las Vegas, NV"},6855,1.0649161196207149]
["8650 - Chicago, IL - Del Frisco's","",71.099999999999994,65.8,0,73.7,78.900000000000006,65.8,76.3,68.400000000000006,"",52.6,15.8,0,29,38,8650,3,2012,{"$f":"VLOOKUP(Q121,Stores!$A:$B,2,FALSE)","v":"DFDE"},"2012-03",{"$f":"VLOOKUP($Q121,Stores!$A:$D,4,FALSE)","v":"Open"},{"$f":"VLOOKUP(Q121,Stores!$A:$C,3,FALSE)","v":"Chicago, IL"},5880,0.6462585034013606]
["8655 - Washington, DC -  Del Frisco's","",56.5,69.599999999999994,0,66.7,71,60.9,68.099999999999994,65.2,"",63.8,14.5,1,52,69,8655,3,2012,{"$f":"VLOOKUP(Q122,Stores!$A:$B,2,FALSE)","v":"DFDE"},"2012-03",{"$f":"VLOOKUP($Q122,Stores!$A:$D,4,FALSE)","v":"Open"},{"$f":"VLOOKUP(Q122,Stores!$A:$C,3,FALSE)","v":"Washington, DC"},8984,0.76803205699020483]
["8680 - Philadelphia, PA - Del Frisco's","",68.8,76.8,0,76.8,86.6,71.400000000000006,75,81.3,"",66.099999999999994,5.4,1,71,112,8680,3,2012,{"$f":"VLOOKUP(Q123,Stores!$A:$B,2,FALSE)","v":"DFDE"},"2012-03",{"$f":"VLOOKUP($Q123,Stores!$A:$D,4,FALSE)","v":"Open"},{"$f":"VLOOKUP(Q123,Stores!$A:$C,3,FALSE)","v":"Philadelphia, PA"},11908,0.94054417198522]
["8701 - New York City, NY - Grille","",63.3,73.3,0,73.3,76.7,66.7,66.7,56.7,"",70,13.3,0,18,30,8701,3,2012,{"$f":"VLOOKUP(Q124,Stores!$A:$B,2,FALSE)","v":"DFG"},"2012-03",{"$f":"VLOOKUP($Q124,Stores!$A:$D,4,FALSE)","v":"Open"},{"$f":"VLOOKUP(Q124,Stores!$A:$C,3,FALSE)","v":"New York City, NY"},11385,0.2635046113306983]
["8702 - Dallas, TX - Grille","",79.3,82.8,0,75.900000000000006,86.2,72.400000000000006,72.400000000000006,62.1,"",69,6.9,1,22,29,8702,3,2012,{"$f":"VLOOKUP(Q125,Stores!$A:$B,2,FALSE)","v":"DFG"},"2012-03",{"$f":"VLOOKUP($Q125,Stores!$A:$D,4,FALSE)","v":"Open"},{"$f":"VLOOKUP(Q125,Stores!$A:$C,3,FALSE)","v":"Dallas, TX"},8567,0.33850822925178009]
["8703 - Washington, DC - Grille","",70.8,62.5,0,75,79.2,79.2,66.7,66.7,"",50,12.5,0,22,24,8703,3,2012,{"$f":"VLOOKUP(Q126,Stores!$A:$B,2,FALSE)","v":"DFG"},"2012-03",{"$f":"VLOOKUP($Q126,Stores!$A:$D,4,FALSE)","v":"Open"},{"$f":"VLOOKUP(Q126,Stores!$A:$C,3,FALSE)","v":"Washington, DC"},5742,0.41797283176593519]
["8704 - Phoenix, AZ - Grille","",88.9,77.8,0,88.9,100,88.9,88.9,100,"",44.4,0,0,7,9,8704,3,2012,{"$f":"VLOOKUP(Q127,Stores!$A:$B,2,FALSE)","v":"DFG"},"2012-03",{"$f":"VLOOKUP($Q127,Stores!$A:$D,4,FALSE)","v":"Closed"},{"$f":"VLOOKUP(Q127,Stores!$A:$C,3,FALSE)","v":"Phoenix, AZ"},3865,0.2328589909443726]
["8705 - Palm Beach, FL - Grille","",63.6,75,0,75,86.4,52.3,65.900000000000006,70.5,"",79.5,22.7,1,28,44,8705,3,2012,{"$f":"VLOOKUP(Q128,Stores!$A:$B,2,FALSE)","v":"DFG"},"2012-03",{"$f":"VLOOKUP($Q128,Stores!$A:$D,4,FALSE)","v":"Closed"},{"$f":"VLOOKUP(Q128,Stores!$A:$C,3,FALSE)","v":"Palm Beach, FL"},3379,1.3021604024859426]
["8706 - Atlanta, GA - Grille","",60,60,0,68,72,68,76,60,"",72,8,0,18,25,8706,3,2012,{"$f":"VLOOKUP(Q129,Stores!$A:$B,2,FALSE)","v":"DFG"},"2012-03",{"$f":"VLOOKUP($Q129,Stores!$A:$D,4,FALSE)","v":"Open"},{"$f":"VLOOKUP(Q129,Stores!$A:$C,3,FALSE)","v":"Atlanta, GA"},8093,0.30890893364636102]
["8707 - River Oaks, TX - Grille","",73.3,83.3,0,83.3,83.3,76.7,80,63.3,"",53.3,10,0,22,30,8707,3,2012,{"$f":"VLOOKUP(Q130,Stores!$A:$B,2,FALSE)","v":"DFG"},"2012-03",{"$f":"VLOOKUP($Q130,Stores!$A:$D,4,FALSE)","v":"Open"},{"$f":"VLOOKUP(Q130,Stores!$A:$C,3,FALSE)","v":"Houston, TX"},7492,0.40042712226374799]
["8708 - Chestnut Hill, MA - Grille","",73.5,76.5,0,85.3,88.2,82.4,79.400000000000006,70.599999999999994,"",61.8,5.9,1,26,34,{"$f":"MID(A131,1,4)*1","v":8708},3,2012,{"$f":"VLOOKUP(Q131,Stores!$A:$B,2,FALSE)","v":"DFG"},{"$f":"S131&\"-\"&REPT(\"0\",2-LEN(R131))&R131","v":"2012-03"},{"$f":"VLOOKUP($Q131,Stores!$A:$D,4,FALSE)","v":"Open"},{"$f":"VLOOKUP(Q131,Stores!$A:$C,3,FALSE)","v":"Chestnut Hill, MA"},6440,{"$f":"P131/(X131/100)","v":0.52795031055900621}]
["8709 - Santa Monica, CA - Grille","",57.1,71.400000000000006,0,64.3,78.599999999999994,71.400000000000006,42.9,71.400000000000006,"",50,14.3,1,9,14,8709,3,2012,{"$f":"VLOOKUP(Q132,Stores!$A:$B,2,FALSE)","v":"DFG"},"2012-03",{"$f":"VLOOKUP($Q132,Stores!$A:$D,4,FALSE)","v":"Open"},{"$f":"VLOOKUP(Q132,Stores!$A:$C,3,FALSE)","v":"Santa Monica, CA"},12795,0.10941774130519734]
["8710 - Fort Worth, TX - Grille","",79.8,83,0,83,84,81.900000000000006,83,85.1,"",64.900000000000006,7.4,1,61,94,8710,3,2012,{"$f":"VLOOKUP(Q133,Stores!$A:$B,2,FALSE)","v":"DFG"},"2012-03",{"$f":"VLOOKUP($Q133,Stores!$A:$D,4,FALSE)","v":"Open"},{"$f":"VLOOKUP(Q133,Stores!$A:$C,3,FALSE)","v":"Fort Worth, TX"},9606,0.97855506974807405]
["8712 - Southlake, TX - Grille","",76.599999999999994,82.2,0,83.2,86,70.099999999999994,84.1,80.400000000000006,"",93.5,8.4,2,79,107,8712,3,2012,{"$f":"VLOOKUP(Q134,Stores!$A:$B,2,FALSE)","v":"DFG"},"2012-03",{"$f":"VLOOKUP($Q134,Stores!$A:$D,4,FALSE)","v":"Open"},{"$f":"VLOOKUP(Q134,Stores!$A:$C,3,FALSE)","v":"Southlake, TX"},11540,0.92720970537261693]
["8713 - Burlington, MA - Grille",41794,66.7,66.7,0,80.599999999999994,86.1,75,66.7,61.1,"",41.7,11.1,1,30,36,8713,3,2012,{"$f":"VLOOKUP(Q135,Stores!$A:$B,2,FALSE)","v":"DFG"},"2012-03",{"$f":"VLOOKUP($Q135,Stores!$A:$D,4,FALSE)","v":"Open"},{"$f":"VLOOKUP(Q135,Stores!$A:$C,3,FALSE)","v":"Burlington, MA"},9237,0.38973692757388761]
["8714 - N Bethesda, MD - Grille",41908,71,77.400000000000006,0,80.599999999999994,83.9,74.2,77.400000000000006,64.5,"",67.7,12.9,0,27,31,8714,3,2012,{"$f":"VLOOKUP(Q136,Stores!$A:$B,2,FALSE)","v":"DFG"},"2012-03",{"$f":"VLOOKUP($Q136,Stores!$A:$D,4,FALSE)","v":"Open"},{"$f":"VLOOKUP(Q136,Stores!$A:$C,3,FALSE)","v":"N. Bethesda, MD"},6583,0.47090991948959443]
["8715 - Irvine, CA - Grille","",80,82.9,0,85.7,88.6,74.3,82.9,85.7,"",68.599999999999994,0,0,31,35,8715,3,2012,{"$f":"VLOOKUP(Q137,Stores!$A:$B,2,FALSE)","v":"DFG"},"2012-03",{"$f":"VLOOKUP($Q137,Stores!$A:$D,4,FALSE)","v":"Open"},{"$f":"VLOOKUP(Q137,Stores!$A:$C,3,FALSE)","v":"Irvine, CA"},6772,0.51683402244536325]
["8716 - Tampa, FL - Grille","",88.9,88.9,0,97.2,94.4,91.7,94.4,91.7,"",52.8,0,0,28,36,8716,3,2012,{"$f":"VLOOKUP(Q138,Stores!$A:$B,2,FALSE)","v":"DFG"},"2012-03",{"$f":"VLOOKUP($Q138,Stores!$A:$D,4,FALSE)","v":"Open"},{"$f":"VLOOKUP(Q138,Stores!$A:$C,3,FALSE)","v":"Tampa, FL"},9143,0.39374384775237886]
["8717 - Pasadena, CA - Grille",41992,61,80.5,0,80.5,87.8,68.3,56.1,78,"",70.7,2.4,0,28,41,8717,3,2012,{"$f":"VLOOKUP(Q139,Stores!$A:$B,2,FALSE)","v":"DFG"},"2012-03",{"$f":"VLOOKUP($Q139,Stores!$A:$D,4,FALSE)","v":"Open"},{"$f":"VLOOKUP(Q139,Stores!$A:$C,3,FALSE)","v":"Pasadena, CA"},5725,0.71615720524017468]
["8501 - Austin, TX - Sullivan's","",81.099999999999994,78.400000000000006,0,89.2,89.2,81.099999999999994,75.7,81.099999999999994,71.400000000000006,86.5,8.1,1,30,37,8501,4,2012,{"$f":"VLOOKUP(Q140,Stores!$A:$B,2,FALSE)","v":"SULL"},"2012-04",{"$f":"VLOOKUP($Q140,Stores!$A:$D,4,FALSE)","v":"Open"},{"$f":"VLOOKUP(Q140,Stores!$A:$C,3,FALSE)","v":"Austin, TX"},6080,0.60855263157894735]
["8502 - Indianapolis, IN - Sullivan's","",72.2,73.2,0,81.400000000000006,86.6,73.2,77.3,75.3,42.3,62.9,9.3000000000000007,0,69,97,8502,4,2012,{"$f":"VLOOKUP(Q141,Stores!$A:$B,2,FALSE)","v":"SULL"},"2012-04",{"$f":"VLOOKUP($Q141,Stores!$A:$D,4,FALSE)","v":"Open"},{"$f":"VLOOKUP(Q141,Stores!$A:$C,3,FALSE)","v":"Indianapolis, IN"},6983,1.3890877846197909]
["8503 - Denver, CO - Sullivan's","",72,84,0,68,84,76,84,84,50,84,12,0,17,25,8503,4,2012,{"$f":"VLOOKUP(Q142,Stores!$A:$B,2,FALSE)","v":"SULL"},"2012-04",{"$f":"VLOOKUP($Q142,Stores!$A:$D,4,FALSE)","v":"Closed"},{"$f":"VLOOKUP(Q142,Stores!$A:$C,3,FALSE)","v":"Denver, CO"},2231,1.120573733751681]
["8504 - Houston, TX - Sullivan's","",76.8,82.1,0,82.1,89.3,83.9,78.599999999999994,80.400000000000006,70.8,67.900000000000006,5.4,0,42,56,8504,4,2012,{"$f":"VLOOKUP(Q143,Stores!$A:$B,2,FALSE)","v":"SULL"},"2012-04",{"$f":"VLOOKUP($Q143,Stores!$A:$D,4,FALSE)","v":"Closed"},{"$f":"VLOOKUP(Q143,Stores!$A:$C,3,FALSE)","v":"Houston, TX"},4235,1.3223140495867769]
["8510 - Wilmington, DE - Sullivan's","",76.7,80.2,0,89.5,90.7,81.400000000000006,84.9,81.400000000000006,56.3,83.7,7,0,71,86,8510,4,2012,{"$f":"VLOOKUP(Q144,Stores!$A:$B,2,FALSE)","v":"SULL"},"2012-04",{"$f":"VLOOKUP($Q144,Stores!$A:$D,4,FALSE)","v":"Open"},{"$f":"VLOOKUP(Q144,Stores!$A:$C,3,FALSE)","v":"Wilmington, DE"},5579,1.5414948915576268]
["8522 - King of Prussia, PA - Sullivan's","",58.8,72.900000000000006,0,76.5,78.8,70.599999999999994,63.5,62.4,42.9,83.5,9.4,1,66,85,8522,4,2012,{"$f":"VLOOKUP(Q145,Stores!$A:$B,2,FALSE)","v":"SULL"},"2012-04",{"$f":"VLOOKUP($Q145,Stores!$A:$D,4,FALSE)","v":"Open"},{"$f":"VLOOKUP(Q145,Stores!$A:$C,3,FALSE)","v":"King of Prussia, PA"},7019,1.2109987177660635]
["8525 - Tucson, AZ - Sullivan's","",78.400000000000006,79.7,0,90.5,91.9,86.5,85.1,85.1,83.3,68.900000000000006,4.0999999999999996,1,61,74,8525,4,2012,{"$f":"VLOOKUP(Q146,Stores!$A:$B,2,FALSE)","v":"SULL"},"2012-04",{"$f":"VLOOKUP($Q146,Stores!$A:$D,4,FALSE)","v":"Open"},{"$f":"VLOOKUP(Q146,Stores!$A:$C,3,FALSE)","v":"Tucson, AZ"},3985,1.8569636135508154]
["8532 - Omaha, NE - Sullivan's","",76.5,76.5,0,73.5,94.1,79.400000000000006,88.2,85.3,64.3,88.2,0,0,24,34,8532,4,2012,{"$f":"VLOOKUP(Q147,Stores!$A:$B,2,FALSE)","v":"SULL"},"2012-04",{"$f":"VLOOKUP($Q147,Stores!$A:$D,4,FALSE)","v":"Open"},{"$f":"VLOOKUP(Q147,Stores!$A:$C,3,FALSE)","v":"Omaha, NE"},4497,0.75605959528574607]
["8535 - Baltimore, MD - Sullivan's","",60,76,0,68,68,60,68,68,36.4,56,16,0,21,25,8535,4,2012,{"$f":"VLOOKUP(Q148,Stores!$A:$B,2,FALSE)","v":"SULL"},"2012-04",{"$f":"VLOOKUP($Q148,Stores!$A:$D,4,FALSE)","v":"Open"},{"$f":"VLOOKUP(Q148,Stores!$A:$C,3,FALSE)","v":"Baltimore, MD"},5654,0.4421648390519986]
["8536 - Leawood, KS - Sullivan's","",61.7,66.7,0,75,80,68.3,61.7,73.3,28.6,93.3,11.7,0,44,60,8536,4,2012,{"$f":"VLOOKUP(Q149,Stores!$A:$B,2,FALSE)","v":"SULL"},"2012-04",{"$f":"VLOOKUP($Q149,Stores!$A:$D,4,FALSE)","v":"Open"},{"$f":"VLOOKUP(Q149,Stores!$A:$C,3,FALSE)","v":"Leawood, KS"},5244,1.1441647597254005]
["8541 - Chicago, IL - Sullivan's","",75,81.3,0,81.3,90.6,68.8,90.6,81.3,58.3,90.6,6.3,0,27,32,8541,4,2012,{"$f":"VLOOKUP(Q150,Stores!$A:$B,2,FALSE)","v":"SULL"},"2012-04",{"$f":"VLOOKUP($Q150,Stores!$A:$D,4,FALSE)","v":"Open"},{"$f":"VLOOKUP(Q150,Stores!$A:$C,3,FALSE)","v":"Chicago, IL"},2643,1.2107453651153992]
["8542 - Naperville, IL - Sullivan's","",72.5,78.900000000000006,0,78.900000000000006,83.5,77.099999999999994,73.400000000000006,73.400000000000006,33.299999999999997,79.8,11,2,74,109,8542,4,2012,{"$f":"VLOOKUP(Q151,Stores!$A:$B,2,FALSE)","v":"SULL"},"2012-04",{"$f":"VLOOKUP($Q151,Stores!$A:$D,4,FALSE)","v":"Open"},{"$f":"VLOOKUP(Q151,Stores!$A:$C,3,FALSE)","v":"Naperville, IL"},6700,1.6268656716417911]
["8543 - Lincolnshire, IL - Sullivan's","",52.2,60.9,0,65.2,69.599999999999994,65.2,65.2,73.900000000000006,55.6,73.900000000000006,17.399999999999999,0,16,23,8543,4,2012,{"$f":"VLOOKUP(Q152,Stores!$A:$B,2,FALSE)","v":"SULL"},"2012-04",{"$f":"VLOOKUP($Q152,Stores!$A:$D,4,FALSE)","v":"Open"},{"$f":"VLOOKUP(Q152,Stores!$A:$C,3,FALSE)","v":"Lincolnshire, IL"},3806,0.60430898581187598]
["8551 - Baton Rouge, LA - Sullivan's","",80.3,85.5,0,82.9,92.1,75,86.8,90.8,63.2,86.8,5.3,0,55,76,8551,4,2012,{"$f":"VLOOKUP(Q153,Stores!$A:$B,2,FALSE)","v":"SULL"},"2012-04",{"$f":"VLOOKUP($Q153,Stores!$A:$D,4,FALSE)","v":"Open"},{"$f":"VLOOKUP(Q153,Stores!$A:$C,3,FALSE)","v":"Baton Rouge, LA"},4653,1.6333548248441865]
["8561 - Raleigh, NC - Sullivan's","",74.2,87.1,0,82.3,90.3,71,75.8,72.599999999999994,45.5,79,6.5,1,48,62,8561,4,2012,{"$f":"VLOOKUP(Q154,Stores!$A:$B,2,FALSE)","v":"SULL"},"2012-04",{"$f":"VLOOKUP($Q154,Stores!$A:$D,4,FALSE)","v":"Open"},{"$f":"VLOOKUP(Q154,Stores!$A:$C,3,FALSE)","v":"Raleigh, NC"},6475,0.9575289575289575]
["8562 - Charlotte, NC - Sullivan's","",88.2,79.400000000000006,0,79.400000000000006,94.1,79.400000000000006,85.3,76.5,54.5,64.7,0,0,24,34,8562,4,2012,{"$f":"VLOOKUP(Q155,Stores!$A:$B,2,FALSE)","v":"SULL"},"2012-04",{"$f":"VLOOKUP($Q155,Stores!$A:$D,4,FALSE)","v":"Open"},{"$f":"VLOOKUP(Q155,Stores!$A:$C,3,FALSE)","v":"Charlotte, NC"},4296,0.79143389199255121]
["8570 - Palm Desert, CA - Sullivan's","",68.099999999999994,72.3,0,78.7,93.6,78.7,68.099999999999994,63.8,57.9,74.5,2.1,0,36,47,8570,4,2012,{"$f":"VLOOKUP(Q156,Stores!$A:$B,2,FALSE)","v":"SULL"},"2012-04",{"$f":"VLOOKUP($Q156,Stores!$A:$D,4,FALSE)","v":"Open"},{"$f":"VLOOKUP(Q156,Stores!$A:$C,3,FALSE)","v":"Palm Desert, CA"},6450,0.72868217054263562]
["8591 - Anchorage, AK - Sullivan's","",76.5,72.5,0,78.400000000000006,86.3,76.5,74.5,70.599999999999994,72,80.400000000000006,11.8,0,41,51,8591,4,2012,{"$f":"VLOOKUP(Q157,Stores!$A:$B,2,FALSE)","v":"SULL"},"2012-04",{"$f":"VLOOKUP($Q157,Stores!$A:$D,4,FALSE)","v":"Open"},{"$f":"VLOOKUP(Q157,Stores!$A:$C,3,FALSE)","v":"Anchorage, AK"},4011,1.2715033657442034]
["8592 - Seattle, WA - Sullivan's","",89.4,86.4,0,86.4,87.9,86.4,84.8,84.8,76,63.6,1.5,0,48,66,8592,4,2012,{"$f":"VLOOKUP(Q158,Stores!$A:$B,2,FALSE)","v":"SULL"},"2012-04",{"$f":"VLOOKUP($Q158,Stores!$A:$D,4,FALSE)","v":"Closed"},{"$f":"VLOOKUP(Q158,Stores!$A:$C,3,FALSE)","v":"Seattle, WA"},5847,1.1287839917906619]
["8601 - Dallas, TX - Del Frisco's","",76.5,77.599999999999994,0,76.5,82.4,72.900000000000006,77.599999999999994,74.099999999999994,39.299999999999997,70.599999999999994,5.9,1,61,85,8601,4,2012,{"$f":"VLOOKUP(Q159,Stores!$A:$B,2,FALSE)","v":"DFDE"},"2012-04",{"$f":"VLOOKUP($Q159,Stores!$A:$D,4,FALSE)","v":"Closed"},{"$f":"VLOOKUP(Q159,Stores!$A:$C,3,FALSE)","v":"Dallas, TX"},5035,1.6881827209533267]
["8602 - Fort Worth, TX - Del Frisco's","",78,84.1,0,84.8,88.6,79.5,84.8,78.8,50.7,68.2,7.6,1,96,132,8602,4,2012,{"$f":"VLOOKUP(Q160,Stores!$A:$B,2,FALSE)","v":"DFDE"},"2012-04",{"$f":"VLOOKUP($Q160,Stores!$A:$D,4,FALSE)","v":"Open"},{"$f":"VLOOKUP(Q160,Stores!$A:$C,3,FALSE)","v":"Fort Worth, TX"},7514,1.7567207878626563]
["8603 - Denver, CO - Del Frisco's","",77.2,81.2,0,79.2,86.1,74.3,80.2,73.3,60.9,59.4,5.9,0,69,101,8603,4,2012,{"$f":"VLOOKUP(Q161,Stores!$A:$B,2,FALSE)","v":"DFDE"},"2012-04",{"$f":"VLOOKUP($Q161,Stores!$A:$D,4,FALSE)","v":"Open"},{"$f":"VLOOKUP(Q161,Stores!$A:$C,3,FALSE)","v":"Denver, CO"},8460,1.1938534278959811]
["8604 - Charlotte, NC - Del Frisco's","",69.599999999999994,76.8,0,88.4,89.9,82.6,72.5,81.2,61.8,65.2,10.1,0,45,69,8604,4,2012,{"$f":"VLOOKUP(Q162,Stores!$A:$B,2,FALSE)","v":"DFDE"},"2012-04",{"$f":"VLOOKUP($Q162,Stores!$A:$D,4,FALSE)","v":"Open"},{"$f":"VLOOKUP(Q162,Stores!$A:$C,3,FALSE)","v":"Charlotte, NC"},4829,1.42886726030234]
["8605 - Houston, TX - Del Frisco's","",83.8,84.8,0,81.8,87.9,79.8,86.9,80.8,51.1,80.8,4,0,59,99,8605,4,2012,{"$f":"VLOOKUP(Q163,Stores!$A:$B,2,FALSE)","v":"DFDE"},"2012-04",{"$f":"VLOOKUP($Q163,Stores!$A:$D,4,FALSE)","v":"Open"},{"$f":"VLOOKUP(Q163,Stores!$A:$C,3,FALSE)","v":"Houston, TX"},8542,1.1589791617888081]
["8620 - New York City, NY - Del Frisco's","",72.7,76,0,82,87.6,78.3,76.8,77.900000000000006,46.1,67.400000000000006,7.1,1,192,267,8620,4,2012,{"$f":"VLOOKUP(Q164,Stores!$A:$B,2,FALSE)","v":"DFDE"},"2012-04",{"$f":"VLOOKUP($Q164,Stores!$A:$D,4,FALSE)","v":"Open"},{"$f":"VLOOKUP(Q164,Stores!$A:$C,3,FALSE)","v":"New York City, NY"},22258,1.1995686944020127]
["8635 - Boston, MA - Del Frisco's","",76.5,83.3,0,86.3,90.2,76.5,77.5,79.400000000000006,45.3,72.5,2,0,71,102,8635,4,2012,{"$f":"VLOOKUP(Q165,Stores!$A:$B,2,FALSE)","v":"DFDE"},"2012-04",{"$f":"VLOOKUP($Q165,Stores!$A:$D,4,FALSE)","v":"Open"},{"$f":"VLOOKUP(Q165,Stores!$A:$C,3,FALSE)","v":"Boston, MA"},11435,0.89199825098382168]
["8640 - Las Vegas, NV - Del Frisco's","",78.7,84,0,80,85.3,70.7,88,80,48.6,69.3,2.7,0,56,75,8640,4,2012,{"$f":"VLOOKUP(Q166,Stores!$A:$B,2,FALSE)","v":"DFDE"},"2012-04",{"$f":"VLOOKUP($Q166,Stores!$A:$D,4,FALSE)","v":"Open"},{"$f":"VLOOKUP(Q166,Stores!$A:$C,3,FALSE)","v":"Las Vegas, NV"},7013,1.0694424639954372]
["8650 - Chicago, IL - Del Frisco's","",67.599999999999994,85.3,0,85.3,85.3,67.599999999999994,76.5,85.3,50,67.599999999999994,11.8,1,22,34,8650,4,2012,{"$f":"VLOOKUP(Q167,Stores!$A:$B,2,FALSE)","v":"DFDE"},"2012-04",{"$f":"VLOOKUP($Q167,Stores!$A:$D,4,FALSE)","v":"Open"},{"$f":"VLOOKUP(Q167,Stores!$A:$C,3,FALSE)","v":"Chicago, IL"},4599,0.73929115025005432]
["8655 - Washington, DC -  Del Frisco's","",75.400000000000006,78.5,0,78.5,86.2,70.8,87.7,86.2,56.8,61.5,6.2,0,43,65,8655,4,2012,{"$f":"VLOOKUP(Q168,Stores!$A:$B,2,FALSE)","v":"DFDE"},"2012-04",{"$f":"VLOOKUP($Q168,Stores!$A:$D,4,FALSE)","v":"Open"},{"$f":"VLOOKUP(Q168,Stores!$A:$C,3,FALSE)","v":"Washington, DC"},8894,0.7308297728805937]
["8680 - Philadelphia, PA - Del Frisco's","",73.099999999999994,76.2,0,75.400000000000006,81.5,70.8,81.5,80.8,43.6,56.2,7.7,2,88,130,8680,4,2012,{"$f":"VLOOKUP(Q169,Stores!$A:$B,2,FALSE)","v":"DFDE"},"2012-04",{"$f":"VLOOKUP($Q169,Stores!$A:$D,4,FALSE)","v":"Open"},{"$f":"VLOOKUP(Q169,Stores!$A:$C,3,FALSE)","v":"Philadelphia, PA"},11790,1.1026293469041559]
["8701 - New York City, NY - Grille","",61.5,79.5,0,66.7,69.2,66.7,76.900000000000006,66.7,47.6,61.5,10.3,1,25,39,8701,4,2012,{"$f":"VLOOKUP(Q170,Stores!$A:$B,2,FALSE)","v":"DFG"},"2012-04",{"$f":"VLOOKUP($Q170,Stores!$A:$D,4,FALSE)","v":"Open"},{"$f":"VLOOKUP(Q170,Stores!$A:$C,3,FALSE)","v":"New York City, NY"},13472,0.28948931116389548]
["8702 - Dallas, TX - Grille","",75,65,0,87.5,87.5,85,70,75,63.6,75,7.5,1,26,40,8702,4,2012,{"$f":"VLOOKUP(Q171,Stores!$A:$B,2,FALSE)","v":"DFG"},"2012-04",{"$f":"VLOOKUP($Q171,Stores!$A:$D,4,FALSE)","v":"Open"},{"$f":"VLOOKUP(Q171,Stores!$A:$C,3,FALSE)","v":"Dallas, TX"},8609,0.46463003833197813]
["8703 - Washington, DC - Grille","",77.8,72.2,0,83.3,77.8,77.8,77.8,66.7,70,27.8,0,0,10,18,8703,4,2012,{"$f":"VLOOKUP(Q172,Stores!$A:$B,2,FALSE)","v":"DFG"},"2012-04",{"$f":"VLOOKUP($Q172,Stores!$A:$D,4,FALSE)","v":"Open"},{"$f":"VLOOKUP(Q172,Stores!$A:$C,3,FALSE)","v":"Washington, DC"},6852,0.26269702276707529]
["8704 - Phoenix, AZ - Grille","",70,40,0,80,90,80,30,40,33.299999999999997,30,10,0,4,10,8704,4,2012,{"$f":"VLOOKUP(Q173,Stores!$A:$B,2,FALSE)","v":"DFG"},"2012-04",{"$f":"VLOOKUP($Q173,Stores!$A:$D,4,FALSE)","v":"Closed"},{"$f":"VLOOKUP(Q173,Stores!$A:$C,3,FALSE)","v":"Phoenix, AZ"},3243,0.3083564600678384]
["8705 - Palm Beach, FL - Grille","",53.6,67.900000000000006,0,75,82.1,71.400000000000006,60.7,67.900000000000006,60,89.3,7.1,0,19,28,8705,4,2012,{"$f":"VLOOKUP(Q174,Stores!$A:$B,2,FALSE)","v":"DFG"},"2012-04",{"$f":"VLOOKUP($Q174,Stores!$A:$D,4,FALSE)","v":"Closed"},{"$f":"VLOOKUP(Q174,Stores!$A:$C,3,FALSE)","v":"Palm Beach, FL"},2488,1.1254019292604502]
["8706 - Atlanta, GA - Grille","",52.8,72.2,0,77.8,80.599999999999994,72.2,58.3,75,59.1,83.3,11.1,2,25,36,8706,4,2012,{"$f":"VLOOKUP(Q175,Stores!$A:$B,2,FALSE)","v":"DFG"},"2012-04",{"$f":"VLOOKUP($Q175,Stores!$A:$D,4,FALSE)","v":"Open"},{"$f":"VLOOKUP(Q175,Stores!$A:$C,3,FALSE)","v":"Atlanta, GA"},7917,0.45471769609700641]
["8707 - River Oaks, TX - Grille","",81,89.7,0,87.9,91.4,86.2,81,82.8,50,62.1,1.7,0,40,58,8707,4,2012,{"$f":"VLOOKUP(Q176,Stores!$A:$B,2,FALSE)","v":"DFG"},"2012-04",{"$f":"VLOOKUP($Q176,Stores!$A:$D,4,FALSE)","v":"Open"},{"$f":"VLOOKUP(Q176,Stores!$A:$C,3,FALSE)","v":"Houston, TX"},7355,0.78857919782460917]
["8708 - Chestnut Hill, MA - Grille","",53.8,71.8,0,76.900000000000006,79.5,64.099999999999994,59,61.5,50,53.8,15.4,1,27,39,8708,4,2012,{"$f":"VLOOKUP(Q177,Stores!$A:$B,2,FALSE)","v":"DFG"},"2012-04",{"$f":"VLOOKUP($Q177,Stores!$A:$D,4,FALSE)","v":"Open"},{"$f":"VLOOKUP(Q177,Stores!$A:$C,3,FALSE)","v":"Chestnut Hill, MA"},6466,0.60315496442932259]
["8709 - Santa Monica, CA - Grille","",80,70,0,70,80,70,90,90,50,30,0,0,5,10,8709,4,2012,{"$f":"VLOOKUP(Q178,Stores!$A:$B,2,FALSE)","v":"DFG"},"2012-04",{"$f":"VLOOKUP($Q178,Stores!$A:$D,4,FALSE)","v":"Open"},{"$f":"VLOOKUP(Q178,Stores!$A:$C,3,FALSE)","v":"Santa Monica, CA"},14383,6.9526524369046785E-2]
["8710 - Fort Worth, TX - Grille","",80,85.3,0,84,92,82.7,74.7,88,63.2,66.7,2.7,0,46,75,8710,4,2012,{"$f":"VLOOKUP(Q179,Stores!$A:$B,2,FALSE)","v":"DFG"},"2012-04",{"$f":"VLOOKUP($Q179,Stores!$A:$D,4,FALSE)","v":"Open"},{"$f":"VLOOKUP(Q179,Stores!$A:$C,3,FALSE)","v":"Fort Worth, TX"},12618,0.59438896814075126]
["8712 - Southlake, TX - Grille","",63.6,74,0,76.599999999999994,76.599999999999994,75.3,68.8,72.7,41.7,84.4,13,3,60,77,8712,4,2012,{"$f":"VLOOKUP(Q180,Stores!$A:$B,2,FALSE)","v":"DFG"},"2012-04",{"$f":"VLOOKUP($Q180,Stores!$A:$D,4,FALSE)","v":"Open"},{"$f":"VLOOKUP(Q180,Stores!$A:$C,3,FALSE)","v":"Southlake, TX"},12624,0.60994930291508243]
["8713 - Burlington, MA - Grille",41794,60,76.7,0,73.3,83.3,60,63.3,50,33.299999999999997,36.700000000000003,3.3,0,16,30,8713,4,2012,{"$f":"VLOOKUP(Q181,Stores!$A:$B,2,FALSE)","v":"DFG"},"2012-04",{"$f":"VLOOKUP($Q181,Stores!$A:$D,4,FALSE)","v":"Open"},{"$f":"VLOOKUP(Q181,Stores!$A:$C,3,FALSE)","v":"Burlington, MA"},8950,0.33519553072625696]
["8714 - N Bethesda, MD - Grille",41908,62.5,68.8,0,75,87.5,75,56.3,62.5,50,75,6.3,1,16,16,8714,4,2012,{"$f":"VLOOKUP(Q182,Stores!$A:$B,2,FALSE)","v":"DFG"},"2012-04",{"$f":"VLOOKUP($Q182,Stores!$A:$D,4,FALSE)","v":"Open"},{"$f":"VLOOKUP(Q182,Stores!$A:$C,3,FALSE)","v":"N. Bethesda, MD"},6338,0.25244556642473964]
["8715 - Irvine, CA - Grille","",91.3,87,0,91.3,95.7,87,91.3,87,69.2,56.5,4.3,0,17,23,8715,4,2012,{"$f":"VLOOKUP(Q183,Stores!$A:$B,2,FALSE)","v":"DFG"},"2012-04",{"$f":"VLOOKUP($Q183,Stores!$A:$D,4,FALSE)","v":"Open"},{"$f":"VLOOKUP(Q183,Stores!$A:$C,3,FALSE)","v":"Irvine, CA"},4240,0.54245283018867929]
["8716 - Tampa, FL - Grille","",65.7,71.400000000000006,0,82.9,85.7,71.400000000000006,74.3,74.3,35.299999999999997,51.4,17.100000000000001,0,27,35,8716,4,2012,{"$f":"VLOOKUP(Q184,Stores!$A:$B,2,FALSE)","v":"DFG"},"2012-04",{"$f":"VLOOKUP($Q184,Stores!$A:$D,4,FALSE)","v":"Open"},{"$f":"VLOOKUP(Q184,Stores!$A:$C,3,FALSE)","v":"Tampa, FL"},8460,0.41371158392434992]
["8717 - Pasadena, CA - Grille",41992,68.599999999999994,71.400000000000006,0,82.9,94.3,77.099999999999994,62.9,77.099999999999994,66.7,71.400000000000006,8.6,0,25,35,8717,4,2012,{"$f":"VLOOKUP(Q185,Stores!$A:$B,2,FALSE)","v":"DFG"},"2012-04",{"$f":"VLOOKUP($Q185,Stores!$A:$D,4,FALSE)","v":"Open"},{"$f":"VLOOKUP(Q185,Stores!$A:$C,3,FALSE)","v":"Pasadena, CA"},3778,0.92641609317098994]
["8501 - Austin, TX - Sullivan's","",85,90,0,90,90,85,85,85,75,65,5,0,16,20,8501,5,2012,{"$f":"VLOOKUP(Q186,Stores!$A:$B,2,FALSE)","v":"SULL"},"2012-05",{"$f":"VLOOKUP($Q186,Stores!$A:$D,4,FALSE)","v":"Open"},{"$f":"VLOOKUP(Q186,Stores!$A:$C,3,FALSE)","v":"Austin, TX"},6249,0.3200512081933109]
["8502 - Indianapolis, IN - Sullivan's","",64.5,67.7,0,67.7,72.599999999999994,67.7,67.7,56.5,53.2,79,16.100000000000001,0,48,62,8502,5,2012,{"$f":"VLOOKUP(Q187,Stores!$A:$B,2,FALSE)","v":"SULL"},"2012-05",{"$f":"VLOOKUP($Q187,Stores!$A:$D,4,FALSE)","v":"Open"},{"$f":"VLOOKUP(Q187,Stores!$A:$C,3,FALSE)","v":"Indianapolis, IN"},7755,0.79948420373952289]
["8503 - Denver, CO - Sullivan's","",81,81,0,76.2,85.7,81,81,71.400000000000006,76.2,81,4.8,0,17,21,8503,5,2012,{"$f":"VLOOKUP(Q188,Stores!$A:$B,2,FALSE)","v":"SULL"},"2012-05",{"$f":"VLOOKUP($Q188,Stores!$A:$D,4,FALSE)","v":"Closed"},{"$f":"VLOOKUP(Q188,Stores!$A:$C,3,FALSE)","v":"Denver, CO"},2655,0.79096045197740106]
["8504 - Houston, TX - Sullivan's","",78.3,76.7,0,81.7,86.7,73.3,78.3,76.7,65,75,6.7,1,47,60,8504,5,2012,{"$f":"VLOOKUP(Q189,Stores!$A:$B,2,FALSE)","v":"SULL"},"2012-05",{"$f":"VLOOKUP($Q189,Stores!$A:$D,4,FALSE)","v":"Closed"},{"$f":"VLOOKUP(Q189,Stores!$A:$C,3,FALSE)","v":"Houston, TX"},5586,1.0741138560687433]
["8510 - Wilmington, DE - Sullivan's","",70.3,76.599999999999994,0,75,85.9,68.8,78.099999999999994,67.2,40.6,71.900000000000006,4.7,0,47,64,8510,5,2012,{"$f":"VLOOKUP(Q190,Stores!$A:$B,2,FALSE)","v":"SULL"},"2012-05",{"$f":"VLOOKUP($Q190,Stores!$A:$D,4,FALSE)","v":"Open"},{"$f":"VLOOKUP(Q190,Stores!$A:$C,3,FALSE)","v":"Wilmington, DE"},5919,1.0812637269809089]
["8522 - King of Prussia, PA - Sullivan's","",68.400000000000006,75.400000000000006,0,77.2,82.5,68.400000000000006,59.6,59.6,45.6,82.5,15.8,2,42,57,8522,5,2012,{"$f":"VLOOKUP(Q191,Stores!$A:$B,2,FALSE)","v":"SULL"},"2012-05",{"$f":"VLOOKUP($Q191,Stores!$A:$D,4,FALSE)","v":"Open"},{"$f":"VLOOKUP(Q191,Stores!$A:$C,3,FALSE)","v":"King of Prussia, PA"},7490,0.76101468624833102]
["8525 - Tucson, AZ - Sullivan's","",83.7,85.7,0,87.8,93.9,77.599999999999994,89.8,83.7,71.400000000000006,67.3,0,0,37,49,8525,5,2012,{"$f":"VLOOKUP(Q192,Stores!$A:$B,2,FALSE)","v":"SULL"},"2012-05",{"$f":"VLOOKUP($Q192,Stores!$A:$D,4,FALSE)","v":"Open"},{"$f":"VLOOKUP(Q192,Stores!$A:$C,3,FALSE)","v":"Tucson, AZ"},4565,1.0733844468784228]
["8532 - Omaha, NE - Sullivan's","",83.3,83.3,0,90,100,90,86.7,100,63.3,56.7,3.3,0,21,30,8532,5,2012,{"$f":"VLOOKUP(Q193,Stores!$A:$B,2,FALSE)","v":"SULL"},"2012-05",{"$f":"VLOOKUP($Q193,Stores!$A:$D,4,FALSE)","v":"Open"},{"$f":"VLOOKUP(Q193,Stores!$A:$C,3,FALSE)","v":"Omaha, NE"},5266,0.56969236612229401]
["8535 - Baltimore, MD - Sullivan's","",70,80,0,70,80,60,70,60,40,80,10,0,6,10,8535,5,2012,{"$f":"VLOOKUP(Q194,Stores!$A:$B,2,FALSE)","v":"SULL"},"2012-05",{"$f":"VLOOKUP($Q194,Stores!$A:$D,4,FALSE)","v":"Open"},{"$f":"VLOOKUP(Q194,Stores!$A:$C,3,FALSE)","v":"Baltimore, MD"},4529,0.22079929344226099]
["8536 - Leawood, KS - Sullivan's","",69.2,69.2,0,84.6,96.2,76.900000000000006,65.400000000000006,82.7,51.9,84.6,1.9,0,37,52,{"$f":"MID(A195,1,4)*1","v":8536},5,2012,{"$f":"VLOOKUP(Q195,Stores!$A:$B,2,FALSE)","v":"SULL"},{"$f":"S195&\"-\"&REPT(\"0\",2-LEN(R195))&R195","v":"2012-05"},{"$f":"VLOOKUP($Q195,Stores!$A:$D,4,FALSE)","v":"Open"},{"$f":"VLOOKUP(Q195,Stores!$A:$C,3,FALSE)","v":"Leawood, KS"},5465,{"$f":"P195/(X195/100)","v":0.95150960658737427}]
["8541 - Chicago, IL - Sullivan's","",88,88,0,88,88,80,88,72,72,84,8,0,20,25,8541,5,2012,{"$f":"VLOOKUP(Q196,Stores!$A:$B,2,FALSE)","v":"SULL"},"2012-05",{"$f":"VLOOKUP($Q196,Stores!$A:$D,4,FALSE)","v":"Open"},{"$f":"VLOOKUP(Q196,Stores!$A:$C,3,FALSE)","v":"Chicago, IL"},3639,0.68700192360538603]
["8542 - Naperville, IL - Sullivan's","",71.599999999999994,73.099999999999994,0,83.6,86.6,82.1,77.599999999999994,77.599999999999994,49.3,89.6,9,0,48,67,8542,5,2012,{"$f":"VLOOKUP(Q197,Stores!$A:$B,2,FALSE)","v":"SULL"},"2012-05",{"$f":"VLOOKUP($Q197,Stores!$A:$D,4,FALSE)","v":"Open"},{"$f":"VLOOKUP(Q197,Stores!$A:$C,3,FALSE)","v":"Naperville, IL"},6833,0.98053563588467729]
["8543 - Lincolnshire, IL - Sullivan's","",56,64,0,84,92,76,64,60,40,88,0,0,18,25,8543,5,2012,{"$f":"VLOOKUP(Q198,Stores!$A:$B,2,FALSE)","v":"SULL"},"2012-05",{"$f":"VLOOKUP($Q198,Stores!$A:$D,4,FALSE)","v":"Open"},{"$f":"VLOOKUP(Q198,Stores!$A:$C,3,FALSE)","v":"Lincolnshire, IL"},4247,0.588650812338121]
["8551 - Baton Rouge, LA - Sullivan's","",83.3,86.7,0,88.3,95,78.3,86.7,85,75,90,1.7,1,42,60,8551,5,2012,{"$f":"VLOOKUP(Q199,Stores!$A:$B,2,FALSE)","v":"SULL"},"2012-05",{"$f":"VLOOKUP($Q199,Stores!$A:$D,4,FALSE)","v":"Open"},{"$f":"VLOOKUP(Q199,Stores!$A:$C,3,FALSE)","v":"Baton Rouge, LA"},6150,0.97560975609756095]
["8561 - Raleigh, NC - Sullivan's","",60.4,70.8,0,68.8,75,62.5,68.8,58.3,43.8,72.900000000000006,10.4,2,33,48,8561,5,2012,{"$f":"VLOOKUP(Q200,Stores!$A:$B,2,FALSE)","v":"SULL"},"2012-05",{"$f":"VLOOKUP($Q200,Stores!$A:$D,4,FALSE)","v":"Open"},{"$f":"VLOOKUP(Q200,Stores!$A:$C,3,FALSE)","v":"Raleigh, NC"},6764,0.70963926670609101]
["8562 - Charlotte, NC - Sullivan's","",75,64.3,0,75,75,64.3,67.900000000000006,60.7,35.700000000000003,64.3,7.1,2,24,28,8562,5,2012,{"$f":"VLOOKUP(Q201,Stores!$A:$B,2,FALSE)","v":"SULL"},"2012-05",{"$f":"VLOOKUP($Q201,Stores!$A:$D,4,FALSE)","v":"Open"},{"$f":"VLOOKUP(Q201,Stores!$A:$C,3,FALSE)","v":"Charlotte, NC"},5148,0.54390054390054399]
["8570 - Palm Desert, CA - Sullivan's","",77.400000000000006,77.400000000000006,0,90.3,87.1,87.1,71,67.7,64.5,83.9,3.2,0,28,31,8570,5,2012,{"$f":"VLOOKUP(Q202,Stores!$A:$B,2,FALSE)","v":"SULL"},"2012-05",{"$f":"VLOOKUP($Q202,Stores!$A:$D,4,FALSE)","v":"Open"},{"$f":"VLOOKUP(Q202,Stores!$A:$C,3,FALSE)","v":"Palm Desert, CA"},5146,0.60240963855421681]
["8591 - Anchorage, AK - Sullivan's","",72.7,69.7,0,75.8,75.8,69.7,75.8,69.7,69.7,66.7,18.2,0,26,33,8591,5,2012,{"$f":"VLOOKUP(Q203,Stores!$A:$B,2,FALSE)","v":"SULL"},"2012-05",{"$f":"VLOOKUP($Q203,Stores!$A:$D,4,FALSE)","v":"Open"},{"$f":"VLOOKUP(Q203,Stores!$A:$C,3,FALSE)","v":"Anchorage, AK"},4186,0.78834209268991884]
["8592 - Seattle, WA - Sullivan's","",82.4,82.4,0,85.3,88.2,83.8,80.900000000000006,76.5,66.2,55.9,5.9,1,55,68,8592,5,2012,{"$f":"VLOOKUP(Q204,Stores!$A:$B,2,FALSE)","v":"SULL"},"2012-05",{"$f":"VLOOKUP($Q204,Stores!$A:$D,4,FALSE)","v":"Closed"},{"$f":"VLOOKUP(Q204,Stores!$A:$C,3,FALSE)","v":"Seattle, WA"},6342,1.0722169662567014]
["8601 - Dallas, TX - Del Frisco's","",76.599999999999994,79.7,0,81.3,85.9,85.9,76.599999999999994,71.900000000000006,50,68.8,7.8,0,45,64,8601,5,2012,{"$f":"VLOOKUP(Q205,Stores!$A:$B,2,FALSE)","v":"DFDE"},"2012-05",{"$f":"VLOOKUP($Q205,Stores!$A:$D,4,FALSE)","v":"Closed"},{"$f":"VLOOKUP(Q205,Stores!$A:$C,3,FALSE)","v":"Dallas, TX"},5253,1.2183514182371977]
["8602 - Fort Worth, TX - Del Frisco's","",79.3,80.7,0,89.6,92.6,81.5,83,84.4,59.3,80.7,6.7,3,98,135,8602,5,2012,{"$f":"VLOOKUP(Q206,Stores!$A:$B,2,FALSE)","v":"DFDE"},"2012-05",{"$f":"VLOOKUP($Q206,Stores!$A:$D,4,FALSE)","v":"Open"},{"$f":"VLOOKUP(Q206,Stores!$A:$C,3,FALSE)","v":"Fort Worth, TX"},7969,1.6940644999372569]
["8603 - Denver, CO - Del Frisco's","",69.599999999999994,65.900000000000006,0,70.400000000000006,75.599999999999994,70.400000000000006,74.8,71.099999999999994,40.700000000000003,45.9,13.3,0,91,135,8603,5,2012,{"$f":"VLOOKUP(Q207,Stores!$A:$B,2,FALSE)","v":"DFDE"},"2012-05",{"$f":"VLOOKUP($Q207,Stores!$A:$D,4,FALSE)","v":"Open"},{"$f":"VLOOKUP(Q207,Stores!$A:$C,3,FALSE)","v":"Denver, CO"},10468,1.2896446312571646]
["8604 - Charlotte, NC - Del Frisco's","",70.099999999999994,71.599999999999994,0,74.599999999999994,79.099999999999994,67.2,76.099999999999994,79.099999999999994,47.8,59.7,10.4,0,48,67,8604,5,2012,{"$f":"VLOOKUP(Q208,Stores!$A:$B,2,FALSE)","v":"DFDE"},"2012-05",{"$f":"VLOOKUP($Q208,Stores!$A:$D,4,FALSE)","v":"Open"},{"$f":"VLOOKUP(Q208,Stores!$A:$C,3,FALSE)","v":"Charlotte, NC"},6794,0.98616426258463352]
["8605 - Houston, TX - Del Frisco's","",78.599999999999994,72.400000000000006,0,77.599999999999994,84.7,76.5,77.599999999999994,77.599999999999994,58.2,75.5,6.1,2,69,98,8605,5,2012,{"$f":"VLOOKUP(Q209,Stores!$A:$B,2,FALSE)","v":"DFDE"},"2012-05",{"$f":"VLOOKUP($Q209,Stores!$A:$D,4,FALSE)","v":"Open"},{"$f":"VLOOKUP(Q209,Stores!$A:$C,3,FALSE)","v":"Houston, TX"},10407,0.94167387335447306]
["8620 - New York City, NY - Del Frisco's","",74.5,81,0,85.3,89.1,73.400000000000006,79.3,76.099999999999994,48.9,67.900000000000006,6.5,0,131,184,8620,5,2012,{"$f":"VLOOKUP(Q210,Stores!$A:$B,2,FALSE)","v":"DFDE"},"2012-05",{"$f":"VLOOKUP($Q210,Stores!$A:$D,4,FALSE)","v":"Open"},{"$f":"VLOOKUP(Q210,Stores!$A:$C,3,FALSE)","v":"New York City, NY"},24112,0.76310550763105511]
["8635 - Boston, MA - Del Frisco's","",64.5,75.2,0,76,82.6,63.6,65.3,67.8,38,62.8,13.2,0,88,121,8635,5,2012,{"$f":"VLOOKUP(Q211,Stores!$A:$B,2,FALSE)","v":"DFDE"},"2012-05",{"$f":"VLOOKUP($Q211,Stores!$A:$D,4,FALSE)","v":"Open"},{"$f":"VLOOKUP(Q211,Stores!$A:$C,3,FALSE)","v":"Boston, MA"},16063,0.75328394446865465]
["8640 - Las Vegas, NV - Del Frisco's","",65.5,80,0,85.5,87.3,78.2,70.900000000000006,69.099999999999994,56.4,83.6,7.3,0,44,55,8640,5,2012,{"$f":"VLOOKUP(Q212,Stores!$A:$B,2,FALSE)","v":"DFDE"},"2012-05",{"$f":"VLOOKUP($Q212,Stores!$A:$D,4,FALSE)","v":"Open"},{"$f":"VLOOKUP(Q212,Stores!$A:$C,3,FALSE)","v":"Las Vegas, NV"},6725,0.81784386617100369]
["8650 - Chicago, IL - Del Frisco's","",60,66.7,0,71.099999999999994,80,64.400000000000006,71.099999999999994,73.3,44.4,68.900000000000006,11.1,1,35,45,8650,5,2012,{"$f":"VLOOKUP(Q213,Stores!$A:$B,2,FALSE)","v":"DFDE"},"2012-05",{"$f":"VLOOKUP($Q213,Stores!$A:$D,4,FALSE)","v":"Open"},{"$f":"VLOOKUP(Q213,Stores!$A:$C,3,FALSE)","v":"Chicago, IL"},7430,0.60565275908479144]
["8655 - Washington, DC -  Del Frisco's","",62.3,72.5,0,66.7,79.7,60.9,73.900000000000006,79.7,46.4,60.9,20.3,2,52,69,8655,5,2012,{"$f":"VLOOKUP(Q214,Stores!$A:$B,2,FALSE)","v":"DFDE"},"2012-05",{"$f":"VLOOKUP($Q214,Stores!$A:$D,4,FALSE)","v":"Open"},{"$f":"VLOOKUP(Q214,Stores!$A:$C,3,FALSE)","v":"Washington, DC"},10498,0.6572680510573442]
["8680 - Philadelphia, PA - Del Frisco's","",68.599999999999994,77.5,0,73.5,86.3,73.5,76.5,77.5,42.2,64.7,9.8000000000000007,2,67,102,8680,5,2012,{"$f":"VLOOKUP(Q215,Stores!$A:$B,2,FALSE)","v":"DFDE"},"2012-05",{"$f":"VLOOKUP($Q215,Stores!$A:$D,4,FALSE)","v":"Open"},{"$f":"VLOOKUP(Q215,Stores!$A:$C,3,FALSE)","v":"Philadelphia, PA"},12647,0.80651537914129834]
["8701 - New York City, NY - Grille","",57.1,71.400000000000006,0,63.3,69.400000000000006,67.3,73.5,61.2,44.9,67.3,4.0999999999999996,1,33,49,8701,5,2012,{"$f":"VLOOKUP(Q216,Stores!$A:$B,2,FALSE)","v":"DFG"},"2012-05",{"$f":"VLOOKUP($Q216,Stores!$A:$D,4,FALSE)","v":"Open"},{"$f":"VLOOKUP(Q216,Stores!$A:$C,3,FALSE)","v":"New York City, NY"},14207,0.34490040121067084]
["8702 - Dallas, TX - Grille","",53.7,65.900000000000006,0,58.5,61,65.900000000000006,65.900000000000006,65.900000000000006,43.9,58.5,22,1,31,41,8702,5,2012,{"$f":"VLOOKUP(Q217,Stores!$A:$B,2,FALSE)","v":"DFG"},"2012-05",{"$f":"VLOOKUP($Q217,Stores!$A:$D,4,FALSE)","v":"Open"},{"$f":"VLOOKUP(Q217,Stores!$A:$C,3,FALSE)","v":"Dallas, TX"},9251,0.4431953302345692]
["8703 - Washington, DC - Grille","",54.5,50,0,59.1,68.2,59.1,63.6,59.1,40.9,18.2,18.2,0,17,22,8703,5,2012,{"$f":"VLOOKUP(Q218,Stores!$A:$B,2,FALSE)","v":"DFG"},"2012-05",{"$f":"VLOOKUP($Q218,Stores!$A:$D,4,FALSE)","v":"Open"},{"$f":"VLOOKUP(Q218,Stores!$A:$C,3,FALSE)","v":"Washington, DC"},7078,0.31082226617688613]
["8704 - Phoenix, AZ - Grille","",80,60,0,80,80,60,80,80,40,40,20,0,2,5,8704,5,2012,{"$f":"VLOOKUP(Q219,Stores!$A:$B,2,FALSE)","v":"DFG"},"2012-05",{"$f":"VLOOKUP($Q219,Stores!$A:$D,4,FALSE)","v":"Closed"},{"$f":"VLOOKUP(Q219,Stores!$A:$C,3,FALSE)","v":"Phoenix, AZ"},3256,0.15356265356265356]
["8705 - Palm Beach, FL - Grille","",60.9,69.599999999999994,0,69.599999999999994,87,56.5,56.5,65.2,60.9,82.6,4.3,0,19,23,8705,5,2012,{"$f":"VLOOKUP(Q220,Stores!$A:$B,2,FALSE)","v":"DFG"},"2012-05",{"$f":"VLOOKUP($Q220,Stores!$A:$D,4,FALSE)","v":"Closed"},{"$f":"VLOOKUP(Q220,Stores!$A:$C,3,FALSE)","v":"Palm Beach, FL"},1734,1.3264129181084199]
["8706 - Atlanta, GA - Grille","",75,77.5,0,75,82.5,72.5,72.5,82.5,57.5,75,15,1,30,40,8706,5,2012,{"$f":"VLOOKUP(Q221,Stores!$A:$B,2,FALSE)","v":"DFG"},"2012-05",{"$f":"VLOOKUP($Q221,Stores!$A:$D,4,FALSE)","v":"Open"},{"$f":"VLOOKUP(Q221,Stores!$A:$C,3,FALSE)","v":"Atlanta, GA"},9236,0.43308791684711995]
["8707 - River Oaks, TX - Grille","",87.5,90.6,0,90.6,96.9,81.3,81.3,71.900000000000006,78.099999999999994,65.599999999999994,0,0,24,32,8707,5,2012,{"$f":"VLOOKUP(Q222,Stores!$A:$B,2,FALSE)","v":"DFG"},"2012-05",{"$f":"VLOOKUP($Q222,Stores!$A:$D,4,FALSE)","v":"Open"},{"$f":"VLOOKUP(Q222,Stores!$A:$C,3,FALSE)","v":"Houston, TX"},7704,0.41536863966770504]
["8708 - Chestnut Hill, MA - Grille","",58.1,67.7,0,74.2,74.2,71,61.3,58.1,45.2,64.5,9.6999999999999993,0,23,31,8708,5,2012,{"$f":"VLOOKUP(Q223,Stores!$A:$B,2,FALSE)","v":"DFG"},"2012-05",{"$f":"VLOOKUP($Q223,Stores!$A:$D,4,FALSE)","v":"Open"},{"$f":"VLOOKUP(Q223,Stores!$A:$C,3,FALSE)","v":"Chestnut Hill, MA"},6716,0.46158427635497323]
["8709 - Santa Monica, CA - Grille","",62.5,87.5,0,62.5,87.5,75,75,75,50,37.5,12.5,0,5,8,8709,5,2012,{"$f":"VLOOKUP(Q224,Stores!$A:$B,2,FALSE)","v":"DFG"},"2012-05",{"$f":"VLOOKUP($Q224,Stores!$A:$D,4,FALSE)","v":"Open"},{"$f":"VLOOKUP(Q224,Stores!$A:$C,3,FALSE)","v":"Santa Monica, CA"},11770,6.7969413763806288E-2]
["8710 - Fort Worth, TX - Grille","",71,79,0,72.599999999999994,77.400000000000006,74.2,75.8,74.2,56.5,62.9,6.5,2,33,62,8710,5,2012,{"$f":"VLOOKUP(Q225,Stores!$A:$B,2,FALSE)","v":"DFG"},"2012-05",{"$f":"VLOOKUP($Q225,Stores!$A:$D,4,FALSE)","v":"Open"},{"$f":"VLOOKUP(Q225,Stores!$A:$C,3,FALSE)","v":"Fort Worth, TX"},12226,0.50711598233273347]
["8712 - Southlake, TX - Grille","",62.7,68.7,0,80.7,81.900000000000006,69.900000000000006,77.099999999999994,67.5,44.6,80.7,9.6,0,63,83,8712,5,2012,{"$f":"VLOOKUP(Q226,Stores!$A:$B,2,FALSE)","v":"DFG"},"2012-05",{"$f":"VLOOKUP($Q226,Stores!$A:$D,4,FALSE)","v":"Open"},{"$f":"VLOOKUP(Q226,Stores!$A:$C,3,FALSE)","v":"Southlake, TX"},13273,0.62532961651472918]
["8713 - Burlington, MA - Grille",41794,56.9,56.9,0,70.599999999999994,72.5,54.9,56.9,58.8,43.1,47.1,19.600000000000001,1,35,51,8713,5,2012,{"$f":"VLOOKUP(Q227,Stores!$A:$B,2,FALSE)","v":"DFG"},"2012-05",{"$f":"VLOOKUP($Q227,Stores!$A:$D,4,FALSE)","v":"Open"},{"$f":"VLOOKUP(Q227,Stores!$A:$C,3,FALSE)","v":"Burlington, MA"},9414,0.54174633524537918]
["8714 - N Bethesda, MD - Grille",41908,63,59.3,0,70.400000000000006,77.8,63,70.400000000000006,59.3,40.700000000000003,63,14.8,0,19,27,8714,5,2012,{"$f":"VLOOKUP(Q228,Stores!$A:$B,2,FALSE)","v":"DFG"},"2012-05",{"$f":"VLOOKUP($Q228,Stores!$A:$D,4,FALSE)","v":"Open"},{"$f":"VLOOKUP(Q228,Stores!$A:$C,3,FALSE)","v":"N. Bethesda, MD"},7571,0.3566239598467838]
["8715 - Irvine, CA - Grille","",76.5,76.5,0,88.2,94.1,76.5,76.5,94.1,64.7,70.599999999999994,11.8,0,14,17,8715,5,2012,{"$f":"VLOOKUP(Q229,Stores!$A:$B,2,FALSE)","v":"DFG"},"2012-05",{"$f":"VLOOKUP($Q229,Stores!$A:$D,4,FALSE)","v":"Open"},{"$f":"VLOOKUP(Q229,Stores!$A:$C,3,FALSE)","v":"Irvine, CA"},6101,0.27864284543517459]
["8716 - Tampa, FL - Grille","",86.2,75.900000000000006,0,89.7,93.1,86.2,75.900000000000006,86.2,51.7,34.5,0,0,18,29,8716,5,2012,{"$f":"VLOOKUP(Q230,Stores!$A:$B,2,FALSE)","v":"DFG"},"2012-05",{"$f":"VLOOKUP($Q230,Stores!$A:$D,4,FALSE)","v":"Open"},{"$f":"VLOOKUP(Q230,Stores!$A:$C,3,FALSE)","v":"Tampa, FL"},8433,0.34388711016245704]
["8717 - Pasadena, CA - Grille",41992,75.599999999999994,82.9,0,90.2,90.2,75.599999999999994,80.5,82.9,51.2,82.9,9.8000000000000007,0,31,41,8717,5,2012,{"$f":"VLOOKUP(Q231,Stores!$A:$B,2,FALSE)","v":"DFG"},"2012-05",{"$f":"VLOOKUP($Q231,Stores!$A:$D,4,FALSE)","v":"Open"},{"$f":"VLOOKUP(Q231,Stores!$A:$C,3,FALSE)","v":"Pasadena, CA"},5947,0.68942323860770138]
["8501 - Austin, TX - Sullivan's","",33.299999999999997,33.299999999999997,0,33.299999999999997,33.299999999999997,33.299999999999997,33.299999999999997,33.299999999999997,33.299999999999997,66.7,33.299999999999997,1,3,3,8501,6,2012,{"$f":"VLOOKUP(Q232,Stores!$A:$B,2,FALSE)","v":"SULL"},"2012-06",{"$f":"VLOOKUP($Q232,Stores!$A:$D,4,FALSE)","v":"Open"},{"$f":"VLOOKUP(Q232,Stores!$A:$C,3,FALSE)","v":"Austin, TX"},5014,5.9832469086557635E-2]
["8502 - Indianapolis, IN - Sullivan's","",75.599999999999994,80,0,84.4,86.7,82.2,80,71.099999999999994,44.4,84.4,6.7,0,36,45,8502,6,2012,{"$f":"VLOOKUP(Q233,Stores!$A:$B,2,FALSE)","v":"SULL"},"2012-06",{"$f":"VLOOKUP($Q233,Stores!$A:$D,4,FALSE)","v":"Open"},{"$f":"VLOOKUP(Q233,Stores!$A:$C,3,FALSE)","v":"Indianapolis, IN"},5818,0.77346167067720861]
["8503 - Denver, CO - Sullivan's","",81.8,72.7,0,86.4,100,81.8,90.9,77.3,54.5,86.4,4.5,0,18,22,8503,6,2012,{"$f":"VLOOKUP(Q234,Stores!$A:$B,2,FALSE)","v":"SULL"},"2012-06",{"$f":"VLOOKUP($Q234,Stores!$A:$D,4,FALSE)","v":"Closed"},{"$f":"VLOOKUP(Q234,Stores!$A:$C,3,FALSE)","v":"Denver, CO"},1587,1.3862633900441084]
["8504 - Houston, TX - Sullivan's","",93.3,96.7,0,96.7,96.7,86.7,86.7,86.7,70,86.7,0,0,20,30,8504,6,2012,{"$f":"VLOOKUP(Q235,Stores!$A:$B,2,FALSE)","v":"SULL"},"2012-06",{"$f":"VLOOKUP($Q235,Stores!$A:$D,4,FALSE)","v":"Closed"},{"$f":"VLOOKUP(Q235,Stores!$A:$C,3,FALSE)","v":"Houston, TX"},3537,0.8481764206955047]
["8510 - Wilmington, DE - Sullivan's","",73.099999999999994,75,0,86.5,82.7,78.8,78.8,76.900000000000006,55.8,82.7,5.8,0,41,52,8510,6,2012,{"$f":"VLOOKUP(Q236,Stores!$A:$B,2,FALSE)","v":"SULL"},"2012-06",{"$f":"VLOOKUP($Q236,Stores!$A:$D,4,FALSE)","v":"Open"},{"$f":"VLOOKUP(Q236,Stores!$A:$C,3,FALSE)","v":"Wilmington, DE"},4953,1.0498687664041995]
["8522 - King of Prussia, PA - Sullivan's","",71.2,78.8,0,82.7,86.5,65.400000000000006,69.2,61.5,57.7,82.7,7.7,0,43,52,8522,6,2012,{"$f":"VLOOKUP(Q237,Stores!$A:$B,2,FALSE)","v":"SULL"},"2012-06",{"$f":"VLOOKUP($Q237,Stores!$A:$D,4,FALSE)","v":"Open"},{"$f":"VLOOKUP(Q237,Stores!$A:$C,3,FALSE)","v":"King of Prussia, PA"},5512,0.94339622641509435]
["8525 - Tucson, AZ - Sullivan's","",93.9,84.8,0,87.9,93.9,90.9,90.9,84.8,75.8,63.6,3,0,26,33,8525,6,2012,{"$f":"VLOOKUP(Q238,Stores!$A:$B,2,FALSE)","v":"SULL"},"2012-06",{"$f":"VLOOKUP($Q238,Stores!$A:$D,4,FALSE)","v":"Open"},{"$f":"VLOOKUP(Q238,Stores!$A:$C,3,FALSE)","v":"Tucson, AZ"},3392,0.972877358490566]
["8532 - Omaha, NE - Sullivan's","",63.6,59.1,0,68.2,77.3,59.1,59.1,77.3,45.5,72.7,13.6,0,12,22,8532,6,2012,{"$f":"VLOOKUP(Q239,Stores!$A:$B,2,FALSE)","v":"SULL"},"2012-06",{"$f":"VLOOKUP($Q239,Stores!$A:$D,4,FALSE)","v":"Open"},{"$f":"VLOOKUP(Q239,Stores!$A:$C,3,FALSE)","v":"Omaha, NE"},4651,0.47301655557944527]
["8535 - Baltimore, MD - Sullivan's","",84.2,68.400000000000006,0,73.7,73.7,73.7,73.7,78.900000000000006,57.9,63.2,10.5,0,12,19,8535,6,2012,{"$f":"VLOOKUP(Q240,Stores!$A:$B,2,FALSE)","v":"SULL"},"2012-06",{"$f":"VLOOKUP($Q240,Stores!$A:$D,4,FALSE)","v":"Open"},{"$f":"VLOOKUP(Q240,Stores!$A:$C,3,FALSE)","v":"Baltimore, MD"},4743,0.40059034366434748]
["8536 - Leawood, KS - Sullivan's","",63.4,63.4,0,65.900000000000006,73.2,63.4,73.2,73.2,46.3,92.7,12.2,0,24,41,8536,6,2012,{"$f":"VLOOKUP(Q241,Stores!$A:$B,2,FALSE)","v":"SULL"},"2012-06",{"$f":"VLOOKUP($Q241,Stores!$A:$D,4,FALSE)","v":"Open"},{"$f":"VLOOKUP(Q241,Stores!$A:$C,3,FALSE)","v":"Leawood, KS"},4487,0.91375083574771565]
["8541 - Chicago, IL - Sullivan's","",54.5,63.6,0,90.9,90.9,72.7,72.7,81.8,45.5,72.7,9.1,0,8,11,8541,6,2012,{"$f":"VLOOKUP(Q242,Stores!$A:$B,2,FALSE)","v":"SULL"},"2012-06",{"$f":"VLOOKUP($Q242,Stores!$A:$D,4,FALSE)","v":"Open"},{"$f":"VLOOKUP(Q242,Stores!$A:$C,3,FALSE)","v":"Chicago, IL"},3610,0.3047091412742382]
["8542 - Naperville, IL - Sullivan's","",67.2,73.400000000000006,0,71.900000000000006,89.1,67.2,64.099999999999994,67.2,43.8,78.099999999999994,10.9,3,44,64,8542,6,2012,{"$f":"VLOOKUP(Q243,Stores!$A:$B,2,FALSE)","v":"SULL"},"2012-06",{"$f":"VLOOKUP($Q243,Stores!$A:$D,4,FALSE)","v":"Open"},{"$f":"VLOOKUP(Q243,Stores!$A:$C,3,FALSE)","v":"Naperville, IL"},5615,1.1398040961709706]
["8543 - Lincolnshire, IL - Sullivan's","",76,80,0,80,92,80,80,80,56,80,8,0,18,25,8543,6,2012,{"$f":"VLOOKUP(Q244,Stores!$A:$B,2,FALSE)","v":"SULL"},"2012-06",{"$f":"VLOOKUP($Q244,Stores!$A:$D,4,FALSE)","v":"Open"},{"$f":"VLOOKUP(Q244,Stores!$A:$C,3,FALSE)","v":"Lincolnshire, IL"},3767,0.66365808335545529]
["8551 - Baton Rouge, LA - Sullivan's","",82.9,82.9,0,90.2,92.7,75.599999999999994,85.4,85.4,73.2,87.8,4.9000000000000004,1,30,41,8551,6,2012,{"$f":"VLOOKUP(Q245,Stores!$A:$B,2,FALSE)","v":"SULL"},"2012-06",{"$f":"VLOOKUP($Q245,Stores!$A:$D,4,FALSE)","v":"Open"},{"$f":"VLOOKUP(Q245,Stores!$A:$C,3,FALSE)","v":"Baton Rouge, LA"},4392,0.93351548269581053]
["8561 - Raleigh, NC - Sullivan's","",57.8,68.900000000000006,0,73.3,80,68.900000000000006,71.099999999999994,64.400000000000006,53.3,68.900000000000006,15.6,2,40,45,8561,6,2012,{"$f":"VLOOKUP(Q246,Stores!$A:$B,2,FALSE)","v":"SULL"},"2012-06",{"$f":"VLOOKUP($Q246,Stores!$A:$D,4,FALSE)","v":"Open"},{"$f":"VLOOKUP(Q246,Stores!$A:$C,3,FALSE)","v":"Raleigh, NC"},5360,0.83955223880597007]
["8562 - Charlotte, NC - Sullivan's","",66.7,55.6,0,72.2,66.7,66.7,66.7,55.6,38.9,50,11.1,1,11,18,8562,6,2012,{"$f":"VLOOKUP(Q247,Stores!$A:$B,2,FALSE)","v":"SULL"},"2012-06",{"$f":"VLOOKUP($Q247,Stores!$A:$D,4,FALSE)","v":"Open"},{"$f":"VLOOKUP(Q247,Stores!$A:$C,3,FALSE)","v":"Charlotte, NC"},3895,0.46213093709884462]
["8570 - Palm Desert, CA - Sullivan's","",66.7,81.5,0,81.5,85.2,77.8,70.400000000000006,70.400000000000006,66.7,88.9,3.7,0,22,27,8570,6,2012,{"$f":"VLOOKUP(Q248,Stores!$A:$B,2,FALSE)","v":"SULL"},"2012-06",{"$f":"VLOOKUP($Q248,Stores!$A:$D,4,FALSE)","v":"Open"},{"$f":"VLOOKUP(Q248,Stores!$A:$C,3,FALSE)","v":"Palm Desert, CA"},4985,0.54162487462387154]
["8591 - Anchorage, AK - Sullivan's","",78.900000000000006,84.2,0,78.900000000000006,89.5,84.2,84.2,57.9,73.7,57.9,5.3,0,18,19,8591,6,2012,{"$f":"VLOOKUP(Q249,Stores!$A:$B,2,FALSE)","v":"SULL"},"2012-06",{"$f":"VLOOKUP($Q249,Stores!$A:$D,4,FALSE)","v":"Open"},{"$f":"VLOOKUP(Q249,Stores!$A:$C,3,FALSE)","v":"Anchorage, AK"},3279,0.5794449527294907]
["8592 - Seattle, WA - Sullivan's","",72.7,81.8,0,78.8,84.8,72.7,63.6,69.7,57.6,72.7,3,0,26,33,8592,6,2012,{"$f":"VLOOKUP(Q250,Stores!$A:$B,2,FALSE)","v":"SULL"},"2012-06",{"$f":"VLOOKUP($Q250,Stores!$A:$D,4,FALSE)","v":"Closed"},{"$f":"VLOOKUP(Q250,Stores!$A:$C,3,FALSE)","v":"Seattle, WA"},4681,0.70497756889553509]
["8601 - Dallas, TX - Del Frisco's","",80.3,86.9,0,86.9,90.2,78.7,82,77,57.4,85.2,1.6,0,49,61,8601,6,2012,{"$f":"VLOOKUP(Q251,Stores!$A:$B,2,FALSE)","v":"DFDE"},"2012-06",{"$f":"VLOOKUP($Q251,Stores!$A:$D,4,FALSE)","v":"Closed"},{"$f":"VLOOKUP(Q251,Stores!$A:$C,3,FALSE)","v":"Dallas, TX"},4614,1.3220632856523624]
["8602 - Fort Worth, TX - Del Frisco's","",79.3,86,0,83.5,92.1,73.8,81.099999999999994,85.4,61,77.400000000000006,7.3,1,118,164,8602,6,2012,{"$f":"VLOOKUP(Q252,Stores!$A:$B,2,FALSE)","v":"DFDE"},"2012-06",{"$f":"VLOOKUP($Q252,Stores!$A:$D,4,FALSE)","v":"Open"},{"$f":"VLOOKUP(Q252,Stores!$A:$C,3,FALSE)","v":"Fort Worth, TX"},7244,2.2639425731639977]
["8603 - Denver, CO - Del Frisco's","",70.2,77.400000000000006,0,73.8,79.8,66.7,82.1,78.599999999999994,47.6,61.9,8.3000000000000007,0,59,84,8603,6,2012,{"$f":"VLOOKUP(Q253,Stores!$A:$B,2,FALSE)","v":"DFDE"},"2012-06",{"$f":"VLOOKUP($Q253,Stores!$A:$D,4,FALSE)","v":"Open"},{"$f":"VLOOKUP(Q253,Stores!$A:$C,3,FALSE)","v":"Denver, CO"},9468,0.88719898605830161]
["8604 - Charlotte, NC - Del Frisco's","",80.900000000000006,80.900000000000006,0,80.900000000000006,85.3,75,85.3,91.2,45.6,69.099999999999994,4.4000000000000004,0,46,68,8604,6,2012,{"$f":"VLOOKUP(Q254,Stores!$A:$B,2,FALSE)","v":"DFDE"},"2012-06",{"$f":"VLOOKUP($Q254,Stores!$A:$D,4,FALSE)","v":"Open"},{"$f":"VLOOKUP(Q254,Stores!$A:$C,3,FALSE)","v":"Charlotte, NC"},5314,1.2796386902521641]
["8605 - Houston, TX - Del Frisco's","",79.400000000000006,79.400000000000006,0,84.1,87.3,81,79.400000000000006,82.5,52.4,60.3,9.5,3,46,63,8605,6,2012,{"$f":"VLOOKUP(Q255,Stores!$A:$B,2,FALSE)","v":"DFDE"},"2012-06",{"$f":"VLOOKUP($Q255,Stores!$A:$D,4,FALSE)","v":"Open"},{"$f":"VLOOKUP(Q255,Stores!$A:$C,3,FALSE)","v":"Houston, TX"},7290,0.86419753086419748]
["8620 - New York City, NY - Del Frisco's","",80.2,79.2,0,87.1,89.6,81.2,84.7,77.7,48,55.9,5,1,141,202,8620,6,2012,{"$f":"VLOOKUP(Q256,Stores!$A:$B,2,FALSE)","v":"DFDE"},"2012-06",{"$f":"VLOOKUP($Q256,Stores!$A:$D,4,FALSE)","v":"Open"},{"$f":"VLOOKUP(Q256,Stores!$A:$C,3,FALSE)","v":"New York City, NY"},22647,0.89195036870225641]
["8635 - Boston, MA - Del Frisco's","",62.4,69.2,0,80.3,86.3,67.5,70.099999999999994,72.599999999999994,38.5,62.4,9.4,0,80,117,8635,6,2012,{"$f":"VLOOKUP(Q257,Stores!$A:$B,2,FALSE)","v":"DFDE"},"2012-06",{"$f":"VLOOKUP($Q257,Stores!$A:$D,4,FALSE)","v":"Open"},{"$f":"VLOOKUP(Q257,Stores!$A:$C,3,FALSE)","v":"Boston, MA"},13856,0.84439953810623558]
["8640 - Las Vegas, NV - Del Frisco's","",77.5,83.1,0,85.9,87.3,85.9,81.7,78.900000000000006,60.6,77.5,7,0,57,71,8640,6,2012,{"$f":"VLOOKUP(Q258,Stores!$A:$B,2,FALSE)","v":"DFDE"},"2012-06",{"$f":"VLOOKUP($Q258,Stores!$A:$D,4,FALSE)","v":"Open"},{"$f":"VLOOKUP(Q258,Stores!$A:$C,3,FALSE)","v":"Las Vegas, NV"},4894,1.4507560277891296]
["8650 - Chicago, IL - Del Frisco's","",61,65.900000000000006,0,68.3,80.5,68.3,73.2,73.2,39,61,19.5,3,29,41,{"$f":"MID(A259,1,4)*1","v":8650},6,2012,{"$f":"VLOOKUP(Q259,Stores!$A:$B,2,FALSE)","v":"DFDE"},{"$f":"S259&\"-\"&REPT(\"0\",2-LEN(R259))&R259","v":"2012-06"},{"$f":"VLOOKUP($Q259,Stores!$A:$D,4,FALSE)","v":"Open"},{"$f":"VLOOKUP(Q259,Stores!$A:$C,3,FALSE)","v":"Chicago, IL"},6195,{"$f":"P259/(X259/100)","v":0.66182405165456015}]
["8655 - Washington, DC -  Del Frisco's","",75,78.8,0,76.900000000000006,82.7,67.3,75,76.900000000000006,42.3,63.5,5.8,1,32,52,8655,6,2012,{"$f":"VLOOKUP(Q260,Stores!$A:$B,2,FALSE)","v":"DFDE"},"2012-06",{"$f":"VLOOKUP($Q260,Stores!$A:$D,4,FALSE)","v":"Open"},{"$f":"VLOOKUP(Q260,Stores!$A:$C,3,FALSE)","v":"Washington, DC"},8095,0.64237183446571955]
["8680 - Philadelphia, PA - Del Frisco's","",73.3,74.3,0,82.2,86.1,73.3,80.2,82.2,50.5,69.3,9.9,1,69,101,8680,6,2012,{"$f":"VLOOKUP(Q261,Stores!$A:$B,2,FALSE)","v":"DFDE"},"2012-06",{"$f":"VLOOKUP($Q261,Stores!$A:$D,4,FALSE)","v":"Open"},{"$f":"VLOOKUP(Q261,Stores!$A:$C,3,FALSE)","v":"Philadelphia, PA"},10457,0.96586018934684903]
["8701 - New York City, NY - Grille","",55,65,0,55,60,55,60,62.5,45,57.5,12.5,2,25,40,8701,6,2012,{"$f":"VLOOKUP(Q262,Stores!$A:$B,2,FALSE)","v":"DFG"},"2012-06",{"$f":"VLOOKUP($Q262,Stores!$A:$D,4,FALSE)","v":"Open"},{"$f":"VLOOKUP(Q262,Stores!$A:$C,3,FALSE)","v":"New York City, NY"},12501,0.31997440204783617]
["8702 - Dallas, TX - Grille","",55.9,58.8,0,70.599999999999994,85.3,55.9,67.599999999999994,67.599999999999994,44.1,58.8,11.8,1,26,34,8702,6,2012,{"$f":"VLOOKUP(Q263,Stores!$A:$B,2,FALSE)","v":"DFG"},"2012-06",{"$f":"VLOOKUP($Q263,Stores!$A:$D,4,FALSE)","v":"Open"},{"$f":"VLOOKUP(Q263,Stores!$A:$C,3,FALSE)","v":"Dallas, TX"},8243,0.41247118767439034]
["8703 - Washington, DC - Grille","",40,45,0,45,60,45,55,65,35,40,25,1,16,20,8703,6,2012,{"$f":"VLOOKUP(Q264,Stores!$A:$B,2,FALSE)","v":"DFG"},"2012-06",{"$f":"VLOOKUP($Q264,Stores!$A:$D,4,FALSE)","v":"Open"},{"$f":"VLOOKUP(Q264,Stores!$A:$C,3,FALSE)","v":"Washington, DC"},6062,0.32992411745298583]
["8704 - Phoenix, AZ - Grille","",66.7,83.3,0,83.3,83.3,50,66.7,50,50,83.3,33.299999999999997,0,3,6,8704,6,2012,{"$f":"VLOOKUP(Q265,Stores!$A:$B,2,FALSE)","v":"DFG"},"2012-06",{"$f":"VLOOKUP($Q265,Stores!$A:$D,4,FALSE)","v":"Closed"},{"$f":"VLOOKUP(Q265,Stores!$A:$C,3,FALSE)","v":"Phoenix, AZ"},2505,0.23952095808383234]
["8705 - Palm Beach, FL - Grille","",58.3,62.5,0,70.8,79.2,58.3,50,62.5,37.5,79.2,8.3000000000000007,0,17,24,8705,6,2012,{"$f":"VLOOKUP(Q266,Stores!$A:$B,2,FALSE)","v":"DFG"},"2012-06",{"$f":"VLOOKUP($Q266,Stores!$A:$D,4,FALSE)","v":"Closed"},{"$f":"VLOOKUP(Q266,Stores!$A:$C,3,FALSE)","v":"Palm Beach, FL"},1206,1.9900497512437809]
["8706 - Atlanta, GA - Grille","",66.7,73.3,0,73.3,80,80,73.3,73.3,46.7,80,13.3,0,10,15,8706,6,2012,{"$f":"VLOOKUP(Q267,Stores!$A:$B,2,FALSE)","v":"DFG"},"2012-06",{"$f":"VLOOKUP($Q267,Stores!$A:$D,4,FALSE)","v":"Open"},{"$f":"VLOOKUP(Q267,Stores!$A:$C,3,FALSE)","v":"Atlanta, GA"},7467,0.20088388911209321]
["8707 - River Oaks, TX - Grille","",76.900000000000006,65.400000000000006,0,84.6,80.8,80.8,76.900000000000006,76.900000000000006,61.5,34.6,7.7,0,16,26,8707,6,2012,{"$f":"VLOOKUP(Q268,Stores!$A:$B,2,FALSE)","v":"DFG"},"2012-06",{"$f":"VLOOKUP($Q268,Stores!$A:$D,4,FALSE)","v":"Open"},{"$f":"VLOOKUP(Q268,Stores!$A:$C,3,FALSE)","v":"Houston, TX"},6903,0.37664783427495291]
["8708 - Chestnut Hill, MA - Grille","",51.5,48.5,0,60.6,66.7,66.7,51.5,51.5,30.3,63.6,12.1,1,24,33,8708,6,2012,{"$f":"VLOOKUP(Q269,Stores!$A:$B,2,FALSE)","v":"DFG"},"2012-06",{"$f":"VLOOKUP($Q269,Stores!$A:$D,4,FALSE)","v":"Open"},{"$f":"VLOOKUP(Q269,Stores!$A:$C,3,FALSE)","v":"Chestnut Hill, MA"},6421,0.51393863884130198]
["8709 - Santa Monica, CA - Grille","",63.6,45.5,0,63.6,68.2,63.6,59.1,54.5,45.5,50,13.6,1,16,22,8709,6,2012,{"$f":"VLOOKUP(Q270,Stores!$A:$B,2,FALSE)","v":"DFG"},"2012-06",{"$f":"VLOOKUP($Q270,Stores!$A:$D,4,FALSE)","v":"Open"},{"$f":"VLOOKUP(Q270,Stores!$A:$C,3,FALSE)","v":"Santa Monica, CA"},13747,0.16003491670910017]
["8710 - Fort Worth, TX - Grille","",72.599999999999994,74.2,0,79,85.5,77.400000000000006,74.2,82.3,50,51.6,6.5,0,39,62,8710,6,2012,{"$f":"VLOOKUP(Q271,Stores!$A:$B,2,FALSE)","v":"DFG"},"2012-06",{"$f":"VLOOKUP($Q271,Stores!$A:$D,4,FALSE)","v":"Open"},{"$f":"VLOOKUP(Q271,Stores!$A:$C,3,FALSE)","v":"Fort Worth, TX"},11961,0.51835130841902854]
["8712 - Southlake, TX - Grille","",63.8,68.099999999999994,0,71,78.3,66.7,76.8,72.5,47.8,82.6,10.1,1,41,69,8712,6,2012,{"$f":"VLOOKUP(Q272,Stores!$A:$B,2,FALSE)","v":"DFG"},"2012-06",{"$f":"VLOOKUP($Q272,Stores!$A:$D,4,FALSE)","v":"Open"},{"$f":"VLOOKUP(Q272,Stores!$A:$C,3,FALSE)","v":"Southlake, TX"},12483,0.55275174236962266]
["8713 - Burlington, MA - Grille",41794,63.6,75.8,0,81.8,90.9,72.7,63.6,63.6,45.5,66.7,6.1,2,22,33,8713,6,2012,{"$f":"VLOOKUP(Q273,Stores!$A:$B,2,FALSE)","v":"DFG"},"2012-06",{"$f":"VLOOKUP($Q273,Stores!$A:$D,4,FALSE)","v":"Open"},{"$f":"VLOOKUP(Q273,Stores!$A:$C,3,FALSE)","v":"Burlington, MA"},9389,0.35147513047182871]
["8714 - N Bethesda, MD - Grille",41908,55,65,0,55,75,65,65,70,55,45,25,2,16,20,8714,6,2012,{"$f":"VLOOKUP(Q274,Stores!$A:$B,2,FALSE)","v":"DFG"},"2012-06",{"$f":"VLOOKUP($Q274,Stores!$A:$D,4,FALSE)","v":"Open"},{"$f":"VLOOKUP(Q274,Stores!$A:$C,3,FALSE)","v":"N. Bethesda, MD"},6621,0.30206917384080956]
["8715 - Irvine, CA - Grille","",80,86.7,0,80,90,80,83.3,90,56.7,56.7,3.3,0,20,30,8715,6,2012,{"$f":"VLOOKUP(Q275,Stores!$A:$B,2,FALSE)","v":"DFG"},"2012-06",{"$f":"VLOOKUP($Q275,Stores!$A:$D,4,FALSE)","v":"Open"},{"$f":"VLOOKUP(Q275,Stores!$A:$C,3,FALSE)","v":"Irvine, CA"},5816,0.51581843191196697]
["8716 - Tampa, FL - Grille","",69.7,72.7,0,78.8,84.8,69.7,69.7,81.8,45.5,36.4,3,0,19,33,8716,6,2012,{"$f":"VLOOKUP(Q276,Stores!$A:$B,2,FALSE)","v":"DFG"},"2012-06",{"$f":"VLOOKUP($Q276,Stores!$A:$D,4,FALSE)","v":"Open"},{"$f":"VLOOKUP(Q276,Stores!$A:$C,3,FALSE)","v":"Tampa, FL"},7062,0.46728971962616822]
["8717 - Pasadena, CA - Grille",41992,73.900000000000006,69.599999999999994,0,73.900000000000006,82.6,60.9,73.900000000000006,69.599999999999994,56.5,78.3,21.7,0,15,23,8717,6,2012,{"$f":"VLOOKUP(Q277,Stores!$A:$B,2,FALSE)","v":"DFG"},"2012-06",{"$f":"VLOOKUP($Q277,Stores!$A:$D,4,FALSE)","v":"Open"},{"$f":"VLOOKUP(Q277,Stores!$A:$C,3,FALSE)","v":"Pasadena, CA"},5358,0.4292646509891751]
["8718 -Woodlands, TX - Grille","",56.2,70.5,0,76.2,82.9,58.1,63.8,70.5,49.5,84.8,15.2,0,72,105,8718,6,2012,{"$f":"VLOOKUP(Q278,Stores!$A:$B,2,FALSE)","v":"DFG"},"2012-06",{"$f":"VLOOKUP($Q278,Stores!$A:$D,4,FALSE)","v":"Open"},{"$f":"VLOOKUP(Q278,Stores!$A:$C,3,FALSE)","v":"Woodlands, TX"},7114,1.4759628900759068]
["8501 - Austin, TX - Sullivan's","",66.7,58.3,0,75,83.3,83.3,58.3,66.7,58.3,75,8.3000000000000007,1,7,12,8501,7,2012,{"$f":"VLOOKUP(Q279,Stores!$A:$B,2,FALSE)","v":"SULL"},"2012-07",{"$f":"VLOOKUP($Q279,Stores!$A:$D,4,FALSE)","v":"Open"},{"$f":"VLOOKUP(Q279,Stores!$A:$C,3,FALSE)","v":"Austin, TX"},4082,0.29397354238118567]
["8502 - Indianapolis, IN - Sullivan's","",73.599999999999994,77.8,0,83.3,86.1,76.400000000000006,77.8,84.7,56.9,69.400000000000006,11.1,0,56,72,8502,7,2012,{"$f":"VLOOKUP(Q280,Stores!$A:$B,2,FALSE)","v":"SULL"},"2012-07",{"$f":"VLOOKUP($Q280,Stores!$A:$D,4,FALSE)","v":"Open"},{"$f":"VLOOKUP(Q280,Stores!$A:$C,3,FALSE)","v":"Indianapolis, IN"},5670,1.2698412698412698]
["8504 - Houston, TX - Sullivan's","",89.2,86.5,0,86.5,97.3,91.9,86.5,83.8,83.8,73,5.4,0,26,37,8504,7,2012,{"$f":"VLOOKUP(Q281,Stores!$A:$B,2,FALSE)","v":"SULL"},"2012-07",{"$f":"VLOOKUP($Q281,Stores!$A:$D,4,FALSE)","v":"Closed"},{"$f":"VLOOKUP(Q281,Stores!$A:$C,3,FALSE)","v":"Houston, TX"},3414,1.0837727006444053]
["8510 - Wilmington, DE - Sullivan's","",56.6,62.3,0,77.400000000000006,77.400000000000006,56.6,71.7,62.3,34,52.8,15.1,0,40,53,8510,7,2012,{"$f":"VLOOKUP(Q282,Stores!$A:$B,2,FALSE)","v":"SULL"},"2012-07",{"$f":"VLOOKUP($Q282,Stores!$A:$D,4,FALSE)","v":"Open"},{"$f":"VLOOKUP(Q282,Stores!$A:$C,3,FALSE)","v":"Wilmington, DE"},4492,1.1798753339269812]
["8522 - King of Prussia, PA - Sullivan's","",67.7,75.400000000000006,0,80,83.1,73.8,80,60,49.2,78.5,7.7,0,42,65,8522,7,2012,{"$f":"VLOOKUP(Q283,Stores!$A:$B,2,FALSE)","v":"SULL"},"2012-07",{"$f":"VLOOKUP($Q283,Stores!$A:$D,4,FALSE)","v":"Open"},{"$f":"VLOOKUP(Q283,Stores!$A:$C,3,FALSE)","v":"King of Prussia, PA"},5810,1.1187607573149743]
["8525 - Tucson, AZ - Sullivan's","",75,85.7,0,85.7,92.9,78.599999999999994,75,78.599999999999994,57.1,60.7,3.6,0,24,28,8525,7,2012,{"$f":"VLOOKUP(Q284,Stores!$A:$B,2,FALSE)","v":"SULL"},"2012-07",{"$f":"VLOOKUP($Q284,Stores!$A:$D,4,FALSE)","v":"Open"},{"$f":"VLOOKUP(Q284,Stores!$A:$C,3,FALSE)","v":"Tucson, AZ"},3433,0.8156131663268279]
["8532 - Omaha, NE - Sullivan's","",68.400000000000006,73.7,0,68.400000000000006,78.900000000000006,68.400000000000006,57.9,68.400000000000006,36.799999999999997,68.400000000000006,10.5,0,12,19,8532,7,2012,{"$f":"VLOOKUP(Q285,Stores!$A:$B,2,FALSE)","v":"SULL"},"2012-07",{"$f":"VLOOKUP($Q285,Stores!$A:$D,4,FALSE)","v":"Open"},{"$f":"VLOOKUP(Q285,Stores!$A:$C,3,FALSE)","v":"Omaha, NE"},3746,0.50720768820074746]
["8535 - Baltimore, MD - Sullivan's","",80,70,0,75,75,75,70,75,45,70,15,0,17,20,8535,7,2012,{"$f":"VLOOKUP(Q286,Stores!$A:$B,2,FALSE)","v":"SULL"},"2012-07",{"$f":"VLOOKUP($Q286,Stores!$A:$D,4,FALSE)","v":"Open"},{"$f":"VLOOKUP(Q286,Stores!$A:$C,3,FALSE)","v":"Baltimore, MD"},4373,0.45735193231191407]
["8536 - Leawood, KS - Sullivan's","",70,73.3,0,80,80,66.7,63.3,86.7,50,93.3,10,0,22,30,8536,7,2012,{"$f":"VLOOKUP(Q287,Stores!$A:$B,2,FALSE)","v":"SULL"},"2012-07",{"$f":"VLOOKUP($Q287,Stores!$A:$D,4,FALSE)","v":"Open"},{"$f":"VLOOKUP(Q287,Stores!$A:$C,3,FALSE)","v":"Leawood, KS"},4421,0.67857950689889168]
["8541 - Chicago, IL - Sullivan's","",69.599999999999994,69.599999999999994,0,73.900000000000006,78.3,65.2,69.599999999999994,60.9,56.5,69.599999999999994,26.1,2,12,23,8541,7,2012,{"$f":"VLOOKUP(Q288,Stores!$A:$B,2,FALSE)","v":"SULL"},"2012-07",{"$f":"VLOOKUP($Q288,Stores!$A:$D,4,FALSE)","v":"Open"},{"$f":"VLOOKUP(Q288,Stores!$A:$C,3,FALSE)","v":"Chicago, IL"},2663,0.86368757040931288]
["8542 - Naperville, IL - Sullivan's","",74.400000000000006,74.400000000000006,0,82.1,91,79.5,83.3,84.6,51.3,76.900000000000006,5.0999999999999996,1,58,78,8542,7,2012,{"$f":"VLOOKUP(Q289,Stores!$A:$B,2,FALSE)","v":"SULL"},"2012-07",{"$f":"VLOOKUP($Q289,Stores!$A:$D,4,FALSE)","v":"Open"},{"$f":"VLOOKUP(Q289,Stores!$A:$C,3,FALSE)","v":"Naperville, IL"},6136,1.271186440677966]
["8543 - Lincolnshire, IL - Sullivan's","",82.1,89.3,0,89.3,92.9,78.599999999999994,89.3,82.1,60.7,89.3,0,0,21,28,8543,7,2012,{"$f":"VLOOKUP(Q290,Stores!$A:$B,2,FALSE)","v":"SULL"},"2012-07",{"$f":"VLOOKUP($Q290,Stores!$A:$D,4,FALSE)","v":"Open"},{"$f":"VLOOKUP(Q290,Stores!$A:$C,3,FALSE)","v":"Lincolnshire, IL"},3614,0.7747648035417819]
["8551 - Baton Rouge, LA - Sullivan's","",82.1,84.6,0,87.2,87.2,82.1,82.1,84.6,69.2,92.3,2.6,1,31,39,8551,7,2012,{"$f":"VLOOKUP(Q291,Stores!$A:$B,2,FALSE)","v":"SULL"},"2012-07",{"$f":"VLOOKUP($Q291,Stores!$A:$D,4,FALSE)","v":"Open"},{"$f":"VLOOKUP(Q291,Stores!$A:$C,3,FALSE)","v":"Baton Rouge, LA"},4348,0.8969641214351427]
["8561 - Raleigh, NC - Sullivan's","",51.2,58.5,0,68.3,82.9,56.1,70.7,68.3,34.1,53.7,17.100000000000001,2,26,41,8561,7,2012,{"$f":"VLOOKUP(Q292,Stores!$A:$B,2,FALSE)","v":"SULL"},"2012-07",{"$f":"VLOOKUP($Q292,Stores!$A:$D,4,FALSE)","v":"Open"},{"$f":"VLOOKUP(Q292,Stores!$A:$C,3,FALSE)","v":"Raleigh, NC"},4826,0.84956485702445095]
["8562 - Charlotte, NC - Sullivan's","",71.8,74.400000000000006,0,76.900000000000006,84.6,76.900000000000006,84.6,74.400000000000006,51.3,64.099999999999994,2.6,0,25,39,8562,7,2012,{"$f":"VLOOKUP(Q293,Stores!$A:$B,2,FALSE)","v":"SULL"},"2012-07",{"$f":"VLOOKUP($Q293,Stores!$A:$D,4,FALSE)","v":"Open"},{"$f":"VLOOKUP(Q293,Stores!$A:$C,3,FALSE)","v":"Charlotte, NC"},4131,0.9440813362381989]
["8570 - Palm Desert, CA - Sullivan's","",80.8,84.6,0,92.3,92.3,80.8,80.8,80.8,76.900000000000006,84.6,7.7,0,23,26,8570,7,2012,{"$f":"VLOOKUP(Q294,Stores!$A:$B,2,FALSE)","v":"SULL"},"2012-07",{"$f":"VLOOKUP($Q294,Stores!$A:$D,4,FALSE)","v":"Open"},{"$f":"VLOOKUP(Q294,Stores!$A:$C,3,FALSE)","v":"Palm Desert, CA"},3883,0.66958537213494729]
["8591 - Anchorage, AK - Sullivan's","",77.3,81.8,0,88.6,88.6,90.9,75,75,68.2,84.1,6.8,0,39,44,8591,7,2012,{"$f":"VLOOKUP(Q295,Stores!$A:$B,2,FALSE)","v":"SULL"},"2012-07",{"$f":"VLOOKUP($Q295,Stores!$A:$D,4,FALSE)","v":"Open"},{"$f":"VLOOKUP(Q295,Stores!$A:$C,3,FALSE)","v":"Anchorage, AK"},6021,0.73077561866799534]
["8592 - Seattle, WA - Sullivan's","",75,75,0,83.9,89.3,76.8,71.400000000000006,82.1,57.1,75,7.1,2,43,56,8592,7,2012,{"$f":"VLOOKUP(Q296,Stores!$A:$B,2,FALSE)","v":"SULL"},"2012-07",{"$f":"VLOOKUP($Q296,Stores!$A:$D,4,FALSE)","v":"Closed"},{"$f":"VLOOKUP(Q296,Stores!$A:$C,3,FALSE)","v":"Seattle, WA"},5333,1.0500656291018189]
["8601 - Dallas, TX - Del Frisco's","",80.599999999999994,80.599999999999994,0,86.6,92.5,80.599999999999994,80.599999999999994,71.599999999999994,59.7,89.6,4.5,1,49,67,8601,7,2012,{"$f":"VLOOKUP(Q297,Stores!$A:$B,2,FALSE)","v":"DFDE"},"2012-07",{"$f":"VLOOKUP($Q297,Stores!$A:$D,4,FALSE)","v":"Closed"},{"$f":"VLOOKUP(Q297,Stores!$A:$C,3,FALSE)","v":"Dallas, TX"},4429,1.5127568299841951]
["8602 - Fort Worth, TX - Del Frisco's","",72.5,76.3,0,81.7,88.5,74.8,77.900000000000006,83.2,58,77.900000000000006,5.3,0,93,131,8602,7,2012,{"$f":"VLOOKUP(Q298,Stores!$A:$B,2,FALSE)","v":"DFDE"},"2012-07",{"$f":"VLOOKUP($Q298,Stores!$A:$D,4,FALSE)","v":"Open"},{"$f":"VLOOKUP(Q298,Stores!$A:$C,3,FALSE)","v":"Fort Worth, TX"},6349,2.0633170578043787]
["8603 - Denver, CO - Del Frisco's","",78,78,0,81.3,83.5,73.599999999999994,80.2,75.8,50.5,59.3,3.3,0,62,91,8603,7,2012,{"$f":"VLOOKUP(Q299,Stores!$A:$B,2,FALSE)","v":"DFDE"},"2012-07",{"$f":"VLOOKUP($Q299,Stores!$A:$D,4,FALSE)","v":"Open"},{"$f":"VLOOKUP(Q299,Stores!$A:$C,3,FALSE)","v":"Denver, CO"},8140,1.1179361179361178]
["8604 - Charlotte, NC - Del Frisco's","",77.8,87.5,0,88.9,93.1,77.8,81.900000000000006,88.9,54.2,62.5,1.4,0,45,72,8604,7,2012,{"$f":"VLOOKUP(Q300,Stores!$A:$B,2,FALSE)","v":"DFDE"},"2012-07",{"$f":"VLOOKUP($Q300,Stores!$A:$D,4,FALSE)","v":"Open"},{"$f":"VLOOKUP(Q300,Stores!$A:$C,3,FALSE)","v":"Charlotte, NC"},5132,1.4029618082618862]
["8605 - Houston, TX - Del Frisco's","",78.599999999999994,81.400000000000006,0,87.1,94.3,74.3,81.400000000000006,81.400000000000006,60,78.599999999999994,8.6,0,48,70,8605,7,2012,{"$f":"VLOOKUP(Q301,Stores!$A:$B,2,FALSE)","v":"DFDE"},"2012-07",{"$f":"VLOOKUP($Q301,Stores!$A:$D,4,FALSE)","v":"Open"},{"$f":"VLOOKUP(Q301,Stores!$A:$C,3,FALSE)","v":"Houston, TX"},7597,0.92141634855864163]
["8620 - New York City, NY - Del Frisco's","",71.599999999999994,77.2,0,79.7,83.2,73.599999999999994,73.099999999999994,70.599999999999994,41.1,60.4,7.1,4,150,197,8620,7,2012,{"$f":"VLOOKUP(Q302,Stores!$A:$B,2,FALSE)","v":"DFDE"},"2012-07",{"$f":"VLOOKUP($Q302,Stores!$A:$D,4,FALSE)","v":"Open"},{"$f":"VLOOKUP(Q302,Stores!$A:$C,3,FALSE)","v":"New York City, NY"},20508,0.96060074117417582]
["8635 - Boston, MA - Del Frisco's","",71.3,76.900000000000006,0,82.5,86.7,72.7,74.8,73.400000000000006,45.5,60.8,9.1,0,107,143,8635,7,2012,{"$f":"VLOOKUP(Q303,Stores!$A:$B,2,FALSE)","v":"DFDE"},"2012-07",{"$f":"VLOOKUP($Q303,Stores!$A:$D,4,FALSE)","v":"Open"},{"$f":"VLOOKUP(Q303,Stores!$A:$C,3,FALSE)","v":"Boston, MA"},13082,1.0931050298119553]
["8640 - Las Vegas, NV - Del Frisco's","",80.599999999999994,87.5,0,95.8,94.4,81.900000000000006,83.3,83.3,61.1,83.3,0,0,49,72,8640,7,2012,{"$f":"VLOOKUP(Q304,Stores!$A:$B,2,FALSE)","v":"DFDE"},"2012-07",{"$f":"VLOOKUP($Q304,Stores!$A:$D,4,FALSE)","v":"Open"},{"$f":"VLOOKUP(Q304,Stores!$A:$C,3,FALSE)","v":"Las Vegas, NV"},4596,1.566579634464752]
["8650 - Chicago, IL - Del Frisco's","",70,72.5,0,80,77.5,62.5,67.5,77.5,52.5,62.5,7.5,1,24,40,8650,7,2012,{"$f":"VLOOKUP(Q305,Stores!$A:$B,2,FALSE)","v":"DFDE"},"2012-07",{"$f":"VLOOKUP($Q305,Stores!$A:$D,4,FALSE)","v":"Open"},{"$f":"VLOOKUP(Q305,Stores!$A:$C,3,FALSE)","v":"Chicago, IL"},5423,0.73759911488106222]
["8655 - Washington, DC -  Del Frisco's","",70.3,75,0,67.2,75,62.5,76.599999999999994,79.7,53.1,68.8,12.5,2,46,64,8655,7,2012,{"$f":"VLOOKUP(Q306,Stores!$A:$B,2,FALSE)","v":"DFDE"},"2012-07",{"$f":"VLOOKUP($Q306,Stores!$A:$D,4,FALSE)","v":"Open"},{"$f":"VLOOKUP(Q306,Stores!$A:$C,3,FALSE)","v":"Washington, DC"},7911,0.80900012640626973]
["8680 - Philadelphia, PA - Del Frisco's","",74,77.099999999999994,0,82.3,88.5,68.8,84.4,72.900000000000006,54.2,61.5,6.3,0,57,96,8680,7,2012,{"$f":"VLOOKUP(Q307,Stores!$A:$B,2,FALSE)","v":"DFDE"},"2012-07",{"$f":"VLOOKUP($Q307,Stores!$A:$D,4,FALSE)","v":"Open"},{"$f":"VLOOKUP(Q307,Stores!$A:$C,3,FALSE)","v":"Philadelphia, PA"},9010,1.0654827968923419]
["8701 - New York City, NY - Grille","",53.1,56.3,0,56.3,65.599999999999994,56.3,62.5,59.4,31.3,62.5,15.6,0,18,32,8701,7,2012,{"$f":"VLOOKUP(Q308,Stores!$A:$B,2,FALSE)","v":"DFG"},"2012-07",{"$f":"VLOOKUP($Q308,Stores!$A:$D,4,FALSE)","v":"Open"},{"$f":"VLOOKUP(Q308,Stores!$A:$C,3,FALSE)","v":"New York City, NY"},12643,0.25310448469508817]
["8702 - Dallas, TX - Grille","",69.7,78.8,0,87.9,93.9,87.9,66.7,69.7,48.5,72.7,6.1,1,20,33,8702,7,2012,{"$f":"VLOOKUP(Q309,Stores!$A:$B,2,FALSE)","v":"DFG"},"2012-07",{"$f":"VLOOKUP($Q309,Stores!$A:$D,4,FALSE)","v":"Open"},{"$f":"VLOOKUP(Q309,Stores!$A:$C,3,FALSE)","v":"Dallas, TX"},7952,0.41498993963782699]
["8703 - Washington, DC - Grille","",52.2,69.599999999999994,0,65.2,60.9,60.9,60.9,56.5,43.5,34.799999999999997,17.399999999999999,0,17,23,8703,7,2012,{"$f":"VLOOKUP(Q310,Stores!$A:$B,2,FALSE)","v":"DFG"},"2012-07",{"$f":"VLOOKUP($Q310,Stores!$A:$D,4,FALSE)","v":"Open"},{"$f":"VLOOKUP(Q310,Stores!$A:$C,3,FALSE)","v":"Washington, DC"},6103,0.37686383745698837]
["8704 - Phoenix, AZ - Grille","",44.4,44.4,0,66.7,66.7,66.7,33.299999999999997,33.299999999999997,33.299999999999997,55.6,22.2,2,8,9,8704,7,2012,{"$f":"VLOOKUP(Q311,Stores!$A:$B,2,FALSE)","v":"DFG"},"2012-07",{"$f":"VLOOKUP($Q311,Stores!$A:$D,4,FALSE)","v":"Closed"},{"$f":"VLOOKUP(Q311,Stores!$A:$C,3,FALSE)","v":"Phoenix, AZ"},2248,0.40035587188612098]
["8705 - Palm Beach, FL - Grille","",86.4,77.3,0,86.4,90.9,90.9,86.4,86.4,77.3,63.6,4.5,0,16,22,8705,7,2012,{"$f":"VLOOKUP(Q312,Stores!$A:$B,2,FALSE)","v":"DFG"},"2012-07",{"$f":"VLOOKUP($Q312,Stores!$A:$D,4,FALSE)","v":"Closed"},{"$f":"VLOOKUP(Q312,Stores!$A:$C,3,FALSE)","v":"Palm Beach, FL"},1138,1.9332161687170473]
["8706 - Atlanta, GA - Grille","",54.2,58.3,0,58.3,58.3,54.2,54.2,70.8,37.5,79.2,16.7,1,17,24,8706,7,2012,{"$f":"VLOOKUP(Q313,Stores!$A:$B,2,FALSE)","v":"DFG"},"2012-07",{"$f":"VLOOKUP($Q313,Stores!$A:$D,4,FALSE)","v":"Open"},{"$f":"VLOOKUP(Q313,Stores!$A:$C,3,FALSE)","v":"Atlanta, GA"},7992,0.3003003003003003]
["8707 - River Oaks, TX - Grille","",67.7,71,0,83.9,90.3,71,77.400000000000006,61.3,67.7,61.3,0,0,19,31,8707,7,2012,{"$f":"VLOOKUP(Q314,Stores!$A:$B,2,FALSE)","v":"DFG"},"2012-07",{"$f":"VLOOKUP($Q314,Stores!$A:$D,4,FALSE)","v":"Open"},{"$f":"VLOOKUP(Q314,Stores!$A:$C,3,FALSE)","v":"Houston, TX"},7479,0.41449391629897042]
["8708 - Chestnut Hill, MA - Grille","",43.8,46.9,0,59.4,65.599999999999994,56.3,56.3,46.9,31.3,43.8,28.1,0,19,32,8708,7,2012,{"$f":"VLOOKUP(Q315,Stores!$A:$B,2,FALSE)","v":"DFG"},"2012-07",{"$f":"VLOOKUP($Q315,Stores!$A:$D,4,FALSE)","v":"Open"},{"$f":"VLOOKUP(Q315,Stores!$A:$C,3,FALSE)","v":"Chestnut Hill, MA"},6078,0.52648897663705163]
["8709 - Santa Monica, CA - Grille","",57.9,63.2,0,73.7,78.900000000000006,57.9,68.400000000000006,73.7,52.6,47.4,26.3,1,15,19,8709,7,2012,{"$f":"VLOOKUP(Q316,Stores!$A:$B,2,FALSE)","v":"DFG"},"2012-07",{"$f":"VLOOKUP($Q316,Stores!$A:$D,4,FALSE)","v":"Open"},{"$f":"VLOOKUP(Q316,Stores!$A:$C,3,FALSE)","v":"Santa Monica, CA"},15796,0.12028361610534312]
["8710 - Fort Worth, TX - Grille","",68.099999999999994,79.2,0,77.8,88.9,70.8,75,77.8,59.7,56.9,9.6999999999999993,1,51,72,8710,7,2012,{"$f":"VLOOKUP(Q317,Stores!$A:$B,2,FALSE)","v":"DFG"},"2012-07",{"$f":"VLOOKUP($Q317,Stores!$A:$D,4,FALSE)","v":"Open"},{"$f":"VLOOKUP(Q317,Stores!$A:$C,3,FALSE)","v":"Fort Worth, TX"},11919,0.60407752328215458]
["8712 - Southlake, TX - Grille","",67,74.7,0,73.599999999999994,84.6,76.900000000000006,74.7,70.3,49.5,85.7,4.4000000000000004,0,61,91,8712,7,2012,{"$f":"VLOOKUP(Q318,Stores!$A:$B,2,FALSE)","v":"DFG"},"2012-07",{"$f":"VLOOKUP($Q318,Stores!$A:$D,4,FALSE)","v":"Open"},{"$f":"VLOOKUP(Q318,Stores!$A:$C,3,FALSE)","v":"Southlake, TX"},11737,0.77532589247678274]
["8713 - Burlington, MA - Grille",41794,62.9,74.3,0,65.7,68.599999999999994,60,71.400000000000006,51.4,37.1,25.7,5.7,0,18,35,8713,7,2012,{"$f":"VLOOKUP(Q319,Stores!$A:$B,2,FALSE)","v":"DFG"},"2012-07",{"$f":"VLOOKUP($Q319,Stores!$A:$D,4,FALSE)","v":"Open"},{"$f":"VLOOKUP(Q319,Stores!$A:$C,3,FALSE)","v":"Burlington, MA"},9732,0.35963830661734486]
["8714 - N Bethesda, MD - Grille",41908,37.5,50,0,58.3,62.5,62.5,50,62.5,41.7,45.8,25,0,19,24,8714,7,2012,{"$f":"VLOOKUP(Q320,Stores!$A:$B,2,FALSE)","v":"DFG"},"2012-07",{"$f":"VLOOKUP($Q320,Stores!$A:$D,4,FALSE)","v":"Open"},{"$f":"VLOOKUP(Q320,Stores!$A:$C,3,FALSE)","v":"N. Bethesda, MD"},5654,0.42447824548991864]
["8715 - Irvine, CA - Grille","",69.7,72.7,0,81.8,90.9,75.8,78.8,78.8,39.4,60.6,12.1,0,28,33,8715,7,2012,{"$f":"VLOOKUP(Q321,Stores!$A:$B,2,FALSE)","v":"DFG"},"2012-07",{"$f":"VLOOKUP($Q321,Stores!$A:$D,4,FALSE)","v":"Open"},{"$f":"VLOOKUP(Q321,Stores!$A:$C,3,FALSE)","v":"Irvine, CA"},6168,0.53501945525291827]
["8716 - Tampa, FL - Grille","",71.099999999999994,68.900000000000006,0,84.4,91.1,75.599999999999994,68.900000000000006,80,42.2,57.8,11.1,0,39,45,8716,7,2012,{"$f":"VLOOKUP(Q322,Stores!$A:$B,2,FALSE)","v":"DFG"},"2012-07",{"$f":"VLOOKUP($Q322,Stores!$A:$D,4,FALSE)","v":"Open"},{"$f":"VLOOKUP(Q322,Stores!$A:$C,3,FALSE)","v":"Tampa, FL"},7177,0.62700292601365482]
["8717 - Pasadena, CA - Grille",41992,64.099999999999994,64.099999999999994,0,66.7,74.400000000000006,64.099999999999994,64.099999999999994,66.7,35.9,69.2,10.3,0,24,39,{"$f":"MID(A323,1,4)*1","v":8717},7,2012,{"$f":"VLOOKUP(Q323,Stores!$A:$B,2,FALSE)","v":"DFG"},{"$f":"S323&\"-\"&REPT(\"0\",2-LEN(R323))&R323","v":"2012-07"},{"$f":"VLOOKUP($Q323,Stores!$A:$D,4,FALSE)","v":"Open"},{"$f":"VLOOKUP(Q323,Stores!$A:$C,3,FALSE)","v":"Pasadena, CA"},4802,{"$f":"P323/(X323/100)","v":0.81216159933361098}]
["8718 -Woodlands, TX - Grille","",58.6,64.599999999999994,0,76.8,81.8,65.7,61.6,68.7,44.4,71.7,5.0999999999999996,0,68,99,8718,7,2012,{"$f":"VLOOKUP(Q324,Stores!$A:$B,2,FALSE)","v":"DFG"},"2012-07",{"$f":"VLOOKUP($Q324,Stores!$A:$D,4,FALSE)","v":"Open"},{"$f":"VLOOKUP(Q324,Stores!$A:$C,3,FALSE)","v":"Woodlands, TX"},9039,1.0952538997676735]
["8721 - Plano, TX - Grille","",59,69,0,82,84,67,68,71,56,91,15,0,80,100,8721,7,2012,{"$f":"VLOOKUP(Q325,Stores!$A:$B,2,FALSE)","v":"DFG"},"2012-07",{"$f":"VLOOKUP($Q325,Stores!$A:$D,4,FALSE)","v":"Open"},{"$f":"VLOOKUP(Q325,Stores!$A:$C,3,FALSE)","v":"Plano, TX"},9666,1.0345541071798054]
["8501 - Austin, TX - Sullivan's","",56.5,60.9,0,69.599999999999994,78.3,60.9,60.9,60.9,39.1,73.900000000000006,8.6999999999999993,0,16,23,8501,8,2012,{"$f":"VLOOKUP(Q326,Stores!$A:$B,2,FALSE)","v":"SULL"},"2012-08",{"$f":"VLOOKUP($Q326,Stores!$A:$D,4,FALSE)","v":"Open"},{"$f":"VLOOKUP(Q326,Stores!$A:$C,3,FALSE)","v":"Austin, TX"},4647,0.49494297396169573]
["8502 - Indianapolis, IN - Sullivan's","",70.5,80.3,0,80.3,90.2,73.8,85.2,72.099999999999994,52.5,86.9,8.1999999999999993,0,44,61,8502,8,2012,{"$f":"VLOOKUP(Q327,Stores!$A:$B,2,FALSE)","v":"SULL"},"2012-08",{"$f":"VLOOKUP($Q327,Stores!$A:$D,4,FALSE)","v":"Open"},{"$f":"VLOOKUP(Q327,Stores!$A:$C,3,FALSE)","v":"Indianapolis, IN"},5676,1.0747004933051445]
["8504 - Houston, TX - Sullivan's","",61.3,74.2,0,80.599999999999994,87.1,74.2,71,77.400000000000006,67.7,80.599999999999994,6.5,0,23,31,8504,8,2012,{"$f":"VLOOKUP(Q328,Stores!$A:$B,2,FALSE)","v":"SULL"},"2012-08",{"$f":"VLOOKUP($Q328,Stores!$A:$D,4,FALSE)","v":"Closed"},{"$f":"VLOOKUP(Q328,Stores!$A:$C,3,FALSE)","v":"Houston, TX"},4590,0.6753812636165577]
["8510 - Wilmington, DE - Sullivan's","",78.7,78.7,0,85.2,90.2,73.8,80.3,80.3,63.9,70.5,1.6,0,48,61,8510,8,2012,{"$f":"VLOOKUP(Q329,Stores!$A:$B,2,FALSE)","v":"SULL"},"2012-08",{"$f":"VLOOKUP($Q329,Stores!$A:$D,4,FALSE)","v":"Open"},{"$f":"VLOOKUP(Q329,Stores!$A:$C,3,FALSE)","v":"Wilmington, DE"},4549,1.3409540558364474]
["8522 - King of Prussia, PA - Sullivan's","",68.8,75,0,79.2,91.7,70.8,66.7,66.7,45.8,79.2,8.3000000000000007,0,36,48,8522,8,2012,{"$f":"VLOOKUP(Q330,Stores!$A:$B,2,FALSE)","v":"SULL"},"2012-08",{"$f":"VLOOKUP($Q330,Stores!$A:$D,4,FALSE)","v":"Open"},{"$f":"VLOOKUP(Q330,Stores!$A:$C,3,FALSE)","v":"King of Prussia, PA"},5670,0.84656084656084651]
["8525 - Tucson, AZ - Sullivan's","",77.8,88.9,0,94.4,94.4,88.9,83.3,88.9,69.400000000000006,69.400000000000006,0,0,31,36,8525,8,2012,{"$f":"VLOOKUP(Q331,Stores!$A:$B,2,FALSE)","v":"SULL"},"2012-08",{"$f":"VLOOKUP($Q331,Stores!$A:$D,4,FALSE)","v":"Open"},{"$f":"VLOOKUP(Q331,Stores!$A:$C,3,FALSE)","v":"Tucson, AZ"},3305,1.0892586989409985]
["8532 - Omaha, NE - Sullivan's","",90.9,81.8,0,86.4,95.5,86.4,81.8,90.9,40.9,81.8,4.5,0,17,22,8532,8,2012,{"$f":"VLOOKUP(Q332,Stores!$A:$B,2,FALSE)","v":"SULL"},"2012-08",{"$f":"VLOOKUP($Q332,Stores!$A:$D,4,FALSE)","v":"Open"},{"$f":"VLOOKUP(Q332,Stores!$A:$C,3,FALSE)","v":"Omaha, NE"},3863,0.56950556562257304]
["8535 - Baltimore, MD - Sullivan's","",70,75,0,65,80,65,70,70,50,65,10,0,12,20,8535,8,2012,{"$f":"VLOOKUP(Q333,Stores!$A:$B,2,FALSE)","v":"SULL"},"2012-08",{"$f":"VLOOKUP($Q333,Stores!$A:$D,4,FALSE)","v":"Open"},{"$f":"VLOOKUP(Q333,Stores!$A:$C,3,FALSE)","v":"Baltimore, MD"},6821,0.29321213898255388]
["8536 - Leawood, KS - Sullivan's","",73.900000000000006,82.6,0,87,91.3,71.7,76.099999999999994,71.7,56.5,76.099999999999994,4.3,0,28,46,8536,8,2012,{"$f":"VLOOKUP(Q334,Stores!$A:$B,2,FALSE)","v":"SULL"},"2012-08",{"$f":"VLOOKUP($Q334,Stores!$A:$D,4,FALSE)","v":"Open"},{"$f":"VLOOKUP(Q334,Stores!$A:$C,3,FALSE)","v":"Leawood, KS"},4374,1.0516689529035208]
["8541 - Chicago, IL - Sullivan's","",72.7,77.3,0,90.9,90.9,72.7,81.8,77.3,59.1,81.8,9.1,0,20,22,8541,8,2012,{"$f":"VLOOKUP(Q335,Stores!$A:$B,2,FALSE)","v":"SULL"},"2012-08",{"$f":"VLOOKUP($Q335,Stores!$A:$D,4,FALSE)","v":"Open"},{"$f":"VLOOKUP(Q335,Stores!$A:$C,3,FALSE)","v":"Chicago, IL"},2848,0.77247191011235949]
["8542 - Naperville, IL - Sullivan's","",72.2,68.900000000000006,0,86.7,90,77.8,68.900000000000006,70,48.9,81.099999999999994,8.9,0,66,90,8542,8,2012,{"$f":"VLOOKUP(Q336,Stores!$A:$B,2,FALSE)","v":"SULL"},"2012-08",{"$f":"VLOOKUP($Q336,Stores!$A:$D,4,FALSE)","v":"Open"},{"$f":"VLOOKUP(Q336,Stores!$A:$C,3,FALSE)","v":"Naperville, IL"},6267,1.4360938247965533]
["8543 - Lincolnshire, IL - Sullivan's","",70.599999999999994,76.5,0,94.1,94.1,82.4,58.8,82.4,52.9,70.599999999999994,0,0,13,17,8543,8,2012,{"$f":"VLOOKUP(Q337,Stores!$A:$B,2,FALSE)","v":"SULL"},"2012-08",{"$f":"VLOOKUP($Q337,Stores!$A:$D,4,FALSE)","v":"Open"},{"$f":"VLOOKUP(Q337,Stores!$A:$C,3,FALSE)","v":"Lincolnshire, IL"},4035,0.42131350681536556]
["8551 - Baton Rouge, LA - Sullivan's","",81.900000000000006,88.9,0,88.9,91.7,79.2,83.3,84.7,72.2,90.3,1.4,0,54,72,8551,8,2012,{"$f":"VLOOKUP(Q338,Stores!$A:$B,2,FALSE)","v":"SULL"},"2012-08",{"$f":"VLOOKUP($Q338,Stores!$A:$D,4,FALSE)","v":"Open"},{"$f":"VLOOKUP(Q338,Stores!$A:$C,3,FALSE)","v":"Baton Rouge, LA"},5196,1.3856812933025404]
["8561 - Raleigh, NC - Sullivan's","",82.2,84.4,0,82.2,84.4,84.4,75.599999999999994,73.3,62.2,75.599999999999994,8.9,0,28,45,8561,8,2012,{"$f":"VLOOKUP(Q339,Stores!$A:$B,2,FALSE)","v":"SULL"},"2012-08",{"$f":"VLOOKUP($Q339,Stores!$A:$D,4,FALSE)","v":"Open"},{"$f":"VLOOKUP(Q339,Stores!$A:$C,3,FALSE)","v":"Raleigh, NC"},5327,0.84475314435892612]
["8562 - Charlotte, NC - Sullivan's","",68.5,74,0,68.5,79.5,67.099999999999994,79.5,63,50.7,57.5,15.1,0,50,73,8562,8,2012,{"$f":"VLOOKUP(Q340,Stores!$A:$B,2,FALSE)","v":"SULL"},"2012-08",{"$f":"VLOOKUP($Q340,Stores!$A:$D,4,FALSE)","v":"Open"},{"$f":"VLOOKUP(Q340,Stores!$A:$C,3,FALSE)","v":"Charlotte, NC"},6301,1.1585462624980163]
["8570 - Palm Desert, CA - Sullivan's","",78.900000000000006,78.900000000000006,0,86.8,89.5,89.5,76.3,78.900000000000006,63.2,94.7,5.3,0,28,38,8570,8,2012,{"$f":"VLOOKUP(Q341,Stores!$A:$B,2,FALSE)","v":"SULL"},"2012-08",{"$f":"VLOOKUP($Q341,Stores!$A:$D,4,FALSE)","v":"Open"},{"$f":"VLOOKUP(Q341,Stores!$A:$C,3,FALSE)","v":"Palm Desert, CA"},3759,1.0109071561585528]
["8591 - Anchorage, AK - Sullivan's","",66.7,70,0,66.7,76.7,66.7,73.3,66.7,56.7,56.7,23.3,2,22,30,8591,8,2012,{"$f":"VLOOKUP(Q342,Stores!$A:$B,2,FALSE)","v":"SULL"},"2012-08",{"$f":"VLOOKUP($Q342,Stores!$A:$D,4,FALSE)","v":"Open"},{"$f":"VLOOKUP(Q342,Stores!$A:$C,3,FALSE)","v":"Anchorage, AK"},7149,0.41963911036508605]
["8592 - Seattle, WA - Sullivan's","",70.5,70.5,0,75,81.8,65.900000000000006,65.900000000000006,70.5,59.1,43.2,6.8,0,36,44,8592,8,2012,{"$f":"VLOOKUP(Q343,Stores!$A:$B,2,FALSE)","v":"SULL"},"2012-08",{"$f":"VLOOKUP($Q343,Stores!$A:$D,4,FALSE)","v":"Closed"},{"$f":"VLOOKUP(Q343,Stores!$A:$C,3,FALSE)","v":"Seattle, WA"},5611,0.78417394403849583]
["8601 - Dallas, TX - Del Frisco's","",75,87.5,0,88.9,94.4,79.2,81.900000000000006,79.2,66.7,90.3,6.9,0,60,72,8601,8,2012,{"$f":"VLOOKUP(Q344,Stores!$A:$B,2,FALSE)","v":"DFDE"},"2012-08",{"$f":"VLOOKUP($Q344,Stores!$A:$D,4,FALSE)","v":"Closed"},{"$f":"VLOOKUP(Q344,Stores!$A:$C,3,FALSE)","v":"Dallas, TX"},5262,1.3683010262257698]
["8602 - Fort Worth, TX - Del Frisco's","",69.8,80.2,0,81,85.7,69.8,75.400000000000006,73,54.8,81,6.3,0,86,126,8602,8,2012,{"$f":"VLOOKUP(Q345,Stores!$A:$B,2,FALSE)","v":"DFDE"},"2012-08",{"$f":"VLOOKUP($Q345,Stores!$A:$D,4,FALSE)","v":"Open"},{"$f":"VLOOKUP(Q345,Stores!$A:$C,3,FALSE)","v":"Fort Worth, TX"},6791,1.8553968487704315]
["8603 - Denver, CO - Del Frisco's","",75.2,73.3,0,74.3,82.2,80.2,80.2,76.2,50.5,54.5,5.9,0,77,101,8603,8,2012,{"$f":"VLOOKUP(Q346,Stores!$A:$B,2,FALSE)","v":"DFDE"},"2012-08",{"$f":"VLOOKUP($Q346,Stores!$A:$D,4,FALSE)","v":"Open"},{"$f":"VLOOKUP(Q346,Stores!$A:$C,3,FALSE)","v":"Denver, CO"},9360,1.0790598290598292]
["8604 - Charlotte, NC - Del Frisco's","",75.599999999999994,76.8,0,76.8,75.599999999999994,72.599999999999994,83.3,82.1,57.7,56,7.7,0,119,168,8604,8,2012,{"$f":"VLOOKUP(Q347,Stores!$A:$B,2,FALSE)","v":"DFDE"},"2012-08",{"$f":"VLOOKUP($Q347,Stores!$A:$D,4,FALSE)","v":"Open"},{"$f":"VLOOKUP(Q347,Stores!$A:$C,3,FALSE)","v":"Charlotte, NC"},9668,1.737691352916839]
["8605 - Houston, TX - Del Frisco's","",77.400000000000006,82.3,0,77.400000000000006,90.3,80.599999999999994,75.8,80.599999999999994,64.5,80.599999999999994,8.1,0,47,62,8605,8,2012,{"$f":"VLOOKUP(Q348,Stores!$A:$B,2,FALSE)","v":"DFDE"},"2012-08",{"$f":"VLOOKUP($Q348,Stores!$A:$D,4,FALSE)","v":"Open"},{"$f":"VLOOKUP(Q348,Stores!$A:$C,3,FALSE)","v":"Houston, TX"},9024,0.68705673758865249]
["8620 - New York City, NY - Del Frisco's","",77.8,79.7,0,84.1,87.9,81.2,81.2,78.3,49.8,60.4,6.3,3,154,207,8620,8,2012,{"$f":"VLOOKUP(Q349,Stores!$A:$B,2,FALSE)","v":"DFDE"},"2012-08",{"$f":"VLOOKUP($Q349,Stores!$A:$D,4,FALSE)","v":"Open"},{"$f":"VLOOKUP(Q349,Stores!$A:$C,3,FALSE)","v":"New York City, NY"},21591,0.95873280533555649]
["8635 - Boston, MA - Del Frisco's","",66.900000000000006,71.8,0,79.099999999999994,81.599999999999994,68.7,79.099999999999994,70.599999999999994,38,63.8,8.6,0,110,163,8635,8,2012,{"$f":"VLOOKUP(Q350,Stores!$A:$B,2,FALSE)","v":"DFDE"},"2012-08",{"$f":"VLOOKUP($Q350,Stores!$A:$D,4,FALSE)","v":"Open"},{"$f":"VLOOKUP(Q350,Stores!$A:$C,3,FALSE)","v":"Boston, MA"},14636,1.1136922656463513]
["8640 - Las Vegas, NV - Del Frisco's","",80.8,84.6,0,85.9,93.6,85.9,84.6,78.2,64.099999999999994,70.5,3.8,0,53,78,8640,8,2012,{"$f":"VLOOKUP(Q351,Stores!$A:$B,2,FALSE)","v":"DFDE"},"2012-08",{"$f":"VLOOKUP($Q351,Stores!$A:$D,4,FALSE)","v":"Open"},{"$f":"VLOOKUP(Q351,Stores!$A:$C,3,FALSE)","v":"Las Vegas, NV"},5103,1.5285126396237507]
["8650 - Chicago, IL - Del Frisco's","",60,57.5,0,77.5,77.5,62.5,72.5,70,40,47.5,17.5,4,30,40,8650,8,2012,{"$f":"VLOOKUP(Q352,Stores!$A:$B,2,FALSE)","v":"DFDE"},"2012-08",{"$f":"VLOOKUP($Q352,Stores!$A:$D,4,FALSE)","v":"Open"},{"$f":"VLOOKUP(Q352,Stores!$A:$C,3,FALSE)","v":"Chicago, IL"},5841,0.68481424413627812]
["8655 - Washington, DC -  Del Frisco's","",64.900000000000006,77,0,73,83.8,58.1,67.599999999999994,66.2,51.4,66.2,13.5,1,54,74,8655,8,2012,{"$f":"VLOOKUP(Q353,Stores!$A:$B,2,FALSE)","v":"DFDE"},"2012-08",{"$f":"VLOOKUP($Q353,Stores!$A:$D,4,FALSE)","v":"Open"},{"$f":"VLOOKUP(Q353,Stores!$A:$C,3,FALSE)","v":"Washington, DC"},7450,0.99328859060402686]
["8680 - Philadelphia, PA - Del Frisco's","",67.7,76,0,79.2,83.3,72.900000000000006,78.099999999999994,75,57.3,64.599999999999994,4.2,2,55,96,8680,8,2012,{"$f":"VLOOKUP(Q354,Stores!$A:$B,2,FALSE)","v":"DFDE"},"2012-08",{"$f":"VLOOKUP($Q354,Stores!$A:$D,4,FALSE)","v":"Open"},{"$f":"VLOOKUP(Q354,Stores!$A:$C,3,FALSE)","v":"Philadelphia, PA"},12658,0.75841365144572603]
["8701 - New York City, NY - Grille","",69.2,76.900000000000006,0,69.2,84.6,84.6,76.900000000000006,80.8,61.5,84.6,0,0,16,26,8701,8,2012,{"$f":"VLOOKUP(Q355,Stores!$A:$B,2,FALSE)","v":"DFG"},"2012-08",{"$f":"VLOOKUP($Q355,Stores!$A:$D,4,FALSE)","v":"Open"},{"$f":"VLOOKUP(Q355,Stores!$A:$C,3,FALSE)","v":"New York City, NY"},13609,0.19105004041443163]
["8702 - Dallas, TX - Grille","",70,80,0,70,90,85,70,80,55,55,10,0,13,20,8702,8,2012,{"$f":"VLOOKUP(Q356,Stores!$A:$B,2,FALSE)","v":"DFG"},"2012-08",{"$f":"VLOOKUP($Q356,Stores!$A:$D,4,FALSE)","v":"Open"},{"$f":"VLOOKUP(Q356,Stores!$A:$C,3,FALSE)","v":"Dallas, TX"},7973,0.25084660729963626]
["8703 - Washington, DC - Grille","",68.8,87.5,0,62.5,68.8,62.5,62.5,56.3,37.5,43.8,12.5,0,8,16,8703,8,2012,{"$f":"VLOOKUP(Q357,Stores!$A:$B,2,FALSE)","v":"DFG"},"2012-08",{"$f":"VLOOKUP($Q357,Stores!$A:$D,4,FALSE)","v":"Open"},{"$f":"VLOOKUP(Q357,Stores!$A:$C,3,FALSE)","v":"Washington, DC"},5795,0.27610008628127697]
["8704 - Phoenix, AZ - Grille","",50,50,0,100,100,75,75,50,25,75,50,0,3,4,8704,8,2012,{"$f":"VLOOKUP(Q358,Stores!$A:$B,2,FALSE)","v":"DFG"},"2012-08",{"$f":"VLOOKUP($Q358,Stores!$A:$D,4,FALSE)","v":"Closed"},{"$f":"VLOOKUP(Q358,Stores!$A:$C,3,FALSE)","v":"Phoenix, AZ"},2087,0.19166267369429801]
["8705 - Palm Beach, FL - Grille","",85.7,78.599999999999994,0,100,92.9,85.7,71.400000000000006,71.400000000000006,64.3,85.7,7.1,0,8,14,8705,8,2012,{"$f":"VLOOKUP(Q359,Stores!$A:$B,2,FALSE)","v":"DFG"},"2012-08",{"$f":"VLOOKUP($Q359,Stores!$A:$D,4,FALSE)","v":"Closed"},{"$f":"VLOOKUP(Q359,Stores!$A:$C,3,FALSE)","v":"Palm Beach, FL"},859,1.6298020954598371]
["8706 - Atlanta, GA - Grille","",71.400000000000006,66.7,0,71.400000000000006,81,57.1,76.2,71.400000000000006,47.6,76.2,19,0,15,21,8706,8,2012,{"$f":"VLOOKUP(Q360,Stores!$A:$B,2,FALSE)","v":"DFG"},"2012-08",{"$f":"VLOOKUP($Q360,Stores!$A:$D,4,FALSE)","v":"Open"},{"$f":"VLOOKUP(Q360,Stores!$A:$C,3,FALSE)","v":"Atlanta, GA"},8226,0.25528811086797953]
["8707 - River Oaks, TX - Grille","",64,72,0,88,96,88,68,68,64,52,8,0,20,25,8707,8,2012,{"$f":"VLOOKUP(Q361,Stores!$A:$B,2,FALSE)","v":"DFG"},"2012-08",{"$f":"VLOOKUP($Q361,Stores!$A:$D,4,FALSE)","v":"Open"},{"$f":"VLOOKUP(Q361,Stores!$A:$C,3,FALSE)","v":"Houston, TX"},8325,0.3003003003003003]
["8708 - Chestnut Hill, MA - Grille","",40.700000000000003,48.1,0,66.7,74.099999999999994,70.400000000000006,55.6,63,33.299999999999997,55.6,14.8,0,17,27,8708,8,2012,{"$f":"VLOOKUP(Q362,Stores!$A:$B,2,FALSE)","v":"DFG"},"2012-08",{"$f":"VLOOKUP($Q362,Stores!$A:$D,4,FALSE)","v":"Open"},{"$f":"VLOOKUP(Q362,Stores!$A:$C,3,FALSE)","v":"Chestnut Hill, MA"},5511,0.4899292324442025]
["8709 - Santa Monica, CA - Grille","",54.5,63.6,0,63.6,63.6,54.5,54.5,63.6,45.5,27.3,18.2,0,9,11,8709,8,2012,{"$f":"VLOOKUP(Q363,Stores!$A:$B,2,FALSE)","v":"DFG"},"2012-08",{"$f":"VLOOKUP($Q363,Stores!$A:$D,4,FALSE)","v":"Open"},{"$f":"VLOOKUP(Q363,Stores!$A:$C,3,FALSE)","v":"Santa Monica, CA"},18194,6.0459492140266025E-2]
["8710 - Fort Worth, TX - Grille","",65,77.5,0,72.5,87.5,75,65,85,52.5,62.5,10,2,34,40,8710,8,2012,{"$f":"VLOOKUP(Q364,Stores!$A:$B,2,FALSE)","v":"DFG"},"2012-08",{"$f":"VLOOKUP($Q364,Stores!$A:$D,4,FALSE)","v":"Open"},{"$f":"VLOOKUP(Q364,Stores!$A:$C,3,FALSE)","v":"Fort Worth, TX"},10562,0.37871615224389321]
["8712 - Southlake, TX - Grille","",67.2,70.099999999999994,0,82.1,83.6,71.599999999999994,68.7,64.2,50.7,79.099999999999994,10.4,1,50,67,8712,8,2012,{"$f":"VLOOKUP(Q365,Stores!$A:$B,2,FALSE)","v":"DFG"},"2012-08",{"$f":"VLOOKUP($Q365,Stores!$A:$D,4,FALSE)","v":"Open"},{"$f":"VLOOKUP(Q365,Stores!$A:$C,3,FALSE)","v":"Southlake, TX"},11066,0.60545816013012832]
["8713 - Burlington, MA - Grille",41794,67.900000000000006,71.400000000000006,0,64.3,85.7,50,71.400000000000006,60.7,32.1,39.299999999999997,10.7,0,15,28,8713,8,2012,{"$f":"VLOOKUP(Q366,Stores!$A:$B,2,FALSE)","v":"DFG"},"2012-08",{"$f":"VLOOKUP($Q366,Stores!$A:$D,4,FALSE)","v":"Open"},{"$f":"VLOOKUP(Q366,Stores!$A:$C,3,FALSE)","v":"Burlington, MA"},8675,0.32276657060518732]
["8714 - N Bethesda, MD - Grille",41908,67.900000000000006,64.3,0,75,75,71.400000000000006,60.7,67.900000000000006,42.9,60.7,25,1,18,28,8714,8,2012,{"$f":"VLOOKUP(Q367,Stores!$A:$B,2,FALSE)","v":"DFG"},"2012-08",{"$f":"VLOOKUP($Q367,Stores!$A:$D,4,FALSE)","v":"Open"},{"$f":"VLOOKUP(Q367,Stores!$A:$C,3,FALSE)","v":"N. Bethesda, MD"},5443,0.51442219364321151]
["8715 - Irvine, CA - Grille","",57.9,57.9,0,73.7,84.2,73.7,63.2,68.400000000000006,42.1,52.6,5.3,0,13,19,8715,8,2012,{"$f":"VLOOKUP(Q368,Stores!$A:$B,2,FALSE)","v":"DFG"},"2012-08",{"$f":"VLOOKUP($Q368,Stores!$A:$D,4,FALSE)","v":"Open"},{"$f":"VLOOKUP(Q368,Stores!$A:$C,3,FALSE)","v":"Irvine, CA"},5339,0.35587188612099646]
["8716 - Tampa, FL - Grille","",72,68,0,80,84,84,72,76,40,64,8,0,15,25,8716,8,2012,{"$f":"VLOOKUP(Q369,Stores!$A:$B,2,FALSE)","v":"DFG"},"2012-08",{"$f":"VLOOKUP($Q369,Stores!$A:$D,4,FALSE)","v":"Open"},{"$f":"VLOOKUP(Q369,Stores!$A:$C,3,FALSE)","v":"Tampa, FL"},6512,0.38390663390663388]
["8717 - Pasadena, CA - Grille",41992,71.900000000000006,78.099999999999994,0,84.4,84.4,75,75,78.099999999999994,75,81.3,3.1,1,22,32,8717,8,2012,{"$f":"VLOOKUP(Q370,Stores!$A:$B,2,FALSE)","v":"DFG"},"2012-08",{"$f":"VLOOKUP($Q370,Stores!$A:$D,4,FALSE)","v":"Open"},{"$f":"VLOOKUP(Q370,Stores!$A:$C,3,FALSE)","v":"Pasadena, CA"},4685,0.68303094983991464]
["8718 -Woodlands, TX - Grille","",59.3,68.599999999999994,0,72.099999999999994,80.2,70.900000000000006,65.099999999999994,72.099999999999994,48.8,59.3,12.8,0,63,86,8718,8,2012,{"$f":"VLOOKUP(Q371,Stores!$A:$B,2,FALSE)","v":"DFG"},"2012-08",{"$f":"VLOOKUP($Q371,Stores!$A:$D,4,FALSE)","v":"Open"},{"$f":"VLOOKUP(Q371,Stores!$A:$C,3,FALSE)","v":"Woodlands, TX"},8875,0.96901408450704229]
["8721 - Plano, TX - Grille","",56.3,64.099999999999994,0,64.099999999999994,75,56.3,62.5,60.9,45.3,92.2,14.1,1,42,64,8721,8,2012,{"$f":"VLOOKUP(Q372,Stores!$A:$B,2,FALSE)","v":"DFG"},"2012-08",{"$f":"VLOOKUP($Q372,Stores!$A:$D,4,FALSE)","v":"Open"},{"$f":"VLOOKUP(Q372,Stores!$A:$C,3,FALSE)","v":"Plano, TX"},9738,0.65721914150749638]
["8501 - Austin, TX - Sullivan's","",81,81,0,85.7,90.5,81,85.7,85.7,52.4,85.7,0,0,17,21,8501,9,2012,{"$f":"VLOOKUP(Q373,Stores!$A:$B,2,FALSE)","v":"SULL"},"2012-09",{"$f":"VLOOKUP($Q373,Stores!$A:$D,4,FALSE)","v":"Open"},{"$f":"VLOOKUP(Q373,Stores!$A:$C,3,FALSE)","v":"Austin, TX"},4675,0.44919786096256686]
["8502 - Indianapolis, IN - Sullivan's","",79.400000000000006,76.2,0,81,82.5,68.3,81,71.400000000000006,57.1,82.5,9.5,0,41,63,8502,9,2012,{"$f":"VLOOKUP(Q374,Stores!$A:$B,2,FALSE)","v":"SULL"},"2012-09",{"$f":"VLOOKUP($Q374,Stores!$A:$D,4,FALSE)","v":"Open"},{"$f":"VLOOKUP(Q374,Stores!$A:$C,3,FALSE)","v":"Indianapolis, IN"},6026,1.0454696315964156]
["8504 - Houston, TX - Sullivan's","",80.8,80.8,0,79.5,82.2,76.7,75.3,86.3,78.099999999999994,80.8,11,0,51,73,8504,9,2012,{"$f":"VLOOKUP(Q375,Stores!$A:$B,2,FALSE)","v":"SULL"},"2012-09",{"$f":"VLOOKUP($Q375,Stores!$A:$D,4,FALSE)","v":"Closed"},{"$f":"VLOOKUP(Q375,Stores!$A:$C,3,FALSE)","v":"Houston, TX"},6450,1.1317829457364341]
["8510 - Wilmington, DE - Sullivan's","",71,79.7,0,81.2,87,75.400000000000006,73.900000000000006,72.5,46.4,71,2.9,0,46,69,8510,9,2012,{"$f":"VLOOKUP(Q376,Stores!$A:$B,2,FALSE)","v":"SULL"},"2012-09",{"$f":"VLOOKUP($Q376,Stores!$A:$D,4,FALSE)","v":"Open"},{"$f":"VLOOKUP(Q376,Stores!$A:$C,3,FALSE)","v":"Wilmington, DE"},4600,1.5]
["8522 - King of Prussia, PA - Sullivan's","",66.2,76.900000000000006,0,76.900000000000006,81.5,75.400000000000006,80,58.5,46.2,83.1,4.5999999999999996,0,54,65,8522,9,2012,{"$f":"VLOOKUP(Q377,Stores!$A:$B,2,FALSE)","v":"SULL"},"2012-09",{"$f":"VLOOKUP($Q377,Stores!$A:$D,4,FALSE)","v":"Open"},{"$f":"VLOOKUP(Q377,Stores!$A:$C,3,FALSE)","v":"King of Prussia, PA"},5596,1.1615439599714081]
["8525 - Tucson, AZ - Sullivan's","",71.2,73.099999999999994,0,84.6,92.3,75,78.8,73.099999999999994,53.8,73.099999999999994,15.4,0,38,52,8525,9,2012,{"$f":"VLOOKUP(Q378,Stores!$A:$B,2,FALSE)","v":"SULL"},"2012-09",{"$f":"VLOOKUP($Q378,Stores!$A:$D,4,FALSE)","v":"Open"},{"$f":"VLOOKUP(Q378,Stores!$A:$C,3,FALSE)","v":"Tucson, AZ"},3569,1.4569907537125246]
["8532 - Omaha, NE - Sullivan's","",53.8,69.2,0,84.6,96.2,80.8,73.099999999999994,76.900000000000006,53.8,92.3,11.5,0,21,26,8532,9,2012,{"$f":"VLOOKUP(Q379,Stores!$A:$B,2,FALSE)","v":"SULL"},"2012-09",{"$f":"VLOOKUP($Q379,Stores!$A:$D,4,FALSE)","v":"Open"},{"$f":"VLOOKUP(Q379,Stores!$A:$C,3,FALSE)","v":"Omaha, NE"},3956,0.65722952477249741]
["8535 - Baltimore, MD - Sullivan's","",82.8,75.900000000000006,0,75.900000000000006,82.8,69,69,72.400000000000006,65.5,69,10.3,0,27,29,8535,9,2012,{"$f":"VLOOKUP(Q380,Stores!$A:$B,2,FALSE)","v":"SULL"},"2012-09",{"$f":"VLOOKUP($Q380,Stores!$A:$D,4,FALSE)","v":"Open"},{"$f":"VLOOKUP(Q380,Stores!$A:$C,3,FALSE)","v":"Baltimore, MD"},4611,0.62893081761006286]
["8536 - Leawood, KS - Sullivan's","",71.400000000000006,68.599999999999994,0,80,88.6,71.400000000000006,74.3,71.400000000000006,45.7,82.9,8.6,0,27,35,8536,9,2012,{"$f":"VLOOKUP(Q381,Stores!$A:$B,2,FALSE)","v":"SULL"},"2012-09",{"$f":"VLOOKUP($Q381,Stores!$A:$D,4,FALSE)","v":"Open"},{"$f":"VLOOKUP(Q381,Stores!$A:$C,3,FALSE)","v":"Leawood, KS"},4406,0.79437131184748067]
["8541 - Chicago, IL - Sullivan's","",65.2,78.3,0,78.3,87,82.6,82.6,91.3,65.2,78.3,4.3,0,17,23,8541,9,2012,{"$f":"VLOOKUP(Q382,Stores!$A:$B,2,FALSE)","v":"SULL"},"2012-09",{"$f":"VLOOKUP($Q382,Stores!$A:$D,4,FALSE)","v":"Open"},{"$f":"VLOOKUP(Q382,Stores!$A:$C,3,FALSE)","v":"Chicago, IL"},2783,0.82644628099173556]
["8542 - Naperville, IL - Sullivan's","",62.7,73.3,0,73.3,80,76,62.7,69.3,40,82.7,10.7,4,55,75,8542,9,2012,{"$f":"VLOOKUP(Q383,Stores!$A:$B,2,FALSE)","v":"SULL"},"2012-09",{"$f":"VLOOKUP($Q383,Stores!$A:$D,4,FALSE)","v":"Open"},{"$f":"VLOOKUP(Q383,Stores!$A:$C,3,FALSE)","v":"Naperville, IL"},6126,1.2242899118511263]
["8543 - Lincolnshire, IL - Sullivan's","",60,75,0,75,85,80,75,65,55,80,0,0,16,20,8543,9,2012,{"$f":"VLOOKUP(Q384,Stores!$A:$B,2,FALSE)","v":"SULL"},"2012-09",{"$f":"VLOOKUP($Q384,Stores!$A:$D,4,FALSE)","v":"Open"},{"$f":"VLOOKUP(Q384,Stores!$A:$C,3,FALSE)","v":"Lincolnshire, IL"},3667,0.54540496318516496]
["8551 - Baton Rouge, LA - Sullivan's","",92.5,94.3,0,95,97.5,91.2,93.1,87.4,82.4,95,0.6,0,117,159,8551,9,2012,{"$f":"VLOOKUP(Q385,Stores!$A:$B,2,FALSE)","v":"SULL"},"2012-09",{"$f":"VLOOKUP($Q385,Stores!$A:$D,4,FALSE)","v":"Open"},{"$f":"VLOOKUP(Q385,Stores!$A:$C,3,FALSE)","v":"Baton Rouge, LA"},4671,3.4039820166987798]
["8561 - Raleigh, NC - Sullivan's","",64.7,73.5,0,76.5,88.2,61.8,70.599999999999994,64.7,35.299999999999997,79.400000000000006,8.8000000000000007,1,25,34,8561,9,2012,{"$f":"VLOOKUP(Q386,Stores!$A:$B,2,FALSE)","v":"SULL"},"2012-09",{"$f":"VLOOKUP($Q386,Stores!$A:$D,4,FALSE)","v":"Open"},{"$f":"VLOOKUP(Q386,Stores!$A:$C,3,FALSE)","v":"Raleigh, NC"},6770,0.50221565731166906]
["8562 - Charlotte, NC - Sullivan's","",71.400000000000006,85.7,0,82.9,97.1,85.7,85.7,71.400000000000006,57.1,65.7,2.9,0,25,35,{"$f":"MID(A387,1,4)*1","v":8562},9,2012,{"$f":"VLOOKUP(Q387,Stores!$A:$B,2,FALSE)","v":"SULL"},{"$f":"S387&\"-\"&REPT(\"0\",2-LEN(R387))&R387","v":"2012-09"},{"$f":"VLOOKUP($Q387,Stores!$A:$D,4,FALSE)","v":"Open"},{"$f":"VLOOKUP(Q387,Stores!$A:$C,3,FALSE)","v":"Charlotte, NC"},4278,{"$f":"P387/(X387/100)","v":0.81813931743805512}]
["8570 - Palm Desert, CA - Sullivan's","",71.400000000000006,82.1,0,82.1,85.7,82.1,82.1,75,75,85.7,3.6,0,23,28,8570,9,2012,{"$f":"VLOOKUP(Q388,Stores!$A:$B,2,FALSE)","v":"SULL"},"2012-09",{"$f":"VLOOKUP($Q388,Stores!$A:$D,4,FALSE)","v":"Open"},{"$f":"VLOOKUP(Q388,Stores!$A:$C,3,FALSE)","v":"Palm Desert, CA"},3849,0.72746167835801501]
["8591 - Anchorage, AK - Sullivan's","",54.8,58.1,0,71,74.2,67.7,51.6,71,45.2,64.5,25.8,0,21,31,8591,9,2012,{"$f":"VLOOKUP(Q389,Stores!$A:$B,2,FALSE)","v":"SULL"},"2012-09",{"$f":"VLOOKUP($Q389,Stores!$A:$D,4,FALSE)","v":"Open"},{"$f":"VLOOKUP(Q389,Stores!$A:$C,3,FALSE)","v":"Anchorage, AK"},7298,0.42477391066045489]
["8592 - Seattle, WA - Sullivan's","",62.8,69.8,0,65.099999999999994,72.099999999999994,60.5,76.7,67.400000000000006,48.8,58.1,9.3000000000000007,0,26,43,8592,9,2012,{"$f":"VLOOKUP(Q390,Stores!$A:$B,2,FALSE)","v":"SULL"},"2012-09",{"$f":"VLOOKUP($Q390,Stores!$A:$D,4,FALSE)","v":"Closed"},{"$f":"VLOOKUP(Q390,Stores!$A:$C,3,FALSE)","v":"Seattle, WA"},5112,0.84115805946791866]
["8601 - Dallas, TX - Del Frisco's","",79.2,85.4,0,83.3,86.5,81.3,79.2,76,68.8,85.4,7.3,1,73,96,8601,9,2012,{"$f":"VLOOKUP(Q391,Stores!$A:$B,2,FALSE)","v":"DFDE"},"2012-09",{"$f":"VLOOKUP($Q391,Stores!$A:$D,4,FALSE)","v":"Closed"},{"$f":"VLOOKUP(Q391,Stores!$A:$C,3,FALSE)","v":"Dallas, TX"},7198,1.3337038066129481]
["8602 - Fort Worth, TX - Del Frisco's","",74.400000000000006,83.3,0,78.8,88.5,79.5,84,80.099999999999994,60.9,85.3,7.1,0,112,156,8602,9,2012,{"$f":"VLOOKUP(Q392,Stores!$A:$B,2,FALSE)","v":"DFDE"},"2012-09",{"$f":"VLOOKUP($Q392,Stores!$A:$D,4,FALSE)","v":"Open"},{"$f":"VLOOKUP(Q392,Stores!$A:$C,3,FALSE)","v":"Fort Worth, TX"},8592,1.8156424581005586]
["8603 - Denver, CO - Del Frisco's","",67.2,71,0,70.5,78.099999999999994,72.099999999999994,77,66.7,53.6,70.5,14.2,0,134,183,8603,9,2012,{"$f":"VLOOKUP(Q393,Stores!$A:$B,2,FALSE)","v":"DFDE"},"2012-09",{"$f":"VLOOKUP($Q393,Stores!$A:$D,4,FALSE)","v":"Open"},{"$f":"VLOOKUP(Q393,Stores!$A:$C,3,FALSE)","v":"Denver, CO"},10892,1.6801322071244951]
["8604 - Charlotte, NC - Del Frisco's","",76.5,82.4,0,79.400000000000006,86.8,73.5,80.900000000000006,79.400000000000006,61.8,63.2,7.4,0,53,68,8604,9,2012,{"$f":"VLOOKUP(Q394,Stores!$A:$B,2,FALSE)","v":"DFDE"},"2012-09",{"$f":"VLOOKUP($Q394,Stores!$A:$D,4,FALSE)","v":"Open"},{"$f":"VLOOKUP(Q394,Stores!$A:$C,3,FALSE)","v":"Charlotte, NC"},6136,1.1082138200782268]
["8605 - Houston, TX - Del Frisco's","",72.7,76.900000000000006,0,77.7,88.4,75.2,79.3,79.3,63.6,62,9.1,1,81,121,8605,9,2012,{"$f":"VLOOKUP(Q395,Stores!$A:$B,2,FALSE)","v":"DFDE"},"2012-09",{"$f":"VLOOKUP($Q395,Stores!$A:$D,4,FALSE)","v":"Open"},{"$f":"VLOOKUP(Q395,Stores!$A:$C,3,FALSE)","v":"Houston, TX"},12276,0.98566308243727596]
["8615 - Orlando, FL - Del Frisco’s","",62.5,66.3,0,75,77.5,63.8,73.8,75,56.3,76.3,10,3,61,80,8615,9,2012,{"$f":"VLOOKUP(Q396,Stores!$A:$B,2,FALSE)","v":"DFDE"},"2012-09",{"$f":"VLOOKUP($Q396,Stores!$A:$D,4,FALSE)","v":"Open"},{"$f":"VLOOKUP(Q396,Stores!$A:$C,3,FALSE)","v":"Orlando, FL"},4606,1.7368649587494571]
["8620 - New York City, NY - Del Frisco's","",75.599999999999994,74.8,0,81.099999999999994,85.8,73.2,78.7,77.2,44.1,69.3,4.7,0,95,127,8620,9,2012,{"$f":"VLOOKUP(Q397,Stores!$A:$B,2,FALSE)","v":"DFDE"},"2012-09",{"$f":"VLOOKUP($Q397,Stores!$A:$D,4,FALSE)","v":"Open"},{"$f":"VLOOKUP(Q397,Stores!$A:$C,3,FALSE)","v":"New York City, NY"},19306,0.65782658240961356]
["8635 - Boston, MA - Del Frisco's","",61.5,63.5,0,78.400000000000006,81.8,67.599999999999994,66.900000000000006,70.900000000000006,45.3,54.7,15.5,1,100,148,8635,9,2012,{"$f":"VLOOKUP(Q398,Stores!$A:$B,2,FALSE)","v":"DFDE"},"2012-09",{"$f":"VLOOKUP($Q398,Stores!$A:$D,4,FALSE)","v":"Open"},{"$f":"VLOOKUP(Q398,Stores!$A:$C,3,FALSE)","v":"Boston, MA"},15054,0.98312740799787435]
["8640 - Las Vegas, NV - Del Frisco's","",76.7,76.7,0,81.099999999999994,88.9,87.8,85.6,81.099999999999994,63.3,76.7,4.4000000000000004,0,71,90,8640,9,2012,{"$f":"VLOOKUP(Q399,Stores!$A:$B,2,FALSE)","v":"DFDE"},"2012-09",{"$f":"VLOOKUP($Q399,Stores!$A:$D,4,FALSE)","v":"Open"},{"$f":"VLOOKUP(Q399,Stores!$A:$C,3,FALSE)","v":"Las Vegas, NV"},5791,1.5541357278535659]
["8650 - Chicago, IL - Del Frisco's","",60,67.3,0,70.900000000000006,72.7,69.099999999999994,78.2,72.7,38.200000000000003,70.900000000000006,9.1,0,42,55,8650,9,2012,{"$f":"VLOOKUP(Q400,Stores!$A:$B,2,FALSE)","v":"DFDE"},"2012-09",{"$f":"VLOOKUP($Q400,Stores!$A:$D,4,FALSE)","v":"Open"},{"$f":"VLOOKUP(Q400,Stores!$A:$C,3,FALSE)","v":"Chicago, IL"},4992,1.1017628205128205]
["8655 - Washington, DC -  Del Frisco's","",70.3,73.400000000000006,0,76.599999999999994,79.7,71.900000000000006,76.599999999999994,81.3,51.6,68.8,12.5,1,44,64,8655,9,2012,{"$f":"VLOOKUP(Q401,Stores!$A:$B,2,FALSE)","v":"DFDE"},"2012-09",{"$f":"VLOOKUP($Q401,Stores!$A:$D,4,FALSE)","v":"Open"},{"$f":"VLOOKUP(Q401,Stores!$A:$C,3,FALSE)","v":"Washington, DC"},9906,0.64607308701796884]
["8680 - Philadelphia, PA - Del Frisco's","",58.1,68.599999999999994,0,65.099999999999994,79.099999999999994,58.1,73.3,74.400000000000006,47.7,52.3,8.1,1,60,86,8680,9,2012,{"$f":"VLOOKUP(Q402,Stores!$A:$B,2,FALSE)","v":"DFDE"},"2012-09",{"$f":"VLOOKUP($Q402,Stores!$A:$D,4,FALSE)","v":"Open"},{"$f":"VLOOKUP(Q402,Stores!$A:$C,3,FALSE)","v":"Philadelphia, PA"},11576,0.74291637871458183]
["8701 - New York City, NY - Grille","",72.400000000000006,75.900000000000006,0,72.400000000000006,82.8,62.1,58.6,48.3,37.9,62.1,10.3,0,17,29,8701,9,2012,{"$f":"VLOOKUP(Q403,Stores!$A:$B,2,FALSE)","v":"DFG"},"2012-09",{"$f":"VLOOKUP($Q403,Stores!$A:$D,4,FALSE)","v":"Open"},{"$f":"VLOOKUP(Q403,Stores!$A:$C,3,FALSE)","v":"New York City, NY"},11563,0.25079996540690136]
["8702 - Dallas, TX - Grille","",69.2,65.400000000000006,0,80.8,80.8,69.2,57.7,61.5,61.5,73.099999999999994,15.4,1,16,26,8702,9,2012,{"$f":"VLOOKUP(Q404,Stores!$A:$B,2,FALSE)","v":"DFG"},"2012-09",{"$f":"VLOOKUP($Q404,Stores!$A:$D,4,FALSE)","v":"Open"},{"$f":"VLOOKUP(Q404,Stores!$A:$C,3,FALSE)","v":"Dallas, TX"},8155,0.31882280809319435]
["8703 - Washington, DC - Grille","",28.6,57.1,0,57.1,57.1,71.400000000000006,57.1,71.400000000000006,28.6,28.6,0,0,5,7,8703,9,2012,{"$f":"VLOOKUP(Q405,Stores!$A:$B,2,FALSE)","v":"DFG"},"2012-09",{"$f":"VLOOKUP($Q405,Stores!$A:$D,4,FALSE)","v":"Open"},{"$f":"VLOOKUP(Q405,Stores!$A:$C,3,FALSE)","v":"Washington, DC"},5087,0.13760566149007275]
["8704 - Phoenix, AZ - Grille","",90,80,0,100,100,90,80,90,60,40,0,0,7,10,8704,9,2012,{"$f":"VLOOKUP(Q406,Stores!$A:$B,2,FALSE)","v":"DFG"},"2012-09",{"$f":"VLOOKUP($Q406,Stores!$A:$D,4,FALSE)","v":"Closed"},{"$f":"VLOOKUP(Q406,Stores!$A:$C,3,FALSE)","v":"Phoenix, AZ"},2153,0.46446818392940081]
["8705 - Palm Beach, FL - Grille","",83.3,91.7,0,100,100,91.7,91.7,100,66.7,100,0,0,9,12,8705,9,2012,{"$f":"VLOOKUP(Q407,Stores!$A:$B,2,FALSE)","v":"DFG"},"2012-09",{"$f":"VLOOKUP($Q407,Stores!$A:$D,4,FALSE)","v":"Closed"},{"$f":"VLOOKUP(Q407,Stores!$A:$C,3,FALSE)","v":"Palm Beach, FL"},986,1.2170385395537526]
["8706 - Atlanta, GA - Grille","",76.2,81,0,81,85.7,81,81,85.7,52.4,66.7,4.8,0,12,21,8706,9,2012,{"$f":"VLOOKUP(Q408,Stores!$A:$B,2,FALSE)","v":"DFG"},"2012-09",{"$f":"VLOOKUP($Q408,Stores!$A:$D,4,FALSE)","v":"Open"},{"$f":"VLOOKUP(Q408,Stores!$A:$C,3,FALSE)","v":"Atlanta, GA"},7620,0.27559055118110237]
["8707 - River Oaks, TX - Grille","",70.400000000000006,79.599999999999994,0,87,87,79.599999999999994,68.5,77.8,64.8,72.2,5.6,0,38,54,8707,9,2012,{"$f":"VLOOKUP(Q409,Stores!$A:$B,2,FALSE)","v":"DFG"},"2012-09",{"$f":"VLOOKUP($Q409,Stores!$A:$D,4,FALSE)","v":"Open"},{"$f":"VLOOKUP(Q409,Stores!$A:$C,3,FALSE)","v":"Houston, TX"},9499,0.56848089272555014]
["8708 - Chestnut Hill, MA - Grille","",44.4,50,0,55.6,55.6,22.2,44.4,50,38.9,55.6,22.2,1,12,18,8708,9,2012,{"$f":"VLOOKUP(Q410,Stores!$A:$B,2,FALSE)","v":"DFG"},"2012-09",{"$f":"VLOOKUP($Q410,Stores!$A:$D,4,FALSE)","v":"Open"},{"$f":"VLOOKUP(Q410,Stores!$A:$C,3,FALSE)","v":"Chestnut Hill, MA"},5563,0.32356642099586552]
["8709 - Santa Monica, CA - Grille","",54.5,72.7,0,45.5,90.9,72.7,72.7,72.7,54.5,81.8,0,0,5,11,8709,9,2012,{"$f":"VLOOKUP(Q411,Stores!$A:$B,2,FALSE)","v":"DFG"},"2012-09",{"$f":"VLOOKUP($Q411,Stores!$A:$D,4,FALSE)","v":"Open"},{"$f":"VLOOKUP(Q411,Stores!$A:$C,3,FALSE)","v":"Santa Monica, CA"},13820,7.9594790159189591E-2]
["8710 - Fort Worth, TX - Grille","",56.4,69.099999999999994,0,72.7,81.8,80,69.099999999999994,81.8,54.5,43.6,10.9,1,36,55,8710,9,2012,{"$f":"VLOOKUP(Q412,Stores!$A:$B,2,FALSE)","v":"DFG"},"2012-09",{"$f":"VLOOKUP($Q412,Stores!$A:$D,4,FALSE)","v":"Open"},{"$f":"VLOOKUP(Q412,Stores!$A:$C,3,FALSE)","v":"Fort Worth, TX"},12100,0.45454545454545453]
["8712 - Southlake, TX - Grille","",73.5,79.5,0,84.3,90.4,79.5,78.3,77.099999999999994,56.6,79.5,12,1,56,83,8712,9,2012,{"$f":"VLOOKUP(Q413,Stores!$A:$B,2,FALSE)","v":"DFG"},"2012-09",{"$f":"VLOOKUP($Q413,Stores!$A:$D,4,FALSE)","v":"Open"},{"$f":"VLOOKUP(Q413,Stores!$A:$C,3,FALSE)","v":"Southlake, TX"},11416,0.72704975473020328]
["8713 - Burlington, MA - Grille",41794,77.3,72.7,0,86.4,81.8,68.2,63.6,72.7,31.8,45.5,0,0,14,22,8713,9,2012,{"$f":"VLOOKUP(Q414,Stores!$A:$B,2,FALSE)","v":"DFG"},"2012-09",{"$f":"VLOOKUP($Q414,Stores!$A:$D,4,FALSE)","v":"Open"},{"$f":"VLOOKUP(Q414,Stores!$A:$C,3,FALSE)","v":"Burlington, MA"},8030,0.27397260273972601]
["8714 - N Bethesda, MD - Grille",41908,50,57.1,0,35.700000000000003,64.3,42.9,64.3,57.1,28.6,64.3,21.4,1,8,14,8714,9,2012,{"$f":"VLOOKUP(Q415,Stores!$A:$B,2,FALSE)","v":"DFG"},"2012-09",{"$f":"VLOOKUP($Q415,Stores!$A:$D,4,FALSE)","v":"Open"},{"$f":"VLOOKUP(Q415,Stores!$A:$C,3,FALSE)","v":"N. Bethesda, MD"},4622,0.30289917784508874]
["8715 - Irvine, CA - Grille","",68.400000000000006,73.7,0,78.900000000000006,89.5,73.7,73.7,84.2,63.2,73.7,5.3,0,13,19,8715,9,2012,{"$f":"VLOOKUP(Q416,Stores!$A:$B,2,FALSE)","v":"DFG"},"2012-09",{"$f":"VLOOKUP($Q416,Stores!$A:$D,4,FALSE)","v":"Open"},{"$f":"VLOOKUP(Q416,Stores!$A:$C,3,FALSE)","v":"Irvine, CA"},5628,0.33759772565742713]
["8716 - Tampa, FL - Grille","",80.5,78,0,85.4,90.2,75.599999999999994,78,85.4,53.7,73.2,7.3,0,24,41,8716,9,2012,{"$f":"VLOOKUP(Q417,Stores!$A:$B,2,FALSE)","v":"DFG"},"2012-09",{"$f":"VLOOKUP($Q417,Stores!$A:$D,4,FALSE)","v":"Open"},{"$f":"VLOOKUP(Q417,Stores!$A:$C,3,FALSE)","v":"Tampa, FL"},6060,0.67656765676567654]
["8717 - Pasadena, CA - Grille",41992,75,71.400000000000006,0,96.4,85.7,71.400000000000006,67.900000000000006,75,46.4,71.400000000000006,0,0,18,28,8717,9,2012,{"$f":"VLOOKUP(Q418,Stores!$A:$B,2,FALSE)","v":"DFG"},"2012-09",{"$f":"VLOOKUP($Q418,Stores!$A:$D,4,FALSE)","v":"Open"},{"$f":"VLOOKUP(Q418,Stores!$A:$C,3,FALSE)","v":"Pasadena, CA"},4678,0.59854638734501919]
["8718 -Woodlands, TX - Grille","",68.400000000000006,71.900000000000006,0,78.900000000000006,78.900000000000006,75.400000000000006,70.2,77.2,49.1,75.400000000000006,10.5,0,36,57,8718,9,2012,{"$f":"VLOOKUP(Q419,Stores!$A:$B,2,FALSE)","v":"DFG"},"2012-09",{"$f":"VLOOKUP($Q419,Stores!$A:$D,4,FALSE)","v":"Open"},{"$f":"VLOOKUP(Q419,Stores!$A:$C,3,FALSE)","v":"Woodlands, TX"},7624,0.74763903462749215]
["8721 - Plano, TX - Grille","",62.7,74.5,0,72.5,74.5,70.599999999999994,76.5,82.4,64.7,84.3,13.7,0,30,51,8721,9,2012,{"$f":"VLOOKUP(Q420,Stores!$A:$B,2,FALSE)","v":"DFG"},"2012-09",{"$f":"VLOOKUP($Q420,Stores!$A:$D,4,FALSE)","v":"Open"},{"$f":"VLOOKUP(Q420,Stores!$A:$C,3,FALSE)","v":"Plano, TX"},10012,0.5093887335197762]
["8722 – Stamford, CT - Grille","",37.799999999999997,48.9,0,57.8,57.8,37.799999999999997,55.6,51.1,40,77.8,24.4,2,30,45,8722,9,2012,{"$f":"VLOOKUP(Q421,Stores!$A:$B,2,FALSE)","v":"DFG"},"2012-09",{"$f":"VLOOKUP($Q421,Stores!$A:$D,4,FALSE)","v":"Open"},{"$f":"VLOOKUP(Q421,Stores!$A:$C,3,FALSE)","v":"Stamford, CT"},7107,0.63317855635289155]
["8501 - Austin, TX - Sullivan's","",64.3,78.599999999999994,0,78.599999999999994,85.7,78.599999999999994,71.400000000000006,78.599999999999994,64.3,85.7,7.1,0,11,14,8501,10,2012,{"$f":"VLOOKUP(Q422,Stores!$A:$B,2,FALSE)","v":"SULL"},"2012-10",{"$f":"VLOOKUP($Q422,Stores!$A:$D,4,FALSE)","v":"Open"},{"$f":"VLOOKUP(Q422,Stores!$A:$C,3,FALSE)","v":"Austin, TX"},5281,0.26510130657072523]
["8502 - Indianapolis, IN - Sullivan's","",72.3,70.5,0,75.900000000000006,83,73.2,75,67,64.3,64.3,8.9,0,92,112,8502,10,2012,{"$f":"VLOOKUP(Q423,Stores!$A:$B,2,FALSE)","v":"SULL"},"2012-10",{"$f":"VLOOKUP($Q423,Stores!$A:$D,4,FALSE)","v":"Open"},{"$f":"VLOOKUP(Q423,Stores!$A:$C,3,FALSE)","v":"Indianapolis, IN"},7198,1.5559877743817727]
["8504 - Houston, TX - Sullivan's","",80,76,0,76,84,92,76,76,52,84,4,0,14,25,8504,10,2012,{"$f":"VLOOKUP(Q424,Stores!$A:$B,2,FALSE)","v":"SULL"},"2012-10",{"$f":"VLOOKUP($Q424,Stores!$A:$D,4,FALSE)","v":"Closed"},{"$f":"VLOOKUP(Q424,Stores!$A:$C,3,FALSE)","v":"Houston, TX"},3982,0.62782521346057252]
["8510 - Wilmington, DE - Sullivan's","",69.400000000000006,69.400000000000006,0,71,82.3,71,79,71,59.7,58.1,11.3,0,52,62,8510,10,2012,{"$f":"VLOOKUP(Q425,Stores!$A:$B,2,FALSE)","v":"SULL"},"2012-10",{"$f":"VLOOKUP($Q425,Stores!$A:$D,4,FALSE)","v":"Open"},{"$f":"VLOOKUP(Q425,Stores!$A:$C,3,FALSE)","v":"Wilmington, DE"},5307,1.1682683248539665]
["8522 - King of Prussia, PA - Sullivan's","",46.2,51.9,0,59.6,78.8,65.400000000000006,65.400000000000006,55.8,36.5,63.5,23.1,1,42,52,8522,10,2012,{"$f":"VLOOKUP(Q426,Stores!$A:$B,2,FALSE)","v":"SULL"},"2012-10",{"$f":"VLOOKUP($Q426,Stores!$A:$D,4,FALSE)","v":"Open"},{"$f":"VLOOKUP(Q426,Stores!$A:$C,3,FALSE)","v":"King of Prussia, PA"},5685,0.91468777484608621]
["8525 - Tucson, AZ - Sullivan's","",72.2,75,0,83.3,80.599999999999994,77.8,63.9,75,52.8,50,0,0,33,36,8525,10,2012,{"$f":"VLOOKUP(Q427,Stores!$A:$B,2,FALSE)","v":"SULL"},"2012-10",{"$f":"VLOOKUP($Q427,Stores!$A:$D,4,FALSE)","v":"Open"},{"$f":"VLOOKUP(Q427,Stores!$A:$C,3,FALSE)","v":"Tucson, AZ"},3499,1.0288653901114604]
["8532 - Omaha, NE - Sullivan's","",73.7,84.2,0,84.2,94.7,89.5,73.7,73.7,47.4,73.7,5.3,0,13,19,8532,10,2012,{"$f":"VLOOKUP(Q428,Stores!$A:$B,2,FALSE)","v":"SULL"},"2012-10",{"$f":"VLOOKUP($Q428,Stores!$A:$D,4,FALSE)","v":"Open"},{"$f":"VLOOKUP(Q428,Stores!$A:$C,3,FALSE)","v":"Omaha, NE"},4478,0.42429656096471641]
["8535 - Baltimore, MD - Sullivan's","",56.5,60.9,0,56.5,60.9,56.5,60.9,56.5,47.8,65.2,17.399999999999999,0,20,23,8535,10,2012,{"$f":"VLOOKUP(Q429,Stores!$A:$B,2,FALSE)","v":"SULL"},"2012-10",{"$f":"VLOOKUP($Q429,Stores!$A:$D,4,FALSE)","v":"Open"},{"$f":"VLOOKUP(Q429,Stores!$A:$C,3,FALSE)","v":"Baltimore, MD"},5697,0.40372125680182552]
["8536 - Leawood, KS - Sullivan's","",71.8,79.5,0,74.400000000000006,89.7,74.400000000000006,76.900000000000006,79.5,48.7,51.3,2.6,0,22,39,8536,10,2012,{"$f":"VLOOKUP(Q430,Stores!$A:$B,2,FALSE)","v":"SULL"},"2012-10",{"$f":"VLOOKUP($Q430,Stores!$A:$D,4,FALSE)","v":"Open"},{"$f":"VLOOKUP(Q430,Stores!$A:$C,3,FALSE)","v":"Leawood, KS"},4462,0.87404751232631117]
["8541 - Chicago, IL - Sullivan's","",57.1,71.400000000000006,0,64.3,71.400000000000006,71.400000000000006,57.1,64.3,64.3,71.400000000000006,14.3,0,8,14,8541,10,2012,{"$f":"VLOOKUP(Q431,Stores!$A:$B,2,FALSE)","v":"SULL"},"2012-10",{"$f":"VLOOKUP($Q431,Stores!$A:$D,4,FALSE)","v":"Open"},{"$f":"VLOOKUP(Q431,Stores!$A:$C,3,FALSE)","v":"Chicago, IL"},3754,0.37293553542887586]
["8542 - Naperville, IL - Sullivan's","",73.099999999999994,74.599999999999994,0,82.1,88.1,82.1,74.599999999999994,77.599999999999994,46.3,76.099999999999994,4.5,0,50,67,8542,10,2012,{"$f":"VLOOKUP(Q432,Stores!$A:$B,2,FALSE)","v":"SULL"},"2012-10",{"$f":"VLOOKUP($Q432,Stores!$A:$D,4,FALSE)","v":"Open"},{"$f":"VLOOKUP(Q432,Stores!$A:$C,3,FALSE)","v":"Naperville, IL"},6187,1.0829157911750444]
["8543 - Lincolnshire, IL - Sullivan's","",62.5,79.2,0,79.2,83.3,58.3,75,62.5,37.5,91.7,8.3000000000000007,0,13,24,8543,10,2012,{"$f":"VLOOKUP(Q433,Stores!$A:$B,2,FALSE)","v":"SULL"},"2012-10",{"$f":"VLOOKUP($Q433,Stores!$A:$D,4,FALSE)","v":"Open"},{"$f":"VLOOKUP(Q433,Stores!$A:$C,3,FALSE)","v":"Lincolnshire, IL"},4332,0.554016620498615]
["8551 - Baton Rouge, LA - Sullivan's","",84.9,89.2,0,92.5,94.6,87.1,93.5,90.3,76.3,94.6,2.2000000000000002,1,68,93,8551,10,2012,{"$f":"VLOOKUP(Q434,Stores!$A:$B,2,FALSE)","v":"SULL"},"2012-10",{"$f":"VLOOKUP($Q434,Stores!$A:$D,4,FALSE)","v":"Open"},{"$f":"VLOOKUP(Q434,Stores!$A:$C,3,FALSE)","v":"Baton Rouge, LA"},4197,2.2158684774839172]
["8561 - Raleigh, NC - Sullivan's","",70,82,0,76,84,68,78,78,62,56,12,2,40,50,8561,10,2012,{"$f":"VLOOKUP(Q435,Stores!$A:$B,2,FALSE)","v":"SULL"},"2012-10",{"$f":"VLOOKUP($Q435,Stores!$A:$D,4,FALSE)","v":"Open"},{"$f":"VLOOKUP(Q435,Stores!$A:$C,3,FALSE)","v":"Raleigh, NC"},5246,0.95310712924132668]
["8562 - Charlotte, NC - Sullivan's","",73.3,50,0,83.3,83.3,66.7,80,53.3,36.700000000000003,66.7,3.3,0,22,30,8562,10,2012,{"$f":"VLOOKUP(Q436,Stores!$A:$B,2,FALSE)","v":"SULL"},"2012-10",{"$f":"VLOOKUP($Q436,Stores!$A:$D,4,FALSE)","v":"Open"},{"$f":"VLOOKUP(Q436,Stores!$A:$C,3,FALSE)","v":"Charlotte, NC"},4521,0.66357000663570009]
["8570 - Palm Desert, CA - Sullivan's","",90,73.3,0,100,100,93.3,83.3,83.3,73.3,86.7,6.7,0,23,30,8570,10,2012,{"$f":"VLOOKUP(Q437,Stores!$A:$B,2,FALSE)","v":"SULL"},"2012-10",{"$f":"VLOOKUP($Q437,Stores!$A:$D,4,FALSE)","v":"Open"},{"$f":"VLOOKUP(Q437,Stores!$A:$C,3,FALSE)","v":"Palm Desert, CA"},4136,0.72533849129593808]
["8591 - Anchorage, AK - Sullivan's","",52.2,56.5,0,65.2,78.3,60.9,65.2,52.2,47.8,52.2,17.399999999999999,1,20,23,8591,10,2012,{"$f":"VLOOKUP(Q438,Stores!$A:$B,2,FALSE)","v":"SULL"},"2012-10",{"$f":"VLOOKUP($Q438,Stores!$A:$D,4,FALSE)","v":"Open"},{"$f":"VLOOKUP(Q438,Stores!$A:$C,3,FALSE)","v":"Anchorage, AK"},6678,0.34441449535789159]
["8592 - Seattle, WA - Sullivan's","",86.4,84.1,0,97.7,97.7,90.9,86.4,84.1,77.3,75,2.2999999999999998,0,32,44,8592,10,2012,{"$f":"VLOOKUP(Q439,Stores!$A:$B,2,FALSE)","v":"SULL"},"2012-10",{"$f":"VLOOKUP($Q439,Stores!$A:$D,4,FALSE)","v":"Closed"},{"$f":"VLOOKUP(Q439,Stores!$A:$C,3,FALSE)","v":"Seattle, WA"},5299,0.8303453481789016]
["8601 - Dallas, TX - Del Frisco's","",61,65.900000000000006,0,70.7,78,70.7,82.9,75.599999999999994,51.2,75.599999999999994,9.8000000000000007,0,27,41,8601,10,2012,{"$f":"VLOOKUP(Q440,Stores!$A:$B,2,FALSE)","v":"DFDE"},"2012-10",{"$f":"VLOOKUP($Q440,Stores!$A:$D,4,FALSE)","v":"Closed"},{"$f":"VLOOKUP(Q440,Stores!$A:$C,3,FALSE)","v":"Dallas, TX"},4721,0.86846007201864006]
["8602 - Fort Worth, TX - Del Frisco's","",74.599999999999994,81.599999999999994,0,80.7,86,74.599999999999994,80.7,77.2,63.2,71.900000000000006,10.5,0,81,114,8602,10,2012,{"$f":"VLOOKUP(Q441,Stores!$A:$B,2,FALSE)","v":"DFDE"},"2012-10",{"$f":"VLOOKUP($Q441,Stores!$A:$D,4,FALSE)","v":"Open"},{"$f":"VLOOKUP(Q441,Stores!$A:$C,3,FALSE)","v":"Fort Worth, TX"},7236,1.5754560530679933]
["8603 - Denver, CO - Del Frisco's","",72.599999999999994,84.9,0,80.8,87.7,80.8,75.3,72.599999999999994,56.2,50.7,4.0999999999999996,0,47,73,8603,10,2012,{"$f":"VLOOKUP(Q442,Stores!$A:$B,2,FALSE)","v":"DFDE"},"2012-10",{"$f":"VLOOKUP($Q442,Stores!$A:$D,4,FALSE)","v":"Open"},{"$f":"VLOOKUP(Q442,Stores!$A:$C,3,FALSE)","v":"Denver, CO"},8804,0.82916855974557013]
["8604 - Charlotte, NC - Del Frisco's","",76.8,73.2,0,76.8,82.1,75,76.8,71.400000000000006,48.2,66.099999999999994,12.5,0,36,56,8604,10,2012,{"$f":"VLOOKUP(Q443,Stores!$A:$B,2,FALSE)","v":"DFDE"},"2012-10",{"$f":"VLOOKUP($Q443,Stores!$A:$D,4,FALSE)","v":"Open"},{"$f":"VLOOKUP(Q443,Stores!$A:$C,3,FALSE)","v":"Charlotte, NC"},5095,1.099116781157998]
["8605 - Houston, TX - Del Frisco's","",83.7,83.7,0,83.7,89.8,77.599999999999994,89.8,83.7,59.2,67.3,2,0,35,49,8605,10,2012,{"$f":"VLOOKUP(Q444,Stores!$A:$B,2,FALSE)","v":"DFDE"},"2012-10",{"$f":"VLOOKUP($Q444,Stores!$A:$D,4,FALSE)","v":"Open"},{"$f":"VLOOKUP(Q444,Stores!$A:$C,3,FALSE)","v":"Houston, TX"},8139,0.60203956259982794]
["8615 - Orlando, FL - Del Frisco’s","",64.099999999999994,66.7,0,76.099999999999994,80.3,65,76.099999999999994,76.099999999999994,53,58.1,12,4,85,117,8615,10,2012,{"$f":"VLOOKUP(Q445,Stores!$A:$B,2,FALSE)","v":"DFDE"},"2012-10",{"$f":"VLOOKUP($Q445,Stores!$A:$D,4,FALSE)","v":"Open"},{"$f":"VLOOKUP(Q445,Stores!$A:$C,3,FALSE)","v":"Orlando, FL"},7923,1.4767133661491858]
["8620 - New York City, NY - Del Frisco's","",80.900000000000006,84.1,0,85.4,91.1,77.7,82.8,79.599999999999994,49,69.400000000000006,7.6,2,105,157,8620,10,2012,{"$f":"VLOOKUP(Q446,Stores!$A:$B,2,FALSE)","v":"DFDE"},"2012-10",{"$f":"VLOOKUP($Q446,Stores!$A:$D,4,FALSE)","v":"Open"},{"$f":"VLOOKUP(Q446,Stores!$A:$C,3,FALSE)","v":"New York City, NY"},21788,0.7205801358545989]
["8635 - Boston, MA - Del Frisco's","",73.3,71.599999999999994,0,81,85.3,72.400000000000006,79.3,72.400000000000006,39.700000000000003,69,12.9,0,86,116,8635,10,2012,{"$f":"VLOOKUP(Q447,Stores!$A:$B,2,FALSE)","v":"DFDE"},"2012-10",{"$f":"VLOOKUP($Q447,Stores!$A:$D,4,FALSE)","v":"Open"},{"$f":"VLOOKUP(Q447,Stores!$A:$C,3,FALSE)","v":"Boston, MA"},13092,0.88603727467155524]
["8640 - Las Vegas, NV - Del Frisco's","",77.8,87.5,0,83.3,90.3,81.900000000000006,80.599999999999994,81.900000000000006,62.5,76.400000000000006,5.6,0,56,72,8640,10,2012,{"$f":"VLOOKUP(Q448,Stores!$A:$B,2,FALSE)","v":"DFDE"},"2012-10",{"$f":"VLOOKUP($Q448,Stores!$A:$D,4,FALSE)","v":"Open"},{"$f":"VLOOKUP(Q448,Stores!$A:$C,3,FALSE)","v":"Las Vegas, NV"},6147,1.171303074670571]
["8650 - Chicago, IL - Del Frisco's","",69.7,69.7,0,66.7,78.8,69.7,72.7,72.7,60.6,72.7,3,1,22,33,8650,10,2012,{"$f":"VLOOKUP(Q449,Stores!$A:$B,2,FALSE)","v":"DFDE"},"2012-10",{"$f":"VLOOKUP($Q449,Stores!$A:$D,4,FALSE)","v":"Open"},{"$f":"VLOOKUP(Q449,Stores!$A:$C,3,FALSE)","v":"Chicago, IL"},7038,0.46888320545609552]
["8655 - Washington, DC -  Del Frisco's","",54.4,66.7,0,59.6,66.7,59.6,70.2,64.900000000000006,40.4,43.9,26.3,3,38,57,8655,10,2012,{"$f":"VLOOKUP(Q450,Stores!$A:$B,2,FALSE)","v":"DFDE"},"2012-10",{"$f":"VLOOKUP($Q450,Stores!$A:$D,4,FALSE)","v":"Open"},{"$f":"VLOOKUP(Q450,Stores!$A:$C,3,FALSE)","v":"Washington, DC"},9418,0.60522403907411337]
["8680 - Philadelphia, PA - Del Frisco's","",71.400000000000006,81.599999999999994,0,73.5,83.7,73.5,85.7,73.5,46.9,63.3,8.1999999999999993,0,36,49,{"$f":"MID(A451,1,4)*1","v":8680},10,2012,{"$f":"VLOOKUP(Q451,Stores!$A:$B,2,FALSE)","v":"DFDE"},{"$f":"S451&\"-\"&REPT(\"0\",2-LEN(R451))&R451","v":"2012-10"},{"$f":"VLOOKUP($Q451,Stores!$A:$D,4,FALSE)","v":"Open"},{"$f":"VLOOKUP(Q451,Stores!$A:$C,3,FALSE)","v":"Philadelphia, PA"},9473,{"$f":"P451/(X451/100)","v":0.51725957985854532}]
["8701 - New York City, NY - Grille","",57.9,71.099999999999994,0,73.7,76.3,63.2,55.3,57.9,26.3,78.900000000000006,5.3,0,23,38,8701,10,2012,{"$f":"VLOOKUP(Q452,Stores!$A:$B,2,FALSE)","v":"DFG"},"2012-10",{"$f":"VLOOKUP($Q452,Stores!$A:$D,4,FALSE)","v":"Open"},{"$f":"VLOOKUP(Q452,Stores!$A:$C,3,FALSE)","v":"New York City, NY"},12256,0.31005221932114879]
["8702 - Dallas, TX - Grille","",77.8,85.2,0,81.5,77.8,74.099999999999994,85.2,77.8,74.099999999999994,77.8,7.4,0,12,27,8702,10,2012,{"$f":"VLOOKUP(Q453,Stores!$A:$B,2,FALSE)","v":"DFG"},"2012-10",{"$f":"VLOOKUP($Q453,Stores!$A:$D,4,FALSE)","v":"Open"},{"$f":"VLOOKUP(Q453,Stores!$A:$C,3,FALSE)","v":"Dallas, TX"},8018,0.33674232975804436]
["8703 - Washington, DC - Grille","",68.2,72.7,0,68.2,77.3,68.2,72.7,63.6,59.1,63.6,9.1,1,16,22,8703,10,2012,{"$f":"VLOOKUP(Q454,Stores!$A:$B,2,FALSE)","v":"DFG"},"2012-10",{"$f":"VLOOKUP($Q454,Stores!$A:$D,4,FALSE)","v":"Open"},{"$f":"VLOOKUP(Q454,Stores!$A:$C,3,FALSE)","v":"Washington, DC"},5392,0.40801186943620177]
["8704 - Phoenix, AZ - Grille","",85.7,85.7,0,100,100,85.7,71.400000000000006,85.7,57.1,85.7,0,0,6,7,8704,10,2012,{"$f":"VLOOKUP(Q455,Stores!$A:$B,2,FALSE)","v":"DFG"},"2012-10",{"$f":"VLOOKUP($Q455,Stores!$A:$D,4,FALSE)","v":"Closed"},{"$f":"VLOOKUP(Q455,Stores!$A:$C,3,FALSE)","v":"Phoenix, AZ"},2227,0.31432420296362823]
["8705 - Palm Beach, FL - Grille","",52.6,52.6,0,84.2,89.5,57.9,57.9,73.7,36.799999999999997,84.2,15.8,0,11,19,8705,10,2012,{"$f":"VLOOKUP(Q456,Stores!$A:$B,2,FALSE)","v":"DFG"},"2012-10",{"$f":"VLOOKUP($Q456,Stores!$A:$D,4,FALSE)","v":"Closed"},{"$f":"VLOOKUP(Q456,Stores!$A:$C,3,FALSE)","v":"Palm Beach, FL"},1188,1.5993265993265993]
["8706 - Atlanta, GA - Grille","",41.7,54.2,0,50,66.7,62.5,58.3,66.7,41.7,70.8,8.3000000000000007,0,16,24,8706,10,2012,{"$f":"VLOOKUP(Q457,Stores!$A:$B,2,FALSE)","v":"DFG"},"2012-10",{"$f":"VLOOKUP($Q457,Stores!$A:$D,4,FALSE)","v":"Open"},{"$f":"VLOOKUP(Q457,Stores!$A:$C,3,FALSE)","v":"Atlanta, GA"},7879,0.3046071836527478]
["8707 - River Oaks, TX - Grille","",62.5,70.8,0,70.8,75,62.5,66.7,62.5,50,58.3,12.5,0,15,24,8707,10,2012,{"$f":"VLOOKUP(Q458,Stores!$A:$B,2,FALSE)","v":"DFG"},"2012-10",{"$f":"VLOOKUP($Q458,Stores!$A:$D,4,FALSE)","v":"Open"},{"$f":"VLOOKUP(Q458,Stores!$A:$C,3,FALSE)","v":"Houston, TX"},6289,0.38161869931626652]
["8708 - Chestnut Hill, MA - Grille","",55,45,0,55,60,40,30,50,35,45,20,0,13,20,8708,10,2012,{"$f":"VLOOKUP(Q459,Stores!$A:$B,2,FALSE)","v":"DFG"},"2012-10",{"$f":"VLOOKUP($Q459,Stores!$A:$D,4,FALSE)","v":"Open"},{"$f":"VLOOKUP(Q459,Stores!$A:$C,3,FALSE)","v":"Chestnut Hill, MA"},6075,0.32921810699588477]
["8709 - Santa Monica, CA - Grille","",45.5,54.5,0,45.5,72.7,45.5,54.5,63.6,54.5,36.4,18.2,0,7,11,8709,10,2012,{"$f":"VLOOKUP(Q460,Stores!$A:$B,2,FALSE)","v":"DFG"},"2012-10",{"$f":"VLOOKUP($Q460,Stores!$A:$D,4,FALSE)","v":"Open"},{"$f":"VLOOKUP(Q460,Stores!$A:$C,3,FALSE)","v":"Santa Monica, CA"},11586,9.4942171586397381E-2]
["8710 - Fort Worth, TX - Grille","",78.900000000000006,78.900000000000006,0,81.599999999999994,86.8,76.3,68.400000000000006,73.7,60.5,57.9,7.9,0,25,38,8710,10,2012,{"$f":"VLOOKUP(Q461,Stores!$A:$B,2,FALSE)","v":"DFG"},"2012-10",{"$f":"VLOOKUP($Q461,Stores!$A:$D,4,FALSE)","v":"Open"},{"$f":"VLOOKUP(Q461,Stores!$A:$C,3,FALSE)","v":"Fort Worth, TX"},11471,0.33127015953273475]
["8712 - Southlake, TX - Grille","",67.2,75.900000000000006,0,75.900000000000006,79.3,72.400000000000006,69,70.7,46.6,77.599999999999994,12.1,1,44,58,8712,10,2012,{"$f":"VLOOKUP(Q462,Stores!$A:$B,2,FALSE)","v":"DFG"},"2012-10",{"$f":"VLOOKUP($Q462,Stores!$A:$D,4,FALSE)","v":"Open"},{"$f":"VLOOKUP(Q462,Stores!$A:$C,3,FALSE)","v":"Southlake, TX"},11231,0.51642774463538421]
["8713 - Burlington, MA - Grille",41794,53.8,53.8,0,73.099999999999994,76.900000000000006,61.5,69.2,57.7,34.6,38.5,26.9,1,23,26,8713,10,2012,{"$f":"VLOOKUP(Q463,Stores!$A:$B,2,FALSE)","v":"DFG"},"2012-10",{"$f":"VLOOKUP($Q463,Stores!$A:$D,4,FALSE)","v":"Open"},{"$f":"VLOOKUP(Q463,Stores!$A:$C,3,FALSE)","v":"Burlington, MA"},8160,0.31862745098039219]
["8714 - N Bethesda, MD - Grille",41908,84.6,100,0,76.900000000000006,92.3,84.6,84.6,92.3,84.6,84.6,0,0,10,13,8714,10,2012,{"$f":"VLOOKUP(Q464,Stores!$A:$B,2,FALSE)","v":"DFG"},"2012-10",{"$f":"VLOOKUP($Q464,Stores!$A:$D,4,FALSE)","v":"Open"},{"$f":"VLOOKUP(Q464,Stores!$A:$C,3,FALSE)","v":"N. Bethesda, MD"},5125,0.25365853658536586]
["8715 - Irvine, CA - Grille","",76.2,66.7,0,85.7,85.7,81,71.400000000000006,71.400000000000006,61.9,71.400000000000006,9.5,0,18,21,8715,10,2012,{"$f":"VLOOKUP(Q465,Stores!$A:$B,2,FALSE)","v":"DFG"},"2012-10",{"$f":"VLOOKUP($Q465,Stores!$A:$D,4,FALSE)","v":"Open"},{"$f":"VLOOKUP(Q465,Stores!$A:$C,3,FALSE)","v":"Irvine, CA"},5437,0.38624241309545709]
["8716 - Tampa, FL - Grille","",66.7,62.5,0,75,83.3,70.8,66.7,70.8,58.3,45.8,25,0,17,24,8716,10,2012,{"$f":"VLOOKUP(Q466,Stores!$A:$B,2,FALSE)","v":"DFG"},"2012-10",{"$f":"VLOOKUP($Q466,Stores!$A:$D,4,FALSE)","v":"Open"},{"$f":"VLOOKUP(Q466,Stores!$A:$C,3,FALSE)","v":"Tampa, FL"},6213,0.38628681796233699]
["8717 - Pasadena, CA - Grille",41992,75,81.3,0,81.3,93.8,87.5,75,75,68.8,75,12.5,0,13,16,8717,10,2012,{"$f":"VLOOKUP(Q467,Stores!$A:$B,2,FALSE)","v":"DFG"},"2012-10",{"$f":"VLOOKUP($Q467,Stores!$A:$D,4,FALSE)","v":"Open"},{"$f":"VLOOKUP(Q467,Stores!$A:$C,3,FALSE)","v":"Pasadena, CA"},4121,0.38825527784518321]
["8718 -Woodlands, TX - Grille","",61.8,70.599999999999994,0,73.5,88.2,67.599999999999994,70.599999999999994,79.400000000000006,58.8,70.599999999999994,8.8000000000000007,0,31,34,8718,10,2012,{"$f":"VLOOKUP(Q468,Stores!$A:$B,2,FALSE)","v":"DFG"},"2012-10",{"$f":"VLOOKUP($Q468,Stores!$A:$D,4,FALSE)","v":"Open"},{"$f":"VLOOKUP(Q468,Stores!$A:$C,3,FALSE)","v":"Woodlands, TX"},8361,0.40664992225810309]
["8720 - Little Rock, AR - Grille","",20,0,0,60,60,40,0,60,0,60,60,0,5,5,8720,10,2012,{"$f":"VLOOKUP(Q469,Stores!$A:$B,2,FALSE)","v":"DFG"},"2012-10",{"$f":"VLOOKUP($Q469,Stores!$A:$D,4,FALSE)","v":"Open"},{"$f":"VLOOKUP(Q469,Stores!$A:$C,3,FALSE)","v":"Little Rock, AR"},10691,4.6768309793284071E-2]
["8721 - Plano, TX - Grille","",63.9,72.2,0,88.9,88.9,69.400000000000006,63.9,77.8,63.9,80.599999999999994,13.9,1,22,36,8721,10,2012,{"$f":"VLOOKUP(Q470,Stores!$A:$B,2,FALSE)","v":"DFG"},"2012-10",{"$f":"VLOOKUP($Q470,Stores!$A:$D,4,FALSE)","v":"Open"},{"$f":"VLOOKUP(Q470,Stores!$A:$C,3,FALSE)","v":"Plano, TX"},8216,0.4381694255111977]
["8722 – Stamford, CT - Grille","",45.2,50,0,52.4,57.1,40.5,52.4,52.4,31,61.9,26.2,4,33,42,8722,10,2012,{"$f":"VLOOKUP(Q471,Stores!$A:$B,2,FALSE)","v":"DFG"},"2012-10",{"$f":"VLOOKUP($Q471,Stores!$A:$D,4,FALSE)","v":"Open"},{"$f":"VLOOKUP(Q471,Stores!$A:$C,3,FALSE)","v":"Stamford, CT"},9317,0.45078888054094662]
["8501 - Austin, TX - Sullivan's","",70,80,0,70,80,60,70,60,40,70,10,0,7,10,8501,11,2012,{"$f":"VLOOKUP(Q472,Stores!$A:$B,2,FALSE)","v":"SULL"},"2012-11",{"$f":"VLOOKUP($Q472,Stores!$A:$D,4,FALSE)","v":"Open"},{"$f":"VLOOKUP(Q472,Stores!$A:$C,3,FALSE)","v":"Austin, TX"},5689,0.17577781683951485]
["8502 - Indianapolis, IN - Sullivan's","",67.400000000000006,73.900000000000006,0,82.6,82.6,76.099999999999994,73.900000000000006,63,39.1,78.3,8.6999999999999993,0,35,46,8502,11,2012,{"$f":"VLOOKUP(Q473,Stores!$A:$B,2,FALSE)","v":"SULL"},"2012-11",{"$f":"VLOOKUP($Q473,Stores!$A:$D,4,FALSE)","v":"Open"},{"$f":"VLOOKUP(Q473,Stores!$A:$C,3,FALSE)","v":"Indianapolis, IN"},6134,0.74991848712096509]
["8504 - Houston, TX - Sullivan's","",80,72,0,100,96,88,80,72,52,60,8,0,15,25,8504,11,2012,{"$f":"VLOOKUP(Q474,Stores!$A:$B,2,FALSE)","v":"SULL"},"2012-11",{"$f":"VLOOKUP($Q474,Stores!$A:$D,4,FALSE)","v":"Closed"},{"$f":"VLOOKUP(Q474,Stores!$A:$C,3,FALSE)","v":"Houston, TX"},3807,0.65668505384817444]
["8510 - Wilmington, DE - Sullivan's","",67.5,72.5,0,81.3,86.3,76.3,76.3,72.5,48.8,57.5,7.5,0,62,80,8510,11,2012,{"$f":"VLOOKUP(Q475,Stores!$A:$B,2,FALSE)","v":"SULL"},"2012-11",{"$f":"VLOOKUP($Q475,Stores!$A:$D,4,FALSE)","v":"Open"},{"$f":"VLOOKUP(Q475,Stores!$A:$C,3,FALSE)","v":"Wilmington, DE"},4798,1.6673614005835766]
["8522 - King of Prussia, PA - Sullivan's","",67.8,76.3,0,81.400000000000006,81.400000000000006,78,69.5,67.8,50.8,72.900000000000006,10.199999999999999,2,48,59,8522,11,2012,{"$f":"VLOOKUP(Q476,Stores!$A:$B,2,FALSE)","v":"SULL"},"2012-11",{"$f":"VLOOKUP($Q476,Stores!$A:$D,4,FALSE)","v":"Open"},{"$f":"VLOOKUP(Q476,Stores!$A:$C,3,FALSE)","v":"King of Prussia, PA"},6257,0.94294390282883167]
["8525 - Tucson, AZ - Sullivan's","",82.1,74.400000000000006,0,89.7,89.7,76.900000000000006,71.8,71.8,51.3,61.5,5.0999999999999996,0,31,39,8525,11,2012,{"$f":"VLOOKUP(Q477,Stores!$A:$B,2,FALSE)","v":"SULL"},"2012-11",{"$f":"VLOOKUP($Q477,Stores!$A:$D,4,FALSE)","v":"Open"},{"$f":"VLOOKUP(Q477,Stores!$A:$C,3,FALSE)","v":"Tucson, AZ"},3823,1.0201412503269685]
["8532 - Omaha, NE - Sullivan's","",66.7,66.7,0,77.8,74.099999999999994,70.400000000000006,70.400000000000006,70.400000000000006,59.3,40.700000000000003,7.4,1,20,27,8532,11,2012,{"$f":"VLOOKUP(Q478,Stores!$A:$B,2,FALSE)","v":"SULL"},"2012-11",{"$f":"VLOOKUP($Q478,Stores!$A:$D,4,FALSE)","v":"Open"},{"$f":"VLOOKUP(Q478,Stores!$A:$C,3,FALSE)","v":"Omaha, NE"},4287,0.62981105668299509]
["8535 - Baltimore, MD - Sullivan's","",68.2,81.8,0,72.7,86.4,63.6,81.8,72.7,40.9,63.6,0,0,14,22,8535,11,2012,{"$f":"VLOOKUP(Q479,Stores!$A:$B,2,FALSE)","v":"SULL"},"2012-11",{"$f":"VLOOKUP($Q479,Stores!$A:$D,4,FALSE)","v":"Open"},{"$f":"VLOOKUP(Q479,Stores!$A:$C,3,FALSE)","v":"Baltimore, MD"},5628,0.39090262970859985]
["8536 - Leawood, KS - Sullivan's","",71.7,67.400000000000006,0,87,84.8,71.7,67.400000000000006,73.900000000000006,56.5,87,10.9,0,30,46,8536,11,2012,{"$f":"VLOOKUP(Q480,Stores!$A:$B,2,FALSE)","v":"SULL"},"2012-11",{"$f":"VLOOKUP($Q480,Stores!$A:$D,4,FALSE)","v":"Open"},{"$f":"VLOOKUP(Q480,Stores!$A:$C,3,FALSE)","v":"Leawood, KS"},3965,1.1601513240857504]
["8541 - Chicago, IL - Sullivan's","",92.3,100,0,84.6,84.6,92.3,92.3,84.6,76.900000000000006,92.3,0,0,11,13,8541,11,2012,{"$f":"VLOOKUP(Q481,Stores!$A:$B,2,FALSE)","v":"SULL"},"2012-11",{"$f":"VLOOKUP($Q481,Stores!$A:$D,4,FALSE)","v":"Open"},{"$f":"VLOOKUP(Q481,Stores!$A:$C,3,FALSE)","v":"Chicago, IL"},3340,0.38922155688622756]
["8542 - Naperville, IL - Sullivan's","",74.599999999999994,77.8,0,77.8,82.5,69.8,76.2,71.400000000000006,50.8,71.400000000000006,6.3,0,42,63,8542,11,2012,{"$f":"VLOOKUP(Q482,Stores!$A:$B,2,FALSE)","v":"SULL"},"2012-11",{"$f":"VLOOKUP($Q482,Stores!$A:$D,4,FALSE)","v":"Open"},{"$f":"VLOOKUP(Q482,Stores!$A:$C,3,FALSE)","v":"Naperville, IL"},5770,1.0918544194107451]
["8543 - Lincolnshire, IL - Sullivan's","",71.400000000000006,89.3,0,75,82.1,75,71.400000000000006,75,50,85.7,7.1,0,21,28,8543,11,2012,{"$f":"VLOOKUP(Q483,Stores!$A:$B,2,FALSE)","v":"SULL"},"2012-11",{"$f":"VLOOKUP($Q483,Stores!$A:$D,4,FALSE)","v":"Open"},{"$f":"VLOOKUP(Q483,Stores!$A:$C,3,FALSE)","v":"Lincolnshire, IL"},4007,0.69877714000499125]
["8551 - Baton Rouge, LA - Sullivan's","",86.7,88.8,0,90.8,92.9,88.8,89.8,84.7,75.5,94.9,0,0,72,98,8551,11,2012,{"$f":"VLOOKUP(Q484,Stores!$A:$B,2,FALSE)","v":"SULL"},"2012-11",{"$f":"VLOOKUP($Q484,Stores!$A:$D,4,FALSE)","v":"Open"},{"$f":"VLOOKUP(Q484,Stores!$A:$C,3,FALSE)","v":"Baton Rouge, LA"},4670,2.0985010706638114]
["8561 - Raleigh, NC - Sullivan's","",70.5,72.7,0,77.3,86.4,75,75,81.8,56.8,47.7,11.4,2,28,44,8561,11,2012,{"$f":"VLOOKUP(Q485,Stores!$A:$B,2,FALSE)","v":"SULL"},"2012-11",{"$f":"VLOOKUP($Q485,Stores!$A:$D,4,FALSE)","v":"Open"},{"$f":"VLOOKUP(Q485,Stores!$A:$C,3,FALSE)","v":"Raleigh, NC"},5171,0.85089924579385035]
["8562 - Charlotte, NC - Sullivan's","",73.5,73.5,0,85.3,88.2,76.5,88.2,76.5,58.8,55.9,5.9,0,30,34,8562,11,2012,{"$f":"VLOOKUP(Q486,Stores!$A:$B,2,FALSE)","v":"SULL"},"2012-11",{"$f":"VLOOKUP($Q486,Stores!$A:$D,4,FALSE)","v":"Open"},{"$f":"VLOOKUP(Q486,Stores!$A:$C,3,FALSE)","v":"Charlotte, NC"},4963,0.6850695144066089]
["8570 - Palm Desert, CA - Sullivan's","",77.400000000000006,80.599999999999994,0,93.5,93.5,77.400000000000006,77.400000000000006,80.599999999999994,71,83.9,3.2,0,25,31,8570,11,2012,{"$f":"VLOOKUP(Q487,Stores!$A:$B,2,FALSE)","v":"SULL"},"2012-11",{"$f":"VLOOKUP($Q487,Stores!$A:$D,4,FALSE)","v":"Open"},{"$f":"VLOOKUP(Q487,Stores!$A:$C,3,FALSE)","v":"Palm Desert, CA"},4482,0.69165551093261934]
["8591 - Anchorage, AK - Sullivan's","",56.8,59.5,0,62.2,67.599999999999994,62.2,64.900000000000006,62.2,51.4,43.2,21.6,0,31,37,8591,11,2012,{"$f":"VLOOKUP(Q488,Stores!$A:$B,2,FALSE)","v":"SULL"},"2012-11",{"$f":"VLOOKUP($Q488,Stores!$A:$D,4,FALSE)","v":"Open"},{"$f":"VLOOKUP(Q488,Stores!$A:$C,3,FALSE)","v":"Anchorage, AK"},7402,0.49986490137800599]
["8592 - Seattle, WA - Sullivan's","",54.2,66.7,0,68.8,79.2,62.5,60.4,64.599999999999994,56.3,45.8,8.3000000000000007,1,32,48,8592,11,2012,{"$f":"VLOOKUP(Q489,Stores!$A:$B,2,FALSE)","v":"SULL"},"2012-11",{"$f":"VLOOKUP($Q489,Stores!$A:$D,4,FALSE)","v":"Closed"},{"$f":"VLOOKUP(Q489,Stores!$A:$C,3,FALSE)","v":"Seattle, WA"},6471,0.74177097821047755]
["8601 - Dallas, TX - Del Frisco's","",69.8,75.5,0,75.5,86.8,79.2,77.400000000000006,77.400000000000006,50.9,84.9,9.4,0,38,53,8601,11,2012,{"$f":"VLOOKUP(Q490,Stores!$A:$B,2,FALSE)","v":"DFDE"},"2012-11",{"$f":"VLOOKUP($Q490,Stores!$A:$D,4,FALSE)","v":"Closed"},{"$f":"VLOOKUP(Q490,Stores!$A:$C,3,FALSE)","v":"Dallas, TX"},5635,0.94055013309671698]
["8602 - Fort Worth, TX - Del Frisco's","",84.2,88.6,0,88.6,91.2,82.5,87.7,84.2,64.900000000000006,77.2,4.4000000000000004,0,78,114,8602,11,2012,{"$f":"VLOOKUP(Q491,Stores!$A:$B,2,FALSE)","v":"DFDE"},"2012-11",{"$f":"VLOOKUP($Q491,Stores!$A:$D,4,FALSE)","v":"Open"},{"$f":"VLOOKUP(Q491,Stores!$A:$C,3,FALSE)","v":"Fort Worth, TX"},6713,1.698197527186057]
["8603 - Denver, CO - Del Frisco's","",75.7,78.400000000000006,0,79.3,82.9,74.8,89.2,69.400000000000006,53.2,64,7.2,0,74,111,8603,11,2012,{"$f":"VLOOKUP(Q492,Stores!$A:$B,2,FALSE)","v":"DFDE"},"2012-11",{"$f":"VLOOKUP($Q492,Stores!$A:$D,4,FALSE)","v":"Open"},{"$f":"VLOOKUP(Q492,Stores!$A:$C,3,FALSE)","v":"Denver, CO"},9090,1.221122112211221]
["8604 - Charlotte, NC - Del Frisco's","",70.8,68.8,0,81.3,83.3,66.7,72.900000000000006,79.2,47.9,60.4,8.3000000000000007,0,37,48,8604,11,2012,{"$f":"VLOOKUP(Q493,Stores!$A:$B,2,FALSE)","v":"DFDE"},"2012-11",{"$f":"VLOOKUP($Q493,Stores!$A:$D,4,FALSE)","v":"Open"},{"$f":"VLOOKUP(Q493,Stores!$A:$C,3,FALSE)","v":"Charlotte, NC"},5266,0.91150778579567038]
["8605 - Houston, TX - Del Frisco's","",77.3,84.8,0,74.2,86.4,75.8,87.9,86.4,60.6,72.7,9.1,1,52,66,8605,11,2012,{"$f":"VLOOKUP(Q494,Stores!$A:$B,2,FALSE)","v":"DFDE"},"2012-11",{"$f":"VLOOKUP($Q494,Stores!$A:$D,4,FALSE)","v":"Open"},{"$f":"VLOOKUP(Q494,Stores!$A:$C,3,FALSE)","v":"Houston, TX"},7492,0.88093966898024556]
["8615 - Orlando, FL - Del Frisco’s","",81.3,100,0,87.5,93.8,75,81.3,81.3,50,81.3,6.3,0,11,16,8615,11,2012,{"$f":"VLOOKUP(Q495,Stores!$A:$B,2,FALSE)","v":"DFDE"},"2012-11",{"$f":"VLOOKUP($Q495,Stores!$A:$D,4,FALSE)","v":"Open"},{"$f":"VLOOKUP(Q495,Stores!$A:$C,3,FALSE)","v":"Orlando, FL"},3113,0.51397365884998392]
["8620 - New York City, NY - Del Frisco's","",73.7,80.099999999999994,0,79.5,82.5,72.5,79.5,77.8,45.6,60.2,8.1999999999999993,1,114,171,8620,11,2012,{"$f":"VLOOKUP(Q496,Stores!$A:$B,2,FALSE)","v":"DFDE"},"2012-11",{"$f":"VLOOKUP($Q496,Stores!$A:$D,4,FALSE)","v":"Open"},{"$f":"VLOOKUP(Q496,Stores!$A:$C,3,FALSE)","v":"New York City, NY"},23617,0.72405470635559133]
["8635 - Boston, MA - Del Frisco's","",62,65.3,0,78.5,81.8,69.400000000000006,72.7,69.400000000000006,46.3,59.5,11.6,0,88,121,8635,11,2012,{"$f":"VLOOKUP(Q497,Stores!$A:$B,2,FALSE)","v":"DFDE"},"2012-11",{"$f":"VLOOKUP($Q497,Stores!$A:$D,4,FALSE)","v":"Open"},{"$f":"VLOOKUP(Q497,Stores!$A:$C,3,FALSE)","v":"Boston, MA"},12042,1.0048164756684936]
["8640 - Las Vegas, NV - Del Frisco's","",78.099999999999994,81.3,0,81.3,89.6,76,83.3,78.099999999999994,59.4,65.599999999999994,7.3,0,69,96,8640,11,2012,{"$f":"VLOOKUP(Q498,Stores!$A:$B,2,FALSE)","v":"DFDE"},"2012-11",{"$f":"VLOOKUP($Q498,Stores!$A:$D,4,FALSE)","v":"Open"},{"$f":"VLOOKUP(Q498,Stores!$A:$C,3,FALSE)","v":"Las Vegas, NV"},7557,1.2703453751488687]
["8650 - Chicago, IL - Del Frisco's","",85,87.5,0,82.5,85,87.5,87.5,85,62.5,75,5,0,21,40,8650,11,2012,{"$f":"VLOOKUP(Q499,Stores!$A:$B,2,FALSE)","v":"DFDE"},"2012-11",{"$f":"VLOOKUP($Q499,Stores!$A:$D,4,FALSE)","v":"Open"},{"$f":"VLOOKUP(Q499,Stores!$A:$C,3,FALSE)","v":"Chicago, IL"},5749,0.69577317794399018]
["8655 - Washington, DC -  Del Frisco's","",57.8,67.2,0,68.8,70.3,59.4,68.8,68.8,48.4,59.4,15.6,0,42,64,8655,11,2012,{"$f":"VLOOKUP(Q500,Stores!$A:$B,2,FALSE)","v":"DFDE"},"2012-11",{"$f":"VLOOKUP($Q500,Stores!$A:$D,4,FALSE)","v":"Open"},{"$f":"VLOOKUP(Q500,Stores!$A:$C,3,FALSE)","v":"Washington, DC"},9408,0.68027210884353739]
["8680 - Philadelphia, PA - Del Frisco's","",73,75,0,83,85,72,81,85,52,56,10,2,61,100,8680,11,2012,{"$f":"VLOOKUP(Q501,Stores!$A:$B,2,FALSE)","v":"DFDE"},"2012-11",{"$f":"VLOOKUP($Q501,Stores!$A:$D,4,FALSE)","v":"Open"},{"$f":"VLOOKUP(Q501,Stores!$A:$C,3,FALSE)","v":"Philadelphia, PA"},12612,0.79289565493181091]
["8701 - New York City, NY - Grille","",51.5,60.6,0,57.6,63.6,51.5,54.5,42.4,18.2,45.5,15.2,1,24,33,8701,11,2012,{"$f":"VLOOKUP(Q502,Stores!$A:$B,2,FALSE)","v":"DFG"},"2012-11",{"$f":"VLOOKUP($Q502,Stores!$A:$D,4,FALSE)","v":"Open"},{"$f":"VLOOKUP(Q502,Stores!$A:$C,3,FALSE)","v":"New York City, NY"},12976,0.25431565967940817]
["8702 - Dallas, TX - Grille","",50,61.1,0,66.7,77.8,61.1,55.6,50,44.4,44.4,27.8,3,11,18,8702,11,2012,{"$f":"VLOOKUP(Q503,Stores!$A:$B,2,FALSE)","v":"DFG"},"2012-11",{"$f":"VLOOKUP($Q503,Stores!$A:$D,4,FALSE)","v":"Open"},{"$f":"VLOOKUP(Q503,Stores!$A:$C,3,FALSE)","v":"Dallas, TX"},8220,0.218978102189781]
["8703 - Washington, DC - Grille","",53.3,53.3,0,53.3,60,60,53.3,60,46.7,66.7,33.299999999999997,1,13,15,8703,11,2012,{"$f":"VLOOKUP(Q504,Stores!$A:$B,2,FALSE)","v":"DFG"},"2012-11",{"$f":"VLOOKUP($Q504,Stores!$A:$D,4,FALSE)","v":"Open"},{"$f":"VLOOKUP(Q504,Stores!$A:$C,3,FALSE)","v":"Washington, DC"},6010,0.24958402662229617]
["8704 - Phoenix, AZ - Grille","",87.5,75,0,87.5,87.5,87.5,87.5,87.5,62.5,75,0,0,4,8,8704,11,2012,{"$f":"VLOOKUP(Q505,Stores!$A:$B,2,FALSE)","v":"DFG"},"2012-11",{"$f":"VLOOKUP($Q505,Stores!$A:$D,4,FALSE)","v":"Closed"},{"$f":"VLOOKUP(Q505,Stores!$A:$C,3,FALSE)","v":"Phoenix, AZ"},2367,0.3379805661174482]
["8705 - Palm Beach, FL - Grille","",52.6,57.9,0,73.7,73.7,63.2,52.6,57.9,47.4,63.2,26.3,2,16,19,8705,11,2012,{"$f":"VLOOKUP(Q506,Stores!$A:$B,2,FALSE)","v":"DFG"},"2012-11",{"$f":"VLOOKUP($Q506,Stores!$A:$D,4,FALSE)","v":"Closed"},{"$f":"VLOOKUP(Q506,Stores!$A:$C,3,FALSE)","v":"Palm Beach, FL"},1020,1.8627450980392157]
["8706 - Atlanta, GA - Grille","",47.8,47.8,0,69.599999999999994,82.6,60.9,52.2,65.2,34.799999999999997,60.9,17.399999999999999,1,16,23,8706,11,2012,{"$f":"VLOOKUP(Q507,Stores!$A:$B,2,FALSE)","v":"DFG"},"2012-11",{"$f":"VLOOKUP($Q507,Stores!$A:$D,4,FALSE)","v":"Open"},{"$f":"VLOOKUP(Q507,Stores!$A:$C,3,FALSE)","v":"Atlanta, GA"},8590,0.26775320139697323]
["8707 - River Oaks, TX - Grille","",72.7,77.3,0,81.8,81.8,77.3,90.9,81.8,63.6,50,13.6,0,15,22,8707,11,2012,{"$f":"VLOOKUP(Q508,Stores!$A:$B,2,FALSE)","v":"DFG"},"2012-11",{"$f":"VLOOKUP($Q508,Stores!$A:$D,4,FALSE)","v":"Open"},{"$f":"VLOOKUP(Q508,Stores!$A:$C,3,FALSE)","v":"Houston, TX"},6189,0.35546938116012278]
["8708 - Chestnut Hill, MA - Grille","",45,30,0,50,55,35,35,40,20,30,25,1,13,20,8708,11,2012,{"$f":"VLOOKUP(Q509,Stores!$A:$B,2,FALSE)","v":"DFG"},"2012-11",{"$f":"VLOOKUP($Q509,Stores!$A:$D,4,FALSE)","v":"Open"},{"$f":"VLOOKUP(Q509,Stores!$A:$C,3,FALSE)","v":"Chestnut Hill, MA"},6241,0.32046146450889285]
["8709 - Santa Monica, CA - Grille","",77.8,66.7,0,77.8,77.8,77.8,44.4,44.4,44.4,66.7,11.1,0,5,9,8709,11,2012,{"$f":"VLOOKUP(Q510,Stores!$A:$B,2,FALSE)","v":"DFG"},"2012-11",{"$f":"VLOOKUP($Q510,Stores!$A:$D,4,FALSE)","v":"Open"},{"$f":"VLOOKUP(Q510,Stores!$A:$C,3,FALSE)","v":"Santa Monica, CA"},10174,8.846078238647534E-2]
["8710 - Fort Worth, TX - Grille","",72.3,80.900000000000006,0,85.1,87.2,76.599999999999994,76.599999999999994,72.3,68.099999999999994,57.4,10.6,1,34,47,8710,11,2012,{"$f":"VLOOKUP(Q511,Stores!$A:$B,2,FALSE)","v":"DFG"},"2012-11",{"$f":"VLOOKUP($Q511,Stores!$A:$D,4,FALSE)","v":"Open"},{"$f":"VLOOKUP(Q511,Stores!$A:$C,3,FALSE)","v":"Fort Worth, TX"},11441,0.4108032514640329]
["8712 - Southlake, TX - Grille","",59.1,63.6,0,66.7,78.8,60.6,63.6,60.6,42.4,77.3,12.1,1,46,66,8712,11,2012,{"$f":"VLOOKUP(Q512,Stores!$A:$B,2,FALSE)","v":"DFG"},"2012-11",{"$f":"VLOOKUP($Q512,Stores!$A:$D,4,FALSE)","v":"Open"},{"$f":"VLOOKUP(Q512,Stores!$A:$C,3,FALSE)","v":"Southlake, TX"},11498,0.5740128718037919]
["8713 - Burlington, MA - Grille",41794,50,46.7,0,70,73.3,50,50,46.7,33.299999999999997,36.700000000000003,23.3,0,20,30,8713,11,2012,{"$f":"VLOOKUP(Q513,Stores!$A:$B,2,FALSE)","v":"DFG"},"2012-11",{"$f":"VLOOKUP($Q513,Stores!$A:$D,4,FALSE)","v":"Open"},{"$f":"VLOOKUP(Q513,Stores!$A:$C,3,FALSE)","v":"Burlington, MA"},7311,0.41034058268362739]
["8714 - N Bethesda, MD - Grille",41908,66.7,81,0,90.5,95.2,66.7,61.9,76.2,38.1,61.9,4.8,0,14,21,8714,11,2012,{"$f":"VLOOKUP(Q514,Stores!$A:$B,2,FALSE)","v":"DFG"},"2012-11",{"$f":"VLOOKUP($Q514,Stores!$A:$D,4,FALSE)","v":"Open"},{"$f":"VLOOKUP(Q514,Stores!$A:$C,3,FALSE)","v":"N. Bethesda, MD"},4917,0.42708968883465526]
["8715 - Irvine, CA - Grille","",77.099999999999994,74.3,0,77.099999999999994,80,71.400000000000006,80,80,57.1,71.400000000000006,11.4,0,22,35,{"$f":"MID(A515,1,4)*1","v":8715},11,2012,{"$f":"VLOOKUP(Q515,Stores!$A:$B,2,FALSE)","v":"DFG"},{"$f":"S515&\"-\"&REPT(\"0\",2-LEN(R515))&R515","v":"2012-11"},{"$f":"VLOOKUP($Q515,Stores!$A:$D,4,FALSE)","v":"Open"},{"$f":"VLOOKUP(Q515,Stores!$A:$C,3,FALSE)","v":"Irvine, CA"},5648,{"$f":"P515/(X515/100)","v":0.61968838526912184}]
["8716 - Tampa, FL - Grille","",78.599999999999994,76.2,0,81,88.1,78.599999999999994,78.599999999999994,71.400000000000006,50,52.4,9.5,0,26,42,8716,11,2012,{"$f":"VLOOKUP(Q516,Stores!$A:$B,2,FALSE)","v":"DFG"},"2012-11",{"$f":"VLOOKUP($Q516,Stores!$A:$D,4,FALSE)","v":"Open"},{"$f":"VLOOKUP(Q516,Stores!$A:$C,3,FALSE)","v":"Tampa, FL"},6009,0.69895157264103835]
["8717 - Pasadena, CA - Grille",41992,56.7,53.3,0,66.7,73.3,63.3,56.7,73.3,33.299999999999997,83.3,13.3,0,22,30,8717,11,2012,{"$f":"VLOOKUP(Q517,Stores!$A:$B,2,FALSE)","v":"DFG"},"2012-11",{"$f":"VLOOKUP($Q517,Stores!$A:$D,4,FALSE)","v":"Open"},{"$f":"VLOOKUP(Q517,Stores!$A:$C,3,FALSE)","v":"Pasadena, CA"},4303,0.69718800836625605]
["8718 -Woodlands, TX - Grille","",68.099999999999994,80.900000000000006,0,80.900000000000006,83,72.3,70.2,78.7,63.8,72.3,14.9,0,34,47,8718,11,2012,{"$f":"VLOOKUP(Q518,Stores!$A:$B,2,FALSE)","v":"DFG"},"2012-11",{"$f":"VLOOKUP($Q518,Stores!$A:$D,4,FALSE)","v":"Open"},{"$f":"VLOOKUP(Q518,Stores!$A:$C,3,FALSE)","v":"Woodlands, TX"},7391,0.63590853741036402]
["8720 - Little Rock, AR - Grille","",66.7,66.7,0,100,100,100,100,100,100,100,0,0,3,3,8720,11,2012,{"$f":"VLOOKUP(Q519,Stores!$A:$B,2,FALSE)","v":"DFG"},"2012-11",{"$f":"VLOOKUP($Q519,Stores!$A:$D,4,FALSE)","v":"Open"},{"$f":"VLOOKUP(Q519,Stores!$A:$C,3,FALSE)","v":"Little Rock, AR"},10426,2.8774218300402839E-2]
["8721 - Plano, TX - Grille","",54.3,74.3,0,71.400000000000006,65.7,62.9,57.1,65.7,51.4,82.9,14.3,0,20,35,8721,11,2012,{"$f":"VLOOKUP(Q520,Stores!$A:$B,2,FALSE)","v":"DFG"},"2012-11",{"$f":"VLOOKUP($Q520,Stores!$A:$D,4,FALSE)","v":"Open"},{"$f":"VLOOKUP(Q520,Stores!$A:$C,3,FALSE)","v":"Plano, TX"},8383,0.41751163068114039]
["8722 – Stamford, CT - Grille","",61.5,65.400000000000006,0,65.400000000000006,76.900000000000006,57.7,57.7,57.7,30.8,57.7,30.8,1,19,26,8722,11,2012,{"$f":"VLOOKUP(Q521,Stores!$A:$B,2,FALSE)","v":"DFG"},"2012-11",{"$f":"VLOOKUP($Q521,Stores!$A:$D,4,FALSE)","v":"Open"},{"$f":"VLOOKUP(Q521,Stores!$A:$C,3,FALSE)","v":"Stamford, CT"},8389,0.30992966980569792]
["8723 – Hoboken, NJ - Grille","",37,63,0,51.9,70.400000000000006,48.1,40.700000000000003,44.4,44.4,44.4,22.2,0,17,27,8723,11,2012,{"$f":"VLOOKUP(Q522,Stores!$A:$B,2,FALSE)","v":"DFG"},"2012-11",{"$f":"VLOOKUP($Q522,Stores!$A:$D,4,FALSE)","v":"Open"},{"$f":"VLOOKUP(Q522,Stores!$A:$C,3,FALSE)","v":"Hoboken, NJ"},10200,0.26470588235294118]
["8501 - Austin, TX - Sullivan's","",72.7,68.2,0,81.8,77.3,68.2,68.2,77.3,68.2,63.6,22.7,2,16,22,8501,12,2012,{"$f":"VLOOKUP(Q523,Stores!$A:$B,2,FALSE)","v":"SULL"},"2012-12",{"$f":"VLOOKUP($Q523,Stores!$A:$D,4,FALSE)","v":"Open"},{"$f":"VLOOKUP(Q523,Stores!$A:$C,3,FALSE)","v":"Austin, TX"},5262,0.41809198023565186]
["8502 - Indianapolis, IN - Sullivan's","",54.5,65.5,0,58.2,67.3,56.4,60,60,40,65.5,9.1,0,38,55,8502,12,2012,{"$f":"VLOOKUP(Q524,Stores!$A:$B,2,FALSE)","v":"SULL"},"2012-12",{"$f":"VLOOKUP($Q524,Stores!$A:$D,4,FALSE)","v":"Open"},{"$f":"VLOOKUP(Q524,Stores!$A:$C,3,FALSE)","v":"Indianapolis, IN"},7067,0.77826517617093527]
["8504 - Houston, TX - Sullivan's","",60.5,73.7,0,73.7,76.3,76.3,68.400000000000006,68.400000000000006,57.9,76.3,13.2,0,31,38,8504,12,2012,{"$f":"VLOOKUP(Q525,Stores!$A:$B,2,FALSE)","v":"SULL"},"2012-12",{"$f":"VLOOKUP($Q525,Stores!$A:$D,4,FALSE)","v":"Closed"},{"$f":"VLOOKUP(Q525,Stores!$A:$C,3,FALSE)","v":"Houston, TX"},3936,0.96544715447154472]
["8510 - Wilmington, DE - Sullivan's","",78.5,73.400000000000006,0,86.1,86.1,79.7,79.7,73.400000000000006,54.4,59.5,5.0999999999999996,0,53,79,8510,12,2012,{"$f":"VLOOKUP(Q526,Stores!$A:$B,2,FALSE)","v":"SULL"},"2012-12",{"$f":"VLOOKUP($Q526,Stores!$A:$D,4,FALSE)","v":"Open"},{"$f":"VLOOKUP(Q526,Stores!$A:$C,3,FALSE)","v":"Wilmington, DE"},5319,1.4852415867644295]
["8522 - King of Prussia, PA - Sullivan's","",61.4,77.099999999999994,0,70,80,61.4,71.400000000000006,64.3,45.7,68.599999999999994,7.1,1,52,70,8522,12,2012,{"$f":"VLOOKUP(Q527,Stores!$A:$B,2,FALSE)","v":"SULL"},"2012-12",{"$f":"VLOOKUP($Q527,Stores!$A:$D,4,FALSE)","v":"Open"},{"$f":"VLOOKUP(Q527,Stores!$A:$C,3,FALSE)","v":"King of Prussia, PA"},6838,1.023691137759579]
["8525 - Tucson, AZ - Sullivan's","",76.3,79.7,0,79.7,86.4,83.1,81.400000000000006,79.7,59.3,64.400000000000006,3.4,0,52,59,8525,12,2012,{"$f":"VLOOKUP(Q528,Stores!$A:$B,2,FALSE)","v":"SULL"},"2012-12",{"$f":"VLOOKUP($Q528,Stores!$A:$D,4,FALSE)","v":"Open"},{"$f":"VLOOKUP(Q528,Stores!$A:$C,3,FALSE)","v":"Tucson, AZ"},4008,1.472055888223553]
["8532 - Omaha, NE - Sullivan's","",62.8,72.099999999999994,0,74.400000000000006,83.7,69.8,62.8,76.7,41.9,60.5,9.3000000000000007,0,32,43,8532,12,2012,{"$f":"VLOOKUP(Q529,Stores!$A:$B,2,FALSE)","v":"SULL"},"2012-12",{"$f":"VLOOKUP($Q529,Stores!$A:$D,4,FALSE)","v":"Open"},{"$f":"VLOOKUP(Q529,Stores!$A:$C,3,FALSE)","v":"Omaha, NE"},4550,0.94505494505494503]
["8535 - Baltimore, MD - Sullivan's","",54.2,58.3,0,54.2,66.7,58.3,62.5,75,37.5,58.3,20.8,0,21,24,8535,12,2012,{"$f":"VLOOKUP(Q530,Stores!$A:$B,2,FALSE)","v":"SULL"},"2012-12",{"$f":"VLOOKUP($Q530,Stores!$A:$D,4,FALSE)","v":"Open"},{"$f":"VLOOKUP(Q530,Stores!$A:$C,3,FALSE)","v":"Baltimore, MD"},5101,0.47049598118016078]
["8536 - Leawood, KS - Sullivan's","",61.8,57.4,0,73.5,80.900000000000006,64.7,67.599999999999994,76.5,55.9,69.099999999999994,20.6,0,50,68,8536,12,2012,{"$f":"VLOOKUP(Q531,Stores!$A:$B,2,FALSE)","v":"SULL"},"2012-12",{"$f":"VLOOKUP($Q531,Stores!$A:$D,4,FALSE)","v":"Open"},{"$f":"VLOOKUP(Q531,Stores!$A:$C,3,FALSE)","v":"Leawood, KS"},4936,1.3776337115072934]
["8541 - Chicago, IL - Sullivan's","",64.3,78.599999999999994,0,71.400000000000006,85.7,64.3,64.3,57.1,50,64.3,7.1,0,12,14,8541,12,2012,{"$f":"VLOOKUP(Q532,Stores!$A:$B,2,FALSE)","v":"SULL"},"2012-12",{"$f":"VLOOKUP($Q532,Stores!$A:$D,4,FALSE)","v":"Open"},{"$f":"VLOOKUP(Q532,Stores!$A:$C,3,FALSE)","v":"Chicago, IL"},3472,0.40322580645161293]
["8542 - Naperville, IL - Sullivan's","",63.3,67.8,0,73.3,78.900000000000006,74.400000000000006,68.900000000000006,67.8,46.7,75.599999999999994,11.1,4,63,90,8542,12,2012,{"$f":"VLOOKUP(Q533,Stores!$A:$B,2,FALSE)","v":"SULL"},"2012-12",{"$f":"VLOOKUP($Q533,Stores!$A:$D,4,FALSE)","v":"Open"},{"$f":"VLOOKUP(Q533,Stores!$A:$C,3,FALSE)","v":"Naperville, IL"},6158,1.4615134784020787]
["8543 - Lincolnshire, IL - Sullivan's","",68.2,72.7,0,70.5,77.3,59.1,65.900000000000006,68.2,43.2,72.7,4.5,0,27,44,8543,12,2012,{"$f":"VLOOKUP(Q534,Stores!$A:$B,2,FALSE)","v":"SULL"},"2012-12",{"$f":"VLOOKUP($Q534,Stores!$A:$D,4,FALSE)","v":"Open"},{"$f":"VLOOKUP(Q534,Stores!$A:$C,3,FALSE)","v":"Lincolnshire, IL"},4153,1.059475078256682]
["8551 - Baton Rouge, LA - Sullivan's","",84,85.3,0,84,92,81.3,82.7,80,78.7,94.7,4,0,49,75,8551,12,2012,{"$f":"VLOOKUP(Q535,Stores!$A:$B,2,FALSE)","v":"SULL"},"2012-12",{"$f":"VLOOKUP($Q535,Stores!$A:$D,4,FALSE)","v":"Open"},{"$f":"VLOOKUP(Q535,Stores!$A:$C,3,FALSE)","v":"Baton Rouge, LA"},4217,1.7785155323689825]
["8561 - Raleigh, NC - Sullivan's","",76.400000000000006,77.5,0,84.3,87.6,78.7,83.1,76.400000000000006,59.6,59.6,10.1,0,58,89,8561,12,2012,{"$f":"VLOOKUP(Q536,Stores!$A:$B,2,FALSE)","v":"SULL"},"2012-12",{"$f":"VLOOKUP($Q536,Stores!$A:$D,4,FALSE)","v":"Open"},{"$f":"VLOOKUP(Q536,Stores!$A:$C,3,FALSE)","v":"Raleigh, NC"},6024,1.4774236387782205]
["8562 - Charlotte, NC - Sullivan's","",69.2,75,0,78.8,82.7,80.8,78.8,73.099999999999994,57.7,48.1,7.7,1,38,52,8562,12,2012,{"$f":"VLOOKUP(Q537,Stores!$A:$B,2,FALSE)","v":"SULL"},"2012-12",{"$f":"VLOOKUP($Q537,Stores!$A:$D,4,FALSE)","v":"Open"},{"$f":"VLOOKUP(Q537,Stores!$A:$C,3,FALSE)","v":"Charlotte, NC"},4839,1.0746021905352345]
["8570 - Palm Desert, CA - Sullivan's","",72.900000000000006,79.2,0,85.4,89.6,77.099999999999994,68.8,68.8,50,87.5,8.3000000000000007,0,41,48,8570,12,2012,{"$f":"VLOOKUP(Q538,Stores!$A:$B,2,FALSE)","v":"SULL"},"2012-12",{"$f":"VLOOKUP($Q538,Stores!$A:$D,4,FALSE)","v":"Open"},{"$f":"VLOOKUP(Q538,Stores!$A:$C,3,FALSE)","v":"Palm Desert, CA"},5722,0.8388675288360713]
["8591 - Anchorage, AK - Sullivan's","",81.8,86.4,0,87.9,90.9,83.3,78.8,87.9,74.2,66.7,9.1,0,57,66,8591,12,2012,{"$f":"VLOOKUP(Q539,Stores!$A:$B,2,FALSE)","v":"SULL"},"2012-12",{"$f":"VLOOKUP($Q539,Stores!$A:$D,4,FALSE)","v":"Open"},{"$f":"VLOOKUP(Q539,Stores!$A:$C,3,FALSE)","v":"Anchorage, AK"},6565,1.0053313023610053]
["8592 - Seattle, WA - Sullivan's","",66.7,75.8,0,81.8,84.8,78.8,69.7,75.8,69.7,48.5,9.1,1,23,33,8592,12,2012,{"$f":"VLOOKUP(Q540,Stores!$A:$B,2,FALSE)","v":"SULL"},"2012-12",{"$f":"VLOOKUP($Q540,Stores!$A:$D,4,FALSE)","v":"Closed"},{"$f":"VLOOKUP(Q540,Stores!$A:$C,3,FALSE)","v":"Seattle, WA"},5170,0.63829787234042545]
["8601 - Dallas, TX - Del Frisco's","",77.8,80.599999999999994,0,79.2,88.9,83.3,83.3,77.8,55.6,79.2,5.6,1,53,72,8601,12,2012,{"$f":"VLOOKUP(Q541,Stores!$A:$B,2,FALSE)","v":"DFDE"},"2012-12",{"$f":"VLOOKUP($Q541,Stores!$A:$D,4,FALSE)","v":"Closed"},{"$f":"VLOOKUP(Q541,Stores!$A:$C,3,FALSE)","v":"Dallas, TX"},5771,1.247617397331485]
["8602 - Fort Worth, TX - Del Frisco's","",76.400000000000006,84.3,0,84.3,89,82.7,79.5,82.7,60.6,86.6,6.3,0,86,127,8602,12,2012,{"$f":"VLOOKUP(Q542,Stores!$A:$B,2,FALSE)","v":"DFDE"},"2012-12",{"$f":"VLOOKUP($Q542,Stores!$A:$D,4,FALSE)","v":"Open"},{"$f":"VLOOKUP(Q542,Stores!$A:$C,3,FALSE)","v":"Fort Worth, TX"},7052,1.8009075439591606]
["8603 - Denver, CO - Del Frisco's","",70.3,76.599999999999994,0,81.099999999999994,85.6,71.2,77.5,73,45,62.2,10.8,0,79,111,8603,12,2012,{"$f":"VLOOKUP(Q543,Stores!$A:$B,2,FALSE)","v":"DFDE"},"2012-12",{"$f":"VLOOKUP($Q543,Stores!$A:$D,4,FALSE)","v":"Open"},{"$f":"VLOOKUP(Q543,Stores!$A:$C,3,FALSE)","v":"Denver, CO"},9149,1.213247349437097]
["8604 - Charlotte, NC - Del Frisco's","",75,83.8,0,75,88.2,72.099999999999994,89.7,86.8,52.9,61.8,8.8000000000000007,0,46,68,8604,12,2012,{"$f":"VLOOKUP(Q544,Stores!$A:$B,2,FALSE)","v":"DFDE"},"2012-12",{"$f":"VLOOKUP($Q544,Stores!$A:$D,4,FALSE)","v":"Open"},{"$f":"VLOOKUP(Q544,Stores!$A:$C,3,FALSE)","v":"Charlotte, NC"},5801,1.1722116876400621]
["8605 - Houston, TX - Del Frisco's","",80.7,75.400000000000006,0,82.5,91.2,82.5,71.900000000000006,84.2,57.9,56.1,3.5,1,36,57,8605,12,2012,{"$f":"VLOOKUP(Q545,Stores!$A:$B,2,FALSE)","v":"DFDE"},"2012-12",{"$f":"VLOOKUP($Q545,Stores!$A:$D,4,FALSE)","v":"Open"},{"$f":"VLOOKUP(Q545,Stores!$A:$C,3,FALSE)","v":"Houston, TX"},8659,0.65827462755514488]
["8615 - Orlando, FL - Del Frisco’s","",68.8,68.8,0,75,89.6,62.5,72.900000000000006,81.3,50,70.8,6.3,1,39,48,8615,12,2012,{"$f":"VLOOKUP(Q546,Stores!$A:$B,2,FALSE)","v":"DFDE"},"2012-12",{"$f":"VLOOKUP($Q546,Stores!$A:$D,4,FALSE)","v":"Open"},{"$f":"VLOOKUP(Q546,Stores!$A:$C,3,FALSE)","v":"Orlando, FL"},3951,1.2148823082763858]
["8620 - New York City, NY - Del Frisco's","",75.5,78.8,0,77.8,85.4,74.5,83.5,77.400000000000006,44.8,58,6.6,4,146,212,8620,12,2012,{"$f":"VLOOKUP(Q547,Stores!$A:$B,2,FALSE)","v":"DFDE"},"2012-12",{"$f":"VLOOKUP($Q547,Stores!$A:$D,4,FALSE)","v":"Open"},{"$f":"VLOOKUP(Q547,Stores!$A:$C,3,FALSE)","v":"New York City, NY"},24934,0.85024464586508386]
["8635 - Boston, MA - Del Frisco's","",68.2,72.900000000000006,0,82.2,87.9,77.599999999999994,72.900000000000006,76.599999999999994,45.8,69.2,7.5,0,75,107,8635,12,2012,{"$f":"VLOOKUP(Q548,Stores!$A:$B,2,FALSE)","v":"DFDE"},"2012-12",{"$f":"VLOOKUP($Q548,Stores!$A:$D,4,FALSE)","v":"Open"},{"$f":"VLOOKUP(Q548,Stores!$A:$C,3,FALSE)","v":"Boston, MA"},10650,1.0046948356807512]
["8640 - Las Vegas, NV - Del Frisco's","",74,84.9,0,79.5,79.5,78.099999999999994,82.2,75.3,60.3,67.099999999999994,12.3,0,58,73,8640,12,2012,{"$f":"VLOOKUP(Q549,Stores!$A:$B,2,FALSE)","v":"DFDE"},"2012-12",{"$f":"VLOOKUP($Q549,Stores!$A:$D,4,FALSE)","v":"Open"},{"$f":"VLOOKUP(Q549,Stores!$A:$C,3,FALSE)","v":"Las Vegas, NV"},6688,1.091507177033493]
["8650 - Chicago, IL - Del Frisco's","",64.2,67.900000000000006,0,73.599999999999994,75.5,69.8,71.7,69.8,37.700000000000003,64.2,7.5,1,32,53,8650,12,2012,{"$f":"VLOOKUP(Q550,Stores!$A:$B,2,FALSE)","v":"DFDE"},"2012-12",{"$f":"VLOOKUP($Q550,Stores!$A:$D,4,FALSE)","v":"Open"},{"$f":"VLOOKUP(Q550,Stores!$A:$C,3,FALSE)","v":"Chicago, IL"},6159,0.86052930670563399]
["8655 - Washington, DC -  Del Frisco's","",73.099999999999994,80.599999999999994,0,73.099999999999994,82.1,76.099999999999994,82.1,77.599999999999994,52.2,61.2,6,1,45,67,8655,12,2012,{"$f":"VLOOKUP(Q551,Stores!$A:$B,2,FALSE)","v":"DFDE"},"2012-12",{"$f":"VLOOKUP($Q551,Stores!$A:$D,4,FALSE)","v":"Open"},{"$f":"VLOOKUP(Q551,Stores!$A:$C,3,FALSE)","v":"Washington, DC"},8849,0.75714770030511924]
["8680 - Philadelphia, PA - Del Frisco's","",73.599999999999994,76.900000000000006,0,79.099999999999994,86.8,78,79.099999999999994,80.2,48.4,70.3,6.6,1,61,91,8680,12,2012,{"$f":"VLOOKUP(Q552,Stores!$A:$B,2,FALSE)","v":"DFDE"},"2012-12",{"$f":"VLOOKUP($Q552,Stores!$A:$D,4,FALSE)","v":"Open"},{"$f":"VLOOKUP(Q552,Stores!$A:$C,3,FALSE)","v":"Philadelphia, PA"},11647,0.7813170773589766]
["8701 - New York City, NY - Grille","",78,80.5,0,82.9,85.4,65.900000000000006,78,61,56.1,56.1,2.4,0,25,41,8701,12,2012,{"$f":"VLOOKUP(Q553,Stores!$A:$B,2,FALSE)","v":"DFG"},"2012-12",{"$f":"VLOOKUP($Q553,Stores!$A:$D,4,FALSE)","v":"Open"},{"$f":"VLOOKUP(Q553,Stores!$A:$C,3,FALSE)","v":"New York City, NY"},15383,0.266527985438471]
["8702 - Dallas, TX - Grille","",85.7,85.7,0,92.9,92.9,92.9,78.599999999999994,85.7,71.400000000000006,42.9,0,0,10,14,8702,12,2012,{"$f":"VLOOKUP(Q554,Stores!$A:$B,2,FALSE)","v":"DFG"},"2012-12",{"$f":"VLOOKUP($Q554,Stores!$A:$D,4,FALSE)","v":"Open"},{"$f":"VLOOKUP(Q554,Stores!$A:$C,3,FALSE)","v":"Dallas, TX"},7246,0.19321004692243998]
["8703 - Washington, DC - Grille","",57.1,64.3,0,85.7,78.599999999999994,64.3,64.3,64.3,35.700000000000003,57.1,14.3,0,10,14,8703,12,2012,{"$f":"VLOOKUP(Q555,Stores!$A:$B,2,FALSE)","v":"DFG"},"2012-12",{"$f":"VLOOKUP($Q555,Stores!$A:$D,4,FALSE)","v":"Open"},{"$f":"VLOOKUP(Q555,Stores!$A:$C,3,FALSE)","v":"Washington, DC"},4971,0.2816334741500704]
["8704 - Phoenix, AZ - Grille","",47.4,57.9,0,78.900000000000006,68.400000000000006,63.2,63.2,63.2,42.1,89.5,21.1,1,15,19,8704,12,2012,{"$f":"VLOOKUP(Q556,Stores!$A:$B,2,FALSE)","v":"DFG"},"2012-12",{"$f":"VLOOKUP($Q556,Stores!$A:$D,4,FALSE)","v":"Closed"},{"$f":"VLOOKUP(Q556,Stores!$A:$C,3,FALSE)","v":"Phoenix, AZ"},2208,0.86050724637681164]
["8705 - Palm Beach, FL - Grille","",50,66.7,0,72.2,77.8,72.2,55.6,72.2,44.4,72.2,22.2,0,16,18,8705,12,2012,{"$f":"VLOOKUP(Q557,Stores!$A:$B,2,FALSE)","v":"DFG"},"2012-12",{"$f":"VLOOKUP($Q557,Stores!$A:$D,4,FALSE)","v":"Closed"},{"$f":"VLOOKUP(Q557,Stores!$A:$C,3,FALSE)","v":"Palm Beach, FL"},1232,1.4610389610389609]
["8706 - Atlanta, GA - Grille","",65.599999999999994,59.4,0,75,71.900000000000006,56.3,65.599999999999994,71.900000000000006,50,59.4,18.8,0,27,32,8706,12,2012,{"$f":"VLOOKUP(Q558,Stores!$A:$B,2,FALSE)","v":"DFG"},"2012-12",{"$f":"VLOOKUP($Q558,Stores!$A:$D,4,FALSE)","v":"Open"},{"$f":"VLOOKUP(Q558,Stores!$A:$C,3,FALSE)","v":"Atlanta, GA"},7810,0.40973111395646611]
["8707 - River Oaks, TX - Grille","",57.1,71.400000000000006,0,66.7,66.7,61.9,61.9,66.7,52.4,61.9,19,2,15,21,8707,12,2012,{"$f":"VLOOKUP(Q559,Stores!$A:$B,2,FALSE)","v":"DFG"},"2012-12",{"$f":"VLOOKUP($Q559,Stores!$A:$D,4,FALSE)","v":"Open"},{"$f":"VLOOKUP(Q559,Stores!$A:$C,3,FALSE)","v":"Houston, TX"},5857,0.35854533037391156]
["8708 - Chestnut Hill, MA - Grille","",34.6,42.3,0,53.8,61.5,50,34.6,42.3,19.2,42.3,11.5,0,19,26,8708,12,2012,{"$f":"VLOOKUP(Q560,Stores!$A:$B,2,FALSE)","v":"DFG"},"2012-12",{"$f":"VLOOKUP($Q560,Stores!$A:$D,4,FALSE)","v":"Open"},{"$f":"VLOOKUP(Q560,Stores!$A:$C,3,FALSE)","v":"Chestnut Hill, MA"},6344,0.4098360655737705]
["8709 - Santa Monica, CA - Grille","",71.400000000000006,71.400000000000006,0,85.7,85.7,78.599999999999994,57.1,78.599999999999994,71.400000000000006,78.599999999999994,14.3,0,11,14,8709,12,2012,{"$f":"VLOOKUP(Q561,Stores!$A:$B,2,FALSE)","v":"DFG"},"2012-12",{"$f":"VLOOKUP($Q561,Stores!$A:$D,4,FALSE)","v":"Open"},{"$f":"VLOOKUP(Q561,Stores!$A:$C,3,FALSE)","v":"Santa Monica, CA"},8319,0.16828945786753216]
["8710 - Fort Worth, TX - Grille","",71.7,71.7,0,75.5,84.9,73.599999999999994,73.599999999999994,81.099999999999994,54.7,56.6,9.4,2,40,53,8710,12,2012,{"$f":"VLOOKUP(Q562,Stores!$A:$B,2,FALSE)","v":"DFG"},"2012-12",{"$f":"VLOOKUP($Q562,Stores!$A:$D,4,FALSE)","v":"Open"},{"$f":"VLOOKUP(Q562,Stores!$A:$C,3,FALSE)","v":"Fort Worth, TX"},11268,0.47035853745118916]
["8711 – Cherry Creek, CO - Grille","",46.8,63.8,0,69.099999999999994,77.7,61.7,57.4,55.3,47.9,75.5,19.100000000000001,1,66,94,8711,12,2012,{"$f":"VLOOKUP(Q563,Stores!$A:$B,2,FALSE)","v":"DFG"},"2012-12",{"$f":"VLOOKUP($Q563,Stores!$A:$D,4,FALSE)","v":"Open"},{"$f":"VLOOKUP(Q563,Stores!$A:$C,3,FALSE)","v":"Cherry Creek, CO"},6262,1.501117853720856]
["8712 - Southlake, TX - Grille","",59.4,72.5,0,71,78.3,71,65.2,66.7,49.3,87,8.6999999999999993,1,47,69,8712,12,2012,{"$f":"VLOOKUP(Q564,Stores!$A:$B,2,FALSE)","v":"DFG"},"2012-12",{"$f":"VLOOKUP($Q564,Stores!$A:$D,4,FALSE)","v":"Open"},{"$f":"VLOOKUP(Q564,Stores!$A:$C,3,FALSE)","v":"Southlake, TX"},11312,0.60997171145685991]
["8713 - Burlington, MA - Grille",41794,56.7,53.3,0,76.7,83.3,56.7,60,40,40,30,16.7,0,19,30,8713,12,2012,{"$f":"VLOOKUP(Q565,Stores!$A:$B,2,FALSE)","v":"DFG"},"2012-12",{"$f":"VLOOKUP($Q565,Stores!$A:$D,4,FALSE)","v":"Open"},{"$f":"VLOOKUP(Q565,Stores!$A:$C,3,FALSE)","v":"Burlington, MA"},7955,0.37712130735386551]
["8714 - N Bethesda, MD - Grille",41908,50,50,0,50,61.1,44.4,55.6,44.4,38.9,61.1,16.7,0,13,18,8714,12,2012,{"$f":"VLOOKUP(Q566,Stores!$A:$B,2,FALSE)","v":"DFG"},"2012-12",{"$f":"VLOOKUP($Q566,Stores!$A:$D,4,FALSE)","v":"Open"},{"$f":"VLOOKUP(Q566,Stores!$A:$C,3,FALSE)","v":"N. Bethesda, MD"},5264,0.34194528875379937]
["8715 - Irvine, CA - Grille","",50,65,0,75,80,75,65,70,35,60,10,0,16,20,8715,12,2012,{"$f":"VLOOKUP(Q567,Stores!$A:$B,2,FALSE)","v":"DFG"},"2012-12",{"$f":"VLOOKUP($Q567,Stores!$A:$D,4,FALSE)","v":"Open"},{"$f":"VLOOKUP(Q567,Stores!$A:$C,3,FALSE)","v":"Irvine, CA"},5510,0.36297640653357532]
["8716 - Tampa, FL - Grille","",75.599999999999994,80.5,0,75.599999999999994,95.1,80.5,78,92.7,53.7,58.5,7.3,1,29,41,8716,12,2012,{"$f":"VLOOKUP(Q568,Stores!$A:$B,2,FALSE)","v":"DFG"},"2012-12",{"$f":"VLOOKUP($Q568,Stores!$A:$D,4,FALSE)","v":"Open"},{"$f":"VLOOKUP(Q568,Stores!$A:$C,3,FALSE)","v":"Tampa, FL"},6408,0.63982521847690388]
["8717 - Pasadena, CA - Grille",41992,61.5,76.900000000000006,0,84.6,84.6,84.6,76.900000000000006,76.900000000000006,61.5,69.2,0,0,11,13,8717,12,2012,{"$f":"VLOOKUP(Q569,Stores!$A:$B,2,FALSE)","v":"DFG"},"2012-12",{"$f":"VLOOKUP($Q569,Stores!$A:$D,4,FALSE)","v":"Open"},{"$f":"VLOOKUP(Q569,Stores!$A:$C,3,FALSE)","v":"Pasadena, CA"},3600,0.3611111111111111]
["8718 -Woodlands, TX - Grille","",62.5,66.7,0,79.2,81.3,64.599999999999994,68.8,75,54.2,62.5,10.4,0,39,48,8718,12,2012,{"$f":"VLOOKUP(Q570,Stores!$A:$B,2,FALSE)","v":"DFG"},"2012-12",{"$f":"VLOOKUP($Q570,Stores!$A:$D,4,FALSE)","v":"Open"},{"$f":"VLOOKUP(Q570,Stores!$A:$C,3,FALSE)","v":"Woodlands, TX"},7485,0.64128256513026061]
["8720 - Little Rock, AR - Grille","",0,0,0,0,0,0,0,100,0,100,100,0,1,1,8720,12,2012,{"$f":"VLOOKUP(Q571,Stores!$A:$B,2,FALSE)","v":"DFG"},"2012-12",{"$f":"VLOOKUP($Q571,Stores!$A:$D,4,FALSE)","v":"Open"},{"$f":"VLOOKUP(Q571,Stores!$A:$C,3,FALSE)","v":"Little Rock, AR"},7855,1.2730744748567792E-2]
["8721 - Plano, TX - Grille","",65,70,0,67.5,72.5,67.5,75,77.5,45,65,10,0,24,40,8721,12,2012,{"$f":"VLOOKUP(Q572,Stores!$A:$B,2,FALSE)","v":"DFG"},"2012-12",{"$f":"VLOOKUP($Q572,Stores!$A:$D,4,FALSE)","v":"Open"},{"$f":"VLOOKUP(Q572,Stores!$A:$C,3,FALSE)","v":"Plano, TX"},8069,0.49572437724625112]
["8722 – Stamford, CT - Grille","",36.700000000000003,36.700000000000003,0,43.3,60,46.7,40,53.3,30,43.3,33.299999999999997,1,21,30,8722,12,2012,{"$f":"VLOOKUP(Q573,Stores!$A:$B,2,FALSE)","v":"DFG"},"2012-12",{"$f":"VLOOKUP($Q573,Stores!$A:$D,4,FALSE)","v":"Open"},{"$f":"VLOOKUP(Q573,Stores!$A:$C,3,FALSE)","v":"Stamford, CT"},7516,0.39914848323576374]
["8723 – Hoboken, NJ - Grille","",50,41.7,0,70.8,70.8,58.3,50,66.7,33.299999999999997,41.7,20.8,0,15,24,8723,12,2012,{"$f":"VLOOKUP(Q574,Stores!$A:$B,2,FALSE)","v":"DFG"},"2012-12",{"$f":"VLOOKUP($Q574,Stores!$A:$D,4,FALSE)","v":"Open"},{"$f":"VLOOKUP(Q574,Stores!$A:$C,3,FALSE)","v":"Hoboken, NJ"},9326,0.25734505683036668]
["8501 - Austin, TX - Sullivan's","",65.599999999999994,71.900000000000006,0,71.900000000000006,84.4,78.099999999999994,78.099999999999994,75,53.1,62.5,15.6,1,25,32,8501,13,2012,{"$f":"VLOOKUP(Q575,Stores!$A:$B,2,FALSE)","v":"SULL"},"2012-13",{"$f":"VLOOKUP($Q575,Stores!$A:$D,4,FALSE)","v":"Open"},{"$f":"VLOOKUP(Q575,Stores!$A:$C,3,FALSE)","v":"Austin, TX"},6502,0.49215625961242698]
["8502 - Indianapolis, IN - Sullivan's","",64.5,69.7,0,68.400000000000006,84.2,67.099999999999994,80.3,73.7,44.7,67.099999999999994,9.1999999999999993,0,55,76,8502,13,2012,{"$f":"VLOOKUP(Q576,Stores!$A:$B,2,FALSE)","v":"SULL"},"2012-13",{"$f":"VLOOKUP($Q576,Stores!$A:$D,4,FALSE)","v":"Open"},{"$f":"VLOOKUP(Q576,Stores!$A:$C,3,FALSE)","v":"Indianapolis, IN"},10003,0.75977206837948619]
["8504 - Houston, TX - Sullivan's","",77.8,85.2,0,77.8,85.2,85.2,81.5,85.2,66.7,77.8,3.7,0,17,27,8504,13,2012,{"$f":"VLOOKUP(Q577,Stores!$A:$B,2,FALSE)","v":"SULL"},"2012-13",{"$f":"VLOOKUP($Q577,Stores!$A:$D,4,FALSE)","v":"Closed"},{"$f":"VLOOKUP(Q577,Stores!$A:$C,3,FALSE)","v":"Houston, TX"},4800,0.5625]
["8510 - Wilmington, DE - Sullivan's","",65.900000000000006,78,0,76.8,81.7,69.5,75.599999999999994,68.3,52.4,59.8,13.4,0,59,82,8510,13,2012,{"$f":"VLOOKUP(Q578,Stores!$A:$B,2,FALSE)","v":"SULL"},"2012-13",{"$f":"VLOOKUP($Q578,Stores!$A:$D,4,FALSE)","v":"Open"},{"$f":"VLOOKUP(Q578,Stores!$A:$C,3,FALSE)","v":"Wilmington, DE"},6433,1.2746774444271725]
["8522 - King of Prussia, PA - Sullivan's","",58.7,65.099999999999994,0,74.599999999999994,84.1,68.3,81,60.3,52.4,71.400000000000006,14.3,0,50,63,{"$f":"MID(A579,1,4)*1","v":8522},13,2012,{"$f":"VLOOKUP(Q579,Stores!$A:$B,2,FALSE)","v":"SULL"},{"$f":"S579&\"-\"&REPT(\"0\",2-LEN(R579))&R579","v":"2012-13"},{"$f":"VLOOKUP($Q579,Stores!$A:$D,4,FALSE)","v":"Open"},{"$f":"VLOOKUP(Q579,Stores!$A:$C,3,FALSE)","v":"King of Prussia, PA"},9245,{"$f":"P579/(X579/100)","v":0.68144943212547315}]
["8525 - Tucson, AZ - Sullivan's","",67.900000000000006,71.7,0,79.2,83,71.7,69.8,75.5,58.5,52.8,13.2,2,38,53,8525,13,2012,{"$f":"VLOOKUP(Q580,Stores!$A:$B,2,FALSE)","v":"SULL"},"2012-13",{"$f":"VLOOKUP($Q580,Stores!$A:$D,4,FALSE)","v":"Open"},{"$f":"VLOOKUP(Q580,Stores!$A:$C,3,FALSE)","v":"Tucson, AZ"},4761,1.1132115101869355]
["8532 - Omaha, NE - Sullivan's","",62,60,0,72,74,62,64,72,42,74,18,1,35,50,8532,13,2012,{"$f":"VLOOKUP(Q581,Stores!$A:$B,2,FALSE)","v":"SULL"},"2012-13",{"$f":"VLOOKUP($Q581,Stores!$A:$D,4,FALSE)","v":"Open"},{"$f":"VLOOKUP(Q581,Stores!$A:$C,3,FALSE)","v":"Omaha, NE"},4911,1.018122581958868]
["8535 - Baltimore, MD - Sullivan's","",60.9,60.9,0,65.2,73.900000000000006,52.2,69.599999999999994,65.2,52.2,56.5,17.399999999999999,0,15,23,8535,13,2012,{"$f":"VLOOKUP(Q582,Stores!$A:$B,2,FALSE)","v":"SULL"},"2012-13",{"$f":"VLOOKUP($Q582,Stores!$A:$D,4,FALSE)","v":"Open"},{"$f":"VLOOKUP(Q582,Stores!$A:$C,3,FALSE)","v":"Baltimore, MD"},5129,0.44843049327354262]
["8536 - Leawood, KS - Sullivan's","",65.2,69.599999999999994,0,69.599999999999994,78.3,75.400000000000006,73.900000000000006,72.5,46.4,78.3,11.6,0,56,69,8536,13,2012,{"$f":"VLOOKUP(Q583,Stores!$A:$B,2,FALSE)","v":"SULL"},"2012-13",{"$f":"VLOOKUP($Q583,Stores!$A:$D,4,FALSE)","v":"Open"},{"$f":"VLOOKUP(Q583,Stores!$A:$C,3,FALSE)","v":"Leawood, KS"},6397,1.0786306080975459]
["8541 - Chicago, IL - Sullivan's","",82.1,85.7,0,89.3,92.9,82.1,92.9,92.9,75,82.1,10.7,0,24,28,8541,13,2012,{"$f":"VLOOKUP(Q584,Stores!$A:$B,2,FALSE)","v":"SULL"},"2012-13",{"$f":"VLOOKUP($Q584,Stores!$A:$D,4,FALSE)","v":"Open"},{"$f":"VLOOKUP(Q584,Stores!$A:$C,3,FALSE)","v":"Chicago, IL"},3833,0.73049830420036532]
["8542 - Naperville, IL - Sullivan's","",51.5,67.599999999999994,0,60.3,64.7,58.8,55.9,63.2,36.799999999999997,58.8,16.2,1,55,68,8542,13,2012,{"$f":"VLOOKUP(Q585,Stores!$A:$B,2,FALSE)","v":"SULL"},"2012-13",{"$f":"VLOOKUP($Q585,Stores!$A:$D,4,FALSE)","v":"Open"},{"$f":"VLOOKUP(Q585,Stores!$A:$C,3,FALSE)","v":"Naperville, IL"},7986,0.85149010768845479]
["8543 - Lincolnshire, IL - Sullivan's","",67.7,74.2,0,74.2,80.599999999999994,71,83.9,67.7,41.9,80.599999999999994,6.5,1,24,31,8543,13,2012,{"$f":"VLOOKUP(Q586,Stores!$A:$B,2,FALSE)","v":"SULL"},"2012-13",{"$f":"VLOOKUP($Q586,Stores!$A:$D,4,FALSE)","v":"Open"},{"$f":"VLOOKUP(Q586,Stores!$A:$C,3,FALSE)","v":"Lincolnshire, IL"},5062,0.61240616357171085]
["8551 - Baton Rouge, LA - Sullivan's","",86.3,90,0,92.5,95,87.5,88.8,83.8,81.3,86.3,5,0,56,80,8551,13,2012,{"$f":"VLOOKUP(Q587,Stores!$A:$B,2,FALSE)","v":"SULL"},"2012-13",{"$f":"VLOOKUP($Q587,Stores!$A:$D,4,FALSE)","v":"Open"},{"$f":"VLOOKUP(Q587,Stores!$A:$C,3,FALSE)","v":"Baton Rouge, LA"},7560,1.0582010582010584]
["8561 - Raleigh, NC - Sullivan's","",71.8,75.599999999999994,0,76.900000000000006,80.8,73.099999999999994,87.2,75.599999999999994,47.4,60.3,9,0,54,78,8561,13,2012,{"$f":"VLOOKUP(Q588,Stores!$A:$B,2,FALSE)","v":"SULL"},"2012-13",{"$f":"VLOOKUP($Q588,Stores!$A:$D,4,FALSE)","v":"Open"},{"$f":"VLOOKUP(Q588,Stores!$A:$C,3,FALSE)","v":"Raleigh, NC"},8857,0.88065936547363677]
["8562 - Charlotte, NC - Sullivan's","",76.099999999999994,71.7,0,71.7,82.6,73.900000000000006,87,76.099999999999994,58.7,60.9,13,1,32,46,8562,13,2012,{"$f":"VLOOKUP(Q589,Stores!$A:$B,2,FALSE)","v":"SULL"},"2012-13",{"$f":"VLOOKUP($Q589,Stores!$A:$D,4,FALSE)","v":"Open"},{"$f":"VLOOKUP(Q589,Stores!$A:$C,3,FALSE)","v":"Charlotte, NC"},6509,0.70671378091872783]
["8570 - Palm Desert, CA - Sullivan's","",78.099999999999994,84.4,0,84.4,96.9,81.3,81.3,68.8,68.8,78.099999999999994,6.3,0,25,32,8570,13,2012,{"$f":"VLOOKUP(Q590,Stores!$A:$B,2,FALSE)","v":"SULL"},"2012-13",{"$f":"VLOOKUP($Q590,Stores!$A:$D,4,FALSE)","v":"Open"},{"$f":"VLOOKUP(Q590,Stores!$A:$C,3,FALSE)","v":"Palm Desert, CA"},5183,0.61740304842755167]
["8591 - Anchorage, AK - Sullivan's","",81.3,82.8,0,78.099999999999994,90.6,84.4,85.9,82.8,65.599999999999994,62.5,3.1,0,52,64,8591,13,2012,{"$f":"VLOOKUP(Q591,Stores!$A:$B,2,FALSE)","v":"SULL"},"2012-13",{"$f":"VLOOKUP($Q591,Stores!$A:$D,4,FALSE)","v":"Open"},{"$f":"VLOOKUP(Q591,Stores!$A:$C,3,FALSE)","v":"Anchorage, AK"},8592,0.74487895716945995]
["8592 - Seattle, WA - Sullivan's","",52.1,64.599999999999994,0,68.8,66.7,54.2,60.4,60.4,45.8,56.3,16.7,2,36,48,8592,13,2012,{"$f":"VLOOKUP(Q592,Stores!$A:$B,2,FALSE)","v":"SULL"},"2012-13",{"$f":"VLOOKUP($Q592,Stores!$A:$D,4,FALSE)","v":"Closed"},{"$f":"VLOOKUP(Q592,Stores!$A:$C,3,FALSE)","v":"Seattle, WA"},6580,0.72948328267477203]
["8601 - Dallas, TX - Del Frisco's","",79.5,78.400000000000006,0,81.8,88.6,75,77.3,72.7,58,80.7,12.5,0,64,88,8601,13,2012,{"$f":"VLOOKUP(Q593,Stores!$A:$B,2,FALSE)","v":"DFDE"},"2012-13",{"$f":"VLOOKUP($Q593,Stores!$A:$D,4,FALSE)","v":"Closed"},{"$f":"VLOOKUP(Q593,Stores!$A:$C,3,FALSE)","v":"Dallas, TX"},7631,1.1531909317258551]
["8602 - Fort Worth, TX - Del Frisco's","",71.900000000000006,79.7,0,82.3,85.9,74,79.7,76,55.7,76,8.9,0,150,192,8602,13,2012,{"$f":"VLOOKUP(Q594,Stores!$A:$B,2,FALSE)","v":"DFDE"},"2012-13",{"$f":"VLOOKUP($Q594,Stores!$A:$D,4,FALSE)","v":"Open"},{"$f":"VLOOKUP(Q594,Stores!$A:$C,3,FALSE)","v":"Fort Worth, TX"},11222,1.7109249688112635]
["8603 - Denver, CO - Del Frisco's","",67.099999999999994,72.3,0,74.8,81.900000000000006,71,76.099999999999994,68.400000000000006,48.4,51.6,11.6,0,110,155,8603,13,2012,{"$f":"VLOOKUP(Q595,Stores!$A:$B,2,FALSE)","v":"DFDE"},"2012-13",{"$f":"VLOOKUP($Q595,Stores!$A:$D,4,FALSE)","v":"Open"},{"$f":"VLOOKUP(Q595,Stores!$A:$C,3,FALSE)","v":"Denver, CO"},13740,1.1280931586608443]
["8604 - Charlotte, NC - Del Frisco's","",65.7,75.7,0,80,85.7,75.7,74.3,85.7,48.6,52.9,7.1,0,46,70,8604,13,2012,{"$f":"VLOOKUP(Q596,Stores!$A:$B,2,FALSE)","v":"DFDE"},"2012-13",{"$f":"VLOOKUP($Q596,Stores!$A:$D,4,FALSE)","v":"Open"},{"$f":"VLOOKUP(Q596,Stores!$A:$C,3,FALSE)","v":"Charlotte, NC"},7802,0.89720584465521669]
["8605 - Houston, TX - Del Frisco's","",77.5,81.400000000000006,0,80.400000000000006,86.3,76.5,81.400000000000006,88.2,64.7,68.599999999999994,3.9,2,73,102,8605,13,2012,{"$f":"VLOOKUP(Q597,Stores!$A:$B,2,FALSE)","v":"DFDE"},"2012-13",{"$f":"VLOOKUP($Q597,Stores!$A:$D,4,FALSE)","v":"Open"},{"$f":"VLOOKUP(Q597,Stores!$A:$C,3,FALSE)","v":"Houston, TX"},10420,0.97888675623800381]
["8615 - Orlando, FL - Del Frisco’s","",67.599999999999994,67.599999999999994,0,86.5,86.5,81.099999999999994,78.400000000000006,86.5,59.5,51.4,10.8,2,27,37,8615,13,2012,{"$f":"VLOOKUP(Q598,Stores!$A:$B,2,FALSE)","v":"DFDE"},"2012-13",{"$f":"VLOOKUP($Q598,Stores!$A:$D,4,FALSE)","v":"Open"},{"$f":"VLOOKUP(Q598,Stores!$A:$C,3,FALSE)","v":"Orlando, FL"},4069,0.90931432784467936]
["8620 - New York City, NY - Del Frisco's","",78.900000000000006,81.2,0,82.5,85.1,78.5,80.900000000000006,76.599999999999994,53.8,62.7,7.6,4,228,303,8620,13,2012,{"$f":"VLOOKUP(Q599,Stores!$A:$B,2,FALSE)","v":"DFDE"},"2012-13",{"$f":"VLOOKUP($Q599,Stores!$A:$D,4,FALSE)","v":"Open"},{"$f":"VLOOKUP(Q599,Stores!$A:$C,3,FALSE)","v":"New York City, NY"},31966,0.94788212475755484]
["8635 - Boston, MA - Del Frisco's","",71.8,71.8,0,83.1,82.3,74.2,75.8,66.900000000000006,37.9,66.900000000000006,6.5,0,89,124,8635,13,2012,{"$f":"VLOOKUP(Q600,Stores!$A:$B,2,FALSE)","v":"DFDE"},"2012-13",{"$f":"VLOOKUP($Q600,Stores!$A:$D,4,FALSE)","v":"Open"},{"$f":"VLOOKUP(Q600,Stores!$A:$C,3,FALSE)","v":"Boston, MA"},13006,0.95340612025219129]
["8640 - Las Vegas, NV - Del Frisco's","",80.599999999999994,83.6,0,82.1,86.6,79.099999999999994,82.1,86.6,62.7,70.099999999999994,9,0,48,67,8640,13,2012,{"$f":"VLOOKUP(Q601,Stores!$A:$B,2,FALSE)","v":"DFDE"},"2012-13",{"$f":"VLOOKUP($Q601,Stores!$A:$D,4,FALSE)","v":"Open"},{"$f":"VLOOKUP(Q601,Stores!$A:$C,3,FALSE)","v":"Las Vegas, NV"},6529,1.0261908408638383]
["8650 - Chicago, IL - Del Frisco's","",62.7,70.599999999999994,0,84.3,90.2,72.5,82.4,78.400000000000006,51,60.8,15.7,1,33,51,8650,13,2012,{"$f":"VLOOKUP(Q602,Stores!$A:$B,2,FALSE)","v":"DFDE"},"2012-13",{"$f":"VLOOKUP($Q602,Stores!$A:$D,4,FALSE)","v":"Open"},{"$f":"VLOOKUP(Q602,Stores!$A:$C,3,FALSE)","v":"Chicago, IL"},7085,0.71983062808750886]
["8655 - Washington, DC -  Del Frisco's","",75.400000000000006,82,0,80.3,82,70.5,80.3,75.400000000000006,67.2,49.2,11.5,1,46,61,8655,13,2012,{"$f":"VLOOKUP(Q603,Stores!$A:$B,2,FALSE)","v":"DFDE"},"2012-13",{"$f":"VLOOKUP($Q603,Stores!$A:$D,4,FALSE)","v":"Open"},{"$f":"VLOOKUP(Q603,Stores!$A:$C,3,FALSE)","v":"Washington, DC"},10264,0.59431021044427124]
["8680 - Philadelphia, PA - Del Frisco's","",66.400000000000006,70.5,0,70.5,74.599999999999994,66.400000000000006,80.3,73,45.9,61.5,16.399999999999999,1,92,122,8680,13,2012,{"$f":"VLOOKUP(Q604,Stores!$A:$B,2,FALSE)","v":"DFDE"},"2012-13",{"$f":"VLOOKUP($Q604,Stores!$A:$D,4,FALSE)","v":"Open"},{"$f":"VLOOKUP(Q604,Stores!$A:$C,3,FALSE)","v":"Philadelphia, PA"},16081,0.75865928735775134]
["8701 - New York City, NY - Grille","",52.9,62.1,0,50.6,60.9,52.9,66.7,54,40.200000000000003,54,13.8,0,64,87,8701,13,2012,{"$f":"VLOOKUP(Q605,Stores!$A:$B,2,FALSE)","v":"DFG"},"2012-13",{"$f":"VLOOKUP($Q605,Stores!$A:$D,4,FALSE)","v":"Open"},{"$f":"VLOOKUP(Q605,Stores!$A:$C,3,FALSE)","v":"New York City, NY"},23223,0.37462860095594885]
["8702 - Dallas, TX - Grille","",54.2,54.2,0,79.2,79.2,70.8,62.5,58.3,45.8,45.8,25,0,19,24,8702,13,2012,{"$f":"VLOOKUP(Q606,Stores!$A:$B,2,FALSE)","v":"DFG"},"2012-13",{"$f":"VLOOKUP($Q606,Stores!$A:$D,4,FALSE)","v":"Open"},{"$f":"VLOOKUP(Q606,Stores!$A:$C,3,FALSE)","v":"Dallas, TX"},7777,0.3086022888003086]
["8703 - Washington, DC - Grille","",53.8,61.5,0,69.2,69.2,69.2,61.5,69.2,61.5,42.3,3.8,0,16,26,8703,13,2012,{"$f":"VLOOKUP(Q607,Stores!$A:$B,2,FALSE)","v":"DFG"},"2012-13",{"$f":"VLOOKUP($Q607,Stores!$A:$D,4,FALSE)","v":"Open"},{"$f":"VLOOKUP(Q607,Stores!$A:$C,3,FALSE)","v":"Washington, DC"},6851,0.37950664136622386]
["8704 - Phoenix, AZ - Grille","",83.3,83.3,0,75,83.3,66.7,75,83.3,75,58.3,0,0,7,12,8704,13,2012,{"$f":"VLOOKUP(Q608,Stores!$A:$B,2,FALSE)","v":"DFG"},"2012-13",{"$f":"VLOOKUP($Q608,Stores!$A:$D,4,FALSE)","v":"Closed"},{"$f":"VLOOKUP(Q608,Stores!$A:$C,3,FALSE)","v":"Phoenix, AZ"},2408,0.49833887043189373]
["8706 - Atlanta, GA - Grille","",78.900000000000006,86.8,0,81.599999999999994,78.900000000000006,65.8,81.599999999999994,71.099999999999994,55.3,71.099999999999994,2.6,0,27,38,8706,13,2012,{"$f":"VLOOKUP(Q609,Stores!$A:$B,2,FALSE)","v":"DFG"},"2012-13",{"$f":"VLOOKUP($Q609,Stores!$A:$D,4,FALSE)","v":"Open"},{"$f":"VLOOKUP(Q609,Stores!$A:$C,3,FALSE)","v":"Atlanta, GA"},8785,0.43255549231644852]
["8707 - River Oaks, TX - Grille","",63,58.7,0,73.900000000000006,82.6,76.099999999999994,65.2,63,54.3,54.3,13,1,37,46,8707,13,2012,{"$f":"VLOOKUP(Q610,Stores!$A:$B,2,FALSE)","v":"DFG"},"2012-13",{"$f":"VLOOKUP($Q610,Stores!$A:$D,4,FALSE)","v":"Open"},{"$f":"VLOOKUP(Q610,Stores!$A:$C,3,FALSE)","v":"Houston, TX"},7453,0.61720112706292762]
["8708 - Chestnut Hill, MA - Grille","",66.7,70,0,76.7,76.7,80,70,76.7,36.700000000000003,43.3,10,0,21,30,8708,13,2012,{"$f":"VLOOKUP(Q611,Stores!$A:$B,2,FALSE)","v":"DFG"},"2012-13",{"$f":"VLOOKUP($Q611,Stores!$A:$D,4,FALSE)","v":"Open"},{"$f":"VLOOKUP(Q611,Stores!$A:$C,3,FALSE)","v":"Chestnut Hill, MA"},6579,0.4559963520291837]
["8709 - Santa Monica, CA - Grille","",60,60,0,60,60,40,80,60,0,60,0,0,2,5,8709,13,2012,{"$f":"VLOOKUP(Q612,Stores!$A:$B,2,FALSE)","v":"DFG"},"2012-13",{"$f":"VLOOKUP($Q612,Stores!$A:$D,4,FALSE)","v":"Open"},{"$f":"VLOOKUP(Q612,Stores!$A:$C,3,FALSE)","v":"Santa Monica, CA"},8239,6.0686976574827044E-2]
["8710 - Fort Worth, TX - Grille","",61.7,70.2,0,71.3,80.900000000000006,67,68.099999999999994,75.5,44.7,48.9,12.8,3,63,94,8710,13,2012,{"$f":"VLOOKUP(Q613,Stores!$A:$B,2,FALSE)","v":"DFG"},"2012-13",{"$f":"VLOOKUP($Q613,Stores!$A:$D,4,FALSE)","v":"Open"},{"$f":"VLOOKUP(Q613,Stores!$A:$C,3,FALSE)","v":"Fort Worth, TX"},15600,0.60256410256410253]
["8711 – Cherry Creek, CO - Grille","",59.8,72.5,0,72.5,76.5,63.7,65.7,64.7,49,63.7,15.7,2,64,102,8711,13,2012,{"$f":"VLOOKUP(Q614,Stores!$A:$B,2,FALSE)","v":"DFG"},"2012-13",{"$f":"VLOOKUP($Q614,Stores!$A:$D,4,FALSE)","v":"Open"},{"$f":"VLOOKUP(Q614,Stores!$A:$C,3,FALSE)","v":"Cherry Creek, CO"},8544,1.1938202247191012]
["8712 - Southlake, TX - Grille","",64.7,64.7,0,73.5,80.900000000000006,75,61.8,67.599999999999994,45.6,80.900000000000006,8.8000000000000007,0,44,68,8712,13,2012,{"$f":"VLOOKUP(Q615,Stores!$A:$B,2,FALSE)","v":"DFG"},"2012-13",{"$f":"VLOOKUP($Q615,Stores!$A:$D,4,FALSE)","v":"Open"},{"$f":"VLOOKUP(Q615,Stores!$A:$C,3,FALSE)","v":"Southlake, TX"},13560,0.50147492625368739]
["8713 - Burlington, MA - Grille",41794,53.1,62.5,0,75,81.3,75,56.3,53.1,37.5,34.4,9.4,0,26,32,8713,13,2012,{"$f":"VLOOKUP(Q616,Stores!$A:$B,2,FALSE)","v":"DFG"},"2012-13",{"$f":"VLOOKUP($Q616,Stores!$A:$D,4,FALSE)","v":"Open"},{"$f":"VLOOKUP(Q616,Stores!$A:$C,3,FALSE)","v":"Burlington, MA"},8819,0.3628529311713346]
["8714 - N Bethesda, MD - Grille",41908,69.2,69.2,0,76.900000000000006,88.5,69.2,53.8,73.099999999999994,38.5,80.8,11.5,0,20,26,8714,13,2012,{"$f":"VLOOKUP(Q617,Stores!$A:$B,2,FALSE)","v":"DFG"},"2012-13",{"$f":"VLOOKUP($Q617,Stores!$A:$D,4,FALSE)","v":"Open"},{"$f":"VLOOKUP(Q617,Stores!$A:$C,3,FALSE)","v":"N. Bethesda, MD"},5566,0.46712181099532879]
["8715 - Irvine, CA - Grille","",80.7,80.7,0,80.7,82.5,78.900000000000006,75.400000000000006,84.2,66.7,73.7,5.3,0,39,57,8715,13,2012,{"$f":"VLOOKUP(Q618,Stores!$A:$B,2,FALSE)","v":"DFG"},"2012-13",{"$f":"VLOOKUP($Q618,Stores!$A:$D,4,FALSE)","v":"Open"},{"$f":"VLOOKUP(Q618,Stores!$A:$C,3,FALSE)","v":"Irvine, CA"},7119,0.80067425200168563]
["8716 - Tampa, FL - Grille","",75.900000000000006,79.3,0,77.599999999999994,84.5,75.900000000000006,75.900000000000006,81,67.2,56.9,8.6,0,37,58,8716,13,2012,{"$f":"VLOOKUP(Q619,Stores!$A:$B,2,FALSE)","v":"DFG"},"2012-13",{"$f":"VLOOKUP($Q619,Stores!$A:$D,4,FALSE)","v":"Open"},{"$f":"VLOOKUP(Q619,Stores!$A:$C,3,FALSE)","v":"Tampa, FL"},7284,0.79626578802855574]
["8717 - Pasadena, CA - Grille",41992,80,80,0,88,92,92,84,80,76,72,4,0,16,25,8717,13,2012,{"$f":"VLOOKUP(Q620,Stores!$A:$B,2,FALSE)","v":"DFG"},"2012-13",{"$f":"VLOOKUP($Q620,Stores!$A:$D,4,FALSE)","v":"Open"},{"$f":"VLOOKUP(Q620,Stores!$A:$C,3,FALSE)","v":"Pasadena, CA"},5423,0.46099944680066385]
["8718 -Woodlands, TX - Grille","",68.599999999999994,72.5,0,78.400000000000006,84.3,72.5,68.599999999999994,70.599999999999994,56.9,68.599999999999994,17.600000000000001,0,33,51,8718,13,2012,{"$f":"VLOOKUP(Q621,Stores!$A:$B,2,FALSE)","v":"DFG"},"2012-13",{"$f":"VLOOKUP($Q621,Stores!$A:$D,4,FALSE)","v":"Open"},{"$f":"VLOOKUP(Q621,Stores!$A:$C,3,FALSE)","v":"Woodlands, TX"},8723,0.58466124039894529]
["8720 - Little Rock, AR - Grille","",68.099999999999994,66,0,78.7,89.4,72.3,59.6,78.7,40.4,68.099999999999994,8.5,0,37,47,8720,13,2012,{"$f":"VLOOKUP(Q622,Stores!$A:$B,2,FALSE)","v":"DFG"},"2012-13",{"$f":"VLOOKUP($Q622,Stores!$A:$D,4,FALSE)","v":"Open"},{"$f":"VLOOKUP(Q622,Stores!$A:$C,3,FALSE)","v":"Little Rock, AR"},9156,0.51332459589340318]
["8721 - Plano, TX - Grille","",57.8,75.599999999999994,0,66.7,73.3,60,71.099999999999994,66.7,51.1,77.8,11.1,1,31,45,8721,13,2012,{"$f":"VLOOKUP(Q623,Stores!$A:$B,2,FALSE)","v":"DFG"},"2012-13",{"$f":"VLOOKUP($Q623,Stores!$A:$D,4,FALSE)","v":"Open"},{"$f":"VLOOKUP(Q623,Stores!$A:$C,3,FALSE)","v":"Plano, TX"},9492,0.47408343868520858]
["8722 – Stamford, CT - Grille","",41.2,64.7,0,58.8,70.599999999999994,35.299999999999997,47.1,41.2,23.5,64.7,17.600000000000001,0,12,17,8722,13,2012,{"$f":"VLOOKUP(Q624,Stores!$A:$B,2,FALSE)","v":"DFG"},"2012-13",{"$f":"VLOOKUP($Q624,Stores!$A:$D,4,FALSE)","v":"Open"},{"$f":"VLOOKUP(Q624,Stores!$A:$C,3,FALSE)","v":"Stamford, CT"},7842,0.21678143330782962]
["8723 – Hoboken, NJ - Grille","",42.9,57.1,0,64.3,64.3,57.1,50,57.1,28.6,50,21.4,0,11,14,8723,13,2012,{"$f":"VLOOKUP(Q625,Stores!$A:$B,2,FALSE)","v":"DFG"},"2012-13",{"$f":"VLOOKUP($Q625,Stores!$A:$D,4,FALSE)","v":"Open"},{"$f":"VLOOKUP(Q625,Stores!$A:$C,3,FALSE)","v":"Hoboken, NJ"},9889,0.14157144301749419]
["8501 - Austin, TX - Sullivan's","",72,76,0,80,88,68,72,72,60,76,16,1,21,25,8501,1,2013,{"$f":"VLOOKUP(Q626,Stores!$A:$B,2,FALSE)","v":"SULL"},"2013-01",{"$f":"VLOOKUP($Q626,Stores!$A:$D,4,FALSE)","v":"Open"},{"$f":"VLOOKUP(Q626,Stores!$A:$C,3,FALSE)","v":"Austin, TX"},5447,0.45896823939783365]
["8502 - Indianapolis, IN - Sullivan's","",59.1,63.6,0,68.2,78.8,72.7,68.2,66.7,40.9,63.6,15.2,0,49,66,8502,1,2013,{"$f":"VLOOKUP(Q627,Stores!$A:$B,2,FALSE)","v":"SULL"},"2013-01",{"$f":"VLOOKUP($Q627,Stores!$A:$D,4,FALSE)","v":"Open"},{"$f":"VLOOKUP(Q627,Stores!$A:$C,3,FALSE)","v":"Indianapolis, IN"},6326,1.0433133101485932]
["8504 - Houston, TX - Sullivan's","",71.900000000000006,81.3,0,78.099999999999994,90.6,68.8,81.3,84.4,43.8,84.4,6.3,0,23,32,8504,1,2013,{"$f":"VLOOKUP(Q628,Stores!$A:$B,2,FALSE)","v":"SULL"},"2013-01",{"$f":"VLOOKUP($Q628,Stores!$A:$D,4,FALSE)","v":"Closed"},{"$f":"VLOOKUP(Q628,Stores!$A:$C,3,FALSE)","v":"Houston, TX"},3534,0.90548953027730605]
["8510 - Wilmington, DE - Sullivan's","",72.7,74.7,0,76.8,77.8,76.8,79.8,69.7,58.6,57.6,7.1,0,76,99,8510,1,2013,{"$f":"VLOOKUP(Q629,Stores!$A:$B,2,FALSE)","v":"SULL"},"2013-01",{"$f":"VLOOKUP($Q629,Stores!$A:$D,4,FALSE)","v":"Open"},{"$f":"VLOOKUP(Q629,Stores!$A:$C,3,FALSE)","v":"Wilmington, DE"},4939,2.0044543429844097]
["8522 - King of Prussia, PA - Sullivan's","",58.1,62.9,0,69.5,72.400000000000006,60,63.8,59,43.8,61.9,17.100000000000001,3,78,105,8522,1,2013,{"$f":"VLOOKUP(Q630,Stores!$A:$B,2,FALSE)","v":"SULL"},"2013-01",{"$f":"VLOOKUP($Q630,Stores!$A:$D,4,FALSE)","v":"Open"},{"$f":"VLOOKUP(Q630,Stores!$A:$C,3,FALSE)","v":"King of Prussia, PA"},6085,1.7255546425636812]
["8525 - Tucson, AZ - Sullivan's","",71.7,65,0,78.3,90,75,75,70,56.7,58.3,8.3000000000000007,0,37,60,8525,1,2013,{"$f":"VLOOKUP(Q631,Stores!$A:$B,2,FALSE)","v":"SULL"},"2013-01",{"$f":"VLOOKUP($Q631,Stores!$A:$D,4,FALSE)","v":"Open"},{"$f":"VLOOKUP(Q631,Stores!$A:$C,3,FALSE)","v":"Tucson, AZ"},4246,1.4130946773433819]
["8532 - Omaha, NE - Sullivan's","",51.3,59,0,53.8,69.2,51.3,46.2,61.5,41,64.099999999999994,23.1,0,28,39,8532,1,2013,{"$f":"VLOOKUP(Q632,Stores!$A:$B,2,FALSE)","v":"SULL"},"2013-01",{"$f":"VLOOKUP($Q632,Stores!$A:$D,4,FALSE)","v":"Open"},{"$f":"VLOOKUP(Q632,Stores!$A:$C,3,FALSE)","v":"Omaha, NE"},3893,1.0017980991523248]
["8535 - Baltimore, MD - Sullivan's","",38.200000000000003,41.2,0,58.8,64.7,44.1,41.2,50,29.4,58.8,29.4,1,24,34,8535,1,2013,{"$f":"VLOOKUP(Q633,Stores!$A:$B,2,FALSE)","v":"SULL"},"2013-01",{"$f":"VLOOKUP($Q633,Stores!$A:$D,4,FALSE)","v":"Open"},{"$f":"VLOOKUP(Q633,Stores!$A:$C,3,FALSE)","v":"Baltimore, MD"},4281,0.79420696099042276]
["8536 - Leawood, KS - Sullivan's","",70.2,68.5,0,75.8,79,72.599999999999994,73.400000000000006,78.2,58.1,64.5,12.1,0,79,124,8536,1,2013,{"$f":"VLOOKUP(Q634,Stores!$A:$B,2,FALSE)","v":"SULL"},"2013-01",{"$f":"VLOOKUP($Q634,Stores!$A:$D,4,FALSE)","v":"Open"},{"$f":"VLOOKUP(Q634,Stores!$A:$C,3,FALSE)","v":"Leawood, KS"},7073,1.7531457655874452]
["8541 - Chicago, IL - Sullivan's","",60.7,57.1,0,57.1,78.599999999999994,64.3,53.6,64.3,46.4,50,14.3,0,19,28,8541,1,2013,{"$f":"VLOOKUP(Q635,Stores!$A:$B,2,FALSE)","v":"SULL"},"2013-01",{"$f":"VLOOKUP($Q635,Stores!$A:$D,4,FALSE)","v":"Open"},{"$f":"VLOOKUP(Q635,Stores!$A:$C,3,FALSE)","v":"Chicago, IL"},2472,1.1326860841423949]
["8542 - Naperville, IL - Sullivan's","",64.900000000000006,68.8,0,75.3,74,68.8,72.7,67.5,44.2,70.099999999999994,11.7,1,57,77,8542,1,2013,{"$f":"VLOOKUP(Q636,Stores!$A:$B,2,FALSE)","v":"SULL"},"2013-01",{"$f":"VLOOKUP($Q636,Stores!$A:$D,4,FALSE)","v":"Open"},{"$f":"VLOOKUP(Q636,Stores!$A:$C,3,FALSE)","v":"Naperville, IL"},6686,1.1516601854621598]
["8543 - Lincolnshire, IL - Sullivan's","",63.3,70,0,66.7,76.7,66.7,63.3,73.3,53.3,76.7,13.3,0,23,30,8543,1,2013,{"$f":"VLOOKUP(Q637,Stores!$A:$B,2,FALSE)","v":"SULL"},"2013-01",{"$f":"VLOOKUP($Q637,Stores!$A:$D,4,FALSE)","v":"Open"},{"$f":"VLOOKUP(Q637,Stores!$A:$C,3,FALSE)","v":"Lincolnshire, IL"},3624,0.82781456953642385]
["8551 - Baton Rouge, LA - Sullivan's","",79.099999999999994,85.3,0,86,90.7,81.400000000000006,86,84.5,78.3,95.3,5.4,2,93,129,8551,1,2013,{"$f":"VLOOKUP(Q638,Stores!$A:$B,2,FALSE)","v":"SULL"},"2013-01",{"$f":"VLOOKUP($Q638,Stores!$A:$D,4,FALSE)","v":"Open"},{"$f":"VLOOKUP(Q638,Stores!$A:$C,3,FALSE)","v":"Baton Rouge, LA"},5275,2.4454976303317535]
["8561 - Raleigh, NC - Sullivan's","",72.900000000000006,75.7,0,78.5,84.1,70.099999999999994,80.400000000000006,75.7,57.9,43.9,8.4,0,78,107,8561,1,2013,{"$f":"VLOOKUP(Q639,Stores!$A:$B,2,FALSE)","v":"SULL"},"2013-01",{"$f":"VLOOKUP($Q639,Stores!$A:$D,4,FALSE)","v":"Open"},{"$f":"VLOOKUP(Q639,Stores!$A:$C,3,FALSE)","v":"Raleigh, NC"},5303,2.0177258155760889]
["8562 - Charlotte, NC - Sullivan's","",60,67.5,0,80,85,70,77.5,62.5,42.5,57.5,10,0,26,40,8562,1,2013,{"$f":"VLOOKUP(Q640,Stores!$A:$B,2,FALSE)","v":"SULL"},"2013-01",{"$f":"VLOOKUP($Q640,Stores!$A:$D,4,FALSE)","v":"Open"},{"$f":"VLOOKUP(Q640,Stores!$A:$C,3,FALSE)","v":"Charlotte, NC"},4913,0.81416649704864641]
["8570 - Palm Desert, CA - Sullivan's","",81.400000000000006,81.400000000000006,0,81.400000000000006,88.4,83.7,81.400000000000006,74.400000000000006,67.400000000000006,81.400000000000006,4.7,0,33,43,8570,1,2013,{"$f":"VLOOKUP(Q641,Stores!$A:$B,2,FALSE)","v":"SULL"},"2013-01",{"$f":"VLOOKUP($Q641,Stores!$A:$D,4,FALSE)","v":"Open"},{"$f":"VLOOKUP(Q641,Stores!$A:$C,3,FALSE)","v":"Palm Desert, CA"},5933,0.7247598179673016]
["8591 - Anchorage, AK - Sullivan's","",80.3,80.3,0,85.9,88.7,78.900000000000006,84.5,80.3,77.5,66.2,11.3,0,59,71,8591,1,2013,{"$f":"VLOOKUP(Q642,Stores!$A:$B,2,FALSE)","v":"SULL"},"2013-01",{"$f":"VLOOKUP($Q642,Stores!$A:$D,4,FALSE)","v":"Open"},{"$f":"VLOOKUP(Q642,Stores!$A:$C,3,FALSE)","v":"Anchorage, AK"},5010,1.4171656686626746]
["8592 - Seattle, WA - Sullivan's","",64,68,0,76,84,84,72,84,48,60,8,0,21,25,{"$f":"MID(A643,1,4)*1","v":8592},1,2013,{"$f":"VLOOKUP(Q643,Stores!$A:$B,2,FALSE)","v":"SULL"},{"$f":"S643&\"-\"&REPT(\"0\",2-LEN(R643))&R643","v":"2013-01"},{"$f":"VLOOKUP($Q643,Stores!$A:$D,4,FALSE)","v":"Closed"},{"$f":"VLOOKUP(Q643,Stores!$A:$C,3,FALSE)","v":"Seattle, WA"},4654,{"$f":"P643/(X643/100)","v":0.53717232488182209}]
["8601 - Dallas, TX - Del Frisco's","",74.2,74.2,0,77.5,80.900000000000006,69.7,76.400000000000006,76.400000000000006,56.2,80.900000000000006,13.5,0,64,89,8601,1,2013,{"$f":"VLOOKUP(Q644,Stores!$A:$B,2,FALSE)","v":"DFDE"},"2013-01",{"$f":"VLOOKUP($Q644,Stores!$A:$D,4,FALSE)","v":"Closed"},{"$f":"VLOOKUP(Q644,Stores!$A:$C,3,FALSE)","v":"Dallas, TX"},5873,1.5154095011067599]
["8602 - Fort Worth, TX - Del Frisco's","",73.7,84,0,80.599999999999994,88,78.900000000000006,82.9,80,60.6,68,4.5999999999999996,0,121,175,8602,1,2013,{"$f":"VLOOKUP(Q645,Stores!$A:$B,2,FALSE)","v":"DFDE"},"2013-01",{"$f":"VLOOKUP($Q645,Stores!$A:$D,4,FALSE)","v":"Open"},{"$f":"VLOOKUP(Q645,Stores!$A:$C,3,FALSE)","v":"Fort Worth, TX"},9820,1.7820773930753564]
["8603 - Denver, CO - Del Frisco's","",66.400000000000006,74.3,0,72.099999999999994,80.7,62.9,75.7,69.3,44.3,56.4,10.7,0,94,140,8603,1,2013,{"$f":"VLOOKUP(Q646,Stores!$A:$B,2,FALSE)","v":"DFDE"},"2013-01",{"$f":"VLOOKUP($Q646,Stores!$A:$D,4,FALSE)","v":"Open"},{"$f":"VLOOKUP(Q646,Stores!$A:$C,3,FALSE)","v":"Denver, CO"},10620,1.3182674199623352]
["8604 - Charlotte, NC - Del Frisco's","",71.7,81.5,0,79.3,90.2,82.6,75,83.7,43.5,53.3,5.4,0,54,92,8604,1,2013,{"$f":"VLOOKUP(Q647,Stores!$A:$B,2,FALSE)","v":"DFDE"},"2013-01",{"$f":"VLOOKUP($Q647,Stores!$A:$D,4,FALSE)","v":"Open"},{"$f":"VLOOKUP(Q647,Stores!$A:$C,3,FALSE)","v":"Charlotte, NC"},6305,1.4591593973037273]
["8605 - Houston, TX - Del Frisco's","",68.400000000000006,77.2,0,79.7,84.8,77.2,75.900000000000006,72.2,54.4,55.7,8.9,2,46,79,8605,1,2013,{"$f":"VLOOKUP(Q648,Stores!$A:$B,2,FALSE)","v":"DFDE"},"2013-01",{"$f":"VLOOKUP($Q648,Stores!$A:$D,4,FALSE)","v":"Open"},{"$f":"VLOOKUP(Q648,Stores!$A:$C,3,FALSE)","v":"Houston, TX"},8527,0.92646886360971037]
["8615 - Orlando, FL - Del Frisco’s","",76.2,78.599999999999994,0,95.2,97.6,85.7,76.2,90.5,50,69,2.4,0,34,42,8615,1,2013,{"$f":"VLOOKUP(Q649,Stores!$A:$B,2,FALSE)","v":"DFDE"},"2013-01",{"$f":"VLOOKUP($Q649,Stores!$A:$D,4,FALSE)","v":"Open"},{"$f":"VLOOKUP(Q649,Stores!$A:$C,3,FALSE)","v":"Orlando, FL"},5012,0.83798882681564246]
["8620 - New York City, NY - Del Frisco's","",74.3,74.3,0,82,85.6,75.2,80.2,77.900000000000006,40.1,56.8,7.7,0,156,222,8620,1,2013,{"$f":"VLOOKUP(Q650,Stores!$A:$B,2,FALSE)","v":"DFDE"},"2013-01",{"$f":"VLOOKUP($Q650,Stores!$A:$D,4,FALSE)","v":"Open"},{"$f":"VLOOKUP(Q650,Stores!$A:$C,3,FALSE)","v":"New York City, NY"},20736,1.0706018518518519]
["8635 - Boston, MA - Del Frisco's","",74.3,75.2,0,85.3,89,77.099999999999994,77.099999999999994,78,48.6,69.7,5.5,0,72,109,8635,1,2013,{"$f":"VLOOKUP(Q651,Stores!$A:$B,2,FALSE)","v":"DFDE"},"2013-01",{"$f":"VLOOKUP($Q651,Stores!$A:$D,4,FALSE)","v":"Open"},{"$f":"VLOOKUP(Q651,Stores!$A:$C,3,FALSE)","v":"Boston, MA"},9462,1.1519763263580638]
["8640 - Las Vegas, NV - Del Frisco's","",70.8,77.5,0,75.8,80,67.5,84.2,78.3,50,65.8,9.1999999999999993,0,84,120,8640,1,2013,{"$f":"VLOOKUP(Q652,Stores!$A:$B,2,FALSE)","v":"DFDE"},"2013-01",{"$f":"VLOOKUP($Q652,Stores!$A:$D,4,FALSE)","v":"Open"},{"$f":"VLOOKUP(Q652,Stores!$A:$C,3,FALSE)","v":"Las Vegas, NV"},8619,1.3922728854855553]
["8650 - Chicago, IL - Del Frisco's","",52.5,63.9,0,62.3,73.8,62.3,68.900000000000006,72.099999999999994,55.7,60.7,21.3,2,47,61,8650,1,2013,{"$f":"VLOOKUP(Q653,Stores!$A:$B,2,FALSE)","v":"DFDE"},"2013-01",{"$f":"VLOOKUP($Q653,Stores!$A:$D,4,FALSE)","v":"Open"},{"$f":"VLOOKUP(Q653,Stores!$A:$C,3,FALSE)","v":"Chicago, IL"},5308,1.1492087415222307]
["8655 - Washington, DC -  Del Frisco's","",66.7,75.400000000000006,0,69.599999999999994,78.3,66.7,71,75.400000000000006,44.9,59.4,7.2,1,46,69,8655,1,2013,{"$f":"VLOOKUP(Q654,Stores!$A:$B,2,FALSE)","v":"DFDE"},"2013-01",{"$f":"VLOOKUP($Q654,Stores!$A:$D,4,FALSE)","v":"Open"},{"$f":"VLOOKUP(Q654,Stores!$A:$C,3,FALSE)","v":"Washington, DC"},7434,0.92816787732041961]
["8680 - Philadelphia, PA - Del Frisco's","",68.2,75.5,0,67.5,74.2,68.2,74.2,80.099999999999994,49.7,56.3,10.6,3,110,151,8680,1,2013,{"$f":"VLOOKUP(Q655,Stores!$A:$B,2,FALSE)","v":"DFDE"},"2013-01",{"$f":"VLOOKUP($Q655,Stores!$A:$D,4,FALSE)","v":"Open"},{"$f":"VLOOKUP(Q655,Stores!$A:$C,3,FALSE)","v":"Philadelphia, PA"},13423,1.1249348133800194]
["8701 - New York City, NY - Grille","",66.7,72.7,0,75.8,69.7,66.7,66.7,63.6,45.5,45.5,21.2,2,25,33,8701,1,2013,{"$f":"VLOOKUP(Q656,Stores!$A:$B,2,FALSE)","v":"DFG"},"2013-01",{"$f":"VLOOKUP($Q656,Stores!$A:$D,4,FALSE)","v":"Open"},{"$f":"VLOOKUP(Q656,Stores!$A:$C,3,FALSE)","v":"New York City, NY"},11262,0.29302077783697389]
["8702 - Dallas, TX - Grille","",62.7,72.5,0,68.599999999999994,78.400000000000006,72.5,70.599999999999994,72.5,51,74.5,7.8,0,35,51,8702,1,2013,{"$f":"VLOOKUP(Q657,Stores!$A:$B,2,FALSE)","v":"DFG"},"2013-01",{"$f":"VLOOKUP($Q657,Stores!$A:$D,4,FALSE)","v":"Open"},{"$f":"VLOOKUP(Q657,Stores!$A:$C,3,FALSE)","v":"Dallas, TX"},8816,0.57849364791288571]
["8703 - Washington, DC - Grille","",61.3,61.3,0,67.7,77.400000000000006,67.7,61.3,67.7,54.8,61.3,19.399999999999999,0,24,31,8703,1,2013,{"$f":"VLOOKUP(Q658,Stores!$A:$B,2,FALSE)","v":"DFG"},"2013-01",{"$f":"VLOOKUP($Q658,Stores!$A:$D,4,FALSE)","v":"Open"},{"$f":"VLOOKUP(Q658,Stores!$A:$C,3,FALSE)","v":"Washington, DC"},4145,0.74788902291917969]
["8706 - Atlanta, GA - Grille","",88.1,86.6,0,89.6,89.6,83.6,83.6,86.6,76.099999999999994,64.2,6,0,53,67,8706,1,2013,{"$f":"VLOOKUP(Q659,Stores!$A:$B,2,FALSE)","v":"DFG"},"2013-01",{"$f":"VLOOKUP($Q659,Stores!$A:$D,4,FALSE)","v":"Open"},{"$f":"VLOOKUP(Q659,Stores!$A:$C,3,FALSE)","v":"Atlanta, GA"},8572,0.78161455902939803]
["8707 - River Oaks, TX - Grille","",65.900000000000006,68.2,0,77.3,84.1,68.2,70.5,70.5,54.5,56.8,11.4,0,29,44,8707,1,2013,{"$f":"VLOOKUP(Q660,Stores!$A:$B,2,FALSE)","v":"DFG"},"2013-01",{"$f":"VLOOKUP($Q660,Stores!$A:$D,4,FALSE)","v":"Open"},{"$f":"VLOOKUP(Q660,Stores!$A:$C,3,FALSE)","v":"Houston, TX"},6856,0.64177362893815637]
["8708 - Chestnut Hill, MA - Grille","",65.5,70.900000000000006,0,80,76.400000000000006,74.5,67.3,78.2,56.4,32.700000000000003,1.8,0,36,55,8708,1,2013,{"$f":"VLOOKUP(Q661,Stores!$A:$B,2,FALSE)","v":"DFG"},"2013-01",{"$f":"VLOOKUP($Q661,Stores!$A:$D,4,FALSE)","v":"Open"},{"$f":"VLOOKUP(Q661,Stores!$A:$C,3,FALSE)","v":"Chestnut Hill, MA"},6187,0.88896072409891713]
["8709 - Santa Monica, CA - Grille","",56.3,56.3,0,75,75,81.3,75,75,56.3,62.5,6.3,0,13,16,8709,1,2013,{"$f":"VLOOKUP(Q662,Stores!$A:$B,2,FALSE)","v":"DFG"},"2013-01",{"$f":"VLOOKUP($Q662,Stores!$A:$D,4,FALSE)","v":"Open"},{"$f":"VLOOKUP(Q662,Stores!$A:$C,3,FALSE)","v":"Santa Monica, CA"},10572,0.1513431706394249]
["8710 - Fort Worth, TX - Grille","",65.599999999999994,62.5,0,75,76.599999999999994,71.900000000000006,67.2,75,50,35.9,10.9,1,43,64,8710,1,2013,{"$f":"VLOOKUP(Q663,Stores!$A:$B,2,FALSE)","v":"DFG"},"2013-01",{"$f":"VLOOKUP($Q663,Stores!$A:$D,4,FALSE)","v":"Open"},{"$f":"VLOOKUP(Q663,Stores!$A:$C,3,FALSE)","v":"Fort Worth, TX"},11725,0.54584221748400852]
["8711 – Cherry Creek, CO - Grille","",58.7,66.7,0,70.7,74.7,69.3,66.7,76,49.3,64,12,0,55,75,8711,1,2013,{"$f":"VLOOKUP(Q664,Stores!$A:$B,2,FALSE)","v":"DFG"},"2013-01",{"$f":"VLOOKUP($Q664,Stores!$A:$D,4,FALSE)","v":"Open"},{"$f":"VLOOKUP(Q664,Stores!$A:$C,3,FALSE)","v":"Cherry Creek, CO"},8613,0.87077673284569845]
["8712 - Southlake, TX - Grille","",69,72,0,83,88,76,74,77,56,70,8,3,69,100,8712,1,2013,{"$f":"VLOOKUP(Q665,Stores!$A:$B,2,FALSE)","v":"DFG"},"2013-01",{"$f":"VLOOKUP($Q665,Stores!$A:$D,4,FALSE)","v":"Open"},{"$f":"VLOOKUP(Q665,Stores!$A:$C,3,FALSE)","v":"Southlake, TX"},12776,0.78271759549154662]
["8713 - Burlington, MA - Grille",41794,63.6,69.7,0,69.7,81.8,75.8,75.8,63.6,45.5,27.3,9.1,0,29,33,8713,1,2013,{"$f":"VLOOKUP(Q666,Stores!$A:$B,2,FALSE)","v":"DFG"},"2013-01",{"$f":"VLOOKUP($Q666,Stores!$A:$D,4,FALSE)","v":"Open"},{"$f":"VLOOKUP(Q666,Stores!$A:$C,3,FALSE)","v":"Burlington, MA"},8139,0.4054552156284556]
["8714 - N Bethesda, MD - Grille",41908,75,90,0,80,85,75,75,80,60,75,0,0,11,20,8714,1,2013,{"$f":"VLOOKUP(Q667,Stores!$A:$B,2,FALSE)","v":"DFG"},"2013-01",{"$f":"VLOOKUP($Q667,Stores!$A:$D,4,FALSE)","v":"Open"},{"$f":"VLOOKUP(Q667,Stores!$A:$C,3,FALSE)","v":"N. Bethesda, MD"},4276,0.46772684752104771]
["8715 - Irvine, CA - Grille","",79.2,85.4,0,75,87.5,77.099999999999994,77.099999999999994,75,62.5,87.5,8.3000000000000007,0,34,48,8715,1,2013,{"$f":"VLOOKUP(Q668,Stores!$A:$B,2,FALSE)","v":"DFG"},"2013-01",{"$f":"VLOOKUP($Q668,Stores!$A:$D,4,FALSE)","v":"Open"},{"$f":"VLOOKUP(Q668,Stores!$A:$C,3,FALSE)","v":"Irvine, CA"},7107,0.67539046010975101]
["8716 - Tampa, FL - Grille","",80,84,0,88,92,86,78,84,62,58,6,0,32,50,8716,1,2013,{"$f":"VLOOKUP(Q669,Stores!$A:$B,2,FALSE)","v":"DFG"},"2013-01",{"$f":"VLOOKUP($Q669,Stores!$A:$D,4,FALSE)","v":"Open"},{"$f":"VLOOKUP(Q669,Stores!$A:$C,3,FALSE)","v":"Tampa, FL"},7302,0.6847439057792386]
["8717 - Pasadena, CA - Grille",41992,70,63.3,0,76.7,83.3,80,63.3,66.7,50,66.7,13.3,1,21,30,8717,1,2013,{"$f":"VLOOKUP(Q670,Stores!$A:$B,2,FALSE)","v":"DFG"},"2013-01",{"$f":"VLOOKUP($Q670,Stores!$A:$D,4,FALSE)","v":"Open"},{"$f":"VLOOKUP(Q670,Stores!$A:$C,3,FALSE)","v":"Pasadena, CA"},5355,0.56022408963585435]
["8718 -Woodlands, TX - Grille","",59.6,63.5,0,71.2,78.8,67.3,71.2,80.8,55.8,71.2,5.8,0,37,52,8718,1,2013,{"$f":"VLOOKUP(Q671,Stores!$A:$B,2,FALSE)","v":"DFG"},"2013-01",{"$f":"VLOOKUP($Q671,Stores!$A:$D,4,FALSE)","v":"Open"},{"$f":"VLOOKUP(Q671,Stores!$A:$C,3,FALSE)","v":"Woodlands, TX"},7983,0.65138419140673931]
["8720 - Little Rock, AR - Grille","",71.400000000000006,77.099999999999994,0,80,88.6,82.9,71.400000000000006,77.099999999999994,42.9,77.099999999999994,8.6,0,19,35,8720,1,2013,{"$f":"VLOOKUP(Q672,Stores!$A:$B,2,FALSE)","v":"DFG"},"2013-01",{"$f":"VLOOKUP($Q672,Stores!$A:$D,4,FALSE)","v":"Open"},{"$f":"VLOOKUP(Q672,Stores!$A:$C,3,FALSE)","v":"Little Rock, AR"},7243,0.4832251829352478]
["8721 - Plano, TX - Grille","",71.900000000000006,78.099999999999994,0,78.099999999999994,87.5,78.099999999999994,75,76.599999999999994,60.9,87.5,12.5,1,44,64,8721,1,2013,{"$f":"VLOOKUP(Q673,Stores!$A:$B,2,FALSE)","v":"DFG"},"2013-01",{"$f":"VLOOKUP($Q673,Stores!$A:$D,4,FALSE)","v":"Open"},{"$f":"VLOOKUP(Q673,Stores!$A:$C,3,FALSE)","v":"Plano, TX"},8233,0.77735940726345198]
["8722 – Stamford, CT - Grille","",27.3,18.2,0,45.5,54.5,18.2,27.3,45.5,9.1,54.5,36.4,1,9,11,8722,1,2013,{"$f":"VLOOKUP(Q674,Stores!$A:$B,2,FALSE)","v":"DFG"},"2013-01",{"$f":"VLOOKUP($Q674,Stores!$A:$D,4,FALSE)","v":"Open"},{"$f":"VLOOKUP(Q674,Stores!$A:$C,3,FALSE)","v":"Stamford, CT"},6153,0.17877458150495693]
["8723 – Hoboken, NJ - Grille","",64.3,64.3,0,57.1,57.1,42.9,57.1,50,28.6,71.400000000000006,14.3,0,8,14,8723,1,2013,{"$f":"VLOOKUP(Q675,Stores!$A:$B,2,FALSE)","v":"DFG"},"2013-01",{"$f":"VLOOKUP($Q675,Stores!$A:$D,4,FALSE)","v":"Open"},{"$f":"VLOOKUP(Q675,Stores!$A:$C,3,FALSE)","v":"Hoboken, NJ"},8096,0.17292490118577075]
["8501 - Austin, TX - Sullivan's","",51.9,55.6,0,66.7,70.400000000000006,63,63,63,33.299999999999997,74.099999999999994,25.9,0,19,27,8501,2,2013,{"$f":"VLOOKUP(Q676,Stores!$A:$B,2,FALSE)","v":"SULL"},"2013-02",{"$f":"VLOOKUP($Q676,Stores!$A:$D,4,FALSE)","v":"Open"},{"$f":"VLOOKUP(Q676,Stores!$A:$C,3,FALSE)","v":"Austin, TX"},6001,0.44992501249791705]
["8502 - Indianapolis, IN - Sullivan's","",64.7,67.2,0,72.400000000000006,84.5,69,72.400000000000006,69,41.4,76.7,11.2,0,82,116,8502,2,2013,{"$f":"VLOOKUP(Q677,Stores!$A:$B,2,FALSE)","v":"SULL"},"2013-02",{"$f":"VLOOKUP($Q677,Stores!$A:$D,4,FALSE)","v":"Open"},{"$f":"VLOOKUP(Q677,Stores!$A:$C,3,FALSE)","v":"Indianapolis, IN"},7474,1.552047096601552]
["8504 - Houston, TX - Sullivan's","",67.599999999999994,73,0,64.900000000000006,83.8,64.900000000000006,73,75.7,64.900000000000006,75.7,13.5,0,26,37,8504,2,2013,{"$f":"VLOOKUP(Q678,Stores!$A:$B,2,FALSE)","v":"SULL"},"2013-02",{"$f":"VLOOKUP($Q678,Stores!$A:$D,4,FALSE)","v":"Closed"},{"$f":"VLOOKUP(Q678,Stores!$A:$C,3,FALSE)","v":"Houston, TX"},4534,0.81605646228495798]
["8510 - Wilmington, DE - Sullivan's","",75.900000000000006,79.599999999999994,0,75.2,81,73.7,79.599999999999994,65.7,53.3,65,10.199999999999999,0,101,137,8510,2,2013,{"$f":"VLOOKUP(Q679,Stores!$A:$B,2,FALSE)","v":"SULL"},"2013-02",{"$f":"VLOOKUP($Q679,Stores!$A:$D,4,FALSE)","v":"Open"},{"$f":"VLOOKUP(Q679,Stores!$A:$C,3,FALSE)","v":"Wilmington, DE"},5879,2.3303282871236606]
["8522 - King of Prussia, PA - Sullivan's","",61.9,65.5,0,72.599999999999994,76.099999999999994,61.9,77,62.8,47.8,69.900000000000006,14.2,5,92,113,8522,2,2013,{"$f":"VLOOKUP(Q680,Stores!$A:$B,2,FALSE)","v":"SULL"},"2013-02",{"$f":"VLOOKUP($Q680,Stores!$A:$D,4,FALSE)","v":"Open"},{"$f":"VLOOKUP(Q680,Stores!$A:$C,3,FALSE)","v":"King of Prussia, PA"},7914,1.4278493808440738]
["8525 - Tucson, AZ - Sullivan's","",71.099999999999994,77.599999999999994,0,81.599999999999994,81.599999999999994,71.099999999999994,80.3,77.599999999999994,61.8,75,10.5,1,54,76,8525,2,2013,{"$f":"VLOOKUP(Q681,Stores!$A:$B,2,FALSE)","v":"SULL"},"2013-02",{"$f":"VLOOKUP($Q681,Stores!$A:$D,4,FALSE)","v":"Open"},{"$f":"VLOOKUP(Q681,Stores!$A:$C,3,FALSE)","v":"Tucson, AZ"},5149,1.4760147601476015]
["8532 - Omaha, NE - Sullivan's","",62,66,0,78,78,74,72,70,34,56,16,1,35,50,8532,2,2013,{"$f":"VLOOKUP(Q682,Stores!$A:$B,2,FALSE)","v":"SULL"},"2013-02",{"$f":"VLOOKUP($Q682,Stores!$A:$D,4,FALSE)","v":"Open"},{"$f":"VLOOKUP(Q682,Stores!$A:$C,3,FALSE)","v":"Omaha, NE"},4381,1.1412919424788861]
["8535 - Baltimore, MD - Sullivan's","",59.7,67.7,0,67.7,69.400000000000006,66.099999999999994,64.5,66.099999999999994,54.8,46.8,12.9,0,49,62,8535,2,2013,{"$f":"VLOOKUP(Q683,Stores!$A:$B,2,FALSE)","v":"SULL"},"2013-02",{"$f":"VLOOKUP($Q683,Stores!$A:$D,4,FALSE)","v":"Open"},{"$f":"VLOOKUP(Q683,Stores!$A:$C,3,FALSE)","v":"Baltimore, MD"},6292,0.98537825810553081]
["8536 - Leawood, KS - Sullivan's","",62.7,61.8,0,72.5,75.5,66.7,68.599999999999994,71.599999999999994,50,74.5,16.7,0,81,102,8536,2,2013,{"$f":"VLOOKUP(Q684,Stores!$A:$B,2,FALSE)","v":"SULL"},"2013-02",{"$f":"VLOOKUP($Q684,Stores!$A:$D,4,FALSE)","v":"Open"},{"$f":"VLOOKUP(Q684,Stores!$A:$C,3,FALSE)","v":"Leawood, KS"},5455,1.8698441796516958]
["8541 - Chicago, IL - Sullivan's","",68.2,65.900000000000006,0,61.4,75,65.900000000000006,68.2,68.2,59.1,47.7,20.5,2,29,44,8541,2,2013,{"$f":"VLOOKUP(Q685,Stores!$A:$B,2,FALSE)","v":"SULL"},"2013-02",{"$f":"VLOOKUP($Q685,Stores!$A:$D,4,FALSE)","v":"Open"},{"$f":"VLOOKUP(Q685,Stores!$A:$C,3,FALSE)","v":"Chicago, IL"},3289,1.3377926421404682]
["8542 - Naperville, IL - Sullivan's","",63.6,63.6,0,71.599999999999994,77.3,71.599999999999994,72.7,68.2,46.6,54.5,14.8,1,60,88,8542,2,2013,{"$f":"VLOOKUP(Q686,Stores!$A:$B,2,FALSE)","v":"SULL"},"2013-02",{"$f":"VLOOKUP($Q686,Stores!$A:$D,4,FALSE)","v":"Open"},{"$f":"VLOOKUP(Q686,Stores!$A:$C,3,FALSE)","v":"Naperville, IL"},7128,1.2345679012345678]
["8543 - Lincolnshire, IL - Sullivan's","",60.6,66.7,0,78.8,84.8,69.7,78.8,66.7,39.4,78.8,6.1,0,20,33,8543,2,2013,{"$f":"VLOOKUP(Q687,Stores!$A:$B,2,FALSE)","v":"SULL"},"2013-02",{"$f":"VLOOKUP($Q687,Stores!$A:$D,4,FALSE)","v":"Open"},{"$f":"VLOOKUP(Q687,Stores!$A:$C,3,FALSE)","v":"Lincolnshire, IL"},4213,0.7832898172323759]
["8551 - Baton Rouge, LA - Sullivan's","",78.8,83.8,0,83.8,88.9,85.9,84.8,82.8,69.7,88.9,6.1,1,72,99,8551,2,2013,{"$f":"VLOOKUP(Q688,Stores!$A:$B,2,FALSE)","v":"SULL"},"2013-02",{"$f":"VLOOKUP($Q688,Stores!$A:$D,4,FALSE)","v":"Open"},{"$f":"VLOOKUP(Q688,Stores!$A:$C,3,FALSE)","v":"Baton Rouge, LA"},5180,1.9111969111969114]
["8561 - Raleigh, NC - Sullivan's","",71.400000000000006,70.400000000000006,0,80.599999999999994,84.7,70.400000000000006,72.400000000000006,65.3,53.1,62.2,12.2,0,70,98,8561,2,2013,{"$f":"VLOOKUP(Q689,Stores!$A:$B,2,FALSE)","v":"SULL"},"2013-02",{"$f":"VLOOKUP($Q689,Stores!$A:$D,4,FALSE)","v":"Open"},{"$f":"VLOOKUP(Q689,Stores!$A:$C,3,FALSE)","v":"Raleigh, NC"},7800,1.2564102564102564]
["8562 - Charlotte, NC - Sullivan's","",75,80.400000000000006,0,71.400000000000006,82.1,64.3,78.599999999999994,60.7,42.9,58.9,10.7,2,40,56,8562,2,2013,{"$f":"VLOOKUP(Q690,Stores!$A:$B,2,FALSE)","v":"SULL"},"2013-02",{"$f":"VLOOKUP($Q690,Stores!$A:$D,4,FALSE)","v":"Open"},{"$f":"VLOOKUP(Q690,Stores!$A:$C,3,FALSE)","v":"Charlotte, NC"},6817,0.82147572245855949]
["8570 - Palm Desert, CA - Sullivan's","",80,88.6,0,85.7,85.7,71.400000000000006,80,71.400000000000006,68.599999999999994,85.7,8.6,0,29,35,8570,2,2013,{"$f":"VLOOKUP(Q691,Stores!$A:$B,2,FALSE)","v":"SULL"},"2013-02",{"$f":"VLOOKUP($Q691,Stores!$A:$D,4,FALSE)","v":"Open"},{"$f":"VLOOKUP(Q691,Stores!$A:$C,3,FALSE)","v":"Palm Desert, CA"},6499,0.53854439144483768]
["8591 - Anchorage, AK - Sullivan's","",80.400000000000006,79.400000000000006,0,80.400000000000006,85.6,76.3,81.400000000000006,80.400000000000006,60.8,63.9,13.4,0,83,97,8591,2,2013,{"$f":"VLOOKUP(Q692,Stores!$A:$B,2,FALSE)","v":"SULL"},"2013-02",{"$f":"VLOOKUP($Q692,Stores!$A:$D,4,FALSE)","v":"Open"},{"$f":"VLOOKUP(Q692,Stores!$A:$C,3,FALSE)","v":"Anchorage, AK"},6746,1.4378891194782095]
["8592 - Seattle, WA - Sullivan's","",71.400000000000006,73.5,0,71.400000000000006,79.599999999999994,81.599999999999994,83.7,77.599999999999994,69.400000000000006,69.400000000000006,6.1,0,33,49,8592,2,2013,{"$f":"VLOOKUP(Q693,Stores!$A:$B,2,FALSE)","v":"SULL"},"2013-02",{"$f":"VLOOKUP($Q693,Stores!$A:$D,4,FALSE)","v":"Closed"},{"$f":"VLOOKUP(Q693,Stores!$A:$C,3,FALSE)","v":"Seattle, WA"},5837,0.83947233167723145]
["8601 - Dallas, TX - Del Frisco's","",69.2,72.900000000000006,0,80.400000000000006,85,72.900000000000006,77.599999999999994,74.8,43,81.3,10.3,1,83,107,8601,2,2013,{"$f":"VLOOKUP(Q694,Stores!$A:$B,2,FALSE)","v":"DFDE"},"2013-02",{"$f":"VLOOKUP($Q694,Stores!$A:$D,4,FALSE)","v":"Closed"},{"$f":"VLOOKUP(Q694,Stores!$A:$C,3,FALSE)","v":"Dallas, TX"},7075,1.5123674911660778]
["8602 - Fort Worth, TX - Del Frisco's","",73,82.5,0,85.2,87.3,78.3,81.5,77.8,56.1,77.8,5.8,0,133,189,8602,2,2013,{"$f":"VLOOKUP(Q695,Stores!$A:$B,2,FALSE)","v":"DFDE"},"2013-02",{"$f":"VLOOKUP($Q695,Stores!$A:$D,4,FALSE)","v":"Open"},{"$f":"VLOOKUP(Q695,Stores!$A:$C,3,FALSE)","v":"Fort Worth, TX"},10530,1.7948717948717949]
["8603 - Denver, CO - Del Frisco's","",68.2,74.400000000000006,0,75,84.7,71.599999999999994,73.3,69.3,42.6,68.2,9.1,0,118,176,8603,2,2013,{"$f":"VLOOKUP(Q696,Stores!$A:$B,2,FALSE)","v":"DFDE"},"2013-02",{"$f":"VLOOKUP($Q696,Stores!$A:$D,4,FALSE)","v":"Open"},{"$f":"VLOOKUP(Q696,Stores!$A:$C,3,FALSE)","v":"Denver, CO"},11251,1.5643053950759931]
["8604 - Charlotte, NC - Del Frisco's","",65.3,68.2,0,73.400000000000006,80.3,74.599999999999994,74,85.5,54.3,49.7,5.8,0,110,173,8604,2,2013,{"$f":"VLOOKUP(Q697,Stores!$A:$B,2,FALSE)","v":"DFDE"},"2013-02",{"$f":"VLOOKUP($Q697,Stores!$A:$D,4,FALSE)","v":"Open"},{"$f":"VLOOKUP(Q697,Stores!$A:$C,3,FALSE)","v":"Charlotte, NC"},9469,1.8270144682648644]
["8605 - Houston, TX - Del Frisco's","",70.099999999999994,71.599999999999994,0,84.3,88.8,78.400000000000006,79.099999999999994,87.3,59,67.2,9.6999999999999993,5,102,134,8605,2,2013,{"$f":"VLOOKUP(Q698,Stores!$A:$B,2,FALSE)","v":"DFDE"},"2013-02",{"$f":"VLOOKUP($Q698,Stores!$A:$D,4,FALSE)","v":"Open"},{"$f":"VLOOKUP(Q698,Stores!$A:$C,3,FALSE)","v":"Houston, TX"},9540,1.4046121593291403]
["8615 - Orlando, FL - Del Frisco’s","",59.6,61.4,0,68.400000000000006,73.7,63.2,57.9,71.900000000000006,40.4,68.400000000000006,22.8,3,41,57,8615,2,2013,{"$f":"VLOOKUP(Q699,Stores!$A:$B,2,FALSE)","v":"DFDE"},"2013-02",{"$f":"VLOOKUP($Q699,Stores!$A:$D,4,FALSE)","v":"Open"},{"$f":"VLOOKUP(Q699,Stores!$A:$C,3,FALSE)","v":"Orlando, FL"},6615,0.86167800453514731]
["8620 - New York City, NY - Del Frisco's","",68.900000000000006,73.099999999999994,0,78.3,84,71.7,75.5,71.7,40.1,47.6,7.5,0,135,212,8620,2,2013,{"$f":"VLOOKUP(Q700,Stores!$A:$B,2,FALSE)","v":"DFDE"},"2013-02",{"$f":"VLOOKUP($Q700,Stores!$A:$D,4,FALSE)","v":"Open"},{"$f":"VLOOKUP(Q700,Stores!$A:$C,3,FALSE)","v":"New York City, NY"},22549,0.94017473058672218]
["8635 - Boston, MA - Del Frisco's","",72.400000000000006,73.7,0,84.2,86.2,73,75,75,38.799999999999997,77,6.6,0,108,152,8635,2,2013,{"$f":"VLOOKUP(Q701,Stores!$A:$B,2,FALSE)","v":"DFDE"},"2013-02",{"$f":"VLOOKUP($Q701,Stores!$A:$D,4,FALSE)","v":"Open"},{"$f":"VLOOKUP(Q701,Stores!$A:$C,3,FALSE)","v":"Boston, MA"},10693,1.4214906948470962]
["8640 - Las Vegas, NV - Del Frisco's","",71.8,75,0,73.400000000000006,81.5,71,76.599999999999994,71.8,52.4,71.8,15.3,1,79,124,8640,2,2013,{"$f":"VLOOKUP(Q702,Stores!$A:$B,2,FALSE)","v":"DFDE"},"2013-02",{"$f":"VLOOKUP($Q702,Stores!$A:$D,4,FALSE)","v":"Open"},{"$f":"VLOOKUP(Q702,Stores!$A:$C,3,FALSE)","v":"Las Vegas, NV"},8200,1.5121951219512195]
["8650 - Chicago, IL - Del Frisco's","",51.3,64.5,0,56.6,63.2,53.9,69.7,65.8,36.799999999999997,57.9,22.4,4,50,76,8650,2,2013,{"$f":"VLOOKUP(Q703,Stores!$A:$B,2,FALSE)","v":"DFDE"},"2013-02",{"$f":"VLOOKUP($Q703,Stores!$A:$D,4,FALSE)","v":"Open"},{"$f":"VLOOKUP(Q703,Stores!$A:$C,3,FALSE)","v":"Chicago, IL"},6501,1.1690509152438087]
["8655 - Washington, DC -  Del Frisco's","",65.099999999999994,70.5,0,66.400000000000006,77.900000000000006,59.7,75.8,73.8,54.4,49,14.1,5,103,149,8655,2,2013,{"$f":"VLOOKUP(Q704,Stores!$A:$B,2,FALSE)","v":"DFDE"},"2013-02",{"$f":"VLOOKUP($Q704,Stores!$A:$D,4,FALSE)","v":"Open"},{"$f":"VLOOKUP(Q704,Stores!$A:$C,3,FALSE)","v":"Washington, DC"},12560,1.1863057324840764]
["8680 - Philadelphia, PA - Del Frisco's","",69.5,78.7,0,72,79.3,67.099999999999994,78.7,77.400000000000006,56.1,58.5,9.1,0,108,164,8680,2,2013,{"$f":"VLOOKUP(Q705,Stores!$A:$B,2,FALSE)","v":"DFDE"},"2013-02",{"$f":"VLOOKUP($Q705,Stores!$A:$D,4,FALSE)","v":"Open"},{"$f":"VLOOKUP(Q705,Stores!$A:$C,3,FALSE)","v":"Philadelphia, PA"},14578,1.1249828508711757]
["8701 - New York City, NY - Grille","",52.5,62.5,0,57.5,77.5,62.5,62.5,55,40,60,17.5,0,21,40,8701,2,2013,{"$f":"VLOOKUP(Q706,Stores!$A:$B,2,FALSE)","v":"DFG"},"2013-02",{"$f":"VLOOKUP($Q706,Stores!$A:$D,4,FALSE)","v":"Open"},{"$f":"VLOOKUP(Q706,Stores!$A:$C,3,FALSE)","v":"New York City, NY"},10628,0.37636432066240122]
["8702 - Dallas, TX - Grille","",65.2,71.7,0,67.400000000000006,82.6,76.099999999999994,73.900000000000006,76.099999999999994,67.400000000000006,65.2,15.2,1,31,46,{"$f":"MID(A707,1,4)*1","v":8702},2,2013,{"$f":"VLOOKUP(Q707,Stores!$A:$B,2,FALSE)","v":"DFG"},{"$f":"S707&\"-\"&REPT(\"0\",2-LEN(R707))&R707","v":"2013-02"},{"$f":"VLOOKUP($Q707,Stores!$A:$D,4,FALSE)","v":"Open"},{"$f":"VLOOKUP(Q707,Stores!$A:$C,3,FALSE)","v":"Dallas, TX"},9106,{"$f":"P707/(X707/100)","v":0.50516143202284203}]
["8703 - Washington, DC - Grille","",48.8,51.2,0,51.2,58.1,58.1,53.5,48.8,39.5,55.8,20.9,3,31,43,8703,2,2013,{"$f":"VLOOKUP(Q708,Stores!$A:$B,2,FALSE)","v":"DFG"},"2013-02",{"$f":"VLOOKUP($Q708,Stores!$A:$D,4,FALSE)","v":"Open"},{"$f":"VLOOKUP(Q708,Stores!$A:$C,3,FALSE)","v":"Washington, DC"},6487,0.6628641899182981]
["8706 - Atlanta, GA - Grille","",67.5,74.7,0,71.099999999999994,79.5,69.900000000000006,77.099999999999994,73.5,56.6,61.4,12,1,61,83,8706,2,2013,{"$f":"VLOOKUP(Q709,Stores!$A:$B,2,FALSE)","v":"DFG"},"2013-02",{"$f":"VLOOKUP($Q709,Stores!$A:$D,4,FALSE)","v":"Open"},{"$f":"VLOOKUP(Q709,Stores!$A:$C,3,FALSE)","v":"Atlanta, GA"},9656,0.85956917978458991]
["8707 - River Oaks, TX - Grille","",67.599999999999994,72.099999999999994,0,73.5,79.400000000000006,72.099999999999994,67.599999999999994,70.599999999999994,57.4,45.6,13.2,0,53,68,8707,2,2013,{"$f":"VLOOKUP(Q710,Stores!$A:$B,2,FALSE)","v":"DFG"},"2013-02",{"$f":"VLOOKUP($Q710,Stores!$A:$D,4,FALSE)","v":"Open"},{"$f":"VLOOKUP(Q710,Stores!$A:$C,3,FALSE)","v":"Houston, TX"},6889,0.98708085353462038]
["8708 - Chestnut Hill, MA - Grille","",44.6,51.8,0,57.1,69.599999999999994,51.8,53.6,55.4,39.299999999999997,42.9,19.600000000000001,0,38,56,8708,2,2013,{"$f":"VLOOKUP(Q711,Stores!$A:$B,2,FALSE)","v":"DFG"},"2013-02",{"$f":"VLOOKUP($Q711,Stores!$A:$D,4,FALSE)","v":"Open"},{"$f":"VLOOKUP(Q711,Stores!$A:$C,3,FALSE)","v":"Chestnut Hill, MA"},6786,0.82522841143530801]
["8709 - Santa Monica, CA - Grille","",80,90,0,75,85,85,75,85,50,35,10,1,16,20,8709,2,2013,{"$f":"VLOOKUP(Q712,Stores!$A:$B,2,FALSE)","v":"DFG"},"2013-02",{"$f":"VLOOKUP($Q712,Stores!$A:$D,4,FALSE)","v":"Open"},{"$f":"VLOOKUP(Q712,Stores!$A:$C,3,FALSE)","v":"Santa Monica, CA"},11261,0.17760412041559365]
["8710 - Fort Worth, TX - Grille","",66.7,75,0,68.099999999999994,70.8,75,69.400000000000006,79.2,54.2,61.1,8.3000000000000007,1,44,72,8710,2,2013,{"$f":"VLOOKUP(Q713,Stores!$A:$B,2,FALSE)","v":"DFG"},"2013-02",{"$f":"VLOOKUP($Q713,Stores!$A:$D,4,FALSE)","v":"Open"},{"$f":"VLOOKUP(Q713,Stores!$A:$C,3,FALSE)","v":"Fort Worth, TX"},13082,0.55037456046476074]
["8711 – Cherry Creek, CO - Grille","",75.900000000000006,78,0,85.1,90.8,80.900000000000006,80.900000000000006,82.3,64.5,70.900000000000006,3.5,0,102,141,8711,2,2013,{"$f":"VLOOKUP(Q714,Stores!$A:$B,2,FALSE)","v":"DFG"},"2013-02",{"$f":"VLOOKUP($Q714,Stores!$A:$D,4,FALSE)","v":"Open"},{"$f":"VLOOKUP(Q714,Stores!$A:$C,3,FALSE)","v":"Cherry Creek, CO"},8629,1.6340248000927104]
["8712 - Southlake, TX - Grille","",55.3,64.099999999999994,0,68,76.7,61.2,62.1,65,47.6,83.5,17.5,0,73,103,8712,2,2013,{"$f":"VLOOKUP(Q715,Stores!$A:$B,2,FALSE)","v":"DFG"},"2013-02",{"$f":"VLOOKUP($Q715,Stores!$A:$D,4,FALSE)","v":"Open"},{"$f":"VLOOKUP(Q715,Stores!$A:$C,3,FALSE)","v":"Southlake, TX"},12983,0.79334514364938757]
["8713 - Burlington, MA - Grille",41794,50,60,0,70,74,68,54,58,40,32,20,0,32,50,8713,2,2013,{"$f":"VLOOKUP(Q716,Stores!$A:$B,2,FALSE)","v":"DFG"},"2013-02",{"$f":"VLOOKUP($Q716,Stores!$A:$D,4,FALSE)","v":"Open"},{"$f":"VLOOKUP(Q716,Stores!$A:$C,3,FALSE)","v":"Burlington, MA"},8633,0.57917294104019457]
["8714 - N Bethesda, MD - Grille",41908,58.3,69.400000000000006,0,80.599999999999994,86.1,63.9,52.8,75,36.1,80.599999999999994,13.9,0,27,36,8714,2,2013,{"$f":"VLOOKUP(Q717,Stores!$A:$B,2,FALSE)","v":"DFG"},"2013-02",{"$f":"VLOOKUP($Q717,Stores!$A:$D,4,FALSE)","v":"Open"},{"$f":"VLOOKUP(Q717,Stores!$A:$C,3,FALSE)","v":"N. Bethesda, MD"},5576,0.64562410329985653]
["8715 - Irvine, CA - Grille","",74.599999999999994,79.099999999999994,0,82.1,91,79.099999999999994,76.099999999999994,76.099999999999994,55.2,77.599999999999994,7.5,0,52,67,8715,2,2013,{"$f":"VLOOKUP(Q718,Stores!$A:$B,2,FALSE)","v":"DFG"},"2013-02",{"$f":"VLOOKUP($Q718,Stores!$A:$D,4,FALSE)","v":"Open"},{"$f":"VLOOKUP(Q718,Stores!$A:$C,3,FALSE)","v":"Irvine, CA"},7350,0.91156462585034015]
["8716 - Tampa, FL - Grille","",78.8,76.900000000000006,0,84.6,88.5,80.8,80.8,82.7,57.7,63.5,7.7,0,37,52,8716,2,2013,{"$f":"VLOOKUP(Q719,Stores!$A:$B,2,FALSE)","v":"DFG"},"2013-02",{"$f":"VLOOKUP($Q719,Stores!$A:$D,4,FALSE)","v":"Open"},{"$f":"VLOOKUP(Q719,Stores!$A:$C,3,FALSE)","v":"Tampa, FL"},8622,0.60310832753421484]
["8717 - Pasadena, CA - Grille",41992,53.1,68.8,0,65.599999999999994,68.8,78.099999999999994,75,78.099999999999994,53.1,53.1,9.4,0,24,32,8717,2,2013,{"$f":"VLOOKUP(Q720,Stores!$A:$B,2,FALSE)","v":"DFG"},"2013-02",{"$f":"VLOOKUP($Q720,Stores!$A:$D,4,FALSE)","v":"Open"},{"$f":"VLOOKUP(Q720,Stores!$A:$C,3,FALSE)","v":"Pasadena, CA"},5190,0.61657032755298657]
["8718 -Woodlands, TX - Grille","",56,66.7,0,68,76,61.3,65.3,77.3,52,65.3,17.3,0,50,75,8718,2,2013,{"$f":"VLOOKUP(Q721,Stores!$A:$B,2,FALSE)","v":"DFG"},"2013-02",{"$f":"VLOOKUP($Q721,Stores!$A:$D,4,FALSE)","v":"Open"},{"$f":"VLOOKUP(Q721,Stores!$A:$C,3,FALSE)","v":"Woodlands, TX"},9692,0.77383408997111014]
["8720 - Little Rock, AR - Grille","",54.5,61.8,0,69.099999999999994,72.7,70.900000000000006,58.2,74.5,41.8,60,9.1,0,42,55,8720,2,2013,{"$f":"VLOOKUP(Q722,Stores!$A:$B,2,FALSE)","v":"DFG"},"2013-02",{"$f":"VLOOKUP($Q722,Stores!$A:$D,4,FALSE)","v":"Open"},{"$f":"VLOOKUP(Q722,Stores!$A:$C,3,FALSE)","v":"Little Rock, AR"},7505,0.73284477015323124]
["8721 - Plano, TX - Grille","",66.3,69.900000000000006,0,78.3,86.7,77.099999999999994,62.7,74.7,51.8,84.3,10.8,6,56,83,8721,2,2013,{"$f":"VLOOKUP(Q723,Stores!$A:$B,2,FALSE)","v":"DFG"},"2013-02",{"$f":"VLOOKUP($Q723,Stores!$A:$D,4,FALSE)","v":"Open"},{"$f":"VLOOKUP(Q723,Stores!$A:$C,3,FALSE)","v":"Plano, TX"},9279,0.89449294104968202]
["8722 – Stamford, CT - Grille","",54.8,58.1,0,71,83.9,58.1,67.7,58.1,41.9,74.2,16.100000000000001,2,27,31,8722,2,2013,{"$f":"VLOOKUP(Q724,Stores!$A:$B,2,FALSE)","v":"DFG"},"2013-02",{"$f":"VLOOKUP($Q724,Stores!$A:$D,4,FALSE)","v":"Open"},{"$f":"VLOOKUP(Q724,Stores!$A:$C,3,FALSE)","v":"Stamford, CT"},6471,0.47906042342760013]
["8723 – Hoboken, NJ - Grille","",83.6,81.400000000000006,0,84.3,89.3,82.1,77.900000000000006,80.7,67.900000000000006,61.4,2.9,1,111,140,8723,2,2013,{"$f":"VLOOKUP(Q725,Stores!$A:$B,2,FALSE)","v":"DFG"},"2013-02",{"$f":"VLOOKUP($Q725,Stores!$A:$D,4,FALSE)","v":"Open"},{"$f":"VLOOKUP(Q725,Stores!$A:$C,3,FALSE)","v":"Hoboken, NJ"},8791,1.5925378227732909]
["8501 - Austin, TX - Sullivan's","",50,55,0,55,75,55,45,60,35,60,25,1,16,20,8501,3,2013,{"$f":"VLOOKUP(Q726,Stores!$A:$B,2,FALSE)","v":"SULL"},"2013-03",{"$f":"VLOOKUP($Q726,Stores!$A:$D,4,FALSE)","v":"Open"},{"$f":"VLOOKUP(Q726,Stores!$A:$C,3,FALSE)","v":"Austin, TX"},5292,0.37792894935752075]
["8502 - Indianapolis, IN - Sullivan's","",63.9,72.2,0,67.599999999999994,79.599999999999994,61.1,68.5,68.5,55.6,71.3,9.3000000000000007,0,76,108,8502,3,2013,{"$f":"VLOOKUP(Q727,Stores!$A:$B,2,FALSE)","v":"SULL"},"2013-03",{"$f":"VLOOKUP($Q727,Stores!$A:$D,4,FALSE)","v":"Open"},{"$f":"VLOOKUP(Q727,Stores!$A:$C,3,FALSE)","v":"Indianapolis, IN"},7661,1.4097376321629029]
["8504 - Houston, TX - Sullivan's","",64,60,0,64,68,60,76,60,56,80,24,0,21,25,8504,3,2013,{"$f":"VLOOKUP(Q728,Stores!$A:$B,2,FALSE)","v":"SULL"},"2013-03",{"$f":"VLOOKUP($Q728,Stores!$A:$D,4,FALSE)","v":"Closed"},{"$f":"VLOOKUP(Q728,Stores!$A:$C,3,FALSE)","v":"Houston, TX"},3496,0.71510297482837526]
["8510 - Wilmington, DE - Sullivan's","",62.7,76.099999999999994,0,73.099999999999994,79.099999999999994,67.2,76.099999999999994,68.7,46.3,71.599999999999994,7.5,0,51,67,8510,3,2013,{"$f":"VLOOKUP(Q729,Stores!$A:$B,2,FALSE)","v":"SULL"},"2013-03",{"$f":"VLOOKUP($Q729,Stores!$A:$D,4,FALSE)","v":"Open"},{"$f":"VLOOKUP(Q729,Stores!$A:$C,3,FALSE)","v":"Wilmington, DE"},5171,1.2956874879133629]
["8522 - King of Prussia, PA - Sullivan's","",67.400000000000006,66.3,0,75.8,81.099999999999994,66.3,70.5,57.9,41.1,65.3,16.8,5,65,95,8522,3,2013,{"$f":"VLOOKUP(Q730,Stores!$A:$B,2,FALSE)","v":"SULL"},"2013-03",{"$f":"VLOOKUP($Q730,Stores!$A:$D,4,FALSE)","v":"Open"},{"$f":"VLOOKUP(Q730,Stores!$A:$C,3,FALSE)","v":"King of Prussia, PA"},7054,1.3467536149702295]
["8525 - Tucson, AZ - Sullivan's","",88.9,86.1,0,91.7,88.9,91.7,86.1,83.3,75,86.1,2.8,0,31,36,8525,3,2013,{"$f":"VLOOKUP(Q731,Stores!$A:$B,2,FALSE)","v":"SULL"},"2013-03",{"$f":"VLOOKUP($Q731,Stores!$A:$D,4,FALSE)","v":"Open"},{"$f":"VLOOKUP(Q731,Stores!$A:$C,3,FALSE)","v":"Tucson, AZ"},3657,0.98441345365053323]
["8532 - Omaha, NE - Sullivan's","",65.2,69.599999999999994,0,82.6,78.3,73.900000000000006,69.599999999999994,78.3,39.1,56.5,13,0,15,23,8532,3,2013,{"$f":"VLOOKUP(Q732,Stores!$A:$B,2,FALSE)","v":"SULL"},"2013-03",{"$f":"VLOOKUP($Q732,Stores!$A:$D,4,FALSE)","v":"Open"},{"$f":"VLOOKUP(Q732,Stores!$A:$C,3,FALSE)","v":"Omaha, NE"},3986,0.57701956848971403]
["8535 - Baltimore, MD - Sullivan's","",82.8,79.3,0,89.7,89.7,82.8,79.3,82.8,55.2,82.8,3.4,0,24,29,8535,3,2013,{"$f":"VLOOKUP(Q733,Stores!$A:$B,2,FALSE)","v":"SULL"},"2013-03",{"$f":"VLOOKUP($Q733,Stores!$A:$D,4,FALSE)","v":"Open"},{"$f":"VLOOKUP(Q733,Stores!$A:$C,3,FALSE)","v":"Baltimore, MD"},4783,0.60631402885218488]
["8536 - Leawood, KS - Sullivan's","",93,91.2,0,97.4,99.1,90.4,92.1,94.7,83.3,85.1,0,0,93,114,8536,3,2013,{"$f":"VLOOKUP(Q734,Stores!$A:$B,2,FALSE)","v":"SULL"},"2013-03",{"$f":"VLOOKUP($Q734,Stores!$A:$D,4,FALSE)","v":"Open"},{"$f":"VLOOKUP(Q734,Stores!$A:$C,3,FALSE)","v":"Leawood, KS"},4107,2.7757487216946677]
["8541 - Chicago, IL - Sullivan's","",90.9,81.8,0,100,100,90.9,81.8,90.9,81.8,81.8,0,0,7,11,8541,3,2013,{"$f":"VLOOKUP(Q735,Stores!$A:$B,2,FALSE)","v":"SULL"},"2013-03",{"$f":"VLOOKUP($Q735,Stores!$A:$D,4,FALSE)","v":"Open"},{"$f":"VLOOKUP(Q735,Stores!$A:$C,3,FALSE)","v":"Chicago, IL"},3102,0.3546099290780142]
["8542 - Naperville, IL - Sullivan's","",82.1,74.599999999999994,0,80.599999999999994,83.6,74.599999999999994,82.1,71.599999999999994,62.7,61.2,7.5,0,49,67,8542,3,2013,{"$f":"VLOOKUP(Q736,Stores!$A:$B,2,FALSE)","v":"SULL"},"2013-03",{"$f":"VLOOKUP($Q736,Stores!$A:$D,4,FALSE)","v":"Open"},{"$f":"VLOOKUP(Q736,Stores!$A:$C,3,FALSE)","v":"Naperville, IL"},6415,1.044427123928293]
["8543 - Lincolnshire, IL - Sullivan's","",65.2,73.900000000000006,0,69.599999999999994,69.599999999999994,69.599999999999994,69.599999999999994,82.6,47.8,82.6,21.7,0,15,23,8543,3,2013,{"$f":"VLOOKUP(Q737,Stores!$A:$B,2,FALSE)","v":"SULL"},"2013-03",{"$f":"VLOOKUP($Q737,Stores!$A:$D,4,FALSE)","v":"Open"},{"$f":"VLOOKUP(Q737,Stores!$A:$C,3,FALSE)","v":"Lincolnshire, IL"},3972,0.57905337361530718]
["8551 - Baton Rouge, LA - Sullivan's","",83.9,87.1,0,88.2,91.4,87.1,81.7,89.2,73.099999999999994,93.5,5.4,2,60,93,8551,3,2013,{"$f":"VLOOKUP(Q738,Stores!$A:$B,2,FALSE)","v":"SULL"},"2013-03",{"$f":"VLOOKUP($Q738,Stores!$A:$D,4,FALSE)","v":"Open"},{"$f":"VLOOKUP(Q738,Stores!$A:$C,3,FALSE)","v":"Baton Rouge, LA"},4726,1.9678374947101143]
["8561 - Raleigh, NC - Sullivan's","",70.599999999999994,72.099999999999994,0,70.599999999999994,85.3,63.2,69.099999999999994,70.599999999999994,51.5,63.2,14.7,1,52,68,8561,3,2013,{"$f":"VLOOKUP(Q739,Stores!$A:$B,2,FALSE)","v":"SULL"},"2013-03",{"$f":"VLOOKUP($Q739,Stores!$A:$D,4,FALSE)","v":"Open"},{"$f":"VLOOKUP(Q739,Stores!$A:$C,3,FALSE)","v":"Raleigh, NC"},5777,1.1770815302059892]
["8562 - Charlotte, NC - Sullivan's","",66.7,63.6,0,78.8,84.8,72.7,72.7,57.6,45.5,54.5,15.2,1,25,33,8562,3,2013,{"$f":"VLOOKUP(Q740,Stores!$A:$B,2,FALSE)","v":"SULL"},"2013-03",{"$f":"VLOOKUP($Q740,Stores!$A:$D,4,FALSE)","v":"Open"},{"$f":"VLOOKUP(Q740,Stores!$A:$C,3,FALSE)","v":"Charlotte, NC"},5056,0.65268987341772144]
["8570 - Palm Desert, CA - Sullivan's","",72.3,72.3,0,76.599999999999994,80.900000000000006,68.099999999999994,72.3,66,53.2,72.3,8.5,2,39,47,8570,3,2013,{"$f":"VLOOKUP(Q741,Stores!$A:$B,2,FALSE)","v":"SULL"},"2013-03",{"$f":"VLOOKUP($Q741,Stores!$A:$D,4,FALSE)","v":"Open"},{"$f":"VLOOKUP(Q741,Stores!$A:$C,3,FALSE)","v":"Palm Desert, CA"},6976,0.67373853211009171]
["8591 - Anchorage, AK - Sullivan's","",93,90,0,90,96,90,92,93,80,74,1,0,87,100,8591,3,2013,{"$f":"VLOOKUP(Q742,Stores!$A:$B,2,FALSE)","v":"SULL"},"2013-03",{"$f":"VLOOKUP($Q742,Stores!$A:$D,4,FALSE)","v":"Open"},{"$f":"VLOOKUP(Q742,Stores!$A:$C,3,FALSE)","v":"Anchorage, AK"},6053,1.6520733520568314]
["8592 - Seattle, WA - Sullivan's","",67.900000000000006,78.599999999999994,0,75,82.1,78.599999999999994,75,75,50,71.400000000000006,3.6,0,18,28,8592,3,2013,{"$f":"VLOOKUP(Q743,Stores!$A:$B,2,FALSE)","v":"SULL"},"2013-03",{"$f":"VLOOKUP($Q743,Stores!$A:$D,4,FALSE)","v":"Closed"},{"$f":"VLOOKUP(Q743,Stores!$A:$C,3,FALSE)","v":"Seattle, WA"},5432,0.51546391752577314]
["8601 - Dallas, TX - Del Frisco's","",71.7,75,0,81.7,90,80,76.7,68.3,58.3,91.7,5,1,49,60,8601,3,2013,{"$f":"VLOOKUP(Q744,Stores!$A:$B,2,FALSE)","v":"DFDE"},"2013-03",{"$f":"VLOOKUP($Q744,Stores!$A:$D,4,FALSE)","v":"Closed"},{"$f":"VLOOKUP(Q744,Stores!$A:$C,3,FALSE)","v":"Dallas, TX"},5189,1.1562921564848718]
["8602 - Fort Worth, TX - Del Frisco's","",77.5,84.8,0,87,91.3,81.2,81.2,84.8,58.7,68.099999999999994,7.2,0,94,138,8602,3,2013,{"$f":"VLOOKUP(Q745,Stores!$A:$B,2,FALSE)","v":"DFDE"},"2013-03",{"$f":"VLOOKUP($Q745,Stores!$A:$D,4,FALSE)","v":"Open"},{"$f":"VLOOKUP(Q745,Stores!$A:$C,3,FALSE)","v":"Fort Worth, TX"},6996,1.972555746140652]
["8603 - Denver, CO - Del Frisco's","",75.7,80.3,0,80.7,85.8,71.099999999999994,77.099999999999994,72,58.7,57.8,9.1999999999999993,0,157,218,8603,3,2013,{"$f":"VLOOKUP(Q746,Stores!$A:$B,2,FALSE)","v":"DFDE"},"2013-03",{"$f":"VLOOKUP($Q746,Stores!$A:$D,4,FALSE)","v":"Open"},{"$f":"VLOOKUP(Q746,Stores!$A:$C,3,FALSE)","v":"Denver, CO"},12937,1.6850892788127076]
["8604 - Charlotte, NC - Del Frisco's","",72.7,72.7,0,75.3,75.3,75.3,75.3,71.400000000000006,49.4,63.6,11.7,0,55,77,8604,3,2013,{"$f":"VLOOKUP(Q747,Stores!$A:$B,2,FALSE)","v":"DFDE"},"2013-03",{"$f":"VLOOKUP($Q747,Stores!$A:$D,4,FALSE)","v":"Open"},{"$f":"VLOOKUP(Q747,Stores!$A:$C,3,FALSE)","v":"Charlotte, NC"},5435,1.4167433302667893]
["8605 - Houston, TX - Del Frisco's","",62.3,73.599999999999994,0,69.8,79.2,75.5,77.400000000000006,83,50.9,64.2,5.7,0,32,53,8605,3,2013,{"$f":"VLOOKUP(Q748,Stores!$A:$B,2,FALSE)","v":"DFDE"},"2013-03",{"$f":"VLOOKUP($Q748,Stores!$A:$D,4,FALSE)","v":"Open"},{"$f":"VLOOKUP(Q748,Stores!$A:$C,3,FALSE)","v":"Houston, TX"},7121,0.74427748911669711]
["8615 - Orlando, FL - Del Frisco’s","",60.7,66.099999999999994,0,76.8,82.1,60.7,69.599999999999994,75,42.9,73.2,8.9,0,38,56,8615,3,2013,{"$f":"VLOOKUP(Q749,Stores!$A:$B,2,FALSE)","v":"DFDE"},"2013-03",{"$f":"VLOOKUP($Q749,Stores!$A:$D,4,FALSE)","v":"Open"},{"$f":"VLOOKUP(Q749,Stores!$A:$C,3,FALSE)","v":"Orlando, FL"},5573,1.0048447873676656]
["8620 - New York City, NY - Del Frisco's","",76.5,80.2,0,80.900000000000006,87.7,76.5,79,75.3,43.8,48.8,6.8,0,108,162,8620,3,2013,{"$f":"VLOOKUP(Q750,Stores!$A:$B,2,FALSE)","v":"DFDE"},"2013-03",{"$f":"VLOOKUP($Q750,Stores!$A:$D,4,FALSE)","v":"Open"},{"$f":"VLOOKUP(Q750,Stores!$A:$C,3,FALSE)","v":"New York City, NY"},22555,0.71824429173132343]
["8635 - Boston, MA - Del Frisco's","",74.400000000000006,78.2,0,84.2,89.5,75.900000000000006,83.5,85,48.9,65.400000000000006,11.3,0,92,133,8635,3,2013,{"$f":"VLOOKUP(Q751,Stores!$A:$B,2,FALSE)","v":"DFDE"},"2013-03",{"$f":"VLOOKUP($Q751,Stores!$A:$D,4,FALSE)","v":"Open"},{"$f":"VLOOKUP(Q751,Stores!$A:$C,3,FALSE)","v":"Boston, MA"},11337,1.1731498632795272]
["8640 - Las Vegas, NV - Del Frisco's","",79.7,85.1,0,79.7,89.2,78.400000000000006,82.4,78.400000000000006,58.1,77,4.0999999999999996,0,49,74,8640,3,2013,{"$f":"VLOOKUP(Q752,Stores!$A:$B,2,FALSE)","v":"DFDE"},"2013-03",{"$f":"VLOOKUP($Q752,Stores!$A:$D,4,FALSE)","v":"Open"},{"$f":"VLOOKUP(Q752,Stores!$A:$C,3,FALSE)","v":"Las Vegas, NV"},6882,1.0752688172043012]
["8650 - Chicago, IL - Del Frisco's","",65.7,74.3,0,77.099999999999994,85.7,71.400000000000006,71.400000000000006,77.099999999999994,51.4,77.099999999999994,11.4,2,25,35,8650,3,2013,{"$f":"VLOOKUP(Q753,Stores!$A:$B,2,FALSE)","v":"DFDE"},"2013-03",{"$f":"VLOOKUP($Q753,Stores!$A:$D,4,FALSE)","v":"Open"},{"$f":"VLOOKUP(Q753,Stores!$A:$C,3,FALSE)","v":"Chicago, IL"},4203,0.83273852010468707]
["8655 - Washington, DC -  Del Frisco's","",73.3,76,0,78.7,89.3,74.7,77.3,76,49.3,60,5.3,0,60,75,8655,3,2013,{"$f":"VLOOKUP(Q754,Stores!$A:$B,2,FALSE)","v":"DFDE"},"2013-03",{"$f":"VLOOKUP($Q754,Stores!$A:$D,4,FALSE)","v":"Open"},{"$f":"VLOOKUP(Q754,Stores!$A:$C,3,FALSE)","v":"Washington, DC"},10574,0.70928693020616607]
["8680 - Philadelphia, PA - Del Frisco's","",74,76,0,79.5,82.2,71.900000000000006,85.6,80.099999999999994,52.1,69.900000000000006,11,1,105,146,8680,3,2013,{"$f":"VLOOKUP(Q755,Stores!$A:$B,2,FALSE)","v":"DFDE"},"2013-03",{"$f":"VLOOKUP($Q755,Stores!$A:$D,4,FALSE)","v":"Open"},{"$f":"VLOOKUP(Q755,Stores!$A:$C,3,FALSE)","v":"Philadelphia, PA"},14320,1.0195530726256985]
["8701 - New York City, NY - Grille","",48,52,0,52,64,64,52,56,40,56,20,0,14,25,8701,3,2013,{"$f":"VLOOKUP(Q756,Stores!$A:$B,2,FALSE)","v":"DFG"},"2013-03",{"$f":"VLOOKUP($Q756,Stores!$A:$D,4,FALSE)","v":"Open"},{"$f":"VLOOKUP(Q756,Stores!$A:$C,3,FALSE)","v":"New York City, NY"},11528,0.21686328938237334]
["8702 - Dallas, TX - Grille","",72.400000000000006,75.900000000000006,0,72.400000000000006,75.900000000000006,69,72.400000000000006,79.3,51.7,69,10.3,0,20,29,8702,3,2013,{"$f":"VLOOKUP(Q757,Stores!$A:$B,2,FALSE)","v":"DFG"},"2013-03",{"$f":"VLOOKUP($Q757,Stores!$A:$D,4,FALSE)","v":"Open"},{"$f":"VLOOKUP(Q757,Stores!$A:$C,3,FALSE)","v":"Dallas, TX"},8165,0.35517452541334965]
["8703 - Washington, DC - Grille","",61.5,53.8,0,69.2,76.900000000000006,76.900000000000006,69.2,76.900000000000006,69.2,30.8,23.1,0,11,13,8703,3,2013,{"$f":"VLOOKUP(Q758,Stores!$A:$B,2,FALSE)","v":"DFG"},"2013-03",{"$f":"VLOOKUP($Q758,Stores!$A:$D,4,FALSE)","v":"Open"},{"$f":"VLOOKUP(Q758,Stores!$A:$C,3,FALSE)","v":"Washington, DC"},6821,0.19058789033866003]
["8706 - Atlanta, GA - Grille","",68.099999999999994,78.7,0,70.2,74.5,66,74.5,76.599999999999994,59.6,61.7,8.5,0,26,47,8706,3,2013,{"$f":"VLOOKUP(Q759,Stores!$A:$B,2,FALSE)","v":"DFG"},"2013-03",{"$f":"VLOOKUP($Q759,Stores!$A:$D,4,FALSE)","v":"Open"},{"$f":"VLOOKUP(Q759,Stores!$A:$C,3,FALSE)","v":"Atlanta, GA"},9651,0.48699616620039371]
["8707 - River Oaks, TX - Grille","",86.8,92.6,0,89.7,91.2,88.2,92.6,91.2,79.400000000000006,52.9,1.5,1,48,68,8707,3,2013,{"$f":"VLOOKUP(Q760,Stores!$A:$B,2,FALSE)","v":"DFG"},"2013-03",{"$f":"VLOOKUP($Q760,Stores!$A:$D,4,FALSE)","v":"Open"},{"$f":"VLOOKUP(Q760,Stores!$A:$C,3,FALSE)","v":"Houston, TX"},6447,1.0547541492166899]
["8708 - Chestnut Hill, MA - Grille","",53.3,57.8,0,60,66.7,55.6,53.3,55.6,35.6,35.6,6.7,0,30,45,8708,3,2013,{"$f":"VLOOKUP(Q761,Stores!$A:$B,2,FALSE)","v":"DFG"},"2013-03",{"$f":"VLOOKUP($Q761,Stores!$A:$D,4,FALSE)","v":"Open"},{"$f":"VLOOKUP(Q761,Stores!$A:$C,3,FALSE)","v":"Chestnut Hill, MA"},6509,0.69135043785527728]
["8709 - Santa Monica, CA - Grille","",87.5,87.5,0,87.5,87.5,81.3,81.3,93.8,68.8,75,6.3,0,10,16,8709,3,2013,{"$f":"VLOOKUP(Q762,Stores!$A:$B,2,FALSE)","v":"DFG"},"2013-03",{"$f":"VLOOKUP($Q762,Stores!$A:$D,4,FALSE)","v":"Open"},{"$f":"VLOOKUP(Q762,Stores!$A:$C,3,FALSE)","v":"Santa Monica, CA"},11549,0.13854013334487836]
["8710 - Fort Worth, TX - Grille","",55.9,71.2,0,69.5,71.2,62.7,66.099999999999994,64.400000000000006,40.700000000000003,76.3,10.199999999999999,0,39,59,8710,3,2013,{"$f":"VLOOKUP(Q763,Stores!$A:$B,2,FALSE)","v":"DFG"},"2013-03",{"$f":"VLOOKUP($Q763,Stores!$A:$D,4,FALSE)","v":"Open"},{"$f":"VLOOKUP(Q763,Stores!$A:$C,3,FALSE)","v":"Fort Worth, TX"},11517,0.51228618563862116]
["8711 – Cherry Creek, CO - Grille","",69.599999999999994,70.400000000000006,0,80,82.4,74.400000000000006,74.400000000000006,75.2,60,60.8,9.6,0,84,125,8711,3,2013,{"$f":"VLOOKUP(Q764,Stores!$A:$B,2,FALSE)","v":"DFG"},"2013-03",{"$f":"VLOOKUP($Q764,Stores!$A:$D,4,FALSE)","v":"Open"},{"$f":"VLOOKUP(Q764,Stores!$A:$C,3,FALSE)","v":"Cherry Creek, CO"},7848,1.5927624872579]
["8712 - Southlake, TX - Grille","",86.2,81,0,90.5,92.2,81,81,81,62.1,75.900000000000006,3.4,0,82,116,8712,3,2013,{"$f":"VLOOKUP(Q765,Stores!$A:$B,2,FALSE)","v":"DFG"},"2013-03",{"$f":"VLOOKUP($Q765,Stores!$A:$D,4,FALSE)","v":"Open"},{"$f":"VLOOKUP(Q765,Stores!$A:$C,3,FALSE)","v":"Southlake, TX"},11986,0.96779576172200898]
["8713 - Burlington, MA - Grille",41794,51.5,69.7,0,72.7,72.7,60.6,51.5,42.4,39.4,39.4,12.1,0,24,33,8713,3,2013,{"$f":"VLOOKUP(Q766,Stores!$A:$B,2,FALSE)","v":"DFG"},"2013-03",{"$f":"VLOOKUP($Q766,Stores!$A:$D,4,FALSE)","v":"Open"},{"$f":"VLOOKUP(Q766,Stores!$A:$C,3,FALSE)","v":"Burlington, MA"},7871,0.41926057680091477]
["8714 - N Bethesda, MD - Grille",41908,66.7,70,0,76.7,86.7,80,73.3,63.3,56.7,76.7,6.7,1,22,30,8714,3,2013,{"$f":"VLOOKUP(Q767,Stores!$A:$B,2,FALSE)","v":"DFG"},"2013-03",{"$f":"VLOOKUP($Q767,Stores!$A:$D,4,FALSE)","v":"Open"},{"$f":"VLOOKUP(Q767,Stores!$A:$C,3,FALSE)","v":"N. Bethesda, MD"},5229,0.57372346528973039]
["8715 - Irvine, CA - Grille","",77.599999999999994,75.5,0,85.7,89.8,75.5,79.599999999999994,79.599999999999994,59.2,69.400000000000006,10.199999999999999,0,32,49,8715,3,2013,{"$f":"VLOOKUP(Q768,Stores!$A:$B,2,FALSE)","v":"DFG"},"2013-03",{"$f":"VLOOKUP($Q768,Stores!$A:$D,4,FALSE)","v":"Open"},{"$f":"VLOOKUP(Q768,Stores!$A:$C,3,FALSE)","v":"Irvine, CA"},7634,0.64186533927167932]
["8716 - Tampa, FL - Grille","",71.2,75,0,75,84.6,73.099999999999994,76.900000000000006,75,55.8,51.9,11.5,0,28,52,8716,3,2013,{"$f":"VLOOKUP(Q769,Stores!$A:$B,2,FALSE)","v":"DFG"},"2013-03",{"$f":"VLOOKUP($Q769,Stores!$A:$D,4,FALSE)","v":"Open"},{"$f":"VLOOKUP(Q769,Stores!$A:$C,3,FALSE)","v":"Tampa, FL"},8115,0.64078866296980896]
["8717 - Pasadena, CA - Grille",41992,60.9,60.9,0,65.2,69.599999999999994,65.2,60.9,69.599999999999994,47.8,65.2,13,2,16,23,8717,3,2013,{"$f":"VLOOKUP(Q770,Stores!$A:$B,2,FALSE)","v":"DFG"},"2013-03",{"$f":"VLOOKUP($Q770,Stores!$A:$D,4,FALSE)","v":"Open"},{"$f":"VLOOKUP(Q770,Stores!$A:$C,3,FALSE)","v":"Pasadena, CA"},4370,0.52631578947368418]
["8718 -Woodlands, TX - Grille","",89.2,88.5,0,90.6,93.5,89.2,86.3,96.4,73.400000000000006,59.7,0.7,0,103,139,{"$f":"MID(A771,1,4)*1","v":8718},3,2013,{"$f":"VLOOKUP(Q771,Stores!$A:$B,2,FALSE)","v":"DFG"},{"$f":"S771&\"-\"&REPT(\"0\",2-LEN(R771))&R771","v":"2013-03"},{"$f":"VLOOKUP($Q771,Stores!$A:$D,4,FALSE)","v":"Open"},{"$f":"VLOOKUP(Q771,Stores!$A:$C,3,FALSE)","v":"Woodlands, TX"},8858,{"$f":"P771/(X771/100)","v":1.5692029803567398}]
["8720 - Little Rock, AR - Grille","",84.5,87.9,0,91.4,94.8,87.9,87.9,87.9,63.8,87.9,6.9,0,46,58,8720,3,2013,{"$f":"VLOOKUP(Q772,Stores!$A:$B,2,FALSE)","v":"DFG"},"2013-03",{"$f":"VLOOKUP($Q772,Stores!$A:$D,4,FALSE)","v":"Open"},{"$f":"VLOOKUP(Q772,Stores!$A:$C,3,FALSE)","v":"Little Rock, AR"},6131,0.94601206980916652]
["8721 - Plano, TX - Grille","",74.5,80.400000000000006,0,88.2,84.3,70.599999999999994,70.599999999999994,76.5,54.9,76.5,9.8000000000000007,0,35,51,8721,3,2013,{"$f":"VLOOKUP(Q773,Stores!$A:$B,2,FALSE)","v":"DFG"},"2013-03",{"$f":"VLOOKUP($Q773,Stores!$A:$D,4,FALSE)","v":"Open"},{"$f":"VLOOKUP(Q773,Stores!$A:$C,3,FALSE)","v":"Plano, TX"},8643,0.59007289135716756]
["8722 – Stamford, CT - Grille","",53.8,61.5,0,73.099999999999994,69.2,38.5,57.7,61.5,30.8,92.3,15.4,1,21,26,8722,3,2013,{"$f":"VLOOKUP(Q774,Stores!$A:$B,2,FALSE)","v":"DFG"},"2013-03",{"$f":"VLOOKUP($Q774,Stores!$A:$D,4,FALSE)","v":"Open"},{"$f":"VLOOKUP(Q774,Stores!$A:$C,3,FALSE)","v":"Stamford, CT"},6475,0.40154440154440152]
["8723 – Hoboken, NJ - Grille","",85.5,87.1,0,87.1,88.7,87.1,88.7,85.5,74.2,71,3.2,0,50,62,8723,3,2013,{"$f":"VLOOKUP(Q775,Stores!$A:$B,2,FALSE)","v":"DFG"},"2013-03",{"$f":"VLOOKUP($Q775,Stores!$A:$D,4,FALSE)","v":"Open"},{"$f":"VLOOKUP(Q775,Stores!$A:$C,3,FALSE)","v":"Hoboken, NJ"},9148,0.67774376912986445]
["8501 - Austin, TX - Sullivan's","",76.900000000000006,80.8,0,84.6,92.3,76.900000000000006,73.099999999999994,76.900000000000006,53.8,84.6,7.7,0,19,26,8501,4,2013,{"$f":"VLOOKUP(Q776,Stores!$A:$B,2,FALSE)","v":"SULL"},"2013-04",{"$f":"VLOOKUP($Q776,Stores!$A:$D,4,FALSE)","v":"Open"},{"$f":"VLOOKUP(Q776,Stores!$A:$C,3,FALSE)","v":"Austin, TX"},5543,0.46906007577124303]
["8502 - Indianapolis, IN - Sullivan's","",71.900000000000006,71.099999999999994,0,83.3,86.8,73.7,73.7,73.7,49.1,69.3,11.4,0,85,114,8502,4,2013,{"$f":"VLOOKUP(Q777,Stores!$A:$B,2,FALSE)","v":"SULL"},"2013-04",{"$f":"VLOOKUP($Q777,Stores!$A:$D,4,FALSE)","v":"Open"},{"$f":"VLOOKUP(Q777,Stores!$A:$C,3,FALSE)","v":"Indianapolis, IN"},5829,1.9557385486361296]
["8504 - Houston, TX - Sullivan's","",76.900000000000006,82.1,0,89.7,94.9,89.7,82.1,82.1,61.5,89.7,5.0999999999999996,0,26,39,8504,4,2013,{"$f":"VLOOKUP(Q778,Stores!$A:$B,2,FALSE)","v":"SULL"},"2013-04",{"$f":"VLOOKUP($Q778,Stores!$A:$D,4,FALSE)","v":"Closed"},{"$f":"VLOOKUP(Q778,Stores!$A:$C,3,FALSE)","v":"Houston, TX"},3788,1.0295670538542765]
["8510 - Wilmington, DE - Sullivan's","",63.3,68.900000000000006,0,78.900000000000006,82.2,72.2,73.3,67.8,40,78.900000000000006,7.8,0,65,90,8510,4,2013,{"$f":"VLOOKUP(Q779,Stores!$A:$B,2,FALSE)","v":"SULL"},"2013-04",{"$f":"VLOOKUP($Q779,Stores!$A:$D,4,FALSE)","v":"Open"},{"$f":"VLOOKUP(Q779,Stores!$A:$C,3,FALSE)","v":"Wilmington, DE"},5062,1.7779533781114185]
["8522 - King of Prussia, PA - Sullivan's","",62.3,63.6,0,77.900000000000006,83.1,66.2,64.900000000000006,57.1,40.299999999999997,74,14.3,2,61,77,8522,4,2013,{"$f":"VLOOKUP(Q780,Stores!$A:$B,2,FALSE)","v":"SULL"},"2013-04",{"$f":"VLOOKUP($Q780,Stores!$A:$D,4,FALSE)","v":"Open"},{"$f":"VLOOKUP(Q780,Stores!$A:$C,3,FALSE)","v":"King of Prussia, PA"},6369,1.2089810017271159]
["8525 - Tucson, AZ - Sullivan's","",84.9,82.2,0,89,95.9,86.3,87.7,83.6,74,72.599999999999994,2.7,0,60,73,8525,4,2013,{"$f":"VLOOKUP(Q781,Stores!$A:$B,2,FALSE)","v":"SULL"},"2013-04",{"$f":"VLOOKUP($Q781,Stores!$A:$D,4,FALSE)","v":"Open"},{"$f":"VLOOKUP(Q781,Stores!$A:$C,3,FALSE)","v":"Tucson, AZ"},4272,1.7088014981273409]
["8532 - Omaha, NE - Sullivan's","",77.8,77.8,0,85.2,88.9,81.5,81.5,81.5,40.700000000000003,63,3.7,0,16,27,8532,4,2013,{"$f":"VLOOKUP(Q782,Stores!$A:$B,2,FALSE)","v":"SULL"},"2013-04",{"$f":"VLOOKUP($Q782,Stores!$A:$D,4,FALSE)","v":"Open"},{"$f":"VLOOKUP(Q782,Stores!$A:$C,3,FALSE)","v":"Omaha, NE"},3924,0.68807339449541283]
["8535 - Baltimore, MD - Sullivan's","",81.3,87.5,0,81.3,87.5,75,75,81.3,62.5,56.3,0,0,11,16,8535,4,2013,{"$f":"VLOOKUP(Q783,Stores!$A:$B,2,FALSE)","v":"SULL"},"2013-04",{"$f":"VLOOKUP($Q783,Stores!$A:$D,4,FALSE)","v":"Open"},{"$f":"VLOOKUP(Q783,Stores!$A:$C,3,FALSE)","v":"Baltimore, MD"},5443,0.29395553922469225]
["8536 - Leawood, KS - Sullivan's","",87.3,86.3,0,88.2,90.2,87.3,84.3,83.3,68.599999999999994,76.5,5.9,0,86,102,8536,4,2013,{"$f":"VLOOKUP(Q784,Stores!$A:$B,2,FALSE)","v":"SULL"},"2013-04",{"$f":"VLOOKUP($Q784,Stores!$A:$D,4,FALSE)","v":"Open"},{"$f":"VLOOKUP(Q784,Stores!$A:$C,3,FALSE)","v":"Leawood, KS"},4536,2.2486772486772488]
["8541 - Chicago, IL - Sullivan's","",66.7,73.3,0,86.7,80,66.7,86.7,66.7,73.3,73.3,0,0,10,15,8541,4,2013,{"$f":"VLOOKUP(Q785,Stores!$A:$B,2,FALSE)","v":"SULL"},"2013-04",{"$f":"VLOOKUP($Q785,Stores!$A:$D,4,FALSE)","v":"Open"},{"$f":"VLOOKUP(Q785,Stores!$A:$C,3,FALSE)","v":"Chicago, IL"},2700,0.55555555555555558]
["8542 - Naperville, IL - Sullivan's","",58.2,60.8,0,74.7,78.5,62,68.400000000000006,63.3,36.700000000000003,67.099999999999994,13.9,1,61,79,8542,4,2013,{"$f":"VLOOKUP(Q786,Stores!$A:$B,2,FALSE)","v":"SULL"},"2013-04",{"$f":"VLOOKUP($Q786,Stores!$A:$D,4,FALSE)","v":"Open"},{"$f":"VLOOKUP(Q786,Stores!$A:$C,3,FALSE)","v":"Naperville, IL"},6320,1.25]
["8543 - Lincolnshire, IL - Sullivan's","",66.7,75,0,70.8,77.099999999999994,68.8,75,77.099999999999994,37.5,91.7,12.5,1,31,48,8543,4,2013,{"$f":"VLOOKUP(Q787,Stores!$A:$B,2,FALSE)","v":"SULL"},"2013-04",{"$f":"VLOOKUP($Q787,Stores!$A:$D,4,FALSE)","v":"Open"},{"$f":"VLOOKUP(Q787,Stores!$A:$C,3,FALSE)","v":"Lincolnshire, IL"},3601,1.3329630658150515]
["8551 - Baton Rouge, LA - Sullivan's","",89.9,93.7,0,89.9,91.1,84.8,89.9,88.6,81,96.2,3.8,0,61,79,8551,4,2013,{"$f":"VLOOKUP(Q788,Stores!$A:$B,2,FALSE)","v":"SULL"},"2013-04",{"$f":"VLOOKUP($Q788,Stores!$A:$D,4,FALSE)","v":"Open"},{"$f":"VLOOKUP(Q788,Stores!$A:$C,3,FALSE)","v":"Baton Rouge, LA"},5180,1.5250965250965252]
["8561 - Raleigh, NC - Sullivan's","",72.099999999999994,70.3,0,81.099999999999994,85.6,73.900000000000006,77.5,73.900000000000006,52.3,45,9.9,4,70,111,8561,4,2013,{"$f":"VLOOKUP(Q789,Stores!$A:$B,2,FALSE)","v":"SULL"},"2013-04",{"$f":"VLOOKUP($Q789,Stores!$A:$D,4,FALSE)","v":"Open"},{"$f":"VLOOKUP(Q789,Stores!$A:$C,3,FALSE)","v":"Raleigh, NC"},5843,1.8997090535683725]
["8562 - Charlotte, NC - Sullivan's","",78.900000000000006,86.8,0,92.1,92.1,78.900000000000006,89.5,71.099999999999994,63.2,76.3,7.9,0,26,38,8562,4,2013,{"$f":"VLOOKUP(Q790,Stores!$A:$B,2,FALSE)","v":"SULL"},"2013-04",{"$f":"VLOOKUP($Q790,Stores!$A:$D,4,FALSE)","v":"Open"},{"$f":"VLOOKUP(Q790,Stores!$A:$C,3,FALSE)","v":"Charlotte, NC"},5052,0.75217735550277109]
["8570 - Palm Desert, CA - Sullivan's","",66.7,60.8,0,78.400000000000006,86.3,70.599999999999994,66.7,60.8,41.2,80.400000000000006,11.8,0,41,51,8570,4,2013,{"$f":"VLOOKUP(Q791,Stores!$A:$B,2,FALSE)","v":"SULL"},"2013-04",{"$f":"VLOOKUP($Q791,Stores!$A:$D,4,FALSE)","v":"Open"},{"$f":"VLOOKUP(Q791,Stores!$A:$C,3,FALSE)","v":"Palm Desert, CA"},7652,0.66649242028227917]
["8591 - Anchorage, AK - Sullivan's","",83.7,83.7,0,86.7,88.1,82.2,83.7,85.2,77,66.7,7.4,0,111,135,8591,4,2013,{"$f":"VLOOKUP(Q792,Stores!$A:$B,2,FALSE)","v":"SULL"},"2013-04",{"$f":"VLOOKUP($Q792,Stores!$A:$D,4,FALSE)","v":"Open"},{"$f":"VLOOKUP(Q792,Stores!$A:$C,3,FALSE)","v":"Anchorage, AK"},6221,2.1700691207201412]
["8592 - Seattle, WA - Sullivan's","",73,79.400000000000006,0,73,81,74.599999999999994,68.3,73,55.6,74.599999999999994,9.5,2,45,63,8592,4,2013,{"$f":"VLOOKUP(Q793,Stores!$A:$B,2,FALSE)","v":"SULL"},"2013-04",{"$f":"VLOOKUP($Q793,Stores!$A:$D,4,FALSE)","v":"Closed"},{"$f":"VLOOKUP(Q793,Stores!$A:$C,3,FALSE)","v":"Seattle, WA"},6070,1.0378912685337727]
["8601 - Dallas, TX - Del Frisco's","",73.3,76.2,0,80,89.5,81,79,73.3,60,76.2,5.7,0,79,105,8601,4,2013,{"$f":"VLOOKUP(Q794,Stores!$A:$B,2,FALSE)","v":"DFDE"},"2013-04",{"$f":"VLOOKUP($Q794,Stores!$A:$D,4,FALSE)","v":"Closed"},{"$f":"VLOOKUP(Q794,Stores!$A:$C,3,FALSE)","v":"Dallas, TX"},4827,2.175264139216905]
["8602 - Fort Worth, TX - Del Frisco's","",72.5,81.900000000000006,0,82.9,90.7,76.7,77.7,78.8,55.4,78.2,7.3,1,130,193,8602,4,2013,{"$f":"VLOOKUP(Q795,Stores!$A:$B,2,FALSE)","v":"DFDE"},"2013-04",{"$f":"VLOOKUP($Q795,Stores!$A:$D,4,FALSE)","v":"Open"},{"$f":"VLOOKUP(Q795,Stores!$A:$C,3,FALSE)","v":"Fort Worth, TX"},7399,2.6084606027841604]
["8603 - Denver, CO - Del Frisco's","",52.1,60.5,0,65.5,73.099999999999994,61.3,68.099999999999994,61.3,38.700000000000003,55.5,19.3,0,86,119,8603,4,2013,{"$f":"VLOOKUP(Q796,Stores!$A:$B,2,FALSE)","v":"DFDE"},"2013-04",{"$f":"VLOOKUP($Q796,Stores!$A:$D,4,FALSE)","v":"Open"},{"$f":"VLOOKUP(Q796,Stores!$A:$C,3,FALSE)","v":"Denver, CO"},8867,1.34205480996955]
["8604 - Charlotte, NC - Del Frisco's","",78.8,83.7,0,83.7,88.5,76.900000000000006,79.8,81.7,47.1,51.9,3.8,1,76,104,8604,4,2013,{"$f":"VLOOKUP(Q797,Stores!$A:$B,2,FALSE)","v":"DFDE"},"2013-04",{"$f":"VLOOKUP($Q797,Stores!$A:$D,4,FALSE)","v":"Open"},{"$f":"VLOOKUP(Q797,Stores!$A:$C,3,FALSE)","v":"Charlotte, NC"},5314,1.9570944674444863]
["8605 - Houston, TX - Del Frisco's","",71.400000000000006,81,0,82.5,90.5,81,74.599999999999994,82.5,58.7,73,11.1,2,42,63,8605,4,2013,{"$f":"VLOOKUP(Q798,Stores!$A:$B,2,FALSE)","v":"DFDE"},"2013-04",{"$f":"VLOOKUP($Q798,Stores!$A:$D,4,FALSE)","v":"Open"},{"$f":"VLOOKUP(Q798,Stores!$A:$C,3,FALSE)","v":"Houston, TX"},7503,0.83966413434626153]
["8615 - Orlando, FL - Del Frisco’s","",72,72,0,84,88,76,82,82,50,82,10,1,32,50,8615,4,2013,{"$f":"VLOOKUP(Q799,Stores!$A:$B,2,FALSE)","v":"DFDE"},"2013-04",{"$f":"VLOOKUP($Q799,Stores!$A:$D,4,FALSE)","v":"Open"},{"$f":"VLOOKUP(Q799,Stores!$A:$C,3,FALSE)","v":"Orlando, FL"},3472,1.4400921658986177]
["8620 - New York City, NY - Del Frisco's","",71.2,74.7,0,81.5,82.5,73.3,79.8,72.900000000000006,44.2,50,9.1999999999999993,0,203,292,8620,4,2013,{"$f":"VLOOKUP(Q800,Stores!$A:$B,2,FALSE)","v":"DFDE"},"2013-04",{"$f":"VLOOKUP($Q800,Stores!$A:$D,4,FALSE)","v":"Open"},{"$f":"VLOOKUP(Q800,Stores!$A:$C,3,FALSE)","v":"New York City, NY"},22829,1.2790748609225109]
["8635 - Boston, MA - Del Frisco's","",68.400000000000006,78.900000000000006,0,78.099999999999994,86,74.599999999999994,78.900000000000006,68.400000000000006,45.6,55.3,10.5,0,81,114,8635,4,2013,{"$f":"VLOOKUP(Q801,Stores!$A:$B,2,FALSE)","v":"DFDE"},"2013-04",{"$f":"VLOOKUP($Q801,Stores!$A:$D,4,FALSE)","v":"Open"},{"$f":"VLOOKUP(Q801,Stores!$A:$C,3,FALSE)","v":"Boston, MA"},11453,0.99537239151314061]
["8640 - Las Vegas, NV - Del Frisco's","",82.1,82.1,0,89.6,91,80.599999999999994,80.599999999999994,82.1,62.7,59.7,1.5,0,50,67,8640,4,2013,{"$f":"VLOOKUP(Q802,Stores!$A:$B,2,FALSE)","v":"DFDE"},"2013-04",{"$f":"VLOOKUP($Q802,Stores!$A:$D,4,FALSE)","v":"Open"},{"$f":"VLOOKUP(Q802,Stores!$A:$C,3,FALSE)","v":"Las Vegas, NV"},6414,1.0445899594636732]
["8650 - Chicago, IL - Del Frisco's","",77,80.3,0,75.400000000000006,83.6,78.7,80.3,85.2,57.4,82,9.8000000000000007,1,46,61,8650,4,2013,{"$f":"VLOOKUP(Q803,Stores!$A:$B,2,FALSE)","v":"DFDE"},"2013-04",{"$f":"VLOOKUP($Q803,Stores!$A:$D,4,FALSE)","v":"Open"},{"$f":"VLOOKUP(Q803,Stores!$A:$C,3,FALSE)","v":"Chicago, IL"},4507,1.3534501885955181]
["8655 - Washington, DC -  Del Frisco's","",68.400000000000006,77.599999999999994,0,75,82.9,69.7,75,75,46.1,60.5,13.2,0,55,76,8655,4,2013,{"$f":"VLOOKUP(Q804,Stores!$A:$B,2,FALSE)","v":"DFDE"},"2013-04",{"$f":"VLOOKUP($Q804,Stores!$A:$D,4,FALSE)","v":"Open"},{"$f":"VLOOKUP(Q804,Stores!$A:$C,3,FALSE)","v":"Washington, DC"},10006,0.75954427343593844]
["8680 - Philadelphia, PA - Del Frisco's","",75.400000000000006,76.599999999999994,0,80.7,86,70.8,80.099999999999994,83,47.4,62,7,4,118,171,8680,4,2013,{"$f":"VLOOKUP(Q805,Stores!$A:$B,2,FALSE)","v":"DFDE"},"2013-04",{"$f":"VLOOKUP($Q805,Stores!$A:$D,4,FALSE)","v":"Open"},{"$f":"VLOOKUP(Q805,Stores!$A:$C,3,FALSE)","v":"Philadelphia, PA"},14066,1.2156974264183138]
["8701 - New York City, NY - Grille","",71.3,77.5,0,85,86.3,73.8,76.3,70,57.5,76.3,3.8,0,59,80,8701,4,2013,{"$f":"VLOOKUP(Q806,Stores!$A:$B,2,FALSE)","v":"DFG"},"2013-04",{"$f":"VLOOKUP($Q806,Stores!$A:$D,4,FALSE)","v":"Open"},{"$f":"VLOOKUP(Q806,Stores!$A:$C,3,FALSE)","v":"New York City, NY"},11942,0.66990453860324906]
["8702 - Dallas, TX - Grille","",60.7,67.900000000000006,0,78.599999999999994,85.7,75,64.3,71.400000000000006,57.1,35.700000000000003,25,2,21,28,8702,4,2013,{"$f":"VLOOKUP(Q807,Stores!$A:$B,2,FALSE)","v":"DFG"},"2013-04",{"$f":"VLOOKUP($Q807,Stores!$A:$D,4,FALSE)","v":"Open"},{"$f":"VLOOKUP(Q807,Stores!$A:$C,3,FALSE)","v":"Dallas, TX"},7721,0.36264732547597467]
["8703 - Washington, DC - Grille","",61.1,61.1,0,63.9,69.400000000000006,69.400000000000006,63.9,66.7,52.8,41.7,11.1,0,28,36,8703,4,2013,{"$f":"VLOOKUP(Q808,Stores!$A:$B,2,FALSE)","v":"DFG"},"2013-04",{"$f":"VLOOKUP($Q808,Stores!$A:$D,4,FALSE)","v":"Open"},{"$f":"VLOOKUP(Q808,Stores!$A:$C,3,FALSE)","v":"Washington, DC"},8061,0.44659471529586903]
["8706 - Atlanta, GA - Grille","",74.400000000000006,71.8,0,76.900000000000006,76.900000000000006,74.400000000000006,82.1,74.400000000000006,56.4,43.6,17.899999999999999,0,29,39,8706,4,2013,{"$f":"VLOOKUP(Q809,Stores!$A:$B,2,FALSE)","v":"DFG"},"2013-04",{"$f":"VLOOKUP($Q809,Stores!$A:$D,4,FALSE)","v":"Open"},{"$f":"VLOOKUP(Q809,Stores!$A:$C,3,FALSE)","v":"Atlanta, GA"},10005,0.3898050974512744]
["8707 - River Oaks, TX - Grille","",79.099999999999994,76.7,0,79.099999999999994,79.099999999999994,67.400000000000006,79.099999999999994,74.400000000000006,60.5,37.200000000000003,9.3000000000000007,0,32,43,8707,4,2013,{"$f":"VLOOKUP(Q810,Stores!$A:$B,2,FALSE)","v":"DFG"},"2013-04",{"$f":"VLOOKUP($Q810,Stores!$A:$D,4,FALSE)","v":"Open"},{"$f":"VLOOKUP(Q810,Stores!$A:$C,3,FALSE)","v":"Houston, TX"},6700,0.64179104477611937]
["8708 - Chestnut Hill, MA - Grille","",60.3,66.7,0,69.8,77.8,68.3,65.099999999999994,71.400000000000006,49.2,65.099999999999994,6.3,0,43,63,8708,4,2013,{"$f":"VLOOKUP(Q811,Stores!$A:$B,2,FALSE)","v":"DFG"},"2013-04",{"$f":"VLOOKUP($Q811,Stores!$A:$D,4,FALSE)","v":"Open"},{"$f":"VLOOKUP(Q811,Stores!$A:$C,3,FALSE)","v":"Chestnut Hill, MA"},6564,0.95978062157221211]
["8709 - Santa Monica, CA - Grille","",40,40,0,50,60,40,40,30,30,70,40,0,7,10,8709,4,2013,{"$f":"VLOOKUP(Q812,Stores!$A:$B,2,FALSE)","v":"DFG"},"2013-04",{"$f":"VLOOKUP($Q812,Stores!$A:$D,4,FALSE)","v":"Open"},{"$f":"VLOOKUP(Q812,Stores!$A:$C,3,FALSE)","v":"Santa Monica, CA"},13280,7.5301204819277101E-2]
["8710 - Fort Worth, TX - Grille","",68.5,71.900000000000006,0,78.7,85.4,74.2,73,82,50.6,67.400000000000006,11.2,0,57,89,8710,4,2013,{"$f":"VLOOKUP(Q813,Stores!$A:$B,2,FALSE)","v":"DFG"},"2013-04",{"$f":"VLOOKUP($Q813,Stores!$A:$D,4,FALSE)","v":"Open"},{"$f":"VLOOKUP(Q813,Stores!$A:$C,3,FALSE)","v":"Fort Worth, TX"},12639,0.70416963367355012]
["8711 – Cherry Creek, CO - Grille","",71.400000000000006,77.599999999999994,0,82.7,85.7,75.5,74.5,73.5,61.2,69.400000000000006,5.0999999999999996,0,61,98,8711,4,2013,{"$f":"VLOOKUP(Q814,Stores!$A:$B,2,FALSE)","v":"DFG"},"2013-04",{"$f":"VLOOKUP($Q814,Stores!$A:$D,4,FALSE)","v":"Open"},{"$f":"VLOOKUP(Q814,Stores!$A:$C,3,FALSE)","v":"Cherry Creek, CO"},7500,1.3066666666666666]
["8712 - Southlake, TX - Grille","",69.099999999999994,74.5,0,82.7,84.5,75.5,66.400000000000006,70,51.8,71.8,9.1,1,69,110,8712,4,2013,{"$f":"VLOOKUP(Q815,Stores!$A:$B,2,FALSE)","v":"DFG"},"2013-04",{"$f":"VLOOKUP($Q815,Stores!$A:$D,4,FALSE)","v":"Open"},{"$f":"VLOOKUP(Q815,Stores!$A:$C,3,FALSE)","v":"Southlake, TX"},12691,0.86675596879678518]
["8713 - Burlington, MA - Grille",41794,50,48.1,0,67.3,75,61.5,50,53.8,34.6,46.2,17.3,0,39,52,8713,4,2013,{"$f":"VLOOKUP(Q816,Stores!$A:$B,2,FALSE)","v":"DFG"},"2013-04",{"$f":"VLOOKUP($Q816,Stores!$A:$D,4,FALSE)","v":"Open"},{"$f":"VLOOKUP(Q816,Stores!$A:$C,3,FALSE)","v":"Burlington, MA"},7960,0.65326633165829151]
["8714 - N Bethesda, MD - Grille",41908,70.3,78.400000000000006,0,81.099999999999994,86.5,64.900000000000006,75.7,78.400000000000006,54.1,56.8,5.4,1,30,37,8714,4,2013,{"$f":"VLOOKUP(Q817,Stores!$A:$B,2,FALSE)","v":"DFG"},"2013-04",{"$f":"VLOOKUP($Q817,Stores!$A:$D,4,FALSE)","v":"Open"},{"$f":"VLOOKUP(Q817,Stores!$A:$C,3,FALSE)","v":"N. Bethesda, MD"},5663,0.65336394137383014]
["8715 - Irvine, CA - Grille","",83.3,83.3,0,85,91.7,73.3,78.3,75,66.7,70,6.7,0,47,60,8715,4,2013,{"$f":"VLOOKUP(Q818,Stores!$A:$B,2,FALSE)","v":"DFG"},"2013-04",{"$f":"VLOOKUP($Q818,Stores!$A:$D,4,FALSE)","v":"Open"},{"$f":"VLOOKUP(Q818,Stores!$A:$C,3,FALSE)","v":"Irvine, CA"},6798,0.88261253309796994]
["8716 - Tampa, FL - Grille","",58.2,70.099999999999994,0,64.2,74.599999999999994,59.7,71.599999999999994,64.2,43.3,59.7,7.5,0,39,67,8716,4,2013,{"$f":"VLOOKUP(Q819,Stores!$A:$B,2,FALSE)","v":"DFG"},"2013-04",{"$f":"VLOOKUP($Q819,Stores!$A:$D,4,FALSE)","v":"Open"},{"$f":"VLOOKUP(Q819,Stores!$A:$C,3,FALSE)","v":"Tampa, FL"},8151,0.82198503251134825]
["8717 - Pasadena, CA - Grille",41992,79.099999999999994,81.400000000000006,0,86,97.7,81.400000000000006,79.099999999999994,83.7,55.8,72.099999999999994,2.2999999999999998,0,30,43,8717,4,2013,{"$f":"VLOOKUP(Q820,Stores!$A:$B,2,FALSE)","v":"DFG"},"2013-04",{"$f":"VLOOKUP($Q820,Stores!$A:$D,4,FALSE)","v":"Open"},{"$f":"VLOOKUP(Q820,Stores!$A:$C,3,FALSE)","v":"Pasadena, CA"},4701,0.91469900021272077]
["8718 -Woodlands, TX - Grille","",62.8,67.400000000000006,0,70.900000000000006,83.7,66.3,67.400000000000006,79.099999999999994,48.8,54.7,15.1,0,62,86,8718,4,2013,{"$f":"VLOOKUP(Q821,Stores!$A:$B,2,FALSE)","v":"DFG"},"2013-04",{"$f":"VLOOKUP($Q821,Stores!$A:$D,4,FALSE)","v":"Open"},{"$f":"VLOOKUP(Q821,Stores!$A:$C,3,FALSE)","v":"Woodlands, TX"},10248,0.83918813427010142]
["8720 - Little Rock, AR - Grille","",67.900000000000006,67.900000000000006,0,81.099999999999994,84.9,69.8,69.8,83,50.9,86.8,11.3,0,39,53,8720,4,2013,{"$f":"VLOOKUP(Q822,Stores!$A:$B,2,FALSE)","v":"DFG"},"2013-04",{"$f":"VLOOKUP($Q822,Stores!$A:$D,4,FALSE)","v":"Open"},{"$f":"VLOOKUP(Q822,Stores!$A:$C,3,FALSE)","v":"Little Rock, AR"},6224,0.85154241645244211]
["8721 - Plano, TX - Grille","",71.400000000000006,76.2,0,79.8,85.7,75,72.599999999999994,67.900000000000006,56,83.3,14.3,4,55,84,8721,4,2013,{"$f":"VLOOKUP(Q823,Stores!$A:$B,2,FALSE)","v":"DFG"},"2013-04",{"$f":"VLOOKUP($Q823,Stores!$A:$D,4,FALSE)","v":"Open"},{"$f":"VLOOKUP(Q823,Stores!$A:$C,3,FALSE)","v":"Plano, TX"},8983,0.93509963263943008]
["8722 – Stamford, CT - Grille","",46.7,55.6,0,60,66.7,62.2,66.7,62.2,40,57.8,24.4,1,32,45,8722,4,2013,{"$f":"VLOOKUP(Q824,Stores!$A:$B,2,FALSE)","v":"DFG"},"2013-04",{"$f":"VLOOKUP($Q824,Stores!$A:$D,4,FALSE)","v":"Open"},{"$f":"VLOOKUP(Q824,Stores!$A:$C,3,FALSE)","v":"Stamford, CT"},5871,0.76647930505876338]
["8723 – Hoboken, NJ - Grille","",78,82.9,0,80.5,87.8,74.400000000000006,78,72,63.4,47.6,6.1,1,64,82,8723,4,2013,{"$f":"VLOOKUP(Q825,Stores!$A:$B,2,FALSE)","v":"DFG"},"2013-04",{"$f":"VLOOKUP($Q825,Stores!$A:$D,4,FALSE)","v":"Open"},{"$f":"VLOOKUP(Q825,Stores!$A:$C,3,FALSE)","v":"Hoboken, NJ"},9974,0.82213755764988972]
["8501 - Austin, TX - Sullivan's","",62.9,65.7,0,80,88.6,74.3,62.9,68.599999999999994,57.1,77.099999999999994,11.4,0,26,35,8501,5,2013,{"$f":"VLOOKUP(Q826,Stores!$A:$B,2,FALSE)","v":"SULL"},"2013-05",{"$f":"VLOOKUP($Q826,Stores!$A:$D,4,FALSE)","v":"Open"},{"$f":"VLOOKUP(Q826,Stores!$A:$C,3,FALSE)","v":"Austin, TX"},5533,0.63256822700162663]
["8502 - Indianapolis, IN - Sullivan's","",68.3,68.3,0,76.400000000000006,82.9,69.900000000000006,74,74.8,53.7,84.6,10.6,0,96,123,8502,5,2013,{"$f":"VLOOKUP(Q827,Stores!$A:$B,2,FALSE)","v":"SULL"},"2013-05",{"$f":"VLOOKUP($Q827,Stores!$A:$D,4,FALSE)","v":"Open"},{"$f":"VLOOKUP(Q827,Stores!$A:$C,3,FALSE)","v":"Indianapolis, IN"},7403,1.6614885857084964]
["8504 - Houston, TX - Sullivan's","",74.400000000000006,83.7,0,83.7,88.4,76.7,83.7,83.7,65.099999999999994,86,11.6,0,34,43,8504,5,2013,{"$f":"VLOOKUP(Q828,Stores!$A:$B,2,FALSE)","v":"SULL"},"2013-05",{"$f":"VLOOKUP($Q828,Stores!$A:$D,4,FALSE)","v":"Closed"},{"$f":"VLOOKUP(Q828,Stores!$A:$C,3,FALSE)","v":"Houston, TX"},4634,0.92792403970651693]
["8510 - Wilmington, DE - Sullivan's","",76.099999999999994,80.7,0,83,88.6,71.599999999999994,79.5,81.8,54.5,77.3,6.8,0,58,88,8510,5,2013,{"$f":"VLOOKUP(Q829,Stores!$A:$B,2,FALSE)","v":"SULL"},"2013-05",{"$f":"VLOOKUP($Q829,Stores!$A:$D,4,FALSE)","v":"Open"},{"$f":"VLOOKUP(Q829,Stores!$A:$C,3,FALSE)","v":"Wilmington, DE"},5590,1.5742397137745976]
["8522 - King of Prussia, PA - Sullivan's","",53.8,57.7,0,61.5,68.3,54.8,62.5,57.7,45.2,64.400000000000006,22.1,1,83,104,8522,5,2013,{"$f":"VLOOKUP(Q830,Stores!$A:$B,2,FALSE)","v":"SULL"},"2013-05",{"$f":"VLOOKUP($Q830,Stores!$A:$D,4,FALSE)","v":"Open"},{"$f":"VLOOKUP(Q830,Stores!$A:$C,3,FALSE)","v":"King of Prussia, PA"},7493,1.387962097958094]
["8525 - Tucson, AZ - Sullivan's","",82.6,86,0,90.7,94.2,83.7,81.400000000000006,90.7,76.7,91.9,7,2,73,86,8525,5,2013,{"$f":"VLOOKUP(Q831,Stores!$A:$B,2,FALSE)","v":"SULL"},"2013-05",{"$f":"VLOOKUP($Q831,Stores!$A:$D,4,FALSE)","v":"Open"},{"$f":"VLOOKUP(Q831,Stores!$A:$C,3,FALSE)","v":"Tucson, AZ"},4679,1.837999572558239]
["8532 - Omaha, NE - Sullivan's","",66,68.099999999999994,0,72.3,80.900000000000006,70.2,70.2,78.7,42.6,63.8,19.100000000000001,0,29,47,8532,5,2013,{"$f":"VLOOKUP(Q832,Stores!$A:$B,2,FALSE)","v":"SULL"},"2013-05",{"$f":"VLOOKUP($Q832,Stores!$A:$D,4,FALSE)","v":"Open"},{"$f":"VLOOKUP(Q832,Stores!$A:$C,3,FALSE)","v":"Omaha, NE"},5784,0.81258644536652835]
["8535 - Baltimore, MD - Sullivan's","",61.3,71,0,71,74.2,58.1,67.7,64.5,51.6,74.2,12.9,0,26,31,8535,5,2013,{"$f":"VLOOKUP(Q833,Stores!$A:$B,2,FALSE)","v":"SULL"},"2013-05",{"$f":"VLOOKUP($Q833,Stores!$A:$D,4,FALSE)","v":"Open"},{"$f":"VLOOKUP(Q833,Stores!$A:$C,3,FALSE)","v":"Baltimore, MD"},5780,0.53633217993079585]
["8536 - Leawood, KS - Sullivan's","",68.099999999999994,70.8,0,73.599999999999994,81.900000000000006,75,72.2,77.8,58.3,58.3,15.3,0,59,72,8536,5,2013,{"$f":"VLOOKUP(Q834,Stores!$A:$B,2,FALSE)","v":"SULL"},"2013-05",{"$f":"VLOOKUP($Q834,Stores!$A:$D,4,FALSE)","v":"Open"},{"$f":"VLOOKUP(Q834,Stores!$A:$C,3,FALSE)","v":"Leawood, KS"},4927,1.4613354982748121]
["8541 - Chicago, IL - Sullivan's","",80,76.7,0,86.7,86.7,80,73.3,73.3,70,73.3,3.3,0,22,30,{"$f":"MID(A835,1,4)*1","v":8541},5,2013,{"$f":"VLOOKUP(Q835,Stores!$A:$B,2,FALSE)","v":"SULL"},{"$f":"S835&\"-\"&REPT(\"0\",2-LEN(R835))&R835","v":"2013-05"},{"$f":"VLOOKUP($Q835,Stores!$A:$D,4,FALSE)","v":"Open"},{"$f":"VLOOKUP(Q835,Stores!$A:$C,3,FALSE)","v":"Chicago, IL"},2853,{"$f":"P835/(X835/100)","v":1.0515247108307044}]
["8542 - Naperville, IL - Sullivan's","",63.6,66.400000000000006,0,81.8,86.4,79.099999999999994,70.900000000000006,65.5,37.299999999999997,81.8,11.8,0,75,110,8542,5,2013,{"$f":"VLOOKUP(Q836,Stores!$A:$B,2,FALSE)","v":"SULL"},"2013-05",{"$f":"VLOOKUP($Q836,Stores!$A:$D,4,FALSE)","v":"Open"},{"$f":"VLOOKUP(Q836,Stores!$A:$C,3,FALSE)","v":"Naperville, IL"},6423,1.712595360423478]
["8543 - Lincolnshire, IL - Sullivan's","",61.1,58.3,0,69.400000000000006,80.599999999999994,55.6,66.7,58.3,50,80.599999999999994,11.1,2,26,36,8543,5,2013,{"$f":"VLOOKUP(Q837,Stores!$A:$B,2,FALSE)","v":"SULL"},"2013-05",{"$f":"VLOOKUP($Q837,Stores!$A:$D,4,FALSE)","v":"Open"},{"$f":"VLOOKUP(Q837,Stores!$A:$C,3,FALSE)","v":"Lincolnshire, IL"},4504,0.79928952042628776]
["8551 - Baton Rouge, LA - Sullivan's","",87.6,85.6,0,91.8,93.8,83.5,87.6,87.6,78.400000000000006,89.7,2.1,1,67,97,8551,5,2013,{"$f":"VLOOKUP(Q838,Stores!$A:$B,2,FALSE)","v":"SULL"},"2013-05",{"$f":"VLOOKUP($Q838,Stores!$A:$D,4,FALSE)","v":"Open"},{"$f":"VLOOKUP(Q838,Stores!$A:$C,3,FALSE)","v":"Baton Rouge, LA"},6697,1.4484097357025534]
["8561 - Raleigh, NC - Sullivan's","",64,62.3,0,77.2,81.599999999999994,65.8,68.400000000000006,70.2,37.700000000000003,50.9,16.7,6,84,114,8561,5,2013,{"$f":"VLOOKUP(Q839,Stores!$A:$B,2,FALSE)","v":"SULL"},"2013-05",{"$f":"VLOOKUP($Q839,Stores!$A:$D,4,FALSE)","v":"Open"},{"$f":"VLOOKUP(Q839,Stores!$A:$C,3,FALSE)","v":"Raleigh, NC"},6754,1.6878886585726975]
["8562 - Charlotte, NC - Sullivan's","",76.400000000000006,76.400000000000006,0,81.8,89.1,80,78.2,80,52.7,81.8,7.3,1,42,55,8562,5,2013,{"$f":"VLOOKUP(Q840,Stores!$A:$B,2,FALSE)","v":"SULL"},"2013-05",{"$f":"VLOOKUP($Q840,Stores!$A:$D,4,FALSE)","v":"Open"},{"$f":"VLOOKUP(Q840,Stores!$A:$C,3,FALSE)","v":"Charlotte, NC"},5562,0.9888529306005035]
["8570 - Palm Desert, CA - Sullivan's","",81,83.3,0,85.7,95.2,81,83.3,81,54.8,76.2,2.4,0,30,42,8570,5,2013,{"$f":"VLOOKUP(Q841,Stores!$A:$B,2,FALSE)","v":"SULL"},"2013-05",{"$f":"VLOOKUP($Q841,Stores!$A:$D,4,FALSE)","v":"Open"},{"$f":"VLOOKUP(Q841,Stores!$A:$C,3,FALSE)","v":"Palm Desert, CA"},5184,0.81018518518518512]
["8591 - Anchorage, AK - Sullivan's","",85.7,87.1,0,89.3,92.9,88.6,87.9,90,80.7,76.400000000000006,4.3,0,121,140,8591,5,2013,{"$f":"VLOOKUP(Q842,Stores!$A:$B,2,FALSE)","v":"SULL"},"2013-05",{"$f":"VLOOKUP($Q842,Stores!$A:$D,4,FALSE)","v":"Open"},{"$f":"VLOOKUP(Q842,Stores!$A:$C,3,FALSE)","v":"Anchorage, AK"},6492,2.1565003080714726]
["8592 - Seattle, WA - Sullivan's","",66.7,70.8,0,72.900000000000006,93.8,79.2,64.599999999999994,72.900000000000006,54.2,72.900000000000006,4.2,1,38,48,8592,5,2013,{"$f":"VLOOKUP(Q843,Stores!$A:$B,2,FALSE)","v":"SULL"},"2013-05",{"$f":"VLOOKUP($Q843,Stores!$A:$D,4,FALSE)","v":"Closed"},{"$f":"VLOOKUP(Q843,Stores!$A:$C,3,FALSE)","v":"Seattle, WA"},5553,0.86439762290653699]
["8601 - Dallas, TX - Del Frisco's","",80.400000000000006,80.400000000000006,0,84.1,89.7,79.400000000000006,76.599999999999994,84.1,62.6,82.2,9.3000000000000007,0,84,107,8601,5,2013,{"$f":"VLOOKUP(Q844,Stores!$A:$B,2,FALSE)","v":"DFDE"},"2013-05",{"$f":"VLOOKUP($Q844,Stores!$A:$D,4,FALSE)","v":"Closed"},{"$f":"VLOOKUP(Q844,Stores!$A:$C,3,FALSE)","v":"Dallas, TX"},4800,2.2291666666666665]
["8602 - Fort Worth, TX - Del Frisco's","",77.8,81.900000000000006,0,82.5,88.3,79.5,80.099999999999994,84.2,54.4,83.6,8.1999999999999993,1,115,171,8602,5,2013,{"$f":"VLOOKUP(Q845,Stores!$A:$B,2,FALSE)","v":"DFDE"},"2013-05",{"$f":"VLOOKUP($Q845,Stores!$A:$D,4,FALSE)","v":"Open"},{"$f":"VLOOKUP(Q845,Stores!$A:$C,3,FALSE)","v":"Fort Worth, TX"},7420,2.3045822102425877]
["8603 - Denver, CO - Del Frisco's","",63.2,69.900000000000006,0,73.7,82,69.900000000000006,69.900000000000006,63.9,45.1,66.900000000000006,11.3,0,97,133,8603,5,2013,{"$f":"VLOOKUP(Q846,Stores!$A:$B,2,FALSE)","v":"DFDE"},"2013-05",{"$f":"VLOOKUP($Q846,Stores!$A:$D,4,FALSE)","v":"Open"},{"$f":"VLOOKUP(Q846,Stores!$A:$C,3,FALSE)","v":"Denver, CO"},10265,1.2956648806624451]
["8604 - Charlotte, NC - Del Frisco's","",78.599999999999994,71.8,0,78.599999999999994,84.5,72.8,78.599999999999994,82.5,51.5,61.2,5.8,0,71,103,8604,5,2013,{"$f":"VLOOKUP(Q847,Stores!$A:$B,2,FALSE)","v":"DFDE"},"2013-05",{"$f":"VLOOKUP($Q847,Stores!$A:$D,4,FALSE)","v":"Open"},{"$f":"VLOOKUP(Q847,Stores!$A:$C,3,FALSE)","v":"Charlotte, NC"},6864,1.5005827505827505]
["8605 - Houston, TX - Del Frisco's","",66.7,75.8,0,75.8,81.8,66.7,72.7,75.8,56.1,62.1,9.1,0,49,66,8605,5,2013,{"$f":"VLOOKUP(Q848,Stores!$A:$B,2,FALSE)","v":"DFDE"},"2013-05",{"$f":"VLOOKUP($Q848,Stores!$A:$D,4,FALSE)","v":"Open"},{"$f":"VLOOKUP(Q848,Stores!$A:$C,3,FALSE)","v":"Houston, TX"},8785,0.7512805919180422]
["8615 - Orlando, FL - Del Frisco’s","",77.5,72.5,0,80,82.5,82.5,80,85,52.5,67.5,7.5,0,25,40,8615,5,2013,{"$f":"VLOOKUP(Q849,Stores!$A:$B,2,FALSE)","v":"DFDE"},"2013-05",{"$f":"VLOOKUP($Q849,Stores!$A:$D,4,FALSE)","v":"Open"},{"$f":"VLOOKUP(Q849,Stores!$A:$C,3,FALSE)","v":"Orlando, FL"},4414,0.90620752152242867]
["8620 - New York City, NY - Del Frisco's","",71.400000000000006,74.2,0,80.2,82.5,76,75.099999999999994,77,46.5,47.5,9.1999999999999993,0,157,217,8620,5,2013,{"$f":"VLOOKUP(Q850,Stores!$A:$B,2,FALSE)","v":"DFDE"},"2013-05",{"$f":"VLOOKUP($Q850,Stores!$A:$D,4,FALSE)","v":"Open"},{"$f":"VLOOKUP(Q850,Stores!$A:$C,3,FALSE)","v":"New York City, NY"},23464,0.92482100238663489]
["8635 - Boston, MA - Del Frisco's","",73.2,75.2,0,79.099999999999994,85,71.2,79.099999999999994,72.5,45.8,66.7,9.8000000000000007,0,107,153,8635,5,2013,{"$f":"VLOOKUP(Q851,Stores!$A:$B,2,FALSE)","v":"DFDE"},"2013-05",{"$f":"VLOOKUP($Q851,Stores!$A:$D,4,FALSE)","v":"Open"},{"$f":"VLOOKUP(Q851,Stores!$A:$C,3,FALSE)","v":"Boston, MA"},13718,1.1153229333722117]
["8640 - Las Vegas, NV - Del Frisco's","",83.5,85.9,0,88.2,90.6,83.5,85.9,85.9,64.7,75.3,8.1999999999999993,0,60,85,8640,5,2013,{"$f":"VLOOKUP(Q852,Stores!$A:$B,2,FALSE)","v":"DFDE"},"2013-05",{"$f":"VLOOKUP($Q852,Stores!$A:$D,4,FALSE)","v":"Open"},{"$f":"VLOOKUP(Q852,Stores!$A:$C,3,FALSE)","v":"Las Vegas, NV"},5819,1.4607320845506102]
["8650 - Chicago, IL - Del Frisco's","",74.5,72.3,0,76.599999999999994,80.900000000000006,74.5,80.900000000000006,78.7,57.4,63.8,10.6,0,36,47,8650,5,2013,{"$f":"VLOOKUP(Q853,Stores!$A:$B,2,FALSE)","v":"DFDE"},"2013-05",{"$f":"VLOOKUP($Q853,Stores!$A:$D,4,FALSE)","v":"Open"},{"$f":"VLOOKUP(Q853,Stores!$A:$C,3,FALSE)","v":"Chicago, IL"},5225,0.8995215311004785]
["8655 - Washington, DC -  Del Frisco's","",60.5,70.400000000000006,0,65.400000000000006,76.5,64.2,71.599999999999994,75.3,58,67.900000000000006,14.8,2,53,81,8655,5,2013,{"$f":"VLOOKUP(Q854,Stores!$A:$B,2,FALSE)","v":"DFDE"},"2013-05",{"$f":"VLOOKUP($Q854,Stores!$A:$D,4,FALSE)","v":"Open"},{"$f":"VLOOKUP(Q854,Stores!$A:$C,3,FALSE)","v":"Washington, DC"},10590,0.76487252124645888]
["8680 - Philadelphia, PA - Del Frisco's","",73.7,77.099999999999994,0,72,77.7,68,82.9,76.599999999999994,49.7,62.9,6.9,2,133,175,8680,5,2013,{"$f":"VLOOKUP(Q855,Stores!$A:$B,2,FALSE)","v":"DFDE"},"2013-05",{"$f":"VLOOKUP($Q855,Stores!$A:$D,4,FALSE)","v":"Open"},{"$f":"VLOOKUP(Q855,Stores!$A:$C,3,FALSE)","v":"Philadelphia, PA"},13870,1.261715933669791]
["8701 - New York City, NY - Grille","",67.400000000000006,71.7,0,82.6,82.6,73.900000000000006,78.3,71.7,50,58.7,4.3,0,30,46,8701,5,2013,{"$f":"VLOOKUP(Q856,Stores!$A:$B,2,FALSE)","v":"DFG"},"2013-05",{"$f":"VLOOKUP($Q856,Stores!$A:$D,4,FALSE)","v":"Open"},{"$f":"VLOOKUP(Q856,Stores!$A:$C,3,FALSE)","v":"New York City, NY"},11774,0.39069135383047393]
["8702 - Dallas, TX - Grille","",61.2,69.400000000000006,0,67.3,79.599999999999994,65.3,59.2,71.400000000000006,53.1,51,22.4,5,34,49,8702,5,2013,{"$f":"VLOOKUP(Q857,Stores!$A:$B,2,FALSE)","v":"DFG"},"2013-05",{"$f":"VLOOKUP($Q857,Stores!$A:$D,4,FALSE)","v":"Open"},{"$f":"VLOOKUP(Q857,Stores!$A:$C,3,FALSE)","v":"Dallas, TX"},8473,0.57830756520712845]
["8703 - Washington, DC - Grille","",55.6,71.099999999999994,0,66.7,75.599999999999994,64.400000000000006,64.400000000000006,71.099999999999994,46.7,40,8.9,0,28,45,8703,5,2013,{"$f":"VLOOKUP(Q858,Stores!$A:$B,2,FALSE)","v":"DFG"},"2013-05",{"$f":"VLOOKUP($Q858,Stores!$A:$D,4,FALSE)","v":"Open"},{"$f":"VLOOKUP(Q858,Stores!$A:$C,3,FALSE)","v":"Washington, DC"},7135,0.63069376313945347]
["8706 - Atlanta, GA - Grille","",71.7,73.900000000000006,0,69.599999999999994,80.400000000000006,73.900000000000006,78.3,84.8,63,52.2,10.9,1,29,46,8706,5,2013,{"$f":"VLOOKUP(Q859,Stores!$A:$B,2,FALSE)","v":"DFG"},"2013-05",{"$f":"VLOOKUP($Q859,Stores!$A:$D,4,FALSE)","v":"Open"},{"$f":"VLOOKUP(Q859,Stores!$A:$C,3,FALSE)","v":"Atlanta, GA"},10305,0.44638524987869965]
["8707 - River Oaks, TX - Grille","",82.1,69.2,0,82.1,84.6,74.400000000000006,76.900000000000006,69.2,61.5,53.8,5.0999999999999996,0,28,39,8707,5,2013,{"$f":"VLOOKUP(Q860,Stores!$A:$B,2,FALSE)","v":"DFG"},"2013-05",{"$f":"VLOOKUP($Q860,Stores!$A:$D,4,FALSE)","v":"Open"},{"$f":"VLOOKUP(Q860,Stores!$A:$C,3,FALSE)","v":"Houston, TX"},7044,0.55366269165247017]
["8708 - Chestnut Hill, MA - Grille","",76.900000000000006,69.2,0,76.900000000000006,84.6,70.8,78.5,67.7,49.2,64.599999999999994,6.2,0,39,65,8708,5,2013,{"$f":"VLOOKUP(Q861,Stores!$A:$B,2,FALSE)","v":"DFG"},"2013-05",{"$f":"VLOOKUP($Q861,Stores!$A:$D,4,FALSE)","v":"Open"},{"$f":"VLOOKUP(Q861,Stores!$A:$C,3,FALSE)","v":"Chestnut Hill, MA"},6996,0.92910234419668392]
["8709 - Santa Monica, CA - Grille","",75,71.400000000000006,0,78.599999999999994,75,82.1,85.7,71.400000000000006,78.599999999999994,57.1,10.7,0,24,28,8709,5,2013,{"$f":"VLOOKUP(Q862,Stores!$A:$B,2,FALSE)","v":"DFG"},"2013-05",{"$f":"VLOOKUP($Q862,Stores!$A:$D,4,FALSE)","v":"Open"},{"$f":"VLOOKUP(Q862,Stores!$A:$C,3,FALSE)","v":"Santa Monica, CA"},12478,0.22439493508575092]
["8710 - Fort Worth, TX - Grille","",73.400000000000006,76.599999999999994,0,78.7,83,74.5,79.8,86.2,63.8,67,8.5,2,61,94,8710,5,2013,{"$f":"VLOOKUP(Q863,Stores!$A:$B,2,FALSE)","v":"DFG"},"2013-05",{"$f":"VLOOKUP($Q863,Stores!$A:$D,4,FALSE)","v":"Open"},{"$f":"VLOOKUP(Q863,Stores!$A:$C,3,FALSE)","v":"Fort Worth, TX"},13697,0.68628166751843467]
["8711 – Cherry Creek, CO - Grille","",82.1,82.1,0,87.4,89.5,83.2,85.3,78.900000000000006,67.400000000000006,64.2,3.2,0,56,95,8711,5,2013,{"$f":"VLOOKUP(Q864,Stores!$A:$B,2,FALSE)","v":"DFG"},"2013-05",{"$f":"VLOOKUP($Q864,Stores!$A:$D,4,FALSE)","v":"Open"},{"$f":"VLOOKUP(Q864,Stores!$A:$C,3,FALSE)","v":"Cherry Creek, CO"},8496,1.1181732580037667]
["8712 - Southlake, TX - Grille","",72.3,73.2,0,83,90.2,74.099999999999994,71.400000000000006,78.599999999999994,56.3,73.2,8,1,78,112,8712,5,2013,{"$f":"VLOOKUP(Q865,Stores!$A:$B,2,FALSE)","v":"DFG"},"2013-05",{"$f":"VLOOKUP($Q865,Stores!$A:$D,4,FALSE)","v":"Open"},{"$f":"VLOOKUP(Q865,Stores!$A:$C,3,FALSE)","v":"Southlake, TX"},12876,0.86983535259397338]
["8713 - Burlington, MA - Grille",41794,72.5,67.5,0,80,87.5,72.5,77.5,55,47.5,35,7.5,0,27,40,8713,5,2013,{"$f":"VLOOKUP(Q866,Stores!$A:$B,2,FALSE)","v":"DFG"},"2013-05",{"$f":"VLOOKUP($Q866,Stores!$A:$D,4,FALSE)","v":"Open"},{"$f":"VLOOKUP(Q866,Stores!$A:$C,3,FALSE)","v":"Burlington, MA"},8696,0.45998160073597061]
["8714 - N Bethesda, MD - Grille",41908,57.1,62.9,0,62.9,68.599999999999994,60,65.7,71.400000000000006,42.9,48.6,11.4,0,23,35,8714,5,2013,{"$f":"VLOOKUP(Q867,Stores!$A:$B,2,FALSE)","v":"DFG"},"2013-05",{"$f":"VLOOKUP($Q867,Stores!$A:$D,4,FALSE)","v":"Open"},{"$f":"VLOOKUP(Q867,Stores!$A:$C,3,FALSE)","v":"N. Bethesda, MD"},5586,0.62656641604010022]
["8715 - Irvine, CA - Grille","",78,78,0,80,88,76,78,80,62,76,8,0,35,50,8715,5,2013,{"$f":"VLOOKUP(Q868,Stores!$A:$B,2,FALSE)","v":"DFG"},"2013-05",{"$f":"VLOOKUP($Q868,Stores!$A:$D,4,FALSE)","v":"Open"},{"$f":"VLOOKUP(Q868,Stores!$A:$C,3,FALSE)","v":"Irvine, CA"},7182,0.69618490671122257]
["8716 - Tampa, FL - Grille","",78.400000000000006,82.4,0,87.8,93.2,86.5,77,86.5,67.599999999999994,68.900000000000006,2.7,0,53,74,8716,5,2013,{"$f":"VLOOKUP(Q869,Stores!$A:$B,2,FALSE)","v":"DFG"},"2013-05",{"$f":"VLOOKUP($Q869,Stores!$A:$D,4,FALSE)","v":"Open"},{"$f":"VLOOKUP(Q869,Stores!$A:$C,3,FALSE)","v":"Tampa, FL"},7974,0.92801605216955108]
["8717 - Pasadena, CA - Grille",41992,79.2,77.099999999999994,0,79.2,85.4,64.599999999999994,72.900000000000006,75,60.4,72.900000000000006,12.5,1,27,48,8717,5,2013,{"$f":"VLOOKUP(Q870,Stores!$A:$B,2,FALSE)","v":"DFG"},"2013-05",{"$f":"VLOOKUP($Q870,Stores!$A:$D,4,FALSE)","v":"Open"},{"$f":"VLOOKUP(Q870,Stores!$A:$C,3,FALSE)","v":"Pasadena, CA"},5529,0.86814975583288123]
["8718 -Woodlands, TX - Grille","",64.5,65.8,0,73.7,81.599999999999994,72.400000000000006,69.7,75,55.3,53.9,6.6,0,48,76,8718,5,2013,{"$f":"VLOOKUP(Q871,Stores!$A:$B,2,FALSE)","v":"DFG"},"2013-05",{"$f":"VLOOKUP($Q871,Stores!$A:$D,4,FALSE)","v":"Open"},{"$f":"VLOOKUP(Q871,Stores!$A:$C,3,FALSE)","v":"Woodlands, TX"},9790,0.77630234933605713]
["8720 - Little Rock, AR - Grille","",69.7,81.8,0,84.8,87.9,75.8,66.7,81.8,48.5,78.8,6.1,0,23,33,8720,5,2013,{"$f":"VLOOKUP(Q872,Stores!$A:$B,2,FALSE)","v":"DFG"},"2013-05",{"$f":"VLOOKUP($Q872,Stores!$A:$D,4,FALSE)","v":"Open"},{"$f":"VLOOKUP(Q872,Stores!$A:$C,3,FALSE)","v":"Little Rock, AR"},6856,0.48133022170361728]
["8721 - Plano, TX - Grille","",58.3,72.599999999999994,0,71.400000000000006,83.3,71.400000000000006,69,72.599999999999994,48.8,81,10.7,3,57,84,8721,5,2013,{"$f":"VLOOKUP(Q873,Stores!$A:$B,2,FALSE)","v":"DFG"},"2013-05",{"$f":"VLOOKUP($Q873,Stores!$A:$D,4,FALSE)","v":"Open"},{"$f":"VLOOKUP(Q873,Stores!$A:$C,3,FALSE)","v":"Plano, TX"},9946,0.84456062738789472]
["8722 – Stamford, CT - Grille","",50,61.5,0,53.8,73.099999999999994,61.5,42.3,69.2,38.5,57.7,19.2,0,19,26,8722,5,2013,{"$f":"VLOOKUP(Q874,Stores!$A:$B,2,FALSE)","v":"DFG"},"2013-05",{"$f":"VLOOKUP($Q874,Stores!$A:$D,4,FALSE)","v":"Open"},{"$f":"VLOOKUP(Q874,Stores!$A:$C,3,FALSE)","v":"Stamford, CT"},6270,0.41467304625199358]
["8723 – Hoboken, NJ - Grille","",80,88,0,82,92,78,84,80,72,56,8,1,37,50,8723,5,2013,{"$f":"VLOOKUP(Q875,Stores!$A:$B,2,FALSE)","v":"DFG"},"2013-05",{"$f":"VLOOKUP($Q875,Stores!$A:$D,4,FALSE)","v":"Open"},{"$f":"VLOOKUP(Q875,Stores!$A:$C,3,FALSE)","v":"Hoboken, NJ"},10845,0.4610419548178884]
["8501 - Austin, TX - Sullivan's","",75,78.599999999999994,0,67.900000000000006,85.7,75,78.599999999999994,78.599999999999994,71.400000000000006,78.599999999999994,7.1,0,19,28,8501,6,2013,{"$f":"VLOOKUP(Q876,Stores!$A:$B,2,FALSE)","v":"SULL"},"2013-06",{"$f":"VLOOKUP($Q876,Stores!$A:$D,4,FALSE)","v":"Open"},{"$f":"VLOOKUP(Q876,Stores!$A:$C,3,FALSE)","v":"Austin, TX"},5318,0.52651372696502441]
["8502 - Indianapolis, IN - Sullivan's","",73.8,76.2,0,77.400000000000006,86.9,78.599999999999994,79.8,76.2,56,83.3,6,0,59,84,8502,6,2013,{"$f":"VLOOKUP(Q877,Stores!$A:$B,2,FALSE)","v":"SULL"},"2013-06",{"$f":"VLOOKUP($Q877,Stores!$A:$D,4,FALSE)","v":"Open"},{"$f":"VLOOKUP(Q877,Stores!$A:$C,3,FALSE)","v":"Indianapolis, IN"},6365,1.3197172034564022]
["8504 - Houston, TX - Sullivan's","",90,86.7,0,90,96.7,86.7,83.3,93.3,80,86.7,0,0,22,30,8504,6,2013,{"$f":"VLOOKUP(Q878,Stores!$A:$B,2,FALSE)","v":"SULL"},"2013-06",{"$f":"VLOOKUP($Q878,Stores!$A:$D,4,FALSE)","v":"Closed"},{"$f":"VLOOKUP(Q878,Stores!$A:$C,3,FALSE)","v":"Houston, TX"},3260,0.92024539877300604]
["8510 - Wilmington, DE - Sullivan's","",72.900000000000006,79.2,0,81.3,85.4,70.8,77.099999999999994,77.099999999999994,47.9,64.599999999999994,12.5,0,33,48,8510,6,2013,{"$f":"VLOOKUP(Q879,Stores!$A:$B,2,FALSE)","v":"SULL"},"2013-06",{"$f":"VLOOKUP($Q879,Stores!$A:$D,4,FALSE)","v":"Open"},{"$f":"VLOOKUP(Q879,Stores!$A:$C,3,FALSE)","v":"Wilmington, DE"},5297,0.90617330564470455]
["8522 - King of Prussia, PA - Sullivan's","",55.7,62.9,0,72.900000000000006,75.7,54.3,60,57.1,35.700000000000003,62.9,12.9,0,54,70,8522,6,2013,{"$f":"VLOOKUP(Q880,Stores!$A:$B,2,FALSE)","v":"SULL"},"2013-06",{"$f":"VLOOKUP($Q880,Stores!$A:$D,4,FALSE)","v":"Open"},{"$f":"VLOOKUP(Q880,Stores!$A:$C,3,FALSE)","v":"King of Prussia, PA"},5750,1.2173913043478262]
["8525 - Tucson, AZ - Sullivan's","",94.3,94.3,0,97.1,97.1,91.4,91.4,91.4,68.599999999999994,71.400000000000006,2.9,0,23,35,8525,6,2013,{"$f":"VLOOKUP(Q881,Stores!$A:$B,2,FALSE)","v":"SULL"},"2013-06",{"$f":"VLOOKUP($Q881,Stores!$A:$D,4,FALSE)","v":"Open"},{"$f":"VLOOKUP(Q881,Stores!$A:$C,3,FALSE)","v":"Tucson, AZ"},3371,1.0382675763868288]
["8532 - Omaha, NE - Sullivan's","",59.3,66.7,0,74.099999999999994,81.5,70.400000000000006,48.1,66.7,40.700000000000003,66.7,14.8,1,16,27,8532,6,2013,{"$f":"VLOOKUP(Q882,Stores!$A:$B,2,FALSE)","v":"SULL"},"2013-06",{"$f":"VLOOKUP($Q882,Stores!$A:$D,4,FALSE)","v":"Open"},{"$f":"VLOOKUP(Q882,Stores!$A:$C,3,FALSE)","v":"Omaha, NE"},4056,0.66568047337278102]
["8535 - Baltimore, MD - Sullivan's","",45,40,0,45,55,60,50,55,45,50,30,0,16,20,8535,6,2013,{"$f":"VLOOKUP(Q883,Stores!$A:$B,2,FALSE)","v":"SULL"},"2013-06",{"$f":"VLOOKUP($Q883,Stores!$A:$D,4,FALSE)","v":"Open"},{"$f":"VLOOKUP(Q883,Stores!$A:$C,3,FALSE)","v":"Baltimore, MD"},5181,0.38602586373287007]
["8536 - Leawood, KS - Sullivan's","",83.1,81.7,0,85.9,88.7,77.5,85.9,85.9,69,85.9,5.6,0,64,71,8536,6,2013,{"$f":"VLOOKUP(Q884,Stores!$A:$B,2,FALSE)","v":"SULL"},"2013-06",{"$f":"VLOOKUP($Q884,Stores!$A:$D,4,FALSE)","v":"Open"},{"$f":"VLOOKUP(Q884,Stores!$A:$C,3,FALSE)","v":"Leawood, KS"},4401,1.6132697114292207]
["8541 - Chicago, IL - Sullivan's","",82.6,82.6,0,73.900000000000006,91.3,82.6,87,69.599999999999994,52.2,65.2,4.3,0,16,23,8541,6,2013,{"$f":"VLOOKUP(Q885,Stores!$A:$B,2,FALSE)","v":"SULL"},"2013-06",{"$f":"VLOOKUP($Q885,Stores!$A:$D,4,FALSE)","v":"Open"},{"$f":"VLOOKUP(Q885,Stores!$A:$C,3,FALSE)","v":"Chicago, IL"},3317,0.69339764847753993]
["8542 - Naperville, IL - Sullivan's","",70.099999999999994,71.599999999999994,0,80.599999999999994,80.599999999999994,74.599999999999994,71.599999999999994,74.599999999999994,40.299999999999997,64.2,11.9,2,50,67,8542,6,2013,{"$f":"VLOOKUP(Q886,Stores!$A:$B,2,FALSE)","v":"SULL"},"2013-06",{"$f":"VLOOKUP($Q886,Stores!$A:$D,4,FALSE)","v":"Open"},{"$f":"VLOOKUP(Q886,Stores!$A:$C,3,FALSE)","v":"Naperville, IL"},6250,1.0720000000000001]
["8543 - Lincolnshire, IL - Sullivan's","",51.9,66.7,0,66.7,77.8,63,77.8,77.8,48.1,88.9,18.5,0,18,27,8543,6,2013,{"$f":"VLOOKUP(Q887,Stores!$A:$B,2,FALSE)","v":"SULL"},"2013-06",{"$f":"VLOOKUP($Q887,Stores!$A:$D,4,FALSE)","v":"Open"},{"$f":"VLOOKUP(Q887,Stores!$A:$C,3,FALSE)","v":"Lincolnshire, IL"},3687,0.73230268510984542]
["8551 - Baton Rouge, LA - Sullivan's","",93.5,95.2,0,91.9,96.8,90.3,90.3,87.1,85.5,95.2,3.2,0,46,62,8551,6,2013,{"$f":"VLOOKUP(Q888,Stores!$A:$B,2,FALSE)","v":"SULL"},"2013-06",{"$f":"VLOOKUP($Q888,Stores!$A:$D,4,FALSE)","v":"Open"},{"$f":"VLOOKUP(Q888,Stores!$A:$C,3,FALSE)","v":"Baton Rouge, LA"},4487,1.3817695564965458]
["8561 - Raleigh, NC - Sullivan's","",68.2,68.2,0,72,80.400000000000006,72,67.3,70.099999999999994,51.4,44.9,9.3000000000000007,1,70,107,8561,6,2013,{"$f":"VLOOKUP(Q889,Stores!$A:$B,2,FALSE)","v":"SULL"},"2013-06",{"$f":"VLOOKUP($Q889,Stores!$A:$D,4,FALSE)","v":"Open"},{"$f":"VLOOKUP(Q889,Stores!$A:$C,3,FALSE)","v":"Raleigh, NC"},6556,1.6320927394752898]
["8562 - Charlotte, NC - Sullivan's","",75,85,0,85,90,80,85,75,40,80,10,0,16,20,8562,6,2013,{"$f":"VLOOKUP(Q890,Stores!$A:$B,2,FALSE)","v":"SULL"},"2013-06",{"$f":"VLOOKUP($Q890,Stores!$A:$D,4,FALSE)","v":"Open"},{"$f":"VLOOKUP(Q890,Stores!$A:$C,3,FALSE)","v":"Charlotte, NC"},4635,0.43149946062567418]
["8570 - Palm Desert, CA - Sullivan's","",78.8,81.8,0,81.8,93.9,81.8,81.8,84.8,66.7,90.9,0,0,24,33,8570,6,2013,{"$f":"VLOOKUP(Q891,Stores!$A:$B,2,FALSE)","v":"SULL"},"2013-06",{"$f":"VLOOKUP($Q891,Stores!$A:$D,4,FALSE)","v":"Open"},{"$f":"VLOOKUP(Q891,Stores!$A:$C,3,FALSE)","v":"Palm Desert, CA"},4910,0.67209775967413443]
["8591 - Anchorage, AK - Sullivan's","",91.8,92.9,0,95.9,98,92.9,92.9,95.9,87.8,80.599999999999994,2,0,85,98,8591,6,2013,{"$f":"VLOOKUP(Q892,Stores!$A:$B,2,FALSE)","v":"SULL"},"2013-06",{"$f":"VLOOKUP($Q892,Stores!$A:$D,4,FALSE)","v":"Open"},{"$f":"VLOOKUP(Q892,Stores!$A:$C,3,FALSE)","v":"Anchorage, AK"},5299,1.8494055482166445]
["8592 - Seattle, WA - Sullivan's","",84.4,82.2,0,88.9,91.1,82.2,77.8,71.099999999999994,64.400000000000006,86.7,2.2000000000000002,0,32,45,8592,6,2013,{"$f":"VLOOKUP(Q893,Stores!$A:$B,2,FALSE)","v":"SULL"},"2013-06",{"$f":"VLOOKUP($Q893,Stores!$A:$D,4,FALSE)","v":"Closed"},{"$f":"VLOOKUP(Q893,Stores!$A:$C,3,FALSE)","v":"Seattle, WA"},4588,0.98081952920662596]
["8601 - Dallas, TX - Del Frisco's","",76.8,84.8,0,83.8,89.9,76.8,82.8,74.7,55.6,80.8,9.1,4,74,99,8601,6,2013,{"$f":"VLOOKUP(Q894,Stores!$A:$B,2,FALSE)","v":"DFDE"},"2013-06",{"$f":"VLOOKUP($Q894,Stores!$A:$D,4,FALSE)","v":"Closed"},{"$f":"VLOOKUP(Q894,Stores!$A:$C,3,FALSE)","v":"Dallas, TX"},4471,2.2142697383135763]
["8602 - Fort Worth, TX - Del Frisco's","",79.3,88,0,85.3,89.3,84,84,89.3,56.7,78.7,4,0,106,150,8602,6,2013,{"$f":"VLOOKUP(Q895,Stores!$A:$B,2,FALSE)","v":"DFDE"},"2013-06",{"$f":"VLOOKUP($Q895,Stores!$A:$D,4,FALSE)","v":"Open"},{"$f":"VLOOKUP(Q895,Stores!$A:$C,3,FALSE)","v":"Fort Worth, TX"},7068,2.1222410865874362]
["8603 - Denver, CO - Del Frisco's","",68,69.099999999999994,0,72.2,82.5,77.3,79.400000000000006,73.2,49.5,62.9,11.3,0,71,97,8603,6,2013,{"$f":"VLOOKUP(Q896,Stores!$A:$B,2,FALSE)","v":"DFDE"},"2013-06",{"$f":"VLOOKUP($Q896,Stores!$A:$D,4,FALSE)","v":"Open"},{"$f":"VLOOKUP(Q896,Stores!$A:$C,3,FALSE)","v":"Denver, CO"},8423,1.151608690490324]
["8604 - Charlotte, NC - Del Frisco's","",79.7,81.099999999999994,0,82.4,85.1,74.3,78.400000000000006,79.7,52.7,59.5,4.0999999999999996,0,46,74,8604,6,2013,{"$f":"VLOOKUP(Q897,Stores!$A:$B,2,FALSE)","v":"DFDE"},"2013-06",{"$f":"VLOOKUP($Q897,Stores!$A:$D,4,FALSE)","v":"Open"},{"$f":"VLOOKUP(Q897,Stores!$A:$C,3,FALSE)","v":"Charlotte, NC"},5277,1.402311919651317]
["8605 - Houston, TX - Del Frisco's","",79.2,85.4,0,85.4,93.8,79.2,79.2,87.5,60.4,75,4.2,0,31,48,8605,6,2013,{"$f":"VLOOKUP(Q898,Stores!$A:$B,2,FALSE)","v":"DFDE"},"2013-06",{"$f":"VLOOKUP($Q898,Stores!$A:$D,4,FALSE)","v":"Open"},{"$f":"VLOOKUP(Q898,Stores!$A:$C,3,FALSE)","v":"Houston, TX"},6895,0.69615663524292959]
["8615 - Orlando, FL - Del Frisco’s","",70.599999999999994,73.5,0,79.400000000000006,82.4,76.5,73.5,82.4,52.9,73.5,11.8,1,26,34,{"$f":"MID(A899,1,4)*1","v":8615},6,2013,{"$f":"VLOOKUP(Q899,Stores!$A:$B,2,FALSE)","v":"DFDE"},{"$f":"S899&\"-\"&REPT(\"0\",2-LEN(R899))&R899","v":"2013-06"},{"$f":"VLOOKUP($Q899,Stores!$A:$D,4,FALSE)","v":"Open"},{"$f":"VLOOKUP(Q899,Stores!$A:$C,3,FALSE)","v":"Orlando, FL"},4258,{"$f":"P899/(X899/100)","v":0.79849694692343831}]
["8620 - New York City, NY - Del Frisco's","",76,75.5,0,80.400000000000006,84.8,75.5,75,77,46.1,48.5,5.9,1,139,204,8620,6,2013,{"$f":"VLOOKUP(Q900,Stores!$A:$B,2,FALSE)","v":"DFDE"},"2013-06",{"$f":"VLOOKUP($Q900,Stores!$A:$D,4,FALSE)","v":"Open"},{"$f":"VLOOKUP(Q900,Stores!$A:$C,3,FALSE)","v":"New York City, NY"},22293,0.91508545283272769]
["8635 - Boston, MA - Del Frisco's","",62.8,73.5,0,79.599999999999994,85,77,71.7,73.5,36.299999999999997,59.3,10.6,3,75,113,8635,6,2013,{"$f":"VLOOKUP(Q901,Stores!$A:$B,2,FALSE)","v":"DFDE"},"2013-06",{"$f":"VLOOKUP($Q901,Stores!$A:$D,4,FALSE)","v":"Open"},{"$f":"VLOOKUP(Q901,Stores!$A:$C,3,FALSE)","v":"Boston, MA"},14579,0.77508745455792583]
["8640 - Las Vegas, NV - Del Frisco's","",71.7,85,0,88.3,88.3,71.7,75,68.3,53.3,73.3,3.3,0,48,60,8640,6,2013,{"$f":"VLOOKUP(Q902,Stores!$A:$B,2,FALSE)","v":"DFDE"},"2013-06",{"$f":"VLOOKUP($Q902,Stores!$A:$D,4,FALSE)","v":"Open"},{"$f":"VLOOKUP(Q902,Stores!$A:$C,3,FALSE)","v":"Las Vegas, NV"},5974,1.0043521928356209]
["8650 - Chicago, IL - Del Frisco's","",76.900000000000006,80.8,0,84.6,88.5,73.099999999999994,61.5,80.8,57.7,88.5,3.8,0,20,26,8650,6,2013,{"$f":"VLOOKUP(Q903,Stores!$A:$B,2,FALSE)","v":"DFDE"},"2013-06",{"$f":"VLOOKUP($Q903,Stores!$A:$D,4,FALSE)","v":"Open"},{"$f":"VLOOKUP(Q903,Stores!$A:$C,3,FALSE)","v":"Chicago, IL"},5719,0.45462493442909602]
["8655 - Washington, DC -  Del Frisco's","",73,82.5,0,81,84.1,74.599999999999994,82.5,82.5,61.9,66.7,4.8,1,42,63,8655,6,2013,{"$f":"VLOOKUP(Q904,Stores!$A:$B,2,FALSE)","v":"DFDE"},"2013-06",{"$f":"VLOOKUP($Q904,Stores!$A:$D,4,FALSE)","v":"Open"},{"$f":"VLOOKUP(Q904,Stores!$A:$C,3,FALSE)","v":"Washington, DC"},8949,0.70398927254441845]
["8680 - Philadelphia, PA - Del Frisco's","",73,76.5,0,77.400000000000006,80.900000000000006,79.099999999999994,84.3,81.7,46.1,59.1,10.4,1,78,115,8680,6,2013,{"$f":"VLOOKUP(Q905,Stores!$A:$B,2,FALSE)","v":"DFDE"},"2013-06",{"$f":"VLOOKUP($Q905,Stores!$A:$D,4,FALSE)","v":"Open"},{"$f":"VLOOKUP(Q905,Stores!$A:$C,3,FALSE)","v":"Philadelphia, PA"},11426,1.0064764572028706]
["8701 - New York City, NY - Grille","",59.5,64.900000000000006,0,70.3,70.3,59.5,73,62.2,40.5,48.6,8.1,0,25,37,8701,6,2013,{"$f":"VLOOKUP(Q906,Stores!$A:$B,2,FALSE)","v":"DFG"},"2013-06",{"$f":"VLOOKUP($Q906,Stores!$A:$D,4,FALSE)","v":"Open"},{"$f":"VLOOKUP(Q906,Stores!$A:$C,3,FALSE)","v":"New York City, NY"},12381,0.29884500444229062]
["8702 - Dallas, TX - Grille","",75,75,0,82.1,85.7,75,78.599999999999994,75,71.400000000000006,64.3,3.6,0,19,28,8702,6,2013,{"$f":"VLOOKUP(Q907,Stores!$A:$B,2,FALSE)","v":"DFG"},"2013-06",{"$f":"VLOOKUP($Q907,Stores!$A:$D,4,FALSE)","v":"Open"},{"$f":"VLOOKUP(Q907,Stores!$A:$C,3,FALSE)","v":"Dallas, TX"},7350,0.38095238095238093]
["8703 - Washington, DC - Grille","",63.2,68.400000000000006,0,63.2,68.400000000000006,78.900000000000006,73.7,68.400000000000006,63.2,36.799999999999997,10.5,0,12,19,8703,6,2013,{"$f":"VLOOKUP(Q908,Stores!$A:$B,2,FALSE)","v":"DFG"},"2013-06",{"$f":"VLOOKUP($Q908,Stores!$A:$D,4,FALSE)","v":"Open"},{"$f":"VLOOKUP(Q908,Stores!$A:$C,3,FALSE)","v":"Washington, DC"},6154,0.30874228144296395]
["8706 - Atlanta, GA - Grille","",69,69,0,75.900000000000006,79.3,72.400000000000006,69,69,62.1,69,17.2,0,23,29,8706,6,2013,{"$f":"VLOOKUP(Q909,Stores!$A:$B,2,FALSE)","v":"DFG"},"2013-06",{"$f":"VLOOKUP($Q909,Stores!$A:$D,4,FALSE)","v":"Open"},{"$f":"VLOOKUP(Q909,Stores!$A:$C,3,FALSE)","v":"Atlanta, GA"},8218,0.35288391336091501]
["8707 - River Oaks, TX - Grille","",75,72.2,0,86.1,88.9,83.3,83.3,80.599999999999994,72.2,47.2,11.1,1,30,36,8707,6,2013,{"$f":"VLOOKUP(Q910,Stores!$A:$B,2,FALSE)","v":"DFG"},"2013-06",{"$f":"VLOOKUP($Q910,Stores!$A:$D,4,FALSE)","v":"Open"},{"$f":"VLOOKUP(Q910,Stores!$A:$C,3,FALSE)","v":"Houston, TX"},5792,0.62154696132596687]
["8708 - Chestnut Hill, MA - Grille","",80,90,0,83.3,86.7,80,83.3,80,56.7,50,3.3,0,20,30,8708,6,2013,{"$f":"VLOOKUP(Q911,Stores!$A:$B,2,FALSE)","v":"DFG"},"2013-06",{"$f":"VLOOKUP($Q911,Stores!$A:$D,4,FALSE)","v":"Open"},{"$f":"VLOOKUP(Q911,Stores!$A:$C,3,FALSE)","v":"Chestnut Hill, MA"},6455,0.46475600309837339]
["8709 - Santa Monica, CA - Grille","",78.900000000000006,78.900000000000006,0,84.2,84.2,78.900000000000006,84.2,84.2,68.400000000000006,68.400000000000006,10.5,1,17,19,8709,6,2013,{"$f":"VLOOKUP(Q912,Stores!$A:$B,2,FALSE)","v":"DFG"},"2013-06",{"$f":"VLOOKUP($Q912,Stores!$A:$D,4,FALSE)","v":"Open"},{"$f":"VLOOKUP(Q912,Stores!$A:$C,3,FALSE)","v":"Santa Monica, CA"},14644,0.12974597104616226]
["8710 - Fort Worth, TX - Grille","",76.7,81.7,0,75,86.7,80,78.3,88.3,53.3,63.3,8.3000000000000007,1,39,60,8710,6,2013,{"$f":"VLOOKUP(Q913,Stores!$A:$B,2,FALSE)","v":"DFG"},"2013-06",{"$f":"VLOOKUP($Q913,Stores!$A:$D,4,FALSE)","v":"Open"},{"$f":"VLOOKUP(Q913,Stores!$A:$C,3,FALSE)","v":"Fort Worth, TX"},12095,0.49607275733774286]
["8711 – Cherry Creek, CO - Grille","",76.5,80.400000000000006,0,84.3,94.1,84.3,86.3,74.5,66.7,72.5,7.8,0,31,51,8711,6,2013,{"$f":"VLOOKUP(Q914,Stores!$A:$B,2,FALSE)","v":"DFG"},"2013-06",{"$f":"VLOOKUP($Q914,Stores!$A:$D,4,FALSE)","v":"Open"},{"$f":"VLOOKUP(Q914,Stores!$A:$C,3,FALSE)","v":"Cherry Creek, CO"},8252,0.6180319922443045]
["8712 - Southlake, TX - Grille","",78.900000000000006,83.3,0,86.7,91.1,77.8,82.2,80,63.3,85.6,7.8,0,64,90,8712,6,2013,{"$f":"VLOOKUP(Q915,Stores!$A:$B,2,FALSE)","v":"DFG"},"2013-06",{"$f":"VLOOKUP($Q915,Stores!$A:$D,4,FALSE)","v":"Open"},{"$f":"VLOOKUP(Q915,Stores!$A:$C,3,FALSE)","v":"Southlake, TX"},11934,0.75414781297134237]
["8713 - Burlington, MA - Grille",41794,71.900000000000006,68.8,0,90.6,84.4,68.8,78.099999999999994,71.900000000000006,53.1,37.5,6.3,0,19,32,8713,6,2013,{"$f":"VLOOKUP(Q916,Stores!$A:$B,2,FALSE)","v":"DFG"},"2013-06",{"$f":"VLOOKUP($Q916,Stores!$A:$D,4,FALSE)","v":"Open"},{"$f":"VLOOKUP(Q916,Stores!$A:$C,3,FALSE)","v":"Burlington, MA"},7894,0.40537116797567774]
["8714 - N Bethesda, MD - Grille",41908,45.8,58.3,0,58.3,75,58.3,45.8,62.5,37.5,54.2,8.3000000000000007,0,8,24,8714,6,2013,{"$f":"VLOOKUP(Q917,Stores!$A:$B,2,FALSE)","v":"DFG"},"2013-06",{"$f":"VLOOKUP($Q917,Stores!$A:$D,4,FALSE)","v":"Open"},{"$f":"VLOOKUP(Q917,Stores!$A:$C,3,FALSE)","v":"N. Bethesda, MD"},5001,0.47990401919616077]
["8715 - Irvine, CA - Grille","",72.099999999999994,76.7,0,83.7,86,72.099999999999994,67.400000000000006,79.099999999999994,51.2,72.099999999999994,4.7,0,33,43,8715,6,2013,{"$f":"VLOOKUP(Q918,Stores!$A:$B,2,FALSE)","v":"DFG"},"2013-06",{"$f":"VLOOKUP($Q918,Stores!$A:$D,4,FALSE)","v":"Open"},{"$f":"VLOOKUP(Q918,Stores!$A:$C,3,FALSE)","v":"Irvine, CA"},6477,0.66388760228500854]
["8716 - Tampa, FL - Grille","",70.7,75.599999999999994,0,80.5,85.4,75.599999999999994,73.2,82.9,58.5,63.4,4.9000000000000004,1,26,41,8716,6,2013,{"$f":"VLOOKUP(Q919,Stores!$A:$B,2,FALSE)","v":"DFG"},"2013-06",{"$f":"VLOOKUP($Q919,Stores!$A:$D,4,FALSE)","v":"Open"},{"$f":"VLOOKUP(Q919,Stores!$A:$C,3,FALSE)","v":"Tampa, FL"},6672,0.61450839328537177]
["8717 - Pasadena, CA - Grille",41992,79.2,75,0,83.3,91.7,79.2,79.2,70.8,58.3,70.8,4.2,0,17,24,8717,6,2013,{"$f":"VLOOKUP(Q920,Stores!$A:$B,2,FALSE)","v":"DFG"},"2013-06",{"$f":"VLOOKUP($Q920,Stores!$A:$D,4,FALSE)","v":"Open"},{"$f":"VLOOKUP(Q920,Stores!$A:$C,3,FALSE)","v":"Pasadena, CA"},4556,0.52677787532923614]
["8718 -Woodlands, TX - Grille","",81.099999999999994,83.8,0,83.8,89.2,70.3,81.099999999999994,83.8,59.5,67.599999999999994,8.1,0,23,37,8718,6,2013,{"$f":"VLOOKUP(Q921,Stores!$A:$B,2,FALSE)","v":"DFG"},"2013-06",{"$f":"VLOOKUP($Q921,Stores!$A:$D,4,FALSE)","v":"Open"},{"$f":"VLOOKUP(Q921,Stores!$A:$C,3,FALSE)","v":"Woodlands, TX"},7985,0.46336881653099565]
["8720 - Little Rock, AR - Grille","",68.099999999999994,66,0,83,87.2,76.599999999999994,70.2,85.1,55.3,83,8.5,0,34,47,8720,6,2013,{"$f":"VLOOKUP(Q922,Stores!$A:$B,2,FALSE)","v":"DFG"},"2013-06",{"$f":"VLOOKUP($Q922,Stores!$A:$D,4,FALSE)","v":"Open"},{"$f":"VLOOKUP(Q922,Stores!$A:$C,3,FALSE)","v":"Little Rock, AR"},5964,0.78806170355466132]
["8721 - Plano, TX - Grille","",76.7,80.2,0,81.400000000000006,88.4,80.2,70.900000000000006,80.2,59.3,76.7,7,1,60,86,8721,6,2013,{"$f":"VLOOKUP(Q923,Stores!$A:$B,2,FALSE)","v":"DFG"},"2013-06",{"$f":"VLOOKUP($Q923,Stores!$A:$D,4,FALSE)","v":"Open"},{"$f":"VLOOKUP(Q923,Stores!$A:$C,3,FALSE)","v":"Plano, TX"},8858,0.970873786407767]
["8722 – Stamford, CT - Grille","",65.2,73.900000000000006,0,73.900000000000006,82.6,82.6,78.3,73.900000000000006,65.2,65.2,8.6999999999999993,0,17,23,8722,6,2013,{"$f":"VLOOKUP(Q924,Stores!$A:$B,2,FALSE)","v":"DFG"},"2013-06",{"$f":"VLOOKUP($Q924,Stores!$A:$D,4,FALSE)","v":"Open"},{"$f":"VLOOKUP(Q924,Stores!$A:$C,3,FALSE)","v":"Stamford, CT"},5486,0.41924899744804961]
["8723 – Hoboken, NJ - Grille","",80.900000000000006,79.8,0,87.6,89.9,74.2,76.400000000000006,76.400000000000006,64,48.3,7.9,1,60,89,8723,6,2013,{"$f":"VLOOKUP(Q925,Stores!$A:$B,2,FALSE)","v":"DFG"},"2013-06",{"$f":"VLOOKUP($Q925,Stores!$A:$D,4,FALSE)","v":"Open"},{"$f":"VLOOKUP(Q925,Stores!$A:$C,3,FALSE)","v":"Hoboken, NJ"},10307,0.86349083147375572]
["8501 - Austin, TX - Sullivan's","",71.400000000000006,61.9,0,85.7,90.5,71.400000000000006,61.9,76.2,61.9,66.7,14.3,0,10,21,8501,7,2013,{"$f":"VLOOKUP(Q926,Stores!$A:$B,2,FALSE)","v":"SULL"},"2013-07",{"$f":"VLOOKUP($Q926,Stores!$A:$D,4,FALSE)","v":"Open"},{"$f":"VLOOKUP(Q926,Stores!$A:$C,3,FALSE)","v":"Austin, TX"},3789,0.55423594615993665]
["8502 - Indianapolis, IN - Sullivan's","",74.2,76.3,0,78.400000000000006,84.5,75.3,82.5,81.400000000000006,51.5,87.6,4.0999999999999996,0,70,97,8502,7,2013,{"$f":"VLOOKUP(Q927,Stores!$A:$B,2,FALSE)","v":"SULL"},"2013-07",{"$f":"VLOOKUP($Q927,Stores!$A:$D,4,FALSE)","v":"Open"},{"$f":"VLOOKUP(Q927,Stores!$A:$C,3,FALSE)","v":"Indianapolis, IN"},5243,1.8500858287240129]
["8504 - Houston, TX - Sullivan's","",64.400000000000006,66.7,0,68.900000000000006,82.2,66.7,66.7,71.099999999999994,60,71.099999999999994,11.1,0,33,45,8504,7,2013,{"$f":"VLOOKUP(Q928,Stores!$A:$B,2,FALSE)","v":"SULL"},"2013-07",{"$f":"VLOOKUP($Q928,Stores!$A:$D,4,FALSE)","v":"Closed"},{"$f":"VLOOKUP(Q928,Stores!$A:$C,3,FALSE)","v":"Houston, TX"},3092,1.4553686934023284]
["8510 - Wilmington, DE - Sullivan's","",79,77.8,0,74.099999999999994,86.4,77.8,84,72.8,51.9,60.5,1.2,0,60,81,8510,7,2013,{"$f":"VLOOKUP(Q929,Stores!$A:$B,2,FALSE)","v":"SULL"},"2013-07",{"$f":"VLOOKUP($Q929,Stores!$A:$D,4,FALSE)","v":"Open"},{"$f":"VLOOKUP(Q929,Stores!$A:$C,3,FALSE)","v":"Wilmington, DE"},4836,1.6749379652605458]
["8522 - King of Prussia, PA - Sullivan's","",70,73.8,0,81.3,87.5,73.8,80,68.8,52.5,66.3,7.5,0,66,80,8522,7,2013,{"$f":"VLOOKUP(Q930,Stores!$A:$B,2,FALSE)","v":"SULL"},"2013-07",{"$f":"VLOOKUP($Q930,Stores!$A:$D,4,FALSE)","v":"Open"},{"$f":"VLOOKUP(Q930,Stores!$A:$C,3,FALSE)","v":"King of Prussia, PA"},5412,1.4781966001478197]
["8525 - Tucson, AZ - Sullivan's","",77.099999999999994,79.2,0,89.6,91.7,81.3,77.099999999999994,75,70.8,77.099999999999994,6.3,1,38,48,8525,7,2013,{"$f":"VLOOKUP(Q931,Stores!$A:$B,2,FALSE)","v":"SULL"},"2013-07",{"$f":"VLOOKUP($Q931,Stores!$A:$D,4,FALSE)","v":"Open"},{"$f":"VLOOKUP(Q931,Stores!$A:$C,3,FALSE)","v":"Tucson, AZ"},3316,1.4475271411338964]
["8532 - Omaha, NE - Sullivan's","",76.5,88.2,0,91.2,97.1,88.2,94.1,88.2,70.599999999999994,88.2,5.9,1,24,34,8532,7,2013,{"$f":"VLOOKUP(Q932,Stores!$A:$B,2,FALSE)","v":"SULL"},"2013-07",{"$f":"VLOOKUP($Q932,Stores!$A:$D,4,FALSE)","v":"Open"},{"$f":"VLOOKUP(Q932,Stores!$A:$C,3,FALSE)","v":"Omaha, NE"},5085,0.66863323500491645]
["8535 - Baltimore, MD - Sullivan's","",65.5,65.5,0,72.400000000000006,69,65.5,62.1,62.1,44.8,62.1,24.1,0,20,29,8535,7,2013,{"$f":"VLOOKUP(Q933,Stores!$A:$B,2,FALSE)","v":"SULL"},"2013-07",{"$f":"VLOOKUP($Q933,Stores!$A:$D,4,FALSE)","v":"Open"},{"$f":"VLOOKUP(Q933,Stores!$A:$C,3,FALSE)","v":"Baltimore, MD"},4402,0.65879145842798725]
["8536 - Leawood, KS - Sullivan's","",79.2,75.5,0,84.9,88.7,79.2,77.400000000000006,83,60.4,88.7,9.4,0,43,53,8536,7,2013,{"$f":"VLOOKUP(Q934,Stores!$A:$B,2,FALSE)","v":"SULL"},"2013-07",{"$f":"VLOOKUP($Q934,Stores!$A:$D,4,FALSE)","v":"Open"},{"$f":"VLOOKUP(Q934,Stores!$A:$C,3,FALSE)","v":"Leawood, KS"},4430,1.196388261851016]
["8541 - Chicago, IL - Sullivan's","",50,64.3,0,57.1,78.599999999999994,57.1,71.400000000000006,57.1,50,78.599999999999994,14.3,0,8,14,8541,7,2013,{"$f":"VLOOKUP(Q935,Stores!$A:$B,2,FALSE)","v":"SULL"},"2013-07",{"$f":"VLOOKUP($Q935,Stores!$A:$D,4,FALSE)","v":"Open"},{"$f":"VLOOKUP(Q935,Stores!$A:$C,3,FALSE)","v":"Chicago, IL"},2157,0.64904960593416783]
["8542 - Naperville, IL - Sullivan's","",65.900000000000006,70.7,0,78,81.7,70.7,69.5,74.400000000000006,40.200000000000003,63.4,12.2,0,59,82,8542,7,2013,{"$f":"VLOOKUP(Q936,Stores!$A:$B,2,FALSE)","v":"SULL"},"2013-07",{"$f":"VLOOKUP($Q936,Stores!$A:$D,4,FALSE)","v":"Open"},{"$f":"VLOOKUP(Q936,Stores!$A:$C,3,FALSE)","v":"Naperville, IL"},5558,1.4753508456279238]
["8543 - Lincolnshire, IL - Sullivan's","",59.1,63.6,0,72.7,72.7,54.5,63.6,59.1,36.4,90.9,9.1,0,14,22,8543,7,2013,{"$f":"VLOOKUP(Q937,Stores!$A:$B,2,FALSE)","v":"SULL"},"2013-07",{"$f":"VLOOKUP($Q937,Stores!$A:$D,4,FALSE)","v":"Open"},{"$f":"VLOOKUP(Q937,Stores!$A:$C,3,FALSE)","v":"Lincolnshire, IL"},3920,0.56122448979591832]
["8551 - Baton Rouge, LA - Sullivan's","",89.2,93.2,0,87.8,94.6,91.9,89.2,87.8,74.3,95.9,1.4,0,58,74,8551,7,2013,{"$f":"VLOOKUP(Q938,Stores!$A:$B,2,FALSE)","v":"SULL"},"2013-07",{"$f":"VLOOKUP($Q938,Stores!$A:$D,4,FALSE)","v":"Open"},{"$f":"VLOOKUP(Q938,Stores!$A:$C,3,FALSE)","v":"Baton Rouge, LA"},4456,1.660682226211849]
["8561 - Raleigh, NC - Sullivan's","",71.400000000000006,72.900000000000006,0,75.7,85.7,77.099999999999994,75.7,77.099999999999994,44.3,58.6,8.6,0,50,70,8561,7,2013,{"$f":"VLOOKUP(Q939,Stores!$A:$B,2,FALSE)","v":"SULL"},"2013-07",{"$f":"VLOOKUP($Q939,Stores!$A:$D,4,FALSE)","v":"Open"},{"$f":"VLOOKUP(Q939,Stores!$A:$C,3,FALSE)","v":"Raleigh, NC"},5354,1.3074336944340681]
["8562 - Charlotte, NC - Sullivan's","",69.400000000000006,77.8,0,83.3,88.9,80.599999999999994,77.8,72.2,55.6,66.7,11.1,1,22,36,8562,7,2013,{"$f":"VLOOKUP(Q940,Stores!$A:$B,2,FALSE)","v":"SULL"},"2013-07",{"$f":"VLOOKUP($Q940,Stores!$A:$D,4,FALSE)","v":"Open"},{"$f":"VLOOKUP(Q940,Stores!$A:$C,3,FALSE)","v":"Charlotte, NC"},4609,0.78108049468431329]
["8570 - Palm Desert, CA - Sullivan's","",73.3,86.7,0,83.3,90,76.7,73.3,73.3,66.7,93.3,6.7,0,19,30,8570,7,2013,{"$f":"VLOOKUP(Q941,Stores!$A:$B,2,FALSE)","v":"SULL"},"2013-07",{"$f":"VLOOKUP($Q941,Stores!$A:$D,4,FALSE)","v":"Open"},{"$f":"VLOOKUP(Q941,Stores!$A:$C,3,FALSE)","v":"Palm Desert, CA"},3803,0.78885090717854323]
["8591 - Anchorage, AK - Sullivan's","",92.2,93.8,0,95.3,100,90.6,92.2,93.8,84.4,68.8,1.6,0,46,64,8591,7,2013,{"$f":"VLOOKUP(Q942,Stores!$A:$B,2,FALSE)","v":"SULL"},"2013-07",{"$f":"VLOOKUP($Q942,Stores!$A:$D,4,FALSE)","v":"Open"},{"$f":"VLOOKUP(Q942,Stores!$A:$C,3,FALSE)","v":"Anchorage, AK"},6118,1.0460934946060805]
["8592 - Seattle, WA - Sullivan's","",86.8,92.1,0,86.8,94.7,81.599999999999994,86.8,89.5,86.8,73.7,5.3,2,26,38,8592,7,2013,{"$f":"VLOOKUP(Q943,Stores!$A:$B,2,FALSE)","v":"SULL"},"2013-07",{"$f":"VLOOKUP($Q943,Stores!$A:$D,4,FALSE)","v":"Closed"},{"$f":"VLOOKUP(Q943,Stores!$A:$C,3,FALSE)","v":"Seattle, WA"},4614,0.82358040745557004]
["8601 - Dallas, TX - Del Frisco's","",73,75.7,0,80.2,86.5,74.8,73.900000000000006,75.7,55,81.099999999999994,8.1,2,82,111,8601,7,2013,{"$f":"VLOOKUP(Q944,Stores!$A:$B,2,FALSE)","v":"DFDE"},"2013-07",{"$f":"VLOOKUP($Q944,Stores!$A:$D,4,FALSE)","v":"Closed"},{"$f":"VLOOKUP(Q944,Stores!$A:$C,3,FALSE)","v":"Dallas, TX"},4192,2.6479007633587783]
["8602 - Fort Worth, TX - Del Frisco's","",73.2,75.8,0,85.9,86.6,74.5,78.5,76.5,59.7,80.5,9.4,0,115,149,8602,7,2013,{"$f":"VLOOKUP(Q945,Stores!$A:$B,2,FALSE)","v":"DFDE"},"2013-07",{"$f":"VLOOKUP($Q945,Stores!$A:$D,4,FALSE)","v":"Open"},{"$f":"VLOOKUP(Q945,Stores!$A:$C,3,FALSE)","v":"Fort Worth, TX"},6471,2.3025807448616908]
["8603 - Denver, CO - Del Frisco's","",69.400000000000006,73.099999999999994,0,79.599999999999994,83.3,75.900000000000006,71.3,71.3,50.9,69.400000000000006,9.3000000000000007,0,70,108,8603,7,2013,{"$f":"VLOOKUP(Q946,Stores!$A:$B,2,FALSE)","v":"DFDE"},"2013-07",{"$f":"VLOOKUP($Q946,Stores!$A:$D,4,FALSE)","v":"Open"},{"$f":"VLOOKUP(Q946,Stores!$A:$C,3,FALSE)","v":"Denver, CO"},8274,1.3052936910804931]
["8604 - Charlotte, NC - Del Frisco's","",78,79.7,0,79.7,83.9,85.6,82.2,85.6,61,51.7,5.9,0,86,118,8604,7,2013,{"$f":"VLOOKUP(Q947,Stores!$A:$B,2,FALSE)","v":"DFDE"},"2013-07",{"$f":"VLOOKUP($Q947,Stores!$A:$D,4,FALSE)","v":"Open"},{"$f":"VLOOKUP(Q947,Stores!$A:$C,3,FALSE)","v":"Charlotte, NC"},5293,2.229359531456641]
["8605 - Houston, TX - Del Frisco's","",76.3,81.400000000000006,0,88.1,93.2,91.5,81.400000000000006,81.400000000000006,64.400000000000006,67.8,3.4,0,40,59,8605,7,2013,{"$f":"VLOOKUP(Q948,Stores!$A:$B,2,FALSE)","v":"DFDE"},"2013-07",{"$f":"VLOOKUP($Q948,Stores!$A:$D,4,FALSE)","v":"Open"},{"$f":"VLOOKUP(Q948,Stores!$A:$C,3,FALSE)","v":"Houston, TX"},6284,0.93889242520687455]
["8615 - Orlando, FL - Del Frisco’s","",77.3,79.5,0,86.4,93.2,79.5,77.3,84.1,45.5,70.5,13.6,1,32,44,8615,7,2013,{"$f":"VLOOKUP(Q949,Stores!$A:$B,2,FALSE)","v":"DFDE"},"2013-07",{"$f":"VLOOKUP($Q949,Stores!$A:$D,4,FALSE)","v":"Open"},{"$f":"VLOOKUP(Q949,Stores!$A:$C,3,FALSE)","v":"Orlando, FL"},2852,1.5427769985974755]
["8620 - New York City, NY - Del Frisco's","",73.900000000000006,72.7,0,81.2,82.4,74.5,77,75.8,39.4,43.6,7.3,1,113,165,8620,7,2013,{"$f":"VLOOKUP(Q950,Stores!$A:$B,2,FALSE)","v":"DFDE"},"2013-07",{"$f":"VLOOKUP($Q950,Stores!$A:$D,4,FALSE)","v":"Open"},{"$f":"VLOOKUP(Q950,Stores!$A:$C,3,FALSE)","v":"New York City, NY"},19742,0.83578158241312939]
["8635 - Boston, MA - Del Frisco's","",62,65.5,0,76.099999999999994,78.2,69,71.8,73.2,40.799999999999997,64.099999999999994,13.4,0,110,142,8635,7,2013,{"$f":"VLOOKUP(Q951,Stores!$A:$B,2,FALSE)","v":"DFDE"},"2013-07",{"$f":"VLOOKUP($Q951,Stores!$A:$D,4,FALSE)","v":"Open"},{"$f":"VLOOKUP(Q951,Stores!$A:$C,3,FALSE)","v":"Boston, MA"},13065,1.0868733256792957]
["8640 - Las Vegas, NV - Del Frisco's","",87.1,90.3,0,87.1,91.9,83.9,83.9,87.1,71,74.2,1.6,0,41,62,8640,7,2013,{"$f":"VLOOKUP(Q952,Stores!$A:$B,2,FALSE)","v":"DFDE"},"2013-07",{"$f":"VLOOKUP($Q952,Stores!$A:$D,4,FALSE)","v":"Open"},{"$f":"VLOOKUP(Q952,Stores!$A:$C,3,FALSE)","v":"Las Vegas, NV"},4796,1.2927439532944121]
["8650 - Chicago, IL - Del Frisco's","",60,60,0,70,83.3,70,70,76.7,53.3,56.7,20,1,23,30,8650,7,2013,{"$f":"VLOOKUP(Q953,Stores!$A:$B,2,FALSE)","v":"DFDE"},"2013-07",{"$f":"VLOOKUP($Q953,Stores!$A:$D,4,FALSE)","v":"Open"},{"$f":"VLOOKUP(Q953,Stores!$A:$C,3,FALSE)","v":"Chicago, IL"},3604,0.83240843507214213]
["8655 - Washington, DC -  Del Frisco's","",48.6,62.2,0,67.599999999999994,75.7,58.1,71.599999999999994,67.599999999999994,52.7,68.900000000000006,17.600000000000001,1,56,74,8655,7,2013,{"$f":"VLOOKUP(Q954,Stores!$A:$B,2,FALSE)","v":"DFDE"},"2013-07",{"$f":"VLOOKUP($Q954,Stores!$A:$D,4,FALSE)","v":"Open"},{"$f":"VLOOKUP(Q954,Stores!$A:$C,3,FALSE)","v":"Washington, DC"},8532,0.86732301922175348]
["8680 - Philadelphia, PA - Del Frisco's","",78.900000000000006,78.900000000000006,0,79.8,88.6,78.900000000000006,86.8,84.2,44.7,64,7,0,79,114,8680,7,2013,{"$f":"VLOOKUP(Q955,Stores!$A:$B,2,FALSE)","v":"DFDE"},"2013-07",{"$f":"VLOOKUP($Q955,Stores!$A:$D,4,FALSE)","v":"Open"},{"$f":"VLOOKUP(Q955,Stores!$A:$C,3,FALSE)","v":"Philadelphia, PA"},9448,1.2066045723962744]
["8701 - New York City, NY - Grille","",78.7,76.599999999999994,0,78.7,91.5,78.7,78.7,76.599999999999994,72.3,74.5,6.4,0,41,47,8701,7,2013,{"$f":"VLOOKUP(Q956,Stores!$A:$B,2,FALSE)","v":"DFG"},"2013-07",{"$f":"VLOOKUP($Q956,Stores!$A:$D,4,FALSE)","v":"Open"},{"$f":"VLOOKUP(Q956,Stores!$A:$C,3,FALSE)","v":"New York City, NY"},12355,0.38041278834479969]
["8702 - Dallas, TX - Grille","",68.400000000000006,78.900000000000006,0,73.7,78.900000000000006,78.900000000000006,73.7,63.2,42.1,52.6,15.8,0,14,19,8702,7,2013,{"$f":"VLOOKUP(Q957,Stores!$A:$B,2,FALSE)","v":"DFG"},"2013-07",{"$f":"VLOOKUP($Q957,Stores!$A:$D,4,FALSE)","v":"Open"},{"$f":"VLOOKUP(Q957,Stores!$A:$C,3,FALSE)","v":"Dallas, TX"},6763,0.28094041106018042]
["8703 - Washington, DC - Grille","",47.1,64.7,0,64.7,76.5,58.8,58.8,64.7,41.2,47.1,11.8,1,11,17,8703,7,2013,{"$f":"VLOOKUP(Q958,Stores!$A:$B,2,FALSE)","v":"DFG"},"2013-07",{"$f":"VLOOKUP($Q958,Stores!$A:$D,4,FALSE)","v":"Open"},{"$f":"VLOOKUP(Q958,Stores!$A:$C,3,FALSE)","v":"Washington, DC"},5952,0.28561827956989244]
["8706 - Atlanta, GA - Grille","",62.9,68.599999999999994,0,71.400000000000006,77.099999999999994,65.7,68.599999999999994,71.400000000000006,57.1,57.1,22.9,1,25,35,8706,7,2013,{"$f":"VLOOKUP(Q959,Stores!$A:$B,2,FALSE)","v":"DFG"},"2013-07",{"$f":"VLOOKUP($Q959,Stores!$A:$D,4,FALSE)","v":"Open"},{"$f":"VLOOKUP(Q959,Stores!$A:$C,3,FALSE)","v":"Atlanta, GA"},8349,0.41921188166247458]
["8707 - River Oaks, TX - Grille","",79.400000000000006,70.599999999999994,0,79.400000000000006,85.3,79.400000000000006,70.599999999999994,73.5,73.5,50,8.8000000000000007,0,25,34,8707,7,2013,{"$f":"VLOOKUP(Q960,Stores!$A:$B,2,FALSE)","v":"DFG"},"2013-07",{"$f":"VLOOKUP($Q960,Stores!$A:$D,4,FALSE)","v":"Open"},{"$f":"VLOOKUP(Q960,Stores!$A:$C,3,FALSE)","v":"Houston, TX"},5540,0.61371841155234663]
["8708 - Chestnut Hill, MA - Grille","",64,76,0,88,92,80,60,72,48,64,8,0,21,25,8708,7,2013,{"$f":"VLOOKUP(Q961,Stores!$A:$B,2,FALSE)","v":"DFG"},"2013-07",{"$f":"VLOOKUP($Q961,Stores!$A:$D,4,FALSE)","v":"Open"},{"$f":"VLOOKUP(Q961,Stores!$A:$C,3,FALSE)","v":"Chestnut Hill, MA"},5085,0.49164208456243852]
["8709 - Santa Monica, CA - Grille","",78.3,78.3,0,78.3,82.6,73.900000000000006,73.900000000000006,82.6,73.900000000000006,52.2,17.399999999999999,1,20,23,8709,7,2013,{"$f":"VLOOKUP(Q962,Stores!$A:$B,2,FALSE)","v":"DFG"},"2013-07",{"$f":"VLOOKUP($Q962,Stores!$A:$D,4,FALSE)","v":"Open"},{"$f":"VLOOKUP(Q962,Stores!$A:$C,3,FALSE)","v":"Santa Monica, CA"},17543,0.13110642421478652]
["8710 - Fort Worth, TX - Grille","",76.400000000000006,76.400000000000006,0,83.6,87.3,78.2,80,87.3,67.3,54.5,7.3,2,36,55,{"$f":"MID(A963,1,4)*1","v":8710},7,2013,{"$f":"VLOOKUP(Q963,Stores!$A:$B,2,FALSE)","v":"DFG"},{"$f":"S963&\"-\"&REPT(\"0\",2-LEN(R963))&R963","v":"2013-07"},{"$f":"VLOOKUP($Q963,Stores!$A:$D,4,FALSE)","v":"Open"},{"$f":"VLOOKUP(Q963,Stores!$A:$C,3,FALSE)","v":"Fort Worth, TX"},10695,{"$f":"P963/(X963/100)","v":0.51425899953249177}]
["8711 – Cherry Creek, CO - Grille","",75.400000000000006,75.400000000000006,0,82.5,80.7,77.2,75.400000000000006,75.400000000000006,54.4,63.2,12.3,0,37,57,8711,7,2013,{"$f":"VLOOKUP(Q964,Stores!$A:$B,2,FALSE)","v":"DFG"},"2013-07",{"$f":"VLOOKUP($Q964,Stores!$A:$D,4,FALSE)","v":"Open"},{"$f":"VLOOKUP(Q964,Stores!$A:$C,3,FALSE)","v":"Cherry Creek, CO"},7595,0.75049374588545092]
["8712 - Southlake, TX - Grille","",81.8,83.8,0,88.9,92.9,84.8,75.8,84.8,69.7,74.7,5.0999999999999996,1,78,99,8712,7,2013,{"$f":"VLOOKUP(Q965,Stores!$A:$B,2,FALSE)","v":"DFG"},"2013-07",{"$f":"VLOOKUP($Q965,Stores!$A:$D,4,FALSE)","v":"Open"},{"$f":"VLOOKUP(Q965,Stores!$A:$C,3,FALSE)","v":"Southlake, TX"},11163,0.88685837140553614]
["8713 - Burlington, MA - Grille",41794,77.8,70.400000000000006,0,85.2,88.9,74.099999999999994,74.099999999999994,70.400000000000006,48.1,44.4,3.7,0,22,27,8713,7,2013,{"$f":"VLOOKUP(Q966,Stores!$A:$B,2,FALSE)","v":"DFG"},"2013-07",{"$f":"VLOOKUP($Q966,Stores!$A:$D,4,FALSE)","v":"Open"},{"$f":"VLOOKUP(Q966,Stores!$A:$C,3,FALSE)","v":"Burlington, MA"},7609,0.3548429491391773]
["8714 - N Bethesda, MD - Grille",41908,50,50,0,25,37.5,25,37.5,37.5,37.5,12.5,37.5,0,6,8,8714,7,2013,{"$f":"VLOOKUP(Q967,Stores!$A:$B,2,FALSE)","v":"DFG"},"2013-07",{"$f":"VLOOKUP($Q967,Stores!$A:$D,4,FALSE)","v":"Open"},{"$f":"VLOOKUP(Q967,Stores!$A:$C,3,FALSE)","v":"N. Bethesda, MD"},5051,0.15838447832112454]
["8715 - Irvine, CA - Grille","",75.8,87.9,0,87.9,87.9,78.8,75.8,84.8,63.6,81.8,0,0,20,33,8715,7,2013,{"$f":"VLOOKUP(Q968,Stores!$A:$B,2,FALSE)","v":"DFG"},"2013-07",{"$f":"VLOOKUP($Q968,Stores!$A:$D,4,FALSE)","v":"Open"},{"$f":"VLOOKUP(Q968,Stores!$A:$C,3,FALSE)","v":"Irvine, CA"},5939,0.55564909917494532]
["8716 - Tampa, FL - Grille","",83.7,83.7,0,93,97.7,93,81.400000000000006,88.4,69.8,69.8,4.7,0,28,43,8716,7,2013,{"$f":"VLOOKUP(Q969,Stores!$A:$B,2,FALSE)","v":"DFG"},"2013-07",{"$f":"VLOOKUP($Q969,Stores!$A:$D,4,FALSE)","v":"Open"},{"$f":"VLOOKUP(Q969,Stores!$A:$C,3,FALSE)","v":"Tampa, FL"},6031,0.71298292157187859]
["8717 - Pasadena, CA - Grille",41992,75,75,0,81.3,87.5,71.900000000000006,75,75,68.8,78.099999999999994,12.5,0,26,32,8717,7,2013,{"$f":"VLOOKUP(Q970,Stores!$A:$B,2,FALSE)","v":"DFG"},"2013-07",{"$f":"VLOOKUP($Q970,Stores!$A:$D,4,FALSE)","v":"Open"},{"$f":"VLOOKUP(Q970,Stores!$A:$C,3,FALSE)","v":"Pasadena, CA"},4376,0.73126142595978061]
["8718 -Woodlands, TX - Grille","",59.6,63.2,0,70.2,84.2,68.400000000000006,66.7,71.900000000000006,50.9,63.2,10.5,0,36,57,8718,7,2013,{"$f":"VLOOKUP(Q971,Stores!$A:$B,2,FALSE)","v":"DFG"},"2013-07",{"$f":"VLOOKUP($Q971,Stores!$A:$D,4,FALSE)","v":"Open"},{"$f":"VLOOKUP(Q971,Stores!$A:$C,3,FALSE)","v":"Woodlands, TX"},8236,0.69208353569694026]
["8720 - Little Rock, AR - Grille","",77.8,85.2,0,85.2,96.3,77.8,66.7,81.5,55.6,85.2,0,0,19,27,8720,7,2013,{"$f":"VLOOKUP(Q972,Stores!$A:$B,2,FALSE)","v":"DFG"},"2013-07",{"$f":"VLOOKUP($Q972,Stores!$A:$D,4,FALSE)","v":"Open"},{"$f":"VLOOKUP(Q972,Stores!$A:$C,3,FALSE)","v":"Little Rock, AR"},5564,0.4852624011502516]
["8721 - Plano, TX - Grille","",69.900000000000006,79.5,0,80.7,86.7,77.099999999999994,77.099999999999994,77.099999999999994,63.9,77.099999999999994,10.8,0,62,83,8721,7,2013,{"$f":"VLOOKUP(Q973,Stores!$A:$B,2,FALSE)","v":"DFG"},"2013-07",{"$f":"VLOOKUP($Q973,Stores!$A:$D,4,FALSE)","v":"Open"},{"$f":"VLOOKUP(Q973,Stores!$A:$C,3,FALSE)","v":"Plano, TX"},9128,0.90929009640666081]
["8722 – Stamford, CT - Grille","",58.3,62.5,0,75,79.2,70.8,75,62.5,50,75,16.7,0,18,24,8722,7,2013,{"$f":"VLOOKUP(Q974,Stores!$A:$B,2,FALSE)","v":"DFG"},"2013-07",{"$f":"VLOOKUP($Q974,Stores!$A:$D,4,FALSE)","v":"Open"},{"$f":"VLOOKUP(Q974,Stores!$A:$C,3,FALSE)","v":"Stamford, CT"},5150,0.46601941747572817]
["8723 – Hoboken, NJ - Grille","",84.2,80.7,0,84.2,84.2,75.400000000000006,84.2,87.7,57.9,52.6,7,2,36,57,8723,7,2013,{"$f":"VLOOKUP(Q975,Stores!$A:$B,2,FALSE)","v":"DFG"},"2013-07",{"$f":"VLOOKUP($Q975,Stores!$A:$D,4,FALSE)","v":"Open"},{"$f":"VLOOKUP(Q975,Stores!$A:$C,3,FALSE)","v":"Hoboken, NJ"},10203,0.55865921787709494]
["8724 - Huntington, NY - Grille","",63,72.599999999999994,0,86.3,91.8,64.400000000000006,67.099999999999994,68.5,52.1,78.099999999999994,11,0,55,73,8724,7,2013,{"$f":"VLOOKUP(Q976,Stores!$A:$B,2,FALSE)","v":"DFG"},"2013-07",{"$f":"VLOOKUP($Q976,Stores!$A:$D,4,FALSE)","v":"Open"},{"$f":"VLOOKUP(Q976,Stores!$A:$C,3,FALSE)","v":"Huntington, NY"},8605,0.84834398605461947]
["8501 - Austin, TX - Sullivan's","",69.2,84.6,0,84.6,92.3,76.900000000000006,84.6,92.3,84.6,76.900000000000006,7.7,0,10,13,8501,8,2013,{"$f":"VLOOKUP(Q977,Stores!$A:$B,2,FALSE)","v":"SULL"},"2013-08",{"$f":"VLOOKUP($Q977,Stores!$A:$D,4,FALSE)","v":"Open"},{"$f":"VLOOKUP(Q977,Stores!$A:$C,3,FALSE)","v":"Austin, TX"},4432,0.29332129963898917]
["8502 - Indianapolis, IN - Sullivan's","",78.400000000000006,79.5,0,88.6,92,87.5,81.8,78.400000000000006,56.8,89.8,3.4,0,62,88,8502,8,2013,{"$f":"VLOOKUP(Q978,Stores!$A:$B,2,FALSE)","v":"SULL"},"2013-08",{"$f":"VLOOKUP($Q978,Stores!$A:$D,4,FALSE)","v":"Open"},{"$f":"VLOOKUP(Q978,Stores!$A:$C,3,FALSE)","v":"Indianapolis, IN"},5779,1.5227548018688355]
["8504 - Houston, TX - Sullivan's","",55.6,62.2,0,71.099999999999994,75.599999999999994,66.7,64.400000000000006,62.2,53.3,73.3,20,4,36,45,8504,8,2013,{"$f":"VLOOKUP(Q979,Stores!$A:$B,2,FALSE)","v":"SULL"},"2013-08",{"$f":"VLOOKUP($Q979,Stores!$A:$D,4,FALSE)","v":"Closed"},{"$f":"VLOOKUP(Q979,Stores!$A:$C,3,FALSE)","v":"Houston, TX"},3736,1.2044967880085653]
["8510 - Wilmington, DE - Sullivan's","",78.599999999999994,73.8,0,83.3,85.7,71.400000000000006,78.599999999999994,76.2,50,76.2,7.1,0,25,42,8510,8,2013,{"$f":"VLOOKUP(Q980,Stores!$A:$B,2,FALSE)","v":"SULL"},"2013-08",{"$f":"VLOOKUP($Q980,Stores!$A:$D,4,FALSE)","v":"Open"},{"$f":"VLOOKUP(Q980,Stores!$A:$C,3,FALSE)","v":"Wilmington, DE"},4321,0.9719972228650775]
["8522 - King of Prussia, PA - Sullivan's","",71.7,67.900000000000006,0,79.2,88.7,77.400000000000006,77.400000000000006,64.2,43.4,69.8,7.5,1,40,53,8522,8,2013,{"$f":"VLOOKUP(Q981,Stores!$A:$B,2,FALSE)","v":"SULL"},"2013-08",{"$f":"VLOOKUP($Q981,Stores!$A:$D,4,FALSE)","v":"Open"},{"$f":"VLOOKUP(Q981,Stores!$A:$C,3,FALSE)","v":"King of Prussia, PA"},5345,0.99158091674462112]
["8525 - Tucson, AZ - Sullivan's","",87.8,85.4,0,87.8,95.1,80.5,85.4,87.8,63.4,92.7,4.9000000000000004,1,37,41,8525,8,2013,{"$f":"VLOOKUP(Q982,Stores!$A:$B,2,FALSE)","v":"SULL"},"2013-08",{"$f":"VLOOKUP($Q982,Stores!$A:$D,4,FALSE)","v":"Open"},{"$f":"VLOOKUP(Q982,Stores!$A:$C,3,FALSE)","v":"Tucson, AZ"},3236,1.2669962917181705]
["8532 - Omaha, NE - Sullivan's","",91.7,83.3,0,100,95.8,87.5,91.7,79.2,50,83.3,4.2,0,17,24,8532,8,2013,{"$f":"VLOOKUP(Q983,Stores!$A:$B,2,FALSE)","v":"SULL"},"2013-08",{"$f":"VLOOKUP($Q983,Stores!$A:$D,4,FALSE)","v":"Open"},{"$f":"VLOOKUP(Q983,Stores!$A:$C,3,FALSE)","v":"Omaha, NE"},4271,0.56192929056427066]
["8535 - Baltimore, MD - Sullivan's","",73.7,78.900000000000006,0,73.7,73.7,68.400000000000006,57.9,73.7,52.6,52.6,5.3,1,15,19,8535,8,2013,{"$f":"VLOOKUP(Q984,Stores!$A:$B,2,FALSE)","v":"SULL"},"2013-08",{"$f":"VLOOKUP($Q984,Stores!$A:$D,4,FALSE)","v":"Open"},{"$f":"VLOOKUP(Q984,Stores!$A:$C,3,FALSE)","v":"Baltimore, MD"},5078,0.37416305632138636]
["8536 - Leawood, KS - Sullivan's","",76.599999999999994,83,0,91.5,91.5,83,72.3,87.2,59.6,93.6,4.3,0,39,47,8536,8,2013,{"$f":"VLOOKUP(Q985,Stores!$A:$B,2,FALSE)","v":"SULL"},"2013-08",{"$f":"VLOOKUP($Q985,Stores!$A:$D,4,FALSE)","v":"Open"},{"$f":"VLOOKUP(Q985,Stores!$A:$C,3,FALSE)","v":"Leawood, KS"},4039,1.163654369893538]
["8541 - Chicago, IL - Sullivan's","",81.3,87.5,0,75,81.3,75,81.3,87.5,62.5,81.3,6.3,0,13,16,8541,8,2013,{"$f":"VLOOKUP(Q986,Stores!$A:$B,2,FALSE)","v":"SULL"},"2013-08",{"$f":"VLOOKUP($Q986,Stores!$A:$D,4,FALSE)","v":"Open"},{"$f":"VLOOKUP(Q986,Stores!$A:$C,3,FALSE)","v":"Chicago, IL"},2434,0.65735414954806903]
["8542 - Naperville, IL - Sullivan's","",71.2,76.7,0,84.9,87.7,79.5,75.3,71.2,47.9,87.7,8.1999999999999993,1,50,73,8542,8,2013,{"$f":"VLOOKUP(Q987,Stores!$A:$B,2,FALSE)","v":"SULL"},"2013-08",{"$f":"VLOOKUP($Q987,Stores!$A:$D,4,FALSE)","v":"Open"},{"$f":"VLOOKUP(Q987,Stores!$A:$C,3,FALSE)","v":"Naperville, IL"},5643,1.2936381357433988]
["8543 - Lincolnshire, IL - Sullivan's","",61.9,66.7,0,85.7,76.2,66.7,66.7,57.1,38.1,71.400000000000006,0,0,14,21,8543,8,2013,{"$f":"VLOOKUP(Q988,Stores!$A:$B,2,FALSE)","v":"SULL"},"2013-08",{"$f":"VLOOKUP($Q988,Stores!$A:$D,4,FALSE)","v":"Open"},{"$f":"VLOOKUP(Q988,Stores!$A:$C,3,FALSE)","v":"Lincolnshire, IL"},4006,0.52421367948077879]
["8551 - Baton Rouge, LA - Sullivan's","",85.6,93.3,0,91.3,96.2,90.4,86.5,91.3,80.8,94.2,1.9,1,77,104,8551,8,2013,{"$f":"VLOOKUP(Q989,Stores!$A:$B,2,FALSE)","v":"SULL"},"2013-08",{"$f":"VLOOKUP($Q989,Stores!$A:$D,4,FALSE)","v":"Open"},{"$f":"VLOOKUP(Q989,Stores!$A:$C,3,FALSE)","v":"Baton Rouge, LA"},5070,2.0512820512820511]
["8561 - Raleigh, NC - Sullivan's","",75,73.3,0,81.7,88.3,76.7,68.3,80,48.3,70,8.3000000000000007,0,48,60,8561,8,2013,{"$f":"VLOOKUP(Q990,Stores!$A:$B,2,FALSE)","v":"SULL"},"2013-08",{"$f":"VLOOKUP($Q990,Stores!$A:$D,4,FALSE)","v":"Open"},{"$f":"VLOOKUP(Q990,Stores!$A:$C,3,FALSE)","v":"Raleigh, NC"},5063,1.1850681414181314]
["8562 - Charlotte, NC - Sullivan's","",57.1,65.3,0,75.5,83.7,65.3,71.400000000000006,71.400000000000006,55.1,44.9,14.3,0,36,49,8562,8,2013,{"$f":"VLOOKUP(Q991,Stores!$A:$B,2,FALSE)","v":"SULL"},"2013-08",{"$f":"VLOOKUP($Q991,Stores!$A:$D,4,FALSE)","v":"Open"},{"$f":"VLOOKUP(Q991,Stores!$A:$C,3,FALSE)","v":"Charlotte, NC"},6040,0.8112582781456954]
["8570 - Palm Desert, CA - Sullivan's","",86.7,91.1,0,93.3,97.8,97.8,84.4,84.4,77.8,93.3,0,0,34,45,8570,8,2013,{"$f":"VLOOKUP(Q992,Stores!$A:$B,2,FALSE)","v":"SULL"},"2013-08",{"$f":"VLOOKUP($Q992,Stores!$A:$D,4,FALSE)","v":"Open"},{"$f":"VLOOKUP(Q992,Stores!$A:$C,3,FALSE)","v":"Palm Desert, CA"},3504,1.2842465753424659]
["8591 - Anchorage, AK - Sullivan's","",90,88.6,0,88.6,92.9,85.7,88.6,90,78.599999999999994,67.099999999999994,1.4,0,50,70,8591,8,2013,{"$f":"VLOOKUP(Q993,Stores!$A:$B,2,FALSE)","v":"SULL"},"2013-08",{"$f":"VLOOKUP($Q993,Stores!$A:$D,4,FALSE)","v":"Open"},{"$f":"VLOOKUP(Q993,Stores!$A:$C,3,FALSE)","v":"Anchorage, AK"},7428,0.94238018309100702]
["8592 - Seattle, WA - Sullivan's","",78.400000000000006,75.7,0,81.099999999999994,81.099999999999994,83.8,78.400000000000006,73,56.8,81.099999999999994,5.4,0,26,37,8592,8,2013,{"$f":"VLOOKUP(Q994,Stores!$A:$B,2,FALSE)","v":"SULL"},"2013-08",{"$f":"VLOOKUP($Q994,Stores!$A:$D,4,FALSE)","v":"Closed"},{"$f":"VLOOKUP(Q994,Stores!$A:$C,3,FALSE)","v":"Seattle, WA"},4986,0.74207781789009231]
["8601 - Dallas, TX - Del Frisco's","",72.8,76.7,0,84.5,91.3,79.599999999999994,78.599999999999994,79.599999999999994,57.3,77.7,3.9,1,71,103,8601,8,2013,{"$f":"VLOOKUP(Q995,Stores!$A:$B,2,FALSE)","v":"DFDE"},"2013-08",{"$f":"VLOOKUP($Q995,Stores!$A:$D,4,FALSE)","v":"Closed"},{"$f":"VLOOKUP(Q995,Stores!$A:$C,3,FALSE)","v":"Dallas, TX"},4999,2.0604120824164833]
["8602 - Fort Worth, TX - Del Frisco's","",77.3,83.4,0,81.2,92.3,78.5,80.099999999999994,81.2,55.2,82.3,6.6,2,127,181,8602,8,2013,{"$f":"VLOOKUP(Q996,Stores!$A:$B,2,FALSE)","v":"DFDE"},"2013-08",{"$f":"VLOOKUP($Q996,Stores!$A:$D,4,FALSE)","v":"Open"},{"$f":"VLOOKUP(Q996,Stores!$A:$C,3,FALSE)","v":"Fort Worth, TX"},6659,2.7181258447214294]
["8603 - Denver, CO - Del Frisco's","",73.900000000000006,81.5,0,78.2,86.6,79,80.7,72.3,46.2,79.8,8.4,0,89,119,8603,8,2013,{"$f":"VLOOKUP(Q997,Stores!$A:$B,2,FALSE)","v":"DFDE"},"2013-08",{"$f":"VLOOKUP($Q997,Stores!$A:$D,4,FALSE)","v":"Open"},{"$f":"VLOOKUP(Q997,Stores!$A:$C,3,FALSE)","v":"Denver, CO"},8932,1.3322884012539187]
["8604 - Charlotte, NC - Del Frisco's","",72.2,78.7,0,74.5,83.3,73.599999999999994,77.3,80.599999999999994,60.2,42.1,7.9,1,148,216,8604,8,2013,{"$f":"VLOOKUP(Q998,Stores!$A:$B,2,FALSE)","v":"DFDE"},"2013-08",{"$f":"VLOOKUP($Q998,Stores!$A:$D,4,FALSE)","v":"Open"},{"$f":"VLOOKUP(Q998,Stores!$A:$C,3,FALSE)","v":"Charlotte, NC"},9688,2.2295623451692816]
["8605 - Houston, TX - Del Frisco's","",75,70.599999999999994,0,80.900000000000006,86.8,76.5,77.900000000000006,76.5,45.6,57.4,10.3,3,42,68,8605,8,2013,{"$f":"VLOOKUP(Q999,Stores!$A:$B,2,FALSE)","v":"DFDE"},"2013-08",{"$f":"VLOOKUP($Q999,Stores!$A:$D,4,FALSE)","v":"Open"},{"$f":"VLOOKUP(Q999,Stores!$A:$C,3,FALSE)","v":"Houston, TX"},7620,0.89238845144356949]
["8615 - Orlando, FL - Del Frisco’s","",75,75,0,77.8,88.9,72.2,77.8,77.8,38.9,94.4,8.3000000000000007,1,24,36,8615,8,2013,{"$f":"VLOOKUP(Q1000,Stores!$A:$B,2,FALSE)","v":"DFDE"},"2013-08",{"$f":"VLOOKUP($Q1000,Stores!$A:$D,4,FALSE)","v":"Open"},{"$f":"VLOOKUP(Q1000,Stores!$A:$C,3,FALSE)","v":"Orlando, FL"},3337,1.0788133053640996]
["8620 - New York City, NY - Del Frisco's","",70.8,73.5,0,80,83.2,75.099999999999994,78.900000000000006,81.599999999999994,37.799999999999997,58.9,7,2,125,185,8620,8,2013,{"$f":"VLOOKUP(Q1001,Stores!$A:$B,2,FALSE)","v":"DFDE"},"2013-08",{"$f":"VLOOKUP($Q1001,Stores!$A:$D,4,FALSE)","v":"Open"},{"$f":"VLOOKUP(Q1001,Stores!$A:$C,3,FALSE)","v":"New York City, NY"},20774,0.890536247232117]
["8635 - Boston, MA - Del Frisco's","",68.8,76,0,84.4,88.3,75.3,77.900000000000006,74,44.8,61,7.8,1,112,154,8635,8,2013,{"$f":"VLOOKUP(Q1002,Stores!$A:$B,2,FALSE)","v":"DFDE"},"2013-08",{"$f":"VLOOKUP($Q1002,Stores!$A:$D,4,FALSE)","v":"Open"},{"$f":"VLOOKUP(Q1002,Stores!$A:$C,3,FALSE)","v":"Boston, MA"},13695,1.1244979919678715]
["8640 - Las Vegas, NV - Del Frisco's","",80.5,79.2,0,89.6,88.3,85.7,80.5,77.900000000000006,63.6,77.900000000000006,7.8,0,54,77,8640,8,2013,{"$f":"VLOOKUP(Q1003,Stores!$A:$B,2,FALSE)","v":"DFDE"},"2013-08",{"$f":"VLOOKUP($Q1003,Stores!$A:$D,4,FALSE)","v":"Open"},{"$f":"VLOOKUP(Q1003,Stores!$A:$C,3,FALSE)","v":"Las Vegas, NV"},5138,1.4986376021798364]
["8650 - Chicago, IL - Del Frisco's","",66.7,71.400000000000006,0,81,88.1,78.599999999999994,81,88.1,52.4,81,4.8,0,31,42,8650,8,2013,{"$f":"VLOOKUP(Q1004,Stores!$A:$B,2,FALSE)","v":"DFDE"},"2013-08",{"$f":"VLOOKUP($Q1004,Stores!$A:$D,4,FALSE)","v":"Open"},{"$f":"VLOOKUP(Q1004,Stores!$A:$C,3,FALSE)","v":"Chicago, IL"},4070,1.0319410319410318]
["8655 - Washington, DC -  Del Frisco's","",66.2,74.599999999999994,0,69,83.1,69,77.5,81.7,54.9,77.5,8.5,0,50,71,8655,8,2013,{"$f":"VLOOKUP(Q1005,Stores!$A:$B,2,FALSE)","v":"DFDE"},"2013-08",{"$f":"VLOOKUP($Q1005,Stores!$A:$D,4,FALSE)","v":"Open"},{"$f":"VLOOKUP(Q1005,Stores!$A:$C,3,FALSE)","v":"Washington, DC"},7975,0.89028213166144199]
["8680 - Philadelphia, PA - Del Frisco's","",76.3,78.900000000000006,0,86,88.6,80.7,83.3,81.599999999999994,55.3,67.5,6.1,1,82,114,8680,8,2013,{"$f":"VLOOKUP(Q1006,Stores!$A:$B,2,FALSE)","v":"DFDE"},"2013-08",{"$f":"VLOOKUP($Q1006,Stores!$A:$D,4,FALSE)","v":"Open"},{"$f":"VLOOKUP(Q1006,Stores!$A:$C,3,FALSE)","v":"Philadelphia, PA"},11456,0.99511173184357538]
["8701 - New York City, NY - Grille","",77.400000000000006,80.599999999999994,0,71,77.400000000000006,74.2,80.599999999999994,74.2,54.8,58.1,6.5,0,18,31,8701,8,2013,{"$f":"VLOOKUP(Q1007,Stores!$A:$B,2,FALSE)","v":"DFG"},"2013-08",{"$f":"VLOOKUP($Q1007,Stores!$A:$D,4,FALSE)","v":"Open"},{"$f":"VLOOKUP(Q1007,Stores!$A:$C,3,FALSE)","v":"New York City, NY"},13559,0.22863042997271185]
["8702 - Dallas, TX - Grille","",78.900000000000006,84.2,0,94.7,94.7,89.5,68.400000000000006,84.2,57.9,52.6,5.3,0,13,19,8702,8,2013,{"$f":"VLOOKUP(Q1008,Stores!$A:$B,2,FALSE)","v":"DFG"},"2013-08",{"$f":"VLOOKUP($Q1008,Stores!$A:$D,4,FALSE)","v":"Open"},{"$f":"VLOOKUP(Q1008,Stores!$A:$C,3,FALSE)","v":"Dallas, TX"},6525,0.29118773946360155]
["8703 - Washington, DC - Grille","",65.2,60.9,0,73.900000000000006,82.6,73.900000000000006,60.9,65.2,47.8,34.799999999999997,4.3,0,13,23,8703,8,2013,{"$f":"VLOOKUP(Q1009,Stores!$A:$B,2,FALSE)","v":"DFG"},"2013-08",{"$f":"VLOOKUP($Q1009,Stores!$A:$D,4,FALSE)","v":"Open"},{"$f":"VLOOKUP(Q1009,Stores!$A:$C,3,FALSE)","v":"Washington, DC"},6230,0.3691813804173355]
["8706 - Atlanta, GA - Grille","",73.2,80.5,0,78,85.4,75.599999999999994,65.900000000000006,82.9,65.900000000000006,78,9.8000000000000007,1,35,41,8706,8,2013,{"$f":"VLOOKUP(Q1010,Stores!$A:$B,2,FALSE)","v":"DFG"},"2013-08",{"$f":"VLOOKUP($Q1010,Stores!$A:$D,4,FALSE)","v":"Open"},{"$f":"VLOOKUP(Q1010,Stores!$A:$C,3,FALSE)","v":"Atlanta, GA"},8688,0.4719152854511971]
["8707 - River Oaks, TX - Grille","",80.8,82.1,0,84.6,91,84.6,79.5,88.5,76.900000000000006,51.3,6.4,1,54,78,8707,8,2013,{"$f":"VLOOKUP(Q1011,Stores!$A:$B,2,FALSE)","v":"DFG"},"2013-08",{"$f":"VLOOKUP($Q1011,Stores!$A:$D,4,FALSE)","v":"Open"},{"$f":"VLOOKUP(Q1011,Stores!$A:$C,3,FALSE)","v":"Houston, TX"},6648,1.1732851985559567]
["8708 - Chestnut Hill, MA - Grille","",89.1,89.1,0,89.1,91.3,84.8,84.8,84.8,63,82.6,4.3,0,30,46,8708,8,2013,{"$f":"VLOOKUP(Q1012,Stores!$A:$B,2,FALSE)","v":"DFG"},"2013-08",{"$f":"VLOOKUP($Q1012,Stores!$A:$D,4,FALSE)","v":"Open"},{"$f":"VLOOKUP(Q1012,Stores!$A:$C,3,FALSE)","v":"Chestnut Hill, MA"},4839,0.95060963008886135]
["8709 - Santa Monica, CA - Grille","",85.7,78.599999999999994,0,89.3,96.4,82.1,85.7,89.3,64.3,57.1,3.6,0,18,28,8709,8,2013,{"$f":"VLOOKUP(Q1013,Stores!$A:$B,2,FALSE)","v":"DFG"},"2013-08",{"$f":"VLOOKUP($Q1013,Stores!$A:$D,4,FALSE)","v":"Open"},{"$f":"VLOOKUP(Q1013,Stores!$A:$C,3,FALSE)","v":"Santa Monica, CA"},20783,0.13472549680026943]
["8710 - Fort Worth, TX - Grille","",69.599999999999994,75,0,71.400000000000006,85.7,67.900000000000006,73.2,67.900000000000006,51.8,64.3,5.4,2,39,56,8710,8,2013,{"$f":"VLOOKUP(Q1014,Stores!$A:$B,2,FALSE)","v":"DFG"},"2013-08",{"$f":"VLOOKUP($Q1014,Stores!$A:$D,4,FALSE)","v":"Open"},{"$f":"VLOOKUP(Q1014,Stores!$A:$C,3,FALSE)","v":"Fort Worth, TX"},11080,0.50541516245487361]
["8711 – Cherry Creek, CO - Grille","",73.7,72.400000000000006,0,78.900000000000006,84.2,77.599999999999994,80.3,77.599999999999994,59.2,77.599999999999994,7.9,0,48,76,8711,8,2013,{"$f":"VLOOKUP(Q1015,Stores!$A:$B,2,FALSE)","v":"DFG"},"2013-08",{"$f":"VLOOKUP($Q1015,Stores!$A:$D,4,FALSE)","v":"Open"},{"$f":"VLOOKUP(Q1015,Stores!$A:$C,3,FALSE)","v":"Cherry Creek, CO"},7416,1.0248112189859764]
["8712 - Southlake, TX - Grille","",72.2,75,0,75,77.8,63.9,75,68.099999999999994,54.2,87.5,9.6999999999999993,1,54,72,8712,8,2013,{"$f":"VLOOKUP(Q1016,Stores!$A:$B,2,FALSE)","v":"DFG"},"2013-08",{"$f":"VLOOKUP($Q1016,Stores!$A:$D,4,FALSE)","v":"Open"},{"$f":"VLOOKUP(Q1016,Stores!$A:$C,3,FALSE)","v":"Southlake, TX"},11260,0.63943161634103018]
["8713 - Burlington, MA - Grille",41794,50,59.4,0,71.900000000000006,93.8,59.4,62.5,65.599999999999994,37.5,40.6,6.3,0,24,32,8713,8,2013,{"$f":"VLOOKUP(Q1017,Stores!$A:$B,2,FALSE)","v":"DFG"},"2013-08",{"$f":"VLOOKUP($Q1017,Stores!$A:$D,4,FALSE)","v":"Open"},{"$f":"VLOOKUP(Q1017,Stores!$A:$C,3,FALSE)","v":"Burlington, MA"},6718,0.47633224173861266]
["8714 - N Bethesda, MD - Grille",41908,41.7,58.3,0,41.7,58.3,41.7,58.3,50,33.299999999999997,66.7,25,0,11,12,8714,8,2013,{"$f":"VLOOKUP(Q1018,Stores!$A:$B,2,FALSE)","v":"DFG"},"2013-08",{"$f":"VLOOKUP($Q1018,Stores!$A:$D,4,FALSE)","v":"Open"},{"$f":"VLOOKUP(Q1018,Stores!$A:$C,3,FALSE)","v":"N. Bethesda, MD"},4201,0.28564627469650083]
["8715 - Irvine, CA - Grille","",82.4,80.400000000000006,0,84.3,90.2,78.400000000000006,86.3,72.5,60.8,76.5,3.9,0,37,51,8715,8,2013,{"$f":"VLOOKUP(Q1019,Stores!$A:$B,2,FALSE)","v":"DFG"},"2013-08",{"$f":"VLOOKUP($Q1019,Stores!$A:$D,4,FALSE)","v":"Open"},{"$f":"VLOOKUP(Q1019,Stores!$A:$C,3,FALSE)","v":"Irvine, CA"},6946,0.73423553124100205]
["8716 - Tampa, FL - Grille","",81.8,79.5,0,90.9,90.9,84.1,79.5,88.6,68.2,75,4.5,0,34,44,8716,8,2013,{"$f":"VLOOKUP(Q1020,Stores!$A:$B,2,FALSE)","v":"DFG"},"2013-08",{"$f":"VLOOKUP($Q1020,Stores!$A:$D,4,FALSE)","v":"Open"},{"$f":"VLOOKUP(Q1020,Stores!$A:$C,3,FALSE)","v":"Tampa, FL"},5845,0.75278015397775877]
["8717 - Pasadena, CA - Grille",41992,81.8,69.7,0,93.9,90.9,78.8,75.8,84.8,54.5,78.8,6.1,0,25,33,8717,8,2013,{"$f":"VLOOKUP(Q1021,Stores!$A:$B,2,FALSE)","v":"DFG"},"2013-08",{"$f":"VLOOKUP($Q1021,Stores!$A:$D,4,FALSE)","v":"Open"},{"$f":"VLOOKUP(Q1021,Stores!$A:$C,3,FALSE)","v":"Pasadena, CA"},4743,0.6957621758380772]
["8718 -Woodlands, TX - Grille","",67.7,67.7,0,78.5,80,66.2,72.3,72.3,52.3,64.599999999999994,12.3,0,43,65,8718,8,2013,{"$f":"VLOOKUP(Q1022,Stores!$A:$B,2,FALSE)","v":"DFG"},"2013-08",{"$f":"VLOOKUP($Q1022,Stores!$A:$D,4,FALSE)","v":"Open"},{"$f":"VLOOKUP(Q1022,Stores!$A:$C,3,FALSE)","v":"Woodlands, TX"},9030,0.71982281284606864]
["8720 - Little Rock, AR - Grille","",76.2,81,0,85.7,85.7,71.400000000000006,71.400000000000006,66.7,47.6,81,4.8,0,13,21,8720,8,2013,{"$f":"VLOOKUP(Q1023,Stores!$A:$B,2,FALSE)","v":"DFG"},"2013-08",{"$f":"VLOOKUP($Q1023,Stores!$A:$D,4,FALSE)","v":"Open"},{"$f":"VLOOKUP(Q1023,Stores!$A:$C,3,FALSE)","v":"Little Rock, AR"},5517,0.38064165307232189]
["8721 - Plano, TX - Grille","",78.5,81.5,0,84.6,86.2,81.5,81.5,83.1,66.2,78.5,9.1999999999999993,1,48,65,8721,8,2013,{"$f":"VLOOKUP(Q1024,Stores!$A:$B,2,FALSE)","v":"DFG"},"2013-08",{"$f":"VLOOKUP($Q1024,Stores!$A:$D,4,FALSE)","v":"Open"},{"$f":"VLOOKUP(Q1024,Stores!$A:$C,3,FALSE)","v":"Plano, TX"},8957,0.72568940493468803]
["8722 – Stamford, CT - Grille","",78.599999999999994,82.1,0,78.599999999999994,89.3,71.400000000000006,71.400000000000006,71.400000000000006,57.1,71.400000000000006,10.7,1,20,28,8722,8,2013,{"$f":"VLOOKUP(Q1025,Stores!$A:$B,2,FALSE)","v":"DFG"},"2013-08",{"$f":"VLOOKUP($Q1025,Stores!$A:$D,4,FALSE)","v":"Open"},{"$f":"VLOOKUP(Q1025,Stores!$A:$C,3,FALSE)","v":"Stamford, CT"},4989,0.56123471637602729]
["8723 – Hoboken, NJ - Grille","",60,90,0,80,80,60,75,70,50,55,10,0,14,20,8723,8,2013,{"$f":"VLOOKUP(Q1026,Stores!$A:$B,2,FALSE)","v":"DFG"},"2013-08",{"$f":"VLOOKUP($Q1026,Stores!$A:$D,4,FALSE)","v":"Open"},{"$f":"VLOOKUP(Q1026,Stores!$A:$C,3,FALSE)","v":"Hoboken, NJ"},9276,0.21561017680034497]
["8724 - Huntington, NY - Grille","",66.7,67.900000000000006,0,79.8,81,73.8,65.5,66.7,42.9,77.400000000000006,10.7,0,67,84,{"$f":"MID(A1027,1,4)*1","v":8724},8,2013,{"$f":"VLOOKUP(Q1027,Stores!$A:$B,2,FALSE)","v":"DFG"},{"$f":"S1027&\"-\"&REPT(\"0\",2-LEN(R1027))&R1027","v":"2013-08"},{"$f":"VLOOKUP($Q1027,Stores!$A:$D,4,FALSE)","v":"Open"},{"$f":"VLOOKUP(Q1027,Stores!$A:$C,3,FALSE)","v":"Huntington, NY"},13053,{"$f":"P1027/(X1027/100)","v":0.64353022293725581}]
["8501 - Austin, TX - Sullivan's","",80,80,0,95,90,95,90,70,70,75,0,0,11,20,8501,9,2013,{"$f":"VLOOKUP(Q1028,Stores!$A:$B,2,FALSE)","v":"SULL"},"2013-09",{"$f":"VLOOKUP($Q1028,Stores!$A:$D,4,FALSE)","v":"Open"},{"$f":"VLOOKUP(Q1028,Stores!$A:$C,3,FALSE)","v":"Austin, TX"},4583,0.4363953742090334]
["8502 - Indianapolis, IN - Sullivan's","",70.7,76,0,78.7,86.7,72,72,70.7,44,78.7,6.7,0,50,75,8502,9,2013,{"$f":"VLOOKUP(Q1029,Stores!$A:$B,2,FALSE)","v":"SULL"},"2013-09",{"$f":"VLOOKUP($Q1029,Stores!$A:$D,4,FALSE)","v":"Open"},{"$f":"VLOOKUP(Q1029,Stores!$A:$C,3,FALSE)","v":"Indianapolis, IN"},5571,1.3462574044157243]
["8504 - Houston, TX - Sullivan's","",75.599999999999994,78,0,81.7,86.6,79.3,75.599999999999994,76.8,75.599999999999994,84.1,12.2,2,66,82,8504,9,2013,{"$f":"VLOOKUP(Q1030,Stores!$A:$B,2,FALSE)","v":"SULL"},"2013-09",{"$f":"VLOOKUP($Q1030,Stores!$A:$D,4,FALSE)","v":"Closed"},{"$f":"VLOOKUP(Q1030,Stores!$A:$C,3,FALSE)","v":"Houston, TX"},5915,1.386306001690617]
["8510 - Wilmington, DE - Sullivan's","",60,71.7,0,71.7,78.3,66.7,75,68.3,46.7,63.3,5,0,47,60,8510,9,2013,{"$f":"VLOOKUP(Q1031,Stores!$A:$B,2,FALSE)","v":"SULL"},"2013-09",{"$f":"VLOOKUP($Q1031,Stores!$A:$D,4,FALSE)","v":"Open"},{"$f":"VLOOKUP(Q1031,Stores!$A:$C,3,FALSE)","v":"Wilmington, DE"},5003,1.1992804317409553]
["8522 - King of Prussia, PA - Sullivan's","",61.4,70.5,0,65.900000000000006,84.1,70.5,75,65.900000000000006,45.5,61.4,6.8,1,33,44,8522,9,2013,{"$f":"VLOOKUP(Q1032,Stores!$A:$B,2,FALSE)","v":"SULL"},"2013-09",{"$f":"VLOOKUP($Q1032,Stores!$A:$D,4,FALSE)","v":"Open"},{"$f":"VLOOKUP(Q1032,Stores!$A:$C,3,FALSE)","v":"King of Prussia, PA"},5387,0.81678113978095424]
["8525 - Tucson, AZ - Sullivan's","",75.599999999999994,80.5,0,80.5,92.7,85.4,80.5,82.9,65.900000000000006,80.5,4.9000000000000004,0,36,41,8525,9,2013,{"$f":"VLOOKUP(Q1033,Stores!$A:$B,2,FALSE)","v":"SULL"},"2013-09",{"$f":"VLOOKUP($Q1033,Stores!$A:$D,4,FALSE)","v":"Open"},{"$f":"VLOOKUP(Q1033,Stores!$A:$C,3,FALSE)","v":"Tucson, AZ"},3376,1.2144549763033177]
["8532 - Omaha, NE - Sullivan's","",80,84,0,84,92,84,84,88,64,80,4,0,18,25,8532,9,2013,{"$f":"VLOOKUP(Q1034,Stores!$A:$B,2,FALSE)","v":"SULL"},"2013-09",{"$f":"VLOOKUP($Q1034,Stores!$A:$D,4,FALSE)","v":"Open"},{"$f":"VLOOKUP(Q1034,Stores!$A:$C,3,FALSE)","v":"Omaha, NE"},4170,0.5995203836930455]
["8535 - Baltimore, MD - Sullivan's","",79.3,75.900000000000006,0,89.7,93.1,82.8,79.3,82.8,69,72.400000000000006,0,0,19,29,8535,9,2013,{"$f":"VLOOKUP(Q1035,Stores!$A:$B,2,FALSE)","v":"SULL"},"2013-09",{"$f":"VLOOKUP($Q1035,Stores!$A:$D,4,FALSE)","v":"Open"},{"$f":"VLOOKUP(Q1035,Stores!$A:$C,3,FALSE)","v":"Baltimore, MD"},4691,0.61820507354508636]
["8536 - Leawood, KS - Sullivan's","",76.5,85.3,0,91.2,91.2,91.2,82.4,88.2,67.599999999999994,91.2,5.9,0,26,34,8536,9,2013,{"$f":"VLOOKUP(Q1036,Stores!$A:$B,2,FALSE)","v":"SULL"},"2013-09",{"$f":"VLOOKUP($Q1036,Stores!$A:$D,4,FALSE)","v":"Open"},{"$f":"VLOOKUP(Q1036,Stores!$A:$C,3,FALSE)","v":"Leawood, KS"},4553,0.74676037777289694]
["8541 - Chicago, IL - Sullivan's","",71.400000000000006,76.2,0,90.5,85.7,85.7,81,71.400000000000006,61.9,90.5,9.5,0,15,21,8541,9,2013,{"$f":"VLOOKUP(Q1037,Stores!$A:$B,2,FALSE)","v":"SULL"},"2013-09",{"$f":"VLOOKUP($Q1037,Stores!$A:$D,4,FALSE)","v":"Open"},{"$f":"VLOOKUP(Q1037,Stores!$A:$C,3,FALSE)","v":"Chicago, IL"},2621,0.80122090805036239]
["8542 - Naperville, IL - Sullivan's","",64.099999999999994,71.8,0,73.099999999999994,78.2,62.8,70.5,52.6,34.6,87.2,12.8,1,55,78,8542,9,2013,{"$f":"VLOOKUP(Q1038,Stores!$A:$B,2,FALSE)","v":"SULL"},"2013-09",{"$f":"VLOOKUP($Q1038,Stores!$A:$D,4,FALSE)","v":"Open"},{"$f":"VLOOKUP(Q1038,Stores!$A:$C,3,FALSE)","v":"Naperville, IL"},5379,1.4500836586726158]
["8543 - Lincolnshire, IL - Sullivan's","",82.6,73.900000000000006,0,91.3,91.3,82.6,78.3,82.6,56.5,87,8.6999999999999993,0,18,23,8543,9,2013,{"$f":"VLOOKUP(Q1039,Stores!$A:$B,2,FALSE)","v":"SULL"},"2013-09",{"$f":"VLOOKUP($Q1039,Stores!$A:$D,4,FALSE)","v":"Open"},{"$f":"VLOOKUP(Q1039,Stores!$A:$C,3,FALSE)","v":"Lincolnshire, IL"},3495,0.6580829756795421]
["8551 - Baton Rouge, LA - Sullivan's","",89.9,89.9,0,93.3,96.6,86.5,92.1,92.1,79.8,98.9,2.2000000000000002,0,66,89,8551,9,2013,{"$f":"VLOOKUP(Q1040,Stores!$A:$B,2,FALSE)","v":"SULL"},"2013-09",{"$f":"VLOOKUP($Q1040,Stores!$A:$D,4,FALSE)","v":"Open"},{"$f":"VLOOKUP(Q1040,Stores!$A:$C,3,FALSE)","v":"Baton Rouge, LA"},3112,2.8598971722365039]
["8561 - Raleigh, NC - Sullivan's","",59.9,62.6,0,65.3,71.400000000000006,56.5,68,56.5,50.3,66.7,19,0,106,147,8561,9,2013,{"$f":"VLOOKUP(Q1041,Stores!$A:$B,2,FALSE)","v":"SULL"},"2013-09",{"$f":"VLOOKUP($Q1041,Stores!$A:$D,4,FALSE)","v":"Open"},{"$f":"VLOOKUP(Q1041,Stores!$A:$C,3,FALSE)","v":"Raleigh, NC"},7494,1.9615692554043236]
["8562 - Charlotte, NC - Sullivan's","",76.5,79.400000000000006,0,82.4,91.2,82.4,82.4,79.400000000000006,55.9,61.8,2.9,0,24,34,8562,9,2013,{"$f":"VLOOKUP(Q1042,Stores!$A:$B,2,FALSE)","v":"SULL"},"2013-09",{"$f":"VLOOKUP($Q1042,Stores!$A:$D,4,FALSE)","v":"Open"},{"$f":"VLOOKUP(Q1042,Stores!$A:$C,3,FALSE)","v":"Charlotte, NC"},4362,0.77945896377808355]
["8570 - Palm Desert, CA - Sullivan's","",83.8,86.5,0,86.5,89.2,86.5,86.5,83.8,67.599999999999994,89.2,8.1,0,32,37,8570,9,2013,{"$f":"VLOOKUP(Q1043,Stores!$A:$B,2,FALSE)","v":"SULL"},"2013-09",{"$f":"VLOOKUP($Q1043,Stores!$A:$D,4,FALSE)","v":"Open"},{"$f":"VLOOKUP(Q1043,Stores!$A:$C,3,FALSE)","v":"Palm Desert, CA"},4074,0.90819833087874324]
["8591 - Anchorage, AK - Sullivan's","",85.7,87.5,0,91.1,94.6,87.5,87.5,87.5,82.1,76.8,5.4,0,41,56,8591,9,2013,{"$f":"VLOOKUP(Q1044,Stores!$A:$B,2,FALSE)","v":"SULL"},"2013-09",{"$f":"VLOOKUP($Q1044,Stores!$A:$D,4,FALSE)","v":"Open"},{"$f":"VLOOKUP(Q1044,Stores!$A:$C,3,FALSE)","v":"Anchorage, AK"},6971,0.80332807344713819]
["8592 - Seattle, WA - Sullivan's","",87,91.3,0,91.3,95.7,95.7,73.900000000000006,78.3,73.900000000000006,56.5,0,0,19,23,8592,9,2013,{"$f":"VLOOKUP(Q1045,Stores!$A:$B,2,FALSE)","v":"SULL"},"2013-09",{"$f":"VLOOKUP($Q1045,Stores!$A:$D,4,FALSE)","v":"Closed"},{"$f":"VLOOKUP(Q1045,Stores!$A:$C,3,FALSE)","v":"Seattle, WA"},4080,0.56372549019607843]
["8601 - Dallas, TX - Del Frisco's","",67,70.900000000000006,0,73.8,80.599999999999994,66,76.7,68.900000000000006,51.5,65,11.7,3,72,103,8601,9,2013,{"$f":"VLOOKUP(Q1046,Stores!$A:$B,2,FALSE)","v":"DFDE"},"2013-09",{"$f":"VLOOKUP($Q1046,Stores!$A:$D,4,FALSE)","v":"Closed"},{"$f":"VLOOKUP(Q1046,Stores!$A:$C,3,FALSE)","v":"Dallas, TX"},3161,3.2584625118633346]
["8602 - Fort Worth, TX - Del Frisco's","",71,78.3,0,84.1,87.9,75.400000000000006,82.6,76.3,55.6,74.400000000000006,7.2,0,149,207,8602,9,2013,{"$f":"VLOOKUP(Q1047,Stores!$A:$B,2,FALSE)","v":"DFDE"},"2013-09",{"$f":"VLOOKUP($Q1047,Stores!$A:$D,4,FALSE)","v":"Open"},{"$f":"VLOOKUP(Q1047,Stores!$A:$C,3,FALSE)","v":"Fort Worth, TX"},8575,2.4139941690962101]
["8603 - Denver, CO - Del Frisco's","",73.5,75.5,0,77.400000000000006,86.5,72.3,80,75.5,56.1,61.3,7.1,0,119,155,8603,9,2013,{"$f":"VLOOKUP(Q1048,Stores!$A:$B,2,FALSE)","v":"DFDE"},"2013-09",{"$f":"VLOOKUP($Q1048,Stores!$A:$D,4,FALSE)","v":"Open"},{"$f":"VLOOKUP(Q1048,Stores!$A:$C,3,FALSE)","v":"Denver, CO"},9579,1.6181229773462782]
["8604 - Charlotte, NC - Del Frisco's","",74.099999999999994,80.400000000000006,0,80.400000000000006,89.3,77.7,80.400000000000006,76.8,53.6,53.6,6.3,2,80,112,8604,9,2013,{"$f":"VLOOKUP(Q1049,Stores!$A:$B,2,FALSE)","v":"DFDE"},"2013-09",{"$f":"VLOOKUP($Q1049,Stores!$A:$D,4,FALSE)","v":"Open"},{"$f":"VLOOKUP(Q1049,Stores!$A:$C,3,FALSE)","v":"Charlotte, NC"},5123,2.1862190122974821]
["8605 - Houston, TX - Del Frisco's","",63.9,64.7,0,66.400000000000006,72.3,65.5,71.400000000000006,73.099999999999994,55.5,61.3,12.6,2,82,119,8605,9,2013,{"$f":"VLOOKUP(Q1050,Stores!$A:$B,2,FALSE)","v":"DFDE"},"2013-09",{"$f":"VLOOKUP($Q1050,Stores!$A:$D,4,FALSE)","v":"Open"},{"$f":"VLOOKUP(Q1050,Stores!$A:$C,3,FALSE)","v":"Houston, TX"},10340,1.1508704061895552]
["8615 - Orlando, FL - Del Frisco’s","",70.099999999999994,77.599999999999994,0,80.599999999999994,85.1,83.6,77.599999999999994,80.599999999999994,62.7,67.2,4.5,1,54,67,8615,9,2013,{"$f":"VLOOKUP(Q1051,Stores!$A:$B,2,FALSE)","v":"DFDE"},"2013-09",{"$f":"VLOOKUP($Q1051,Stores!$A:$D,4,FALSE)","v":"Open"},{"$f":"VLOOKUP(Q1051,Stores!$A:$C,3,FALSE)","v":"Orlando, FL"},4323,1.549849641452695]
["8620 - New York City, NY - Del Frisco's","",74.5,83.9,0,81,86.1,76.599999999999994,76.599999999999994,81.8,50.4,59.1,3.6,0,93,137,8620,9,2013,{"$f":"VLOOKUP(Q1052,Stores!$A:$B,2,FALSE)","v":"DFDE"},"2013-09",{"$f":"VLOOKUP($Q1052,Stores!$A:$D,4,FALSE)","v":"Open"},{"$f":"VLOOKUP(Q1052,Stores!$A:$C,3,FALSE)","v":"New York City, NY"},17980,0.76195773081201335]
["8635 - Boston, MA - Del Frisco's","",65.900000000000006,69.599999999999994,0,74.599999999999994,79.7,72.5,73.900000000000006,75.400000000000006,43.5,62.3,10.1,2,108,138,8635,9,2013,{"$f":"VLOOKUP(Q1053,Stores!$A:$B,2,FALSE)","v":"DFDE"},"2013-09",{"$f":"VLOOKUP($Q1053,Stores!$A:$D,4,FALSE)","v":"Open"},{"$f":"VLOOKUP(Q1053,Stores!$A:$C,3,FALSE)","v":"Boston, MA"},14007,0.98522167487684731]
["8640 - Las Vegas, NV - Del Frisco's","",84,82.7,0,89.3,97.3,89.3,82.7,76,62.7,80,1.3,1,53,75,8640,9,2013,{"$f":"VLOOKUP(Q1054,Stores!$A:$B,2,FALSE)","v":"DFDE"},"2013-09",{"$f":"VLOOKUP($Q1054,Stores!$A:$D,4,FALSE)","v":"Open"},{"$f":"VLOOKUP(Q1054,Stores!$A:$C,3,FALSE)","v":"Las Vegas, NV"},4785,1.567398119122257]
["8650 - Chicago, IL - Del Frisco's","",71.8,74.400000000000006,0,69.2,74.400000000000006,69.2,82.1,79.5,61.5,82.1,17.899999999999999,3,29,39,8650,9,2013,{"$f":"VLOOKUP(Q1055,Stores!$A:$B,2,FALSE)","v":"DFDE"},"2013-09",{"$f":"VLOOKUP($Q1055,Stores!$A:$D,4,FALSE)","v":"Open"},{"$f":"VLOOKUP(Q1055,Stores!$A:$C,3,FALSE)","v":"Chicago, IL"},3719,1.0486689970422156]
["8655 - Washington, DC -  Del Frisco's","",68.5,71.7,0,71.7,75,66.3,72.8,77.2,56.5,69.599999999999994,16.3,6,68,92,8655,9,2013,{"$f":"VLOOKUP(Q1056,Stores!$A:$B,2,FALSE)","v":"DFDE"},"2013-09",{"$f":"VLOOKUP($Q1056,Stores!$A:$D,4,FALSE)","v":"Open"},{"$f":"VLOOKUP(Q1056,Stores!$A:$C,3,FALSE)","v":"Washington, DC"},9521,0.96628505409095689]
["8680 - Philadelphia, PA - Del Frisco's","",65.7,72.2,0,69.400000000000006,77.8,65.7,82.4,81.5,52.8,66.7,10.199999999999999,2,79,108,8680,9,2013,{"$f":"VLOOKUP(Q1057,Stores!$A:$B,2,FALSE)","v":"DFDE"},"2013-09",{"$f":"VLOOKUP($Q1057,Stores!$A:$D,4,FALSE)","v":"Open"},{"$f":"VLOOKUP(Q1057,Stores!$A:$C,3,FALSE)","v":"Philadelphia, PA"},9197,1.1742959660758943]
["8701 - New York City, NY - Grille","",76.3,78.900000000000006,0,78.900000000000006,89.5,76.3,78.900000000000006,78.900000000000006,68.400000000000006,76.3,10.5,1,33,38,8701,9,2013,{"$f":"VLOOKUP(Q1058,Stores!$A:$B,2,FALSE)","v":"DFG"},"2013-09",{"$f":"VLOOKUP($Q1058,Stores!$A:$D,4,FALSE)","v":"Open"},{"$f":"VLOOKUP(Q1058,Stores!$A:$C,3,FALSE)","v":"New York City, NY"},10296,0.36907536907536909]
["8702 - Dallas, TX - Grille","",67.7,74.2,0,80.599999999999994,74.2,64.5,77.400000000000006,67.7,64.5,54.8,3.2,0,17,31,8702,9,2013,{"$f":"VLOOKUP(Q1059,Stores!$A:$B,2,FALSE)","v":"DFG"},"2013-09",{"$f":"VLOOKUP($Q1059,Stores!$A:$D,4,FALSE)","v":"Open"},{"$f":"VLOOKUP(Q1059,Stores!$A:$C,3,FALSE)","v":"Dallas, TX"},7624,0.40661070304302205]
["8703 - Washington, DC - Grille","",76.7,73.3,0,76.7,80,76.7,76.7,76.7,66.7,46.7,10,0,21,30,8703,9,2013,{"$f":"VLOOKUP(Q1060,Stores!$A:$B,2,FALSE)","v":"DFG"},"2013-09",{"$f":"VLOOKUP($Q1060,Stores!$A:$D,4,FALSE)","v":"Open"},{"$f":"VLOOKUP(Q1060,Stores!$A:$C,3,FALSE)","v":"Washington, DC"},5931,0.50581689428426913]
["8706 - Atlanta, GA - Grille","",69.2,69.2,0,76.900000000000006,89.7,82.1,66.7,71.8,61.5,66.7,5.0999999999999996,0,28,39,8706,9,2013,{"$f":"VLOOKUP(Q1061,Stores!$A:$B,2,FALSE)","v":"DFG"},"2013-09",{"$f":"VLOOKUP($Q1061,Stores!$A:$D,4,FALSE)","v":"Open"},{"$f":"VLOOKUP(Q1061,Stores!$A:$C,3,FALSE)","v":"Atlanta, GA"},8664,0.45013850415512463]
["8707 - River Oaks, TX - Grille","",73.2,67.900000000000006,0,69.599999999999994,82.1,69.599999999999994,73.2,75,71.400000000000006,58.9,8.9,0,45,56,8707,9,2013,{"$f":"VLOOKUP(Q1062,Stores!$A:$B,2,FALSE)","v":"DFG"},"2013-09",{"$f":"VLOOKUP($Q1062,Stores!$A:$D,4,FALSE)","v":"Open"},{"$f":"VLOOKUP(Q1062,Stores!$A:$C,3,FALSE)","v":"Houston, TX"},9602,0.58321183086856909]
["8708 - Chestnut Hill, MA - Grille","",58.1,61.3,0,61.3,71,61.3,61.3,48.4,48.4,58.1,12.9,0,21,31,8708,9,2013,{"$f":"VLOOKUP(Q1063,Stores!$A:$B,2,FALSE)","v":"DFG"},"2013-09",{"$f":"VLOOKUP($Q1063,Stores!$A:$D,4,FALSE)","v":"Open"},{"$f":"VLOOKUP(Q1063,Stores!$A:$C,3,FALSE)","v":"Chestnut Hill, MA"},5629,0.55071948836383022]
["8709 - Santa Monica, CA - Grille","",91.3,82.6,0,87,91.3,87,87,78.3,73.900000000000006,65.2,4.3,1,18,23,8709,9,2013,{"$f":"VLOOKUP(Q1064,Stores!$A:$B,2,FALSE)","v":"DFG"},"2013-09",{"$f":"VLOOKUP($Q1064,Stores!$A:$D,4,FALSE)","v":"Open"},{"$f":"VLOOKUP(Q1064,Stores!$A:$C,3,FALSE)","v":"Santa Monica, CA"},17428,0.13197154005049347]
["8710 - Fort Worth, TX - Grille","",76.599999999999994,80.5,0,76.599999999999994,79.2,74,77.900000000000006,75.3,63.6,61,10.4,3,56,77,8710,9,2013,{"$f":"VLOOKUP(Q1065,Stores!$A:$B,2,FALSE)","v":"DFG"},"2013-09",{"$f":"VLOOKUP($Q1065,Stores!$A:$D,4,FALSE)","v":"Open"},{"$f":"VLOOKUP(Q1065,Stores!$A:$C,3,FALSE)","v":"Fort Worth, TX"},12285,0.62678062678062685]
["8711 – Cherry Creek, CO - Grille","",75.5,81.599999999999994,0,81.599999999999994,85.7,81.599999999999994,87.8,67.3,59.2,69.400000000000006,6.1,0,32,49,8711,9,2013,{"$f":"VLOOKUP(Q1066,Stores!$A:$B,2,FALSE)","v":"DFG"},"2013-09",{"$f":"VLOOKUP($Q1066,Stores!$A:$D,4,FALSE)","v":"Open"},{"$f":"VLOOKUP(Q1066,Stores!$A:$C,3,FALSE)","v":"Cherry Creek, CO"},7014,0.69860279441117767]
["8712 - Southlake, TX - Grille","",66.3,75.8,0,74.7,76.8,76.8,76.8,74.7,58.9,86.3,13.7,4,58,95,8712,9,2013,{"$f":"VLOOKUP(Q1067,Stores!$A:$B,2,FALSE)","v":"DFG"},"2013-09",{"$f":"VLOOKUP($Q1067,Stores!$A:$D,4,FALSE)","v":"Open"},{"$f":"VLOOKUP(Q1067,Stores!$A:$C,3,FALSE)","v":"Southlake, TX"},11480,0.82752613240418116]
["8713 - Burlington, MA - Grille",41794,66,68,0,76,82,70,66,64,52,52,12,0,32,50,8713,9,2013,{"$f":"VLOOKUP(Q1068,Stores!$A:$B,2,FALSE)","v":"DFG"},"2013-09",{"$f":"VLOOKUP($Q1068,Stores!$A:$D,4,FALSE)","v":"Open"},{"$f":"VLOOKUP(Q1068,Stores!$A:$C,3,FALSE)","v":"Burlington, MA"},8198,0.60990485484264456]
["8714 - N Bethesda, MD - Grille",41908,29.4,29.4,0,47.1,76.5,41.2,47.1,41.2,17.600000000000001,76.5,23.5,0,13,17,8714,9,2013,{"$f":"VLOOKUP(Q1069,Stores!$A:$B,2,FALSE)","v":"DFG"},"2013-09",{"$f":"VLOOKUP($Q1069,Stores!$A:$D,4,FALSE)","v":"Open"},{"$f":"VLOOKUP(Q1069,Stores!$A:$C,3,FALSE)","v":"N. Bethesda, MD"},4257,0.39934225980737609]
["8715 - Irvine, CA - Grille","",78.8,78.8,0,82.7,88.5,80.8,80.8,82.7,63.5,80.8,3.8,0,36,52,8715,9,2013,{"$f":"VLOOKUP(Q1070,Stores!$A:$B,2,FALSE)","v":"DFG"},"2013-09",{"$f":"VLOOKUP($Q1070,Stores!$A:$D,4,FALSE)","v":"Open"},{"$f":"VLOOKUP(Q1070,Stores!$A:$C,3,FALSE)","v":"Irvine, CA"},6480,0.80246913580246915]
["8716 - Tampa, FL - Grille","",86.8,92.1,0,89.5,94.7,81.599999999999994,84.2,84.2,65.8,71.099999999999994,2.6,0,25,38,8716,9,2013,{"$f":"VLOOKUP(Q1071,Stores!$A:$B,2,FALSE)","v":"DFG"},"2013-09",{"$f":"VLOOKUP($Q1071,Stores!$A:$D,4,FALSE)","v":"Open"},{"$f":"VLOOKUP(Q1071,Stores!$A:$C,3,FALSE)","v":"Tampa, FL"},5834,0.65135413095646211]
["8717 - Pasadena, CA - Grille",41992,79.5,82.1,0,82.1,87.2,82.1,84.6,69.2,66.7,76.900000000000006,2.6,0,30,39,8717,9,2013,{"$f":"VLOOKUP(Q1072,Stores!$A:$B,2,FALSE)","v":"DFG"},"2013-09",{"$f":"VLOOKUP($Q1072,Stores!$A:$D,4,FALSE)","v":"Open"},{"$f":"VLOOKUP(Q1072,Stores!$A:$C,3,FALSE)","v":"Pasadena, CA"},4484,0.86975914362176621]
["8718 -Woodlands, TX - Grille","",71.599999999999994,69.099999999999994,0,76.5,84,74.099999999999994,77.8,69.099999999999994,64.2,69.099999999999994,11.1,0,58,81,8718,9,2013,{"$f":"VLOOKUP(Q1073,Stores!$A:$B,2,FALSE)","v":"DFG"},"2013-09",{"$f":"VLOOKUP($Q1073,Stores!$A:$D,4,FALSE)","v":"Open"},{"$f":"VLOOKUP(Q1073,Stores!$A:$C,3,FALSE)","v":"Woodlands, TX"},9433,0.85868758613378571]
["8720 - Little Rock, AR - Grille","",79.400000000000006,79.400000000000006,0,91.2,91.2,79.400000000000006,82.4,91.2,61.8,79.400000000000006,5.9,0,21,34,8720,9,2013,{"$f":"VLOOKUP(Q1074,Stores!$A:$B,2,FALSE)","v":"DFG"},"2013-09",{"$f":"VLOOKUP($Q1074,Stores!$A:$D,4,FALSE)","v":"Open"},{"$f":"VLOOKUP(Q1074,Stores!$A:$C,3,FALSE)","v":"Little Rock, AR"},5527,0.61516193233218741]
["8721 - Plano, TX - Grille","",66,72.2,0,75.3,83.5,69.099999999999994,75.3,72.2,61.9,86.6,5.2,0,65,97,8721,9,2013,{"$f":"VLOOKUP(Q1075,Stores!$A:$B,2,FALSE)","v":"DFG"},"2013-09",{"$f":"VLOOKUP($Q1075,Stores!$A:$D,4,FALSE)","v":"Open"},{"$f":"VLOOKUP(Q1075,Stores!$A:$C,3,FALSE)","v":"Plano, TX"},9745,0.99538224730631086]
["8722 – Stamford, CT - Grille","",54.8,51.6,0,64.5,80.599999999999994,54.8,51.6,61.3,38.700000000000003,54.8,19.399999999999999,1,22,31,8722,9,2013,{"$f":"VLOOKUP(Q1076,Stores!$A:$B,2,FALSE)","v":"DFG"},"2013-09",{"$f":"VLOOKUP($Q1076,Stores!$A:$D,4,FALSE)","v":"Open"},{"$f":"VLOOKUP(Q1076,Stores!$A:$C,3,FALSE)","v":"Stamford, CT"},5825,0.53218884120171672]
["8723 – Hoboken, NJ - Grille","",50,61.8,0,73.5,79.400000000000006,67.599999999999994,55.9,61.8,50,44.1,20.6,1,26,34,8723,9,2013,{"$f":"VLOOKUP(Q1077,Stores!$A:$B,2,FALSE)","v":"DFG"},"2013-09",{"$f":"VLOOKUP($Q1077,Stores!$A:$D,4,FALSE)","v":"Open"},{"$f":"VLOOKUP(Q1077,Stores!$A:$C,3,FALSE)","v":"Hoboken, NJ"},9200,0.36956521739130432]
["8724 - Huntington, NY - Grille","",63.3,73.3,0,78.3,78.3,63.3,70,66.7,46.7,78.3,10,0,41,60,8724,9,2013,{"$f":"VLOOKUP(Q1078,Stores!$A:$B,2,FALSE)","v":"DFG"},"2013-09",{"$f":"VLOOKUP($Q1078,Stores!$A:$D,4,FALSE)","v":"Open"},{"$f":"VLOOKUP(Q1078,Stores!$A:$C,3,FALSE)","v":"Huntington, NY"},12177,0.49273220004927326]
["8501 - Austin, TX - Sullivan's","",61.5,76.900000000000006,0,84.6,84.6,84.6,53.8,84.6,61.5,69.2,15.4,0,10,13,{"$f":"MID(A1079,1,4)*1","v":8501},10,2013,{"$f":"VLOOKUP(Q1079,Stores!$A:$B,2,FALSE)","v":"SULL"},"2013-10",{"$f":"VLOOKUP($Q1079,Stores!$A:$D,4,FALSE)","v":"Open"},{"$f":"VLOOKUP(Q1079,Stores!$A:$C,3,FALSE)","v":"Austin, TX"},5298,0.24537561343903361]
["8502 - Indianapolis, IN - Sullivan's","",74.2,85.6,0,82.5,89.7,76.3,81.400000000000006,73.2,66,80.400000000000006,4.0999999999999996,0,76,97,{"$f":"MID(A1080,1,4)*1","v":8502},10,2013,{"$f":"VLOOKUP(Q1080,Stores!$A:$B,2,FALSE)","v":"SULL"},"2013-10",{"$f":"VLOOKUP($Q1080,Stores!$A:$D,4,FALSE)","v":"Open"},{"$f":"VLOOKUP(Q1080,Stores!$A:$C,3,FALSE)","v":"Indianapolis, IN"},7334,1.3226070357240249]
["8504 - Houston, TX - Sullivan's","",62.5,66.7,0,66.7,79.2,54.2,75,66.7,58.3,83.3,8.3000000000000007,2,15,24,8504,10,2013,{"$f":"VLOOKUP(Q1081,Stores!$A:$B,2,FALSE)","v":"SULL"},"2013-10",{"$f":"VLOOKUP($Q1081,Stores!$A:$D,4,FALSE)","v":"Closed"},{"$f":"VLOOKUP(Q1081,Stores!$A:$C,3,FALSE)","v":"Houston, TX"},3486,0.68846815834767638]
["8510 - Wilmington, DE - Sullivan's","",70,74.3,0,67.099999999999994,82.9,71.400000000000006,80,61.4,54.3,47.1,8.6,0,50,70,8510,10,2013,{"$f":"VLOOKUP(Q1082,Stores!$A:$B,2,FALSE)","v":"SULL"},"2013-10",{"$f":"VLOOKUP($Q1082,Stores!$A:$D,4,FALSE)","v":"Open"},{"$f":"VLOOKUP(Q1082,Stores!$A:$C,3,FALSE)","v":"Wilmington, DE"},5734,1.2207882804325079]
["8522 - King of Prussia, PA - Sullivan's","",59.7,65.7,0,68.7,80.599999999999994,58.2,73.099999999999994,65.7,55.2,65.7,14.9,1,48,67,8522,10,2013,{"$f":"VLOOKUP(Q1083,Stores!$A:$B,2,FALSE)","v":"SULL"},"2013-10",{"$f":"VLOOKUP($Q1083,Stores!$A:$D,4,FALSE)","v":"Open"},{"$f":"VLOOKUP(Q1083,Stores!$A:$C,3,FALSE)","v":"King of Prussia, PA"},5806,1.1539786427833276]
["8525 - Tucson, AZ - Sullivan's","",90.7,90.7,0,90.7,90.7,86,90.7,83.7,81.400000000000006,67.400000000000006,4.7,1,32,43,8525,10,2013,{"$f":"VLOOKUP(Q1084,Stores!$A:$B,2,FALSE)","v":"SULL"},"2013-10",{"$f":"VLOOKUP($Q1084,Stores!$A:$D,4,FALSE)","v":"Open"},{"$f":"VLOOKUP(Q1084,Stores!$A:$C,3,FALSE)","v":"Tucson, AZ"},3746,1.1478910838227443]
["8532 - Omaha, NE - Sullivan's","",66.7,70.400000000000006,0,70.400000000000006,77.8,55.6,74.099999999999994,63,48.1,59.3,11.1,1,20,27,8532,10,2013,{"$f":"VLOOKUP(Q1085,Stores!$A:$B,2,FALSE)","v":"SULL"},"2013-10",{"$f":"VLOOKUP($Q1085,Stores!$A:$D,4,FALSE)","v":"Open"},{"$f":"VLOOKUP(Q1085,Stores!$A:$C,3,FALSE)","v":"Omaha, NE"},5170,0.52224371373307543]
["8535 - Baltimore, MD - Sullivan's","",66.7,74.099999999999994,0,70.400000000000006,74.099999999999994,74.099999999999994,77.8,70.400000000000006,59.3,66.7,18.5,1,21,27,8535,10,2013,{"$f":"VLOOKUP(Q1086,Stores!$A:$B,2,FALSE)","v":"SULL"},"2013-10",{"$f":"VLOOKUP($Q1086,Stores!$A:$D,4,FALSE)","v":"Open"},{"$f":"VLOOKUP(Q1086,Stores!$A:$C,3,FALSE)","v":"Baltimore, MD"},5565,0.48517520215633425]
["8536 - Leawood, KS - Sullivan's","",77.8,75,0,83.3,88.9,72.2,72.2,86.1,63.9,75,0,0,30,36,8536,10,2013,{"$f":"VLOOKUP(Q1087,Stores!$A:$B,2,FALSE)","v":"SULL"},"2013-10",{"$f":"VLOOKUP($Q1087,Stores!$A:$D,4,FALSE)","v":"Open"},{"$f":"VLOOKUP(Q1087,Stores!$A:$C,3,FALSE)","v":"Leawood, KS"},4361,0.82549873882137126]
["8541 - Chicago, IL - Sullivan's","",61.1,61.1,0,66.7,77.8,66.7,72.2,61.1,61.1,72.2,22.2,0,16,18,8541,10,2013,{"$f":"VLOOKUP(Q1088,Stores!$A:$B,2,FALSE)","v":"SULL"},"2013-10",{"$f":"VLOOKUP($Q1088,Stores!$A:$D,4,FALSE)","v":"Open"},{"$f":"VLOOKUP(Q1088,Stores!$A:$C,3,FALSE)","v":"Chicago, IL"},3442,0.52295177222545031]
["8542 - Naperville, IL - Sullivan's","",73.400000000000006,71.900000000000006,0,76.599999999999994,82.8,65.599999999999994,71.900000000000006,50,34.4,67.2,9.4,0,46,64,8542,10,2013,{"$f":"VLOOKUP(Q1089,Stores!$A:$B,2,FALSE)","v":"SULL"},"2013-10",{"$f":"VLOOKUP($Q1089,Stores!$A:$D,4,FALSE)","v":"Open"},{"$f":"VLOOKUP(Q1089,Stores!$A:$C,3,FALSE)","v":"Naperville, IL"},4821,1.3275254096660443]
["8543 - Lincolnshire, IL - Sullivan's","",61.5,69.2,0,76.900000000000006,84.6,73.099999999999994,69.2,76.900000000000006,38.5,88.5,11.5,0,17,26,8543,10,2013,{"$f":"VLOOKUP(Q1090,Stores!$A:$B,2,FALSE)","v":"SULL"},"2013-10",{"$f":"VLOOKUP($Q1090,Stores!$A:$D,4,FALSE)","v":"Open"},{"$f":"VLOOKUP(Q1090,Stores!$A:$C,3,FALSE)","v":"Lincolnshire, IL"},4038,0.64388311045071811]
["8551 - Baton Rouge, LA - Sullivan's","",91.8,94.1,0,94.1,95.3,90.6,94.1,90.6,85.9,91.8,3.5,0,58,85,8551,10,2013,{"$f":"VLOOKUP(Q1091,Stores!$A:$B,2,FALSE)","v":"SULL"},{"$f":"S1091&\"-\"&REPT(\"0\",2-LEN(R1091))&R1091","v":"2013-10"},{"$f":"VLOOKUP($Q1091,Stores!$A:$D,4,FALSE)","v":"Open"},{"$f":"VLOOKUP(Q1091,Stores!$A:$C,3,FALSE)","v":"Baton Rouge, LA"},4432,{"$f":"P1091/(X1091/100)","v":1.917870036101083}]
["8561 - Raleigh, NC - Sullivan's","",68.099999999999994,71,0,78.3,88.4,66.7,65.2,72.5,39.1,75.400000000000006,13,2,49,69,8561,10,2013,{"$f":"VLOOKUP(Q1092,Stores!$A:$B,2,FALSE)","v":"SULL"},"2013-10",{"$f":"VLOOKUP($Q1092,Stores!$A:$D,4,FALSE)","v":"Open"},{"$f":"VLOOKUP(Q1092,Stores!$A:$C,3,FALSE)","v":"Raleigh, NC"},5393,1.2794363063230114]
["8562 - Charlotte, NC - Sullivan's","",83.3,83.3,0,75,83.3,75,79.2,83.3,62.5,75,8.3000000000000007,0,18,24,8562,10,2013,{"$f":"VLOOKUP(Q1093,Stores!$A:$B,2,FALSE)","v":"SULL"},"2013-10",{"$f":"VLOOKUP($Q1093,Stores!$A:$D,4,FALSE)","v":"Open"},{"$f":"VLOOKUP(Q1093,Stores!$A:$C,3,FALSE)","v":"Charlotte, NC"},4514,0.53167922020381031]
["8570 - Palm Desert, CA - Sullivan's","",76.900000000000006,82.1,0,84.6,94.9,82.1,74.400000000000006,79.5,69.2,92.3,7.7,0,34,39,8570,10,2013,{"$f":"VLOOKUP(Q1094,Stores!$A:$B,2,FALSE)","v":"SULL"},"2013-10",{"$f":"VLOOKUP($Q1094,Stores!$A:$D,4,FALSE)","v":"Open"},{"$f":"VLOOKUP(Q1094,Stores!$A:$C,3,FALSE)","v":"Palm Desert, CA"},4495,0.8676307007786429]
["8591 - Anchorage, AK - Sullivan's","",90.5,95.2,0,85.7,92.9,88.1,85.7,90.5,85.7,69,2.4,0,36,42,8591,10,2013,{"$f":"VLOOKUP(Q1095,Stores!$A:$B,2,FALSE)","v":"SULL"},"2013-10",{"$f":"VLOOKUP($Q1095,Stores!$A:$D,4,FALSE)","v":"Open"},{"$f":"VLOOKUP(Q1095,Stores!$A:$C,3,FALSE)","v":"Anchorage, AK"},6024,0.69721115537848599]
["8592 - Seattle, WA - Sullivan's","",65.400000000000006,61.5,0,80.8,80.8,69.2,73.099999999999994,76.900000000000006,57.7,73.099999999999994,11.5,1,22,26,8592,10,2013,{"$f":"VLOOKUP(Q1096,Stores!$A:$B,2,FALSE)","v":"SULL"},"2013-10",{"$f":"VLOOKUP($Q1096,Stores!$A:$D,4,FALSE)","v":"Closed"},{"$f":"VLOOKUP(Q1096,Stores!$A:$C,3,FALSE)","v":"Seattle, WA"},5023,0.51761895281704162]
["8602 - Fort Worth, TX - Del Frisco's","",77.099999999999994,80.5,0,81.400000000000006,88.1,75.400000000000006,78,78.8,58.5,78,7.6,1,87,118,8602,10,2013,{"$f":"VLOOKUP(Q1097,Stores!$A:$B,2,FALSE)","v":"DFDE"},"2013-10",{"$f":"VLOOKUP($Q1097,Stores!$A:$D,4,FALSE)","v":"Open"},{"$f":"VLOOKUP(Q1097,Stores!$A:$C,3,FALSE)","v":"Fort Worth, TX"},6791,1.7375938742453247]
["8603 - Denver, CO - Del Frisco's","",67.099999999999994,69.5,0,79.3,78,72,68.3,67.099999999999994,43.9,59.8,11,1,61,82,8603,10,2013,{"$f":"VLOOKUP(Q1098,Stores!$A:$B,2,FALSE)","v":"DFDE"},"2013-10",{"$f":"VLOOKUP($Q1098,Stores!$A:$D,4,FALSE)","v":"Open"},{"$f":"VLOOKUP(Q1098,Stores!$A:$C,3,FALSE)","v":"Denver, CO"},8491,0.96572841832528566]
["8604 - Charlotte, NC - Del Frisco's","",87.3,83.6,0,87.3,90.9,81.8,89.1,90.9,58.2,52.7,1.8,1,38,55,8604,10,2013,{"$f":"VLOOKUP(Q1099,Stores!$A:$B,2,FALSE)","v":"DFDE"},"2013-10",{"$f":"VLOOKUP($Q1099,Stores!$A:$D,4,FALSE)","v":"Open"},{"$f":"VLOOKUP(Q1099,Stores!$A:$C,3,FALSE)","v":"Charlotte, NC"},5166,1.0646535036778939]
["8605 - Houston, TX - Del Frisco's","",66.7,69.2,0,66.7,79.5,61.5,71.8,79.5,51.3,64.099999999999994,10.3,0,22,39,8605,10,2013,{"$f":"VLOOKUP(Q1100,Stores!$A:$B,2,FALSE)","v":"DFDE"},"2013-10",{"$f":"VLOOKUP($Q1100,Stores!$A:$D,4,FALSE)","v":"Open"},{"$f":"VLOOKUP(Q1100,Stores!$A:$C,3,FALSE)","v":"Houston, TX"},7212,0.54076539101497501]
["8610 - Dallas, TX - Del Frisco's","",63.6,68.900000000000006,0,74.2,81.099999999999994,59.1,72,75.8,50.8,76.5,14.4,3,96,132,8610,10,2013,{"$f":"VLOOKUP(Q1101,Stores!$A:$B,2,FALSE)","v":"DFDE"},"2013-10",{"$f":"VLOOKUP($Q1101,Stores!$A:$D,4,FALSE)","v":"Open"},{"$f":"VLOOKUP(Q1101,Stores!$A:$C,3,FALSE)","v":"Dallas, TX"},7772,1.6984045290787442]
["8615 - Orlando, FL - Del Frisco’s","",77.5,81.400000000000006,0,82.2,84.5,75.2,82.9,73.599999999999994,71.3,69,7,1,96,129,8615,10,2013,{"$f":"VLOOKUP(Q1102,Stores!$A:$B,2,FALSE)","v":"DFDE"},"2013-10",{"$f":"VLOOKUP($Q1102,Stores!$A:$D,4,FALSE)","v":"Open"},{"$f":"VLOOKUP(Q1102,Stores!$A:$C,3,FALSE)","v":"Orlando, FL"},9735,1.3251155624036981]
["8620 - New York City, NY - Del Frisco's","",77.7,84.1,0,83.4,87.9,77.099999999999994,81.5,78.3,46.5,54.8,5.7,0,114,157,8620,10,2013,{"$f":"VLOOKUP(Q1103,Stores!$A:$B,2,FALSE)","v":"DFDE"},"2013-10",{"$f":"VLOOKUP($Q1103,Stores!$A:$D,4,FALSE)","v":"Open"},{"$f":"VLOOKUP(Q1103,Stores!$A:$C,3,FALSE)","v":"New York City, NY"},22263,0.70520594708709516]
["8635 - Boston, MA - Del Frisco's","",67.3,73.5,0,76.5,81.599999999999994,68.400000000000006,74.5,76.5,42.9,62.2,12.2,3,64,98,8635,10,2013,{"$f":"VLOOKUP(Q1104,Stores!$A:$B,2,FALSE)","v":"DFDE"},"2013-10",{"$f":"VLOOKUP($Q1104,Stores!$A:$D,4,FALSE)","v":"Open"},{"$f":"VLOOKUP(Q1104,Stores!$A:$C,3,FALSE)","v":"Boston, MA"},12297,0.79694234366105554]
["8640 - Las Vegas, NV - Del Frisco's","",81.3,82.8,0,85.9,85.9,87.5,84.4,78.099999999999994,56.3,51.6,3.1,0,47,64,8640,10,2013,{"$f":"VLOOKUP(Q1105,Stores!$A:$B,2,FALSE)","v":"DFDE"},"2013-10",{"$f":"VLOOKUP($Q1105,Stores!$A:$D,4,FALSE)","v":"Open"},{"$f":"VLOOKUP(Q1105,Stores!$A:$C,3,FALSE)","v":"Las Vegas, NV"},6521,0.98144456371722133]
["8650 - Chicago, IL - Del Frisco's","",78.3,78.3,0,82.6,87,82.6,69.599999999999994,82.6,52.2,73.900000000000006,8.6999999999999993,1,17,23,8650,10,2013,{"$f":"VLOOKUP(Q1106,Stores!$A:$B,2,FALSE)","v":"DFDE"},"2013-10",{"$f":"VLOOKUP($Q1106,Stores!$A:$D,4,FALSE)","v":"Open"},{"$f":"VLOOKUP(Q1106,Stores!$A:$C,3,FALSE)","v":"Chicago, IL"},4772,0.48197820620284998]
["8655 - Washington, DC -  Del Frisco's","",56.3,70.3,0,68.8,76.599999999999994,60.9,75,70.3,48.4,57.8,23.4,4,46,64,8655,10,2013,{"$f":"VLOOKUP(Q1107,Stores!$A:$B,2,FALSE)","v":"DFDE"},"2013-10",{"$f":"VLOOKUP($Q1107,Stores!$A:$D,4,FALSE)","v":"Open"},{"$f":"VLOOKUP(Q1107,Stores!$A:$C,3,FALSE)","v":"Washington, DC"},10830,0.59095106186518931]
["8680 - Philadelphia, PA - Del Frisco's","",71.2,76.599999999999994,0,77,84.2,72.5,76.099999999999994,80.2,61.3,61.7,10.8,4,148,222,8680,10,2013,{"$f":"VLOOKUP(Q1108,Stores!$A:$B,2,FALSE)","v":"DFDE"},"2013-10",{"$f":"VLOOKUP($Q1108,Stores!$A:$D,4,FALSE)","v":"Open"},{"$f":"VLOOKUP(Q1108,Stores!$A:$C,3,FALSE)","v":"Philadelphia, PA"},17469,1.2708226000343466]
["8701 - New York City, NY - Grille","",74.5,70.2,0,80.900000000000006,80.900000000000006,78.7,80.900000000000006,78.7,61.7,61.7,4.3,0,35,47,8701,10,2013,{"$f":"VLOOKUP(Q1109,Stores!$A:$B,2,FALSE)","v":"DFG"},"2013-10",{"$f":"VLOOKUP($Q1109,Stores!$A:$D,4,FALSE)","v":"Open"},{"$f":"VLOOKUP(Q1109,Stores!$A:$C,3,FALSE)","v":"New York City, NY"},11754,0.39986387612727581]
["8702 - Dallas, TX - Grille","",66.7,61.1,0,66.7,77.8,72.2,77.8,77.8,66.7,61.1,5.6,0,11,18,8702,10,2013,{"$f":"VLOOKUP(Q1110,Stores!$A:$B,2,FALSE)","v":"DFG"},"2013-10",{"$f":"VLOOKUP($Q1110,Stores!$A:$D,4,FALSE)","v":"Open"},{"$f":"VLOOKUP(Q1110,Stores!$A:$C,3,FALSE)","v":"Dallas, TX"},6716,0.26801667659321027]
["8703 - Washington, DC - Grille","",68,72,0,64,68,68,72,68,48,44,12,0,17,25,8703,10,2013,{"$f":"VLOOKUP(Q1111,Stores!$A:$B,2,FALSE)","v":"DFG"},"2013-10",{"$f":"VLOOKUP($Q1111,Stores!$A:$D,4,FALSE)","v":"Open"},{"$f":"VLOOKUP(Q1111,Stores!$A:$C,3,FALSE)","v":"Washington, DC"},6279,0.39815257206561555]
["8706 - Atlanta, GA - Grille","",66.7,66.7,0,66.7,61.9,66.7,71.400000000000006,52.4,52.4,66.7,19,1,16,21,8706,10,2013,{"$f":"VLOOKUP(Q1112,Stores!$A:$B,2,FALSE)","v":"DFG"},"2013-10",{"$f":"VLOOKUP($Q1112,Stores!$A:$D,4,FALSE)","v":"Open"},{"$f":"VLOOKUP(Q1112,Stores!$A:$C,3,FALSE)","v":"Atlanta, GA"},8316,0.25252525252525254]
["8707 - River Oaks, TX - Grille","",65,65,0,75,75,65,70,70,70,75,15,0,14,20,8707,10,2013,{"$f":"VLOOKUP(Q1113,Stores!$A:$B,2,FALSE)","v":"DFG"},"2013-10",{"$f":"VLOOKUP($Q1113,Stores!$A:$D,4,FALSE)","v":"Open"},{"$f":"VLOOKUP(Q1113,Stores!$A:$C,3,FALSE)","v":"Houston, TX"},5398,0.37050759540570583]
["8708 - Chestnut Hill, MA - Grille","",68.599999999999994,77.099999999999994,0,74.3,77.099999999999994,71.400000000000006,77.099999999999994,82.9,65.7,71.400000000000006,8.6,0,23,35,8708,10,2013,{"$f":"VLOOKUP(Q1114,Stores!$A:$B,2,FALSE)","v":"DFG"},"2013-10",{"$f":"VLOOKUP($Q1114,Stores!$A:$D,4,FALSE)","v":"Open"},{"$f":"VLOOKUP(Q1114,Stores!$A:$C,3,FALSE)","v":"Chestnut Hill, MA"},5754,0.6082725060827251]
["8709 - Santa Monica, CA - Grille","",92.3,92.3,0,88.5,92.3,96.2,100,96.2,84.6,50,3.8,0,17,26,8709,10,2013,{"$f":"VLOOKUP(Q1115,Stores!$A:$B,2,FALSE)","v":"DFG"},"2013-10",{"$f":"VLOOKUP($Q1115,Stores!$A:$D,4,FALSE)","v":"Open"},{"$f":"VLOOKUP(Q1115,Stores!$A:$C,3,FALSE)","v":"Santa Monica, CA"},13948,0.18640665328362491]
["8710 - Fort Worth, TX - Grille","",66,67.900000000000006,0,67.900000000000006,73.599999999999994,64.2,64.2,73.599999999999994,49.1,52.8,15.1,1,38,53,8710,10,2013,{"$f":"VLOOKUP(Q1116,Stores!$A:$B,2,FALSE)","v":"DFG"},"2013-10",{"$f":"VLOOKUP($Q1116,Stores!$A:$D,4,FALSE)","v":"Open"},{"$f":"VLOOKUP(Q1116,Stores!$A:$C,3,FALSE)","v":"Fort Worth, TX"},11329,0.46782593344514078]
["8711 – Cherry Creek, CO - Grille","",70,77.5,0,77.5,85,80,75,72.5,47.5,70,10,0,30,40,8711,10,2013,{"$f":"VLOOKUP(Q1117,Stores!$A:$B,2,FALSE)","v":"DFG"},"2013-10",{"$f":"VLOOKUP($Q1117,Stores!$A:$D,4,FALSE)","v":"Open"},{"$f":"VLOOKUP(Q1117,Stores!$A:$C,3,FALSE)","v":"Cherry Creek, CO"},6475,0.61776061776061775]
["8712 - Southlake, TX - Grille","",65.599999999999994,73.8,0,82,85.2,72.099999999999994,73.8,77,52.5,78.7,11.5,0,47,61,8712,10,2013,{"$f":"VLOOKUP(Q1118,Stores!$A:$B,2,FALSE)","v":"DFG"},"2013-10",{"$f":"VLOOKUP($Q1118,Stores!$A:$D,4,FALSE)","v":"Open"},{"$f":"VLOOKUP(Q1118,Stores!$A:$C,3,FALSE)","v":"Southlake, TX"},10985,0.55530268548020034]
["8713 - Burlington, MA - Grille",41794,57.9,73.7,0,78.900000000000006,78.900000000000006,68.400000000000006,73.7,78.900000000000006,57.9,36.799999999999997,15.8,0,13,19,8713,10,2013,{"$f":"VLOOKUP(Q1119,Stores!$A:$B,2,FALSE)","v":"DFG"},"2013-10",{"$f":"VLOOKUP($Q1119,Stores!$A:$D,4,FALSE)","v":"Open"},{"$f":"VLOOKUP(Q1119,Stores!$A:$C,3,FALSE)","v":"Burlington, MA"},7121,0.26681645836258955]
["8714 - N Bethesda, MD - Grille",41908,60,80,0,60,70,70,60,80,60,70,10,0,6,10,8714,10,2013,{"$f":"VLOOKUP(Q1120,Stores!$A:$B,2,FALSE)","v":"DFG"},"2013-10",{"$f":"VLOOKUP($Q1120,Stores!$A:$D,4,FALSE)","v":"Open"},{"$f":"VLOOKUP(Q1120,Stores!$A:$C,3,FALSE)","v":"N. Bethesda, MD"},4530,0.22075055187637971]
["8715 - Irvine, CA - Grille","",71.400000000000006,74.3,0,82.9,85.7,80,74.3,68.599999999999994,62.9,77.099999999999994,8.6,0,25,35,8715,10,2013,{"$f":"VLOOKUP(Q1121,Stores!$A:$B,2,FALSE)","v":"DFG"},"2013-10",{"$f":"VLOOKUP($Q1121,Stores!$A:$D,4,FALSE)","v":"Open"},{"$f":"VLOOKUP(Q1121,Stores!$A:$C,3,FALSE)","v":"Irvine, CA"},6639,0.5271878294923934]
["8716 - Tampa, FL - Grille","",82.1,89.7,0,89.7,94.9,89.7,79.5,92.3,66.7,64.099999999999994,2.6,0,28,39,8716,10,2013,{"$f":"VLOOKUP(Q1122,Stores!$A:$B,2,FALSE)","v":"DFG"},"2013-10",{"$f":"VLOOKUP($Q1122,Stores!$A:$D,4,FALSE)","v":"Open"},{"$f":"VLOOKUP(Q1122,Stores!$A:$C,3,FALSE)","v":"Tampa, FL"},6655,0.58602554470323065]
["8717 - Pasadena, CA - Grille",41992,55.6,66.7,0,66.7,77.8,66.7,66.7,66.7,44.4,77.8,14.8,0,22,27,8717,10,2013,{"$f":"VLOOKUP(Q1123,Stores!$A:$B,2,FALSE)","v":"DFG"},"2013-10",{"$f":"VLOOKUP($Q1123,Stores!$A:$D,4,FALSE)","v":"Open"},{"$f":"VLOOKUP(Q1123,Stores!$A:$C,3,FALSE)","v":"Pasadena, CA"},4227,0.63875088715400985]
["8718 -Woodlands, TX - Grille","",77.099999999999994,77.099999999999994,0,79.2,89.6,72.900000000000006,77.099999999999994,83.3,56.3,60.4,4.2,0,32,48,8718,10,2013,{"$f":"VLOOKUP(Q1124,Stores!$A:$B,2,FALSE)","v":"DFG"},"2013-10",{"$f":"VLOOKUP($Q1124,Stores!$A:$D,4,FALSE)","v":"Open"},{"$f":"VLOOKUP(Q1124,Stores!$A:$C,3,FALSE)","v":"Woodlands, TX"},7420,0.64690026954177893]
["8720 - Little Rock, AR - Grille","",71.400000000000006,61.9,0,81,85.7,66.7,71.400000000000006,71.400000000000006,52.4,95.2,4.8,0,15,21,8720,10,2013,{"$f":"VLOOKUP(Q1125,Stores!$A:$B,2,FALSE)","v":"DFG"},"2013-10",{"$f":"VLOOKUP($Q1125,Stores!$A:$D,4,FALSE)","v":"Open"},{"$f":"VLOOKUP(Q1125,Stores!$A:$C,3,FALSE)","v":"Little Rock, AR"},5132,0.4091971940763835]
["8721 - Plano, TX - Grille","",72.2,75.900000000000006,0,85.2,87,66.7,72.2,77.8,55.6,92.6,7.4,1,36,54,8721,10,2013,{"$f":"VLOOKUP(Q1126,Stores!$A:$B,2,FALSE)","v":"DFG"},"2013-10",{"$f":"VLOOKUP($Q1126,Stores!$A:$D,4,FALSE)","v":"Open"},{"$f":"VLOOKUP(Q1126,Stores!$A:$C,3,FALSE)","v":"Plano, TX"},8350,0.6467065868263473]
["8722 – Stamford, CT - Grille","",72.2,72.2,0,77.8,77.8,66.7,72.2,66.7,61.1,83.3,16.7,0,14,18,8722,10,2013,{"$f":"VLOOKUP(Q1127,Stores!$A:$B,2,FALSE)","v":"DFG"},"2013-10",{"$f":"VLOOKUP($Q1127,Stores!$A:$D,4,FALSE)","v":"Open"},{"$f":"VLOOKUP(Q1127,Stores!$A:$C,3,FALSE)","v":"Stamford, CT"},4909,0.36667345691586878]
["8723 – Hoboken, NJ - Grille","",84.4,84.4,0,87.5,90.6,84.4,81.3,84.4,68.8,62.5,6.3,0,22,32,8723,10,2013,{"$f":"VLOOKUP(Q1128,Stores!$A:$B,2,FALSE)","v":"DFG"},"2013-10",{"$f":"VLOOKUP($Q1128,Stores!$A:$D,4,FALSE)","v":"Open"},{"$f":"VLOOKUP(Q1128,Stores!$A:$C,3,FALSE)","v":"Hoboken, NJ"},9445,0.33880359978824776]
["8724 - Huntington, NY - Grille","",47.8,73.900000000000006,0,82.6,82.6,65.2,60.9,60.9,30.4,82.6,17.399999999999999,0,15,23,8724,10,2013,{"$f":"VLOOKUP(Q1129,Stores!$A:$B,2,FALSE)","v":"DFG"},"2013-10",{"$f":"VLOOKUP($Q1129,Stores!$A:$D,4,FALSE)","v":"Open"},{"$f":"VLOOKUP(Q1129,Stores!$A:$C,3,FALSE)","v":"Huntington, NY"},10180,0.22593320235756387]
["8501 - Austin, TX - Sullivan's","",63,59.3,0,70.400000000000006,74.099999999999994,63,63,63,66.7,51.9,18.5,0,25,27,8501,11,2013,{"$f":"VLOOKUP(Q1130,Stores!$A:$B,2,FALSE)","v":"SULL"},"2013-11",{"$f":"VLOOKUP($Q1130,Stores!$A:$D,4,FALSE)","v":"Open"},{"$f":"VLOOKUP(Q1130,Stores!$A:$C,3,FALSE)","v":"Austin, TX"},6658,0.40552718534094323]
["8502 - Indianapolis, IN - Sullivan's","",68.3,78.2,0,82.2,84.2,75.2,74.3,68.3,58.4,84.2,8.9,0,76,101,{"$f":"MID(A1131,1,4)*1","v":8502},11,2013,{"$f":"VLOOKUP(Q1131,Stores!$A:$B,2,FALSE)","v":"SULL"},"2013-11",{"$f":"VLOOKUP($Q1131,Stores!$A:$D,4,FALSE)","v":"Open"},{"$f":"VLOOKUP(Q1131,Stores!$A:$C,3,FALSE)","v":"Indianapolis, IN"},6832,1.478337236533958]
["8504 - Houston, TX - Sullivan's","",78.8,78.8,0,82.7,84.6,75,69.2,69.2,75,88.5,7.7,0,38,52,8504,11,2013,{"$f":"VLOOKUP(Q1132,Stores!$A:$B,2,FALSE)","v":"SULL"},"2013-11",{"$f":"VLOOKUP($Q1132,Stores!$A:$D,4,FALSE)","v":"Closed"},{"$f":"VLOOKUP(Q1132,Stores!$A:$C,3,FALSE)","v":"Houston, TX"},3782,1.3749338974087784]
["8510 - Wilmington, DE - Sullivan's","",72.2,75.599999999999994,0,78.900000000000006,85.6,67.8,72.2,67.8,54.4,60,8.9,0,74,90,8510,11,2013,{"$f":"VLOOKUP(Q1133,Stores!$A:$B,2,FALSE)","v":"SULL"},"2013-11",{"$f":"VLOOKUP($Q1133,Stores!$A:$D,4,FALSE)","v":"Open"},{"$f":"VLOOKUP(Q1133,Stores!$A:$C,3,FALSE)","v":"Wilmington, DE"},6150,1.4634146341463414]
["8522 - King of Prussia, PA - Sullivan's","",62.2,72,0,65.900000000000006,67.099999999999994,62.2,69.5,59.8,57.3,61,15.9,0,56,82,8522,11,2013,{"$f":"VLOOKUP(Q1134,Stores!$A:$B,2,FALSE)","v":"SULL"},"2013-11",{"$f":"VLOOKUP($Q1134,Stores!$A:$D,4,FALSE)","v":"Open"},{"$f":"VLOOKUP(Q1134,Stores!$A:$C,3,FALSE)","v":"King of Prussia, PA"},6248,1.3124199743918055]
["8525 - Tucson, AZ - Sullivan's","",78.8,78.8,0,78.8,90.9,72.7,81.8,81.8,51.5,57.6,9.1,0,24,33,8525,11,2013,{"$f":"VLOOKUP(Q1135,Stores!$A:$B,2,FALSE)","v":"SULL"},"2013-11",{"$f":"VLOOKUP($Q1135,Stores!$A:$D,4,FALSE)","v":"Open"},{"$f":"VLOOKUP(Q1135,Stores!$A:$C,3,FALSE)","v":"Tucson, AZ"},4204,0.78496669838249289]
["8532 - Omaha, NE - Sullivan's","",61.5,69.2,0,73.099999999999994,80.8,65.400000000000006,76.900000000000006,73.099999999999994,53.8,69.2,15.4,1,18,26,8532,11,2013,{"$f":"VLOOKUP(Q1136,Stores!$A:$B,2,FALSE)","v":"SULL"},"2013-11",{"$f":"VLOOKUP($Q1136,Stores!$A:$D,4,FALSE)","v":"Open"},{"$f":"VLOOKUP(Q1136,Stores!$A:$C,3,FALSE)","v":"Omaha, NE"},4502,0.57752110173256321]
["8535 - Baltimore, MD - Sullivan's","",66.7,72.2,0,72.2,72.2,72.2,61.1,55.6,66.7,66.7,11.1,0,13,18,8535,11,2013,{"$f":"VLOOKUP(Q1137,Stores!$A:$B,2,FALSE)","v":"SULL"},"2013-11",{"$f":"VLOOKUP($Q1137,Stores!$A:$D,4,FALSE)","v":"Open"},{"$f":"VLOOKUP(Q1137,Stores!$A:$C,3,FALSE)","v":"Baltimore, MD"},6023,0.29885439149925286]
["8536 - Leawood, KS - Sullivan's","",70.8,79.2,0,83.3,85.4,75,75,75,68.8,91.7,4.2,0,33,48,8536,11,2013,{"$f":"VLOOKUP(Q1138,Stores!$A:$B,2,FALSE)","v":"SULL"},"2013-11",{"$f":"VLOOKUP($Q1138,Stores!$A:$D,4,FALSE)","v":"Open"},{"$f":"VLOOKUP(Q1138,Stores!$A:$C,3,FALSE)","v":"Leawood, KS"},5109,0.93951849677040511]
["8541 - Chicago, IL - Sullivan's","",84.2,78.900000000000006,0,84.2,94.7,84.2,94.7,89.5,84.2,57.9,0,0,14,19,8541,11,2013,{"$f":"VLOOKUP(Q1139,Stores!$A:$B,2,FALSE)","v":"SULL"},"2013-11",{"$f":"VLOOKUP($Q1139,Stores!$A:$D,4,FALSE)","v":"Open"},{"$f":"VLOOKUP(Q1139,Stores!$A:$C,3,FALSE)","v":"Chicago, IL"},3555,0.53445850914205351]
["8542 - Naperville, IL - Sullivan's","",65.3,69.3,0,78.7,84,73.3,78.7,72,44,81.3,10.7,3,49,75,8542,11,2013,{"$f":"VLOOKUP(Q1140,Stores!$A:$B,2,FALSE)","v":"SULL"},"2013-11",{"$f":"VLOOKUP($Q1140,Stores!$A:$D,4,FALSE)","v":"Open"},{"$f":"VLOOKUP(Q1140,Stores!$A:$C,3,FALSE)","v":"Naperville, IL"},4371,1.7158544955387782]
["8543 - Lincolnshire, IL - Sullivan's","",68.8,78.099999999999994,0,65.599999999999994,75,71.900000000000006,78.099999999999994,65.599999999999994,53.1,96.9,15.6,0,26,32,8543,11,2013,{"$f":"VLOOKUP(Q1141,Stores!$A:$B,2,FALSE)","v":"SULL"},"2013-11",{"$f":"VLOOKUP($Q1141,Stores!$A:$D,4,FALSE)","v":"Open"},{"$f":"VLOOKUP(Q1141,Stores!$A:$C,3,FALSE)","v":"Lincolnshire, IL"},4165,0.7683073229291717]
["8551 - Baton Rouge, LA - Sullivan's","",85.2,90.1,0,88.9,88.9,82.7,88.9,87.7,82.7,93.8,7.4,0,59,81,8551,11,2013,{"$f":"VLOOKUP(Q1142,Stores!$A:$B,2,FALSE)","v":"SULL"},"2013-11",{"$f":"VLOOKUP($Q1142,Stores!$A:$D,4,FALSE)","v":"Open"},{"$f":"VLOOKUP(Q1142,Stores!$A:$C,3,FALSE)","v":"Baton Rouge, LA"},5689,1.4238003164000703]
["8561 - Raleigh, NC - Sullivan's","",56.7,66.7,0,77.8,84.4,70,65.599999999999994,62.2,48.9,74.400000000000006,16.7,0,75,90,8561,11,2013,{"$f":"VLOOKUP(Q1143,Stores!$A:$B,2,FALSE)","v":"SULL"},"2013-11",{"$f":"VLOOKUP($Q1143,Stores!$A:$D,4,FALSE)","v":"Open"},{"$f":"VLOOKUP(Q1143,Stores!$A:$C,3,FALSE)","v":"Raleigh, NC"},6368,1.4133165829145728]
["8562 - Charlotte, NC - Sullivan's","",70.599999999999994,79.400000000000006,0,79.400000000000006,88.2,73.5,79.400000000000006,73.5,61.8,58.8,11.8,0,26,34,8562,11,2013,{"$f":"VLOOKUP(Q1144,Stores!$A:$B,2,FALSE)","v":"SULL"},"2013-11",{"$f":"VLOOKUP($Q1144,Stores!$A:$D,4,FALSE)","v":"Open"},{"$f":"VLOOKUP(Q1144,Stores!$A:$C,3,FALSE)","v":"Charlotte, NC"},5830,0.58319039451114929]
["8570 - Palm Desert, CA - Sullivan's","",73.3,80,0,82.2,88.9,77.8,71.099999999999994,75.599999999999994,71.099999999999994,95.6,8.9,0,38,45,8570,11,2013,{"$f":"VLOOKUP(Q1145,Stores!$A:$B,2,FALSE)","v":"SULL"},"2013-11",{"$f":"VLOOKUP($Q1145,Stores!$A:$D,4,FALSE)","v":"Open"},{"$f":"VLOOKUP(Q1145,Stores!$A:$C,3,FALSE)","v":"Palm Desert, CA"},5321,0.84570569441834242]
["8591 - Anchorage, AK - Sullivan's","",74.7,77.3,0,78.7,89.3,80,80,81.3,68,69.3,8,0,56,75,8591,11,2013,{"$f":"VLOOKUP(Q1146,Stores!$A:$B,2,FALSE)","v":"SULL"},"2013-11",{"$f":"VLOOKUP($Q1146,Stores!$A:$D,4,FALSE)","v":"Open"},{"$f":"VLOOKUP(Q1146,Stores!$A:$C,3,FALSE)","v":"Anchorage, AK"},7031,1.0667045939411179]
["8592 - Seattle, WA - Sullivan's","",73.3,73.3,0,82.2,88.9,73.3,80,66.7,55.6,68.900000000000006,11.1,1,33,45,8592,11,2013,{"$f":"VLOOKUP(Q1147,Stores!$A:$B,2,FALSE)","v":"SULL"},"2013-11",{"$f":"VLOOKUP($Q1147,Stores!$A:$D,4,FALSE)","v":"Closed"},{"$f":"VLOOKUP(Q1147,Stores!$A:$C,3,FALSE)","v":"Seattle, WA"},6535,0.68859984697781185]
["8602 - Fort Worth, TX - Del Frisco's","",74.099999999999994,81.3,0,83.9,89.3,72.3,84.8,81.3,60.7,86.6,6.3,1,76,112,8602,11,2013,{"$f":"VLOOKUP(Q1148,Stores!$A:$B,2,FALSE)","v":"DFDE"},"2013-11",{"$f":"VLOOKUP($Q1148,Stores!$A:$D,4,FALSE)","v":"Open"},{"$f":"VLOOKUP(Q1148,Stores!$A:$C,3,FALSE)","v":"Fort Worth, TX"},6895,1.6243654822335025]
["8603 - Denver, CO - Del Frisco's","",68.099999999999994,68.099999999999994,0,78.3,84.1,75.400000000000006,71,73.900000000000006,52.2,62.3,8.6999999999999993,0,42,69,8603,11,2013,{"$f":"VLOOKUP(Q1149,Stores!$A:$B,2,FALSE)","v":"DFDE"},"2013-11",{"$f":"VLOOKUP($Q1149,Stores!$A:$D,4,FALSE)","v":"Open"},{"$f":"VLOOKUP(Q1149,Stores!$A:$C,3,FALSE)","v":"Denver, CO"},9174,0.7521255722694572]
["8604 - Charlotte, NC - Del Frisco's","",76.900000000000006,80.8,0,83.3,91,75.599999999999994,84.6,85.9,52.6,50,7.7,0,57,78,8604,11,2013,{"$f":"VLOOKUP(Q1150,Stores!$A:$B,2,FALSE)","v":"DFDE"},"2013-11",{"$f":"VLOOKUP($Q1150,Stores!$A:$D,4,FALSE)","v":"Open"},{"$f":"VLOOKUP(Q1150,Stores!$A:$C,3,FALSE)","v":"Charlotte, NC"},5450,1.4311926605504588]
["8605 - Houston, TX - Del Frisco's","",68.900000000000006,66.7,0,75.599999999999994,86.7,68.900000000000006,71.099999999999994,82.2,46.7,66.7,11.1,0,30,45,8605,11,2013,{"$f":"VLOOKUP(Q1151,Stores!$A:$B,2,FALSE)","v":"DFDE"},"2013-11",{"$f":"VLOOKUP($Q1151,Stores!$A:$D,4,FALSE)","v":"Open"},{"$f":"VLOOKUP(Q1151,Stores!$A:$C,3,FALSE)","v":"Houston, TX"},6518,0.69039582694077928]
["8610 - Dallas, TX - Del Frisco's","",61.9,64.900000000000006,0,74.2,77.3,59.8,69.099999999999994,76.3,42.3,54.6,17.5,4,74,97,8610,11,2013,{"$f":"VLOOKUP(Q1152,Stores!$A:$B,2,FALSE)","v":"DFDE"},"2013-11",{"$f":"VLOOKUP($Q1152,Stores!$A:$D,4,FALSE)","v":"Open"},{"$f":"VLOOKUP(Q1152,Stores!$A:$C,3,FALSE)","v":"Dallas, TX"},10652,0.9106271122793842]
["8615 - Orlando, FL - Del Frisco’s","",78.599999999999994,75,0,96.4,100,85.7,75,92.9,57.1,67.900000000000006,7.1,1,19,28,8615,11,2013,{"$f":"VLOOKUP(Q1153,Stores!$A:$B,2,FALSE)","v":"DFDE"},"2013-11",{"$f":"VLOOKUP($Q1153,Stores!$A:$D,4,FALSE)","v":"Open"},{"$f":"VLOOKUP(Q1153,Stores!$A:$C,3,FALSE)","v":"Orlando, FL"},4542,0.61646851607221487]
["8620 - New York City, NY - Del Frisco's","",74.8,74.8,0,81.3,82.9,78,77.2,76.400000000000006,47.2,58.5,7.3,0,89,123,8620,11,2013,{"$f":"VLOOKUP(Q1154,Stores!$A:$B,2,FALSE)","v":"DFDE"},"2013-11",{"$f":"VLOOKUP($Q1154,Stores!$A:$D,4,FALSE)","v":"Open"},{"$f":"VLOOKUP(Q1154,Stores!$A:$C,3,FALSE)","v":"New York City, NY"},22414,0.54876416525385918]
["8635 - Boston, MA - Del Frisco's","",65,76.3,0,82.5,78.8,68.8,77.5,68.8,47.5,65,10,0,54,80,8635,11,2013,{"$f":"VLOOKUP(Q1155,Stores!$A:$B,2,FALSE)","v":"DFDE"},{"$f":"S1155&\"-\"&REPT(\"0\",2-LEN(R1155))&R1155","v":"2013-11"},{"$f":"VLOOKUP($Q1155,Stores!$A:$D,4,FALSE)","v":"Open"},{"$f":"VLOOKUP(Q1155,Stores!$A:$C,3,FALSE)","v":"Boston, MA"},11118,{"$f":"P1155/(X1155/100)","v":0.71955387659651016}]
["8640 - Las Vegas, NV - Del Frisco's","",87.5,84.4,0,92.2,95.3,87.5,90.6,76.599999999999994,59.4,56.3,3.1,0,44,64,8640,11,2013,{"$f":"VLOOKUP(Q1156,Stores!$A:$B,2,FALSE)","v":"DFDE"},"2013-11",{"$f":"VLOOKUP($Q1156,Stores!$A:$D,4,FALSE)","v":"Open"},{"$f":"VLOOKUP(Q1156,Stores!$A:$C,3,FALSE)","v":"Las Vegas, NV"},6787,0.94297922498894937]
["8650 - Chicago, IL - Del Frisco's","",83.3,83.3,0,75,83.3,70.8,79.2,79.2,70.8,83.3,12.5,2,16,24,8650,11,2013,{"$f":"VLOOKUP(Q1157,Stores!$A:$B,2,FALSE)","v":"DFDE"},"2013-11",{"$f":"VLOOKUP($Q1157,Stores!$A:$D,4,FALSE)","v":"Open"},{"$f":"VLOOKUP(Q1157,Stores!$A:$C,3,FALSE)","v":"Chicago, IL"},5370,0.44692737430167595]
["8655 - Washington, DC -  Del Frisco's","",73.2,68.3,0,75.599999999999994,85.4,70.7,78,78,58.5,70.7,9.8000000000000007,0,26,41,8655,11,2013,{"$f":"VLOOKUP(Q1158,Stores!$A:$B,2,FALSE)","v":"DFDE"},"2013-11",{"$f":"VLOOKUP($Q1158,Stores!$A:$D,4,FALSE)","v":"Open"},{"$f":"VLOOKUP(Q1158,Stores!$A:$C,3,FALSE)","v":"Washington, DC"},9645,0.4250907205806117]
["8680 - Philadelphia, PA - Del Frisco's","",64.2,75.5,0,74.5,85.8,67,75.5,84,41.5,65.099999999999994,11.3,2,75,106,8680,11,2013,{"$f":"VLOOKUP(Q1159,Stores!$A:$B,2,FALSE)","v":"DFDE"},"2013-11",{"$f":"VLOOKUP($Q1159,Stores!$A:$D,4,FALSE)","v":"Open"},{"$f":"VLOOKUP(Q1159,Stores!$A:$C,3,FALSE)","v":"Philadelphia, PA"},12363,0.85739707190811298]
["8701 - New York City, NY - Grille","",64.5,61.3,0,61.3,71,71,67.7,67.7,58.1,71,12.9,0,22,31,8701,11,2013,{"$f":"VLOOKUP(Q1160,Stores!$A:$B,2,FALSE)","v":"DFG"},"2013-11",{"$f":"VLOOKUP($Q1160,Stores!$A:$D,4,FALSE)","v":"Open"},{"$f":"VLOOKUP(Q1160,Stores!$A:$C,3,FALSE)","v":"New York City, NY"},11917,0.26013258370395231]
["8702 - Dallas, TX - Grille","",71.900000000000006,68.8,0,81.3,84.4,78.099999999999994,71.900000000000006,75,50,65.599999999999994,21.9,0,23,32,8702,11,2013,{"$f":"VLOOKUP(Q1161,Stores!$A:$B,2,FALSE)","v":"DFG"},"2013-11",{"$f":"VLOOKUP($Q1161,Stores!$A:$D,4,FALSE)","v":"Open"},{"$f":"VLOOKUP(Q1161,Stores!$A:$C,3,FALSE)","v":"Dallas, TX"},6987,0.45799341634464003]
["8703 - Washington, DC - Grille","",64.3,71.400000000000006,0,71.400000000000006,82.1,67.900000000000006,64.3,85.7,67.900000000000006,64.3,7.1,1,23,28,8703,11,2013,{"$f":"VLOOKUP(Q1162,Stores!$A:$B,2,FALSE)","v":"DFG"},"2013-11",{"$f":"VLOOKUP($Q1162,Stores!$A:$D,4,FALSE)","v":"Open"},{"$f":"VLOOKUP(Q1162,Stores!$A:$C,3,FALSE)","v":"Washington, DC"},6597,0.424435349401243]
["8706 - Atlanta, GA - Grille","",91.3,82.6,0,82.6,91.3,91.3,87,87,69.599999999999994,65.2,4.3,0,16,23,8706,11,2013,{"$f":"VLOOKUP(Q1163,Stores!$A:$B,2,FALSE)","v":"DFG"},"2013-11",{"$f":"VLOOKUP($Q1163,Stores!$A:$D,4,FALSE)","v":"Open"},{"$f":"VLOOKUP(Q1163,Stores!$A:$C,3,FALSE)","v":"Atlanta, GA"},8727,0.26354990260112299]
["8707 - River Oaks, TX - Grille","",74.2,71,0,74.2,74.2,74.2,74.2,83.9,67.7,51.6,16.100000000000001,0,20,31,8707,11,2013,{"$f":"VLOOKUP(Q1164,Stores!$A:$B,2,FALSE)","v":"DFG"},"2013-11",{"$f":"VLOOKUP($Q1164,Stores!$A:$D,4,FALSE)","v":"Open"},{"$f":"VLOOKUP(Q1164,Stores!$A:$C,3,FALSE)","v":"Houston, TX"},5292,0.58578987150415718]
["8708 - Chestnut Hill, MA - Grille","",65.8,63.2,0,63.2,65.8,68.400000000000006,68.400000000000006,65.8,50,73.7,15.8,1,30,38,8708,11,2013,{"$f":"VLOOKUP(Q1165,Stores!$A:$B,2,FALSE)","v":"DFG"},"2013-11",{"$f":"VLOOKUP($Q1165,Stores!$A:$D,4,FALSE)","v":"Open"},{"$f":"VLOOKUP(Q1165,Stores!$A:$C,3,FALSE)","v":"Chestnut Hill, MA"},6059,0.62716619904274629]
["8709 - Santa Monica, CA - Grille","",72.7,90.9,0,81.8,81.8,81.8,90.9,100,54.5,63.6,9.1,0,9,11,8709,11,2013,{"$f":"VLOOKUP(Q1166,Stores!$A:$B,2,FALSE)","v":"DFG"},"2013-11",{"$f":"VLOOKUP($Q1166,Stores!$A:$D,4,FALSE)","v":"Open"},{"$f":"VLOOKUP(Q1166,Stores!$A:$C,3,FALSE)","v":"Santa Monica, CA"},12472,8.8197562540089799E-2]
["8710 - Fort Worth, TX - Grille","",74.099999999999994,75.900000000000006,0,72.400000000000006,84.5,70.7,74.099999999999994,82.8,56.9,58.6,8.6,1,40,58,8710,11,2013,{"$f":"VLOOKUP(Q1167,Stores!$A:$B,2,FALSE)","v":"DFG"},"2013-11",{"$f":"VLOOKUP($Q1167,Stores!$A:$D,4,FALSE)","v":"Open"},{"$f":"VLOOKUP(Q1167,Stores!$A:$C,3,FALSE)","v":"Fort Worth, TX"},12845,0.45153756325418454]
["8711 – Cherry Creek, CO - Grille","",80,85.5,0,83.6,87.3,74.5,87.3,81.8,70.900000000000006,85.5,5.5,0,38,55,8711,11,2013,{"$f":"VLOOKUP(Q1168,Stores!$A:$B,2,FALSE)","v":"DFG"},"2013-11",{"$f":"VLOOKUP($Q1168,Stores!$A:$D,4,FALSE)","v":"Open"},{"$f":"VLOOKUP(Q1168,Stores!$A:$C,3,FALSE)","v":"Cherry Creek, CO"},6564,0.83790371724558199]
["8712 - Southlake, TX - Grille","",73.8,82,0,78.7,82,73.8,82,75.400000000000006,49.2,80.3,9.8000000000000007,2,43,61,8712,11,2013,{"$f":"VLOOKUP(Q1169,Stores!$A:$B,2,FALSE)","v":"DFG"},"2013-11",{"$f":"VLOOKUP($Q1169,Stores!$A:$D,4,FALSE)","v":"Open"},{"$f":"VLOOKUP(Q1169,Stores!$A:$C,3,FALSE)","v":"Southlake, TX"},10936,0.55779078273591809]
["8713 - Burlington, MA - Grille",41794,63.2,52.6,0,68.400000000000006,73.7,63.2,68.400000000000006,63.2,47.4,31.6,21.1,0,11,19,8713,11,2013,{"$f":"VLOOKUP(Q1170,Stores!$A:$B,2,FALSE)","v":"DFG"},"2013-11",{"$f":"VLOOKUP($Q1170,Stores!$A:$D,4,FALSE)","v":"Open"},{"$f":"VLOOKUP(Q1170,Stores!$A:$C,3,FALSE)","v":"Burlington, MA"},7200,0.2638888888888889]
["8714 - N Bethesda, MD - Grille",41908,63.6,72.7,0,90.9,90.9,63.6,54.5,72.7,72.7,90.9,9.1,0,9,11,8714,11,2013,{"$f":"VLOOKUP(Q1171,Stores!$A:$B,2,FALSE)","v":"DFG"},"2013-11",{"$f":"VLOOKUP($Q1171,Stores!$A:$D,4,FALSE)","v":"Open"},{"$f":"VLOOKUP(Q1171,Stores!$A:$C,3,FALSE)","v":"N. Bethesda, MD"},4447,0.24735776928266248]
["8715 - Irvine, CA - Grille","",77.8,80,0,88.9,91.1,82.2,80,88.9,64.400000000000006,55.6,6.7,1,32,45,8715,11,2013,{"$f":"VLOOKUP(Q1172,Stores!$A:$B,2,FALSE)","v":"DFG"},"2013-11",{"$f":"VLOOKUP($Q1172,Stores!$A:$D,4,FALSE)","v":"Open"},{"$f":"VLOOKUP(Q1172,Stores!$A:$C,3,FALSE)","v":"Irvine, CA"},5877,0.76569678407350683]
["8716 - Tampa, FL - Grille","",63.9,72.2,0,66.7,83.3,69.400000000000006,75,77.8,50,63.9,16.7,0,23,36,8716,11,2013,{"$f":"VLOOKUP(Q1173,Stores!$A:$B,2,FALSE)","v":"DFG"},"2013-11",{"$f":"VLOOKUP($Q1173,Stores!$A:$D,4,FALSE)","v":"Open"},{"$f":"VLOOKUP(Q1173,Stores!$A:$C,3,FALSE)","v":"Tampa, FL"},6115,0.58871627146361405]
["8717 - Pasadena, CA - Grille",41992,81.099999999999994,73,0,83.8,83.8,75.7,73,78.400000000000006,51.4,91.9,10.8,0,20,37,8717,11,2013,{"$f":"VLOOKUP(Q1174,Stores!$A:$B,2,FALSE)","v":"DFG"},"2013-11",{"$f":"VLOOKUP($Q1174,Stores!$A:$D,4,FALSE)","v":"Open"},{"$f":"VLOOKUP(Q1174,Stores!$A:$C,3,FALSE)","v":"Pasadena, CA"},3986,0.92824887104867038]
["8718 -Woodlands, TX - Grille","",69.5,76.3,0,86.4,88.1,69.5,71.2,78,57.6,67.8,6.8,0,44,59,8718,11,2013,{"$f":"VLOOKUP(Q1175,Stores!$A:$B,2,FALSE)","v":"DFG"},"2013-11",{"$f":"VLOOKUP($Q1175,Stores!$A:$D,4,FALSE)","v":"Open"},{"$f":"VLOOKUP(Q1175,Stores!$A:$C,3,FALSE)","v":"Woodlands, TX"},8090,0.7292954264524103]
["8720 - Little Rock, AR - Grille","",83.3,88.9,0,88.9,100,83.3,100,100,66.7,83.3,0,0,15,18,8720,11,2013,{"$f":"VLOOKUP(Q1176,Stores!$A:$B,2,FALSE)","v":"DFG"},"2013-11",{"$f":"VLOOKUP($Q1176,Stores!$A:$D,4,FALSE)","v":"Open"},{"$f":"VLOOKUP(Q1176,Stores!$A:$C,3,FALSE)","v":"Little Rock, AR"},4743,0.37950664136622392]
["8721 - Plano, TX - Grille","",73.3,82.2,0,80,80,71.099999999999994,75.599999999999994,75.599999999999994,48.9,77.8,8.9,1,30,45,8721,11,2013,{"$f":"VLOOKUP(Q1177,Stores!$A:$B,2,FALSE)","v":"DFG"},"2013-11",{"$f":"VLOOKUP($Q1177,Stores!$A:$D,4,FALSE)","v":"Open"},{"$f":"VLOOKUP(Q1177,Stores!$A:$C,3,FALSE)","v":"Plano, TX"},8819,0.51026193445968937]
["8722 – Stamford, CT - Grille","",71.900000000000006,65.599999999999994,0,78.099999999999994,78.099999999999994,78.099999999999994,59.4,68.8,43.8,65.599999999999994,6.3,0,24,32,8722,11,2013,{"$f":"VLOOKUP(Q1178,Stores!$A:$B,2,FALSE)","v":"DFG"},"2013-11",{"$f":"VLOOKUP($Q1178,Stores!$A:$D,4,FALSE)","v":"Open"},{"$f":"VLOOKUP(Q1178,Stores!$A:$C,3,FALSE)","v":"Stamford, CT"},4785,0.66875653082549635]
["8723 – Hoboken, NJ - Grille","",83.7,79.099999999999994,0,88.4,93,79.099999999999994,81.400000000000006,81.400000000000006,69.8,53.5,0,0,32,43,8723,11,2013,{"$f":"VLOOKUP(Q1179,Stores!$A:$B,2,FALSE)","v":"DFG"},"2013-11",{"$f":"VLOOKUP($Q1179,Stores!$A:$D,4,FALSE)","v":"Open"},{"$f":"VLOOKUP(Q1179,Stores!$A:$C,3,FALSE)","v":"Hoboken, NJ"},8585,0.50087361677344211]
["8724 - Huntington, NY - Grille","",72,72,0,72,84,72,68,68,52,88,8,0,19,25,8724,11,2013,{"$f":"VLOOKUP(Q1180,Stores!$A:$B,2,FALSE)","v":"DFG"},"2013-11",{"$f":"VLOOKUP($Q1180,Stores!$A:$D,4,FALSE)","v":"Open"},{"$f":"VLOOKUP(Q1180,Stores!$A:$C,3,FALSE)","v":"Huntington, NY"},10151,0.2462811545660526]
["8725 - Nashville, TN - Grille","",100,100,0,100,100,100,100,100,100,100,0,0,3,4,8725,11,2013,{"$f":"VLOOKUP(Q1181,Stores!$A:$B,2,FALSE)","v":"DFG"},"2013-11",{"$f":"VLOOKUP($Q1181,Stores!$A:$D,4,FALSE)","v":"Open"},{"$f":"VLOOKUP(Q1181,Stores!$A:$C,3,FALSE)","v":"Nashville, TN"},1052,0.38022813688212931]
["8501 - Austin, TX - Sullivan's","",61.5,61.5,0,65.400000000000006,84.6,61.5,65.400000000000006,73.099999999999994,57.7,73.099999999999994,15.4,1,18,26,{"$f":"MID(A1182,1,4)*1","v":8501},12,2013,{"$f":"VLOOKUP(Q1182,Stores!$A:$B,2,FALSE)","v":"SULL"},"2013-12",{"$f":"VLOOKUP($Q1182,Stores!$A:$D,4,FALSE)","v":"Open"},{"$f":"VLOOKUP(Q1182,Stores!$A:$C,3,FALSE)","v":"Austin, TX"},5554,0.46813107670147641]
["8502 - Indianapolis, IN - Sullivan's","",67.5,76.3,0,72.5,86.3,75,75,75,58.8,75,7.5,0,64,80,{"$f":"MID(A1183,1,4)*1","v":8502},12,2013,{"$f":"VLOOKUP(Q1183,Stores!$A:$B,2,FALSE)","v":"SULL"},"2013-12",{"$f":"VLOOKUP($Q1183,Stores!$A:$D,4,FALSE)","v":"Open"},{"$f":"VLOOKUP(Q1183,Stores!$A:$C,3,FALSE)","v":"Indianapolis, IN"},6527,1.2256779531178184]
["8504 - Houston, TX - Sullivan's","",67.599999999999994,73,0,75.7,75.7,75.7,70.3,78.400000000000006,64.900000000000006,89.2,13.5,0,31,37,8504,12,2013,{"$f":"VLOOKUP(Q1184,Stores!$A:$B,2,FALSE)","v":"SULL"},"2013-12",{"$f":"VLOOKUP($Q1184,Stores!$A:$D,4,FALSE)","v":"Closed"},{"$f":"VLOOKUP(Q1184,Stores!$A:$C,3,FALSE)","v":"Houston, TX"},3320,1.1144578313253011]
["8510 - Wilmington, DE - Sullivan's","",67.2,69,0,69,77.599999999999994,63.8,67.2,70.7,50,63.8,13.8,0,44,58,8510,12,2013,{"$f":"VLOOKUP(Q1185,Stores!$A:$B,2,FALSE)","v":"SULL"},"2013-12",{"$f":"VLOOKUP($Q1185,Stores!$A:$D,4,FALSE)","v":"Open"},{"$f":"VLOOKUP(Q1185,Stores!$A:$C,3,FALSE)","v":"Wilmington, DE"},5133,1.1299435028248588]
["8522 - King of Prussia, PA - Sullivan's","",76.3,79.7,0,81.400000000000006,84.7,79.7,79.7,74.599999999999994,47.5,69.5,3.4,0,40,59,8522,12,2013,{"$f":"VLOOKUP(Q1186,Stores!$A:$B,2,FALSE)","v":"SULL"},"2013-12",{"$f":"VLOOKUP($Q1186,Stores!$A:$D,4,FALSE)","v":"Open"},{"$f":"VLOOKUP(Q1186,Stores!$A:$C,3,FALSE)","v":"King of Prussia, PA"},5591,1.0552673940261135]
["8525 - Tucson, AZ - Sullivan's","",76.5,72.099999999999994,0,83.8,89.7,85.3,76.5,77.900000000000006,73.5,79.400000000000006,5.9,1,59,68,8525,12,2013,{"$f":"VLOOKUP(Q1187,Stores!$A:$B,2,FALSE)","v":"SULL"},"2013-12",{"$f":"VLOOKUP($Q1187,Stores!$A:$D,4,FALSE)","v":"Open"},{"$f":"VLOOKUP(Q1187,Stores!$A:$C,3,FALSE)","v":"Tucson, AZ"},3929,1.7307202850598118]
["8532 - Omaha, NE - Sullivan's","",52.4,81,0,71.400000000000006,76.2,71.400000000000006,71.400000000000006,61.9,47.6,71.400000000000006,19,1,19,21,8532,12,2013,{"$f":"VLOOKUP(Q1188,Stores!$A:$B,2,FALSE)","v":"SULL"},"2013-12",{"$f":"VLOOKUP($Q1188,Stores!$A:$D,4,FALSE)","v":"Open"},{"$f":"VLOOKUP(Q1188,Stores!$A:$C,3,FALSE)","v":"Omaha, NE"},4511,0.46552870760363557]
["8535 - Baltimore, MD - Sullivan's","",47.8,60.9,0,56.5,69.599999999999994,65.2,56.5,69.599999999999994,60.9,78.3,13,1,17,23,8535,12,2013,{"$f":"VLOOKUP(Q1189,Stores!$A:$B,2,FALSE)","v":"SULL"},"2013-12",{"$f":"VLOOKUP($Q1189,Stores!$A:$D,4,FALSE)","v":"Open"},{"$f":"VLOOKUP(Q1189,Stores!$A:$C,3,FALSE)","v":"Baltimore, MD"},5338,0.43087298613712999]
["8536 - Leawood, KS - Sullivan's","",72.099999999999994,81.400000000000006,0,81.400000000000006,86,69.8,74.400000000000006,76.7,58.1,97.7,2.2999999999999998,0,34,43,8536,12,2013,{"$f":"VLOOKUP(Q1190,Stores!$A:$B,2,FALSE)","v":"SULL"},"2013-12",{"$f":"VLOOKUP($Q1190,Stores!$A:$D,4,FALSE)","v":"Open"},{"$f":"VLOOKUP(Q1190,Stores!$A:$C,3,FALSE)","v":"Leawood, KS"},4389,0.97972203235361133]
["8541 - Chicago, IL - Sullivan's","",86.4,90.9,0,86.4,86.4,81.8,81.8,81.8,59.1,72.7,9.1,0,17,22,8541,12,2013,{"$f":"VLOOKUP(Q1191,Stores!$A:$B,2,FALSE)","v":"SULL"},"2013-12",{"$f":"VLOOKUP($Q1191,Stores!$A:$D,4,FALSE)","v":"Open"},{"$f":"VLOOKUP(Q1191,Stores!$A:$C,3,FALSE)","v":"Chicago, IL"},3564,0.61728395061728392]
["8542 - Naperville, IL - Sullivan's","",71.900000000000006,79.7,0,82.8,82.8,79.7,82.8,82.8,59.4,87.5,7.8,1,44,64,8542,12,2013,{"$f":"VLOOKUP(Q1192,Stores!$A:$B,2,FALSE)","v":"SULL"},"2013-12",{"$f":"VLOOKUP($Q1192,Stores!$A:$D,4,FALSE)","v":"Open"},{"$f":"VLOOKUP(Q1192,Stores!$A:$C,3,FALSE)","v":"Naperville, IL"},5872,1.0899182561307903]
["8543 - Lincolnshire, IL - Sullivan's","",81.5,88.9,0,88.9,88.9,74.099999999999994,74.099999999999994,74.099999999999994,48.1,81.5,0,0,18,27,8543,12,2013,{"$f":"VLOOKUP(Q1193,Stores!$A:$B,2,FALSE)","v":"SULL"},"2013-12",{"$f":"VLOOKUP($Q1193,Stores!$A:$D,4,FALSE)","v":"Open"},{"$f":"VLOOKUP(Q1193,Stores!$A:$C,3,FALSE)","v":"Lincolnshire, IL"},3986,0.67737079779227294]
["8551 - Baton Rouge, LA - Sullivan's","",85.6,88.3,0,87.4,89.2,86.5,86.5,85.6,73.900000000000006,92.8,3.6,0,69,111,8551,12,2013,{"$f":"VLOOKUP(Q1194,Stores!$A:$B,2,FALSE)","v":"SULL"},"2013-12",{"$f":"VLOOKUP($Q1194,Stores!$A:$D,4,FALSE)","v":"Open"},{"$f":"VLOOKUP(Q1194,Stores!$A:$C,3,FALSE)","v":"Baton Rouge, LA"},4840,2.2933884297520661]
["8561 - Raleigh, NC - Sullivan's","",68.5,67.099999999999994,0,72.599999999999994,78.099999999999994,69.900000000000006,68.5,69.900000000000006,52.1,67.099999999999994,13.7,0,52,73,8561,12,2013,{"$f":"VLOOKUP(Q1195,Stores!$A:$B,2,FALSE)","v":"SULL"},"2013-12",{"$f":"VLOOKUP($Q1195,Stores!$A:$D,4,FALSE)","v":"Open"},{"$f":"VLOOKUP(Q1195,Stores!$A:$C,3,FALSE)","v":"Raleigh, NC"},5741,1.2715554781396969]
["8562 - Charlotte, NC - Sullivan's","",67.900000000000006,75,0,71.400000000000006,85.7,67.900000000000006,71.400000000000006,64.3,50,42.9,7.1,0,20,28,8562,12,2013,{"$f":"VLOOKUP(Q1196,Stores!$A:$B,2,FALSE)","v":"SULL"},"2013-12",{"$f":"VLOOKUP($Q1196,Stores!$A:$D,4,FALSE)","v":"Open"},{"$f":"VLOOKUP(Q1196,Stores!$A:$C,3,FALSE)","v":"Charlotte, NC"},5101,0.54891197804352088]
["8570 - Palm Desert, CA - Sullivan's","",72.900000000000006,77.099999999999994,0,85.4,85.4,81.3,68.8,70.8,50,85.4,8.3000000000000007,0,33,48,8570,12,2013,{"$f":"VLOOKUP(Q1197,Stores!$A:$B,2,FALSE)","v":"SULL"},"2013-12",{"$f":"VLOOKUP($Q1197,Stores!$A:$D,4,FALSE)","v":"Open"},{"$f":"VLOOKUP(Q1197,Stores!$A:$C,3,FALSE)","v":"Palm Desert, CA"},6398,0.7502344482650829]
["8591 - Anchorage, AK - Sullivan's","",84.9,84.9,0,92.5,96.2,88.7,90.6,81.099999999999994,75.5,73.599999999999994,9.4,0,46,53,8591,12,2013,{"$f":"VLOOKUP(Q1198,Stores!$A:$B,2,FALSE)","v":"SULL"},"2013-12",{"$f":"VLOOKUP($Q1198,Stores!$A:$D,4,FALSE)","v":"Open"},{"$f":"VLOOKUP(Q1198,Stores!$A:$C,3,FALSE)","v":"Anchorage, AK"},6480,0.81790123456790131]
["8592 - Seattle, WA - Sullivan's","",66.7,73.3,0,80,83.3,83.3,66.7,66.7,56.7,73.3,10,1,21,30,8592,12,2013,{"$f":"VLOOKUP(Q1199,Stores!$A:$B,2,FALSE)","v":"SULL"},"2013-12",{"$f":"VLOOKUP($Q1199,Stores!$A:$D,4,FALSE)","v":"Closed"},{"$f":"VLOOKUP(Q1199,Stores!$A:$C,3,FALSE)","v":"Seattle, WA"},5616,0.53418803418803418]
["8602 - Fort Worth, TX - Del Frisco's","",77.599999999999994,81,0,85.3,89.7,78.400000000000006,76.7,79.3,56.9,79.3,5.2,0,77,116,8602,12,2013,{"$f":"VLOOKUP(Q1200,Stores!$A:$B,2,FALSE)","v":"DFDE"},"2013-12",{"$f":"VLOOKUP($Q1200,Stores!$A:$D,4,FALSE)","v":"Open"},{"$f":"VLOOKUP(Q1200,Stores!$A:$C,3,FALSE)","v":"Fort Worth, TX"},7366,1.5748031496062993]
["8603 - Denver, CO - Del Frisco's","",63.4,65.3,0,68.3,78.2,66.3,73.3,62.4,33.700000000000003,67.3,13.9,0,71,101,8603,12,2013,{"$f":"VLOOKUP(Q1201,Stores!$A:$B,2,FALSE)","v":"DFDE"},"2013-12",{"$f":"VLOOKUP($Q1201,Stores!$A:$D,4,FALSE)","v":"Open"},{"$f":"VLOOKUP(Q1201,Stores!$A:$C,3,FALSE)","v":"Denver, CO"},9056,1.1152826855123674]
["8604 - Charlotte, NC - Del Frisco's","",77.3,78.7,0,76,89.3,78.7,81.3,86.7,52,40,9.3000000000000007,1,55,75,8604,12,2013,{"$f":"VLOOKUP(Q1202,Stores!$A:$B,2,FALSE)","v":"DFDE"},"2013-12",{"$f":"VLOOKUP($Q1202,Stores!$A:$D,4,FALSE)","v":"Open"},{"$f":"VLOOKUP(Q1202,Stores!$A:$C,3,FALSE)","v":"Charlotte, NC"},6000,1.25]
["8605 - Houston, TX - Del Frisco's","",83.3,80.3,0,84.8,87.9,74.2,81.8,78.8,56.1,72.7,6.1,0,42,66,8605,12,2013,{"$f":"VLOOKUP(Q1203,Stores!$A:$B,2,FALSE)","v":"DFDE"},"2013-12",{"$f":"VLOOKUP($Q1203,Stores!$A:$D,4,FALSE)","v":"Open"},{"$f":"VLOOKUP(Q1203,Stores!$A:$C,3,FALSE)","v":"Houston, TX"},6399,1.0314111579934364]
["8610 - Dallas, TX - Del Frisco's","",57.4,69.099999999999994,0,73.400000000000006,78.7,59.6,72.3,74.5,46.8,73.400000000000006,12.8,1,74,94,8610,12,2013,{"$f":"VLOOKUP(Q1204,Stores!$A:$B,2,FALSE)","v":"DFDE"},"2013-12",{"$f":"VLOOKUP($Q1204,Stores!$A:$D,4,FALSE)","v":"Open"},{"$f":"VLOOKUP(Q1204,Stores!$A:$C,3,FALSE)","v":"Dallas, TX"},10082,0.93235469152945849]
["8615 - Orlando, FL - Del Frisco’s","",76.5,85.3,0,85.3,97.1,76.5,91.2,85.3,52.9,79.400000000000006,5.9,0,23,34,8615,12,2013,{"$f":"VLOOKUP(Q1205,Stores!$A:$B,2,FALSE)","v":"DFDE"},"2013-12",{"$f":"VLOOKUP($Q1205,Stores!$A:$D,4,FALSE)","v":"Open"},{"$f":"VLOOKUP(Q1205,Stores!$A:$C,3,FALSE)","v":"Orlando, FL"},4947,0.6872852233676976]
["8620 - New York City, NY - Del Frisco's","",73.599999999999994,76.400000000000006,0,79.099999999999994,81.8,70.3,83.1,70.900000000000006,48,57.4,8.1,1,96,148,8620,12,2013,{"$f":"VLOOKUP(Q1206,Stores!$A:$B,2,FALSE)","v":"DFDE"},"2013-12",{"$f":"VLOOKUP($Q1206,Stores!$A:$D,4,FALSE)","v":"Open"},{"$f":"VLOOKUP(Q1206,Stores!$A:$C,3,FALSE)","v":"New York City, NY"},25763,0.57446725924775843]
["8635 - Boston, MA - Del Frisco's","",74.7,78.7,0,88,88,80,73.3,84,46.7,66.7,4,0,44,75,8635,12,2013,{"$f":"VLOOKUP(Q1207,Stores!$A:$B,2,FALSE)","v":"DFDE"},"2013-12",{"$f":"VLOOKUP($Q1207,Stores!$A:$D,4,FALSE)","v":"Open"},{"$f":"VLOOKUP(Q1207,Stores!$A:$C,3,FALSE)","v":"Boston, MA"},10405,0.7208073041806824]
["8640 - Las Vegas, NV - Del Frisco's","",75.400000000000006,85.2,0,70.5,78.7,72.099999999999994,85.2,72.099999999999994,57.4,50.8,8.1999999999999993,0,44,61,8640,12,2013,{"$f":"VLOOKUP(Q1208,Stores!$A:$B,2,FALSE)","v":"DFDE"},"2013-12",{"$f":"VLOOKUP($Q1208,Stores!$A:$D,4,FALSE)","v":"Open"},{"$f":"VLOOKUP(Q1208,Stores!$A:$C,3,FALSE)","v":"Las Vegas, NV"},6094,1.0009845749917952]
["8650 - Chicago, IL - Del Frisco's","",66.7,76.7,0,73.3,83.3,66.7,66.7,76.7,46.7,70,13.3,0,23,30,8650,12,2013,{"$f":"VLOOKUP(Q1209,Stores!$A:$B,2,FALSE)","v":"DFDE"},"2013-12",{"$f":"VLOOKUP($Q1209,Stores!$A:$D,4,FALSE)","v":"Open"},{"$f":"VLOOKUP(Q1209,Stores!$A:$C,3,FALSE)","v":"Chicago, IL"},4988,0.60144346431435447]
["8655 - Washington, DC -  Del Frisco's","",57.4,70.400000000000006,0,66.7,66.7,59.3,68.5,70.400000000000006,50,68.5,11.1,2,33,54,8655,12,2013,{"$f":"VLOOKUP(Q1210,Stores!$A:$B,2,FALSE)","v":"DFDE"},"2013-12",{"$f":"VLOOKUP($Q1210,Stores!$A:$D,4,FALSE)","v":"Open"},{"$f":"VLOOKUP(Q1210,Stores!$A:$C,3,FALSE)","v":"Washington, DC"},8955,0.60301507537688448]
["8680 - Philadelphia, PA - Del Frisco's","",70.7,75,0,77.900000000000006,85,69.3,81.400000000000006,78.599999999999994,51.4,66.400000000000006,12.1,1,83,140,8680,12,2013,{"$f":"VLOOKUP(Q1211,Stores!$A:$B,2,FALSE)","v":"DFDE"},"2013-12",{"$f":"VLOOKUP($Q1211,Stores!$A:$D,4,FALSE)","v":"Open"},{"$f":"VLOOKUP(Q1211,Stores!$A:$C,3,FALSE)","v":"Philadelphia, PA"},11893,1.1771630370806356]
["8701 - New York City, NY - Grille","",64.7,64.7,0,66.7,68.599999999999994,62.7,64.7,66.7,47.1,51,17.600000000000001,1,37,51,8701,12,2013,{"$f":"VLOOKUP(Q1212,Stores!$A:$B,2,FALSE)","v":"DFG"},"2013-12",{"$f":"VLOOKUP($Q1212,Stores!$A:$D,4,FALSE)","v":"Open"},{"$f":"VLOOKUP(Q1212,Stores!$A:$C,3,FALSE)","v":"New York City, NY"},15101,0.33772597841202573]
["8702 - Dallas, TX - Grille","",66.7,74.099999999999994,0,66.7,70.400000000000006,70.400000000000006,81.5,81.5,48.1,70.400000000000006,7.4,0,17,27,8702,12,2013,{"$f":"VLOOKUP(Q1213,Stores!$A:$B,2,FALSE)","v":"DFG"},"2013-12",{"$f":"VLOOKUP($Q1213,Stores!$A:$D,4,FALSE)","v":"Open"},{"$f":"VLOOKUP(Q1213,Stores!$A:$C,3,FALSE)","v":"Dallas, TX"},6376,0.42346298619824341]
["8703 - Washington, DC - Grille","",72,80,0,76,76,76,84,76,60,56,8,1,21,25,8703,12,2013,{"$f":"VLOOKUP(Q1214,Stores!$A:$B,2,FALSE)","v":"DFG"},"2013-12",{"$f":"VLOOKUP($Q1214,Stores!$A:$D,4,FALSE)","v":"Open"},{"$f":"VLOOKUP(Q1214,Stores!$A:$C,3,FALSE)","v":"Washington, DC"},5898,0.423872499152255]
["8706 - Atlanta, GA - Grille","",77.3,77.3,0,81.8,90.9,77.3,72.7,81.8,59.1,68.2,18.2,0,17,22,8706,12,2013,{"$f":"VLOOKUP(Q1215,Stores!$A:$B,2,FALSE)","v":"DFG"},"2013-12",{"$f":"VLOOKUP($Q1215,Stores!$A:$D,4,FALSE)","v":"Open"},{"$f":"VLOOKUP(Q1215,Stores!$A:$C,3,FALSE)","v":"Atlanta, GA"},8220,0.26763990267639903]
["8707 - River Oaks, TX - Grille","",71.400000000000006,71.400000000000006,0,78.599999999999994,85.7,64.3,71.400000000000006,78.599999999999994,78.599999999999994,64.3,7.1,0,10,14,8707,12,2013,{"$f":"VLOOKUP(Q1216,Stores!$A:$B,2,FALSE)","v":"DFG"},"2013-12",{"$f":"VLOOKUP($Q1216,Stores!$A:$D,4,FALSE)","v":"Open"},{"$f":"VLOOKUP(Q1216,Stores!$A:$C,3,FALSE)","v":"Houston, TX"},4678,0.2992731936725096]
["8708 - Chestnut Hill, MA - Grille","",65.2,71.7,0,71.7,80.400000000000006,58.7,65.2,65.2,47.8,60.9,13,2,30,46,8708,12,2013,{"$f":"VLOOKUP(Q1217,Stores!$A:$B,2,FALSE)","v":"DFG"},"2013-12",{"$f":"VLOOKUP($Q1217,Stores!$A:$D,4,FALSE)","v":"Open"},{"$f":"VLOOKUP(Q1217,Stores!$A:$C,3,FALSE)","v":"Chestnut Hill, MA"},6711,0.685441811950529]
["8709 - Santa Monica, CA - Grille","",75,75,0,93.8,100,87.5,75,81.3,62.5,31.3,12.5,0,15,16,8709,12,2013,{"$f":"VLOOKUP(Q1218,Stores!$A:$B,2,FALSE)","v":"DFG"},"2013-12",{"$f":"VLOOKUP($Q1218,Stores!$A:$D,4,FALSE)","v":"Open"},{"$f":"VLOOKUP(Q1218,Stores!$A:$C,3,FALSE)","v":"Santa Monica, CA"},11561,0.13839633249718883]
["8710 - Fort Worth, TX - Grille","",66.7,75.8,0,69.7,75.8,62.1,71.2,69.7,47,54.5,12.1,1,45,66,8710,12,2013,{"$f":"VLOOKUP(Q1219,Stores!$A:$B,2,FALSE)","v":"DFG"},{"$f":"S1219&\"-\"&REPT(\"0\",2-LEN(R1219))&R1219","v":"2013-12"},{"$f":"VLOOKUP($Q1219,Stores!$A:$D,4,FALSE)","v":"Open"},{"$f":"VLOOKUP(Q1219,Stores!$A:$C,3,FALSE)","v":"Fort Worth, TX"},12752,{"$f":"P1219/(X1219/100)","v":0.51756587202007531}]
["8711 – Cherry Creek, CO - Grille","",75.400000000000006,78.900000000000006,0,84.2,91.2,77.2,80.7,75.400000000000006,59.6,87.7,1.8,0,36,57,8711,12,2013,{"$f":"VLOOKUP(Q1220,Stores!$A:$B,2,FALSE)","v":"DFG"},"2013-12",{"$f":"VLOOKUP($Q1220,Stores!$A:$D,4,FALSE)","v":"Open"},{"$f":"VLOOKUP(Q1220,Stores!$A:$C,3,FALSE)","v":"Cherry Creek, CO"},6941,0.82120731883013975]
["8712 - Southlake, TX - Grille","",73.8,78.5,0,78.5,86.2,81.5,80,80,60,70.8,3.1,1,56,65,8712,12,2013,{"$f":"VLOOKUP(Q1221,Stores!$A:$B,2,FALSE)","v":"DFG"},"2013-12",{"$f":"VLOOKUP($Q1221,Stores!$A:$D,4,FALSE)","v":"Open"},{"$f":"VLOOKUP(Q1221,Stores!$A:$C,3,FALSE)","v":"Southlake, TX"},11831,0.54940410785225258]
["8713 - Burlington, MA - Grille",41794,62.2,70.3,0,73,83.8,67.599999999999994,64.900000000000006,62.2,40.5,45.9,2.7,0,20,37,8713,12,2013,{"$f":"VLOOKUP(Q1222,Stores!$A:$B,2,FALSE)","v":"DFG"},"2013-12",{"$f":"VLOOKUP($Q1222,Stores!$A:$D,4,FALSE)","v":"Open"},{"$f":"VLOOKUP(Q1222,Stores!$A:$C,3,FALSE)","v":"Burlington, MA"},7467,0.49551359314316323]
["8714 - N Bethesda, MD - Grille",41908,61.5,61.5,0,73.099999999999994,73.099999999999994,57.7,84.6,69.2,50,69.2,3.8,1,20,26,8714,12,2013,{"$f":"VLOOKUP(Q1223,Stores!$A:$B,2,FALSE)","v":"DFG"},"2013-12",{"$f":"VLOOKUP($Q1223,Stores!$A:$D,4,FALSE)","v":"Open"},{"$f":"VLOOKUP(Q1223,Stores!$A:$C,3,FALSE)","v":"N. Bethesda, MD"},5059,0.51393556038742827]
["8715 - Irvine, CA - Grille","",73.2,70.7,0,85.4,90.2,80.5,82.9,82.9,51.2,56.1,2.4,0,28,41,8715,12,2013,{"$f":"VLOOKUP(Q1224,Stores!$A:$B,2,FALSE)","v":"DFG"},"2013-12",{"$f":"VLOOKUP($Q1224,Stores!$A:$D,4,FALSE)","v":"Open"},{"$f":"VLOOKUP(Q1224,Stores!$A:$C,3,FALSE)","v":"Irvine, CA"},6269,0.65401180411548898]
["8716 - Tampa, FL - Grille","",59.3,55.6,0,81.5,81.5,77.8,70.400000000000006,85.2,63,55.6,7.4,0,19,27,8716,12,2013,{"$f":"VLOOKUP(Q1225,Stores!$A:$B,2,FALSE)","v":"DFG"},"2013-12",{"$f":"VLOOKUP($Q1225,Stores!$A:$D,4,FALSE)","v":"Open"},{"$f":"VLOOKUP(Q1225,Stores!$A:$C,3,FALSE)","v":"Tampa, FL"},6099,0.4426955238563699]
["8717 - Pasadena, CA - Grille",41992,66.7,70,0,80,86.7,70,70,83.3,66.7,60,13.3,0,28,30,8717,12,2013,{"$f":"VLOOKUP(Q1226,Stores!$A:$B,2,FALSE)","v":"DFG"},"2013-12",{"$f":"VLOOKUP($Q1226,Stores!$A:$D,4,FALSE)","v":"Open"},{"$f":"VLOOKUP(Q1226,Stores!$A:$C,3,FALSE)","v":"Pasadena, CA"},4229,0.70938756207141174]
["8718 - Woodlands, TX - Grille","",77.8,84,0,85.2,88.9,79,74.099999999999994,85.2,56.8,71.599999999999994,6.2,0,50,81,8718,12,2013,{"$f":"VLOOKUP(Q1227,Stores!$A:$B,2,FALSE)","v":"DFG"},"2013-12",{"$f":"VLOOKUP($Q1227,Stores!$A:$D,4,FALSE)","v":"Open"},{"$f":"VLOOKUP(Q1227,Stores!$A:$C,3,FALSE)","v":"Woodlands, TX"},7953,1.018483591097699]
["8720 - Little Rock, AR - Grille","",77.8,88.9,0,77.8,83.3,77.8,100,100,72.2,77.8,11.1,0,15,18,8720,12,2013,{"$f":"VLOOKUP(Q1228,Stores!$A:$B,2,FALSE)","v":"DFG"},"2013-12",{"$f":"VLOOKUP($Q1228,Stores!$A:$D,4,FALSE)","v":"Open"},{"$f":"VLOOKUP(Q1228,Stores!$A:$C,3,FALSE)","v":"Little Rock, AR"},4718,0.3815175922000848]
["8721 - Plano, TX - Grille","",64.400000000000006,67.8,0,78,81.400000000000006,72.900000000000006,62.7,69.5,47.5,76.3,10.199999999999999,4,36,59,8721,12,2013,{"$f":"VLOOKUP(Q1229,Stores!$A:$B,2,FALSE)","v":"DFG"},"2013-12",{"$f":"VLOOKUP($Q1229,Stores!$A:$D,4,FALSE)","v":"Open"},{"$f":"VLOOKUP(Q1229,Stores!$A:$C,3,FALSE)","v":"Plano, TX"},9470,0.62302006335797255]
["8722 – Stamford, CT - Grille","",100,85.7,0,85.7,100,57.1,71.400000000000006,57.1,57.1,85.7,14.3,0,4,7,8722,12,2013,{"$f":"VLOOKUP(Q1230,Stores!$A:$B,2,FALSE)","v":"DFG"},"2013-12",{"$f":"VLOOKUP($Q1230,Stores!$A:$D,4,FALSE)","v":"Open"},{"$f":"VLOOKUP(Q1230,Stores!$A:$C,3,FALSE)","v":"Stamford, CT"},4892,0.14309076042518398]
["8723 – Hoboken, NJ - Grille","",81.8,75.8,0,84.8,84.8,81.8,75.8,81.8,66.7,51.5,9.1,0,22,33,8723,12,2013,{"$f":"VLOOKUP(Q1231,Stores!$A:$B,2,FALSE)","v":"DFG"},"2013-12",{"$f":"VLOOKUP($Q1231,Stores!$A:$D,4,FALSE)","v":"Open"},{"$f":"VLOOKUP(Q1231,Stores!$A:$C,3,FALSE)","v":"Hoboken, NJ"},8590,0.38416763678696153]
["8724 - Huntington, NY - Grille","",66.7,75.8,0,72.7,72.7,72.7,63.6,63.6,48.5,72.7,9.1,0,23,33,8724,12,2013,{"$f":"VLOOKUP(Q1232,Stores!$A:$B,2,FALSE)","v":"DFG"},"2013-12",{"$f":"VLOOKUP($Q1232,Stores!$A:$D,4,FALSE)","v":"Open"},{"$f":"VLOOKUP(Q1232,Stores!$A:$C,3,FALSE)","v":"Huntington, NY"},9740,0.33880903490759751]
["8725 - Nashville, TN - Grille","",71,77.400000000000006,0,77.400000000000006,87.1,71,67.7,93.5,61.3,77.400000000000006,6.5,0,27,31,8725,12,2013,{"$f":"VLOOKUP(Q1233,Stores!$A:$B,2,FALSE)","v":"DFG"},"2013-12",{"$f":"VLOOKUP($Q1233,Stores!$A:$D,4,FALSE)","v":"Open"},{"$f":"VLOOKUP(Q1233,Stores!$A:$C,3,FALSE)","v":"Nashville, TN"},7246,0.42782224675683139]
["8726 - Brentwood, TN - Grille",42693,56.3,65.599999999999994,0,71.900000000000006,84.4,68.8,53.1,71.900000000000006,31.3,75,12.5,1,24,32,8726,12,2013,{"$f":"VLOOKUP(Q1234,Stores!$A:$B,2,FALSE)","v":"DFG"},"2013-12",{"$f":"VLOOKUP($Q1234,Stores!$A:$D,4,FALSE)","v":"Open"},{"$f":"VLOOKUP(Q1234,Stores!$A:$C,3,FALSE)","v":"Brentwood, TN"},3764,0.85015940488841657]
["8501 - Austin, TX - Sullivan's","",64.3,64.3,0,82.1,75,64.3,60.7,53.6,46.4,64.3,14.3,0,22,28,{"$f":"MID(A1235,1,4)*1","v":8501},13,2013,{"$f":"VLOOKUP(Q1235,Stores!$A:$B,2,FALSE)","v":"SULL"},"2013-13",{"$f":"VLOOKUP($Q1235,Stores!$A:$D,4,FALSE)","v":"Open"},{"$f":"VLOOKUP(Q1235,Stores!$A:$C,3,FALSE)","v":"Austin, TX"},6539,0.42820003058571648]
["8502 - Indianapolis, IN - Sullivan's","",62.8,73.400000000000006,0,75.5,80.900000000000006,67,66,64.900000000000006,45.7,74.5,10.6,0,71,94,8502,13,2013,{"$f":"VLOOKUP(Q1236,Stores!$A:$B,2,FALSE)","v":"SULL"},"2013-13",{"$f":"VLOOKUP($Q1236,Stores!$A:$D,4,FALSE)","v":"Open"},{"$f":"VLOOKUP(Q1236,Stores!$A:$C,3,FALSE)","v":"Indianapolis, IN"},9875,0.95189873417721516]
["8504 - Houston, TX - Sullivan's","",84.4,87.5,0,75,93.8,65.599999999999994,75,68.8,62.5,78.099999999999994,3.1,0,23,32,8504,13,2013,{"$f":"VLOOKUP(Q1237,Stores!$A:$B,2,FALSE)","v":"SULL"},"2013-13",{"$f":"VLOOKUP($Q1237,Stores!$A:$D,4,FALSE)","v":"Closed"},{"$f":"VLOOKUP(Q1237,Stores!$A:$C,3,FALSE)","v":"Houston, TX"},4440,0.7207207207207208]
["8510 - Wilmington, DE - Sullivan's","",63.1,69.2,0,75.400000000000006,76.900000000000006,61.5,69.2,56.9,50.8,56.9,12.3,0,43,65,8510,13,2013,{"$f":"VLOOKUP(Q1238,Stores!$A:$B,2,FALSE)","v":"SULL"},"2013-13",{"$f":"VLOOKUP($Q1238,Stores!$A:$D,4,FALSE)","v":"Open"},{"$f":"VLOOKUP(Q1238,Stores!$A:$C,3,FALSE)","v":"Wilmington, DE"},6545,0.99312452253628725]
["8522 - King of Prussia, PA - Sullivan's","",63,72.2,0,66.7,81.5,66.7,75.900000000000006,74.099999999999994,51.9,53.7,9.3000000000000007,1,37,54,8522,13,2013,{"$f":"VLOOKUP(Q1239,Stores!$A:$B,2,FALSE)","v":"SULL"},"2013-13",{"$f":"VLOOKUP($Q1239,Stores!$A:$D,4,FALSE)","v":"Open"},{"$f":"VLOOKUP(Q1239,Stores!$A:$C,3,FALSE)","v":"King of Prussia, PA"},8513,0.63432397509691063]
["8525 - Tucson, AZ - Sullivan's","",81.099999999999994,79.2,0,94.3,92.5,84.9,81.099999999999994,79.2,71.7,81.099999999999994,3.8,1,43,53,8525,13,2013,{"$f":"VLOOKUP(Q1240,Stores!$A:$B,2,FALSE)","v":"SULL"},"2013-13",{"$f":"VLOOKUP($Q1240,Stores!$A:$D,4,FALSE)","v":"Open"},{"$f":"VLOOKUP(Q1240,Stores!$A:$C,3,FALSE)","v":"Tucson, AZ"},5016,1.0566188197767146]
["8532 - Omaha, NE - Sullivan's","",65.599999999999994,62.5,0,81.3,87.5,65.599999999999994,68.8,68.8,40.6,62.5,6.3,0,21,32,8532,13,2013,{"$f":"VLOOKUP(Q1241,Stores!$A:$B,2,FALSE)","v":"SULL"},"2013-13",{"$f":"VLOOKUP($Q1241,Stores!$A:$D,4,FALSE)","v":"Open"},{"$f":"VLOOKUP(Q1241,Stores!$A:$C,3,FALSE)","v":"Omaha, NE"},5119,0.62512209415901543]
["8535 - Baltimore, MD - Sullivan's","",73.3,73.3,0,73.3,80,66.7,60,73.3,46.7,53.3,26.7,1,11,15,8535,13,2013,{"$f":"VLOOKUP(Q1242,Stores!$A:$B,2,FALSE)","v":"SULL"},"2013-13",{"$f":"VLOOKUP($Q1242,Stores!$A:$D,4,FALSE)","v":"Open"},{"$f":"VLOOKUP(Q1242,Stores!$A:$C,3,FALSE)","v":"Baltimore, MD"},5669,0.26459693067560419]
["8536 - Leawood, KS - Sullivan's","",72.5,78.400000000000006,0,76.5,94.1,66.7,80.400000000000006,82.4,54.9,94.1,7.8,0,35,51,8536,13,2013,{"$f":"VLOOKUP(Q1243,Stores!$A:$B,2,FALSE)","v":"SULL"},"2013-13",{"$f":"VLOOKUP($Q1243,Stores!$A:$D,4,FALSE)","v":"Open"},{"$f":"VLOOKUP(Q1243,Stores!$A:$C,3,FALSE)","v":"Leawood, KS"},6067,0.84061315312345475]
["8541 - Chicago, IL - Sullivan's","",90.5,85.7,0,85.7,100,90.5,95.2,85.7,71.400000000000006,76.2,4.8,0,17,21,8541,13,2013,{"$f":"VLOOKUP(Q1244,Stores!$A:$B,2,FALSE)","v":"SULL"},"2013-13",{"$f":"VLOOKUP($Q1244,Stores!$A:$D,4,FALSE)","v":"Open"},{"$f":"VLOOKUP(Q1244,Stores!$A:$C,3,FALSE)","v":"Chicago, IL"},3581,0.58642837196313879]
["8542 - Naperville, IL - Sullivan's","",47.5,64.400000000000006,0,57.6,72.900000000000006,52.5,69.5,61,33.9,76.3,22,1,48,59,8542,13,2013,{"$f":"VLOOKUP(Q1245,Stores!$A:$B,2,FALSE)","v":"SULL"},"2013-13",{"$f":"VLOOKUP($Q1245,Stores!$A:$D,4,FALSE)","v":"Open"},{"$f":"VLOOKUP(Q1245,Stores!$A:$C,3,FALSE)","v":"Naperville, IL"},7944,0.74269889224572005]
["8543 - Lincolnshire, IL - Sullivan's","",72,64,0,76,88,80,80,60,44,92,8,0,21,25,8543,13,2013,{"$f":"VLOOKUP(Q1246,Stores!$A:$B,2,FALSE)","v":"SULL"},"2013-13",{"$f":"VLOOKUP($Q1246,Stores!$A:$D,4,FALSE)","v":"Open"},{"$f":"VLOOKUP(Q1246,Stores!$A:$C,3,FALSE)","v":"Lincolnshire, IL"},5164,0.48412083656080557]
["8551 - Baton Rouge, LA - Sullivan's","",86.4,87.9,0,86.4,89.4,83.3,84.8,87.9,81.099999999999994,84.1,3.8,0,91,132,8551,13,2013,{"$f":"VLOOKUP(Q1247,Stores!$A:$B,2,FALSE)","v":"SULL"},"2013-13",{"$f":"VLOOKUP($Q1247,Stores!$A:$D,4,FALSE)","v":"Open"},{"$f":"VLOOKUP(Q1247,Stores!$A:$C,3,FALSE)","v":"Baton Rouge, LA"},7997,1.6506189821182944]
["8561 - Raleigh, NC - Sullivan's","",61.1,66.3,0,73.7,76.8,65.3,68.400000000000006,64.2,33.700000000000003,70.5,13.7,0,70,95,8561,13,2013,{"$f":"VLOOKUP(Q1248,Stores!$A:$B,2,FALSE)","v":"SULL"},"2013-13",{"$f":"VLOOKUP($Q1248,Stores!$A:$D,4,FALSE)","v":"Open"},{"$f":"VLOOKUP(Q1248,Stores!$A:$C,3,FALSE)","v":"Raleigh, NC"},9335,1.0176754151044456]
["8562 - Charlotte, NC - Sullivan's","",74.3,77.099999999999994,0,77.099999999999994,80,80,82.9,80,57.1,62.9,8.6,1,25,35,8562,13,2013,{"$f":"VLOOKUP(Q1249,Stores!$A:$B,2,FALSE)","v":"SULL"},"2013-13",{"$f":"VLOOKUP($Q1249,Stores!$A:$D,4,FALSE)","v":"Open"},{"$f":"VLOOKUP(Q1249,Stores!$A:$C,3,FALSE)","v":"Charlotte, NC"},6761,0.51767490016269779]
["8570 - Palm Desert, CA - Sullivan's","",87.5,92.5,0,95,95,85,82.5,82.5,75,95,2.5,0,36,40,8570,13,2013,{"$f":"VLOOKUP(Q1250,Stores!$A:$B,2,FALSE)","v":"SULL"},"2013-13",{"$f":"VLOOKUP($Q1250,Stores!$A:$D,4,FALSE)","v":"Open"},{"$f":"VLOOKUP(Q1250,Stores!$A:$C,3,FALSE)","v":"Palm Desert, CA"},5518,0.72490032620514677]
["8591 - Anchorage, AK - Sullivan's","",80.400000000000006,76.099999999999994,0,80.400000000000006,80.400000000000006,78.3,78.3,73.900000000000006,60.9,78.3,13,0,31,46,8591,13,2013,{"$f":"VLOOKUP(Q1251,Stores!$A:$B,2,FALSE)","v":"SULL"},"2013-13",{"$f":"VLOOKUP($Q1251,Stores!$A:$D,4,FALSE)","v":"Open"},{"$f":"VLOOKUP(Q1251,Stores!$A:$C,3,FALSE)","v":"Anchorage, AK"},7796,0.59004617752693689]
["8592 - Seattle, WA - Sullivan's","",75,75,0,79.5,81.8,77.3,77.3,77.3,65.900000000000006,65.900000000000006,11.4,2,32,44,8592,13,2013,{"$f":"VLOOKUP(Q1252,Stores!$A:$B,2,FALSE)","v":"SULL"},"2013-13",{"$f":"VLOOKUP($Q1252,Stores!$A:$D,4,FALSE)","v":"Closed"},{"$f":"VLOOKUP(Q1252,Stores!$A:$C,3,FALSE)","v":"Seattle, WA"},7070,0.6223479490806223]
["8602 - Fort Worth, TX - Del Frisco's","",78.3,85.3,0,85.3,88.8,77.599999999999994,83.2,79,56.6,71.3,7,1,101,143,8602,13,2013,{"$f":"VLOOKUP(Q1253,Stores!$A:$B,2,FALSE)","v":"DFDE"},"2013-13",{"$f":"VLOOKUP($Q1253,Stores!$A:$D,4,FALSE)","v":"Open"},{"$f":"VLOOKUP(Q1253,Stores!$A:$C,3,FALSE)","v":"Fort Worth, TX"},10386,1.3768534565761603]
["8603 - Denver, CO - Del Frisco's","",68.599999999999994,67.8,0,69.5,75.400000000000006,63.6,73.7,65.3,42.4,62.7,14.4,0,89,118,8603,13,2013,{"$f":"VLOOKUP(Q1254,Stores!$A:$B,2,FALSE)","v":"DFDE"},"2013-13",{"$f":"VLOOKUP($Q1254,Stores!$A:$D,4,FALSE)","v":"Open"},{"$f":"VLOOKUP(Q1254,Stores!$A:$C,3,FALSE)","v":"Denver, CO"},14166,0.83298037554708459]
["8604 - Charlotte, NC - Del Frisco's","",72,76,0,79,82,71,83,80,51,41,8,1,64,100,8604,13,2013,{"$f":"VLOOKUP(Q1255,Stores!$A:$B,2,FALSE)","v":"DFDE"},"2013-13",{"$f":"VLOOKUP($Q1255,Stores!$A:$D,4,FALSE)","v":"Open"},{"$f":"VLOOKUP(Q1255,Stores!$A:$C,3,FALSE)","v":"Charlotte, NC"},8115,1.2322858903265557]
["8605 - Houston, TX - Del Frisco's","",70.400000000000006,70.400000000000006,0,83.1,90.1,81.7,78.900000000000006,77.5,54.9,66.2,5.6,0,44,71,8605,13,2013,{"$f":"VLOOKUP(Q1256,Stores!$A:$B,2,FALSE)","v":"DFDE"},"2013-13",{"$f":"VLOOKUP($Q1256,Stores!$A:$D,4,FALSE)","v":"Open"},{"$f":"VLOOKUP(Q1256,Stores!$A:$C,3,FALSE)","v":"Houston, TX"},8791,0.80764418154931183]
["8610 - Dallas, TX - Del Frisco's","",63.4,71.400000000000006,0,71.400000000000006,79.5,70.5,75,75,48.2,65.2,13.4,3,82,112,8610,13,2013,{"$f":"VLOOKUP(Q1257,Stores!$A:$B,2,FALSE)","v":"DFDE"},"2013-13",{"$f":"VLOOKUP($Q1257,Stores!$A:$D,4,FALSE)","v":"Open"},{"$f":"VLOOKUP(Q1257,Stores!$A:$C,3,FALSE)","v":"Dallas, TX"},12761,0.87767416346681293]
["8615 - Orlando, FL - Del Frisco’s","",82.4,73.5,0,88.2,85.3,79.400000000000006,79.400000000000006,85.3,50,88.2,5.9,1,25,34,8615,13,2013,{"$f":"VLOOKUP(Q1258,Stores!$A:$B,2,FALSE)","v":"DFDE"},"2013-13",{"$f":"VLOOKUP($Q1258,Stores!$A:$D,4,FALSE)","v":"Open"},{"$f":"VLOOKUP(Q1258,Stores!$A:$C,3,FALSE)","v":"Orlando, FL"},4291,0.79235609415054775]
["8620 - New York City, NY - Del Frisco's","",72.099999999999994,74,0,80.3,85.1,71.599999999999994,79.8,72.099999999999994,45.7,50.5,12,2,138,208,8620,13,2013,{"$f":"VLOOKUP(Q1259,Stores!$A:$B,2,FALSE)","v":"DFDE"},"2013-13",{"$f":"VLOOKUP($Q1259,Stores!$A:$D,4,FALSE)","v":"Open"},{"$f":"VLOOKUP(Q1259,Stores!$A:$C,3,FALSE)","v":"New York City, NY"},34131,0.60941665934194722]
["8635 - Boston, MA - Del Frisco's","",72.400000000000006,77,0,74.7,79.3,70.099999999999994,79.3,74.7,43.7,64.400000000000006,10.3,2,65,87,8635,13,2013,{"$f":"VLOOKUP(Q1260,Stores!$A:$B,2,FALSE)","v":"DFDE"},"2013-13",{"$f":"VLOOKUP($Q1260,Stores!$A:$D,4,FALSE)","v":"Open"},{"$f":"VLOOKUP(Q1260,Stores!$A:$C,3,FALSE)","v":"Boston, MA"},13293,0.65447980139923267]
["8640 - Las Vegas, NV - Del Frisco's","",83.7,85.7,0,93.9,93.9,89.8,79.599999999999994,89.8,65.3,71.400000000000006,6.1,0,30,49,8640,13,2013,{"$f":"VLOOKUP(Q1261,Stores!$A:$B,2,FALSE)","v":"DFDE"},"2013-13",{"$f":"VLOOKUP($Q1261,Stores!$A:$D,4,FALSE)","v":"Open"},{"$f":"VLOOKUP(Q1261,Stores!$A:$C,3,FALSE)","v":"Las Vegas, NV"},6056,0.80911492734478196]
["8650 - Chicago, IL - Del Frisco's","",91.7,88.9,0,91.7,94.4,88.9,97.2,94.4,61.1,83.3,0,0,28,36,8650,13,2013,{"$f":"VLOOKUP(Q1262,Stores!$A:$B,2,FALSE)","v":"DFDE"},"2013-13",{"$f":"VLOOKUP($Q1262,Stores!$A:$D,4,FALSE)","v":"Open"},{"$f":"VLOOKUP(Q1262,Stores!$A:$C,3,FALSE)","v":"Chicago, IL"},5415,0.66481994459833793]
["8655 - Washington, DC -  Del Frisco's","",58,68,0,52,60,54,72,74,42,56,30,4,31,50,8655,13,2013,{"$f":"VLOOKUP(Q1263,Stores!$A:$B,2,FALSE)","v":"DFDE"},"2013-13",{"$f":"VLOOKUP($Q1263,Stores!$A:$D,4,FALSE)","v":"Open"},{"$f":"VLOOKUP(Q1263,Stores!$A:$C,3,FALSE)","v":"Washington, DC"},10459,0.47805717563820632]
["8680 - Philadelphia, PA - Del Frisco's","",73.5,78.099999999999994,0,77.5,86.8,72.8,82.8,78.099999999999994,47,60.3,9.9,2,97,151,8680,13,2013,{"$f":"VLOOKUP(Q1264,Stores!$A:$B,2,FALSE)","v":"DFDE"},"2013-13",{"$f":"VLOOKUP($Q1264,Stores!$A:$D,4,FALSE)","v":"Open"},{"$f":"VLOOKUP(Q1264,Stores!$A:$C,3,FALSE)","v":"Philadelphia, PA"},16464,0.91715257531584071]
["8701 - New York City, NY - Grille","",54.7,59.3,0,66.3,66.3,60.5,62.8,46.5,43,59.3,18.600000000000001,0,64,86,8701,13,2013,{"$f":"VLOOKUP(Q1265,Stores!$A:$B,2,FALSE)","v":"DFG"},"2013-13",{"$f":"VLOOKUP($Q1265,Stores!$A:$D,4,FALSE)","v":"Open"},{"$f":"VLOOKUP(Q1265,Stores!$A:$C,3,FALSE)","v":"New York City, NY"},21972,0.39140724558529039]
["8702 - Dallas, TX - Grille","",84.2,94.7,0,92.1,94.7,81.599999999999994,84.2,84.2,78.900000000000006,76.3,2.6,0,21,38,8702,13,2013,{"$f":"VLOOKUP(Q1266,Stores!$A:$B,2,FALSE)","v":"DFG"},"2013-13",{"$f":"VLOOKUP($Q1266,Stores!$A:$D,4,FALSE)","v":"Open"},{"$f":"VLOOKUP(Q1266,Stores!$A:$C,3,FALSE)","v":"Dallas, TX"},6587,0.57689388188856838]
["8703 - Washington, DC - Grille","",65.599999999999994,78.099999999999994,0,78.099999999999994,78.099999999999994,71.900000000000006,81.3,65.599999999999994,43.8,46.9,6.3,0,21,32,8703,13,2013,{"$f":"VLOOKUP(Q1267,Stores!$A:$B,2,FALSE)","v":"DFG"},"2013-13",{"$f":"VLOOKUP($Q1267,Stores!$A:$D,4,FALSE)","v":"Open"},{"$f":"VLOOKUP(Q1267,Stores!$A:$C,3,FALSE)","v":"Washington, DC"},7714,0.41483017889551466]
["8706 - Atlanta, GA - Grille","",60.7,71.400000000000006,0,85.7,89.3,78.599999999999994,64.3,78.599999999999994,57.1,60.7,17.899999999999999,0,24,28,8706,13,2013,{"$f":"VLOOKUP(Q1268,Stores!$A:$B,2,FALSE)","v":"DFG"},"2013-13",{"$f":"VLOOKUP($Q1268,Stores!$A:$D,4,FALSE)","v":"Open"},{"$f":"VLOOKUP(Q1268,Stores!$A:$C,3,FALSE)","v":"Atlanta, GA"},8757,0.319744204636291]
["8707 - River Oaks, TX - Grille","",58.3,62.5,0,79.2,87.5,62.5,66.7,75,58.3,58.3,12.5,0,18,24,8707,13,2013,{"$f":"VLOOKUP(Q1269,Stores!$A:$B,2,FALSE)","v":"DFG"},"2013-13",{"$f":"VLOOKUP($Q1269,Stores!$A:$D,4,FALSE)","v":"Open"},{"$f":"VLOOKUP(Q1269,Stores!$A:$C,3,FALSE)","v":"Houston, TX"},5570,0.43087971274685816]
["8708 - Chestnut Hill, MA - Grille","",56.8,59.1,0,77.3,79.5,70.5,68.2,59.1,45.5,61.4,13.6,0,30,44,8708,13,2013,{"$f":"VLOOKUP(Q1270,Stores!$A:$B,2,FALSE)","v":"DFG"},"2013-13",{"$f":"VLOOKUP($Q1270,Stores!$A:$D,4,FALSE)","v":"Open"},{"$f":"VLOOKUP(Q1270,Stores!$A:$C,3,FALSE)","v":"Chestnut Hill, MA"},6735,0.65330363771343736]
["8709 - Santa Monica, CA - Grille","",88.9,88.9,0,94.4,94.4,88.9,88.9,88.9,83.3,61.1,0,0,15,18,8709,13,2013,{"$f":"VLOOKUP(Q1271,Stores!$A:$B,2,FALSE)","v":"DFG"},"2013-13",{"$f":"VLOOKUP($Q1271,Stores!$A:$D,4,FALSE)","v":"Open"},{"$f":"VLOOKUP(Q1271,Stores!$A:$C,3,FALSE)","v":"Santa Monica, CA"},9127,0.19721704831817685]
["8710 - Fort Worth, TX - Grille","",62.3,72.7,0,68.8,74,64.900000000000006,76.599999999999994,76.599999999999994,49.4,62.3,20.8,4,59,77,8710,13,2013,{"$f":"VLOOKUP(Q1272,Stores!$A:$B,2,FALSE)","v":"DFG"},"2013-13",{"$f":"VLOOKUP($Q1272,Stores!$A:$D,4,FALSE)","v":"Open"},{"$f":"VLOOKUP(Q1272,Stores!$A:$C,3,FALSE)","v":"Fort Worth, TX"},15194,0.50677899170725282]
["8711 – Cherry Creek, CO - Grille","",86,81.400000000000006,0,88.4,93,79.099999999999994,83.7,76.7,62.8,58.1,4.7,0,33,43,8711,13,2013,{"$f":"VLOOKUP(Q1273,Stores!$A:$B,2,FALSE)","v":"DFG"},"2013-13",{"$f":"VLOOKUP($Q1273,Stores!$A:$D,4,FALSE)","v":"Open"},{"$f":"VLOOKUP(Q1273,Stores!$A:$C,3,FALSE)","v":"Cherry Creek, CO"},7746,0.55512522592305713]
["8712 - Southlake, TX - Grille","",71.400000000000006,78.099999999999994,0,81,86.7,77.099999999999994,82.9,73.3,63.8,72.400000000000006,10.5,2,74,105,8712,13,2013,{"$f":"VLOOKUP(Q1274,Stores!$A:$B,2,FALSE)","v":"DFG"},"2013-13",{"$f":"VLOOKUP($Q1274,Stores!$A:$D,4,FALSE)","v":"Open"},{"$f":"VLOOKUP(Q1274,Stores!$A:$C,3,FALSE)","v":"Southlake, TX"},13587,0.77279752704791338]
["8713 - Burlington, MA - Grille",41794,64.7,70.599999999999994,0,67.599999999999994,73.5,61.8,70.599999999999994,55.9,29.4,55.9,11.8,0,21,34,8713,13,2013,{"$f":"VLOOKUP(Q1275,Stores!$A:$B,2,FALSE)","v":"DFG"},"2013-13",{"$f":"VLOOKUP($Q1275,Stores!$A:$D,4,FALSE)","v":"Open"},{"$f":"VLOOKUP(Q1275,Stores!$A:$C,3,FALSE)","v":"Burlington, MA"},8084,0.4205838693715982]
["8714 - N Bethesda, MD - Grille",41908,68.2,63.6,0,77.3,90.9,72.7,68.2,86.4,50,54.5,9.1,0,15,22,8714,13,2013,{"$f":"VLOOKUP(Q1276,Stores!$A:$B,2,FALSE)","v":"DFG"},"2013-13",{"$f":"VLOOKUP($Q1276,Stores!$A:$D,4,FALSE)","v":"Open"},{"$f":"VLOOKUP(Q1276,Stores!$A:$C,3,FALSE)","v":"N. Bethesda, MD"},5256,0.41856925418569252]
["8715 - Irvine, CA - Grille","",76.7,81.400000000000006,0,86,90.7,86,79.099999999999994,83.7,60.5,76.7,2.2999999999999998,0,38,43,8715,13,2013,{"$f":"VLOOKUP(Q1277,Stores!$A:$B,2,FALSE)","v":"DFG"},"2013-13",{"$f":"VLOOKUP($Q1277,Stores!$A:$D,4,FALSE)","v":"Open"},{"$f":"VLOOKUP(Q1277,Stores!$A:$C,3,FALSE)","v":"Irvine, CA"},7778,0.55284134739007451]
["8716 - Tampa, FL - Grille","",72.7,77.3,0,72.7,93.2,72.7,77.3,84.1,61.4,56.8,4.5,0,29,44,8716,13,2013,{"$f":"VLOOKUP(Q1278,Stores!$A:$B,2,FALSE)","v":"DFG"},"2013-13",{"$f":"VLOOKUP($Q1278,Stores!$A:$D,4,FALSE)","v":"Open"},{"$f":"VLOOKUP(Q1278,Stores!$A:$C,3,FALSE)","v":"Tampa, FL"},7681,0.57284207785444596]
["8717 - Pasadena, CA - Grille",41992,62.9,77.099999999999994,0,77.099999999999994,88.6,74.3,80,82.9,51.4,74.3,14.3,0,23,35,8717,13,2013,{"$f":"VLOOKUP(Q1279,Stores!$A:$B,2,FALSE)","v":"DFG"},"2013-13",{"$f":"VLOOKUP($Q1279,Stores!$A:$D,4,FALSE)","v":"Open"},{"$f":"VLOOKUP(Q1279,Stores!$A:$C,3,FALSE)","v":"Pasadena, CA"},5543,0.63142702507667325]
["8718 - Woodlands, TX - Grille","",78.599999999999994,80.400000000000006,0,82.1,94.6,78.599999999999994,76.8,80.400000000000006,50,71.400000000000006,3.6,0,43,56,8718,13,2013,{"$f":"VLOOKUP(Q1280,Stores!$A:$B,2,FALSE)","v":"DFG"},"2013-13",{"$f":"VLOOKUP($Q1280,Stores!$A:$D,4,FALSE)","v":"Open"},{"$f":"VLOOKUP(Q1280,Stores!$A:$C,3,FALSE)","v":"Woodlands, TX"},8438,0.66366437544441814]
["8720 - Little Rock, AR - Grille","",82.8,79.3,0,79.3,79.3,65.5,72.400000000000006,79.3,55.2,69,3.4,1,19,29,8720,13,2013,{"$f":"VLOOKUP(Q1281,Stores!$A:$B,2,FALSE)","v":"DFG"},"2013-13",{"$f":"VLOOKUP($Q1281,Stores!$A:$D,4,FALSE)","v":"Open"},{"$f":"VLOOKUP(Q1281,Stores!$A:$C,3,FALSE)","v":"Little Rock, AR"},5560,0.52158273381294962]
["8721 - Plano, TX - Grille","",80.5,84.1,0,87.8,92.7,81.7,84.1,82.9,74.400000000000006,81.7,4.9000000000000004,3,54,82,8721,13,2013,{"$f":"VLOOKUP(Q1282,Stores!$A:$B,2,FALSE)","v":"DFG"},"2013-13",{"$f":"VLOOKUP($Q1282,Stores!$A:$D,4,FALSE)","v":"Open"},{"$f":"VLOOKUP(Q1282,Stores!$A:$C,3,FALSE)","v":"Plano, TX"},10290,0.7968901846452866]
["8722 – Stamford, CT - Grille","",27.3,45.5,0,63.6,81.8,27.3,54.5,36.4,36.4,54.5,27.3,0,7,11,8722,13,2013,{"$f":"VLOOKUP(Q1283,Stores!$A:$B,2,FALSE)","v":"DFG"},{"$f":"S1283&\"-\"&REPT(\"0\",2-LEN(R1283))&R1283","v":"2013-13"},{"$f":"VLOOKUP($Q1283,Stores!$A:$D,4,FALSE)","v":"Open"},{"$f":"VLOOKUP(Q1283,Stores!$A:$C,3,FALSE)","v":"Stamford, CT"},5003,{"$f":"P1283/(X1283/100)","v":0.2198680791525085}]
["8723 – Hoboken, NJ - Grille","",77.400000000000006,83.9,0,80.599999999999994,90.3,80.599999999999994,80.599999999999994,74.2,64.5,54.8,3.2,0,20,31,8723,13,2013,{"$f":"VLOOKUP(Q1284,Stores!$A:$B,2,FALSE)","v":"DFG"},"2013-13",{"$f":"VLOOKUP($Q1284,Stores!$A:$D,4,FALSE)","v":"Open"},{"$f":"VLOOKUP(Q1284,Stores!$A:$C,3,FALSE)","v":"Hoboken, NJ"},8551,0.36253069816395739]
["8724 - Huntington, NY - Grille","",81.3,87.5,0,84.4,93.8,84.4,81.3,78.099999999999994,56.3,81.3,3.1,0,20,32,8724,13,2013,{"$f":"VLOOKUP(Q1285,Stores!$A:$B,2,FALSE)","v":"DFG"},"2013-13",{"$f":"VLOOKUP($Q1285,Stores!$A:$D,4,FALSE)","v":"Open"},{"$f":"VLOOKUP(Q1285,Stores!$A:$C,3,FALSE)","v":"Huntington, NY"},10260,0.31189083820662772]
["8725 - Nashville, TN - Grille","",61.3,77.400000000000006,0,80.599999999999994,77.400000000000006,61.3,64.5,80.599999999999994,48.4,71,9.6999999999999993,0,19,31,8725,13,2013,{"$f":"VLOOKUP(Q1286,Stores!$A:$B,2,FALSE)","v":"DFG"},"2013-13",{"$f":"VLOOKUP($Q1286,Stores!$A:$D,4,FALSE)","v":"Open"},{"$f":"VLOOKUP(Q1286,Stores!$A:$C,3,FALSE)","v":"Nashville, TN"},7410,0.4183535762483131]
["8726 - Brentwood, TN - Grille",42693,53.7,58.5,0,64.599999999999994,68.3,59.8,65.900000000000006,63.4,39,65.900000000000006,18.3,3,59,82,8726,13,2013,{"$f":"VLOOKUP(Q1287,Stores!$A:$B,2,FALSE)","v":"DFG"},"2013-13",{"$f":"VLOOKUP($Q1287,Stores!$A:$D,4,FALSE)","v":"Open"},{"$f":"VLOOKUP(Q1287,Stores!$A:$C,3,FALSE)","v":"Brentwood, TN"},11921,0.68786175656404669]
["8501 - Austin, TX - Sullivan's","",66.7,72.2,0,75,77.8,72.2,80.599999999999994,69.400000000000006,72.2,72.2,11.1,0,27,36,{"$f":"MID(A1288,1,4)*1","v":8501},1,2014,{"$f":"VLOOKUP(Q1288,Stores!$A:$B,2,FALSE)","v":"SULL"},"2014-01",{"$f":"VLOOKUP($Q1288,Stores!$A:$D,4,FALSE)","v":"Open"},{"$f":"VLOOKUP(Q1288,Stores!$A:$C,3,FALSE)","v":"Austin, TX"},5191,0.69350799460604895]
["8502 - Indianapolis, IN - Sullivan's","",61.2,65.900000000000006,0,77.599999999999994,77.599999999999994,64.7,65.900000000000006,55.3,41.2,70.599999999999994,15.3,0,58,85,{"$f":"MID(A1289,1,4)*1","v":8502},1,2014,{"$f":"VLOOKUP(Q1289,Stores!$A:$B,2,FALSE)","v":"SULL"},"2014-01",{"$f":"VLOOKUP($Q1289,Stores!$A:$D,4,FALSE)","v":"Open"},{"$f":"VLOOKUP(Q1289,Stores!$A:$C,3,FALSE)","v":"Indianapolis, IN"},5791,1.4677948540839234]
["8504 - Houston, TX - Sullivan's","",66.7,79.2,0,79.2,87.5,83.3,87.5,83.3,62.5,83.3,12.5,2,22,24,8504,1,2014,{"$f":"VLOOKUP(Q1290,Stores!$A:$B,2,FALSE)","v":"SULL"},"2014-01",{"$f":"VLOOKUP($Q1290,Stores!$A:$D,4,FALSE)","v":"Closed"},{"$f":"VLOOKUP(Q1290,Stores!$A:$C,3,FALSE)","v":"Houston, TX"},3324,0.72202166064981943]
["8510 - Wilmington, DE - Sullivan's","",62.2,68.900000000000006,0,74.3,85.1,63.5,73,73,37.799999999999997,52.7,5.4,0,50,74,8510,1,2014,{"$f":"VLOOKUP(Q1291,Stores!$A:$B,2,FALSE)","v":"SULL"},"2014-01",{"$f":"VLOOKUP($Q1291,Stores!$A:$D,4,FALSE)","v":"Open"},{"$f":"VLOOKUP(Q1291,Stores!$A:$C,3,FALSE)","v":"Wilmington, DE"},4964,1.4907332796132151]
["8522 - King of Prussia, PA - Sullivan's","",61.3,71,0,61.3,74.2,54.8,64.5,48.4,54.8,48.4,16.100000000000001,3,27,31,8522,1,2014,{"$f":"VLOOKUP(Q1292,Stores!$A:$B,2,FALSE)","v":"SULL"},"2014-01",{"$f":"VLOOKUP($Q1292,Stores!$A:$D,4,FALSE)","v":"Open"},{"$f":"VLOOKUP(Q1292,Stores!$A:$C,3,FALSE)","v":"King of Prussia, PA"},1647,1.8822100789313905]
["8525 - Tucson, AZ - Sullivan's","",72.3,72.3,0,76.599999999999994,83,78.7,72.3,80.900000000000006,61.7,83,10.6,1,41,47,8525,1,2014,{"$f":"VLOOKUP(Q1293,Stores!$A:$B,2,FALSE)","v":"SULL"},"2014-01",{"$f":"VLOOKUP($Q1293,Stores!$A:$D,4,FALSE)","v":"Open"},{"$f":"VLOOKUP(Q1293,Stores!$A:$C,3,FALSE)","v":"Tucson, AZ"},4499,1.0446765947988441]
["8532 - Omaha, NE - Sullivan's","",57.7,53.8,0,76.900000000000006,76.900000000000006,69.2,61.5,69.2,23.1,61.5,15.4,1,19,26,8532,1,2014,{"$f":"VLOOKUP(Q1294,Stores!$A:$B,2,FALSE)","v":"SULL"},"2014-01",{"$f":"VLOOKUP($Q1294,Stores!$A:$D,4,FALSE)","v":"Open"},{"$f":"VLOOKUP(Q1294,Stores!$A:$C,3,FALSE)","v":"Omaha, NE"},4184,0.62141491395793491]
["8535 - Baltimore, MD - Sullivan's","",62.9,68.599999999999994,0,74.3,71.400000000000006,65.7,62.9,62.9,51.4,62.9,11.4,1,30,35,8535,1,2014,{"$f":"VLOOKUP(Q1295,Stores!$A:$B,2,FALSE)","v":"SULL"},"2014-01",{"$f":"VLOOKUP($Q1295,Stores!$A:$D,4,FALSE)","v":"Open"},{"$f":"VLOOKUP(Q1295,Stores!$A:$C,3,FALSE)","v":"Baltimore, MD"},6006,0.58275058275058278]
["8536 - Leawood, KS - Sullivan's","",77.8,78.7,0,82.4,88,78.7,75.900000000000006,83.3,66.7,72.2,6.5,2,73,108,8536,1,2014,{"$f":"VLOOKUP(Q1296,Stores!$A:$B,2,FALSE)","v":"SULL"},"2014-01",{"$f":"VLOOKUP($Q1296,Stores!$A:$D,4,FALSE)","v":"Open"},{"$f":"VLOOKUP(Q1296,Stores!$A:$C,3,FALSE)","v":"Leawood, KS"},7628,1.4158363922391191]
["8541 - Chicago, IL - Sullivan's","",82.4,76.5,0,82.4,82.4,76.5,82.4,76.5,76.5,94.1,17.600000000000001,0,14,17,8541,1,2014,{"$f":"VLOOKUP(Q1297,Stores!$A:$B,2,FALSE)","v":"SULL"},"2014-01",{"$f":"VLOOKUP($Q1297,Stores!$A:$D,4,FALSE)","v":"Open"},{"$f":"VLOOKUP(Q1297,Stores!$A:$C,3,FALSE)","v":"Chicago, IL"},2425,0.7010309278350515]
["8542 - Naperville, IL - Sullivan's","",66.2,75,0,76.5,85.3,70.599999999999994,72.099999999999994,61.8,48.5,88.2,7.4,1,52,68,8542,1,2014,{"$f":"VLOOKUP(Q1298,Stores!$A:$B,2,FALSE)","v":"SULL"},"2014-01",{"$f":"VLOOKUP($Q1298,Stores!$A:$D,4,FALSE)","v":"Open"},{"$f":"VLOOKUP(Q1298,Stores!$A:$C,3,FALSE)","v":"Naperville, IL"},6666,1.0201020102010201]
["8543 - Lincolnshire, IL - Sullivan's","",86.2,86.2,0,82.8,93.1,82.8,86.2,75.900000000000006,62.1,93.1,0,0,19,29,8543,1,2014,{"$f":"VLOOKUP(Q1299,Stores!$A:$B,2,FALSE)","v":"SULL"},"2014-01",{"$f":"VLOOKUP($Q1299,Stores!$A:$D,4,FALSE)","v":"Open"},{"$f":"VLOOKUP(Q1299,Stores!$A:$C,3,FALSE)","v":"Lincolnshire, IL"},3994,0.72608913370055084]
["8551 - Baton Rouge, LA - Sullivan's","",81.599999999999994,83.7,0,85.7,91.8,87.8,85.7,87.8,79.599999999999994,84.7,2,0,76,98,8551,1,2014,{"$f":"VLOOKUP(Q1300,Stores!$A:$B,2,FALSE)","v":"SULL"},"2014-01",{"$f":"VLOOKUP($Q1300,Stores!$A:$D,4,FALSE)","v":"Open"},{"$f":"VLOOKUP(Q1300,Stores!$A:$C,3,FALSE)","v":"Baton Rouge, LA"},4782,2.0493517356754496]
["8561 - Raleigh, NC - Sullivan's","",65,66.3,0,70,75,66.3,71.3,61.3,38.799999999999997,66.3,18.8,0,60,80,8561,1,2014,{"$f":"VLOOKUP(Q1301,Stores!$A:$B,2,FALSE)","v":"SULL"},"2014-01",{"$f":"VLOOKUP($Q1301,Stores!$A:$D,4,FALSE)","v":"Open"},{"$f":"VLOOKUP(Q1301,Stores!$A:$C,3,FALSE)","v":"Raleigh, NC"},6490,1.2326656394453004]
["8562 - Charlotte, NC - Sullivan's","",68.8,62.5,0,75,84.4,68.8,71.900000000000006,65.599999999999994,43.8,68.8,12.5,1,19,32,8562,1,2014,{"$f":"VLOOKUP(Q1302,Stores!$A:$B,2,FALSE)","v":"SULL"},"2014-01",{"$f":"VLOOKUP($Q1302,Stores!$A:$D,4,FALSE)","v":"Open"},{"$f":"VLOOKUP(Q1302,Stores!$A:$C,3,FALSE)","v":"Charlotte, NC"},6021,0.53147317721308751]
["8570 - Palm Desert, CA - Sullivan's","",82.8,93.8,0,93.8,96.9,85.9,81.3,68.8,65.599999999999994,82.8,1.6,0,46,64,8570,1,2014,{"$f":"VLOOKUP(Q1303,Stores!$A:$B,2,FALSE)","v":"SULL"},"2014-01",{"$f":"VLOOKUP($Q1303,Stores!$A:$D,4,FALSE)","v":"Open"},{"$f":"VLOOKUP(Q1303,Stores!$A:$C,3,FALSE)","v":"Palm Desert, CA"},6485,0.98689282960678493]
["8591 - Anchorage, AK - Sullivan's","",78.7,89.4,0,85.1,95.7,83,80.900000000000006,80.900000000000006,74.5,91.5,6.4,0,33,47,8591,1,2014,{"$f":"VLOOKUP(Q1304,Stores!$A:$B,2,FALSE)","v":"SULL"},"2014-01",{"$f":"VLOOKUP($Q1304,Stores!$A:$D,4,FALSE)","v":"Open"},{"$f":"VLOOKUP(Q1304,Stores!$A:$C,3,FALSE)","v":"Anchorage, AK"},6011,0.78189985027449671]
["8592 - Seattle, WA - Sullivan's","",73.3,80,0,73.3,93.3,73.3,86.7,86.7,73.3,73.3,6.7,0,14,15,8592,1,2014,{"$f":"VLOOKUP(Q1305,Stores!$A:$B,2,FALSE)","v":"SULL"},"2014-01",{"$f":"VLOOKUP($Q1305,Stores!$A:$D,4,FALSE)","v":"Closed"},{"$f":"VLOOKUP(Q1305,Stores!$A:$C,3,FALSE)","v":"Seattle, WA"},5181,0.28951939779965258]
["8602 - Fort Worth, TX - Del Frisco's","",76,84.4,0,89.6,91.6,76,81.2,88.3,58.4,78.599999999999994,9.6999999999999993,1,105,154,8602,1,2014,{"$f":"VLOOKUP(Q1306,Stores!$A:$B,2,FALSE)","v":"DFDE"},"2014-01",{"$f":"VLOOKUP($Q1306,Stores!$A:$D,4,FALSE)","v":"Open"},{"$f":"VLOOKUP(Q1306,Stores!$A:$C,3,FALSE)","v":"Fort Worth, TX"},7322,2.1032504780114722]
["8603 - Denver, CO - Del Frisco's","",62.8,71.7,0,76.099999999999994,79.599999999999994,65.5,66.400000000000006,69,38.9,54,8.8000000000000007,0,84,113,8603,1,2014,{"$f":"VLOOKUP(Q1307,Stores!$A:$B,2,FALSE)","v":"DFDE"},"2014-01",{"$f":"VLOOKUP($Q1307,Stores!$A:$D,4,FALSE)","v":"Open"},{"$f":"VLOOKUP(Q1307,Stores!$A:$C,3,FALSE)","v":"Denver, CO"},9520,1.1869747899159664]
["8604 - Charlotte, NC - Del Frisco's","",80.3,79.599999999999994,0,78.900000000000006,83.8,78.900000000000006,82.4,81.7,55.6,32.4,9.1999999999999993,1,91,142,8604,1,2014,{"$f":"VLOOKUP(Q1308,Stores!$A:$B,2,FALSE)","v":"DFDE"},"2014-01",{"$f":"VLOOKUP($Q1308,Stores!$A:$D,4,FALSE)","v":"Open"},{"$f":"VLOOKUP(Q1308,Stores!$A:$C,3,FALSE)","v":"Charlotte, NC"},7280,1.9505494505494507]
["8605 - Houston, TX - Del Frisco's","",66.2,80,0,76.900000000000006,87.7,81.5,73.8,76.900000000000006,58.5,70.8,10.8,0,49,65,8605,1,2014,{"$f":"VLOOKUP(Q1309,Stores!$A:$B,2,FALSE)","v":"DFDE"},"2014-01",{"$f":"VLOOKUP($Q1309,Stores!$A:$D,4,FALSE)","v":"Open"},{"$f":"VLOOKUP(Q1309,Stores!$A:$C,3,FALSE)","v":"Houston, TX"},6364,1.021370207416719]
["8610 - Dallas, TX - Del Frisco's","",70.5,75.900000000000006,0,76.8,81.3,70.5,76.8,77.7,52.7,57.1,11.6,1,79,112,8610,1,2014,{"$f":"VLOOKUP(Q1310,Stores!$A:$B,2,FALSE)","v":"DFDE"},"2014-01",{"$f":"VLOOKUP($Q1310,Stores!$A:$D,4,FALSE)","v":"Open"},{"$f":"VLOOKUP(Q1310,Stores!$A:$C,3,FALSE)","v":"Dallas, TX"},9763,1.1471883642323057]
["8615 - Orlando, FL - Del Frisco’s","",78,87.8,0,87.8,92.7,80.5,82.9,85.4,58.5,70.7,2.4,1,30,41,8615,1,2014,{"$f":"VLOOKUP(Q1311,Stores!$A:$B,2,FALSE)","v":"DFDE"},"2014-01",{"$f":"VLOOKUP($Q1311,Stores!$A:$D,4,FALSE)","v":"Open"},{"$f":"VLOOKUP(Q1311,Stores!$A:$C,3,FALSE)","v":"Orlando, FL"},5411,0.7577157641840695]
["8620 - New York City, NY - Del Frisco's","",74.5,77,0,77.599999999999994,82.1,75,81.099999999999994,77.599999999999994,47.4,41.3,7.1,1,136,196,8620,1,2014,{"$f":"VLOOKUP(Q1312,Stores!$A:$B,2,FALSE)","v":"DFDE"},"2014-01",{"$f":"VLOOKUP($Q1312,Stores!$A:$D,4,FALSE)","v":"Open"},{"$f":"VLOOKUP(Q1312,Stores!$A:$C,3,FALSE)","v":"New York City, NY"},22993,0.85243334928021575]
["8635 - Boston, MA - Del Frisco's","",72.099999999999994,70.900000000000006,0,80.2,83.7,72.099999999999994,72.099999999999994,76.7,46.5,62.8,12.8,1,59,86,8635,1,2014,{"$f":"VLOOKUP(Q1313,Stores!$A:$B,2,FALSE)","v":"DFDE"},"2014-01",{"$f":"VLOOKUP($Q1313,Stores!$A:$D,4,FALSE)","v":"Open"},{"$f":"VLOOKUP(Q1313,Stores!$A:$C,3,FALSE)","v":"Boston, MA"},8607,0.99918670849308711]
["8640 - Las Vegas, NV - Del Frisco's","",75.599999999999994,80.5,0,84.1,81.7,80.5,82.9,78,63.4,61,8.5,1,59,82,8640,1,2014,{"$f":"VLOOKUP(Q1314,Stores!$A:$B,2,FALSE)","v":"DFDE"},"2014-01",{"$f":"VLOOKUP($Q1314,Stores!$A:$D,4,FALSE)","v":"Open"},{"$f":"VLOOKUP(Q1314,Stores!$A:$C,3,FALSE)","v":"Las Vegas, NV"},8545,0.95962551199531887]
["8650 - Chicago, IL - Del Frisco's","",61.1,75,0,61.1,66.7,63.9,80.599999999999994,72.2,38.9,80.599999999999994,16.7,1,25,36,8650,1,2014,{"$f":"VLOOKUP(Q1315,Stores!$A:$B,2,FALSE)","v":"DFDE"},"2014-01",{"$f":"VLOOKUP($Q1315,Stores!$A:$D,4,FALSE)","v":"Open"},{"$f":"VLOOKUP(Q1315,Stores!$A:$C,3,FALSE)","v":"Chicago, IL"},4047,0.88954781319495924]
["8655 - Washington, DC -  Del Frisco's","",66.7,61.5,0,66.7,71.8,66.7,69.2,64.099999999999994,51.3,59,12.8,2,25,39,8655,1,2014,{"$f":"VLOOKUP(Q1316,Stores!$A:$B,2,FALSE)","v":"DFDE"},"2014-01",{"$f":"VLOOKUP($Q1316,Stores!$A:$D,4,FALSE)","v":"Open"},{"$f":"VLOOKUP(Q1316,Stores!$A:$C,3,FALSE)","v":"Washington, DC"},8480,0.45990566037735853]
["8680 - Philadelphia, PA - Del Frisco's","",66.099999999999994,71.400000000000006,0,78,81.5,67.3,78,79.2,50,64.900000000000006,9.5,2,117,168,8680,1,2014,{"$f":"VLOOKUP(Q1317,Stores!$A:$B,2,FALSE)","v":"DFDE"},"2014-01",{"$f":"VLOOKUP($Q1317,Stores!$A:$D,4,FALSE)","v":"Open"},{"$f":"VLOOKUP(Q1317,Stores!$A:$C,3,FALSE)","v":"Philadelphia, PA"},12653,1.32774836007271]
["8701 - New York City, NY - Grille","",67.599999999999994,64.900000000000006,0,67.599999999999994,81.099999999999994,64.900000000000006,78.400000000000006,67.599999999999994,51.4,54.1,10.8,1,28,37,8701,1,2014,{"$f":"VLOOKUP(Q1318,Stores!$A:$B,2,FALSE)","v":"DFG"},"2014-01",{"$f":"VLOOKUP($Q1318,Stores!$A:$D,4,FALSE)","v":"Open"},{"$f":"VLOOKUP(Q1318,Stores!$A:$C,3,FALSE)","v":"New York City, NY"},11106,0.33315325049522782]
["8702 - Dallas, TX - Grille","",65.5,65.5,0,69,69,58.6,65.5,69,62.1,58.6,24.1,0,17,29,8702,1,2014,{"$f":"VLOOKUP(Q1319,Stores!$A:$B,2,FALSE)","v":"DFG"},"2014-01",{"$f":"VLOOKUP($Q1319,Stores!$A:$D,4,FALSE)","v":"Open"},{"$f":"VLOOKUP(Q1319,Stores!$A:$C,3,FALSE)","v":"Dallas, TX"},6933,0.41828934083369396]
["8703 - Washington, DC - Grille","",62.5,75,0,75,75,75,75,81.3,62.5,37.5,12.5,0,11,16,8703,1,2014,{"$f":"VLOOKUP(Q1320,Stores!$A:$B,2,FALSE)","v":"DFG"},"2014-01",{"$f":"VLOOKUP($Q1320,Stores!$A:$D,4,FALSE)","v":"Open"},{"$f":"VLOOKUP(Q1320,Stores!$A:$C,3,FALSE)","v":"Washington, DC"},5919,0.27031593174522722]
["8706 - Atlanta, GA - Grille","",52.9,55.9,0,55.9,64.7,41.2,67.599999999999994,61.8,44.1,38.200000000000003,29.4,1,24,34,8706,1,2014,{"$f":"VLOOKUP(Q1321,Stores!$A:$B,2,FALSE)","v":"DFG"},"2014-01",{"$f":"VLOOKUP($Q1321,Stores!$A:$D,4,FALSE)","v":"Open"},{"$f":"VLOOKUP(Q1321,Stores!$A:$C,3,FALSE)","v":"Atlanta, GA"},8510,0.39952996474735608]
["8707 - River Oaks, TX - Grille","",53.8,53.8,0,61.5,84.6,61.5,61.5,61.5,46.2,69.2,30.8,0,13,13,8707,1,2014,{"$f":"VLOOKUP(Q1322,Stores!$A:$B,2,FALSE)","v":"DFG"},"2014-01",{"$f":"VLOOKUP($Q1322,Stores!$A:$D,4,FALSE)","v":"Open"},{"$f":"VLOOKUP(Q1322,Stores!$A:$C,3,FALSE)","v":"Houston, TX"},5027,0.25860354087925203]
["8708 - Chestnut Hill, MA - Grille","",73.2,80.5,0,78,80.5,70.7,78,61,56.1,51.2,4.9000000000000004,0,27,41,8708,1,2014,{"$f":"VLOOKUP(Q1323,Stores!$A:$B,2,FALSE)","v":"DFG"},"2014-01",{"$f":"VLOOKUP($Q1323,Stores!$A:$D,4,FALSE)","v":"Open"},{"$f":"VLOOKUP(Q1323,Stores!$A:$C,3,FALSE)","v":"Chestnut Hill, MA"},5960,0.68791946308724827]
["8709 - Santa Monica, CA - Grille","",80,70,0,75,85,80,70,75,60,35,5,0,14,20,8709,1,2014,{"$f":"VLOOKUP(Q1324,Stores!$A:$B,2,FALSE)","v":"DFG"},"2014-01",{"$f":"VLOOKUP($Q1324,Stores!$A:$D,4,FALSE)","v":"Open"},{"$f":"VLOOKUP(Q1324,Stores!$A:$C,3,FALSE)","v":"Santa Monica, CA"},13155,0.15203344735841884]
["8710 - Fort Worth, TX - Grille","",66.2,83.8,0,72.099999999999994,77.900000000000006,72.099999999999994,76.5,76.5,50,57.4,8.8000000000000007,1,46,68,8710,1,2014,{"$f":"VLOOKUP(Q1325,Stores!$A:$B,2,FALSE)","v":"DFG"},"2014-01",{"$f":"VLOOKUP($Q1325,Stores!$A:$D,4,FALSE)","v":"Open"},{"$f":"VLOOKUP(Q1325,Stores!$A:$C,3,FALSE)","v":"Fort Worth, TX"},12372,0.5496281926931782]
["8711 – Cherry Creek, CO - Grille","",74.3,74.3,0,82.9,80,74.3,82.9,62.9,60,65.7,5.7,0,22,35,8711,1,2014,{"$f":"VLOOKUP(Q1326,Stores!$A:$B,2,FALSE)","v":"DFG"},"2014-01",{"$f":"VLOOKUP($Q1326,Stores!$A:$D,4,FALSE)","v":"Open"},{"$f":"VLOOKUP(Q1326,Stores!$A:$C,3,FALSE)","v":"Cherry Creek, CO"},6456,0.54213135068153651]
["8712 - Southlake, TX - Grille","",70.8,73.599999999999994,0,76.400000000000006,83.3,76.400000000000006,79.2,75,52.8,61.1,8.3000000000000007,2,48,72,8712,1,2014,{"$f":"VLOOKUP(Q1327,Stores!$A:$B,2,FALSE)","v":"DFG"},"2014-01",{"$f":"VLOOKUP($Q1327,Stores!$A:$D,4,FALSE)","v":"Open"},{"$f":"VLOOKUP(Q1327,Stores!$A:$C,3,FALSE)","v":"Southlake, TX"},12431,0.57919716836939905]
["8713 - Burlington, MA - Grille",41794,80.8,84.6,0,88.5,92.3,88.5,80.8,76.900000000000006,57.7,50,7.7,0,15,26,8713,1,2014,{"$f":"VLOOKUP(Q1328,Stores!$A:$B,2,FALSE)","v":"DFG"},"2014-01",{"$f":"VLOOKUP($Q1328,Stores!$A:$D,4,FALSE)","v":"Open"},{"$f":"VLOOKUP(Q1328,Stores!$A:$C,3,FALSE)","v":"Burlington, MA"},7517,0.34588266595716377]
["8714 - N Bethesda, MD - Grille",41908,68.400000000000006,68.400000000000006,0,68.400000000000006,78.900000000000006,63.2,68.400000000000006,78.900000000000006,47.4,52.6,5.3,0,16,19,8714,1,2014,{"$f":"VLOOKUP(Q1329,Stores!$A:$B,2,FALSE)","v":"DFG"},"2014-01",{"$f":"VLOOKUP($Q1329,Stores!$A:$D,4,FALSE)","v":"Open"},{"$f":"VLOOKUP(Q1329,Stores!$A:$C,3,FALSE)","v":"N. Bethesda, MD"},5332,0.3563390847711928]
["8715 - Irvine, CA - Grille","",69.400000000000006,77.8,0,72.2,80.599999999999994,66.7,72.2,72.2,55.6,61.1,0,0,28,36,8715,1,2014,{"$f":"VLOOKUP(Q1330,Stores!$A:$B,2,FALSE)","v":"DFG"},"2014-01",{"$f":"VLOOKUP($Q1330,Stores!$A:$D,4,FALSE)","v":"Open"},{"$f":"VLOOKUP(Q1330,Stores!$A:$C,3,FALSE)","v":"Irvine, CA"},6692,0.53795576808129109]
["8716 - Tampa, FL - Grille","",70.3,75.7,0,81.099999999999994,91.9,78.400000000000006,64.900000000000006,86.5,59.5,64.900000000000006,8.1,0,27,37,8716,1,2014,{"$f":"VLOOKUP(Q1331,Stores!$A:$B,2,FALSE)","v":"DFG"},"2014-01",{"$f":"VLOOKUP($Q1331,Stores!$A:$D,4,FALSE)","v":"Open"},{"$f":"VLOOKUP(Q1331,Stores!$A:$C,3,FALSE)","v":"Tampa, FL"},7928,0.46670030272452068]
["8717 - Pasadena, CA - Grille",41992,65.099999999999994,74.400000000000006,0,65.099999999999994,81.400000000000006,67.400000000000006,69.8,69.8,65.099999999999994,76.7,16.3,0,37,43,8717,1,2014,{"$f":"VLOOKUP(Q1332,Stores!$A:$B,2,FALSE)","v":"DFG"},"2014-01",{"$f":"VLOOKUP($Q1332,Stores!$A:$D,4,FALSE)","v":"Open"},{"$f":"VLOOKUP(Q1332,Stores!$A:$C,3,FALSE)","v":"Pasadena, CA"},5298,0.81162702906757267]
["8718 - Woodlands, TX - Grille","",72.7,78.8,0,83.3,92.4,83.3,77.3,81.8,57.6,77.3,6.1,0,51,66,8718,1,2014,{"$f":"VLOOKUP(Q1333,Stores!$A:$B,2,FALSE)","v":"DFG"},"2014-01",{"$f":"VLOOKUP($Q1333,Stores!$A:$D,4,FALSE)","v":"Open"},{"$f":"VLOOKUP(Q1333,Stores!$A:$C,3,FALSE)","v":"Woodlands, TX"},8498,0.77665333019534]
["8720 - Little Rock, AR - Grille","",63.6,60.6,0,69.7,69.7,72.7,60.6,69.7,42.4,66.7,18.2,1,19,33,8720,1,2014,{"$f":"VLOOKUP(Q1334,Stores!$A:$B,2,FALSE)","v":"DFG"},"2014-01",{"$f":"VLOOKUP($Q1334,Stores!$A:$D,4,FALSE)","v":"Open"},{"$f":"VLOOKUP(Q1334,Stores!$A:$C,3,FALSE)","v":"Little Rock, AR"},5417,0.60919328041351295]
["8721 - Plano, TX - Grille","",77.599999999999994,82.8,0,91.4,87.9,81,75.900000000000006,77.599999999999994,62.1,79.3,8.6,1,46,58,8721,1,2014,{"$f":"VLOOKUP(Q1335,Stores!$A:$B,2,FALSE)","v":"DFG"},"2014-01",{"$f":"VLOOKUP($Q1335,Stores!$A:$D,4,FALSE)","v":"Open"},{"$f":"VLOOKUP(Q1335,Stores!$A:$C,3,FALSE)","v":"Plano, TX"},9485,0.61149182920400635]
["8722 – Stamford, CT - Grille","",72.7,81.8,0,81.8,81.8,81.8,72.7,90.9,72.7,72.7,18.2,1,10,11,8722,1,2014,{"$f":"VLOOKUP(Q1336,Stores!$A:$B,2,FALSE)","v":"DFG"},"2014-01",{"$f":"VLOOKUP($Q1336,Stores!$A:$D,4,FALSE)","v":"Open"},{"$f":"VLOOKUP(Q1336,Stores!$A:$C,3,FALSE)","v":"Stamford, CT"},4503,0.24428159005107705]
["8723 – Hoboken, NJ - Grille","",82.6,77.900000000000006,0,86,86,76.7,82.6,81.400000000000006,52.3,41.9,2.2999999999999998,0,40,86,8723,1,2014,{"$f":"VLOOKUP(Q1337,Stores!$A:$B,2,FALSE)","v":"DFG"},"2014-01",{"$f":"VLOOKUP($Q1337,Stores!$A:$D,4,FALSE)","v":"Open"},{"$f":"VLOOKUP(Q1337,Stores!$A:$C,3,FALSE)","v":"Hoboken, NJ"},8715,0.98680436029833618]
["8724 - Huntington, NY - Grille","",65.8,65.8,0,73.7,73.7,68.400000000000006,68.400000000000006,63.2,57.9,81.599999999999994,7.9,0,29,38,8724,1,2014,{"$f":"VLOOKUP(Q1338,Stores!$A:$B,2,FALSE)","v":"DFG"},"2014-01",{"$f":"VLOOKUP($Q1338,Stores!$A:$D,4,FALSE)","v":"Open"},{"$f":"VLOOKUP(Q1338,Stores!$A:$C,3,FALSE)","v":"Huntington, NY"},10440,0.36398467432950188]
["8725 - Nashville, TN - Grille","",76.900000000000006,79.5,0,84.6,89.7,84.6,76.900000000000006,82.1,53.8,64.099999999999994,2.6,0,25,39,8725,1,2014,{"$f":"VLOOKUP(Q1339,Stores!$A:$B,2,FALSE)","v":"DFG"},"2014-01",{"$f":"VLOOKUP($Q1339,Stores!$A:$D,4,FALSE)","v":"Open"},{"$f":"VLOOKUP(Q1339,Stores!$A:$C,3,FALSE)","v":"Nashville, TN"},7967,0.48951926697627712]
["8726 - Brentwood, TN - Grille",42693,58.3,65.3,0,69.400000000000006,76.400000000000006,58.3,66.7,69.400000000000006,33.299999999999997,66.7,12.5,1,48,72,8726,1,2014,{"$f":"VLOOKUP(Q1340,Stores!$A:$B,2,FALSE)","v":"DFG"},"2014-01",{"$f":"VLOOKUP($Q1340,Stores!$A:$D,4,FALSE)","v":"Open"},{"$f":"VLOOKUP(Q1340,Stores!$A:$C,3,FALSE)","v":"Brentwood, TN"},12218,0.58929448354886227]
["8501 - Austin, TX - Sullivan's","",54.1,54.1,0,67.599999999999994,70.3,62.2,67.599999999999994,62.2,48.6,56.8,29.7,2,25,37,8501,2,2014,{"$f":"VLOOKUP(Q1341,Stores!$A:$B,2,FALSE)","v":"SULL"},"2014-02",{"$f":"VLOOKUP($Q1341,Stores!$A:$D,4,FALSE)","v":"Open"},{"$f":"VLOOKUP(Q1341,Stores!$A:$C,3,FALSE)","v":"Austin, TX"},7041,0.52549353784973729]
["8502 - Indianapolis, IN - Sullivan's","",61.8,61.8,0,79.099999999999994,80.900000000000006,70,67.3,51.8,52.7,77.3,14.5,0,81,110,8502,2,2014,{"$f":"VLOOKUP(Q1342,Stores!$A:$B,2,FALSE)","v":"SULL"},"2014-02",{"$f":"VLOOKUP($Q1342,Stores!$A:$D,4,FALSE)","v":"Open"},{"$f":"VLOOKUP(Q1342,Stores!$A:$C,3,FALSE)","v":"Indianapolis, IN"},8879,1.2388782520554116]
["8504 - Houston, TX - Sullivan's","",65.900000000000006,65.900000000000006,0,75.599999999999994,87.8,73.2,78,80.5,61,75.599999999999994,9.8000000000000007,1,32,41,8504,2,2014,{"$f":"VLOOKUP(Q1343,Stores!$A:$B,2,FALSE)","v":"SULL"},"2014-02",{"$f":"VLOOKUP($Q1343,Stores!$A:$D,4,FALSE)","v":"Closed"},{"$f":"VLOOKUP(Q1343,Stores!$A:$C,3,FALSE)","v":"Houston, TX"},4591,0.89305162274014382]
["8510 - Wilmington, DE - Sullivan's","",61.6,64.599999999999994,0,77.8,81.8,69.7,71.7,58.6,43.4,67.7,12.1,0,67,99,8510,2,2014,{"$f":"VLOOKUP(Q1344,Stores!$A:$B,2,FALSE)","v":"SULL"},"2014-02",{"$f":"VLOOKUP($Q1344,Stores!$A:$D,4,FALSE)","v":"Open"},{"$f":"VLOOKUP(Q1344,Stores!$A:$C,3,FALSE)","v":"Wilmington, DE"},6576,1.5054744525547443]
["8525 - Tucson, AZ - Sullivan's","",75,67.3,0,86.5,88.5,73.099999999999994,75,71.2,57.7,67.3,7.7,2,47,52,8525,2,2014,{"$f":"VLOOKUP(Q1345,Stores!$A:$B,2,FALSE)","v":"SULL"},"2014-02",{"$f":"VLOOKUP($Q1345,Stores!$A:$D,4,FALSE)","v":"Open"},{"$f":"VLOOKUP(Q1345,Stores!$A:$C,3,FALSE)","v":"Tucson, AZ"},5609,0.92708147619896586]
["8532 - Omaha, NE - Sullivan's","",61.9,66.7,0,64.3,78.599999999999994,69,64.3,69,40.5,85.7,14.3,0,24,42,8532,2,2014,{"$f":"VLOOKUP(Q1346,Stores!$A:$B,2,FALSE)","v":"SULL"},"2014-02",{"$f":"VLOOKUP($Q1346,Stores!$A:$D,4,FALSE)","v":"Open"},{"$f":"VLOOKUP(Q1346,Stores!$A:$C,3,FALSE)","v":"Omaha, NE"},4898,0.8574928542262148]
["8535 - Baltimore, MD - Sullivan's","",48,56,0,52,60,52,52,56,40,64,24,0,18,25,8535,2,2014,{"$f":"VLOOKUP(Q1347,Stores!$A:$B,2,FALSE)","v":"SULL"},{"$f":"S1347&\"-\"&REPT(\"0\",2-LEN(R1347))&R1347","v":"2014-02"},{"$f":"VLOOKUP($Q1347,Stores!$A:$D,4,FALSE)","v":"Open"},{"$f":"VLOOKUP(Q1347,Stores!$A:$C,3,FALSE)","v":"Baltimore, MD"},5229,{"$f":"P1347/(X1347/100)","v":0.47810288774144194}]
["8536 - Leawood, KS - Sullivan's","",76.7,76.7,0,83.3,85,75,78.3,73.3,50,88.3,13.3,0,44,60,8536,2,2014,{"$f":"VLOOKUP(Q1348,Stores!$A:$B,2,FALSE)","v":"SULL"},"2014-02",{"$f":"VLOOKUP($Q1348,Stores!$A:$D,4,FALSE)","v":"Open"},{"$f":"VLOOKUP(Q1348,Stores!$A:$C,3,FALSE)","v":"Leawood, KS"},5456,1.0997067448680351]
["8541 - Chicago, IL - Sullivan's","",73.3,70,0,76.7,83.3,80,76.7,80,70,66.7,6.7,0,23,30,8541,2,2014,{"$f":"VLOOKUP(Q1349,Stores!$A:$B,2,FALSE)","v":"SULL"},"2014-02",{"$f":"VLOOKUP($Q1349,Stores!$A:$D,4,FALSE)","v":"Open"},{"$f":"VLOOKUP(Q1349,Stores!$A:$C,3,FALSE)","v":"Chicago, IL"},3053,0.98264002620373403]
["8542 - Naperville, IL - Sullivan's","",83.1,87.6,0,85.4,93.3,76.400000000000006,86.5,80.900000000000006,61.8,93.3,3.4,0,66,89,8542,2,2014,{"$f":"VLOOKUP(Q1350,Stores!$A:$B,2,FALSE)","v":"SULL"},"2014-02",{"$f":"VLOOKUP($Q1350,Stores!$A:$D,4,FALSE)","v":"Open"},{"$f":"VLOOKUP(Q1350,Stores!$A:$C,3,FALSE)","v":"Naperville, IL"},6728,1.3228299643281807]
["8543 - Lincolnshire, IL - Sullivan's","",76,68,0,84,88,68,76,56,40,92,8,0,17,25,8543,2,2014,{"$f":"VLOOKUP(Q1351,Stores!$A:$B,2,FALSE)","v":"SULL"},"2014-02",{"$f":"VLOOKUP($Q1351,Stores!$A:$D,4,FALSE)","v":"Open"},{"$f":"VLOOKUP(Q1351,Stores!$A:$C,3,FALSE)","v":"Lincolnshire, IL"},3943,0.63403499873193003]
["8551 - Baton Rouge, LA - Sullivan's","",87.4,88.8,0,89.5,95.8,87.4,84.6,88.8,83.2,74.099999999999994,4.2,2,107,143,8551,2,2014,{"$f":"VLOOKUP(Q1352,Stores!$A:$B,2,FALSE)","v":"SULL"},"2014-02",{"$f":"VLOOKUP($Q1352,Stores!$A:$D,4,FALSE)","v":"Open"},{"$f":"VLOOKUP(Q1352,Stores!$A:$C,3,FALSE)","v":"Baton Rouge, LA"},6695,2.1359223300970873]
["8561 - Raleigh, NC - Sullivan's","",70.099999999999994,72.3,0,76.599999999999994,80.3,70.099999999999994,79.599999999999994,65.7,52.6,60.6,10.199999999999999,0,95,137,{"$f":"MID(A1353,1,4)*1","v":8561},2,2014,{"$f":"VLOOKUP(Q1353,Stores!$A:$B,2,FALSE)","v":"SULL"},"2014-02",{"$f":"VLOOKUP($Q1353,Stores!$A:$D,4,FALSE)","v":"Open"},{"$f":"VLOOKUP(Q1353,Stores!$A:$C,3,FALSE)","v":"Raleigh, NC"},8608,1.591542750929368]
["8562 - Charlotte, NC - Sullivan's","",65.3,67.3,0,67.3,77.599999999999994,67.3,75.5,65.3,57.1,65.3,10.199999999999999,0,37,49,8562,2,2014,{"$f":"VLOOKUP(Q1354,Stores!$A:$B,2,FALSE)","v":"SULL"},"2014-02",{"$f":"VLOOKUP($Q1354,Stores!$A:$D,4,FALSE)","v":"Open"},{"$f":"VLOOKUP(Q1354,Stores!$A:$C,3,FALSE)","v":"Charlotte, NC"},7222,0.67848241484353367]
["8570 - Palm Desert, CA - Sullivan's","",74.099999999999994,69,0,86.2,87.9,74.099999999999994,74.099999999999994,70.7,51.7,84.5,12.1,2,46,58,8570,2,2014,{"$f":"VLOOKUP(Q1355,Stores!$A:$B,2,FALSE)","v":"SULL"},"2014-02",{"$f":"VLOOKUP($Q1355,Stores!$A:$D,4,FALSE)","v":"Open"},{"$f":"VLOOKUP(Q1355,Stores!$A:$C,3,FALSE)","v":"Palm Desert, CA"},7491,0.7742624482712589]
["8591 - Anchorage, AK - Sullivan's","",81.099999999999994,83,0,86.8,94.3,81.099999999999994,84.9,84.9,71.7,83,3.8,0,45,53,8591,2,2014,{"$f":"VLOOKUP(Q1356,Stores!$A:$B,2,FALSE)","v":"SULL"},"2014-02",{"$f":"VLOOKUP($Q1356,Stores!$A:$D,4,FALSE)","v":"Open"},{"$f":"VLOOKUP(Q1356,Stores!$A:$C,3,FALSE)","v":"Anchorage, AK"},6500,0.81538461538461537]
["8592 - Seattle, WA - Sullivan's","",76.8,76.8,0,82.1,92.9,75,76.8,73.2,55.4,75,7.1,2,41,56,8592,2,2014,{"$f":"VLOOKUP(Q1357,Stores!$A:$B,2,FALSE)","v":"SULL"},"2014-02",{"$f":"VLOOKUP($Q1357,Stores!$A:$D,4,FALSE)","v":"Closed"},{"$f":"VLOOKUP(Q1357,Stores!$A:$C,3,FALSE)","v":"Seattle, WA"},6595,0.84912812736921905]
["8602 - Fort Worth, TX - Del Frisco's","",72.099999999999994,80.400000000000006,0,83.2,89.9,77.099999999999994,81,84.4,59.2,78.2,9.5,0,130,179,8602,2,2014,{"$f":"VLOOKUP(Q1358,Stores!$A:$B,2,FALSE)","v":"DFDE"},"2014-02",{"$f":"VLOOKUP($Q1358,Stores!$A:$D,4,FALSE)","v":"Open"},{"$f":"VLOOKUP(Q1358,Stores!$A:$C,3,FALSE)","v":"Fort Worth, TX"},8665,2.0657818811309867]
["8603 - Denver, CO - Del Frisco's","",70,76.7,0,74.2,89.2,71.7,77.5,70,45.8,57.5,6.7,0,79,120,8603,2,2014,{"$f":"VLOOKUP(Q1359,Stores!$A:$B,2,FALSE)","v":"DFDE"},"2014-02",{"$f":"VLOOKUP($Q1359,Stores!$A:$D,4,FALSE)","v":"Open"},{"$f":"VLOOKUP(Q1359,Stores!$A:$C,3,FALSE)","v":"Denver, CO"},10605,1.1315417256011315]
["8604 - Charlotte, NC - Del Frisco's","",73.599999999999994,77.099999999999994,0,77.099999999999994,82.1,66.400000000000006,78.599999999999994,82.1,50.7,30.7,7.9,3,105,140,8604,2,2014,{"$f":"VLOOKUP(Q1360,Stores!$A:$B,2,FALSE)","v":"DFDE"},"2014-02",{"$f":"VLOOKUP($Q1360,Stores!$A:$D,4,FALSE)","v":"Open"},{"$f":"VLOOKUP(Q1360,Stores!$A:$C,3,FALSE)","v":"Charlotte, NC"},8603,1.6273393002441008]
["8605 - Houston, TX - Del Frisco's","",48.3,57.5,0,63.2,69,54,66.7,78.2,36.799999999999997,57.5,21.8,2,70,87,8605,2,2014,{"$f":"VLOOKUP(Q1361,Stores!$A:$B,2,FALSE)","v":"DFDE"},"2014-02",{"$f":"VLOOKUP($Q1361,Stores!$A:$D,4,FALSE)","v":"Open"},{"$f":"VLOOKUP(Q1361,Stores!$A:$C,3,FALSE)","v":"Houston, TX"},10257,0.84820122842936541]
["8610 - Dallas, TX - Del Frisco's","",71.900000000000006,78.099999999999994,0,74.2,85.9,70.3,81.3,78.900000000000006,54.7,67.2,10.199999999999999,2,85,128,8610,2,2014,{"$f":"VLOOKUP(Q1362,Stores!$A:$B,2,FALSE)","v":"DFDE"},"2014-02",{"$f":"VLOOKUP($Q1362,Stores!$A:$D,4,FALSE)","v":"Open"},{"$f":"VLOOKUP(Q1362,Stores!$A:$C,3,FALSE)","v":"Dallas, TX"},10561,1.212006438784206]
["8615 - Orlando, FL - Del Frisco’s","",66.7,62.7,0,76.5,74.5,72.5,74.5,70.599999999999994,52.9,66.7,15.7,0,35,51,8615,2,2014,{"$f":"VLOOKUP(Q1363,Stores!$A:$B,2,FALSE)","v":"DFDE"},"2014-02",{"$f":"VLOOKUP($Q1363,Stores!$A:$D,4,FALSE)","v":"Open"},{"$f":"VLOOKUP(Q1363,Stores!$A:$C,3,FALSE)","v":"Orlando, FL"},7788,0.65485362095531596]
["8620 - New York City, NY - Del Frisco's","",72.599999999999994,75.099999999999994,0,76.099999999999994,79.2,73.099999999999994,77.2,70.099999999999994,48.7,51.3,8.1,1,138,197,8620,2,2014,{"$f":"VLOOKUP(Q1364,Stores!$A:$B,2,FALSE)","v":"DFDE"},"2014-02",{"$f":"VLOOKUP($Q1364,Stores!$A:$D,4,FALSE)","v":"Open"},{"$f":"VLOOKUP(Q1364,Stores!$A:$C,3,FALSE)","v":"New York City, NY"},23942,0.82282181939687582]
["8635 - Boston, MA - Del Frisco's","",70.400000000000006,80,0,82.4,85.6,72.8,82.4,75.2,52,60,4,0,85,125,8635,2,2014,{"$f":"VLOOKUP(Q1365,Stores!$A:$B,2,FALSE)","v":"DFDE"},"2014-02",{"$f":"VLOOKUP($Q1365,Stores!$A:$D,4,FALSE)","v":"Open"},{"$f":"VLOOKUP(Q1365,Stores!$A:$C,3,FALSE)","v":"Boston, MA"},10108,1.2366442421844084]
["8640 - Las Vegas, NV - Del Frisco's","",72.7,77.900000000000006,0,84.4,94.8,80.5,80.5,76.599999999999994,58.4,63.6,6.5,0,56,77,8640,2,2014,{"$f":"VLOOKUP(Q1366,Stores!$A:$B,2,FALSE)","v":"DFDE"},"2014-02",{"$f":"VLOOKUP($Q1366,Stores!$A:$D,4,FALSE)","v":"Open"},{"$f":"VLOOKUP(Q1366,Stores!$A:$C,3,FALSE)","v":"Las Vegas, NV"},7021,1.0967098703888336]
["8650 - Chicago, IL - Del Frisco's","",72.5,66.7,0,74.5,82.4,74.5,86.3,82.4,58.8,72.5,7.8,0,36,51,8650,2,2014,{"$f":"VLOOKUP(Q1367,Stores!$A:$B,2,FALSE)","v":"DFDE"},"2014-02",{"$f":"VLOOKUP($Q1367,Stores!$A:$D,4,FALSE)","v":"Open"},{"$f":"VLOOKUP(Q1367,Stores!$A:$C,3,FALSE)","v":"Chicago, IL"},5160,0.98837209302325579]
["8655 - Washington, DC -  Del Frisco's","",56.2,62.9,0,51.7,64,51.7,73,64,51.7,46.1,20.2,1,61,89,8655,2,2014,{"$f":"VLOOKUP(Q1368,Stores!$A:$B,2,FALSE)","v":"DFDE"},"2014-02",{"$f":"VLOOKUP($Q1368,Stores!$A:$D,4,FALSE)","v":"Open"},{"$f":"VLOOKUP(Q1368,Stores!$A:$C,3,FALSE)","v":"Washington, DC"},11422,0.77919803887235162]
["8680 - Philadelphia, PA - Del Frisco's","",69.7,75.8,0,78.3,84.8,70.400000000000006,78.7,81.599999999999994,54.2,67.5,8.6999999999999993,5,197,277,8680,2,2014,{"$f":"VLOOKUP(Q1369,Stores!$A:$B,2,FALSE)","v":"DFDE"},"2014-02",{"$f":"VLOOKUP($Q1369,Stores!$A:$D,4,FALSE)","v":"Open"},{"$f":"VLOOKUP(Q1369,Stores!$A:$C,3,FALSE)","v":"Philadelphia, PA"},16817,1.6471427721948031]
["8701 - New York City, NY - Grille","",75,85,0,85,80,80,70,75,55,75,5,0,12,20,8701,2,2014,{"$f":"VLOOKUP(Q1370,Stores!$A:$B,2,FALSE)","v":"DFG"},"2014-02",{"$f":"VLOOKUP($Q1370,Stores!$A:$D,4,FALSE)","v":"Open"},{"$f":"VLOOKUP(Q1370,Stores!$A:$C,3,FALSE)","v":"New York City, NY"},9554,0.20933640360058614]
["8702 - Dallas, TX - Grille","",80,84,0,84,92,82,78,78,68,76,4,0,37,50,8702,2,2014,{"$f":"VLOOKUP(Q1371,Stores!$A:$B,2,FALSE)","v":"DFG"},"2014-02",{"$f":"VLOOKUP($Q1371,Stores!$A:$D,4,FALSE)","v":"Open"},{"$f":"VLOOKUP(Q1371,Stores!$A:$C,3,FALSE)","v":"Dallas, TX"},7150,0.69930069930069927]
["8703 - Washington, DC - Grille","",74.099999999999994,70.400000000000006,0,77.8,85.2,66.7,74.099999999999994,77.8,63,40.700000000000003,11.1,2,17,27,8703,2,2014,{"$f":"VLOOKUP(Q1372,Stores!$A:$B,2,FALSE)","v":"DFG"},"2014-02",{"$f":"VLOOKUP($Q1372,Stores!$A:$D,4,FALSE)","v":"Open"},{"$f":"VLOOKUP(Q1372,Stores!$A:$C,3,FALSE)","v":"Washington, DC"},7400,0.36486486486486486]
["8706 - Atlanta, GA - Grille","",76.900000000000006,74.400000000000006,0,79.5,84.6,74.400000000000006,69.2,79.5,51.3,56.4,10.3,0,21,39,8706,2,2014,{"$f":"VLOOKUP(Q1373,Stores!$A:$B,2,FALSE)","v":"DFG"},"2014-02",{"$f":"VLOOKUP($Q1373,Stores!$A:$D,4,FALSE)","v":"Open"},{"$f":"VLOOKUP(Q1373,Stores!$A:$C,3,FALSE)","v":"Atlanta, GA"},9402,0.41480536056158268]
["8707 - River Oaks, TX - Grille","",65.599999999999994,71.900000000000006,0,84.4,87.5,75,71.900000000000006,75,53.1,62.5,6.3,0,23,32,8707,2,2014,{"$f":"VLOOKUP(Q1374,Stores!$A:$B,2,FALSE)","v":"DFG"},"2014-02",{"$f":"VLOOKUP($Q1374,Stores!$A:$D,4,FALSE)","v":"Open"},{"$f":"VLOOKUP(Q1374,Stores!$A:$C,3,FALSE)","v":"Houston, TX"},6404,0.49968769519050588]
["8708 - Chestnut Hill, MA - Grille","",72.5,72.5,0,72.5,78.400000000000006,70.599999999999994,70.599999999999994,66.7,56.9,51,9.8000000000000007,1,30,51,8708,2,2014,{"$f":"VLOOKUP(Q1375,Stores!$A:$B,2,FALSE)","v":"DFG"},"2014-02",{"$f":"VLOOKUP($Q1375,Stores!$A:$D,4,FALSE)","v":"Open"},{"$f":"VLOOKUP(Q1375,Stores!$A:$C,3,FALSE)","v":"Chestnut Hill, MA"},6692,0.76210400478182905]
["8709 - Santa Monica, CA - Grille","",66.7,66.7,0,80,73.3,80,73.3,66.7,66.7,33.299999999999997,13.3,0,14,15,8709,2,2014,{"$f":"VLOOKUP(Q1376,Stores!$A:$B,2,FALSE)","v":"DFG"},"2014-02",{"$f":"VLOOKUP($Q1376,Stores!$A:$D,4,FALSE)","v":"Open"},{"$f":"VLOOKUP(Q1376,Stores!$A:$C,3,FALSE)","v":"Santa Monica, CA"},11318,0.13253224951404841]
["8710 - Fort Worth, TX - Grille","",66.2,77.900000000000006,0,81.8,89.6,79.2,68.8,80.5,53.2,49.4,10.4,2,61,77,8710,2,2014,{"$f":"VLOOKUP(Q1377,Stores!$A:$B,2,FALSE)","v":"DFG"},"2014-02",{"$f":"VLOOKUP($Q1377,Stores!$A:$D,4,FALSE)","v":"Open"},{"$f":"VLOOKUP(Q1377,Stores!$A:$C,3,FALSE)","v":"Fort Worth, TX"},13419,0.57381324986958793]
["8711 – Cherry Creek, CO - Grille","",72.2,77.8,0,85.2,88.9,77.8,77.8,74.099999999999994,57.4,81.5,1.9,0,36,54,8711,2,2014,{"$f":"VLOOKUP(Q1378,Stores!$A:$B,2,FALSE)","v":"DFG"},"2014-02",{"$f":"VLOOKUP($Q1378,Stores!$A:$D,4,FALSE)","v":"Open"},{"$f":"VLOOKUP(Q1378,Stores!$A:$C,3,FALSE)","v":"Cherry Creek, CO"},7321,0.73760415243819155]
["8712 - Southlake, TX - Grille","",66,76.3,0,76.3,76.3,71.099999999999994,73.2,74.2,52.6,64.900000000000006,10.3,1,64,97,8712,2,2014,{"$f":"VLOOKUP(Q1379,Stores!$A:$B,2,FALSE)","v":"DFG"},"2014-02",{"$f":"VLOOKUP($Q1379,Stores!$A:$D,4,FALSE)","v":"Open"},{"$f":"VLOOKUP(Q1379,Stores!$A:$C,3,FALSE)","v":"Southlake, TX"},13405,0.72361059306229014]
["8713 - Burlington, MA - Grille",41794,60.6,63.6,0,78.8,81.8,78.8,72.7,66.7,45.5,45.5,15.2,0,19,33,8713,2,2014,{"$f":"VLOOKUP(Q1380,Stores!$A:$B,2,FALSE)","v":"DFG"},"2014-02",{"$f":"VLOOKUP($Q1380,Stores!$A:$D,4,FALSE)","v":"Open"},{"$f":"VLOOKUP(Q1380,Stores!$A:$C,3,FALSE)","v":"Burlington, MA"},7703,0.42840451772036869]
["8714 - N Bethesda, MD - Grille",41908,52.6,52.6,0,57.9,78.900000000000006,57.9,47.4,57.9,47.4,57.9,15.8,0,14,19,8714,2,2014,{"$f":"VLOOKUP(Q1381,Stores!$A:$B,2,FALSE)","v":"DFG"},"2014-02",{"$f":"VLOOKUP($Q1381,Stores!$A:$D,4,FALSE)","v":"Open"},{"$f":"VLOOKUP(Q1381,Stores!$A:$C,3,FALSE)","v":"N. Bethesda, MD"},5918,0.32105441027374115]
["8715 - Irvine, CA - Grille","",81.8,81.8,0,81.8,90.9,78.2,76.400000000000006,90.9,58.2,61.8,3.6,0,38,55,8715,2,2014,{"$f":"VLOOKUP(Q1382,Stores!$A:$B,2,FALSE)","v":"DFG"},"2014-02",{"$f":"VLOOKUP($Q1382,Stores!$A:$D,4,FALSE)","v":"Open"},{"$f":"VLOOKUP(Q1382,Stores!$A:$C,3,FALSE)","v":"Irvine, CA"},7675,0.71661237785016285]
["8716 - Tampa, FL - Grille","",60.4,62.5,0,68.8,75,68.8,64.599999999999994,72.900000000000006,52.1,64.599999999999994,14.6,0,29,48,8716,2,2014,{"$f":"VLOOKUP(Q1383,Stores!$A:$B,2,FALSE)","v":"DFG"},"2014-02",{"$f":"VLOOKUP($Q1383,Stores!$A:$D,4,FALSE)","v":"Open"},{"$f":"VLOOKUP(Q1383,Stores!$A:$C,3,FALSE)","v":"Tampa, FL"},8674,0.55337791099838607]
["8717 - Pasadena, CA - Grille",41992,60.7,60.7,0,78.599999999999994,82.1,71.400000000000006,60.7,71.400000000000006,50,75,14.3,1,23,28,8717,2,2014,{"$f":"VLOOKUP(Q1384,Stores!$A:$B,2,FALSE)","v":"DFG"},"2014-02",{"$f":"VLOOKUP($Q1384,Stores!$A:$D,4,FALSE)","v":"Open"},{"$f":"VLOOKUP(Q1384,Stores!$A:$C,3,FALSE)","v":"Pasadena, CA"},5136,0.54517133956386299]
["8718 - Woodlands, TX - Grille","",67.099999999999994,71.2,0,84.9,89,82.2,74,84.9,54.8,72.599999999999994,5.5,0,56,73,8718,2,2014,{"$f":"VLOOKUP(Q1385,Stores!$A:$B,2,FALSE)","v":"DFG"},"2014-02",{"$f":"VLOOKUP($Q1385,Stores!$A:$D,4,FALSE)","v":"Open"},{"$f":"VLOOKUP(Q1385,Stores!$A:$C,3,FALSE)","v":"Woodlands, TX"},10118,0.72148645977465897]
["8720 - Little Rock, AR - Grille","",76.3,76.3,0,78.900000000000006,78.900000000000006,65.8,81.599999999999994,68.400000000000006,42.1,47.4,7.9,0,27,38,8720,2,2014,{"$f":"VLOOKUP(Q1386,Stores!$A:$B,2,FALSE)","v":"DFG"},"2014-02",{"$f":"VLOOKUP($Q1386,Stores!$A:$D,4,FALSE)","v":"Open"},{"$f":"VLOOKUP(Q1386,Stores!$A:$C,3,FALSE)","v":"Little Rock, AR"},5678,0.66924973582247271]
["8721 - Plano, TX - Grille","",69.8,79.2,0,79.2,86.8,75.5,73.599999999999994,83,54.7,77.400000000000006,3.8,1,33,53,8721,2,2014,{"$f":"VLOOKUP(Q1387,Stores!$A:$B,2,FALSE)","v":"DFG"},"2014-02",{"$f":"VLOOKUP($Q1387,Stores!$A:$D,4,FALSE)","v":"Open"},{"$f":"VLOOKUP(Q1387,Stores!$A:$C,3,FALSE)","v":"Plano, TX"},10761,0.49251928259455441]
["8722 – Stamford, CT - Grille","",77.5,80,0,87.5,92.5,77.5,72.5,72.5,45,67.5,5,0,30,40,8722,2,2014,{"$f":"VLOOKUP(Q1388,Stores!$A:$B,2,FALSE)","v":"DFG"},"2014-02",{"$f":"VLOOKUP($Q1388,Stores!$A:$D,4,FALSE)","v":"Open"},{"$f":"VLOOKUP(Q1388,Stores!$A:$C,3,FALSE)","v":"Stamford, CT"},5411,0.73923489188689706]
["8723 – Hoboken, NJ - Grille","",82.9,82.9,0,91.4,94.3,80,80,82.9,60,57.1,2.9,0,26,35,8723,2,2014,{"$f":"VLOOKUP(Q1389,Stores!$A:$B,2,FALSE)","v":"DFG"},"2014-02",{"$f":"VLOOKUP($Q1389,Stores!$A:$D,4,FALSE)","v":"Open"},{"$f":"VLOOKUP(Q1389,Stores!$A:$C,3,FALSE)","v":"Hoboken, NJ"},9307,0.37606102933276031]
["8724 - Huntington, NY - Grille","",54.5,57.6,0,75.8,78.8,66.7,57.6,63.6,39.4,87.9,9.1,0,26,33,8724,2,2014,{"$f":"VLOOKUP(Q1390,Stores!$A:$B,2,FALSE)","v":"DFG"},"2014-02",{"$f":"VLOOKUP($Q1390,Stores!$A:$D,4,FALSE)","v":"Open"},{"$f":"VLOOKUP(Q1390,Stores!$A:$C,3,FALSE)","v":"Huntington, NY"},10259,0.32166877863339505]
["8725 - Nashville, TN - Grille","",62.3,73.599999999999994,0,71.7,79.2,64.2,67.900000000000006,66,49.1,66,18.899999999999999,6,42,53,8725,2,2014,{"$f":"VLOOKUP(Q1391,Stores!$A:$B,2,FALSE)","v":"DFG"},"2014-02",{"$f":"VLOOKUP($Q1391,Stores!$A:$D,4,FALSE)","v":"Open"},{"$f":"VLOOKUP(Q1391,Stores!$A:$C,3,FALSE)","v":"Nashville, TN"},9012,0.58810474922325784]
["8726 - Brentwood, TN - Grille",42693,64.599999999999994,68.400000000000006,0,84.8,89.9,72.2,70.900000000000006,78.5,51.9,64.599999999999994,7.6,0,60,79,8726,2,2014,{"$f":"VLOOKUP(Q1392,Stores!$A:$B,2,FALSE)","v":"DFG"},"2014-02",{"$f":"VLOOKUP($Q1392,Stores!$A:$D,4,FALSE)","v":"Open"},{"$f":"VLOOKUP(Q1392,Stores!$A:$C,3,FALSE)","v":"Brentwood, TN"},12043,0.65598272855600759]
["8501 - Austin, TX - Sullivan's","",79.5,76.900000000000006,0,84.6,89.7,82.1,82.1,87.2,76.900000000000006,76.900000000000006,10.3,2,28,39,8501,3,2014,{"$f":"VLOOKUP(Q1393,Stores!$A:$B,2,FALSE)","v":"SULL"},"2014-03",{"$f":"VLOOKUP($Q1393,Stores!$A:$D,4,FALSE)","v":"Open"},{"$f":"VLOOKUP(Q1393,Stores!$A:$C,3,FALSE)","v":"Austin, TX"},5394,{"$f":"P1393/(X1393/100)","v":0.72302558398220251}]
["8502 - Indianapolis, IN - Sullivan's","",67.7,66.099999999999994,0,77.400000000000006,83.9,71,69.400000000000006,59.7,50,83.9,9.6999999999999993,0,46,62,{"$f":"MID(A1394,1,4)*1","v":8502},3,2014,{"$f":"VLOOKUP(Q1394,Stores!$A:$B,2,FALSE)","v":"SULL"},"2014-03",{"$f":"VLOOKUP($Q1394,Stores!$A:$D,4,FALSE)","v":"Open"},{"$f":"VLOOKUP(Q1394,Stores!$A:$C,3,FALSE)","v":"Indianapolis, IN"},5401,{"$f":"P1394/(X1394/100)","v":1.1479355674875023}]
["8504 - Houston, TX - Sullivan's","",91.8,91.8,0,95.9,91.8,91.8,93.9,89.8,81.599999999999994,87.8,8.1999999999999993,0,41,49,8504,3,2014,{"$f":"VLOOKUP(Q1395,Stores!$A:$B,2,FALSE)","v":"SULL"},"2014-03",{"$f":"VLOOKUP($Q1395,Stores!$A:$D,4,FALSE)","v":"Closed"},{"$f":"VLOOKUP(Q1395,Stores!$A:$C,3,FALSE)","v":"Houston, TX"},2553,1.9193106149627888]
["8510 - Wilmington, DE - Sullivan's","",62.3,73.599999999999994,0,79.2,81.099999999999994,69.8,69.8,39.6,32.1,64.2,13.2,0,43,53,8510,3,2014,{"$f":"VLOOKUP(Q1396,Stores!$A:$B,2,FALSE)","v":"SULL"},"2014-03",{"$f":"VLOOKUP($Q1396,Stores!$A:$D,4,FALSE)","v":"Open"},{"$f":"VLOOKUP(Q1396,Stores!$A:$C,3,FALSE)","v":"Wilmington, DE"},4960,1.0685483870967742]
["8522 - King of Prussia, PA - Sullivan's","",69.099999999999994,72.8,0,77.8,80.2,72.8,76.5,64.2,61.7,66.7,14.8,1,57,81,8522,3,2014,{"$f":"VLOOKUP(Q1397,Stores!$A:$B,2,FALSE)","v":"SULL"},"2014-03",{"$f":"VLOOKUP($Q1397,Stores!$A:$D,4,FALSE)","v":"Open"},{"$f":"VLOOKUP(Q1397,Stores!$A:$C,3,FALSE)","v":"King of Prussia, PA"},4465,1.8141097424412094]
["8525 - Tucson, AZ - Sullivan's","",82.6,78.3,0,87,91.3,73.900000000000006,78.3,87,65.2,69.599999999999994,8.6999999999999993,0,19,23,8525,3,2014,{"$f":"VLOOKUP(Q1398,Stores!$A:$B,2,FALSE)","v":"SULL"},"2014-03",{"$f":"VLOOKUP($Q1398,Stores!$A:$D,4,FALSE)","v":"Open"},{"$f":"VLOOKUP(Q1398,Stores!$A:$C,3,FALSE)","v":"Tucson, AZ"},4340,0.52995391705069128]
["8532 - Omaha, NE - Sullivan's","",76.2,85.7,0,71.400000000000006,81,90.5,90.5,81,66.7,76.2,4.8,0,14,21,8532,3,2014,{"$f":"VLOOKUP(Q1399,Stores!$A:$B,2,FALSE)","v":"SULL"},"2014-03",{"$f":"VLOOKUP($Q1399,Stores!$A:$D,4,FALSE)","v":"Open"},{"$f":"VLOOKUP(Q1399,Stores!$A:$C,3,FALSE)","v":"Omaha, NE"},4130,0.50847457627118653]
["8535 - Baltimore, MD - Sullivan's","",88.2,85.3,0,85.3,91.2,91.2,88.2,88.2,79.400000000000006,64.7,5.9,0,31,34,8535,3,2014,{"$f":"VLOOKUP(Q1400,Stores!$A:$B,2,FALSE)","v":"SULL"},"2014-03",{"$f":"VLOOKUP($Q1400,Stores!$A:$D,4,FALSE)","v":"Open"},{"$f":"VLOOKUP(Q1400,Stores!$A:$C,3,FALSE)","v":"Baltimore, MD"},5008,0.67891373801916932]
["8536 - Leawood, KS - Sullivan's","",77.099999999999994,81.3,0,89.6,91.7,89.6,75,85.4,64.599999999999994,87.5,8.3000000000000007,0,38,48,8536,3,2014,{"$f":"VLOOKUP(Q1401,Stores!$A:$B,2,FALSE)","v":"SULL"},"2014-03",{"$f":"VLOOKUP($Q1401,Stores!$A:$D,4,FALSE)","v":"Open"},{"$f":"VLOOKUP(Q1401,Stores!$A:$C,3,FALSE)","v":"Leawood, KS"},4472,1.0733452593917709]
["8541 - Chicago, IL - Sullivan's","",88.2,88.2,0,94.1,100,82.4,94.1,76.5,58.8,70.599999999999994,0,0,15,17,8541,3,2014,{"$f":"VLOOKUP(Q1402,Stores!$A:$B,2,FALSE)","v":"SULL"},"2014-03",{"$f":"VLOOKUP($Q1402,Stores!$A:$D,4,FALSE)","v":"Open"},{"$f":"VLOOKUP(Q1402,Stores!$A:$C,3,FALSE)","v":"Chicago, IL"},2642,0.64345193035579107]
["8542 - Naperville, IL - Sullivan's","",73.5,76.5,0,82.4,86.8,77.900000000000006,77.900000000000006,76.5,55.9,91.2,4.4000000000000004,0,53,68,8542,3,2014,{"$f":"VLOOKUP(Q1403,Stores!$A:$B,2,FALSE)","v":"SULL"},"2014-03",{"$f":"VLOOKUP($Q1403,Stores!$A:$D,4,FALSE)","v":"Open"},{"$f":"VLOOKUP(Q1403,Stores!$A:$C,3,FALSE)","v":"Naperville, IL"},6072,1.1198945981554678]
["8543 - Lincolnshire, IL - Sullivan's","",67.7,74.2,0,74.2,83.9,77.400000000000006,77.400000000000006,58.1,58.1,77.400000000000006,6.5,0,21,31,8543,3,2014,{"$f":"VLOOKUP(Q1404,Stores!$A:$B,2,FALSE)","v":"SULL"},"2014-03",{"$f":"VLOOKUP($Q1404,Stores!$A:$D,4,FALSE)","v":"Open"},{"$f":"VLOOKUP(Q1404,Stores!$A:$C,3,FALSE)","v":"Lincolnshire, IL"},4062,0.76317085179714428]
["8551 - Baton Rouge, LA - Sullivan's","",94.4,95.2,0,96,96.8,95.2,93.7,93.7,84.9,92.9,2.4,1,91,126,8551,3,2014,{"$f":"VLOOKUP(Q1405,Stores!$A:$B,2,FALSE)","v":"SULL"},"2014-03",{"$f":"VLOOKUP($Q1405,Stores!$A:$D,4,FALSE)","v":"Open"},{"$f":"VLOOKUP(Q1405,Stores!$A:$C,3,FALSE)","v":"Baton Rouge, LA"},4172,3.0201342281879198]
["8561 - Raleigh, NC - Sullivan's","",72.5,80,0,77.5,82.5,72.5,67.5,75,45,67.5,10,0,26,40,8561,3,2014,{"$f":"VLOOKUP(Q1406,Stores!$A:$B,2,FALSE)","v":"SULL"},"2014-03",{"$f":"VLOOKUP($Q1406,Stores!$A:$D,4,FALSE)","v":"Open"},{"$f":"VLOOKUP(Q1406,Stores!$A:$C,3,FALSE)","v":"Raleigh, NC"},6285,0.63643595863166269]
["8562 - Charlotte, NC - Sullivan's","",84.6,69.2,0,84.6,92.3,84.6,92.3,84.6,61.5,53.8,0,0,7,13,8562,3,2014,{"$f":"VLOOKUP(Q1407,Stores!$A:$B,2,FALSE)","v":"SULL"},"2014-03",{"$f":"VLOOKUP($Q1407,Stores!$A:$D,4,FALSE)","v":"Open"},{"$f":"VLOOKUP(Q1407,Stores!$A:$C,3,FALSE)","v":"Charlotte, NC"},5144,0.25272161741835147]
["8570 - Palm Desert, CA - Sullivan's","",66.7,69,0,83.3,88.1,73.8,73.8,73.8,64.3,83.3,9.5,0,35,42,8570,3,2014,{"$f":"VLOOKUP(Q1408,Stores!$A:$B,2,FALSE)","v":"SULL"},"2014-03",{"$f":"VLOOKUP($Q1408,Stores!$A:$D,4,FALSE)","v":"Open"},{"$f":"VLOOKUP(Q1408,Stores!$A:$C,3,FALSE)","v":"Palm Desert, CA"},8426,0.49845715642060284]
["8591 - Anchorage, AK - Sullivan's","",84.1,86.4,0,81.8,86.4,77.3,79.5,86.4,65.900000000000006,88.6,9.1,1,37,44,8591,3,2014,{"$f":"VLOOKUP(Q1409,Stores!$A:$B,2,FALSE)","v":"SULL"},"2014-03",{"$f":"VLOOKUP($Q1409,Stores!$A:$D,4,FALSE)","v":"Open"},{"$f":"VLOOKUP(Q1409,Stores!$A:$C,3,FALSE)","v":"Anchorage, AK"},6326,0.69554220676572875]
["8592 - Seattle, WA - Sullivan's","",76.3,86.8,0,86.8,89.5,76.3,78.900000000000006,76.3,73.7,84.2,7.9,1,28,38,8592,3,2014,{"$f":"VLOOKUP(Q1410,Stores!$A:$B,2,FALSE)","v":"SULL"},"2014-03",{"$f":"VLOOKUP($Q1410,Stores!$A:$D,4,FALSE)","v":"Closed"},{"$f":"VLOOKUP(Q1410,Stores!$A:$C,3,FALSE)","v":"Seattle, WA"},6565,0.5788271134805788]
["8602 - Fort Worth, TX - Del Frisco's","",85.3,87.2,0,91,96.2,81.400000000000006,87.8,88.5,63.5,81.400000000000006,2.6,0,116,156,8602,3,2014,{"$f":"VLOOKUP(Q1411,Stores!$A:$B,2,FALSE)","v":"DFDE"},{"$f":"S1411&\"-\"&REPT(\"0\",2-LEN(R1411))&R1411","v":"2014-03"},{"$f":"VLOOKUP($Q1411,Stores!$A:$D,4,FALSE)","v":"Open"},{"$f":"VLOOKUP(Q1411,Stores!$A:$C,3,FALSE)","v":"Fort Worth, TX"},6889,2.2644796051676588]
["8603 - Denver, CO - Del Frisco's","",73.5,76.8,0,80.8,83.4,74.2,80.099999999999994,76.8,53.6,56.3,9.3000000000000007,0,101,151,8603,3,2014,{"$f":"VLOOKUP(Q1412,Stores!$A:$B,2,FALSE)","v":"DFDE"},"2014-03",{"$f":"VLOOKUP($Q1412,Stores!$A:$D,4,FALSE)","v":"Open"},{"$f":"VLOOKUP(Q1412,Stores!$A:$C,3,FALSE)","v":"Denver, CO"},11897,1.2692275363537027]
["8604 - Charlotte, NC - Del Frisco's","",76.099999999999994,76.099999999999994,0,82.1,83.6,77.599999999999994,76.099999999999994,82.1,53.7,52.2,10.4,0,47,67,8604,3,2014,{"$f":"VLOOKUP(Q1413,Stores!$A:$B,2,FALSE)","v":"DFDE"},"2014-03",{"$f":"VLOOKUP($Q1413,Stores!$A:$D,4,FALSE)","v":"Open"},{"$f":"VLOOKUP(Q1413,Stores!$A:$C,3,FALSE)","v":"Charlotte, NC"},5530,1.2115732368896925]
["8605 - Houston, TX - Del Frisco's","",72.7,72.7,0,78.2,83.6,76.400000000000006,83.6,83.6,58.2,76.400000000000006,9.1,0,42,55,8605,3,2014,{"$f":"VLOOKUP(Q1414,Stores!$A:$B,2,FALSE)","v":"DFDE"},"2014-03",{"$f":"VLOOKUP($Q1414,Stores!$A:$D,4,FALSE)","v":"Open"},{"$f":"VLOOKUP(Q1414,Stores!$A:$C,3,FALSE)","v":"Houston, TX"},6085,0.90386195562859484]
["8610 - Dallas, TX - Del Frisco's","",73.7,69.7,0,80.3,84.2,76.3,77.599999999999994,76.3,52.6,61.8,11.8,0,56,76,8610,3,2014,{"$f":"VLOOKUP(Q1415,Stores!$A:$B,2,FALSE)","v":"DFDE"},"2014-03",{"$f":"VLOOKUP($Q1415,Stores!$A:$D,4,FALSE)","v":"Open"},{"$f":"VLOOKUP(Q1415,Stores!$A:$C,3,FALSE)","v":"Dallas, TX"},9564,0.794646591384358]
["8615 - Orlando, FL - Del Frisco’s","",73.3,73.3,0,86.7,86.7,75.599999999999994,84.4,80,48.9,71.099999999999994,8.9,1,26,45,8615,3,2014,{"$f":"VLOOKUP(Q1416,Stores!$A:$B,2,FALSE)","v":"DFDE"},"2014-03",{"$f":"VLOOKUP($Q1416,Stores!$A:$D,4,FALSE)","v":"Open"},{"$f":"VLOOKUP(Q1416,Stores!$A:$C,3,FALSE)","v":"Orlando, FL"},6231,0.72219547424169472]
["8620 - New York City, NY - Del Frisco's","",79.7,81.099999999999994,0,87.2,89.2,82.4,80.400000000000006,79.7,55.4,68.2,6.8,1,108,148,8620,3,2014,{"$f":"VLOOKUP(Q1417,Stores!$A:$B,2,FALSE)","v":"DFDE"},"2014-03",{"$f":"VLOOKUP($Q1417,Stores!$A:$D,4,FALSE)","v":"Open"},{"$f":"VLOOKUP(Q1417,Stores!$A:$C,3,FALSE)","v":"New York City, NY"},20770,0.71256620125180548]
["8635 - Boston, MA - Del Frisco's","",74.7,80.5,0,83.9,88.5,72.400000000000006,75.900000000000006,73.599999999999994,54,56.3,10.3,0,65,87,8635,3,2014,{"$f":"VLOOKUP(Q1418,Stores!$A:$B,2,FALSE)","v":"DFDE"},"2014-03",{"$f":"VLOOKUP($Q1418,Stores!$A:$D,4,FALSE)","v":"Open"},{"$f":"VLOOKUP(Q1418,Stores!$A:$C,3,FALSE)","v":"Boston, MA"},10410,0.83573487031700289]
["8640 - Las Vegas, NV - Del Frisco's","",69.599999999999994,78.5,0,73.400000000000006,84.8,65.8,74.7,70.900000000000006,51.9,60.8,11.4,1,56,79,8640,3,2014,{"$f":"VLOOKUP(Q1419,Stores!$A:$B,2,FALSE)","v":"DFDE"},"2014-03",{"$f":"VLOOKUP($Q1419,Stores!$A:$D,4,FALSE)","v":"Open"},{"$f":"VLOOKUP(Q1419,Stores!$A:$C,3,FALSE)","v":"Las Vegas, NV"},8540,0.9250585480093676]
["8650 - Chicago, IL - Del Frisco's","",76.900000000000006,80.8,0,80.8,80.8,80.8,88.5,96.2,69.2,80.8,7.7,0,19,26,8650,3,2014,{"$f":"VLOOKUP(Q1420,Stores!$A:$B,2,FALSE)","v":"DFDE"},"2014-03",{"$f":"VLOOKUP($Q1420,Stores!$A:$D,4,FALSE)","v":"Open"},{"$f":"VLOOKUP(Q1420,Stores!$A:$C,3,FALSE)","v":"Chicago, IL"},3768,0.69002123142250527]
["8655 - Washington, DC -  Del Frisco's","",63.5,67.3,0,63.5,73.099999999999994,61.5,67.3,73.099999999999994,46.2,55.8,21.2,1,42,52,8655,3,2014,{"$f":"VLOOKUP(Q1421,Stores!$A:$B,2,FALSE)","v":"DFDE"},"2014-03",{"$f":"VLOOKUP($Q1421,Stores!$A:$D,4,FALSE)","v":"Open"},{"$f":"VLOOKUP(Q1421,Stores!$A:$C,3,FALSE)","v":"Washington, DC"},10103,0.51469860437493808]
["8680 - Philadelphia, PA - Del Frisco's","",71.900000000000006,78.5,0,79.3,84.3,76.900000000000006,80.2,85.1,52.9,62.8,9.9,5,94,121,8680,3,2014,{"$f":"VLOOKUP(Q1422,Stores!$A:$B,2,FALSE)","v":"DFDE"},"2014-03",{"$f":"VLOOKUP($Q1422,Stores!$A:$D,4,FALSE)","v":"Open"},{"$f":"VLOOKUP(Q1422,Stores!$A:$C,3,FALSE)","v":"Philadelphia, PA"},11648,1.038804945054945]
["8701 - New York City, NY - Grille","",78.8,78.8,0,72.7,78.8,81.8,81.8,75.8,63.6,57.6,3,0,27,33,8701,3,2014,{"$f":"VLOOKUP(Q1423,Stores!$A:$B,2,FALSE)","v":"DFG"},"2014-03",{"$f":"VLOOKUP($Q1423,Stores!$A:$D,4,FALSE)","v":"Open"},{"$f":"VLOOKUP(Q1423,Stores!$A:$C,3,FALSE)","v":"New York City, NY"},10052,0.32829287703939514]
["8702 - Dallas, TX - Grille","",86,88.4,0,93,97.7,88.4,90.7,93,72.099999999999994,53.5,2.2999999999999998,0,33,43,8702,3,2014,{"$f":"VLOOKUP(Q1424,Stores!$A:$B,2,FALSE)","v":"DFG"},"2014-03",{"$f":"VLOOKUP($Q1424,Stores!$A:$D,4,FALSE)","v":"Open"},{"$f":"VLOOKUP(Q1424,Stores!$A:$C,3,FALSE)","v":"Dallas, TX"},6846,0.62810400233713126]
["8703 - Washington, DC - Grille","",86.8,86.8,0,81.599999999999994,86.8,84.2,86.8,81.599999999999994,68.400000000000006,63.2,7.9,0,28,38,8703,3,2014,{"$f":"VLOOKUP(Q1425,Stores!$A:$B,2,FALSE)","v":"DFG"},"2014-03",{"$f":"VLOOKUP($Q1425,Stores!$A:$D,4,FALSE)","v":"Open"},{"$f":"VLOOKUP(Q1425,Stores!$A:$C,3,FALSE)","v":"Washington, DC"},7163,0.5305039787798409]
["8706 - Atlanta, GA - Grille","",79.099999999999994,79.099999999999994,0,83.7,88.4,69.8,76.7,81.400000000000006,67.400000000000006,79.099999999999994,4.7,0,36,43,8706,3,2014,{"$f":"VLOOKUP(Q1426,Stores!$A:$B,2,FALSE)","v":"DFG"},"2014-03",{"$f":"VLOOKUP($Q1426,Stores!$A:$D,4,FALSE)","v":"Open"},{"$f":"VLOOKUP(Q1426,Stores!$A:$C,3,FALSE)","v":"Atlanta, GA"},9367,0.45905839649834523]
["8707 - River Oaks, TX - Grille","",75,67.900000000000006,0,71.400000000000006,71.400000000000006,64.3,78.599999999999994,71.400000000000006,67.900000000000006,67.900000000000006,17.899999999999999,0,24,28,8707,3,2014,{"$f":"VLOOKUP(Q1427,Stores!$A:$B,2,FALSE)","v":"DFG"},"2014-03",{"$f":"VLOOKUP($Q1427,Stores!$A:$D,4,FALSE)","v":"Open"},{"$f":"VLOOKUP(Q1427,Stores!$A:$C,3,FALSE)","v":"Houston, TX"},5131,0.54570259208731242]
["8708 - Chestnut Hill, MA - Grille","",53.8,56.4,0,69.2,74.400000000000006,53.8,53.8,56.4,48.7,59,12.8,1,29,39,8708,3,2014,{"$f":"VLOOKUP(Q1428,Stores!$A:$B,2,FALSE)","v":"DFG"},"2014-03",{"$f":"VLOOKUP($Q1428,Stores!$A:$D,4,FALSE)","v":"Open"},{"$f":"VLOOKUP(Q1428,Stores!$A:$C,3,FALSE)","v":"Chestnut Hill, MA"},7014,0.55603079555175361]
["8709 - Santa Monica, CA - Grille","",92.9,83.3,0,92.9,92.9,88.1,90.5,92.9,73.8,47.6,2.4,0,28,42,8709,3,2014,{"$f":"VLOOKUP(Q1429,Stores!$A:$B,2,FALSE)","v":"DFG"},"2014-03",{"$f":"VLOOKUP($Q1429,Stores!$A:$D,4,FALSE)","v":"Open"},{"$f":"VLOOKUP(Q1429,Stores!$A:$C,3,FALSE)","v":"Santa Monica, CA"},14812,0.28355387523629488]
["8710 - Fort Worth, TX - Grille","",81.400000000000006,76.7,0,83.7,88.4,79.099999999999994,81.400000000000006,72.099999999999994,55.8,37.200000000000003,2.2999999999999998,0,26,43,8710,3,2014,{"$f":"VLOOKUP(Q1430,Stores!$A:$B,2,FALSE)","v":"DFG"},"2014-03",{"$f":"VLOOKUP($Q1430,Stores!$A:$D,4,FALSE)","v":"Open"},{"$f":"VLOOKUP(Q1430,Stores!$A:$C,3,FALSE)","v":"Fort Worth, TX"},12498,0.34405504880780924]
["8711 – Cherry Creek, CO - Grille","",85,86.7,0,91.7,93.3,83.3,80,81.7,68.3,75,1.7,0,38,60,8711,3,2014,{"$f":"VLOOKUP(Q1431,Stores!$A:$B,2,FALSE)","v":"DFG"},"2014-03",{"$f":"VLOOKUP($Q1431,Stores!$A:$D,4,FALSE)","v":"Open"},{"$f":"VLOOKUP(Q1431,Stores!$A:$C,3,FALSE)","v":"Cherry Creek, CO"},7425,0.80808080808080807]
["8712 - Southlake, TX - Grille","",80.599999999999994,80.599999999999994,0,81.7,88.2,80.599999999999994,78.5,75.3,59.1,75.3,6.5,1,67,93,8712,3,2014,{"$f":"VLOOKUP(Q1432,Stores!$A:$B,2,FALSE)","v":"DFG"},"2014-03",{"$f":"VLOOKUP($Q1432,Stores!$A:$D,4,FALSE)","v":"Open"},{"$f":"VLOOKUP(Q1432,Stores!$A:$C,3,FALSE)","v":"Southlake, TX"},12068,0.77063307921776592]
["8713 - Burlington, MA - Grille",41794,59.1,60.6,0,75.8,81.8,68.2,65.2,59.1,54.5,33.299999999999997,16.7,0,51,66,8713,3,2014,{"$f":"VLOOKUP(Q1433,Stores!$A:$B,2,FALSE)","v":"DFG"},"2014-03",{"$f":"VLOOKUP($Q1433,Stores!$A:$D,4,FALSE)","v":"Open"},{"$f":"VLOOKUP(Q1433,Stores!$A:$C,3,FALSE)","v":"Burlington, MA"},8848,0.74593128390596741]
["8714 - N Bethesda, MD - Grille",41908,69.599999999999994,73.900000000000006,0,69.599999999999994,82.6,69.599999999999994,78.3,73.900000000000006,52.2,65.2,17.399999999999999,2,18,23,8714,3,2014,{"$f":"VLOOKUP(Q1434,Stores!$A:$B,2,FALSE)","v":"DFG"},"2014-03",{"$f":"VLOOKUP($Q1434,Stores!$A:$D,4,FALSE)","v":"Open"},{"$f":"VLOOKUP(Q1434,Stores!$A:$C,3,FALSE)","v":"N. Bethesda, MD"},5328,0.43168168168168169]
["8715 - Irvine, CA - Grille","",83.1,88.1,0,88.1,91.5,86.4,83.1,89.8,78,66.099999999999994,1.7,0,47,59,8715,3,2014,{"$f":"VLOOKUP(Q1435,Stores!$A:$B,2,FALSE)","v":"DFG"},"2014-03",{"$f":"VLOOKUP($Q1435,Stores!$A:$D,4,FALSE)","v":"Open"},{"$f":"VLOOKUP(Q1435,Stores!$A:$C,3,FALSE)","v":"Irvine, CA"},7352,0.80250272034820458]
["8716 - Tampa, FL - Grille","",82.1,82.1,0,79.5,87.2,79.5,82.1,82.1,48.7,51.3,7.7,0,24,39,8716,3,2014,{"$f":"VLOOKUP(Q1436,Stores!$A:$B,2,FALSE)","v":"DFG"},"2014-03",{"$f":"VLOOKUP($Q1436,Stores!$A:$D,4,FALSE)","v":"Open"},{"$f":"VLOOKUP(Q1436,Stores!$A:$C,3,FALSE)","v":"Tampa, FL"},8099,0.48154093097913325]
["8717 - Pasadena, CA - Grille",41992,65.2,78.3,0,78.3,87,73.900000000000006,69.599999999999994,65.2,56.5,65.2,4.3,0,16,23,8717,3,2014,{"$f":"VLOOKUP(Q1437,Stores!$A:$B,2,FALSE)","v":"DFG"},"2014-03",{"$f":"VLOOKUP($Q1437,Stores!$A:$D,4,FALSE)","v":"Open"},{"$f":"VLOOKUP(Q1437,Stores!$A:$C,3,FALSE)","v":"Pasadena, CA"},4563,0.50405435020819633]
["8718 - Woodlands, TX - Grille","",80.400000000000006,78.400000000000006,0,84.3,88.2,80.400000000000006,82.4,84.3,58.8,80.400000000000006,5.9,0,37,51,8718,3,2014,{"$f":"VLOOKUP(Q1438,Stores!$A:$B,2,FALSE)","v":"DFG"},"2014-03",{"$f":"VLOOKUP($Q1438,Stores!$A:$D,4,FALSE)","v":"Open"},{"$f":"VLOOKUP(Q1438,Stores!$A:$C,3,FALSE)","v":"Woodlands, TX"},8483,0.60120240480961928]
["8720 - Little Rock, AR - Grille","",65.7,65.7,0,77.099999999999994,82.9,74.3,74.3,74.3,57.1,62.9,11.4,1,28,35,8720,3,2014,{"$f":"VLOOKUP(Q1439,Stores!$A:$B,2,FALSE)","v":"DFG"},"2014-03",{"$f":"VLOOKUP($Q1439,Stores!$A:$D,4,FALSE)","v":"Open"},{"$f":"VLOOKUP(Q1439,Stores!$A:$C,3,FALSE)","v":"Little Rock, AR"},5126,0.68279360124853694]
["8721 - Plano, TX - Grille","",83.5,86.2,0,89,89.9,89,84.4,87.2,73.400000000000006,74.3,2.8,1,77,109,8721,3,2014,{"$f":"VLOOKUP(Q1440,Stores!$A:$B,2,FALSE)","v":"DFG"},"2014-03",{"$f":"VLOOKUP($Q1440,Stores!$A:$D,4,FALSE)","v":"Open"},{"$f":"VLOOKUP(Q1440,Stores!$A:$C,3,FALSE)","v":"Plano, TX"},9986,1.0915281393951533]
["8722 – Stamford, CT - Grille","",70.3,67.599999999999994,0,73,81.099999999999994,59.5,70.3,64.900000000000006,56.8,81.099999999999994,8.1,0,25,37,8722,3,2014,{"$f":"VLOOKUP(Q1441,Stores!$A:$B,2,FALSE)","v":"DFG"},"2014-03",{"$f":"VLOOKUP($Q1441,Stores!$A:$D,4,FALSE)","v":"Open"},{"$f":"VLOOKUP(Q1441,Stores!$A:$C,3,FALSE)","v":"Stamford, CT"},5739,0.6447116222338386]
["8723 – Hoboken, NJ - Grille","",84,87.7,0,87.7,92.6,85.2,86.4,79,65.400000000000006,56.8,1.2,0,63,81,8723,3,2014,{"$f":"VLOOKUP(Q1442,Stores!$A:$B,2,FALSE)","v":"DFG"},"2014-03",{"$f":"VLOOKUP($Q1442,Stores!$A:$D,4,FALSE)","v":"Open"},{"$f":"VLOOKUP(Q1442,Stores!$A:$C,3,FALSE)","v":"Hoboken, NJ"},9012,0.89880159786950731]
["8724 - Huntington, NY - Grille","",68.400000000000006,81.599999999999994,0,84.2,89.5,76.3,71.099999999999994,81.599999999999994,52.6,71.099999999999994,10.5,0,29,38,8724,3,2014,{"$f":"VLOOKUP(Q1443,Stores!$A:$B,2,FALSE)","v":"DFG"},"2014-03",{"$f":"VLOOKUP($Q1443,Stores!$A:$D,4,FALSE)","v":"Open"},{"$f":"VLOOKUP(Q1443,Stores!$A:$C,3,FALSE)","v":"Huntington, NY"},9510,0.39957939011566773]
["8725 - Nashville, TN - Grille","",83.9,74.2,0,77.400000000000006,93.5,74.2,80.599999999999994,93.5,58.1,77.400000000000006,3.2,0,22,31,8725,3,2014,{"$f":"VLOOKUP(Q1444,Stores!$A:$B,2,FALSE)","v":"DFG"},"2014-03",{"$f":"VLOOKUP($Q1444,Stores!$A:$D,4,FALSE)","v":"Open"},{"$f":"VLOOKUP(Q1444,Stores!$A:$C,3,FALSE)","v":"Nashville, TN"},7773,0.39881641579827604]
["8726 - Brentwood, TN - Grille",42693,69.7,74.2,0,82,86.5,77.5,73,77.5,52.8,76.400000000000006,10.1,0,65,89,8726,3,2014,{"$f":"VLOOKUP(Q1445,Stores!$A:$B,2,FALSE)","v":"DFG"},"2014-03",{"$f":"VLOOKUP($Q1445,Stores!$A:$D,4,FALSE)","v":"Open"},{"$f":"VLOOKUP(Q1445,Stores!$A:$C,3,FALSE)","v":"Brentwood, TN"},11286,0.78858763069289384]
["8501 - Austin, TX - Sullivan's","",71.900000000000006,65.599999999999994,0,71.900000000000006,87.5,62.5,71.900000000000006,68.8,43.8,78.099999999999994,12.5,1,21,32,8501,4,2014,{"$f":"VLOOKUP(Q1446,Stores!$A:$B,2,FALSE)","v":"SULL"},"2014-04",{"$f":"VLOOKUP($Q1446,Stores!$A:$D,4,FALSE)","v":"Open"},{"$f":"VLOOKUP(Q1446,Stores!$A:$C,3,FALSE)","v":"Austin, TX"},5438,0.58845163663111433]
["8502 - Indianapolis, IN - Sullivan's","",69.099999999999994,75,0,80.900000000000006,82.4,80.900000000000006,73.5,66.2,51.5,83.8,10.3,0,55,68,8502,4,2014,{"$f":"VLOOKUP(Q1447,Stores!$A:$B,2,FALSE)","v":"SULL"},"2014-04",{"$f":"VLOOKUP($Q1447,Stores!$A:$D,4,FALSE)","v":"Open"},{"$f":"VLOOKUP(Q1447,Stores!$A:$C,3,FALSE)","v":"Indianapolis, IN"},5747,1.1832260309726814]
["8504 - Houston, TX - Sullivan's","",89.5,89.5,0,86.8,94.7,89.5,92.1,89.5,84.2,71.099999999999994,2.6,0,30,38,8504,4,2014,{"$f":"VLOOKUP(Q1448,Stores!$A:$B,2,FALSE)","v":"SULL"},"2014-04",{"$f":"VLOOKUP($Q1448,Stores!$A:$D,4,FALSE)","v":"Closed"},{"$f":"VLOOKUP(Q1448,Stores!$A:$C,3,FALSE)","v":"Houston, TX"},2804,1.3552068473609131]
["8510 - Wilmington, DE - Sullivan's","",75.7,74.3,0,85.7,92.9,82.9,88.6,70,62.9,64.3,7.1,0,61,70,8510,4,2014,{"$f":"VLOOKUP(Q1449,Stores!$A:$B,2,FALSE)","v":"SULL"},"2014-04",{"$f":"VLOOKUP($Q1449,Stores!$A:$D,4,FALSE)","v":"Open"},{"$f":"VLOOKUP(Q1449,Stores!$A:$C,3,FALSE)","v":"Wilmington, DE"},5107,1.3706677109849226]
["8522 - King of Prussia, PA - Sullivan's","",66.7,68.099999999999994,0,73.599999999999994,76.400000000000006,68.099999999999994,75,61.1,47.2,79.2,6.9,1,55,72,8522,4,2014,{"$f":"VLOOKUP(Q1450,Stores!$A:$B,2,FALSE)","v":"SULL"},"2014-04",{"$f":"VLOOKUP($Q1450,Stores!$A:$D,4,FALSE)","v":"Open"},{"$f":"VLOOKUP(Q1450,Stores!$A:$C,3,FALSE)","v":"King of Prussia, PA"},5478,1.3143483023001095]
["8525 - Tucson, AZ - Sullivan's","",86.4,81.8,0,86.4,95.5,86.4,81.8,81.8,63.6,63.6,9.1,1,14,22,8525,4,2014,{"$f":"VLOOKUP(Q1451,Stores!$A:$B,2,FALSE)","v":"SULL"},"2014-04",{"$f":"VLOOKUP($Q1451,Stores!$A:$D,4,FALSE)","v":"Open"},{"$f":"VLOOKUP(Q1451,Stores!$A:$C,3,FALSE)","v":"Tucson, AZ"},3961,0.55541529916687704]
["8532 - Omaha, NE - Sullivan's","",76.2,71.400000000000006,0,85.7,85.7,71.400000000000006,81,76.2,52.4,76.2,4.8,0,11,21,8532,4,2014,{"$f":"VLOOKUP(Q1452,Stores!$A:$B,2,FALSE)","v":"SULL"},"2014-04",{"$f":"VLOOKUP($Q1452,Stores!$A:$D,4,FALSE)","v":"Open"},{"$f":"VLOOKUP(Q1452,Stores!$A:$C,3,FALSE)","v":"Omaha, NE"},3671,0.57205121220375921]
["8535 - Baltimore, MD - Sullivan's","",95.7,90,0,95.7,97.1,94.3,95.7,92.9,87.1,65.7,1.4,1,58,70,8535,4,2014,{"$f":"VLOOKUP(Q1453,Stores!$A:$B,2,FALSE)","v":"SULL"},"2014-04",{"$f":"VLOOKUP($Q1453,Stores!$A:$D,4,FALSE)","v":"Open"},{"$f":"VLOOKUP(Q1453,Stores!$A:$C,3,FALSE)","v":"Baltimore, MD"},4106,1.7048222113979541]
["8536 - Leawood, KS - Sullivan's","",91.7,91.7,0,94.4,96.7,91.1,93.3,92.8,82.2,95,3.3,1,138,180,8536,4,2014,{"$f":"VLOOKUP(Q1454,Stores!$A:$B,2,FALSE)","v":"SULL"},"2014-04",{"$f":"VLOOKUP($Q1454,Stores!$A:$D,4,FALSE)","v":"Open"},{"$f":"VLOOKUP(Q1454,Stores!$A:$C,3,FALSE)","v":"Leawood, KS"},4206,4.2796005706134093]
["8541 - Chicago, IL - Sullivan's","",88.9,88.9,0,94.4,100,94.4,88.9,94.4,66.7,61.1,0,0,12,18,8541,4,2014,{"$f":"VLOOKUP(Q1455,Stores!$A:$B,2,FALSE)","v":"SULL"},"2014-04",{"$f":"VLOOKUP($Q1455,Stores!$A:$D,4,FALSE)","v":"Open"},{"$f":"VLOOKUP(Q1455,Stores!$A:$C,3,FALSE)","v":"Chicago, IL"},1973,0.9123162696401419]
["8542 - Naperville, IL - Sullivan's","",84.3,84.3,0,89.9,94.4,82,87.6,86.5,60.7,86.5,7.9,0,67,89,8542,4,2014,{"$f":"VLOOKUP(Q1456,Stores!$A:$B,2,FALSE)","v":"SULL"},"2014-04",{"$f":"VLOOKUP($Q1456,Stores!$A:$D,4,FALSE)","v":"Open"},{"$f":"VLOOKUP(Q1456,Stores!$A:$C,3,FALSE)","v":"Naperville, IL"},5334,1.6685414323209597]
["8543 - Lincolnshire, IL - Sullivan's","",85.2,85.2,0,85.2,81.5,81.5,81.5,85.2,59.3,85.2,3.7,0,22,27,8543,4,2014,{"$f":"VLOOKUP(Q1457,Stores!$A:$B,2,FALSE)","v":"SULL"},"2014-04",{"$f":"VLOOKUP($Q1457,Stores!$A:$D,4,FALSE)","v":"Open"},{"$f":"VLOOKUP(Q1457,Stores!$A:$C,3,FALSE)","v":"Lincolnshire, IL"},3479,0.77608508192009196]
["8551 - Baton Rouge, LA - Sullivan's","",94.7,94.7,0,95.5,97.6,92.7,96.7,95.5,91.9,88.2,2,1,183,246,{"$f":"MID(A1458,1,4)*1","v":8551},4,2014,{"$f":"VLOOKUP(Q1458,Stores!$A:$B,2,FALSE)","v":"SULL"},"2014-04",{"$f":"VLOOKUP($Q1458,Stores!$A:$D,4,FALSE)","v":"Open"},{"$f":"VLOOKUP(Q1458,Stores!$A:$C,3,FALSE)","v":"Baton Rouge, LA"},4837,{"$f":"P1458/(X1458/100)","v":5.0857969816001658}]
["8561 - Raleigh, NC - Sullivan's","",76.3,76.3,0,83.1,84.7,72.900000000000006,74.599999999999994,74.599999999999994,49.2,59.3,5.0999999999999996,0,46,59,8561,4,2014,{"$f":"VLOOKUP(Q1459,Stores!$A:$B,2,FALSE)","v":"SULL"},"2014-04",{"$f":"VLOOKUP($Q1459,Stores!$A:$D,4,FALSE)","v":"Open"},{"$f":"VLOOKUP(Q1459,Stores!$A:$C,3,FALSE)","v":"Raleigh, NC"},6008,0.98202396804260983]
["8562 - Charlotte, NC - Sullivan's","",63.6,72.7,0,68.2,63.6,68.2,72.7,63.6,59.1,50,22.7,1,16,22,8562,4,2014,{"$f":"VLOOKUP(Q1460,Stores!$A:$B,2,FALSE)","v":"SULL"},"2014-04",{"$f":"VLOOKUP($Q1460,Stores!$A:$D,4,FALSE)","v":"Open"},{"$f":"VLOOKUP(Q1460,Stores!$A:$C,3,FALSE)","v":"Charlotte, NC"},4310,0.51044083526682138]
["8570 - Palm Desert, CA - Sullivan's","",90.6,92.2,0,93.8,93.8,85.9,89.1,85.9,76.599999999999994,90.6,0,0,44,64,8570,4,2014,{"$f":"VLOOKUP(Q1461,Stores!$A:$B,2,FALSE)","v":"SULL"},"2014-04",{"$f":"VLOOKUP($Q1461,Stores!$A:$D,4,FALSE)","v":"Open"},{"$f":"VLOOKUP(Q1461,Stores!$A:$C,3,FALSE)","v":"Palm Desert, CA"},7165,0.89323098394975564]
["8591 - Anchorage, AK - Sullivan's","",92.4,93.5,0,93.5,96.7,93.5,94.6,95.7,91.3,75,1.1000000000000001,0,78,92,8591,4,2014,{"$f":"VLOOKUP(Q1462,Stores!$A:$B,2,FALSE)","v":"SULL"},"2014-04",{"$f":"VLOOKUP($Q1462,Stores!$A:$D,4,FALSE)","v":"Open"},{"$f":"VLOOKUP(Q1462,Stores!$A:$C,3,FALSE)","v":"Anchorage, AK"},6339,1.4513330178261554]
["8602 - Fort Worth, TX - Del Frisco's","",81.5,84.8,0,86.1,92.1,82.1,85.4,84.1,58.9,78.099999999999994,5.3,1,111,151,8602,4,2014,{"$f":"VLOOKUP(Q1463,Stores!$A:$B,2,FALSE)","v":"DFDE"},"2014-04",{"$f":"VLOOKUP($Q1463,Stores!$A:$D,4,FALSE)","v":"Open"},{"$f":"VLOOKUP(Q1463,Stores!$A:$C,3,FALSE)","v":"Fort Worth, TX"},7095,2.128259337561663]
["8603 - Denver, CO - Del Frisco's","",68.599999999999994,73.3,0,77.900000000000006,83.7,77.900000000000006,72.099999999999994,74.400000000000006,48.8,74.400000000000006,7,0,60,86,8603,4,2014,{"$f":"VLOOKUP(Q1464,Stores!$A:$B,2,FALSE)","v":"DFDE"},"2014-04",{"$f":"VLOOKUP($Q1464,Stores!$A:$D,4,FALSE)","v":"Open"},{"$f":"VLOOKUP(Q1464,Stores!$A:$C,3,FALSE)","v":"Denver, CO"},8397,1.024175300702632]
["8604 - Charlotte, NC - Del Frisco's","",81.400000000000006,81.400000000000006,0,86,89.5,77.900000000000006,84.9,89.5,54.7,55.8,7,1,69,86,8604,4,2014,{"$f":"VLOOKUP(Q1465,Stores!$A:$B,2,FALSE)","v":"DFDE"},"2014-04",{"$f":"VLOOKUP($Q1465,Stores!$A:$D,4,FALSE)","v":"Open"},{"$f":"VLOOKUP(Q1465,Stores!$A:$C,3,FALSE)","v":"Charlotte, NC"},5312,1.618975903614458]
["8605 - Houston, TX - Del Frisco's","",77,82,0,83.6,88.5,70.5,70.5,91.8,54.1,70.5,11.5,0,42,61,8605,4,2014,{"$f":"VLOOKUP(Q1466,Stores!$A:$B,2,FALSE)","v":"DFDE"},"2014-04",{"$f":"VLOOKUP($Q1466,Stores!$A:$D,4,FALSE)","v":"Open"},{"$f":"VLOOKUP(Q1466,Stores!$A:$C,3,FALSE)","v":"Houston, TX"},6099,1.0001639613051319]
["8610 - Dallas, TX - Del Frisco's","",72.099999999999994,76.5,0,86.8,86.8,72.099999999999994,72.099999999999994,86.8,50,66.2,13.2,2,54,68,8610,4,2014,{"$f":"VLOOKUP(Q1467,Stores!$A:$B,2,FALSE)","v":"DFDE"},"2014-04",{"$f":"VLOOKUP($Q1467,Stores!$A:$D,4,FALSE)","v":"Open"},{"$f":"VLOOKUP(Q1467,Stores!$A:$C,3,FALSE)","v":"Dallas, TX"},9360,0.72649572649572658]
["8615 - Orlando, FL - Del Frisco’s","",83.8,86.5,0,86.5,89.2,86.5,86.5,91.9,73,78.400000000000006,5.4,2,28,37,8615,4,2014,{"$f":"VLOOKUP(Q1468,Stores!$A:$B,2,FALSE)","v":"DFDE"},"2014-04",{"$f":"VLOOKUP($Q1468,Stores!$A:$D,4,FALSE)","v":"Open"},{"$f":"VLOOKUP(Q1468,Stores!$A:$C,3,FALSE)","v":"Orlando, FL"},4785,0.77324973876698011]
["8620 - New York City, NY - Del Frisco's","",73.099999999999994,77.599999999999994,0,82.1,85.3,75,80.099999999999994,75.599999999999994,44.2,57.1,7.7,4,118,156,8620,4,2014,{"$f":"VLOOKUP(Q1469,Stores!$A:$B,2,FALSE)","v":"DFDE"},"2014-04",{"$f":"VLOOKUP($Q1469,Stores!$A:$D,4,FALSE)","v":"Open"},{"$f":"VLOOKUP(Q1469,Stores!$A:$C,3,FALSE)","v":"New York City, NY"},22562,0.69142806488786457]
["8635 - Boston, MA - Del Frisco's","",71.099999999999994,74.400000000000006,0,76.7,82.2,71.099999999999994,75.599999999999994,74.400000000000006,45.6,67.8,12.2,3,63,90,8635,4,2014,{"$f":"VLOOKUP(Q1470,Stores!$A:$B,2,FALSE)","v":"DFDE"},"2014-04",{"$f":"VLOOKUP($Q1470,Stores!$A:$D,4,FALSE)","v":"Open"},{"$f":"VLOOKUP(Q1470,Stores!$A:$C,3,FALSE)","v":"Boston, MA"},11038,0.81536510237361848]
["8640 - Las Vegas, NV - Del Frisco's","",75,76.8,0,82.1,83.9,76.8,78.599999999999994,76.8,71.400000000000006,66.099999999999994,3.6,0,35,56,8640,4,2014,{"$f":"VLOOKUP(Q1471,Stores!$A:$B,2,FALSE)","v":"DFDE"},"2014-04",{"$f":"VLOOKUP($Q1471,Stores!$A:$D,4,FALSE)","v":"Open"},{"$f":"VLOOKUP(Q1471,Stores!$A:$C,3,FALSE)","v":"Las Vegas, NV"},5634,0.99396521121760728]
["8650 - Chicago, IL - Del Frisco's","",84.8,87.9,0,84.8,87.9,78.8,90.9,87.9,60.6,90.9,6.1,0,22,33,8650,4,2014,{"$f":"VLOOKUP(Q1472,Stores!$A:$B,2,FALSE)","v":"DFDE"},"2014-04",{"$f":"VLOOKUP($Q1472,Stores!$A:$D,4,FALSE)","v":"Open"},{"$f":"VLOOKUP(Q1472,Stores!$A:$C,3,FALSE)","v":"Chicago, IL"},3166,1.0423246999368287]
["8655 - Washington, DC -  Del Frisco's","",78.8,86.4,0,84.8,87.9,74.2,84.8,78.8,68.2,63.6,10.6,0,49,66,8655,4,2014,{"$f":"VLOOKUP(Q1473,Stores!$A:$B,2,FALSE)","v":"DFDE"},"2014-04",{"$f":"VLOOKUP($Q1473,Stores!$A:$D,4,FALSE)","v":"Open"},{"$f":"VLOOKUP(Q1473,Stores!$A:$C,3,FALSE)","v":"Washington, DC"},10248,0.64402810304449642]
["8680 - Philadelphia, PA - Del Frisco's","",72.3,77.7,0,81.8,84.5,74.3,80.400000000000006,78.400000000000006,48.6,63.5,9.5,5,101,148,8680,4,2014,{"$f":"VLOOKUP(Q1474,Stores!$A:$B,2,FALSE)","v":"DFDE"},"2014-04",{"$f":"VLOOKUP($Q1474,Stores!$A:$D,4,FALSE)","v":"Open"},{"$f":"VLOOKUP(Q1474,Stores!$A:$C,3,FALSE)","v":"Philadelphia, PA"},10823,1.3674581908897718]
["8701 - New York City, NY - Grille","",64.3,64.3,0,78.599999999999994,75,82.1,67.900000000000006,71.400000000000006,60.7,64.3,14.3,2,23,28,8701,4,2014,{"$f":"VLOOKUP(Q1475,Stores!$A:$B,2,FALSE)","v":"DFG"},{"$f":"S1475&\"-\"&REPT(\"0\",2-LEN(R1475))&R1475","v":"2014-04"},{"$f":"VLOOKUP($Q1475,Stores!$A:$D,4,FALSE)","v":"Open"},{"$f":"VLOOKUP(Q1475,Stores!$A:$C,3,FALSE)","v":"New York City, NY"},11745,0.23839931885908897]
["8702 - Dallas, TX - Grille","",92.4,88,0,93.7,94.9,91.1,91.1,91.8,84.2,63.3,3.2,3,114,158,8702,4,2014,{"$f":"VLOOKUP(Q1476,Stores!$A:$B,2,FALSE)","v":"DFG"},"2014-04",{"$f":"VLOOKUP($Q1476,Stores!$A:$D,4,FALSE)","v":"Open"},{"$f":"VLOOKUP(Q1476,Stores!$A:$C,3,FALSE)","v":"Dallas, TX"},6658,2.3730850105136678]
["8703 - Washington, DC - Grille","",55,75,0,70,70,70,70,60,40,20,5,0,13,20,8703,4,2014,{"$f":"VLOOKUP(Q1477,Stores!$A:$B,2,FALSE)","v":"DFG"},"2014-04",{"$f":"VLOOKUP($Q1477,Stores!$A:$D,4,FALSE)","v":"Open"},{"$f":"VLOOKUP(Q1477,Stores!$A:$C,3,FALSE)","v":"Washington, DC"},8183,0.24440914090186974]
["8706 - Atlanta, GA - Grille","",96.7,93.4,0,97.4,97.7,95.4,94.9,94.6,91,79.3,1.5,0,330,391,8706,4,2014,{"$f":"VLOOKUP(Q1478,Stores!$A:$B,2,FALSE)","v":"DFG"},"2014-04",{"$f":"VLOOKUP($Q1478,Stores!$A:$D,4,FALSE)","v":"Open"},{"$f":"VLOOKUP(Q1478,Stores!$A:$C,3,FALSE)","v":"Atlanta, GA"},8809,4.4386422976501301]
["8707 - River Oaks, TX - Grille","",85.4,80.5,0,90.2,90.2,82.9,78,82.9,75.599999999999994,65.900000000000006,9.8000000000000007,1,33,41,8707,4,2014,{"$f":"VLOOKUP(Q1479,Stores!$A:$B,2,FALSE)","v":"DFG"},"2014-04",{"$f":"VLOOKUP($Q1479,Stores!$A:$D,4,FALSE)","v":"Open"},{"$f":"VLOOKUP(Q1479,Stores!$A:$C,3,FALSE)","v":"Houston, TX"},5061,0.81011657775143253]
["8708 - Chestnut Hill, MA - Grille","",75.7,78.400000000000006,0,78.400000000000006,89.2,75.7,73,78.400000000000006,51.4,40.5,2.7,1,28,37,8708,4,2014,{"$f":"VLOOKUP(Q1480,Stores!$A:$B,2,FALSE)","v":"DFG"},"2014-04",{"$f":"VLOOKUP($Q1480,Stores!$A:$D,4,FALSE)","v":"Open"},{"$f":"VLOOKUP(Q1480,Stores!$A:$C,3,FALSE)","v":"Chestnut Hill, MA"},6746,0.5484731692855026]
["8709 - Santa Monica, CA - Grille","",85,78.3,0,91.7,91.7,83.3,73.3,80,63.3,36.700000000000003,1.7,0,43,60,8709,4,2014,{"$f":"VLOOKUP(Q1481,Stores!$A:$B,2,FALSE)","v":"DFG"},"2014-04",{"$f":"VLOOKUP($Q1481,Stores!$A:$D,4,FALSE)","v":"Open"},{"$f":"VLOOKUP(Q1481,Stores!$A:$C,3,FALSE)","v":"Santa Monica, CA"},17757,0.33789491468153404]
["8710 - Fort Worth, TX - Grille","",64.3,71.400000000000006,0,73.2,80.400000000000006,80.400000000000006,69.599999999999994,78.599999999999994,58.9,55.4,10.7,3,34,56,8710,4,2014,{"$f":"VLOOKUP(Q1482,Stores!$A:$B,2,FALSE)","v":"DFG"},"2014-04",{"$f":"VLOOKUP($Q1482,Stores!$A:$D,4,FALSE)","v":"Open"},{"$f":"VLOOKUP(Q1482,Stores!$A:$C,3,FALSE)","v":"Fort Worth, TX"},12903,0.43400759513291481]
["8711 – Cherry Creek, CO - Grille","",95.7,96.1,0,97.4,97.8,96.1,93.5,95.7,92.2,73,1.3,0,194,230,8711,4,2014,{"$f":"VLOOKUP(Q1483,Stores!$A:$B,2,FALSE)","v":"DFG"},"2014-04",{"$f":"VLOOKUP($Q1483,Stores!$A:$D,4,FALSE)","v":"Open"},{"$f":"VLOOKUP(Q1483,Stores!$A:$C,3,FALSE)","v":"Cherry Creek, CO"},6326,3.6357888080935821]
["8712 - Southlake, TX - Grille","",76.400000000000006,79.8,0,84.3,89.9,73,85.4,82,67.400000000000006,71.900000000000006,10.1,2,67,89,8712,4,2014,{"$f":"VLOOKUP(Q1484,Stores!$A:$B,2,FALSE)","v":"DFG"},"2014-04",{"$f":"VLOOKUP($Q1484,Stores!$A:$D,4,FALSE)","v":"Open"},{"$f":"VLOOKUP(Q1484,Stores!$A:$C,3,FALSE)","v":"Southlake, TX"},13495,0.65950351982215638]
["8713 - Burlington, MA - Grille",41794,77.8,75.900000000000006,0,88.9,92.6,85.2,79.599999999999994,72.2,61.1,44.4,7.4,0,41,54,8713,4,2014,{"$f":"VLOOKUP(Q1485,Stores!$A:$B,2,FALSE)","v":"DFG"},"2014-04",{"$f":"VLOOKUP($Q1485,Stores!$A:$D,4,FALSE)","v":"Open"},{"$f":"VLOOKUP(Q1485,Stores!$A:$C,3,FALSE)","v":"Burlington, MA"},7700,0.70129870129870131]
["8714 - N Bethesda, MD - Grille",41908,91.1,91.9,0,91.9,94.8,91.9,92.6,92.6,90.4,81.5,3,0,99,135,8714,4,2014,{"$f":"VLOOKUP(Q1486,Stores!$A:$B,2,FALSE)","v":"DFG"},"2014-04",{"$f":"VLOOKUP($Q1486,Stores!$A:$D,4,FALSE)","v":"Open"},{"$f":"VLOOKUP(Q1486,Stores!$A:$C,3,FALSE)","v":"N. Bethesda, MD"},5036,2.6806989674344717]
["8715 - Irvine, CA - Grille","",80.5,82.9,0,87.8,92.7,90.2,75.599999999999994,85.4,63.4,65.900000000000006,2.4,0,26,41,8715,4,2014,{"$f":"VLOOKUP(Q1487,Stores!$A:$B,2,FALSE)","v":"DFG"},"2014-04",{"$f":"VLOOKUP($Q1487,Stores!$A:$D,4,FALSE)","v":"Open"},{"$f":"VLOOKUP(Q1487,Stores!$A:$C,3,FALSE)","v":"Irvine, CA"},6811,0.60196740566730289]
["8716 - Tampa, FL - Grille","",72.5,85,0,80,87.5,72.5,80,75,57.5,65,7.5,1,23,40,8716,4,2014,{"$f":"VLOOKUP(Q1488,Stores!$A:$B,2,FALSE)","v":"DFG"},"2014-04",{"$f":"VLOOKUP($Q1488,Stores!$A:$D,4,FALSE)","v":"Open"},{"$f":"VLOOKUP(Q1488,Stores!$A:$C,3,FALSE)","v":"Tampa, FL"},7627,0.52445260259604043]
["8717 - Pasadena, CA - Grille",41992,86.1,83.3,0,91.7,91.7,88.9,80.599999999999994,88.9,77.8,86.1,11.1,2,29,36,8717,4,2014,{"$f":"VLOOKUP(Q1489,Stores!$A:$B,2,FALSE)","v":"DFG"},"2014-04",{"$f":"VLOOKUP($Q1489,Stores!$A:$D,4,FALSE)","v":"Open"},{"$f":"VLOOKUP(Q1489,Stores!$A:$C,3,FALSE)","v":"Pasadena, CA"},4509,0.79840319361277434]
["8718 - Woodlands, TX - Grille","",72.7,77.3,0,77.3,84.8,80.3,72.7,81.8,62.1,60.6,7.6,2,46,66,8718,4,2014,{"$f":"VLOOKUP(Q1490,Stores!$A:$B,2,FALSE)","v":"DFG"},"2014-04",{"$f":"VLOOKUP($Q1490,Stores!$A:$D,4,FALSE)","v":"Open"},{"$f":"VLOOKUP(Q1490,Stores!$A:$C,3,FALSE)","v":"Woodlands, TX"},10114,0.6525608068024521]
["8720 - Little Rock, AR - Grille","",70.7,80.5,0,75.599999999999994,82.9,63.4,78,78,51.2,51.2,14.6,0,29,41,8720,4,2014,{"$f":"VLOOKUP(Q1491,Stores!$A:$B,2,FALSE)","v":"DFG"},"2014-04",{"$f":"VLOOKUP($Q1491,Stores!$A:$D,4,FALSE)","v":"Open"},{"$f":"VLOOKUP(Q1491,Stores!$A:$C,3,FALSE)","v":"Little Rock, AR"},5060,0.81027667984189722]
["8721 - Plano, TX - Grille","",90.8,90.1,0,92.9,94.3,88.7,87.9,92.2,81.599999999999994,85.8,4.3,2,116,141,8721,4,2014,{"$f":"VLOOKUP(Q1492,Stores!$A:$B,2,FALSE)","v":"DFG"},"2014-04",{"$f":"VLOOKUP($Q1492,Stores!$A:$D,4,FALSE)","v":"Open"},{"$f":"VLOOKUP(Q1492,Stores!$A:$C,3,FALSE)","v":"Plano, TX"},10683,1.3198539736029204]
["8722 – Stamford, CT - Grille","",86.3,90.2,0,90.2,96.1,86.3,86.3,86.3,64.7,78.400000000000006,0,0,41,51,8722,4,2014,{"$f":"VLOOKUP(Q1493,Stores!$A:$B,2,FALSE)","v":"DFG"},"2014-04",{"$f":"VLOOKUP($Q1493,Stores!$A:$D,4,FALSE)","v":"Open"},{"$f":"VLOOKUP(Q1493,Stores!$A:$C,3,FALSE)","v":"Stamford, CT"},4763,1.0707537266428722]
["8723 – Hoboken, NJ - Grille","",93.1,87.3,0,90.2,96.1,89.2,90.2,94.1,79.400000000000006,70.599999999999994,2.9,0,74,102,8723,4,2014,{"$f":"VLOOKUP(Q1494,Stores!$A:$B,2,FALSE)","v":"DFG"},"2014-04",{"$f":"VLOOKUP($Q1494,Stores!$A:$D,4,FALSE)","v":"Open"},{"$f":"VLOOKUP(Q1494,Stores!$A:$C,3,FALSE)","v":"Hoboken, NJ"},10726,0.95096028342345695]
["8724 - Huntington, NY - Grille","",82.5,87.7,0,84.2,89.5,87.7,84.2,77.2,73.7,75.400000000000006,10.5,1,49,57,8724,4,2014,{"$f":"VLOOKUP(Q1495,Stores!$A:$B,2,FALSE)","v":"DFG"},"2014-04",{"$f":"VLOOKUP($Q1495,Stores!$A:$D,4,FALSE)","v":"Open"},{"$f":"VLOOKUP(Q1495,Stores!$A:$C,3,FALSE)","v":"Huntington, NY"},9595,0.59405940594059403]
["8725 - Nashville, TN - Grille","",73.5,70.599999999999994,0,88.2,88.2,82.4,82.4,79.400000000000006,50,70.599999999999994,2.9,0,21,34,8725,4,2014,{"$f":"VLOOKUP(Q1496,Stores!$A:$B,2,FALSE)","v":"DFG"},"2014-04",{"$f":"VLOOKUP($Q1496,Stores!$A:$D,4,FALSE)","v":"Open"},{"$f":"VLOOKUP(Q1496,Stores!$A:$C,3,FALSE)","v":"Nashville, TN"},7152,0.47539149888143178]
["8726 - Brentwood, TN - Grille",42693,64.7,76.5,0,80.400000000000006,82.4,66.7,62.7,74.5,49,68.599999999999994,11.8,0,36,51,8726,4,2014,{"$f":"VLOOKUP(Q1497,Stores!$A:$B,2,FALSE)","v":"DFG"},"2014-04",{"$f":"VLOOKUP($Q1497,Stores!$A:$D,4,FALSE)","v":"Open"},{"$f":"VLOOKUP(Q1497,Stores!$A:$C,3,FALSE)","v":"Brentwood, TN"},11013,0.46308907654590031]
["8501 - Austin, TX - Sullivan's","",53.6,37.5,0,67.900000000000006,67.900000000000006,60.7,57.1,53.6,46.4,75,32.1,2,20,28,8501,5,2014,{"$f":"VLOOKUP(Q1498,Stores!$A:$B,2,FALSE)","v":"SULL"},"2014-05",{"$f":"VLOOKUP($Q1498,Stores!$A:$D,4,FALSE)","v":"Open"},{"$f":"VLOOKUP(Q1498,Stores!$A:$C,3,FALSE)","v":"Austin, TX"},5143,{"$f":"P1498/(X1498/100)","v":0.5444293214077387}]
["8502 - Indianapolis, IN - Sullivan's","",59.3,50,0,70.400000000000006,74.099999999999994,59.3,59.3,53.7,37,70.400000000000006,16.7,0,41,54,{"$f":"MID(A1499,1,4)*1","v":8502},5,2014,{"$f":"VLOOKUP(Q1499,Stores!$A:$B,2,FALSE)","v":"SULL"},"2014-05",{"$f":"VLOOKUP($Q1499,Stores!$A:$D,4,FALSE)","v":"Open"},{"$f":"VLOOKUP(Q1499,Stores!$A:$C,3,FALSE)","v":"Indianapolis, IN"},7331,{"$f":"P1499/(X1499/100)","v":0.73659800845723633}]
["8504 - Houston, TX - Sullivan's","",66.7,62.5,0,66.7,77.8,70.400000000000006,77.8,77.8,55.6,66.7,14.8,2,20,27,8504,5,2014,{"$f":"VLOOKUP(Q1500,Stores!$A:$B,2,FALSE)","v":"SULL"},"2014-05",{"$f":"VLOOKUP($Q1500,Stores!$A:$D,4,FALSE)","v":"Closed"},{"$f":"VLOOKUP(Q1500,Stores!$A:$C,3,FALSE)","v":"Houston, TX"},3715,0.72678331090174975]
["8510 - Wilmington, DE - Sullivan's","",66.7,84.6,0,75.900000000000006,85.2,72.2,75.900000000000006,70.400000000000006,63,64.8,11.1,0,40,54,8510,5,2014,{"$f":"VLOOKUP(Q1501,Stores!$A:$B,2,FALSE)","v":"SULL"},"2014-05",{"$f":"VLOOKUP($Q1501,Stores!$A:$D,4,FALSE)","v":"Open"},{"$f":"VLOOKUP(Q1501,Stores!$A:$C,3,FALSE)","v":"Wilmington, DE"},6142,0.87919244545750563]
["8522 - King of Prussia, PA - Sullivan's","",59.6,75,0,73.7,77.2,70.2,66.7,64.900000000000006,43.9,63.2,19.3,1,43,57,8522,5,2014,{"$f":"VLOOKUP(Q1502,Stores!$A:$B,2,FALSE)","v":"SULL"},"2014-05",{"$f":"VLOOKUP($Q1502,Stores!$A:$D,4,FALSE)","v":"Open"},{"$f":"VLOOKUP(Q1502,Stores!$A:$C,3,FALSE)","v":"King of Prussia, PA"},5830,0.97770154373927964]
["8525 - Tucson, AZ - Sullivan's","",68.400000000000006,66.7,0,84.2,92.1,73.7,78.900000000000006,76.3,60.5,60.5,10.5,0,33,38,8525,5,2014,{"$f":"VLOOKUP(Q1503,Stores!$A:$B,2,FALSE)","v":"SULL"},"2014-05",{"$f":"VLOOKUP($Q1503,Stores!$A:$D,4,FALSE)","v":"Open"},{"$f":"VLOOKUP(Q1503,Stores!$A:$C,3,FALSE)","v":"Tucson, AZ"},4350,0.87356321839080464]
["8532 - Omaha, NE - Sullivan's","",65.599999999999994,66.7,0,71.900000000000006,75,65.599999999999994,75,75,43.8,68.8,12.5,0,24,32,8532,5,2014,{"$f":"VLOOKUP(Q1504,Stores!$A:$B,2,FALSE)","v":"SULL"},"2014-05",{"$f":"VLOOKUP($Q1504,Stores!$A:$D,4,FALSE)","v":"Open"},{"$f":"VLOOKUP(Q1504,Stores!$A:$C,3,FALSE)","v":"Omaha, NE"},4325,0.73988439306358378]
["8535 - Baltimore, MD - Sullivan's","",72.400000000000006,100,0,72.400000000000006,79.3,72.400000000000006,75.900000000000006,79.3,72.400000000000006,65.5,6.9,0,19,29,8535,5,2014,{"$f":"VLOOKUP(Q1505,Stores!$A:$B,2,FALSE)","v":"SULL"},"2014-05",{"$f":"VLOOKUP($Q1505,Stores!$A:$D,4,FALSE)","v":"Open"},{"$f":"VLOOKUP(Q1505,Stores!$A:$C,3,FALSE)","v":"Baltimore, MD"},4145,0.69963811821471644]
["8536 - Leawood, KS - Sullivan's","",78.3,86.7,0,83.3,93.3,80,81.7,86.7,56.7,88.3,5,0,45,60,8536,5,2014,{"$f":"VLOOKUP(Q1506,Stores!$A:$B,2,FALSE)","v":"SULL"},"2014-05",{"$f":"VLOOKUP($Q1506,Stores!$A:$D,4,FALSE)","v":"Open"},{"$f":"VLOOKUP(Q1506,Stores!$A:$C,3,FALSE)","v":"Leawood, KS"},4710,1.2738853503184713]
["8541 - Chicago, IL - Sullivan's","",88.9,80,0,88.9,88.9,88.9,88.9,83.3,61.1,88.9,0,0,12,18,8541,5,2014,{"$f":"VLOOKUP(Q1507,Stores!$A:$B,2,FALSE)","v":"SULL"},"2014-05",{"$f":"VLOOKUP($Q1507,Stores!$A:$D,4,FALSE)","v":"Open"},{"$f":"VLOOKUP(Q1507,Stores!$A:$C,3,FALSE)","v":"Chicago, IL"},2393,0.75219389887170918]
["8542 - Naperville, IL - Sullivan's","",73.8,68.8,0,83.1,89.2,75.400000000000006,75.400000000000006,70.8,50.8,87.7,9.1999999999999993,0,47,65,8542,5,2014,{"$f":"VLOOKUP(Q1508,Stores!$A:$B,2,FALSE)","v":"SULL"},"2014-05",{"$f":"VLOOKUP($Q1508,Stores!$A:$D,4,FALSE)","v":"Open"},{"$f":"VLOOKUP(Q1508,Stores!$A:$C,3,FALSE)","v":"Naperville, IL"},5946,1.0931718802556341]
["8543 - Lincolnshire, IL - Sullivan's","",52,0,0,64,64,56,60,56,44,88,28,0,22,25,8543,5,2014,{"$f":"VLOOKUP(Q1509,Stores!$A:$B,2,FALSE)","v":"SULL"},"2014-05",{"$f":"VLOOKUP($Q1509,Stores!$A:$D,4,FALSE)","v":"Open"},{"$f":"VLOOKUP(Q1509,Stores!$A:$C,3,FALSE)","v":"Lincolnshire, IL"},4080,0.61274509803921573]
["8551 - Baton Rouge, LA - Sullivan's","",91.3,98,0,97.1,97.6,94.2,94.2,94.7,90.9,89.4,1.9,1,158,208,8551,5,2014,{"$f":"VLOOKUP(Q1510,Stores!$A:$B,2,FALSE)","v":"SULL"},"2014-05",{"$f":"VLOOKUP($Q1510,Stores!$A:$D,4,FALSE)","v":"Open"},{"$f":"VLOOKUP(Q1510,Stores!$A:$C,3,FALSE)","v":"Baton Rouge, LA"},6579,3.1615747074023406]
["8561 - Raleigh, NC - Sullivan's","",74.599999999999994,84.6,0,82.5,92.1,81,82.5,77.8,61.9,66.7,9.5,0,50,63,8561,5,2014,{"$f":"VLOOKUP(Q1511,Stores!$A:$B,2,FALSE)","v":"SULL"},"2014-05",{"$f":"VLOOKUP($Q1511,Stores!$A:$D,4,FALSE)","v":"Open"},{"$f":"VLOOKUP(Q1511,Stores!$A:$C,3,FALSE)","v":"Raleigh, NC"},7217,0.87293889427740057]
["8562 - Charlotte, NC - Sullivan's","",65,100,0,65,70,70,70,50,50,45,25,2,17,20,8562,5,2014,{"$f":"VLOOKUP(Q1512,Stores!$A:$B,2,FALSE)","v":"SULL"},"2014-05",{"$f":"VLOOKUP($Q1512,Stores!$A:$D,4,FALSE)","v":"Open"},{"$f":"VLOOKUP(Q1512,Stores!$A:$C,3,FALSE)","v":"Charlotte, NC"},5327,0.37544584193730052]
["8570 - Palm Desert, CA - Sullivan's","",78.900000000000006,100,0,92.1,97.4,86.8,73.7,84.2,65.8,97.4,5.3,0,31,38,8570,5,2014,{"$f":"VLOOKUP(Q1513,Stores!$A:$B,2,FALSE)","v":"SULL"},"2014-05",{"$f":"VLOOKUP($Q1513,Stores!$A:$D,4,FALSE)","v":"Open"},{"$f":"VLOOKUP(Q1513,Stores!$A:$C,3,FALSE)","v":"Palm Desert, CA"},5503,0.69053243685262578]
["8591 - Anchorage, AK - Sullivan's","",81,100,0,85.7,95.2,85.7,76.2,85.7,76.2,90.5,9.5,0,16,21,8591,5,2014,{"$f":"VLOOKUP(Q1514,Stores!$A:$B,2,FALSE)","v":"SULL"},"2014-05",{"$f":"VLOOKUP($Q1514,Stores!$A:$D,4,FALSE)","v":"Open"},{"$f":"VLOOKUP(Q1514,Stores!$A:$C,3,FALSE)","v":"Anchorage, AK"},7038,0.29838022165387895]
["8602 - Fort Worth, TX - Del Frisco's","",74.5,83.3,0,84.4,90.1,75.900000000000006,82.3,81.599999999999994,58.2,73.8,7.8,0,102,141,8602,5,2014,{"$f":"VLOOKUP(Q1515,Stores!$A:$B,2,FALSE)","v":"DFDE"},"2014-05",{"$f":"VLOOKUP($Q1515,Stores!$A:$D,4,FALSE)","v":"Open"},{"$f":"VLOOKUP(Q1515,Stores!$A:$C,3,FALSE)","v":"Fort Worth, TX"},7317,1.9270192701927018]
["8603 - Denver, CO - Del Frisco's","",79.2,82.8,0,81.099999999999994,88.7,75.5,80.2,73.599999999999994,46.2,75.5,5.7,0,77,106,8603,5,2014,{"$f":"VLOOKUP(Q1516,Stores!$A:$B,2,FALSE)","v":"DFDE"},"2014-05",{"$f":"VLOOKUP($Q1516,Stores!$A:$D,4,FALSE)","v":"Open"},{"$f":"VLOOKUP(Q1516,Stores!$A:$C,3,FALSE)","v":"Denver, CO"},9830,1.0783316378433367]
["8604 - Charlotte, NC - Del Frisco's","",73.400000000000006,94.1,0,75,84.4,71.900000000000006,78.099999999999994,82.8,60.2,62.5,9.4,2,91,128,8604,5,2014,{"$f":"VLOOKUP(Q1517,Stores!$A:$B,2,FALSE)","v":"DFDE"},"2014-05",{"$f":"VLOOKUP($Q1517,Stores!$A:$D,4,FALSE)","v":"Open"},{"$f":"VLOOKUP(Q1517,Stores!$A:$C,3,FALSE)","v":"Charlotte, NC"},7202,1.777284087753402]
["8605 - Houston, TX - Del Frisco's","",66,100,0,75.5,84.9,75.5,77.400000000000006,75.5,58.5,77.400000000000006,13.2,0,41,53,8605,5,2014,{"$f":"VLOOKUP(Q1518,Stores!$A:$B,2,FALSE)","v":"DFDE"},"2014-05",{"$f":"VLOOKUP($Q1518,Stores!$A:$D,4,FALSE)","v":"Open"},{"$f":"VLOOKUP(Q1518,Stores!$A:$C,3,FALSE)","v":"Houston, TX"},7711,0.68732978861366878]
["8610 - Dallas, TX - Del Frisco's","",81.099999999999994,92.3,0,83,88.7,73.599999999999994,84.9,81.099999999999994,52.8,52.8,5.7,2,26,53,8610,5,2014,{"$f":"VLOOKUP(Q1519,Stores!$A:$B,2,FALSE)","v":"DFDE"},"2014-05",{"$f":"VLOOKUP($Q1519,Stores!$A:$D,4,FALSE)","v":"Open"},{"$f":"VLOOKUP(Q1519,Stores!$A:$C,3,FALSE)","v":"Dallas, TX"},9539,0.55561379599538741]
["8611 - Plano, TX - Del Frisco","",60.8,50,0,77,86.5,62.2,58.1,74.3,40.5,81.099999999999994,12.2,0,52,74,8611,5,2014,{"$f":"VLOOKUP(Q1520,Stores!$A:$B,2,FALSE)","v":"DFDE"},"2014-05",{"$f":"VLOOKUP($Q1520,Stores!$A:$D,4,FALSE)","v":"Open"},{"$f":"VLOOKUP(Q1520,Stores!$A:$C,3,FALSE)","v":"Plano, TX"},3406,2.1726365237815619]
["8615 - Orlando, FL - Del Frisco’s","",87.3,85.7,0,94.5,94.5,89.1,83.6,89.1,65.5,83.6,5.5,0,42,55,8615,5,2014,{"$f":"VLOOKUP(Q1521,Stores!$A:$B,2,FALSE)","v":"DFDE"},"2014-05",{"$f":"VLOOKUP($Q1521,Stores!$A:$D,4,FALSE)","v":"Open"},{"$f":"VLOOKUP(Q1521,Stores!$A:$C,3,FALSE)","v":"Orlando, FL"},5662,0.9713882020487461]
["8620 - New York City, NY - Del Frisco's","",84.3,90.9,0,89.9,91.2,79.900000000000006,83.6,78.599999999999994,49.7,57.2,6.9,2,104,159,8620,5,2014,{"$f":"VLOOKUP(Q1522,Stores!$A:$B,2,FALSE)","v":"DFDE"},"2014-05",{"$f":"VLOOKUP($Q1522,Stores!$A:$D,4,FALSE)","v":"Open"},{"$f":"VLOOKUP(Q1522,Stores!$A:$C,3,FALSE)","v":"New York City, NY"},24305,0.65418638140300345]
["8635 - Boston, MA - Del Frisco's","",73.8,88.9,0,81.3,91.3,67.5,81.3,78.8,56.3,77.5,10,3,64,80,8635,5,2014,{"$f":"VLOOKUP(Q1523,Stores!$A:$B,2,FALSE)","v":"DFDE"},"2014-05",{"$f":"VLOOKUP($Q1523,Stores!$A:$D,4,FALSE)","v":"Open"},{"$f":"VLOOKUP(Q1523,Stores!$A:$C,3,FALSE)","v":"Boston, MA"},13251,0.60372802052675278]
["8640 - Las Vegas, NV - Del Frisco's","",76.5,94.7,0,86.8,91.2,76.5,82.4,80.900000000000006,66.2,61.8,2.9,0,47,68,8640,5,2014,{"$f":"VLOOKUP(Q1524,Stores!$A:$B,2,FALSE)","v":"DFDE"},"2014-05",{"$f":"VLOOKUP($Q1524,Stores!$A:$D,4,FALSE)","v":"Open"},{"$f":"VLOOKUP(Q1524,Stores!$A:$C,3,FALSE)","v":"Las Vegas, NV"},6552,1.0378510378510379]
["8650 - Chicago, IL - Del Frisco's","",73.099999999999994,60,0,80.8,88.5,80.8,80.8,73.099999999999994,65.400000000000006,96.2,7.7,0,20,26,8650,5,2014,{"$f":"VLOOKUP(Q1525,Stores!$A:$B,2,FALSE)","v":"DFDE"},"2014-05",{"$f":"VLOOKUP($Q1525,Stores!$A:$D,4,FALSE)","v":"Open"},{"$f":"VLOOKUP(Q1525,Stores!$A:$C,3,FALSE)","v":"Chicago, IL"},4269,0.60904193019442499]
["8655 - Washington, DC -  Del Frisco's","",63.3,76.900000000000006,0,65,75,61.7,83.3,78.3,61.7,61.7,13.3,1,43,60,8655,5,2014,{"$f":"VLOOKUP(Q1526,Stores!$A:$B,2,FALSE)","v":"DFDE"},"2014-05",{"$f":"VLOOKUP($Q1526,Stores!$A:$D,4,FALSE)","v":"Open"},{"$f":"VLOOKUP(Q1526,Stores!$A:$C,3,FALSE)","v":"Washington, DC"},10456,0.57383320581484309]
["8680 - Philadelphia, PA - Del Frisco's","",72.2,70.2,0,79.900000000000006,81.3,66.7,80.599999999999994,79.2,45.8,70.099999999999994,11.1,1,86,144,8680,5,2014,{"$f":"VLOOKUP(Q1527,Stores!$A:$B,2,FALSE)","v":"DFDE"},"2014-05",{"$f":"VLOOKUP($Q1527,Stores!$A:$D,4,FALSE)","v":"Open"},{"$f":"VLOOKUP(Q1527,Stores!$A:$C,3,FALSE)","v":"Philadelphia, PA"},14781,0.97422366551654149]
["8701 - New York City, NY - Grille","",86.4,78.3,0,83.1,89.8,89.8,88.1,84.7,76.3,79.7,1.7,0,39,59,8701,5,2014,{"$f":"VLOOKUP(Q1528,Stores!$A:$B,2,FALSE)","v":"DFG"},"2014-05",{"$f":"VLOOKUP($Q1528,Stores!$A:$D,4,FALSE)","v":"Open"},{"$f":"VLOOKUP(Q1528,Stores!$A:$C,3,FALSE)","v":"New York City, NY"},11790,0.50042408821034767]
["8702 - Dallas, TX - Grille","",66.7,100,0,77.8,83.3,77.8,72.2,77.8,66.7,55.6,11.1,0,11,18,8702,5,2014,{"$f":"VLOOKUP(Q1529,Stores!$A:$B,2,FALSE)","v":"DFG"},"2014-05",{"$f":"VLOOKUP($Q1529,Stores!$A:$D,4,FALSE)","v":"Open"},{"$f":"VLOOKUP(Q1529,Stores!$A:$C,3,FALSE)","v":"Dallas, TX"},7039,0.25571814178150304]
["8703 - Washington, DC - Grille","",60,75,0,65,70,55,65,60,45,35,10,1,17,20,8703,5,2014,{"$f":"VLOOKUP(Q1530,Stores!$A:$B,2,FALSE)","v":"DFG"},"2014-05",{"$f":"VLOOKUP($Q1530,Stores!$A:$D,4,FALSE)","v":"Open"},{"$f":"VLOOKUP(Q1530,Stores!$A:$C,3,FALSE)","v":"Washington, DC"},8283,0.24145840878908609]
["8706 - Atlanta, GA - Grille","",97.2,98.6,0,97.5,97.8,96.6,97.2,96.9,95.9,91.2,1.3,0,261,319,8706,5,2014,{"$f":"VLOOKUP(Q1531,Stores!$A:$B,2,FALSE)","v":"DFG"},"2014-05",{"$f":"VLOOKUP($Q1531,Stores!$A:$D,4,FALSE)","v":"Open"},{"$f":"VLOOKUP(Q1531,Stores!$A:$C,3,FALSE)","v":"Atlanta, GA"},9327,3.4201779779135846]
["8707 - River Oaks, TX - Grille","",73.3,50,0,83.3,83.3,70,83.3,80,63.3,66.7,13.3,1,23,30,8707,5,2014,{"$f":"VLOOKUP(Q1532,Stores!$A:$B,2,FALSE)","v":"DFG"},"2014-05",{"$f":"VLOOKUP($Q1532,Stores!$A:$D,4,FALSE)","v":"Open"},{"$f":"VLOOKUP(Q1532,Stores!$A:$C,3,FALSE)","v":"Houston, TX"},5708,0.5255781359495445]
["8708 - Chestnut Hill, MA - Grille","",64,66.7,0,72,80,64,76,72,48,48,16,1,19,25,8708,5,2014,{"$f":"VLOOKUP(Q1533,Stores!$A:$B,2,FALSE)","v":"DFG"},"2014-05",{"$f":"VLOOKUP($Q1533,Stores!$A:$D,4,FALSE)","v":"Open"},{"$f":"VLOOKUP(Q1533,Stores!$A:$C,3,FALSE)","v":"Chestnut Hill, MA"},7003,0.35698986148793371]
["8709 - Santa Monica, CA - Grille","",73.3,100,0,60,80,60,66.7,66.7,60,26.7,6.7,0,12,15,8709,5,2014,{"$f":"VLOOKUP(Q1534,Stores!$A:$B,2,FALSE)","v":"DFG"},"2014-05",{"$f":"VLOOKUP($Q1534,Stores!$A:$D,4,FALSE)","v":"Open"},{"$f":"VLOOKUP(Q1534,Stores!$A:$C,3,FALSE)","v":"Santa Monica, CA"},15454,9.706224925585609E-2]
["8710 - Fort Worth, TX - Grille","",62.7,81.8,0,66.7,68.599999999999994,60.8,68.599999999999994,66.7,43.1,41.2,17.600000000000001,2,34,51,8710,5,2014,{"$f":"VLOOKUP(Q1535,Stores!$A:$B,2,FALSE)","v":"DFG"},"2014-05",{"$f":"VLOOKUP($Q1535,Stores!$A:$D,4,FALSE)","v":"Open"},{"$f":"VLOOKUP(Q1535,Stores!$A:$C,3,FALSE)","v":"Fort Worth, TX"},14375,0.35478260869565215]
["8711 – Cherry Creek, CO - Grille","",86.5,96.3,0,80.8,90.4,84.6,86.5,84.6,73.099999999999994,65.400000000000006,1.9,0,34,52,8711,5,2014,{"$f":"VLOOKUP(Q1536,Stores!$A:$B,2,FALSE)","v":"DFG"},"2014-05",{"$f":"VLOOKUP($Q1536,Stores!$A:$D,4,FALSE)","v":"Open"},{"$f":"VLOOKUP(Q1536,Stores!$A:$C,3,FALSE)","v":"Cherry Creek, CO"},7510,0.69241011984021306]
["8712 - Southlake, TX - Grille","",75,88.9,0,85.9,84.4,81.3,82.8,75,59.4,73.400000000000006,6.3,0,40,64,8712,5,2014,{"$f":"VLOOKUP(Q1537,Stores!$A:$B,2,FALSE)","v":"DFG"},"2014-05",{"$f":"VLOOKUP($Q1537,Stores!$A:$D,4,FALSE)","v":"Open"},{"$f":"VLOOKUP(Q1537,Stores!$A:$C,3,FALSE)","v":"Southlake, TX"},13688,0.46756282875511396]
["8713 - Burlington, MA - Grille",41794,89.5,85.7,0,93,87.7,89.5,89.5,87.7,73.7,42.1,5.3,0,37,57,8713,5,2014,{"$f":"VLOOKUP(Q1538,Stores!$A:$B,2,FALSE)","v":"DFG"},"2014-05",{"$f":"VLOOKUP($Q1538,Stores!$A:$D,4,FALSE)","v":"Open"},{"$f":"VLOOKUP(Q1538,Stores!$A:$C,3,FALSE)","v":"Burlington, MA"},8379,0.68027210884353739]
["8714 - N Bethesda, MD - Grille",41908,55.6,100,0,63,63,63,55.6,59.3,48.1,59.3,22.2,2,20,27,8714,5,2014,{"$f":"VLOOKUP(Q1539,Stores!$A:$B,2,FALSE)","v":"DFG"},{"$f":"S1539&\"-\"&REPT(\"0\",2-LEN(R1539))&R1539","v":"2014-05"},{"$f":"VLOOKUP($Q1539,Stores!$A:$D,4,FALSE)","v":"Open"},{"$f":"VLOOKUP(Q1539,Stores!$A:$C,3,FALSE)","v":"N. Bethesda, MD"},6187,0.43639890092128658]
["8715 - Irvine, CA - Grille","",84.8,80,0,91.3,91.3,82.6,82.6,71.7,54.3,71.7,2.2000000000000002,0,30,46,8715,5,2014,{"$f":"VLOOKUP(Q1540,Stores!$A:$B,2,FALSE)","v":"DFG"},"2014-05",{"$f":"VLOOKUP($Q1540,Stores!$A:$D,4,FALSE)","v":"Open"},{"$f":"VLOOKUP(Q1540,Stores!$A:$C,3,FALSE)","v":"Irvine, CA"},7551,0.60919083565090715]
["8716 - Tampa, FL - Grille","",64.099999999999994,85.7,0,64.099999999999994,71.8,69.2,79.5,66.7,59,53.8,12.8,1,28,39,8716,5,2014,{"$f":"VLOOKUP(Q1541,Stores!$A:$B,2,FALSE)","v":"DFG"},"2014-05",{"$f":"VLOOKUP($Q1541,Stores!$A:$D,4,FALSE)","v":"Open"},{"$f":"VLOOKUP(Q1541,Stores!$A:$C,3,FALSE)","v":"Tampa, FL"},8504,0.45860771401693318]
["8717 - Pasadena, CA - Grille",41992,75.7,100,0,83.8,91.9,83.8,83.8,89.2,73,83.8,5.4,0,26,37,8717,5,2014,{"$f":"VLOOKUP(Q1542,Stores!$A:$B,2,FALSE)","v":"DFG"},"2014-05",{"$f":"VLOOKUP($Q1542,Stores!$A:$D,4,FALSE)","v":"Open"},{"$f":"VLOOKUP(Q1542,Stores!$A:$C,3,FALSE)","v":"Pasadena, CA"},5402,0.68493150684931503]
["8718 - Woodlands, TX - Grille","",70.099999999999994,77.3,0,74.7,81.599999999999994,70.099999999999994,65.5,72.400000000000006,48.3,77,11.5,2,65,87,8718,5,2014,{"$f":"VLOOKUP(Q1543,Stores!$A:$B,2,FALSE)","v":"DFG"},"2014-05",{"$f":"VLOOKUP($Q1543,Stores!$A:$D,4,FALSE)","v":"Open"},{"$f":"VLOOKUP(Q1543,Stores!$A:$C,3,FALSE)","v":"Woodlands, TX"},11136,0.78125]
["8720 - Little Rock, AR - Grille","",42.9,50,0,52.4,57.1,42.9,47.6,71.400000000000006,28.6,81,28.6,2,17,21,8720,5,2014,{"$f":"VLOOKUP(Q1544,Stores!$A:$B,2,FALSE)","v":"DFG"},"2014-05",{"$f":"VLOOKUP($Q1544,Stores!$A:$D,4,FALSE)","v":"Open"},{"$f":"VLOOKUP(Q1544,Stores!$A:$C,3,FALSE)","v":"Little Rock, AR"},5656,0.37128712871287128]
["8721 - Plano, TX - Grille","",81,85.7,0,75.900000000000006,89.7,75.900000000000006,82.8,74.099999999999994,62.1,74.099999999999994,6.9,2,44,58,8721,5,2014,{"$f":"VLOOKUP(Q1545,Stores!$A:$B,2,FALSE)","v":"DFG"},"2014-05",{"$f":"VLOOKUP($Q1545,Stores!$A:$D,4,FALSE)","v":"Open"},{"$f":"VLOOKUP(Q1545,Stores!$A:$C,3,FALSE)","v":"Plano, TX"},11356,0.51074321944346601]
["8722 – Stamford, CT - Grille","",72.2,100,0,72.2,77.8,77.8,72.2,72.2,38.9,77.8,11.1,1,13,18,8722,5,2014,{"$f":"VLOOKUP(Q1546,Stores!$A:$B,2,FALSE)","v":"DFG"},"2014-05",{"$f":"VLOOKUP($Q1546,Stores!$A:$D,4,FALSE)","v":"Open"},{"$f":"VLOOKUP(Q1546,Stores!$A:$C,3,FALSE)","v":"Stamford, CT"},5275,0.34123222748815168]
["8723 – Hoboken, NJ - Grille","",81.099999999999994,100,0,81.099999999999994,91.9,75.7,73,75.7,67.599999999999994,45.9,2.7,0,26,37,8723,5,2014,{"$f":"VLOOKUP(Q1547,Stores!$A:$B,2,FALSE)","v":"DFG"},"2014-05",{"$f":"VLOOKUP($Q1547,Stores!$A:$D,4,FALSE)","v":"Open"},{"$f":"VLOOKUP(Q1547,Stores!$A:$C,3,FALSE)","v":"Hoboken, NJ"},10979,0.33700701338919753]
["8724 - Huntington, NY - Grille","",70.5,66.7,0,77,85.2,72.099999999999994,59,72.099999999999994,52.5,88.5,4.9000000000000004,2,47,61,8724,5,2014,{"$f":"VLOOKUP(Q1548,Stores!$A:$B,2,FALSE)","v":"DFG"},"2014-05",{"$f":"VLOOKUP($Q1548,Stores!$A:$D,4,FALSE)","v":"Open"},{"$f":"VLOOKUP(Q1548,Stores!$A:$C,3,FALSE)","v":"Huntington, NY"},9865,0.61834769386720723]
["8725 - Nashville, TN - Grille","",57.5,64.3,0,70,80,75,75,67.5,57.5,72.5,10,2,23,40,8725,5,2014,{"$f":"VLOOKUP(Q1549,Stores!$A:$B,2,FALSE)","v":"DFG"},"2014-05",{"$f":"VLOOKUP($Q1549,Stores!$A:$D,4,FALSE)","v":"Open"},{"$f":"VLOOKUP(Q1549,Stores!$A:$C,3,FALSE)","v":"Nashville, TN"},8004,0.49975012493753118]
["8726 - Brentwood, TN - Grille",42693,83,80,0,84.1,88.6,85.2,81.8,86.4,60.2,68.2,8,1,69,88,8726,5,2014,{"$f":"VLOOKUP(Q1550,Stores!$A:$B,2,FALSE)","v":"DFG"},"2014-05",{"$f":"VLOOKUP($Q1550,Stores!$A:$D,4,FALSE)","v":"Open"},{"$f":"VLOOKUP(Q1550,Stores!$A:$C,3,FALSE)","v":"Brentwood, TN"},11612,0.75783672063382701]
["8501 - Austin, TX - Sullivan's","",75,0,75,75,85,80,75,75,50,85,10,0,14,20,8501,6,2014,{"$f":"VLOOKUP(Q1551,Stores!$A:$B,2,FALSE)","v":"SULL"},"2014-06",{"$f":"VLOOKUP($Q1551,Stores!$A:$D,4,FALSE)","v":"Open"},{"$f":"VLOOKUP(Q1551,Stores!$A:$C,3,FALSE)","v":"Austin, TX"},4528,{"$f":"P1551/(X1551/100)","v":0.44169611307420492}]
["8502 - Indianapolis, IN - Sullivan's","",68.5,0,59.3,79.599999999999994,83.3,70.400000000000006,68.5,66.7,37,77.8,9.3000000000000007,0,37,54,8502,6,2014,{"$f":"VLOOKUP(Q1552,Stores!$A:$B,2,FALSE)","v":"SULL"},"2014-06",{"$f":"VLOOKUP($Q1552,Stores!$A:$D,4,FALSE)","v":"Open"},{"$f":"VLOOKUP(Q1552,Stores!$A:$C,3,FALSE)","v":"Indianapolis, IN"},6287,0.85891522188643232]
["8504 - Houston, TX - Sullivan's","",76.900000000000006,0,61.5,69.2,76.900000000000006,84.6,84.6,84.6,61.5,61.5,15.4,0,10,13,8504,6,2014,{"$f":"VLOOKUP(Q1553,Stores!$A:$B,2,FALSE)","v":"SULL"},"2014-06",{"$f":"VLOOKUP($Q1553,Stores!$A:$D,4,FALSE)","v":"Closed"},{"$f":"VLOOKUP(Q1553,Stores!$A:$C,3,FALSE)","v":"Houston, TX"},1303,0.9976976208749041]
["8510 - Wilmington, DE - Sullivan's","",76.5,0,74.5,76.5,88.2,80.400000000000006,82.4,78.400000000000006,45.1,62.7,0,0,40,51,8510,6,2014,{"$f":"VLOOKUP(Q1554,Stores!$A:$B,2,FALSE)","v":"SULL"},"2014-06",{"$f":"VLOOKUP($Q1554,Stores!$A:$D,4,FALSE)","v":"Open"},{"$f":"VLOOKUP(Q1554,Stores!$A:$C,3,FALSE)","v":"Wilmington, DE"},5702,0.89442300947036124]
["8522 - King of Prussia, PA - Sullivan's","",62.5,0,40,70,77.5,65,60,57.5,40,67.5,17.5,2,29,40,8522,6,2014,{"$f":"VLOOKUP(Q1555,Stores!$A:$B,2,FALSE)","v":"SULL"},"2014-06",{"$f":"VLOOKUP($Q1555,Stores!$A:$D,4,FALSE)","v":"Open"},{"$f":"VLOOKUP(Q1555,Stores!$A:$C,3,FALSE)","v":"King of Prussia, PA"},4661,0.85818493885432312]
["8525 - Tucson, AZ - Sullivan's","",91.7,0,91.7,91.7,87.5,91.7,87.5,79.2,70.8,95.8,4.2,0,19,24,8525,6,2014,{"$f":"VLOOKUP(Q1556,Stores!$A:$B,2,FALSE)","v":"SULL"},"2014-06",{"$f":"VLOOKUP($Q1556,Stores!$A:$D,4,FALSE)","v":"Open"},{"$f":"VLOOKUP(Q1556,Stores!$A:$C,3,FALSE)","v":"Tucson, AZ"},2754,0.8714596949891068]
["8532 - Omaha, NE - Sullivan's","",77.8,0,83.3,88.9,88.9,77.8,77.8,72.2,55.6,50,11.1,0,15,18,8532,6,2014,{"$f":"VLOOKUP(Q1557,Stores!$A:$B,2,FALSE)","v":"SULL"},"2014-06",{"$f":"VLOOKUP($Q1557,Stores!$A:$D,4,FALSE)","v":"Open"},{"$f":"VLOOKUP(Q1557,Stores!$A:$C,3,FALSE)","v":"Omaha, NE"},3266,0.55113288426209439]
["8535 - Baltimore, MD - Sullivan's","",80.599999999999994,0,80.599999999999994,83.3,77.8,86.1,83.3,77.8,72.2,58.3,8.3000000000000007,1,26,36,8535,6,2014,{"$f":"VLOOKUP(Q1558,Stores!$A:$B,2,FALSE)","v":"SULL"},"2014-06",{"$f":"VLOOKUP($Q1558,Stores!$A:$D,4,FALSE)","v":"Open"},{"$f":"VLOOKUP(Q1558,Stores!$A:$C,3,FALSE)","v":"Baltimore, MD"},3797,0.94811693442191203]
["8536 - Leawood, KS - Sullivan's","",86.4,0,90.9,90.9,90.9,86.4,90.9,86.4,72.7,86.4,4.5,0,17,22,8536,6,2014,{"$f":"VLOOKUP(Q1559,Stores!$A:$B,2,FALSE)","v":"SULL"},"2014-06",{"$f":"VLOOKUP($Q1559,Stores!$A:$D,4,FALSE)","v":"Open"},{"$f":"VLOOKUP(Q1559,Stores!$A:$C,3,FALSE)","v":"Leawood, KS"},3778,0.58231868713605084]
["8541 - Chicago, IL - Sullivan's","",90.9,0,81.8,90.9,100,95.5,81.8,90.9,72.7,86.4,0,0,15,22,8541,6,2014,{"$f":"VLOOKUP(Q1560,Stores!$A:$B,2,FALSE)","v":"SULL"},"2014-06",{"$f":"VLOOKUP($Q1560,Stores!$A:$D,4,FALSE)","v":"Open"},{"$f":"VLOOKUP(Q1560,Stores!$A:$C,3,FALSE)","v":"Chicago, IL"},3212,0.68493150684931514]
["8542 - Naperville, IL - Sullivan's","",66.2,0,50.8,72.3,83.1,73.8,66.2,66.2,49.2,70.8,6.2,0,49,65,8542,6,2014,{"$f":"VLOOKUP(Q1561,Stores!$A:$B,2,FALSE)","v":"SULL"},"2014-06",{"$f":"VLOOKUP($Q1561,Stores!$A:$D,4,FALSE)","v":"Open"},{"$f":"VLOOKUP(Q1561,Stores!$A:$C,3,FALSE)","v":"Naperville, IL"},5650,1.1504424778761062]
["8543 - Lincolnshire, IL - Sullivan's","",85,0,70,85,85,80,85,65,60,90,10,0,16,20,8543,6,2014,{"$f":"VLOOKUP(Q1562,Stores!$A:$B,2,FALSE)","v":"SULL"},"2014-06",{"$f":"VLOOKUP($Q1562,Stores!$A:$D,4,FALSE)","v":"Open"},{"$f":"VLOOKUP(Q1562,Stores!$A:$C,3,FALSE)","v":"Lincolnshire, IL"},3792,0.52742616033755274]
["8551 - Baton Rouge, LA - Sullivan's","",86.2,0,86.2,92,92,83.9,86.2,89.7,66.7,90.8,4.5999999999999996,0,67,87,{"$f":"MID(A1563,1,4)*1","v":8551},6,2014,{"$f":"VLOOKUP(Q1563,Stores!$A:$B,2,FALSE)","v":"SULL"},"2014-06",{"$f":"VLOOKUP($Q1563,Stores!$A:$D,4,FALSE)","v":"Open"},{"$f":"VLOOKUP(Q1563,Stores!$A:$C,3,FALSE)","v":"Baton Rouge, LA"},4592,1.8945993031358885]
["8561 - Raleigh, NC - Sullivan's","",71.400000000000006,0,78.599999999999994,78.599999999999994,83.9,66.099999999999994,82.1,64.3,50,64.3,5.4,0,37,56,8561,6,2014,{"$f":"VLOOKUP(Q1564,Stores!$A:$B,2,FALSE)","v":"SULL"},"2014-06",{"$f":"VLOOKUP($Q1564,Stores!$A:$D,4,FALSE)","v":"Open"},{"$f":"VLOOKUP(Q1564,Stores!$A:$C,3,FALSE)","v":"Raleigh, NC"},6241,0.89729210062489995]
["8562 - Charlotte, NC - Sullivan's","",54.5,0,27.3,50,68.2,68.2,63.6,50,31.8,68.2,27.3,4,15,22,8562,6,2014,{"$f":"VLOOKUP(Q1565,Stores!$A:$B,2,FALSE)","v":"SULL"},"2014-06",{"$f":"VLOOKUP($Q1565,Stores!$A:$D,4,FALSE)","v":"Open"},{"$f":"VLOOKUP(Q1565,Stores!$A:$C,3,FALSE)","v":"Charlotte, NC"},3593,0.61230169774561649]
["8570 - Palm Desert, CA - Sullivan's","",71.900000000000006,0,66.7,87.7,89.5,82.5,68.400000000000006,73.7,64.900000000000006,82.5,3.5,1,39,57,8570,6,2014,{"$f":"VLOOKUP(Q1566,Stores!$A:$B,2,FALSE)","v":"SULL"},"2014-06",{"$f":"VLOOKUP($Q1566,Stores!$A:$D,4,FALSE)","v":"Open"},{"$f":"VLOOKUP(Q1566,Stores!$A:$C,3,FALSE)","v":"Palm Desert, CA"},5416,1.052437223042836]
["8591 - Anchorage, AK - Sullivan's","",78.3,0,60.9,78.3,78.3,65.2,78.3,65.2,69.599999999999994,82.6,13,1,15,23,8591,6,2014,{"$f":"VLOOKUP(Q1567,Stores!$A:$B,2,FALSE)","v":"SULL"},"2014-06",{"$f":"VLOOKUP($Q1567,Stores!$A:$D,4,FALSE)","v":"Open"},{"$f":"VLOOKUP(Q1567,Stores!$A:$C,3,FALSE)","v":"Anchorage, AK"},5835,0.39417309340188517]
["8602 - Fort Worth, TX - Del Frisco's","",82.8,0,78.400000000000006,87.1,91.4,84.5,81.900000000000006,83.6,56.9,80.2,5.2,0,70,116,8602,6,2014,{"$f":"VLOOKUP(Q1568,Stores!$A:$B,2,FALSE)","v":"DFDE"},"2014-06",{"$f":"VLOOKUP($Q1568,Stores!$A:$D,4,FALSE)","v":"Open"},{"$f":"VLOOKUP(Q1568,Stores!$A:$C,3,FALSE)","v":"Fort Worth, TX"},6511,1.7816003686069728]
["8603 - Denver, CO - Del Frisco's","",83.6,0,84.4,87.5,92.2,86.7,86.7,85.2,68.8,70.3,3.1,0,97,128,8603,6,2014,{"$f":"VLOOKUP(Q1569,Stores!$A:$B,2,FALSE)","v":"DFDE"},"2014-06",{"$f":"VLOOKUP($Q1569,Stores!$A:$D,4,FALSE)","v":"Open"},{"$f":"VLOOKUP(Q1569,Stores!$A:$C,3,FALSE)","v":"Denver, CO"},8548,1.4974262985493683]
["8604 - Charlotte, NC - Del Frisco's","",81.7,0,70.400000000000006,87.3,88.7,74.599999999999994,78.900000000000006,84.5,50.7,63.4,2.8,0,47,71,8604,6,2014,{"$f":"VLOOKUP(Q1570,Stores!$A:$B,2,FALSE)","v":"DFDE"},"2014-06",{"$f":"VLOOKUP($Q1570,Stores!$A:$D,4,FALSE)","v":"Open"},{"$f":"VLOOKUP(Q1570,Stores!$A:$C,3,FALSE)","v":"Charlotte, NC"},4854,1.4627111660486196]
["8605 - Houston, TX - Del Frisco's","",70,0,56,80,78,80,74,78,46,66,12,0,32,50,8605,6,2014,{"$f":"VLOOKUP(Q1571,Stores!$A:$B,2,FALSE)","v":"DFDE"},"2014-06",{"$f":"VLOOKUP($Q1571,Stores!$A:$D,4,FALSE)","v":"Open"},{"$f":"VLOOKUP(Q1571,Stores!$A:$C,3,FALSE)","v":"Houston, TX"},5719,0.87427872005595386]
["8610 - Dallas, TX - Del Frisco's","",78.400000000000006,0,81.099999999999994,81.099999999999994,86.5,81.099999999999994,81.099999999999994,91.9,59.5,78.400000000000006,10.8,1,25,37,8610,6,2014,{"$f":"VLOOKUP(Q1572,Stores!$A:$B,2,FALSE)","v":"DFDE"},"2014-06",{"$f":"VLOOKUP($Q1572,Stores!$A:$D,4,FALSE)","v":"Open"},{"$f":"VLOOKUP(Q1572,Stores!$A:$C,3,FALSE)","v":"Dallas, TX"},7863,0.47055831107719703]
["8611 - Plano, TX - Del Frisco","",62.4,0,56,75.2,84.4,64.2,69.7,76.099999999999994,45.9,71.599999999999994,13.8,9,84,109,8611,6,2014,{"$f":"VLOOKUP(Q1573,Stores!$A:$B,2,FALSE)","v":"DFDE"},"2014-06",{"$f":"VLOOKUP($Q1573,Stores!$A:$D,4,FALSE)","v":"Open"},{"$f":"VLOOKUP(Q1573,Stores!$A:$C,3,FALSE)","v":"Plano, TX"},7199,1.5140991804417281]
["8615 - Orlando, FL - Del Frisco’s","",84.4,0,84.4,88.9,93.3,84.4,95.6,88.9,73.3,64.400000000000006,2.2000000000000002,0,29,45,8615,6,2014,{"$f":"VLOOKUP(Q1574,Stores!$A:$B,2,FALSE)","v":"DFDE"},"2014-06",{"$f":"VLOOKUP($Q1574,Stores!$A:$D,4,FALSE)","v":"Open"},{"$f":"VLOOKUP(Q1574,Stores!$A:$C,3,FALSE)","v":"Orlando, FL"},4427,1.016489722159476]
["8620 - New York City, NY - Del Frisco's","",75.5,0,74.099999999999994,81.599999999999994,85,74.8,83,78.900000000000006,48.3,51.7,6.8,1,99,147,8620,6,2014,{"$f":"VLOOKUP(Q1575,Stores!$A:$B,2,FALSE)","v":"DFDE"},"2014-06",{"$f":"VLOOKUP($Q1575,Stores!$A:$D,4,FALSE)","v":"Open"},{"$f":"VLOOKUP(Q1575,Stores!$A:$C,3,FALSE)","v":"New York City, NY"},23192,0.63383925491548809]
["8635 - Boston, MA - Del Frisco's","",65.099999999999994,0,56.9,79.8,82.6,67,72.5,69.7,38.5,64.2,12.8,2,79,109,8635,6,2014,{"$f":"VLOOKUP(Q1576,Stores!$A:$B,2,FALSE)","v":"DFDE"},"2014-06",{"$f":"VLOOKUP($Q1576,Stores!$A:$D,4,FALSE)","v":"Open"},{"$f":"VLOOKUP(Q1576,Stores!$A:$C,3,FALSE)","v":"Boston, MA"},15155,0.71923457604750907]
["8640 - Las Vegas, NV - Del Frisco's","",69.8,0,66,71.7,81.099999999999994,71.7,79.2,67.900000000000006,56.6,67.900000000000006,9.4,0,39,53,8640,6,2014,{"$f":"VLOOKUP(Q1577,Stores!$A:$B,2,FALSE)","v":"DFDE"},"2014-06",{"$f":"VLOOKUP($Q1577,Stores!$A:$D,4,FALSE)","v":"Open"},{"$f":"VLOOKUP(Q1577,Stores!$A:$C,3,FALSE)","v":"Las Vegas, NV"},5519,0.96031889835115058]
["8650 - Chicago, IL - Del Frisco's","",81.8,0,81.8,81.8,86.4,68.2,81.8,86.4,50,95.5,9.1,0,18,22,8650,6,2014,{"$f":"VLOOKUP(Q1578,Stores!$A:$B,2,FALSE)","v":"DFDE"},"2014-06",{"$f":"VLOOKUP($Q1578,Stores!$A:$D,4,FALSE)","v":"Open"},{"$f":"VLOOKUP(Q1578,Stores!$A:$C,3,FALSE)","v":"Chicago, IL"},4064,0.54133858267716539]
["8655 - Washington, DC -  Del Frisco's","",79.2,0,60.4,71.7,81.099999999999994,81.099999999999994,83,83,71.7,66,15.1,1,39,53,8655,6,2014,{"$f":"VLOOKUP(Q1579,Stores!$A:$B,2,FALSE)","v":"DFDE"},"2014-06",{"$f":"VLOOKUP($Q1579,Stores!$A:$D,4,FALSE)","v":"Open"},{"$f":"VLOOKUP(Q1579,Stores!$A:$C,3,FALSE)","v":"Washington, DC"},9387,0.5646106317247257]
["8680 - Philadelphia, PA - Del Frisco's","",73.7,0,61.4,81.599999999999994,83.3,78.900000000000006,78.099999999999994,77.2,48.2,64.900000000000006,7,1,84,114,8680,6,2014,{"$f":"VLOOKUP(Q1580,Stores!$A:$B,2,FALSE)","v":"DFDE"},"2014-06",{"$f":"VLOOKUP($Q1580,Stores!$A:$D,4,FALSE)","v":"Open"},{"$f":"VLOOKUP(Q1580,Stores!$A:$C,3,FALSE)","v":"Philadelphia, PA"},12132,0.93966369930761628]
["8701 - New York City, NY - Grille","",88.1,0,85.7,90.5,95.2,90.5,85.7,81,71.400000000000006,73.8,0,0,30,42,8701,6,2014,{"$f":"VLOOKUP(Q1581,Stores!$A:$B,2,FALSE)","v":"DFG"},"2014-06",{"$f":"VLOOKUP($Q1581,Stores!$A:$D,4,FALSE)","v":"Open"},{"$f":"VLOOKUP(Q1581,Stores!$A:$C,3,FALSE)","v":"New York City, NY"},12129,0.34627751669552309]
["8702 - Dallas, TX - Grille","",91.7,0,83.3,100,83.3,83.3,83.3,91.7,66.7,50,0,0,8,12,8702,6,2014,{"$f":"VLOOKUP(Q1582,Stores!$A:$B,2,FALSE)","v":"DFG"},"2014-06",{"$f":"VLOOKUP($Q1582,Stores!$A:$D,4,FALSE)","v":"Open"},{"$f":"VLOOKUP(Q1582,Stores!$A:$C,3,FALSE)","v":"Dallas, TX"},5857,0.20488304592794945]
["8703 - Washington, DC - Grille","",70.8,0,66.7,79.2,83.3,62.5,66.7,66.7,54.2,45.8,8.3000000000000007,0,9,24,8703,6,2014,{"$f":"VLOOKUP(Q1583,Stores!$A:$B,2,FALSE)","v":"DFG"},"2014-06",{"$f":"VLOOKUP($Q1583,Stores!$A:$D,4,FALSE)","v":"Open"},{"$f":"VLOOKUP(Q1583,Stores!$A:$C,3,FALSE)","v":"Washington, DC"},6736,0.35629453681710216]
["8706 - Atlanta, GA - Grille","",88,0,80,88,92,92,88,96,88,52,0,0,17,25,8706,6,2014,{"$f":"VLOOKUP(Q1584,Stores!$A:$B,2,FALSE)","v":"DFG"},"2014-06",{"$f":"VLOOKUP($Q1584,Stores!$A:$D,4,FALSE)","v":"Open"},{"$f":"VLOOKUP(Q1584,Stores!$A:$C,3,FALSE)","v":"Atlanta, GA"},7774,0.32158476974530487]
["8707 - River Oaks, TX - Grille","",52.2,0,30.4,69.599999999999994,65.2,60.9,65.2,73.900000000000006,56.5,43.5,17.399999999999999,0,16,23,8707,6,2014,{"$f":"VLOOKUP(Q1585,Stores!$A:$B,2,FALSE)","v":"DFG"},"2014-06",{"$f":"VLOOKUP($Q1585,Stores!$A:$D,4,FALSE)","v":"Open"},{"$f":"VLOOKUP(Q1585,Stores!$A:$C,3,FALSE)","v":"Houston, TX"},5013,0.45880710153600635]
["8708 - Chestnut Hill, MA - Grille","",51.3,0,25.6,66.7,71.8,59,51.3,53.8,38.5,53.8,17.899999999999999,0,28,39,8708,6,2014,{"$f":"VLOOKUP(Q1586,Stores!$A:$B,2,FALSE)","v":"DFG"},"2014-06",{"$f":"VLOOKUP($Q1586,Stores!$A:$D,4,FALSE)","v":"Open"},{"$f":"VLOOKUP(Q1586,Stores!$A:$C,3,FALSE)","v":"Chestnut Hill, MA"},6942,0.5617977528089888]
["8709 - Santa Monica, CA - Grille","",80,0,70,70,90,60,90,60,60,50,10,0,8,10,8709,6,2014,{"$f":"VLOOKUP(Q1587,Stores!$A:$B,2,FALSE)","v":"DFG"},"2014-06",{"$f":"VLOOKUP($Q1587,Stores!$A:$D,4,FALSE)","v":"Open"},{"$f":"VLOOKUP(Q1587,Stores!$A:$C,3,FALSE)","v":"Santa Monica, CA"},15969,6.2621328824597658E-2]
["8710 - Fort Worth, TX - Grille","",58.5,0,41.5,75.400000000000006,76.900000000000006,67.7,64.599999999999994,66.2,47.7,46.2,16.899999999999999,5,46,65,8710,6,2014,{"$f":"VLOOKUP(Q1588,Stores!$A:$B,2,FALSE)","v":"DFG"},"2014-06",{"$f":"VLOOKUP($Q1588,Stores!$A:$D,4,FALSE)","v":"Open"},{"$f":"VLOOKUP(Q1588,Stores!$A:$C,3,FALSE)","v":"Fort Worth, TX"},12705,0.51160960251869347]
["8711 – Cherry Creek, CO - Grille","",79.2,0,75,83.3,100,83.3,91.7,83.3,75,70.8,4.2,0,19,24,8711,6,2014,{"$f":"VLOOKUP(Q1589,Stores!$A:$B,2,FALSE)","v":"DFG"},"2014-06",{"$f":"VLOOKUP($Q1589,Stores!$A:$D,4,FALSE)","v":"Open"},{"$f":"VLOOKUP(Q1589,Stores!$A:$C,3,FALSE)","v":"Cherry Creek, CO"},6938,0.34592101470164316]
["8712 - Southlake, TX - Grille","",69.599999999999994,0,71.7,73.900000000000006,87,73.900000000000006,73.900000000000006,73.900000000000006,54.3,67.400000000000006,10.9,0,35,46,8712,6,2014,{"$f":"VLOOKUP(Q1590,Stores!$A:$B,2,FALSE)","v":"DFG"},"2014-06",{"$f":"VLOOKUP($Q1590,Stores!$A:$D,4,FALSE)","v":"Open"},{"$f":"VLOOKUP(Q1590,Stores!$A:$C,3,FALSE)","v":"Southlake, TX"},12602,0.36502142517060787]
["8713 - Burlington, MA - Grille",41794,84.9,0,75.5,92.5,94.3,90.6,83,81.099999999999994,69.8,60.4,5.7,0,38,53,8713,6,2014,{"$f":"VLOOKUP(Q1591,Stores!$A:$B,2,FALSE)","v":"DFG"},"2014-06",{"$f":"VLOOKUP($Q1591,Stores!$A:$D,4,FALSE)","v":"Open"},{"$f":"VLOOKUP(Q1591,Stores!$A:$C,3,FALSE)","v":"Burlington, MA"},8026,0.66035384998754043]
["8714 - N Bethesda, MD - Grille",41908,73.3,0,70,86.7,86.7,80,80,66.7,43.3,66.7,6.7,0,20,30,8714,6,2014,{"$f":"VLOOKUP(Q1592,Stores!$A:$B,2,FALSE)","v":"DFG"},"2014-06",{"$f":"VLOOKUP($Q1592,Stores!$A:$D,4,FALSE)","v":"Open"},{"$f":"VLOOKUP(Q1592,Stores!$A:$C,3,FALSE)","v":"N. Bethesda, MD"},5677,0.52844812400915975]
["8715 - Irvine, CA - Grille","",86.2,0,86.2,82.8,82.8,79.3,86.2,72.400000000000006,75.900000000000006,58.6,3.4,0,23,29,8715,6,2014,{"$f":"VLOOKUP(Q1593,Stores!$A:$B,2,FALSE)","v":"DFG"},"2014-06",{"$f":"VLOOKUP($Q1593,Stores!$A:$D,4,FALSE)","v":"Open"},{"$f":"VLOOKUP(Q1593,Stores!$A:$C,3,FALSE)","v":"Irvine, CA"},6514,0.44519496469143383]
["8716 - Tampa, FL - Grille","",76.900000000000006,0,69.2,76.900000000000006,88.5,80.8,80.8,84.6,50,73.099999999999994,3.8,0,16,26,8716,6,2014,{"$f":"VLOOKUP(Q1594,Stores!$A:$B,2,FALSE)","v":"DFG"},"2014-06",{"$f":"VLOOKUP($Q1594,Stores!$A:$D,4,FALSE)","v":"Open"},{"$f":"VLOOKUP(Q1594,Stores!$A:$C,3,FALSE)","v":"Tampa, FL"},7431,0.34988561431839588]
["8717 - Pasadena, CA - Grille",41992,86.4,0,90.9,86.4,100,86.4,81.8,81.8,59.1,81.8,0,0,16,22,8717,6,2014,{"$f":"VLOOKUP(Q1595,Stores!$A:$B,2,FALSE)","v":"DFG"},"2014-06",{"$f":"VLOOKUP($Q1595,Stores!$A:$D,4,FALSE)","v":"Open"},{"$f":"VLOOKUP(Q1595,Stores!$A:$C,3,FALSE)","v":"Pasadena, CA"},4700,0.46808510638297873]
["8718 - Woodlands, TX - Grille","",77.400000000000006,0,67.900000000000006,71.7,83,77.400000000000006,83,81.099999999999994,52.8,77.400000000000006,11.3,0,36,53,8718,6,2014,{"$f":"VLOOKUP(Q1596,Stores!$A:$B,2,FALSE)","v":"DFG"},"2014-06",{"$f":"VLOOKUP($Q1596,Stores!$A:$D,4,FALSE)","v":"Open"},{"$f":"VLOOKUP(Q1596,Stores!$A:$C,3,FALSE)","v":"Woodlands, TX"},9077,0.583893356835959]
["8720 - Little Rock, AR - Grille","",73.7,0,63.2,81.599999999999994,86.8,76.3,73.7,78.900000000000006,60.5,68.400000000000006,7.9,0,32,38,8720,6,2014,{"$f":"VLOOKUP(Q1597,Stores!$A:$B,2,FALSE)","v":"DFG"},"2014-06",{"$f":"VLOOKUP($Q1597,Stores!$A:$D,4,FALSE)","v":"Open"},{"$f":"VLOOKUP(Q1597,Stores!$A:$C,3,FALSE)","v":"Little Rock, AR"},4534,0.83811204234671366]
["8721 - Plano, TX - Grille","",78.400000000000006,0,84.3,88.2,90.2,80.400000000000006,82.4,88.2,70.599999999999994,84.3,5.9,1,38,51,8721,6,2014,{"$f":"VLOOKUP(Q1598,Stores!$A:$B,2,FALSE)","v":"DFG"},"2014-06",{"$f":"VLOOKUP($Q1598,Stores!$A:$D,4,FALSE)","v":"Open"},{"$f":"VLOOKUP(Q1598,Stores!$A:$C,3,FALSE)","v":"Plano, TX"},10690,0.47708138447146864]
["8722 – Stamford, CT - Grille","",84.6,0,84.6,100,100,100,84.6,84.6,61.5,92.3,0,0,10,13,8722,6,2014,{"$f":"VLOOKUP(Q1599,Stores!$A:$B,2,FALSE)","v":"DFG"},"2014-06",{"$f":"VLOOKUP($Q1599,Stores!$A:$D,4,FALSE)","v":"Open"},{"$f":"VLOOKUP(Q1599,Stores!$A:$C,3,FALSE)","v":"Stamford, CT"},4203,0.30930287889602665]
["8723 – Hoboken, NJ - Grille","",86.7,0,86.7,93.3,96.7,80,93.3,96.7,73.3,46.7,3.3,0,18,30,8723,6,2014,{"$f":"VLOOKUP(Q1600,Stores!$A:$B,2,FALSE)","v":"DFG"},"2014-06",{"$f":"VLOOKUP($Q1600,Stores!$A:$D,4,FALSE)","v":"Open"},{"$f":"VLOOKUP(Q1600,Stores!$A:$C,3,FALSE)","v":"Hoboken, NJ"},10631,0.28219358479917223]
["8724 - Huntington, NY - Grille","",77.8,0,80.599999999999994,91.7,94.4,86.1,83.3,80.599999999999994,55.6,80.599999999999994,5.6,0,24,36,8724,6,2014,{"$f":"VLOOKUP(Q1601,Stores!$A:$B,2,FALSE)","v":"DFG"},"2014-06",{"$f":"VLOOKUP($Q1601,Stores!$A:$D,4,FALSE)","v":"Open"},{"$f":"VLOOKUP(Q1601,Stores!$A:$C,3,FALSE)","v":"Huntington, NY"},8897,0.40463077441834328]
["8725 - Nashville, TN - Grille","",77.099999999999994,0,57.1,80,80,77.099999999999994,74.3,74.3,60,65.7,22.9,1,29,35,8725,6,2014,{"$f":"VLOOKUP(Q1602,Stores!$A:$B,2,FALSE)","v":"DFG"},"2014-06",{"$f":"VLOOKUP($Q1602,Stores!$A:$D,4,FALSE)","v":"Open"},{"$f":"VLOOKUP(Q1602,Stores!$A:$C,3,FALSE)","v":"Nashville, TN"},6515,0.5372217958557175]
["8726 - Brentwood, TN - Grille",42693,64.400000000000006,0,57.8,62.2,68.900000000000006,71.099999999999994,77.8,71.099999999999994,42.2,55.6,11.1,1,24,45,8726,6,2014,{"$f":"VLOOKUP(Q1603,Stores!$A:$B,2,FALSE)","v":"DFG"},{"$f":"S1603&\"-\"&REPT(\"0\",2-LEN(R1603))&R1603","v":"2014-06"},{"$f":"VLOOKUP($Q1603,Stores!$A:$D,4,FALSE)","v":"Open"},{"$f":"VLOOKUP(Q1603,Stores!$A:$C,3,FALSE)","v":"Brentwood, TN"},10238,0.43953897245555773]
["8501 - Austin, TX - Sullivan's","",52.6,"",15.8,57.9,68.400000000000006,52.6,47.4,57.9,47.4,78.900000000000006,26.3,0,12,19,8501,7,2014,{"$f":"VLOOKUP(Q1604,Stores!$A:$B,2,FALSE)","v":"SULL"},"2014-07",{"$f":"VLOOKUP($Q1604,Stores!$A:$D,4,FALSE)","v":"Open"},{"$f":"VLOOKUP(Q1604,Stores!$A:$C,3,FALSE)","v":"Austin, TX"},3895,{"$f":"P1604/(X1604/100)","v":0.48780487804878048}]
["8502 - Indianapolis, IN - Sullivan's","",72.3,"",74.5,85.1,80.900000000000006,80.900000000000006,80.900000000000006,85.1,53.2,85.1,6.4,0,34,47,{"$f":"MID(A1605,1,4)*1","v":8502},7,2014,{"$f":"VLOOKUP(Q1605,Stores!$A:$B,2,FALSE)","v":"SULL"},"2014-07",{"$f":"VLOOKUP($Q1605,Stores!$A:$D,4,FALSE)","v":"Open"},{"$f":"VLOOKUP(Q1605,Stores!$A:$C,3,FALSE)","v":"Indianapolis, IN"},6095,{"$f":"P1605/(X1605/100)","v":0.77112387202625099}]
["8510 - Wilmington, DE - Sullivan's","",68.400000000000006,"",66.7,86,82.5,75.400000000000006,82.5,78.900000000000006,54.4,61.4,7,0,40,57,8510,7,2014,{"$f":"VLOOKUP(Q1606,Stores!$A:$B,2,FALSE)","v":"SULL"},"2014-07",{"$f":"VLOOKUP($Q1606,Stores!$A:$D,4,FALSE)","v":"Open"},{"$f":"VLOOKUP(Q1606,Stores!$A:$C,3,FALSE)","v":"Wilmington, DE"},5178,1.1008111239860949]
["8522 - King of Prussia, PA - Sullivan's","",64.3,"",38.1,66.7,73.8,61.9,61.9,59.5,47.6,45.2,21.4,2,33,42,8522,7,2014,{"$f":"VLOOKUP(Q1607,Stores!$A:$B,2,FALSE)","v":"SULL"},"2014-07",{"$f":"VLOOKUP($Q1607,Stores!$A:$D,4,FALSE)","v":"Open"},{"$f":"VLOOKUP(Q1607,Stores!$A:$C,3,FALSE)","v":"King of Prussia, PA"},4491,0.93520374081496338]
["8525 - Tucson, AZ - Sullivan's","",87.1,"",74.2,90.3,90.3,80.599999999999994,83.9,87.1,64.5,87.1,3.2,0,24,31,8525,7,2014,{"$f":"VLOOKUP(Q1608,Stores!$A:$B,2,FALSE)","v":"SULL"},"2014-07",{"$f":"VLOOKUP($Q1608,Stores!$A:$D,4,FALSE)","v":"Open"},{"$f":"VLOOKUP(Q1608,Stores!$A:$C,3,FALSE)","v":"Tucson, AZ"},2920,1.0616438356164384]
["8532 - Omaha, NE - Sullivan's","",36.4,"",54.5,63.6,72.7,63.6,54.5,63.6,36.4,72.7,0,0,7,11,8532,7,2014,{"$f":"VLOOKUP(Q1609,Stores!$A:$B,2,FALSE)","v":"SULL"},"2014-07",{"$f":"VLOOKUP($Q1609,Stores!$A:$D,4,FALSE)","v":"Open"},{"$f":"VLOOKUP(Q1609,Stores!$A:$C,3,FALSE)","v":"Omaha, NE"},3867,0.28445823635893458]
["8535 - Baltimore, MD - Sullivan's","",84.6,"",79.5,89.7,93.6,88.5,85.9,89.7,80.8,44.9,2.6,0,58,78,8535,7,2014,{"$f":"VLOOKUP(Q1610,Stores!$A:$B,2,FALSE)","v":"SULL"},"2014-07",{"$f":"VLOOKUP($Q1610,Stores!$A:$D,4,FALSE)","v":"Open"},{"$f":"VLOOKUP(Q1610,Stores!$A:$C,3,FALSE)","v":"Baltimore, MD"},3679,2.1201413427561837]
["8536 - Leawood, KS - Sullivan's","",68,"",72,88,88,88,72,84,48,92,8,0,18,25,8536,7,2014,{"$f":"VLOOKUP(Q1611,Stores!$A:$B,2,FALSE)","v":"SULL"},"2014-07",{"$f":"VLOOKUP($Q1611,Stores!$A:$D,4,FALSE)","v":"Open"},{"$f":"VLOOKUP(Q1611,Stores!$A:$C,3,FALSE)","v":"Leawood, KS"},3840,0.65104166666666674]
["8541 - Chicago, IL - Sullivan's","",92.3,"",92.3,92.3,92.3,92.3,84.6,92.3,69.2,92.3,0,0,9,13,8541,7,2014,{"$f":"VLOOKUP(Q1612,Stores!$A:$B,2,FALSE)","v":"SULL"},"2014-07",{"$f":"VLOOKUP($Q1612,Stores!$A:$D,4,FALSE)","v":"Open"},{"$f":"VLOOKUP(Q1612,Stores!$A:$C,3,FALSE)","v":"Chicago, IL"},2101,0.61875297477391711]
["8542 - Naperville, IL - Sullivan's","",71.400000000000006,"",71.400000000000006,77.099999999999994,85.7,68.599999999999994,72.900000000000006,78.599999999999994,55.7,72.900000000000006,10,0,57,70,8542,7,2014,{"$f":"VLOOKUP(Q1613,Stores!$A:$B,2,FALSE)","v":"SULL"},"2014-07",{"$f":"VLOOKUP($Q1613,Stores!$A:$D,4,FALSE)","v":"Open"},{"$f":"VLOOKUP(Q1613,Stores!$A:$C,3,FALSE)","v":"Naperville, IL"},5399,1.2965363956288201]
["8543 - Lincolnshire, IL - Sullivan's","",78.3,"",56.5,82.6,82.6,73.900000000000006,87,82.6,47.8,87,0,0,21,23,8543,7,2014,{"$f":"VLOOKUP(Q1614,Stores!$A:$B,2,FALSE)","v":"SULL"},"2014-07",{"$f":"VLOOKUP($Q1614,Stores!$A:$D,4,FALSE)","v":"Open"},{"$f":"VLOOKUP(Q1614,Stores!$A:$C,3,FALSE)","v":"Lincolnshire, IL"},3065,0.75040783034257752]
["8551 - Baton Rouge, LA - Sullivan's","",90.5,"",87.3,95.2,95.2,90.5,88.9,88.9,88.9,96.8,0,0,46,63,8551,7,2014,{"$f":"VLOOKUP(Q1615,Stores!$A:$B,2,FALSE)","v":"SULL"},"2014-07",{"$f":"VLOOKUP($Q1615,Stores!$A:$D,4,FALSE)","v":"Open"},{"$f":"VLOOKUP(Q1615,Stores!$A:$C,3,FALSE)","v":"Baton Rouge, LA"},4000,1.575]
["8561 - Raleigh, NC - Sullivan's","",69.599999999999994,"",60.7,73.2,80.400000000000006,71.400000000000006,67.900000000000006,75,58.9,66.099999999999994,16.100000000000001,5,42,56,8561,7,2014,{"$f":"VLOOKUP(Q1616,Stores!$A:$B,2,FALSE)","v":"SULL"},"2014-07",{"$f":"VLOOKUP($Q1616,Stores!$A:$D,4,FALSE)","v":"Open"},{"$f":"VLOOKUP(Q1616,Stores!$A:$C,3,FALSE)","v":"Raleigh, NC"},5345,1.0477081384471467]
["8562 - Charlotte, NC - Sullivan's","",71.400000000000006,"",71.400000000000006,81,90.5,66.7,81,71.400000000000006,42.9,81,9.5,0,16,21,8562,7,2014,{"$f":"VLOOKUP(Q1617,Stores!$A:$B,2,FALSE)","v":"SULL"},"2014-07",{"$f":"VLOOKUP($Q1617,Stores!$A:$D,4,FALSE)","v":"Open"},{"$f":"VLOOKUP(Q1617,Stores!$A:$C,3,FALSE)","v":"Charlotte, NC"},3542,0.59288537549407117]
["8570 - Palm Desert, CA - Sullivan's","",79.2,"",91.7,91.7,95.8,83.3,79.2,87.5,79.2,83.3,8.3000000000000007,0,23,24,8570,7,2014,{"$f":"VLOOKUP(Q1618,Stores!$A:$B,2,FALSE)","v":"SULL"},"2014-07",{"$f":"VLOOKUP($Q1618,Stores!$A:$D,4,FALSE)","v":"Open"},{"$f":"VLOOKUP(Q1618,Stores!$A:$C,3,FALSE)","v":"Palm Desert, CA"},4024,0.59642147117296218]
["8591 - Anchorage, AK - Sullivan's","",76.7,"",76.7,80,86.7,73.3,80,73.3,63.3,86.7,6.7,1,27,30,8591,7,2014,{"$f":"VLOOKUP(Q1619,Stores!$A:$B,2,FALSE)","v":"SULL"},"2014-07",{"$f":"VLOOKUP($Q1619,Stores!$A:$D,4,FALSE)","v":"Open"},{"$f":"VLOOKUP(Q1619,Stores!$A:$C,3,FALSE)","v":"Anchorage, AK"},6684,0.44883303411131059]
["8602 - Fort Worth, TX - Del Frisco's","",86.3,"",87,88.5,93.9,86.3,84,84.7,63.4,71,2.2999999999999998,0,84,131,8602,7,2014,{"$f":"VLOOKUP(Q1620,Stores!$A:$B,2,FALSE)","v":"DFDE"},"2014-07",{"$f":"VLOOKUP($Q1620,Stores!$A:$D,4,FALSE)","v":"Open"},{"$f":"VLOOKUP(Q1620,Stores!$A:$C,3,FALSE)","v":"Fort Worth, TX"},5930,2.2091062394603709]
["8603 - Denver, CO - Del Frisco's","",81.400000000000006,"",77.099999999999994,81.400000000000006,90.7,80.5,84.7,81.400000000000006,56.8,59.3,2.5,0,79,118,8603,7,2014,{"$f":"VLOOKUP(Q1621,Stores!$A:$B,2,FALSE)","v":"DFDE"},"2014-07",{"$f":"VLOOKUP($Q1621,Stores!$A:$D,4,FALSE)","v":"Open"},{"$f":"VLOOKUP(Q1621,Stores!$A:$C,3,FALSE)","v":"Denver, CO"},8137,1.4501659088116012]
["8604 - Charlotte, NC - Del Frisco's","",72.900000000000006,"",65.900000000000006,82.4,85.9,76.5,81.2,84.7,52.9,64.7,5.9,0,57,85,8604,7,2014,{"$f":"VLOOKUP(Q1622,Stores!$A:$B,2,FALSE)","v":"DFDE"},"2014-07",{"$f":"VLOOKUP($Q1622,Stores!$A:$D,4,FALSE)","v":"Open"},{"$f":"VLOOKUP(Q1622,Stores!$A:$C,3,FALSE)","v":"Charlotte, NC"},4825,1.7616580310880829]
["8605 - Houston, TX - Del Frisco's","",79.2,"",87.5,79.2,83.3,87.5,79.2,75,50,83.3,0,0,18,24,8605,7,2014,{"$f":"VLOOKUP(Q1623,Stores!$A:$B,2,FALSE)","v":"DFDE"},"2014-07",{"$f":"VLOOKUP($Q1623,Stores!$A:$D,4,FALSE)","v":"Open"},{"$f":"VLOOKUP(Q1623,Stores!$A:$C,3,FALSE)","v":"Houston, TX"},3759,0.63846767757382272]
["8610 - Dallas, TX - Del Frisco's","",71.400000000000006,"",66.7,78.599999999999994,78.599999999999994,71.400000000000006,73.8,81,50,69,2.4,0,27,42,8610,7,2014,{"$f":"VLOOKUP(Q1624,Stores!$A:$B,2,FALSE)","v":"DFDE"},"2014-07",{"$f":"VLOOKUP($Q1624,Stores!$A:$D,4,FALSE)","v":"Open"},{"$f":"VLOOKUP(Q1624,Stores!$A:$C,3,FALSE)","v":"Dallas, TX"},7478,0.56164749933137204]
["8611 - Plano, TX - Del Frisco","",69.2,"",70.2,82.7,85.6,79.8,75,83.7,45.2,75,6.7,1,73,104,8611,7,2014,{"$f":"VLOOKUP(Q1625,Stores!$A:$B,2,FALSE)","v":"DFDE"},"2014-07",{"$f":"VLOOKUP($Q1625,Stores!$A:$D,4,FALSE)","v":"Open"},{"$f":"VLOOKUP(Q1625,Stores!$A:$C,3,FALSE)","v":"Plano, TX"},7540,1.3793103448275861]
["8615 - Orlando, FL - Del Frisco’s","",91.7,"",86.1,94.4,94.4,91.7,91.7,83.3,66.7,88.9,2.8,0,23,36,8615,7,2014,{"$f":"VLOOKUP(Q1626,Stores!$A:$B,2,FALSE)","v":"DFDE"},"2014-07",{"$f":"VLOOKUP($Q1626,Stores!$A:$D,4,FALSE)","v":"Open"},{"$f":"VLOOKUP(Q1626,Stores!$A:$C,3,FALSE)","v":"Orlando, FL"},3784,0.95137420718816057]
["8620 - New York City, NY - Del Frisco's","",69.3,"",65.099999999999994,80.7,84.3,79.5,80.099999999999994,83.7,41.6,54.8,8.4,4,112,166,8620,7,2014,{"$f":"VLOOKUP(Q1627,Stores!$A:$B,2,FALSE)","v":"DFDE"},"2014-07",{"$f":"VLOOKUP($Q1627,Stores!$A:$D,4,FALSE)","v":"Open"},{"$f":"VLOOKUP(Q1627,Stores!$A:$C,3,FALSE)","v":"New York City, NY"},20478,0.810626037698994]
["8635 - Boston, MA - Del Frisco's","",71.7,"",70.900000000000006,79.5,86.6,70.099999999999994,74.8,81.099999999999994,47.2,64.599999999999994,10.199999999999999,1,90,127,8635,7,2014,{"$f":"VLOOKUP(Q1628,Stores!$A:$B,2,FALSE)","v":"DFDE"},"2014-07",{"$f":"VLOOKUP($Q1628,Stores!$A:$D,4,FALSE)","v":"Open"},{"$f":"VLOOKUP(Q1628,Stores!$A:$C,3,FALSE)","v":"Boston, MA"},12871,0.98671431901173179]
["8640 - Las Vegas, NV - Del Frisco's","",91.1,"",77.8,95.6,100,91.1,77.8,82.2,64.400000000000006,73.3,4.4000000000000004,1,27,45,8640,7,2014,{"$f":"VLOOKUP(Q1629,Stores!$A:$B,2,FALSE)","v":"DFDE"},"2014-07",{"$f":"VLOOKUP($Q1629,Stores!$A:$D,4,FALSE)","v":"Open"},{"$f":"VLOOKUP(Q1629,Stores!$A:$C,3,FALSE)","v":"Las Vegas, NV"},4468,1.0071620411817368]
["8650 - Chicago, IL - Del Frisco's","",75,"",56.3,75,87.5,68.8,87.5,75,43.8,81.3,6.3,0,11,16,8650,7,2014,{"$f":"VLOOKUP(Q1630,Stores!$A:$B,2,FALSE)","v":"DFDE"},"2014-07",{"$f":"VLOOKUP($Q1630,Stores!$A:$D,4,FALSE)","v":"Open"},{"$f":"VLOOKUP(Q1630,Stores!$A:$C,3,FALSE)","v":"Chicago, IL"},2856,0.56022408963585435]
["8655 - Washington, DC -  Del Frisco's","",81.8,"",78.8,78.8,86.4,75.8,89.4,84.8,74.2,66.7,7.6,0,56,66,8655,7,2014,{"$f":"VLOOKUP(Q1631,Stores!$A:$B,2,FALSE)","v":"DFDE"},"2014-07",{"$f":"VLOOKUP($Q1631,Stores!$A:$D,4,FALSE)","v":"Open"},{"$f":"VLOOKUP(Q1631,Stores!$A:$C,3,FALSE)","v":"Washington, DC"},8773,0.75230821839735551]
["8680 - Philadelphia, PA - Del Frisco's","",72.2,"",67,82.5,88.7,76.3,81.400000000000006,89.7,44.3,66,5.2,2,71,97,8680,7,2014,{"$f":"VLOOKUP(Q1632,Stores!$A:$B,2,FALSE)","v":"DFDE"},"2014-07",{"$f":"VLOOKUP($Q1632,Stores!$A:$D,4,FALSE)","v":"Open"},{"$f":"VLOOKUP(Q1632,Stores!$A:$C,3,FALSE)","v":"Philadelphia, PA"},9208,1.0534317984361425]
["8701 - New York City, NY - Grille","",74.5,"",60,78.2,83.6,78.2,78.2,76.400000000000006,61.8,74.5,12.7,0,35,55,8701,7,2014,{"$f":"VLOOKUP(Q1633,Stores!$A:$B,2,FALSE)","v":"DFG"},"2014-07",{"$f":"VLOOKUP($Q1633,Stores!$A:$D,4,FALSE)","v":"Open"},{"$f":"VLOOKUP(Q1633,Stores!$A:$C,3,FALSE)","v":"New York City, NY"},10930,0.5032021957913998]
["8702 - Dallas, TX - Grille","",76.2,"",71.400000000000006,85.7,85.7,76.2,76.2,76.2,71.400000000000006,47.6,4.8,0,13,21,8702,7,2014,{"$f":"VLOOKUP(Q1634,Stores!$A:$B,2,FALSE)","v":"DFG"},"2014-07",{"$f":"VLOOKUP($Q1634,Stores!$A:$D,4,FALSE)","v":"Open"},{"$f":"VLOOKUP(Q1634,Stores!$A:$C,3,FALSE)","v":"Dallas, TX"},5728,0.36662011173184356]
["8703 - Washington, DC - Grille","",70,"",90,100,90,80,70,80,70,30,0,0,6,10,8703,7,2014,{"$f":"VLOOKUP(Q1635,Stores!$A:$B,2,FALSE)","v":"DFG"},"2014-07",{"$f":"VLOOKUP($Q1635,Stores!$A:$D,4,FALSE)","v":"Open"},{"$f":"VLOOKUP(Q1635,Stores!$A:$C,3,FALSE)","v":"Washington, DC"},7540,0.1326259946949602]
["8706 - Atlanta, GA - Grille","",90.9,"",87.6,93.4,96.7,91.7,90.9,95,86.8,79.3,3.3,0,97,121,8706,7,2014,{"$f":"VLOOKUP(Q1636,Stores!$A:$B,2,FALSE)","v":"DFG"},"2014-07",{"$f":"VLOOKUP($Q1636,Stores!$A:$D,4,FALSE)","v":"Open"},{"$f":"VLOOKUP(Q1636,Stores!$A:$C,3,FALSE)","v":"Atlanta, GA"},7871,1.5372887816033542]
["8707 - River Oaks, TX - Grille","",70.599999999999994,"",44.1,73.5,79.400000000000006,70.599999999999994,73.5,70.599999999999994,73.5,41.2,23.5,2,29,34,8707,7,2014,{"$f":"VLOOKUP(Q1637,Stores!$A:$B,2,FALSE)","v":"DFG"},"2014-07",{"$f":"VLOOKUP($Q1637,Stores!$A:$D,4,FALSE)","v":"Open"},{"$f":"VLOOKUP(Q1637,Stores!$A:$C,3,FALSE)","v":"Houston, TX"},4735,0.71805702217529033]
["8708 - Chestnut Hill, MA - Grille","",56.5,"",39.1,65.2,65.2,60.9,56.5,60.9,47.8,34.799999999999997,17.399999999999999,0,13,23,8708,7,2014,{"$f":"VLOOKUP(Q1638,Stores!$A:$B,2,FALSE)","v":"DFG"},"2014-07",{"$f":"VLOOKUP($Q1638,Stores!$A:$D,4,FALSE)","v":"Open"},{"$f":"VLOOKUP(Q1638,Stores!$A:$C,3,FALSE)","v":"Chestnut Hill, MA"},5484,0.41940189642596643]
["8709 - Santa Monica, CA - Grille","",71.400000000000006,"",71.400000000000006,85.7,85.7,85.7,78.599999999999994,71.400000000000006,78.599999999999994,50,14.3,0,10,14,8709,7,2014,{"$f":"VLOOKUP(Q1639,Stores!$A:$B,2,FALSE)","v":"DFG"},"2014-07",{"$f":"VLOOKUP($Q1639,Stores!$A:$D,4,FALSE)","v":"Open"},{"$f":"VLOOKUP(Q1639,Stores!$A:$C,3,FALSE)","v":"Santa Monica, CA"},19411,7.2124053371799487E-2]
["8710 - Fort Worth, TX - Grille","",85,"",78.900000000000006,85.7,86.5,83.5,85.7,82.7,69.900000000000006,53.4,5.3,1,94,133,8710,7,2014,{"$f":"VLOOKUP(Q1640,Stores!$A:$B,2,FALSE)","v":"DFG"},"2014-07",{"$f":"VLOOKUP($Q1640,Stores!$A:$D,4,FALSE)","v":"Open"},{"$f":"VLOOKUP(Q1640,Stores!$A:$C,3,FALSE)","v":"Fort Worth, TX"},11115,1.1965811965811965]
["8711 – Cherry Creek, CO - Grille","",95.2,"",85.5,92.8,95.2,95.2,92.8,95.2,91.6,73.5,1.2,0,37,83,8711,7,2014,{"$f":"VLOOKUP(Q1641,Stores!$A:$B,2,FALSE)","v":"DFG"},"2014-07",{"$f":"VLOOKUP($Q1641,Stores!$A:$D,4,FALSE)","v":"Open"},{"$f":"VLOOKUP(Q1641,Stores!$A:$C,3,FALSE)","v":"Cherry Creek, CO"},6929,1.1978640496464135]
["8712 - Southlake, TX - Grille","",73.5,"",67.5,79.5,89.2,81.900000000000006,73.5,84.3,62.7,74.7,10.8,0,59,83,8712,7,2014,{"$f":"VLOOKUP(Q1642,Stores!$A:$B,2,FALSE)","v":"DFG"},"2014-07",{"$f":"VLOOKUP($Q1642,Stores!$A:$D,4,FALSE)","v":"Open"},{"$f":"VLOOKUP(Q1642,Stores!$A:$C,3,FALSE)","v":"Southlake, TX"},12146,0.68335254404742307]
["8713 - Burlington, MA - Grille",41794,74.5,"",78.400000000000006,86.3,92.2,76.5,76.5,70.599999999999994,58.8,31.4,5.9,0,39,51,8713,7,2014,{"$f":"VLOOKUP(Q1643,Stores!$A:$B,2,FALSE)","v":"DFG"},"2014-07",{"$f":"VLOOKUP($Q1643,Stores!$A:$D,4,FALSE)","v":"Open"},{"$f":"VLOOKUP(Q1643,Stores!$A:$C,3,FALSE)","v":"Burlington, MA"},7171,0.71119788035141551]
["8714 - N Bethesda, MD - Grille",41908,81.3,"",65.599999999999994,87.5,92.2,87.5,79.7,75,70.3,68.8,9.4,0,50,64,8714,7,2014,{"$f":"VLOOKUP(Q1644,Stores!$A:$B,2,FALSE)","v":"DFG"},"2014-07",{"$f":"VLOOKUP($Q1644,Stores!$A:$D,4,FALSE)","v":"Open"},{"$f":"VLOOKUP(Q1644,Stores!$A:$C,3,FALSE)","v":"N. Bethesda, MD"},5558,1.1514933429291112]
["8715 - Irvine, CA - Grille","",81.599999999999994,"",76.3,81.599999999999994,92.1,76.3,84.2,86.8,68.400000000000006,47.4,5.3,0,29,38,8715,7,2014,{"$f":"VLOOKUP(Q1645,Stores!$A:$B,2,FALSE)","v":"DFG"},"2014-07",{"$f":"VLOOKUP($Q1645,Stores!$A:$D,4,FALSE)","v":"Open"},{"$f":"VLOOKUP(Q1645,Stores!$A:$C,3,FALSE)","v":"Irvine, CA"},6974,0.54488098652136507]
["8716 - Tampa, FL - Grille","",82.9,"",65.7,85.7,91.4,88.6,80,91.4,68.599999999999994,82.9,5.7,0,24,35,8716,7,2014,{"$f":"VLOOKUP(Q1646,Stores!$A:$B,2,FALSE)","v":"DFG"},"2014-07",{"$f":"VLOOKUP($Q1646,Stores!$A:$D,4,FALSE)","v":"Open"},{"$f":"VLOOKUP(Q1646,Stores!$A:$C,3,FALSE)","v":"Tampa, FL"},7284,0.48050521691378362]
["8717 - Pasadena, CA - Grille",41992,73.5,"",55.9,79.400000000000006,88.2,79.400000000000006,73.5,76.5,58.8,82.4,5.9,1,27,34,8717,7,2014,{"$f":"VLOOKUP(Q1647,Stores!$A:$B,2,FALSE)","v":"DFG"},"2014-07",{"$f":"VLOOKUP($Q1647,Stores!$A:$D,4,FALSE)","v":"Open"},{"$f":"VLOOKUP(Q1647,Stores!$A:$C,3,FALSE)","v":"Pasadena, CA"},4210,0.80760095011876487]
["8718 - Woodlands, TX - Grille","",77.8,"",70.400000000000006,84,90.1,84,86.4,80.2,56.8,55.6,3.7,0,63,81,8718,7,2014,{"$f":"VLOOKUP(Q1648,Stores!$A:$B,2,FALSE)","v":"DFG"},"2014-07",{"$f":"VLOOKUP($Q1648,Stores!$A:$D,4,FALSE)","v":"Open"},{"$f":"VLOOKUP(Q1648,Stores!$A:$C,3,FALSE)","v":"Woodlands, TX"},9062,0.89384241889207672]
["8720 - Little Rock, AR - Grille","",80,"",74.3,85.7,85.7,77.099999999999994,88.6,82.9,65.7,80,11.4,0,26,35,8720,7,2014,{"$f":"VLOOKUP(Q1649,Stores!$A:$B,2,FALSE)","v":"DFG"},"2014-07",{"$f":"VLOOKUP($Q1649,Stores!$A:$D,4,FALSE)","v":"Open"},{"$f":"VLOOKUP(Q1649,Stores!$A:$C,3,FALSE)","v":"Little Rock, AR"},4585,0.76335877862595414]
["8721 - Plano, TX - Grille","",86,"",82,94,96,86,80,84,66,84,4,1,35,50,8721,7,2014,{"$f":"VLOOKUP(Q1650,Stores!$A:$B,2,FALSE)","v":"DFG"},"2014-07",{"$f":"VLOOKUP($Q1650,Stores!$A:$D,4,FALSE)","v":"Open"},{"$f":"VLOOKUP(Q1650,Stores!$A:$C,3,FALSE)","v":"Plano, TX"},9614,0.52007489078427294]
["8722 – Stamford, CT - Grille","",90.9,"",81.8,90.9,90.9,90.9,90.9,90.9,63.6,100,9.1,1,8,11,8722,7,2014,{"$f":"VLOOKUP(Q1651,Stores!$A:$B,2,FALSE)","v":"DFG"},"2014-07",{"$f":"VLOOKUP($Q1651,Stores!$A:$D,4,FALSE)","v":"Open"},{"$f":"VLOOKUP(Q1651,Stores!$A:$C,3,FALSE)","v":"Stamford, CT"},4312,0.25510204081632654]
["8723 – Hoboken, NJ - Grille","",88.9,"",77.8,91.7,88.9,86.1,91.7,88.9,86.1,55.6,11.1,1,29,36,8723,7,2014,{"$f":"VLOOKUP(Q1652,Stores!$A:$B,2,FALSE)","v":"DFG"},"2014-07",{"$f":"VLOOKUP($Q1652,Stores!$A:$D,4,FALSE)","v":"Open"},{"$f":"VLOOKUP(Q1652,Stores!$A:$C,3,FALSE)","v":"Hoboken, NJ"},10718,0.33588356036573985]
["8724 - Huntington, NY - Grille","",70.3,"",64.900000000000006,64.900000000000006,81.099999999999994,67.599999999999994,73,78.400000000000006,56.8,78.400000000000006,10.8,1,29,37,8724,7,2014,{"$f":"VLOOKUP(Q1653,Stores!$A:$B,2,FALSE)","v":"DFG"},"2014-07",{"$f":"VLOOKUP($Q1653,Stores!$A:$D,4,FALSE)","v":"Open"},{"$f":"VLOOKUP(Q1653,Stores!$A:$C,3,FALSE)","v":"Huntington, NY"},8924,0.41461228148812196]
["8725 - Nashville, TN - Grille","",63.2,"",57.9,84.2,73.7,73.7,68.400000000000006,68.400000000000006,63.2,63.2,10.5,0,18,19,8725,7,2014,{"$f":"VLOOKUP(Q1654,Stores!$A:$B,2,FALSE)","v":"DFG"},"2014-07",{"$f":"VLOOKUP($Q1654,Stores!$A:$D,4,FALSE)","v":"Open"},{"$f":"VLOOKUP(Q1654,Stores!$A:$C,3,FALSE)","v":"Nashville, TN"},5867,0.32384523606613258]
["8726 - Brentwood, TN - Grille",42693,56.1,"",36.6,68.3,73.2,58.5,68.3,56.1,41.5,63.4,12.2,1,29,41,8726,7,2014,{"$f":"VLOOKUP(Q1655,Stores!$A:$B,2,FALSE)","v":"DFG"},"2014-07",{"$f":"VLOOKUP($Q1655,Stores!$A:$D,4,FALSE)","v":"Open"},{"$f":"VLOOKUP(Q1655,Stores!$A:$C,3,FALSE)","v":"Brentwood, TN"},10087,0.4064637652423912]
["8728 - Brookfield Place, NY - Grille","",33.299999999999997,"",-5.6,44.4,50,50,44.4,44.4,33.299999999999997,66.7,22.2,0,11,18,8728,7,2014,{"$f":"VLOOKUP(Q1656,Stores!$A:$B,2,FALSE)","v":"DFG"},"2014-07",{"$f":"VLOOKUP($Q1656,Stores!$A:$D,4,FALSE)","v":"Open"},{"$f":"VLOOKUP(Q1656,Stores!$A:$C,3,FALSE)","v":"Brookfield NYC, NY"},7401,0.2432103769760843]
["8501 - Austin, TX - Sullivan's","",76.5,"",82.4,88.2,94.1,94.1,88.2,94.1,100,76.5,0,0,12,17,8501,8,2014,{"$f":"VLOOKUP(Q1657,Stores!$A:$B,2,FALSE)","v":"SULL"},"2014-08",{"$f":"VLOOKUP($Q1657,Stores!$A:$D,4,FALSE)","v":"Open"},{"$f":"VLOOKUP(Q1657,Stores!$A:$C,3,FALSE)","v":"Austin, TX"},3862,0.44018643190056966]
["8502 - Indianapolis, IN - Sullivan's","",70.5,"",56.8,84.1,86.4,79.5,68.2,81.8,59.1,77.3,6.8,0,33,44,{"$f":"MID(A1658,1,4)*1","v":8502},8,2014,{"$f":"VLOOKUP(Q1658,Stores!$A:$B,2,FALSE)","v":"SULL"},"2014-08",{"$f":"VLOOKUP($Q1658,Stores!$A:$D,4,FALSE)","v":"Open"},{"$f":"VLOOKUP(Q1658,Stores!$A:$C,3,FALSE)","v":"Indianapolis, IN"},5736,{"$f":"P1658/(X1658/100)","v":0.76708507670850767}]
["8510 - Wilmington, DE - Sullivan's","",64.7,"",60.8,80.400000000000006,86.3,74.5,72.5,74.5,56.9,72.5,7.8,0,39,51,8510,8,2014,{"$f":"VLOOKUP(Q1659,Stores!$A:$B,2,FALSE)","v":"SULL"},"2014-08",{"$f":"VLOOKUP($Q1659,Stores!$A:$D,4,FALSE)","v":"Open"},{"$f":"VLOOKUP(Q1659,Stores!$A:$C,3,FALSE)","v":"Wilmington, DE"},5158,0.98875533152384654]
["8522 - King of Prussia, PA - Sullivan's","",63.6,"",51.5,75.8,78.8,72.7,78.8,63.6,45.5,60.6,9.1,2,26,33,8522,8,2014,{"$f":"VLOOKUP(Q1660,Stores!$A:$B,2,FALSE)","v":"SULL"},"2014-08",{"$f":"VLOOKUP($Q1660,Stores!$A:$D,4,FALSE)","v":"Open"},{"$f":"VLOOKUP(Q1660,Stores!$A:$C,3,FALSE)","v":"King of Prussia, PA"},4080,0.80882352941176472]
["8525 - Tucson, AZ - Sullivan's","",92.3,"",100,96.2,96.2,92.3,92.3,100,76.900000000000006,92.3,0,0,20,26,8525,8,2014,{"$f":"VLOOKUP(Q1661,Stores!$A:$B,2,FALSE)","v":"SULL"},"2014-08",{"$f":"VLOOKUP($Q1661,Stores!$A:$D,4,FALSE)","v":"Open"},{"$f":"VLOOKUP(Q1661,Stores!$A:$C,3,FALSE)","v":"Tucson, AZ"},3021,0.86064217146640187]
["8532 - Omaha, NE - Sullivan's","",70.599999999999994,"",64.7,94.1,100,82.4,76.5,64.7,47.1,64.7,17.600000000000001,1,15,17,8532,8,2014,{"$f":"VLOOKUP(Q1662,Stores!$A:$B,2,FALSE)","v":"SULL"},"2014-08",{"$f":"VLOOKUP($Q1662,Stores!$A:$D,4,FALSE)","v":"Open"},{"$f":"VLOOKUP(Q1662,Stores!$A:$C,3,FALSE)","v":"Omaha, NE"},3106,0.54732775273663881]
["8535 - Baltimore, MD - Sullivan's","",82.2,"",77.8,84.4,91.1,86.7,86.7,88.9,82.2,44.4,4.4000000000000004,0,36,45,8535,8,2014,{"$f":"VLOOKUP(Q1663,Stores!$A:$B,2,FALSE)","v":"SULL"},"2014-08",{"$f":"VLOOKUP($Q1663,Stores!$A:$D,4,FALSE)","v":"Open"},{"$f":"VLOOKUP(Q1663,Stores!$A:$C,3,FALSE)","v":"Baltimore, MD"},4080,1.1029411764705883]
["8536 - Leawood, KS - Sullivan's","",90,"",93.3,96.7,96.7,80,86.7,90,76.7,83.3,0,0,18,30,8536,8,2014,{"$f":"VLOOKUP(Q1664,Stores!$A:$B,2,FALSE)","v":"SULL"},"2014-08",{"$f":"VLOOKUP($Q1664,Stores!$A:$D,4,FALSE)","v":"Open"},{"$f":"VLOOKUP(Q1664,Stores!$A:$C,3,FALSE)","v":"Leawood, KS"},3912,0.76687116564417179]
["8541 - Chicago, IL - Sullivan's","",81.3,"",68.8,87.5,81.3,75,81.3,81.3,43.8,87.5,12.5,0,10,16,8541,8,2014,{"$f":"VLOOKUP(Q1665,Stores!$A:$B,2,FALSE)","v":"SULL"},"2014-08",{"$f":"VLOOKUP($Q1665,Stores!$A:$D,4,FALSE)","v":"Open"},{"$f":"VLOOKUP(Q1665,Stores!$A:$C,3,FALSE)","v":"Chicago, IL"},2091,0.76518412242945955]
["8542 - Naperville, IL - Sullivan's","",75.900000000000006,"",68.5,83.3,88.9,79.599999999999994,74.099999999999994,79.599999999999994,51.9,81.5,5.6,0,36,54,8542,8,2014,{"$f":"VLOOKUP(Q1666,Stores!$A:$B,2,FALSE)","v":"SULL"},"2014-08",{"$f":"VLOOKUP($Q1666,Stores!$A:$D,4,FALSE)","v":"Open"},{"$f":"VLOOKUP(Q1666,Stores!$A:$C,3,FALSE)","v":"Naperville, IL"},4901,1.1018159559273617]
["8543 - Lincolnshire, IL - Sullivan's","",66.7,"",72.2,83.3,83.3,55.6,83.3,61.1,44.4,94.4,11.1,0,12,18,8543,8,2014,{"$f":"VLOOKUP(Q1667,Stores!$A:$B,2,FALSE)","v":"SULL"},{"$f":"S1667&\"-\"&REPT(\"0\",2-LEN(R1667))&R1667","v":"2014-08"},{"$f":"VLOOKUP($Q1667,Stores!$A:$D,4,FALSE)","v":"Open"},{"$f":"VLOOKUP(Q1667,Stores!$A:$C,3,FALSE)","v":"Lincolnshire, IL"},3018,0.59642147117296218]
["8551 - Baton Rouge, LA - Sullivan's","",91.3,"",90.5,94.4,93.7,89.7,94.4,90.5,88.1,92.9,4,1,93,126,8551,8,2014,{"$f":"VLOOKUP(Q1668,Stores!$A:$B,2,FALSE)","v":"SULL"},"2014-08",{"$f":"VLOOKUP($Q1668,Stores!$A:$D,4,FALSE)","v":"Open"},{"$f":"VLOOKUP(Q1668,Stores!$A:$C,3,FALSE)","v":"Baton Rouge, LA"},5062,2.4891347293559858]
["8561 - Raleigh, NC - Sullivan's","",78.099999999999994,"",68.8,81.3,87.5,81.3,84.4,81.3,46.9,68.8,9.4,0,23,32,8561,8,2014,{"$f":"VLOOKUP(Q1669,Stores!$A:$B,2,FALSE)","v":"SULL"},"2014-08",{"$f":"VLOOKUP($Q1669,Stores!$A:$D,4,FALSE)","v":"Open"},{"$f":"VLOOKUP(Q1669,Stores!$A:$C,3,FALSE)","v":"Raleigh, NC"},5219,0.61314428051350833]
["8562 - Charlotte, NC - Sullivan's","",64.599999999999994,"",54.2,70.8,87.5,64.599999999999994,66.7,60.4,43.8,56.3,8.3000000000000007,0,32,48,8562,8,2014,{"$f":"VLOOKUP(Q1670,Stores!$A:$B,2,FALSE)","v":"SULL"},"2014-08",{"$f":"VLOOKUP($Q1670,Stores!$A:$D,4,FALSE)","v":"Open"},{"$f":"VLOOKUP(Q1670,Stores!$A:$C,3,FALSE)","v":"Charlotte, NC"},5680,0.84507042253521136]
["8570 - Palm Desert, CA - Sullivan's","",91.3,"",91.3,97.8,97.8,93.5,89.1,87,80.400000000000006,73.900000000000006,4.3,0,40,46,8570,8,2014,{"$f":"VLOOKUP(Q1671,Stores!$A:$B,2,FALSE)","v":"SULL"},"2014-08",{"$f":"VLOOKUP($Q1671,Stores!$A:$D,4,FALSE)","v":"Open"},{"$f":"VLOOKUP(Q1671,Stores!$A:$C,3,FALSE)","v":"Palm Desert, CA"},3762,1.2227538543328018]
["8591 - Anchorage, AK - Sullivan's","",81.3,"",72.900000000000006,85.4,91.7,85.4,79.2,81.3,77.099999999999994,85.4,10.4,0,40,48,8591,8,2014,{"$f":"VLOOKUP(Q1672,Stores!$A:$B,2,FALSE)","v":"SULL"},"2014-08",{"$f":"VLOOKUP($Q1672,Stores!$A:$D,4,FALSE)","v":"Open"},{"$f":"VLOOKUP(Q1672,Stores!$A:$C,3,FALSE)","v":"Anchorage, AK"},7185,0.66805845511482265]
["8602 - Fort Worth, TX - Del Frisco's","",79.5,"",81.099999999999994,86.6,89.8,79.5,88.2,85,55.9,74.8,5.5,0,88,127,8602,8,2014,{"$f":"VLOOKUP(Q1673,Stores!$A:$B,2,FALSE)","v":"DFDE"},"2014-08",{"$f":"VLOOKUP($Q1673,Stores!$A:$D,4,FALSE)","v":"Open"},{"$f":"VLOOKUP(Q1673,Stores!$A:$C,3,FALSE)","v":"Fort Worth, TX"},6004,2.1152564956695539]
["8603 - Denver, CO - Del Frisco's","",85.6,"",80.2,89.2,91.9,85.6,86.5,80.2,58.6,70.3,5.4,0,85,111,8603,8,2014,{"$f":"VLOOKUP(Q1674,Stores!$A:$B,2,FALSE)","v":"DFDE"},"2014-08",{"$f":"VLOOKUP($Q1674,Stores!$A:$D,4,FALSE)","v":"Open"},{"$f":"VLOOKUP(Q1674,Stores!$A:$C,3,FALSE)","v":"Denver, CO"},8317,1.3346158470602381]
["8604 - Charlotte, NC - Del Frisco's","",70.8,"",69.7,78.099999999999994,79.2,70.2,82.6,76.400000000000006,59.6,48.9,8.4,1,133,178,8604,8,2014,{"$f":"VLOOKUP(Q1675,Stores!$A:$B,2,FALSE)","v":"DFDE"},"2014-08",{"$f":"VLOOKUP($Q1675,Stores!$A:$D,4,FALSE)","v":"Open"},{"$f":"VLOOKUP(Q1675,Stores!$A:$C,3,FALSE)","v":"Charlotte, NC"},9436,1.8863925392115304]
["8605 - Houston, TX - Del Frisco's","",72,"",64,75,82,66,73,70,56,63,14,3,71,100,8605,8,2014,{"$f":"VLOOKUP(Q1676,Stores!$A:$B,2,FALSE)","v":"DFDE"},"2014-08",{"$f":"VLOOKUP($Q1676,Stores!$A:$D,4,FALSE)","v":"Open"},{"$f":"VLOOKUP(Q1676,Stores!$A:$C,3,FALSE)","v":"Houston, TX"},6387,1.565680288085173]
["8610 - Dallas, TX - Del Frisco's","",69.099999999999994,"",69.099999999999994,89.1,92.7,85.5,72.7,90.9,61.8,80,3.6,0,44,55,8610,8,2014,{"$f":"VLOOKUP(Q1677,Stores!$A:$B,2,FALSE)","v":"DFDE"},"2014-08",{"$f":"VLOOKUP($Q1677,Stores!$A:$D,4,FALSE)","v":"Open"},{"$f":"VLOOKUP(Q1677,Stores!$A:$C,3,FALSE)","v":"Dallas, TX"},7835,0.7019783024888322]
["8611 - Plano, TX - Del Frisco","",60,"",54.3,76.2,85.7,69.5,68.599999999999994,77.099999999999994,37.1,84.8,11.4,4,75,105,8611,8,2014,{"$f":"VLOOKUP(Q1678,Stores!$A:$B,2,FALSE)","v":"DFDE"},"2014-08",{"$f":"VLOOKUP($Q1678,Stores!$A:$D,4,FALSE)","v":"Open"},{"$f":"VLOOKUP(Q1678,Stores!$A:$C,3,FALSE)","v":"Plano, TX"},7628,1.3765076035658101]
["8615 - Orlando, FL - Del Frisco’s","",86.2,"",89.7,86.2,89.7,86.2,86.2,86.2,58.6,79.3,3.4,0,20,29,8615,8,2014,{"$f":"VLOOKUP(Q1679,Stores!$A:$B,2,FALSE)","v":"DFDE"},"2014-08",{"$f":"VLOOKUP($Q1679,Stores!$A:$D,4,FALSE)","v":"Open"},{"$f":"VLOOKUP(Q1679,Stores!$A:$C,3,FALSE)","v":"Orlando, FL"},3096,0.93669250645994828]
["8620 - New York City, NY - Del Frisco's","",73.900000000000006,"",62.7,77.8,86.3,78.400000000000006,71.900000000000006,75.8,46.4,71.2,7.8,2,113,153,8620,8,2014,{"$f":"VLOOKUP(Q1680,Stores!$A:$B,2,FALSE)","v":"DFDE"},"2014-08",{"$f":"VLOOKUP($Q1680,Stores!$A:$D,4,FALSE)","v":"Open"},{"$f":"VLOOKUP(Q1680,Stores!$A:$C,3,FALSE)","v":"New York City, NY"},23174,0.66022266332959345]
["8635 - Boston, MA - Del Frisco's","",67.8,"",67.8,76.7,81.099999999999994,73.3,73.3,81.099999999999994,48.9,60,11.1,3,61,90,8635,8,2014,{"$f":"VLOOKUP(Q1681,Stores!$A:$B,2,FALSE)","v":"DFDE"},"2014-08",{"$f":"VLOOKUP($Q1681,Stores!$A:$D,4,FALSE)","v":"Open"},{"$f":"VLOOKUP(Q1681,Stores!$A:$C,3,FALSE)","v":"Boston, MA"},14164,0.63541372493645865]
["8640 - Las Vegas, NV - Del Frisco's","",75,"",77.3,75,81.8,75,88.6,75,65.900000000000006,59.1,11.4,0,29,44,8640,8,2014,{"$f":"VLOOKUP(Q1682,Stores!$A:$B,2,FALSE)","v":"DFDE"},"2014-08",{"$f":"VLOOKUP($Q1682,Stores!$A:$D,4,FALSE)","v":"Open"},{"$f":"VLOOKUP(Q1682,Stores!$A:$C,3,FALSE)","v":"Las Vegas, NV"},4548,0.96745822339489895]
["8650 - Chicago, IL - Del Frisco's","",85,"",85,95,90,85,85,75,60,95,10,0,14,20,8650,8,2014,{"$f":"VLOOKUP(Q1683,Stores!$A:$B,2,FALSE)","v":"DFDE"},"2014-08",{"$f":"VLOOKUP($Q1683,Stores!$A:$D,4,FALSE)","v":"Open"},{"$f":"VLOOKUP(Q1683,Stores!$A:$C,3,FALSE)","v":"Chicago, IL"},3739,0.53490238031559245]
["8655 - Washington, DC -  Del Frisco's","",74,"",69.900000000000006,79.5,79.5,67.099999999999994,78.099999999999994,79.5,64.400000000000006,61.6,11,0,51,73,8655,8,2014,{"$f":"VLOOKUP(Q1684,Stores!$A:$B,2,FALSE)","v":"DFDE"},"2014-08",{"$f":"VLOOKUP($Q1684,Stores!$A:$D,4,FALSE)","v":"Open"},{"$f":"VLOOKUP(Q1684,Stores!$A:$C,3,FALSE)","v":"Washington, DC"},7852,0.92969943963321455]
["8680 - Philadelphia, PA - Del Frisco's","",70.599999999999994,"",66.7,87.3,89.2,74.5,76.5,79.400000000000006,46.1,70.599999999999994,5.9,4,68,102,8680,8,2014,{"$f":"VLOOKUP(Q1685,Stores!$A:$B,2,FALSE)","v":"DFDE"},"2014-08",{"$f":"VLOOKUP($Q1685,Stores!$A:$D,4,FALSE)","v":"Open"},{"$f":"VLOOKUP(Q1685,Stores!$A:$C,3,FALSE)","v":"Philadelphia, PA"},8924,1.1429852084267145]
["8701 - New York City, NY - Grille","",59.1,"",50,72.7,68.2,77.3,63.6,63.6,45.5,36.4,9.1,1,13,22,8701,8,2014,{"$f":"VLOOKUP(Q1686,Stores!$A:$B,2,FALSE)","v":"DFG"},"2014-08",{"$f":"VLOOKUP($Q1686,Stores!$A:$D,4,FALSE)","v":"Open"},{"$f":"VLOOKUP(Q1686,Stores!$A:$C,3,FALSE)","v":"New York City, NY"},12359,0.17800792944412977]
["8702 - Dallas, TX - Grille","",63.6,"",50,77.3,90.9,72.7,68.2,81.8,50,45.5,9.1,0,15,22,8702,8,2014,{"$f":"VLOOKUP(Q1687,Stores!$A:$B,2,FALSE)","v":"DFG"},"2014-08",{"$f":"VLOOKUP($Q1687,Stores!$A:$D,4,FALSE)","v":"Open"},{"$f":"VLOOKUP(Q1687,Stores!$A:$C,3,FALSE)","v":"Dallas, TX"},5965,0.36881810561609391]
["8703 - Washington, DC - Grille","",85,"",75,80,90,75,70,65,60,45,5,0,13,20,8703,8,2014,{"$f":"VLOOKUP(Q1688,Stores!$A:$B,2,FALSE)","v":"DFG"},"2014-08",{"$f":"VLOOKUP($Q1688,Stores!$A:$D,4,FALSE)","v":"Open"},{"$f":"VLOOKUP(Q1688,Stores!$A:$C,3,FALSE)","v":"Washington, DC"},6761,0.29581422866439877]
["8706 - Atlanta, GA - Grille","",92.2,"",90.9,88.3,96.1,89.6,93.5,92.2,77.900000000000006,68.8,2.6,1,63,77,8706,8,2014,{"$f":"VLOOKUP(Q1689,Stores!$A:$B,2,FALSE)","v":"DFG"},"2014-08",{"$f":"VLOOKUP($Q1689,Stores!$A:$D,4,FALSE)","v":"Open"},{"$f":"VLOOKUP(Q1689,Stores!$A:$C,3,FALSE)","v":"Atlanta, GA"},8813,0.87370929308975387]
["8707 - River Oaks, TX - Grille","",66.7,"",52.4,71.400000000000006,81,71.400000000000006,71.400000000000006,81,61.9,47.6,19,3,18,21,8707,8,2014,{"$f":"VLOOKUP(Q1690,Stores!$A:$B,2,FALSE)","v":"DFG"},"2014-08",{"$f":"VLOOKUP($Q1690,Stores!$A:$D,4,FALSE)","v":"Open"},{"$f":"VLOOKUP(Q1690,Stores!$A:$C,3,FALSE)","v":"Houston, TX"},5207,0.40330324563088149]
["8708 - Chestnut Hill, MA - Grille","",74.099999999999994,"",70.400000000000006,85.2,85.2,77.8,70.400000000000006,70.400000000000006,63,63,11.1,1,19,27,8708,8,2014,{"$f":"VLOOKUP(Q1691,Stores!$A:$B,2,FALSE)","v":"DFG"},"2014-08",{"$f":"VLOOKUP($Q1691,Stores!$A:$D,4,FALSE)","v":"Open"},{"$f":"VLOOKUP(Q1691,Stores!$A:$C,3,FALSE)","v":"Chestnut Hill, MA"},5248,0.51448170731707321]
["8709 - Santa Monica, CA - Grille","",66.7,"",41.7,66.7,75,66.7,50,50,33.299999999999997,33.299999999999997,8.3000000000000007,0,8,12,8709,8,2014,{"$f":"VLOOKUP(Q1692,Stores!$A:$B,2,FALSE)","v":"DFG"},"2014-08",{"$f":"VLOOKUP($Q1692,Stores!$A:$D,4,FALSE)","v":"Open"},{"$f":"VLOOKUP(Q1692,Stores!$A:$C,3,FALSE)","v":"Santa Monica, CA"},21410,5.6048575432041101E-2]
["8710 - Fort Worth, TX - Grille","",83.9,"",80.5,86.2,89.7,85.1,82.8,83.9,77,39.1,8,0,52,87,8710,8,2014,{"$f":"VLOOKUP(Q1693,Stores!$A:$B,2,FALSE)","v":"DFG"},"2014-08",{"$f":"VLOOKUP($Q1693,Stores!$A:$D,4,FALSE)","v":"Open"},{"$f":"VLOOKUP(Q1693,Stores!$A:$C,3,FALSE)","v":"Fort Worth, TX"},11373,0.76496966499604324]
["8711 – Cherry Creek, CO - Grille","",75,"",75,87.5,90.6,87.5,81.3,75,68.8,87.5,6.3,0,21,32,8711,8,2014,{"$f":"VLOOKUP(Q1694,Stores!$A:$B,2,FALSE)","v":"DFG"},"2014-08",{"$f":"VLOOKUP($Q1694,Stores!$A:$D,4,FALSE)","v":"Open"},{"$f":"VLOOKUP(Q1694,Stores!$A:$C,3,FALSE)","v":"Cherry Creek, CO"},6078,0.52648897663705163]
["8712 - Southlake, TX - Grille","",72.099999999999994,"",67.2,72.099999999999994,86.9,77,77,70.5,60.7,67.2,13.1,3,39,61,8712,8,2014,{"$f":"VLOOKUP(Q1695,Stores!$A:$B,2,FALSE)","v":"DFG"},"2014-08",{"$f":"VLOOKUP($Q1695,Stores!$A:$D,4,FALSE)","v":"Open"},{"$f":"VLOOKUP(Q1695,Stores!$A:$C,3,FALSE)","v":"Southlake, TX"},11853,0.51463764447819116]
["8713 - Burlington, MA - Grille",41794,84.2,"",91.2,89.5,96.5,87.7,87.7,77.2,61.4,38.6,0,0,44,57,8713,8,2014,{"$f":"VLOOKUP(Q1696,Stores!$A:$B,2,FALSE)","v":"DFG"},"2014-08",{"$f":"VLOOKUP($Q1696,Stores!$A:$D,4,FALSE)","v":"Open"},{"$f":"VLOOKUP(Q1696,Stores!$A:$C,3,FALSE)","v":"Burlington, MA"},7003,0.81393688419248889]
["8714 - N Bethesda, MD - Grille",41908,80,"",70,90,90,80,75,70,65,60,10,0,11,20,8714,8,2014,{"$f":"VLOOKUP(Q1697,Stores!$A:$B,2,FALSE)","v":"DFG"},"2014-08",{"$f":"VLOOKUP($Q1697,Stores!$A:$D,4,FALSE)","v":"Open"},{"$f":"VLOOKUP(Q1697,Stores!$A:$C,3,FALSE)","v":"N. Bethesda, MD"},4988,0.40096230954290296]
["8715 - Irvine, CA - Grille","",80.599999999999994,"",77.8,88.9,94.4,80.599999999999994,83.3,83.3,58.3,69.400000000000006,5.6,0,31,36,8715,8,2014,{"$f":"VLOOKUP(Q1698,Stores!$A:$B,2,FALSE)","v":"DFG"},"2014-08",{"$f":"VLOOKUP($Q1698,Stores!$A:$D,4,FALSE)","v":"Open"},{"$f":"VLOOKUP(Q1698,Stores!$A:$C,3,FALSE)","v":"Irvine, CA"},6387,0.56364490371066234]
["8716 - Tampa, FL - Grille","",62.5,"",66.7,62.5,70.8,62.5,50,75,54.2,66.7,16.7,0,16,24,8716,8,2014,{"$f":"VLOOKUP(Q1699,Stores!$A:$B,2,FALSE)","v":"DFG"},"2014-08",{"$f":"VLOOKUP($Q1699,Stores!$A:$D,4,FALSE)","v":"Open"},{"$f":"VLOOKUP(Q1699,Stores!$A:$C,3,FALSE)","v":"Tampa, FL"},7626,0.3147128245476003]
["8717 - Pasadena, CA - Grille",41992,69.2,"",65.400000000000006,80.8,88.5,65.400000000000006,69.2,76.900000000000006,65.400000000000006,80.8,3.8,0,17,26,8717,8,2014,{"$f":"VLOOKUP(Q1700,Stores!$A:$B,2,FALSE)","v":"DFG"},"2014-08",{"$f":"VLOOKUP($Q1700,Stores!$A:$D,4,FALSE)","v":"Open"},{"$f":"VLOOKUP(Q1700,Stores!$A:$C,3,FALSE)","v":"Pasadena, CA"},4057,0.6408676361843727]
["8718 - Woodlands, TX - Grille","",75.400000000000006,"",63.1,78.5,86.2,83.1,72.3,72.3,63.1,66.2,10.8,1,46,65,8718,8,2014,{"$f":"VLOOKUP(Q1701,Stores!$A:$B,2,FALSE)","v":"DFG"},"2014-08",{"$f":"VLOOKUP($Q1701,Stores!$A:$D,4,FALSE)","v":"Open"},{"$f":"VLOOKUP(Q1701,Stores!$A:$C,3,FALSE)","v":"Woodlands, TX"},9376,0.69325938566552903]
["8720 - Little Rock, AR - Grille","",86.7,"",73.3,86.7,93.3,82.2,84.4,88.9,66.7,75.599999999999994,4.4000000000000004,0,33,45,8720,8,2014,{"$f":"VLOOKUP(Q1702,Stores!$A:$B,2,FALSE)","v":"DFG"},"2014-08",{"$f":"VLOOKUP($Q1702,Stores!$A:$D,4,FALSE)","v":"Open"},{"$f":"VLOOKUP(Q1702,Stores!$A:$C,3,FALSE)","v":"Little Rock, AR"},4166,1.0801728276524245]
["8721 - Plano, TX - Grille","",76.599999999999994,"",72.3,85.1,91.5,76.599999999999994,76.599999999999994,78.7,63.8,87.2,10.6,1,38,47,8721,8,2014,{"$f":"VLOOKUP(Q1703,Stores!$A:$B,2,FALSE)","v":"DFG"},"2014-08",{"$f":"VLOOKUP($Q1703,Stores!$A:$D,4,FALSE)","v":"Open"},{"$f":"VLOOKUP(Q1703,Stores!$A:$C,3,FALSE)","v":"Plano, TX"},9733,0.48289324976882769]
["8722 – Stamford, CT - Grille","",100,"",100,100,100,85.7,100,85.7,85.7,71.400000000000006,0,0,5,7,8722,8,2014,{"$f":"VLOOKUP(Q1704,Stores!$A:$B,2,FALSE)","v":"DFG"},"2014-08",{"$f":"VLOOKUP($Q1704,Stores!$A:$D,4,FALSE)","v":"Open"},{"$f":"VLOOKUP(Q1704,Stores!$A:$C,3,FALSE)","v":"Stamford, CT"},4105,0.17052375152253352]
["8723 – Hoboken, NJ - Grille","",90.5,"",85.7,90.5,95.2,85.7,90.5,90.5,81,52.4,0,0,16,21,8723,8,2014,{"$f":"VLOOKUP(Q1705,Stores!$A:$B,2,FALSE)","v":"DFG"},"2014-08",{"$f":"VLOOKUP($Q1705,Stores!$A:$D,4,FALSE)","v":"Open"},{"$f":"VLOOKUP(Q1705,Stores!$A:$C,3,FALSE)","v":"Hoboken, NJ"},10642,0.19733132869761322]
["8724 - Huntington, NY - Grille","",85.7,"",88.6,88.6,94.3,82.9,88.6,94.3,77.099999999999994,74.3,2.9,1,29,35,8724,8,2014,{"$f":"VLOOKUP(Q1706,Stores!$A:$B,2,FALSE)","v":"DFG"},"2014-08",{"$f":"VLOOKUP($Q1706,Stores!$A:$D,4,FALSE)","v":"Open"},{"$f":"VLOOKUP(Q1706,Stores!$A:$C,3,FALSE)","v":"Huntington, NY"},7970,0.43914680050188204]
["8725 - Nashville, TN - Grille","",83.3,"",70.8,91.7,95.8,75,79.2,79.2,79.2,62.5,12.5,2,17,24,8725,8,2014,{"$f":"VLOOKUP(Q1707,Stores!$A:$B,2,FALSE)","v":"DFG"},"2014-08",{"$f":"VLOOKUP($Q1707,Stores!$A:$D,4,FALSE)","v":"Open"},{"$f":"VLOOKUP(Q1707,Stores!$A:$C,3,FALSE)","v":"Nashville, TN"},6153,0.39005363237445145]
["8726 - Brentwood, TN - Grille",42693,77.3,"",76.099999999999994,80.7,86.4,73.900000000000006,84.1,75,58,67,3.4,0,61,88,8726,8,2014,{"$f":"VLOOKUP(Q1708,Stores!$A:$B,2,FALSE)","v":"DFG"},"2014-08",{"$f":"VLOOKUP($Q1708,Stores!$A:$D,4,FALSE)","v":"Open"},{"$f":"VLOOKUP(Q1708,Stores!$A:$C,3,FALSE)","v":"Brentwood, TN"},10186,0.86393088552915764]
["8728 - Brookfield Place, NY - Grille","",68.2,"",50,77.3,81.8,77.3,63.6,77.3,54.5,68.2,18.2,0,16,22,8728,8,2014,{"$f":"VLOOKUP(Q1709,Stores!$A:$B,2,FALSE)","v":"DFG"},"2014-08",{"$f":"VLOOKUP($Q1709,Stores!$A:$D,4,FALSE)","v":"Open"},{"$f":"VLOOKUP(Q1709,Stores!$A:$C,3,FALSE)","v":"Brookfield NYC, NY"},10365,0.21225277375783888]
["8501 - Austin, TX - Sullivan's","",89.7,"",89.7,89.7,96.6,79.3,75.900000000000006,86.2,79.3,79.3,0,0,15,29,{"$f":"MID(A1710,1,4)*1","v":8501},9,2014,{"$f":"VLOOKUP(Q1710,Stores!$A:$B,2,FALSE)","v":"SULL"},"2014-09",{"$f":"VLOOKUP($Q1710,Stores!$A:$D,4,FALSE)","v":"Open"},{"$f":"VLOOKUP(Q1710,Stores!$A:$C,3,FALSE)","v":"Austin, TX"},3702,{"$f":"P1710/(X1710/100)","v":0.78336034575904911}]
["8502 - Indianapolis, IN - Sullivan's","",71.599999999999994,"",68.2,79.5,84.1,83,75,76.099999999999994,64.8,71.599999999999994,11.4,0,69,88,8502,9,2014,{"$f":"VLOOKUP(Q1711,Stores!$A:$B,2,FALSE)","v":"SULL"},"2014-09",{"$f":"VLOOKUP($Q1711,Stores!$A:$D,4,FALSE)","v":"Open"},{"$f":"VLOOKUP(Q1711,Stores!$A:$C,3,FALSE)","v":"Indianapolis, IN"},7216,1.2195121951219512]
["8510 - Wilmington, DE - Sullivan's","",64.099999999999994,"",53.8,74.400000000000006,82.1,64.099999999999994,71.8,66.7,51.3,61.5,23.1,0,29,39,8510,9,2014,{"$f":"VLOOKUP(Q1712,Stores!$A:$B,2,FALSE)","v":"SULL"},"2014-09",{"$f":"VLOOKUP($Q1712,Stores!$A:$D,4,FALSE)","v":"Open"},{"$f":"VLOOKUP(Q1712,Stores!$A:$C,3,FALSE)","v":"Wilmington, DE"},4944,0.78883495145631066]
["8522 - King of Prussia, PA - Sullivan's","",53.6,"",46.4,75,92.9,57.1,46.4,53.6,32.1,46.4,28.6,1,21,28,8522,9,2014,{"$f":"VLOOKUP(Q1713,Stores!$A:$B,2,FALSE)","v":"SULL"},"2014-09",{"$f":"VLOOKUP($Q1713,Stores!$A:$D,4,FALSE)","v":"Open"},{"$f":"VLOOKUP(Q1713,Stores!$A:$C,3,FALSE)","v":"King of Prussia, PA"},4041,0.69289779757485781]
["8525 - Tucson, AZ - Sullivan's","",81.3,"",81.3,90.6,90.6,81.3,84.4,84.4,68.8,87.5,0,0,27,32,8525,9,2014,{"$f":"VLOOKUP(Q1714,Stores!$A:$B,2,FALSE)","v":"SULL"},"2014-09",{"$f":"VLOOKUP($Q1714,Stores!$A:$D,4,FALSE)","v":"Open"},{"$f":"VLOOKUP(Q1714,Stores!$A:$C,3,FALSE)","v":"Tucson, AZ"},3218,0.99440646364201368]
["8532 - Omaha, NE - Sullivan's","",60,"",60,75,70,70,70,75,45,65,15,0,12,20,8532,9,2014,{"$f":"VLOOKUP(Q1715,Stores!$A:$B,2,FALSE)","v":"SULL"},"2014-09",{"$f":"VLOOKUP($Q1715,Stores!$A:$D,4,FALSE)","v":"Open"},{"$f":"VLOOKUP(Q1715,Stores!$A:$C,3,FALSE)","v":"Omaha, NE"},3440,0.58139534883720934]
["8535 - Baltimore, MD - Sullivan's","",88.6,"",86.4,90.9,90.9,90.9,90.9,90.9,81.8,65.900000000000006,2.2999999999999998,0,31,44,8535,9,2014,{"$f":"VLOOKUP(Q1716,Stores!$A:$B,2,FALSE)","v":"SULL"},"2014-09",{"$f":"VLOOKUP($Q1716,Stores!$A:$D,4,FALSE)","v":"Open"},{"$f":"VLOOKUP(Q1716,Stores!$A:$C,3,FALSE)","v":"Baltimore, MD"},3438,1.2798138452588714]
["8536 - Leawood, KS - Sullivan's","",88.2,"",88.2,94.1,92.2,86.3,90.2,88.2,70.599999999999994,98,0,0,33,51,8536,9,2014,{"$f":"VLOOKUP(Q1717,Stores!$A:$B,2,FALSE)","v":"SULL"},"2014-09",{"$f":"VLOOKUP($Q1717,Stores!$A:$D,4,FALSE)","v":"Open"},{"$f":"VLOOKUP(Q1717,Stores!$A:$C,3,FALSE)","v":"Leawood, KS"},4208,1.2119771863117872]
["8541 - Chicago, IL - Sullivan's","",83.3,"",75,91.7,91.7,91.7,83.3,75,66.7,100,0,0,7,12,8541,9,2014,{"$f":"VLOOKUP(Q1718,Stores!$A:$B,2,FALSE)","v":"SULL"},"2014-09",{"$f":"VLOOKUP($Q1718,Stores!$A:$D,4,FALSE)","v":"Open"},{"$f":"VLOOKUP(Q1718,Stores!$A:$C,3,FALSE)","v":"Chicago, IL"},2369,0.50654284508231318]
["8542 - Naperville, IL - Sullivan's","",76.7,"",71.7,85,86.7,81.7,83.3,81.7,55,83.3,8.3000000000000007,0,44,60,8542,9,2014,{"$f":"VLOOKUP(Q1719,Stores!$A:$B,2,FALSE)","v":"SULL"},"2014-09",{"$f":"VLOOKUP($Q1719,Stores!$A:$D,4,FALSE)","v":"Open"},{"$f":"VLOOKUP(Q1719,Stores!$A:$C,3,FALSE)","v":"Naperville, IL"},5075,1.1822660098522169]
["8543 - Lincolnshire, IL - Sullivan's","",78.599999999999994,"",85.7,78.599999999999994,85.7,78.599999999999994,71.400000000000006,92.9,57.1,85.7,7.1,0,11,14,8543,9,2014,{"$f":"VLOOKUP(Q1720,Stores!$A:$B,2,FALSE)","v":"SULL"},"2014-09",{"$f":"VLOOKUP($Q1720,Stores!$A:$D,4,FALSE)","v":"Open"},{"$f":"VLOOKUP(Q1720,Stores!$A:$C,3,FALSE)","v":"Lincolnshire, IL"},2955,0.47377326565143824]
["8551 - Baton Rouge, LA - Sullivan's","",93.8,"",96.9,97.9,97.9,93.8,92.7,93.8,84.4,87.5,0,0,71,96,8551,9,2014,{"$f":"VLOOKUP(Q1721,Stores!$A:$B,2,FALSE)","v":"SULL"},"2014-09",{"$f":"VLOOKUP($Q1721,Stores!$A:$D,4,FALSE)","v":"Open"},{"$f":"VLOOKUP(Q1721,Stores!$A:$C,3,FALSE)","v":"Baton Rouge, LA"},3837,2.5019546520719316]
["8561 - Raleigh, NC - Sullivan's","",60,"",57.3,64,78.7,62.7,72,57.3,61.3,69.3,13.3,4,58,75,8561,9,2014,{"$f":"VLOOKUP(Q1722,Stores!$A:$B,2,FALSE)","v":"SULL"},"2014-09",{"$f":"VLOOKUP($Q1722,Stores!$A:$D,4,FALSE)","v":"Open"},{"$f":"VLOOKUP(Q1722,Stores!$A:$C,3,FALSE)","v":"Raleigh, NC"},7039,1.0654922574229293]
["8562 - Charlotte, NC - Sullivan's","",62.5,"",37.5,62.5,81.3,62.5,68.8,75,37.5,68.8,18.8,0,12,16,8562,9,2014,{"$f":"VLOOKUP(Q1723,Stores!$A:$B,2,FALSE)","v":"SULL"},"2014-09",{"$f":"VLOOKUP($Q1723,Stores!$A:$D,4,FALSE)","v":"Open"},{"$f":"VLOOKUP(Q1723,Stores!$A:$C,3,FALSE)","v":"Charlotte, NC"},3399,0.47072668431891729]
["8570 - Palm Desert, CA - Sullivan's","",82,"",82,94,96,90,84,82,68,86,2,0,43,50,8570,9,2014,{"$f":"VLOOKUP(Q1724,Stores!$A:$B,2,FALSE)","v":"SULL"},"2014-09",{"$f":"VLOOKUP($Q1724,Stores!$A:$D,4,FALSE)","v":"Open"},{"$f":"VLOOKUP(Q1724,Stores!$A:$C,3,FALSE)","v":"Palm Desert, CA"},3836,1.3034410844629822]
["8591 - Anchorage, AK - Sullivan's","",79.5,"",71.8,87.2,89.7,84.6,84.6,94.9,76.900000000000006,82.1,10.3,1,30,39,8591,9,2014,{"$f":"VLOOKUP(Q1725,Stores!$A:$B,2,FALSE)","v":"SULL"},"2014-09",{"$f":"VLOOKUP($Q1725,Stores!$A:$D,4,FALSE)","v":"Open"},{"$f":"VLOOKUP(Q1725,Stores!$A:$C,3,FALSE)","v":"Anchorage, AK"},7451,0.523419675211381]
["8602 - Fort Worth, TX - Del Frisco's","",75.7,"",72.3,85.5,91.9,72.8,79.2,78,50.3,79.2,8.6999999999999993,0,118,173,8602,9,2014,{"$f":"VLOOKUP(Q1726,Stores!$A:$B,2,FALSE)","v":"DFDE"},"2014-09",{"$f":"VLOOKUP($Q1726,Stores!$A:$D,4,FALSE)","v":"Open"},{"$f":"VLOOKUP(Q1726,Stores!$A:$C,3,FALSE)","v":"Fort Worth, TX"},7351,2.3534213032240512]
["8603 - Denver, CO - Del Frisco's","",82.7,"",79.099999999999994,87.1,92.1,82,88.5,81.3,66.2,77,5,1,84,139,8603,9,2014,{"$f":"VLOOKUP(Q1727,Stores!$A:$B,2,FALSE)","v":"DFDE"},"2014-09",{"$f":"VLOOKUP($Q1727,Stores!$A:$D,4,FALSE)","v":"Open"},{"$f":"VLOOKUP(Q1727,Stores!$A:$C,3,FALSE)","v":"Denver, CO"},9338,1.4885414435639324]
["8604 - Charlotte, NC - Del Frisco's","",71.8,"",54.9,77.5,81.7,76.099999999999994,76.099999999999994,83.1,39.4,52.1,12.7,0,48,71,8604,9,2014,{"$f":"VLOOKUP(Q1728,Stores!$A:$B,2,FALSE)","v":"DFDE"},"2014-09",{"$f":"VLOOKUP($Q1728,Stores!$A:$D,4,FALSE)","v":"Open"},{"$f":"VLOOKUP(Q1728,Stores!$A:$C,3,FALSE)","v":"Charlotte, NC"},6439,1.1026556918776207]
["8605 - Houston, TX - Del Frisco's","",78.900000000000006,"",71.599999999999994,74.7,81.099999999999994,72.599999999999994,81.099999999999994,76.8,70.5,70.5,8.4,1,63,95,8605,9,2014,{"$f":"VLOOKUP(Q1729,Stores!$A:$B,2,FALSE)","v":"DFDE"},"2014-09",{"$f":"VLOOKUP($Q1729,Stores!$A:$D,4,FALSE)","v":"Open"},{"$f":"VLOOKUP(Q1729,Stores!$A:$C,3,FALSE)","v":"Houston, TX"},6644,1.4298615291992776]
["8610 - Dallas, TX - Del Frisco's","",60,"",45,60,75,60,68.3,76.7,43.3,58.3,20,4,43,60,8610,9,2014,{"$f":"VLOOKUP(Q1730,Stores!$A:$B,2,FALSE)","v":"DFDE"},"2014-09",{"$f":"VLOOKUP($Q1730,Stores!$A:$D,4,FALSE)","v":"Open"},{"$f":"VLOOKUP(Q1730,Stores!$A:$C,3,FALSE)","v":"Dallas, TX"},8754,0.68540095956134328]
["8611 - Plano, TX - Del Frisco","",64.099999999999994,"",56.4,74.400000000000006,81.2,65.8,71.8,70.099999999999994,44.4,75.2,17.100000000000001,1,83,117,8611,9,2014,{"$f":"VLOOKUP(Q1731,Stores!$A:$B,2,FALSE)","v":"DFDE"},{"$f":"S1731&\"-\"&REPT(\"0\",2-LEN(R1731))&R1731","v":"2014-09"},{"$f":"VLOOKUP($Q1731,Stores!$A:$D,4,FALSE)","v":"Open"},{"$f":"VLOOKUP(Q1731,Stores!$A:$C,3,FALSE)","v":"Plano, TX"},7641,1.5312131919905771]
["8615 - Orlando, FL - Del Frisco’s","",76.099999999999994,"",71.599999999999994,77.599999999999994,86.6,82.1,80.599999999999994,79.099999999999994,62.7,74.599999999999994,7.5,1,53,67,8615,9,2014,{"$f":"VLOOKUP(Q1732,Stores!$A:$B,2,FALSE)","v":"DFDE"},"2014-09",{"$f":"VLOOKUP($Q1732,Stores!$A:$D,4,FALSE)","v":"Open"},{"$f":"VLOOKUP(Q1732,Stores!$A:$C,3,FALSE)","v":"Orlando, FL"},5225,1.2822966507177034]
["8620 - New York City, NY - Del Frisco's","",70.400000000000006,"",66.400000000000006,84.2,87.5,79.599999999999994,73,79.599999999999994,48.7,62.5,7.9,3,108,152,8620,9,2014,{"$f":"VLOOKUP(Q1733,Stores!$A:$B,2,FALSE)","v":"DFDE"},"2014-09",{"$f":"VLOOKUP($Q1733,Stores!$A:$D,4,FALSE)","v":"Open"},{"$f":"VLOOKUP(Q1733,Stores!$A:$C,3,FALSE)","v":"New York City, NY"},19964,0.76137046684031262]
["8635 - Boston, MA - Del Frisco's","",62.2,"",54.1,76.3,79.3,63.7,78.5,70.400000000000006,49.6,54.1,14.1,5,89,135,8635,9,2014,{"$f":"VLOOKUP(Q1734,Stores!$A:$B,2,FALSE)","v":"DFDE"},"2014-09",{"$f":"VLOOKUP($Q1734,Stores!$A:$D,4,FALSE)","v":"Open"},{"$f":"VLOOKUP(Q1734,Stores!$A:$C,3,FALSE)","v":"Boston, MA"},14461,0.93354539796694547]
["8640 - Las Vegas, NV - Del Frisco's","",70.900000000000006,"",78.2,85.5,89.1,72.7,70.900000000000006,76.400000000000006,60,76.400000000000006,5.5,2,40,55,8640,9,2014,{"$f":"VLOOKUP(Q1735,Stores!$A:$B,2,FALSE)","v":"DFDE"},"2014-09",{"$f":"VLOOKUP($Q1735,Stores!$A:$D,4,FALSE)","v":"Open"},{"$f":"VLOOKUP(Q1735,Stores!$A:$C,3,FALSE)","v":"Las Vegas, NV"},4179,1.316104331179708]
["8650 - Chicago, IL - Del Frisco's","",90.5,"",76.2,95.2,95.2,85.7,90.5,95.2,57.1,81,0,0,12,21,8650,9,2014,{"$f":"VLOOKUP(Q1736,Stores!$A:$B,2,FALSE)","v":"DFDE"},"2014-09",{"$f":"VLOOKUP($Q1736,Stores!$A:$D,4,FALSE)","v":"Open"},{"$f":"VLOOKUP(Q1736,Stores!$A:$C,3,FALSE)","v":"Chicago, IL"},3192,0.6578947368421052]
["8655 - Washington, DC -  Del Frisco's","",70.7,"",64,74.7,78.7,70.7,74.7,74.7,72,41.3,9.3000000000000007,0,60,75,8655,9,2014,{"$f":"VLOOKUP(Q1737,Stores!$A:$B,2,FALSE)","v":"DFDE"},"2014-09",{"$f":"VLOOKUP($Q1737,Stores!$A:$D,4,FALSE)","v":"Open"},{"$f":"VLOOKUP(Q1737,Stores!$A:$C,3,FALSE)","v":"Washington, DC"},9599,0.78133138868632157]
["8680 - Philadelphia, PA - Del Frisco's","",69.5,"",55.2,81.900000000000006,88.6,73.3,74.3,73.3,44.8,62.9,13.3,3,71,105,8680,9,2014,{"$f":"VLOOKUP(Q1738,Stores!$A:$B,2,FALSE)","v":"DFDE"},"2014-09",{"$f":"VLOOKUP($Q1738,Stores!$A:$D,4,FALSE)","v":"Open"},{"$f":"VLOOKUP(Q1738,Stores!$A:$C,3,FALSE)","v":"Philadelphia, PA"},9036,1.1620185922974768]
["8701 - New York City, NY - Grille","",63.2,"",42.1,73.7,84.2,78.900000000000006,68.400000000000006,73.7,42.1,36.799999999999997,15.8,1,12,19,8701,9,2014,{"$f":"VLOOKUP(Q1739,Stores!$A:$B,2,FALSE)","v":"DFG"},"2014-09",{"$f":"VLOOKUP($Q1739,Stores!$A:$D,4,FALSE)","v":"Open"},{"$f":"VLOOKUP(Q1739,Stores!$A:$C,3,FALSE)","v":"New York City, NY"},11243,0.16899404073645824]
["8702 - Dallas, TX - Grille","",69.599999999999994,"",60.9,65.2,73.900000000000006,69.599999999999994,78.3,82.6,60.9,34.799999999999997,21.7,0,17,23,8702,9,2014,{"$f":"VLOOKUP(Q1740,Stores!$A:$B,2,FALSE)","v":"DFG"},"2014-09",{"$f":"VLOOKUP($Q1740,Stores!$A:$D,4,FALSE)","v":"Open"},{"$f":"VLOOKUP(Q1740,Stores!$A:$C,3,FALSE)","v":"Dallas, TX"},5873,0.39162268006129747]
["8703 - Washington, DC - Grille","",64.7,"",76.5,70.599999999999994,70.599999999999994,64.7,76.5,76.5,64.7,35.299999999999997,5.9,0,11,17,8703,9,2014,{"$f":"VLOOKUP(Q1741,Stores!$A:$B,2,FALSE)","v":"DFG"},"2014-09",{"$f":"VLOOKUP($Q1741,Stores!$A:$D,4,FALSE)","v":"Open"},{"$f":"VLOOKUP(Q1741,Stores!$A:$C,3,FALSE)","v":"Washington, DC"},6074,0.2798814619690484]
["8706 - Atlanta, GA - Grille","",80,"",76.7,86.7,93.3,76.7,86.7,80,63.3,56.7,13.3,1,25,30,8706,9,2014,{"$f":"VLOOKUP(Q1742,Stores!$A:$B,2,FALSE)","v":"DFG"},"2014-09",{"$f":"VLOOKUP($Q1742,Stores!$A:$D,4,FALSE)","v":"Open"},{"$f":"VLOOKUP(Q1742,Stores!$A:$C,3,FALSE)","v":"Atlanta, GA"},8095,0.37059913526868438]
["8707 - River Oaks, TX - Grille","",50,"",26.9,53.8,73.099999999999994,53.8,53.8,61.5,57.7,50,30.8,3,20,26,8707,9,2014,{"$f":"VLOOKUP(Q1743,Stores!$A:$B,2,FALSE)","v":"DFG"},"2014-09",{"$f":"VLOOKUP($Q1743,Stores!$A:$D,4,FALSE)","v":"Open"},{"$f":"VLOOKUP(Q1743,Stores!$A:$C,3,FALSE)","v":"Houston, TX"},5036,0.51628276409849083]
["8708 - Chestnut Hill, MA - Grille","",44.4,"",11.1,55.6,70.400000000000006,55.6,48.1,44.4,25.9,59.3,22.2,0,19,27,8708,9,2014,{"$f":"VLOOKUP(Q1744,Stores!$A:$B,2,FALSE)","v":"DFG"},"2014-09",{"$f":"VLOOKUP($Q1744,Stores!$A:$D,4,FALSE)","v":"Open"},{"$f":"VLOOKUP(Q1744,Stores!$A:$C,3,FALSE)","v":"Chestnut Hill, MA"},6514,0.41449186367823149]
["8709 - Santa Monica, CA - Grille","",96.4,"",85.7,96.4,96.4,92.9,96.4,89.3,85.7,57.1,0,0,22,28,8709,9,2014,{"$f":"VLOOKUP(Q1745,Stores!$A:$B,2,FALSE)","v":"DFG"},"2014-09",{"$f":"VLOOKUP($Q1745,Stores!$A:$D,4,FALSE)","v":"Open"},{"$f":"VLOOKUP(Q1745,Stores!$A:$C,3,FALSE)","v":"Santa Monica, CA"},17808,0.15723270440251572]
["8710 - Fort Worth, TX - Grille","",73.8,"",73.8,70.8,84.6,76.900000000000006,81.5,78.5,61.5,46.2,6.2,1,36,65,8710,9,2014,{"$f":"VLOOKUP(Q1746,Stores!$A:$B,2,FALSE)","v":"DFG"},"2014-09",{"$f":"VLOOKUP($Q1746,Stores!$A:$D,4,FALSE)","v":"Open"},{"$f":"VLOOKUP(Q1746,Stores!$A:$C,3,FALSE)","v":"Fort Worth, TX"},10933,0.59453032104637338]
["8711 – Cherry Creek, CO - Grille","",83.3,"",88.9,88.9,90.7,92.6,83.3,87,81.5,74.099999999999994,5.6,0,39,54,8711,9,2014,{"$f":"VLOOKUP(Q1747,Stores!$A:$B,2,FALSE)","v":"DFG"},"2014-09",{"$f":"VLOOKUP($Q1747,Stores!$A:$D,4,FALSE)","v":"Open"},{"$f":"VLOOKUP(Q1747,Stores!$A:$C,3,FALSE)","v":"Cherry Creek, CO"},6368,0.84798994974874375]
["8712 - Southlake, TX - Grille","",73,"",63.5,76.2,84.1,77.8,77.8,65.099999999999994,58.7,66.7,9.5,1,45,63,8712,9,2014,{"$f":"VLOOKUP(Q1748,Stores!$A:$B,2,FALSE)","v":"DFG"},"2014-09",{"$f":"VLOOKUP($Q1748,Stores!$A:$D,4,FALSE)","v":"Open"},{"$f":"VLOOKUP(Q1748,Stores!$A:$C,3,FALSE)","v":"Southlake, TX"},12179,0.51728384924870674]
["8713 - Burlington, MA - Grille",41794,70,"",47.1,80,84.3,71.400000000000006,71.400000000000006,67.099999999999994,57.1,32.9,11.4,0,57,70,8713,9,2014,{"$f":"VLOOKUP(Q1749,Stores!$A:$B,2,FALSE)","v":"DFG"},"2014-09",{"$f":"VLOOKUP($Q1749,Stores!$A:$D,4,FALSE)","v":"Open"},{"$f":"VLOOKUP(Q1749,Stores!$A:$C,3,FALSE)","v":"Burlington, MA"},8046,0.86999751429281635]
["8714 - N Bethesda, MD - Grille",41908,75,"",55,75,85,85,80,80,75,70,10,1,16,20,8714,9,2014,{"$f":"VLOOKUP(Q1750,Stores!$A:$B,2,FALSE)","v":"DFG"},"2014-09",{"$f":"VLOOKUP($Q1750,Stores!$A:$D,4,FALSE)","v":"Open"},{"$f":"VLOOKUP(Q1750,Stores!$A:$C,3,FALSE)","v":"N. Bethesda, MD"},4794,0.41718815185648728]
["8715 - Irvine, CA - Grille","",79.5,"",75,84.1,84.1,84.1,79.5,79.5,65.900000000000006,75,9.1,0,39,44,8715,9,2014,{"$f":"VLOOKUP(Q1751,Stores!$A:$B,2,FALSE)","v":"DFG"},"2014-09",{"$f":"VLOOKUP($Q1751,Stores!$A:$D,4,FALSE)","v":"Open"},{"$f":"VLOOKUP(Q1751,Stores!$A:$C,3,FALSE)","v":"Irvine, CA"},6174,0.71266601878846769]
["8716 - Tampa, FL - Grille","",78.599999999999994,"",75,85.7,96.4,85.7,85.7,85.7,67.900000000000006,67.900000000000006,3.6,1,17,28,8716,9,2014,{"$f":"VLOOKUP(Q1752,Stores!$A:$B,2,FALSE)","v":"DFG"},"2014-09",{"$f":"VLOOKUP($Q1752,Stores!$A:$D,4,FALSE)","v":"Open"},{"$f":"VLOOKUP(Q1752,Stores!$A:$C,3,FALSE)","v":"Tampa, FL"},6790,0.41237113402061853]
["8717 - Pasadena, CA - Grille",41992,74.2,"",74.2,80.599999999999994,83.9,71,77.400000000000006,80.599999999999994,67.7,87.1,3.2,0,22,31,8717,9,2014,{"$f":"VLOOKUP(Q1753,Stores!$A:$B,2,FALSE)","v":"DFG"},"2014-09",{"$f":"VLOOKUP($Q1753,Stores!$A:$D,4,FALSE)","v":"Open"},{"$f":"VLOOKUP(Q1753,Stores!$A:$C,3,FALSE)","v":"Pasadena, CA"},4536,0.68342151675485008]
["8718 - Woodlands, TX - Grille","",71,"",74.2,82.3,91.9,75.8,77.400000000000006,88.7,72.599999999999994,69.400000000000006,4.8,1,50,62,8718,9,2014,{"$f":"VLOOKUP(Q1754,Stores!$A:$B,2,FALSE)","v":"DFG"},"2014-09",{"$f":"VLOOKUP($Q1754,Stores!$A:$D,4,FALSE)","v":"Open"},{"$f":"VLOOKUP(Q1754,Stores!$A:$C,3,FALSE)","v":"Woodlands, TX"},7616,0.81407563025210083]
["8720 - Little Rock, AR - Grille","",67.7,"",61.3,74.2,80.599999999999994,61.3,77.400000000000006,83.9,61.3,77.400000000000006,9.6999999999999993,0,23,31,8720,9,2014,{"$f":"VLOOKUP(Q1755,Stores!$A:$B,2,FALSE)","v":"DFG"},"2014-09",{"$f":"VLOOKUP($Q1755,Stores!$A:$D,4,FALSE)","v":"Open"},{"$f":"VLOOKUP(Q1755,Stores!$A:$C,3,FALSE)","v":"Little Rock, AR"},3925,0.78980891719745228]
["8721 - Plano, TX - Grille","",81.3,"",73.8,85,88.8,82.5,86.3,82.5,71.3,80,5,1,64,80,8721,9,2014,{"$f":"VLOOKUP(Q1756,Stores!$A:$B,2,FALSE)","v":"DFG"},"2014-09",{"$f":"VLOOKUP($Q1756,Stores!$A:$D,4,FALSE)","v":"Open"},{"$f":"VLOOKUP(Q1756,Stores!$A:$C,3,FALSE)","v":"Plano, TX"},8983,0.89057107870421914]
["8722 – Stamford, CT - Grille","",81,"",81,85.7,90.5,71.400000000000006,81,47.6,76.2,71.400000000000006,0,0,13,21,8722,9,2014,{"$f":"VLOOKUP(Q1757,Stores!$A:$B,2,FALSE)","v":"DFG"},"2014-09",{"$f":"VLOOKUP($Q1757,Stores!$A:$D,4,FALSE)","v":"Open"},{"$f":"VLOOKUP(Q1757,Stores!$A:$C,3,FALSE)","v":"Stamford, CT"},4509,0.46573519627411841]
["8723 – Hoboken, NJ - Grille","",85.3,"",76.5,85.3,88.2,79.400000000000006,88.2,85.3,79.400000000000006,70.599999999999994,11.8,0,29,34,8723,9,2014,{"$f":"VLOOKUP(Q1758,Stores!$A:$B,2,FALSE)","v":"DFG"},"2014-09",{"$f":"VLOOKUP($Q1758,Stores!$A:$D,4,FALSE)","v":"Open"},{"$f":"VLOOKUP(Q1758,Stores!$A:$C,3,FALSE)","v":"Hoboken, NJ"},9453,0.35967417750978525]
["8724 - Huntington, NY - Grille","",69.2,"",71.8,82.1,92.3,82.1,71.8,74.400000000000006,59,89.7,10.3,0,30,39,8724,9,2014,{"$f":"VLOOKUP(Q1759,Stores!$A:$B,2,FALSE)","v":"DFG"},"2014-09",{"$f":"VLOOKUP($Q1759,Stores!$A:$D,4,FALSE)","v":"Open"},{"$f":"VLOOKUP(Q1759,Stores!$A:$C,3,FALSE)","v":"Huntington, NY"},7873,0.49536390194335067]
["8725 - Nashville, TN - Grille","",61.1,"",55.6,72.2,77.8,72.2,66.7,72.2,55.6,83.3,16.7,1,15,18,8725,9,2014,{"$f":"VLOOKUP(Q1760,Stores!$A:$B,2,FALSE)","v":"DFG"},"2014-09",{"$f":"VLOOKUP($Q1760,Stores!$A:$D,4,FALSE)","v":"Open"},{"$f":"VLOOKUP(Q1760,Stores!$A:$C,3,FALSE)","v":"Nashville, TN"},6428,0.28002489110143125]
["8726 - Brentwood, TN - Grille",42693,76.099999999999994,"",72.8,80.400000000000006,88,77.2,80.400000000000006,83.7,57.6,65.2,3.3,1,63,92,8726,9,2014,{"$f":"VLOOKUP(Q1761,Stores!$A:$B,2,FALSE)","v":"DFG"},"2014-09",{"$f":"VLOOKUP($Q1761,Stores!$A:$D,4,FALSE)","v":"Open"},{"$f":"VLOOKUP(Q1761,Stores!$A:$C,3,FALSE)","v":"Brentwood, TN"},10457,0.87979343980109026]
["8728 - Brookfield Place, NY - Grille","",58.6,"",34.5,55.2,65.5,62.1,79.3,72.400000000000006,44.8,58.6,27.6,0,27,29,8728,9,2014,{"$f":"VLOOKUP(Q1762,Stores!$A:$B,2,FALSE)","v":"DFG"},"2014-09",{"$f":"VLOOKUP($Q1762,Stores!$A:$D,4,FALSE)","v":"Open"},{"$f":"VLOOKUP(Q1762,Stores!$A:$C,3,FALSE)","v":"Brookfield NYC, NY"},8087,0.35860022257944846]

{"sheet":"Stores","index":10,"n_rows":60,"n_cols":4,"rows_kept":60,"cut":false,"hidden":false,"merged":[]}
["Store #","Brand","Chart label","Status"]
[8501,"SULL","Austin, TX","Open"]
[8502,"SULL","Indianapolis, IN","Open"]
[8503,"SULL","Denver, CO","Closed"]
[8504,"SULL","Houston, TX","Closed"]
[8510,"SULL","Wilmington, DE","Open"]
[8522,"SULL","King of Prussia, PA","Open"]
[8525,"SULL","Tucson, AZ","Open"]
[8532,"SULL","Omaha, NE","Open"]
[8535,"SULL","Baltimore, MD","Open"]
[8536,"SULL","Leawood, KS","Open"]
[8541,"SULL","Chicago, IL","Open"]
[8542,"SULL","Naperville, IL","Open"]
[8543,"SULL","Lincolnshire, IL","Open"]
[8551,"SULL","Baton Rouge, LA","Open"]
[8561,"SULL","Raleigh, NC","Open"]
[8562,"SULL","Charlotte, NC","Open"]
[8570,"SULL","Palm Desert, CA","Open"]
[8591,"SULL","Anchorage, AK","Open"]
[8592,"SULL","Seattle, WA","Closed"]
[8601,"DFDE","Dallas, TX","Closed"]
[8602,"DFDE","Fort Worth, TX","Open"]
[8603,"DFDE","Denver, CO","Open"]
[8604,"DFDE","Charlotte, NC","Open"]
[8605,"DFDE","Houston, TX","Open"]
[8610,"DFDE","Dallas, TX","Open"]
[8611,"DFDE","Plano, TX","Open"]
[8615,"DFDE","Orlando, FL","Open"]
[8620,"DFDE","New York City, NY","Open"]
[8635,"DFDE","Boston, MA","Open"]
[8640,"DFDE","Las Vegas, NV","Open"]
[8650,"DFDE","Chicago, IL","Open"]
[8655,"DFDE","Washington, DC","Open"]
[8680,"DFDE","Philadelphia, PA","Open"]
[8701,"DFG","New York City, NY","Open"]
[8702,"DFG","Dallas, TX","Open"]
[8703,"DFG","Washington, DC","Open"]
[8704,"DFG","Phoenix, AZ","Closed"]
[8705,"DFG","Palm Beach, FL","Closed"]
[8706,"DFG","Atlanta, GA","Open"]
[8707,"DFG","Houston, TX","Open"]
[8708,"DFG","Chestnut Hill, MA","Open"]
[8709,"DFG","Santa Monica, CA","Open"]
[8710,"DFG","Fort Worth, TX","Open"]
[8711,"DFG","Cherry Creek, CO","Open"]
[8712,"DFG","Southlake, TX","Open"]
[8713,"DFG","Burlington, MA","Open"]
[8714,"DFG","N. Bethesda, MD","Open"]
[8715,"DFG","Irvine, CA","Open"]
[8716,"DFG","Tampa, FL","Open"]
[8717,"DFG","Pasadena, CA","Open"]
[8718,"DFG","Woodlands, TX","Open"]
[8720,"DFG","Little Rock, AR","Open"]
[8721,"DFG","Plano, TX","Open"]
[8722,"DFG","Stamford, CT","Open"]
[8723,"DFG","Hoboken, NJ","Open"]
[8724,"DFG","Huntington, NY","Open"]
[8725,"DFG","Nashville, TN","Open"]
[8726,"DFG","Brentwood, TN","Open"]
[8728,"DFG","Brookfield NYC, NY","Open"]

{"sheet":"Dates","index":11,"n_rows":34,"n_cols":3,"rows_kept":34,"cut":false,"hidden":false,"merged":[]}
[null,"Start","End"]
["'15 Q1 QTD","2014-12-31","2015-03-24"]
["'15 Q2 QTD","2015-03-25","2015-06-16"]
["'15 Q3 QTD","2015-06-17","2015-09-08"]
["'15 Q4 QTD","2015-09-09","2015-12-29"]
["'16 Q1 QTD","2015-12-30","2016-03-22"]
["'16 Q2 QTD","2016-03-23","2016-06-14"]
["'16 Q3 QTD","2016-06-15","2016-09-06"]
["'16 Q4 QTD","2016-09-07","2016-12-27"]
["'15 Q1 YTD","2014-12-31","2015-03-24"]
["'15 Q2 YTD","2014-12-31","2015-06-16"]
["'15 Q3 YTD","2014-12-31","2015-09-08"]
["'15 Q4 YTD","2014-12-31","2015-12-29"]
["'16 Q1 YTD","2015-12-30","2016-03-22"]
["'16 Q2 YTD","2015-12-30","2016-06-14"]
["'16 Q3 YTD","2015-12-30","2016-09-06"]
["'16 Q4 YTD","2015-12-30","2016-12-27"]
["'15 Q1 TTM","2014-03-26","2015-03-24"]
["'15 Q2 TTM","2014-06-18","2015-06-16"]
["'15 Q3 TTM","2014-09-10","2015-09-08"]
["'15 Q4 TTM","2014-12-31","2015-12-29"]
["'16 Q1 TTM","2015-03-25","2016-03-22"]
["'16 Q2 TTM","2015-06-17","2016-06-14"]
["'16 Q3 TTM","2015-09-09","2016-09-06"]
["'16 Q4 TTM","2015-12-30","2016-12-27"]
["'17 Q1 QTD","2016-12-28","2017-03-21"]
["'17 Q1 YTD","2016-12-28","2017-03-21"]
["'17 Q1 TTM","2016-03-23","2017-03-21"]
["'17 Q2 QTD","2017-03-22","2017-06-13"]
["'17 Q2 YTD","2016-12-28","2017-06-13"]
["'17 Q2 TTM","2016-06-15","2017-06-13"]
["'17 Q3 QTD","2017-06-14","2017-09-05"]
["'17 Q3 YTD","2016-12-28","2017-09-05"]
["'17 Q3 TTM","2016-09-07","2017-09-05"]