{"text_format":"1","workbook":"xlsx","n_sheets":5,"sheets":["Instructions","Schedule","Calendar","Holidays","Lookups"],"not_rendered":{"charts":0,"images":1,"macros":1,"external_links":0,"defined_names":7,"comments":2,"pivot_tables":0},"unopened":[],"bounds":{"document_bytes":16777216,"sheet_cells":100000,"rows_first":2000,"rows_last":500,"rows_between":2000,"halvings":0,"cell_chars":16384,"cell_head_chars":4096},"cells_cut":0,"cells_raw":0,"read":"whole","date_system":"1900"}

{"sheet":"Instructions","index":0,"n_rows":36,"n_cols":17,"rows_kept":36,"cut":false,"hidden":false,"merged":[[33,1,33,12],[21,1,22,12],[1,1,1,12],[2,1,4,12],[13,1,14,12],[17,1,18,12],[19,1,20,12]]}
[]
[null,"Instructions",null,null,null,null,null,null,null,null,null,null,null,null,null,"Absence types (full day):"]
[1,"To enter planned absence time (full or partial days), fill in the fields below on the Schedule sheet.  For a description of what to enter, see the cell comments in the header for each field.  These fields have a yellow fill color, the fields with green fill color will automatically fill in once the other fields are entered.",null,null,null,null,null,null,null,null,null,null,null,null,null,"V","Vacation"]
[null,null,null,null,null,null,null,null,null,null,null,null,null,null,null,"P","Personal Day"]
[null,null,null,null,null,null,null,null,null,null,null,null,null,null,null,"C","CPE/Training"]
[null,"Column","Field",null,null,null,null,null,null,null,null,null,null,null,null,"D","Doctor appointment"]
[null,"A","Employee",null,null,null,null,null,null,null,null,null,null,null,null,"O","Offsite/out of office"]
[null,"B","Date",null,null,null,null,null,null,null,null,null,null,null,null,"W","Working at home"]
[null,"D","Type",null,null,null,null,null,null,null,null,null,null,null,null,"S","Sick"]
[null,"E","Hours",null,null,null,null,null,null,null,null,null,null,null,null,"H","Holiday"]
[null,"F","Time"]
[null,"G","Comments"]
[{"$f":"A3+1","v":2},"Once all fields are entered, the Calendar sheet will automatically update (if applicable).",null,null,null,null,null,null,null,null,null,null,null,null,null,"Absence types (partial day):"]
[{"$f":"A13+1","v":3},"To update the month/year for the calendar, on the Calendar sheet, select a month from the drop-down list in cell J2, and enter a year in cell Q2.  The calendar will automatically update based on the data in the Schedule sheet.",null,null,null,null,null,null,null,null,null,null,null,null,null,"V*","Vacation"]
[null,null,null,null,null,null,null,null,null,null,null,null,null,null,null,"P*","Personal Day"]
[null,null,"*The absence type will appear based on the legend to the right.",null,null,null,null,null,null,null,null,null,null,null,null,"C*","CPE/Training"]
[null,null,"*Partial-day absences will have an asterisk with a striped fill color, and the time will be displayed in a cell comment.",null,null,null,null,null,null,null,null,null,null,null,null,"D*","Doctor appointment"]
[{"$f":"A14+1","v":4},"To add new employees, add their full name to the bottom of the list on the Lookups sheet in column A.  The list in column C will automatically update, and this list is used to show the drop-down list on the Schedule sheet.",null,null,null,null,null,null,null,null,null,null,null,null,null,"O*","Offsite/out of office"]
[null,null,null,null,null,null,null,null,null,null,null,null,null,null,null,"W*","Working at home"]
[{"$f":"A18+1","v":5},"Add any corporate holidays to the Holidays sheet.  These will automatically populate in the Calendar sheet for all employees.  Fill in the Date and Holiday fields, and the Day field will automatically populate.",null,null,null,null,null,null,null,null,null,null,null,null,null,"S*","Sick"]
[]
[{"$f":"A20+1","v":6},"Note that the calendar shows 35 days.  This is so that full weeks of vacation can be displayed.  The first day displayed is the Monday, Sunday, or Saturday at or before the first day of the month."]
[]
[]
[]
[]
[]
[]
[]
[]
[]
[]
[]
[null,"Template Notes"]
[null,"Copyright Excelevate Consulting, LLC 2018."]
[null,"This file is free to distribute, modify, or use.  Any attempt to resale without express written consent is strictly prohibited."]

{"sheet":"Schedule","index":1,"n_rows":1000,"n_cols":13,"rows_kept":1000,"cut":false,"hidden":false,"merged":[]}
["Employee","Date","Day","Type","Hours","Time","Comments","Ref","Code","Time 2","Comments 2",null,"Toggle all comments"]
["Bob Baker","2017-06-23",{"$f":"IF(B2=\"\",\"\",TEXT(WEEKDAY(B2),\"aaaa\"))","v":"Friday"},"Vacation",8,null,"Austin",{"$f":"IF(AND(A2<>\"\",B2<>\"\"),VLOOKUP(A2,Lookups!A:B,2,FALSE)&\"_\"&B2,\"\")","v":"1_42909"},{"$f":"IF(AND(D2<>\"\",E2<>\"\"),VLOOKUP(D2,Lookups!E:F,2,FALSE)&IF(E2<8,\"*\",\"\"),\"\")","v":"V"},{"$f":"IF(F2=\"\",\"\",F2)","v":""},{"$f":"IF(G2=\"\",\"\",G2)","v":"Austin"}]
["Tim Thompson","2017-06-23","Friday","Vacation",8,null,"San Antonio",{"$f":"IF(AND(A3<>\"\",B3<>\"\"),VLOOKUP(A3,Lookups!A:B,2,FALSE)&\"_\"&B3,\"\")","v":"2_42909"},{"$f":"IF(AND(D3<>\"\",E3<>\"\"),VLOOKUP(D3,Lookups!E:F,2,FALSE)&IF(E3<8,\"*\",\"\"),\"\")","v":"V"},"","San Antonio"]
["Jim Jones","2017-05-31","Wednesday","Working at home",2,"8:00 am - 10:00 am","Awards",{"$f":"IF(AND(A4<>\"\",B4<>\"\"),VLOOKUP(A4,Lookups!A:B,2,FALSE)&\"_\"&B4,\"\")","v":"3_42886"},{"$f":"IF(AND(D4<>\"\",E4<>\"\"),VLOOKUP(D4,Lookups!E:F,2,FALSE)&IF(E4<8,\"*\",\"\"),\"\")","v":"W*"},"8:00 am - 10:00 am","Awards"]
["Steve Smith","2017-06-01","Thursday","Vacation",8,null,"Graduation",{"$f":"IF(AND(A5<>\"\",B5<>\"\"),VLOOKUP(A5,Lookups!A:B,2,FALSE)&\"_\"&B5,\"\")","v":"4_42887"},{"$f":"IF(AND(D5<>\"\",E5<>\"\"),VLOOKUP(D5,Lookups!E:F,2,FALSE)&IF(E5<8,\"*\",\"\"),\"\")","v":"V"},"","Graduation"]
[null,null,{"$f":"IF(B6=\"\",\"\",TEXT(WEEKDAY(B6),\"aaaa\"))","v":""},null,null,null,null,{"$f":"IF(AND(A6<>\"\",B6<>\"\"),VLOOKUP(A6,Lookups!A:B,2,FALSE)&\"_\"&B6,\"\")","v":""},{"$f":"IF(AND(D6<>\"\",E6<>\"\"),VLOOKUP(D6,Lookups!E:F,2,FALSE)&IF(E6<8,\"*\",\"\"),\"\")","v":""},{"$f":"IF(F6=\"\",\"\",F6)","v":""},{"$f":"IF(G6=\"\",\"\",G6)","v":""}]
[null,null,"",null,null,null,null,{"$f":"IF(AND(A7<>\"\",B7<>\"\"),VLOOKUP(A7,Lookups!A:B,2,FALSE)&\"_\"&B7,\"\")","v":""},{"$f":"IF(AND(D7<>\"\",E7<>\"\"),VLOOKUP(D7,Lookups!E:F,2,FALSE)&IF(E7<8,\"*\",\"\"),\"\")","v":""},"",""]
[null,null,"",null,null,null,null,{"$f":"IF(AND(A8<>\"\",B8<>\"\"),VLOOKUP(A8,Lookups!A:B,2,FALSE)&\"_\"&B8,\"\")","v":""},{"$f":"IF(AND(D8<>\"\",E8<>\"\"),VLOOKUP(D8,Lookups!E:F,2,FALSE)&IF(E8<8,\"*\",\"\"),\"\")","v":""},"",""]
[null,null,"",null,null,null,null,{"$f":"IF(AND(A9<>\"\",B9<>\"\"),VLOOKUP(A9,Lookups!A:B,2,FALSE)&\"_\"&B9,\"\")","v":""},{"$f":"IF(AND(D9<>\"\",E9<>\"\"),VLOOKUP(D9,Lookups!E:F,2,FALSE)&IF(E9<8,\"*\",\"\"),\"\")","v":""},"",""]
[null,null,"",null,null,null,null,{"$f":"IF(AND(A10<>\"\",B10<>\"\"),VLOOKUP(A10,Lookups!A:B,2,FALSE)&\"_\"&B10,\"\")","v":""},{"$f":"IF(AND(D10<>\"\",E10<>\"\"),VLOOKUP(D10,Lookups!E:F,2,FALSE)&IF(E10<8,\"*\",\"\"),\"\")","v":""},"",""]
[null,null,"",null,null,null,null,{"$f":"IF(AND(A11<>\"\",B11<>\"\"),VLOOKUP(A11,Lookups!A:B,2,FALSE)&\"_\"&B11,\"\")","v":""},{"$f":"IF(AND(D11<>\"\",E11<>\"\"),VLOOKUP(D11,Lookups!E:F,2,FALSE)&IF(E11<8,\"*\",\"\"),\"\")","v":""},"",""]
[null,null,"",null,null,null,null,{"$f":"IF(AND(A12<>\"\",B12<>\"\"),VLOOKUP(A12,Lookups!A:B,2,FALSE)&\"_\"&B12,\"\")","v":""},{"$f":"IF(AND(D12<>\"\",E12<>\"\"),VLOOKUP(D12,Lookups!E:F,2,FALSE)&IF(E12<8,\"*\",\"\"),\"\")","v":""},"",""]
[null,null,"",null,null,null,null,{"$f":"IF(AND(A13<>\"\",B13<>\"\"),VLOOKUP(A13,Lookups!A:B,2,FALSE)&\"_\"&B13,\"\")","v":""},{"$f":"IF(AND(D13<>\"\",E13<>\"\"),VLOOKUP(D13,Lookups!E:F,2,FALSE)&IF(E13<8,\"*\",\"\"),\"\")","v":""},"",""]
[null,null,"",null,null,null,null,{"$f":"IF(AND(A14<>\"\",B14<>\"\"),VLOOKUP(A14,Lookups!A:B,2,FALSE)&\"_\"&B14,\"\")","v":""},{"$f":"IF(AND(D14<>\"\",E14<>\"\"),VLOOKUP(D14,Lookups!E:F,2,FALSE)&IF(E14<8,\"*\",\"\"),\"\")","v":""},"",""]
[null,null,"",null,null,null,null,{"$f":"IF(AND(A15<>\"\",B15<>\"\"),VLOOKUP(A15,Lookups!A:B,2,FALSE)&\"_\"&B15,\"\")","v":""},{"$f":"IF(AND(D15<>\"\",E15<>\"\"),VLOOKUP(D15,Lookups!E:F,2,FALSE)&IF(E15<8,\"*\",\"\"),\"\")","v":""},"",""]
[null,null,"",null,null,null,null,{"$f":"IF(AND(A16<>\"\",B16<>\"\"),VLOOKUP(A16,Lookups!A:B,2,FALSE)&\"_\"&B16,\"\")","v":""},{"$f":"IF(AND(D16<>\"\",E16<>\"\"),VLOOKUP(D16,Lookups!E:F,2,FALSE)&IF(E16<8,\"*\",\"\"),\"\")","v":""},"",""]
[null,null,"",null,null,null,null,{"$f":"IF(AND(A17<>\"\",B17<>\"\"),VLOOKUP(A17,Lookups!A:B,2,FALSE)&\"_\"&B17,\"\")","v":""},{"$f":"IF(AND(D17<>\"\",E17<>\"\"),VLOOKUP(D17,Lookups!E:F,2,FALSE)&IF(E17<8,\"*\",\"\"),\"\")","v":""},"",""]
[null,null,"",null,null,null,null,{"$f":"IF(AND(A18<>\"\",B18<>\"\"),VLOOKUP(A18,Lookups!A:B,2,FALSE)&\"_\"&B18,\"\")","v":""},{"$f":"IF(AND(D18<>\"\",E18<>\"\"),VLOOKUP(D18,Lookups!E:F,2,FALSE)&IF(E18<8,\"*\",\"\"),\"\")","v":""},"",""]
[null,null,"",null,null,null,null,{"$f":"IF(AND(A19<>\"\",B19<>\"\"),VLOOKUP(A19,Lookups!A:B,2,FALSE)&\"_\"&B19,\"\")","v":""},{"$f":"IF(AND(D19<>\"\",E19<>\"\"),VLOOKUP(D19,Lookups!E:F,2,FALSE)&IF(E19<8,\"*\",\"\"),\"\")","v":""},"",""]
[null,null,"",null,null,null,null,{"$f":"IF(AND(A20<>\"\",B20<>\"\"),VLOOKUP(A20,Lookups!A:B,2,FALSE)&\"_\"&B20,\"\")","v":""},{"$f":"IF(AND(D20<>\"\",E20<>\"\"),VLOOKUP(D20,Lookups!E:F,2,FALSE)&IF(E20<8,\"*\",\"\"),\"\")","v":""},"",""]
[null,null,"",null,null,null,null,{"$f":"IF(AND(A21<>\"\",B21<>\"\"),VLOOKUP(A21,Lookups!A:B,2,FALSE)&\"_\"&B21,\"\")","v":""},{"$f":"IF(AND(D21<>\"\",E21<>\"\"),VLOOKUP(D21,Lookups!E:F,2,FALSE)&IF(E21<8,\"*\",\"\"),\"\")","v":""},"",""]
[null,null,"",null,null,null,null,{"$f":"IF(AND(A22<>\"\",B22<>\"\"),VLOOKUP(A22,Lookups!A:B,2,FALSE)&\"_\"&B22,\"\")","v":""},{"$f":"IF(AND(D22<>\"\",E22<>\"\"),VLOOKUP(D22,Lookups!E:F,2,FALSE)&IF(E22<8,\"*\",\"\"),\"\")","v":""},"",""]
[null,null,"",null,null,null,null,{"$f":"IF(AND(A23<>\"\",B23<>\"\"),VLOOKUP(A23,Lookups!A:B,2,FALSE)&\"_\"&B23,\"\")","v":""},{"$f":"IF(AND(D23<>\"\",E23<>\"\"),VLOOKUP(D23,Lookups!E:F,2,FALSE)&IF(E23<8,\"*\",\"\"),\"\")","v":""},"",""]
[null,null,"",null,null,null,null,{"$f":"IF(AND(A24<>\"\",B24<>\"\"),VLOOKUP(A24,Lookups!A:B,2,FALSE)&\"_\"&B24,\"\")","v":""},{"$f":"IF(AND(D24<>\"\",E24<>\"\"),VLOOKUP(D24,Lookups!E:F,2,FALSE)&IF(E24<8,\"*\",\"\"),\"\")","v":""},"",""]
[null,null,"",null,null,null,null,{"$f":"IF(AND(A25<>\"\",B25<>\"\"),VLOOKUP(A25,Lookups!A:B,2,FALSE)&\"_\"&B25,\"\")","v":""},{"$f":"IF(AND(D25<>\"\",E25<>\"\"),VLOOKUP(D25,Lookups!E:F,2,FALSE)&IF(E25<8,\"*\",\"\"),\"\")","v":""},"",""]
[null,null,"",null,null,null,null,{"$f":"IF(AND(A26<>\"\",B26<>\"\"),VLOOKUP(A26,Lookups!A:B,2,FALSE)&\"_\"&B26,\"\")","v":""},{"$f":"IF(AND(D26<>\"\",E26<>\"\"),VLOOKUP(D26,Lookups!E:F,2,FALSE)&IF(E26<8,\"*\",\"\"),\"\")","v":""},"",""]
[null,null,{"$f":"IF(B27=\"\",\"\",TEXT(WEEKDAY(B27),\"aaaa\"))","v":""},null,null,null,null,{"$f":"IF(AND(A27<>\"\",B27<>\"\"),VLOOKUP(A27,Lookups!A:B,2,FALSE)&\"_\"&B27,\"\")","v":""},{"$f":"IF(AND(D27<>\"\",E27<>\"\"),VLOOKUP(D27,Lookups!E:F,2,FALSE)&IF(E27<8,\"*\",\"\"),\"\")","v":""},{"$f":"IF(F27=\"\",\"\",F27)","v":""},{"$f":"IF(G27=\"\",\"\",G27)","v":""}]
[null,null,"",null,null,null,null,{"$f":"IF(AND(A28<>\"\",B28<>\"\"),VLOOKUP(A28,Lookups!A:B,2,FALSE)&\"_\"&B28,\"\")","v":""},{"$f":"IF(AND(D28<>\"\",E28<>\"\"),VLOOKUP(D28,Lookups!E:F,2,FALSE)&IF(E28<8,\"*\",\"\"),\"\")","v":""},"",""]
[null,null,"",null,null,null,null,{"$f":"IF(AND(A29<>\"\",B29<>\"\"),VLOOKUP(A29,Lookups!A:B,2,FALSE)&\"_\"&B29,\"\")","v":""},{"$f":"IF(AND(D29<>\"\",E29<>\"\"),VLOOKUP(D29,Lookups!E:F,2,FALSE)&IF(E29<8,\"*\",\"\"),\"\")","v":""},"",""]
[null,null,"",null,null,null,null,{"$f":"IF(AND(A30<>\"\",B30<>\"\"),VLOOKUP(A30,Lookups!A:B,2,FALSE)&\"_\"&B30,\"\")","v":""},{"$f":"IF(AND(D30<>\"\",E30<>\"\"),VLOOKUP(D30,Lookups!E:F,2,FALSE)&IF(E30<8,\"*\",\"\"),\"\")","v":""},"",""]
[null,null,"",null,null,null,null,{"$f":"IF(AND(A31<>\"\",B31<>\"\"),VLOOKUP(A31,Lookups!A:B,2,FALSE)&\"_\"&B31,\"\")","v":""},{"$f":"IF(AND(D31<>\"\",E31<>\"\"),VLOOKUP(D31,Lookups!E:F,2,FALSE)&IF(E31<8,\"*\",\"\"),\"\")","v":""},"",""]
[null,null,"",null,null,null,null,{"$f":"IF(AND(A32<>\"\",B32<>\"\"),VLOOKUP(A32,Lookups!A:B,2,FALSE)&\"_\"&B32,\"\")","v":""},{"$f":"IF(AND(D32<>\"\",E32<>\"\"),VLOOKUP(D32,Lookups!E:F,2,FALSE)&IF(E32<8,\"*\",\"\"),\"\")","v":""},"",""]
[null,null,"",null,null,null,null,{"$f":"IF(AND(A33<>\"\",B33<>\"\"),VLOOKUP(A33,Lookups!A:B,2,FALSE)&\"_\"&B33,\"\")","v":""},{"$f":"IF(AND(D33<>\"\",E33<>\"\"),VLOOKUP(D33,Lookups!E:F,2,FALSE)&IF(E33<8,\"*\",\"\"),\"\")","v":""},"",""]
[null,null,"",null,null,null,null,{"$f":"IF(AND(A34<>\"\",B34<>\"\"),VLOOKUP(A34,Lookups!A:B,2,FALSE)&\"_\"&B34,\"\")","v":""},{"$f":"IF(AND(D34<>\"\",E34<>\"\"),VLOOKUP(D34,Lookups!E:F,2,FALSE)&IF(E34<8,\"*\",\"\"),\"\")","v":""},"",""]
[null,null,"",null,null,null,null,{"$f":"IF(AND(A35<>\"\",B35<>\"\"),VLOOKUP(A35,Lookups!A:B,2,FALSE)&\"_\"&B35,\"\")","v":""},{"$f":"IF(AND(D35<>\"\",E35<>\"\"),VLOOKUP(D35,Lookups!E:F,2,FALSE)&IF(E35<8,\"*\",\"\"),\"\")","v":""},"",""]
[null,null,"",null,null,null,null,{"$f":"IF(AND(A36<>\"\",B36<>\"\"),VLOOKUP(A36,Lookups!A:B,2,FALSE)&\"_\"&B36,\"\")","v":""},{"$f":"IF(AND(D36<>\"\",E36<>\"\"),VLOOKUP(D36,Lookups!E:F,2,FALSE)&IF(E36<8,\"*\",\"\"),\"\")","v":""},"",""]
[null,null,"",null,null,null,null,{"$f":"IF(AND(A37<>\"\",B37<>\"\"),VLOOKUP(A37,Lookups!A:B,2,FALSE)&\"_\"&B37,\"\")","v":""},{"$f":"IF(AND(D37<>\"\",E37<>\"\"),VLOOKUP(D37,Lookups!E:F,2,FALSE)&IF(E37<8,\"*\",\"\"),\"\")","v":""},"",""]
[null,null,"",null,null,null,null,{"$f":"IF(AND(A38<>\"\",B38<>\"\"),VLOOKUP(A38,Lookups!A:B,2,FALSE)&\"_\"&B38,\"\")","v":""},{"$f":"IF(AND(D38<>\"\",E38<>\"\"),VLOOKUP(D38,Lookups!E:F,2,FALSE)&IF(E38<8,\"*\",\"\"),\"\")","v":""},"",""]
[null,null,"",null,null,null,null,{"$f":"IF(AND(A39<>\"\",B39<>\"\"),VLOOKUP(A39,Lookups!A:B,2,FALSE)&\"_\"&B39,\"\")","v":""},{"$f":"IF(AND(D39<>\"\",E39<>\"\"),VLOOKUP(D39,Lookups!E:F,2,FALSE)&IF(E39<8,\"*\",\"\"),\"\")","v":""},"",""]
[null,null,"",null,null,null,null,{"$f":"IF(AND(A40<>\"\",B40<>\"\"),VLOOKUP(A40,Lookups!A:B,2,FALSE)&\"_\"&B40,\"\")","v":""},{"$f":"IF(AND(D40<>\"\",E40<>\"\"),VLOOKUP(D40,Lookups!E:F,2,FALSE)&IF(E40<8,\"*\",\"\"),\"\")","v":""},"",""]
[null,null,"",null,null,null,null,{"$f":"IF(AND(A41<>\"\",B41<>\"\"),VLOOKUP(A41,Lookups!A:B,2,FALSE)&\"_\"&B41,\"\")","v":""},{"$f":"IF(AND(D41<>\"\",E41<>\"\"),VLOOKUP(D41,Lookups!E:F,2,FALSE)&IF(E41<8,\"*\",\"\"),\"\")","v":""},"",""]
[null,null,"",null,null,null,null,{"$f":"IF(AND(A42<>\"\",B42<>\"\"),VLOOKUP(A42,Lookups!A:B,2,FALSE)&\"_\"&B42,\"\")","v":""},{"$f":"IF(AND(D42<>\"\",E42<>\"\"),VLOOKUP(D42,Lookups!E:F,2,FALSE)&IF(E42<8,\"*\",\"\"),\"\")","v":""},"",""]
[null,null,"",null,null,null,null,{"$f":"IF(AND(A43<>\"\",B43<>\"\"),VLOOKUP(A43,Lookups!A:B,2,FALSE)&\"_\"&B43,\"\")","v":""},{"$f":"IF(AND(D43<>\"\",E43<>\"\"),VLOOKUP(D43,Lookups!E:F,2,FALSE)&IF(E43<8,\"*\",\"\"),\"\")","v":""},"",""]
[null,null,"",null,null,null,null,{"$f":"IF(AND(A44<>\"\",B44<>\"\"),VLOOKUP(A44,Lookups!A:B,2,FALSE)&\"_\"&B44,\"\")","v":""},{"$f":"IF(AND(D44<>\"\",E44<>\"\"),VLOOKUP(D44,Lookups!E:F,2,FALSE)&IF(E44<8,\"*\",\"\"),\"\")","v":""},"",""]
[null,null,"",null,null,null,null,{"$f":"IF(AND(A45<>\"\",B45<>\"\"),VLOOKUP(A45,Lookups!A:B,2,FALSE)&\"_\"&B45,\"\")","v":""},{"$f":"IF(AND(D45<>\"\",E45<>\"\"),VLOOKUP(D45,Lookups!E:F,2,FALSE)&IF(E45<8,\"*\",\"\"),\"\")","v":""},"",""]
[null,null,"",null,null,null,null,{"$f":"IF(AND(A46<>\"\",B46<>\"\"),VLOOKUP(A46,Lookups!A:B,2,FALSE)&\"_\"&B46,\"\")","v":""},{"$f":"IF(AND(D46<>\"\",E46<>\"\"),VLOOKUP(D46,Lookups!E:F,2,FALSE)&IF(E46<8,\"*\",\"\"),\"\")","v":""},"",""]
[null,null,"",null,null,null,null,{"$f":"IF(AND(A47<>\"\",B47<>\"\"),VLOOKUP(A47,Lookups!A:B,2,FALSE)&\"_\"&B47,\"\")","v":""},{"$f":"IF(AND(D47<>\"\",E47<>\"\"),VLOOKUP(D47,Lookups!E:F,2,FALSE)&IF(E47<8,\"*\",\"\"),\"\")","v":""},"",""]
[null,null,"",null,null,null,null,{"$f":"IF(AND(A48<>\"\",B48<>\"\"),VLOOKUP(A48,Lookups!A:B,2,FALSE)&\"_\"&B48,\"\")","v":""},{"$f":"IF(AND(D48<>\"\",E48<>\"\"),VLOOKUP(D48,Lookups!E:F,2,FALSE)&IF(E48<8,\"*\",\"\"),\"\")","v":""},"",""]
[null,null,"",null,null,null,null,{"$f":"IF(AND(A49<>\"\",B49<>\"\"),VLOOKUP(A49,Lookups!A:B,2,FALSE)&\"_\"&B49,\"\")","v":""},{"$f":"IF(AND(D49<>\"\",E49<>\"\"),VLOOKUP(D49,Lookups!E:F,2,FALSE)&IF(E49<8,\"*\",\"\"),\"\")","v":""},"",""]
[null,null,"",null,null,null,null,{"$f":"IF(AND(A50<>\"\",B50<>\"\"),VLOOKUP(A50,Lookups!A:B,2,FALSE)&\"_\"&B50,\"\")","v":""},{"$f":"IF(AND(D50<>\"\",E50<>\"\"),VLOOKUP(D50,Lookups!E:F,2,FALSE)&IF(E50<8,\"*\",\"\"),\"\")","v":""},"",""]
[null,null,"",null,null,null,null,{"$f":"IF(AND(A51<>\"\",B51<>\"\"),VLOOKUP(A51,Lookups!A:B,2,FALSE)&\"_\"&B51,\"\")","v":""},{"$f":"IF(AND(D51<>\"\",E51<>\"\"),VLOOKUP(D51,Lookups!E:F,2,FALSE)&IF(E51<8,\"*\",\"\"),\"\")","v":""},"",""]
[null,null,"",null,null,null,null,{"$f":"IF(AND(A52<>\"\",B52<>\"\"),VLOOKUP(A52,Lookups!A:B,2,FALSE)&\"_\"&B52,\"\")","v":""},{"$f":"IF(AND(D52<>\"\",E52<>\"\"),VLOOKUP(D52,Lookups!E:F,2,FALSE)&IF(E52<8,\"*\",\"\"),\"\")","v":""},"",""]
[null,null,"",null,null,null,null,{"$f":"IF(AND(A53<>\"\",B53<>\"\"),VLOOKUP(A53,Lookups!A:B,2,FALSE)&\"_\"&B53,\"\")","v":""},{"$f":"IF(AND(D53<>\"\",E53<>\"\"),VLOOKUP(D53,Lookups!E:F,2,FALSE)&IF(E53<8,\"*\",\"\"),\"\")","v":""},"",""]
[null,null,"",null,null,null,null,{"$f":"IF(AND(A54<>\"\",B54<>\"\"),VLOOKUP(A54,Lookups!A:B,2,FALSE)&\"_\"&B54,\"\")","v":""},{"$f":"IF(AND(D54<>\"\",E54<>\"\"),VLOOKUP(D54,Lookups!E:F,2,FALSE)&IF(E54<8,\"*\",\"\"),\"\")","v":""},"",""]
[null,null,"",null,null,null,null,{"$f":"IF(AND(A55<>\"\",B55<>\"\"),VLOOKUP(A55,Lookups!A:B,2,FALSE)&\"_\"&B55,\"\")","v":""},{"$f":"IF(AND(D55<>\"\",E55<>\"\"),VLOOKUP(D55,Lookups!E:F,2,FALSE)&IF(E55<8,\"*\",\"\"),\"\")","v":""},"",""]
[null,null,"",null,null,null,null,{"$f":"IF(AND(A56<>\"\",B56<>\"\"),VLOOKUP(A56,Lookups!A:B,2,FALSE)&\"_\"&B56,\"\")","v":""},{"$f":"IF(AND(D56<>\"\",E56<>\"\"),VLOOKUP(D56,Lookups!E:F,2,FALSE)&IF(E56<8,\"*\",\"\"),\"\")","v":""},"",""]
[null,null,"",null,null,null,null,{"$f":"IF(AND(A57<>\"\",B57<>\"\"),VLOOKUP(A57,Lookups!A:B,2,FALSE)&\"_\"&B57,\"\")","v":""},{"$f":"IF(AND(D57<>\"\",E57<>\"\"),VLOOKUP(D57,Lookups!E:F,2,FALSE)&IF(E57<8,\"*\",\"\"),\"\")","v":""},"",""]
[null,null,"",null,null,null,null,{"$f":"IF(AND(A58<>\"\",B58<>\"\"),VLOOKUP(A58,Lookups!A:B,2,FALSE)&\"_\"&B58,\"\")","v":""},{"$f":"IF(AND(D58<>\"\",E58<>\"\"),VLOOKUP(D58,Lookups!E:F,2,FALSE)&IF(E58<8,\"*\",\"\"),\"\")","v":""},"",""]
[null,null,{"$f":"IF(B59=\"\",\"\",TEXT(WEEKDAY(B59),\"aaaa\"))","v":""},null,null,null,null,{"$f":"IF(AND(A59<>\"\",B59<>\"\"),VLOOKUP(A59,Lookups!A:B,2,FALSE)&\"_\"&B59,\"\")","v":""},{"$f":"IF(AND(D59<>\"\",E59<>\"\"),VLOOKUP(D59,Lookups!E:F,2,FALSE)&IF(E59<8,\"*\",\"\"),\"\")","v":""},{"$f":"IF(F59=\"\",\"\",F59)","v":""},{"$f":"IF(G59=\"\",\"\",G59)","v":""}]
[null,null,"",null,null,null,null,{"$f":"IF(AND(A60<>\"\",B60<>\"\"),VLOOKUP(A60,Lookups!A:B,2,FALSE)&\"_\"&B60,\"\")","v":""},{"$f":"IF(AND(D60<>\"\",E60<>\"\"),VLOOKUP(D60,Lookups!E:F,2,FALSE)&IF(E60<8,\"*\",\"\"),\"\")","v":""},"",""]
[null,null,"",null,null,null,null,{"$f":"IF(AND(A61<>\"\",B61<>\"\"),VLOOKUP(A61,Lookups!A:B,2,FALSE)&\"_\"&B61,\"\")","v":""},{"$f":"IF(AND(D61<>\"\",E61<>\"\"),VLOOKUP(D61,Lookups!E:F,2,FALSE)&IF(E61<8,\"*\",\"\"),\"\")","v":""},"",""]
[null,null,"",null,null,null,null,{"$f":"IF(AND(A62<>\"\",B62<>\"\"),VLOOKUP(A62,Lookups!A:B,2,FALSE)&\"_\"&B62,\"\")","v":""},{"$f":"IF(AND(D62<>\"\",E62<>\"\"),VLOOKUP(D62,Lookups!E:F,2,FALSE)&IF(E62<8,\"*\",\"\"),\"\")","v":""},"",""]
[null,null,"",null,null,null,null,{"$f":"IF(AND(A63<>\"\",B63<>\"\"),VLOOKUP(A63,Lookups!A:B,2,FALSE)&\"_\"&B63,\"\")","v":""},{"$f":"IF(AND(D63<>\"\",E63<>\"\"),VLOOKUP(D63,Lookups!E:F,2,FALSE)&IF(E63<8,\"*\",\"\"),\"\")","v":""},"",""]
[null,null,"",null,null,null,null,{"$f":"IF(AND(A64<>\"\",B64<>\"\"),VLOOKUP(A64,Lookups!A:B,2,FALSE)&\"_\"&B64,\"\")","v":""},{"$f":"IF(AND(D64<>\"\",E64<>\"\"),VLOOKUP(D64,Lookups!E:F,2,FALSE)&IF(E64<8,\"*\",\"\"),\"\")","v":""},"",""]
[null,null,"",null,null,null,null,{"$f":"IF(AND(A65<>\"\",B65<>\"\"),VLOOKUP(A65,Lookups!A:B,2,FALSE)&\"_\"&B65,\"\")","v":""},{"$f":"IF(AND(D65<>\"\",E65<>\"\"),VLOOKUP(D65,Lookups!E:F,2,FALSE)&IF(E65<8,\"*\",\"\"),\"\")","v":""},"",""]
[null,null,"",null,null,null,null,{"$f":"IF(AND(A66<>\"\",B66<>\"\"),VLOOKUP(A66,Lookups!A:B,2,FALSE)&\"_\"&B66,\"\")","v":""},{"$f":"IF(AND(D66<>\"\",E66<>\"\"),VLOOKUP(D66,Lookups!E:F,2,FALSE)&IF(E66<8,\"*\",\"\"),\"\")","v":""},"",""]
[null,null,"",null,null,null,null,{"$f":"IF(AND(A67<>\"\",B67<>\"\"),VLOOKUP(A67,Lookups!A:B,2,FALSE)&\"_\"&B67,\"\")","v":""},{"$f":"IF(AND(D67<>\"\",E67<>\"\"),VLOOKUP(D67,Lookups!E:F,2,FALSE)&IF(E67<8,\"*\",\"\"),\"\")","v":""}]
[null,null,"",null,null,null,null,{"$f":"IF(AND(A68<>\"\",B68<>\"\"),VLOOKUP(A68,Lookups!A:B,2,FALSE)&\"_\"&B68,\"\")","v":""},{"$f":"IF(AND(D68<>\"\",E68<>\"\"),VLOOKUP(D68,Lookups!E:F,2,FALSE)&IF(E68<8,\"*\",\"\"),\"\")","v":""}]
[null,null,"",null,null,null,null,{"$f":"IF(AND(A69<>\"\",B69<>\"\"),VLOOKUP(A69,Lookups!A:B,2,FALSE)&\"_\"&B69,\"\")","v":""},{"$f":"IF(AND(D69<>\"\",E69<>\"\"),VLOOKUP(D69,Lookups!E:F,2,FALSE)&IF(E69<8,\"*\",\"\"),\"\")","v":""},{"$f":"IF(F69=\"\",\"\",F69)","v":""},{"$f":"IF(G69=\"\",\"\",G69)","v":""}]
[null,null,"",null,null,null,null,{"$f":"IF(AND(A70<>\"\",B70<>\"\"),VLOOKUP(A70,Lookups!A:B,2,FALSE)&\"_\"&B70,\"\")","v":""},{"$f":"IF(AND(D70<>\"\",E70<>\"\"),VLOOKUP(D70,Lookups!E:F,2,FALSE)&IF(E70<8,\"*\",\"\"),\"\")","v":""},"",""]
[null,null,"",null,null,null,null,{"$f":"IF(AND(A71<>\"\",B71<>\"\"),VLOOKUP(A71,Lookups!A:B,2,FALSE)&\"_\"&B71,\"\")","v":""},{"$f":"IF(AND(D71<>\"\",E71<>\"\"),VLOOKUP(D71,Lookups!E:F,2,FALSE)&IF(E71<8,\"*\",\"\"),\"\")","v":""},"",""]
[null,null,"",null,null,null,null,{"$f":"IF(AND(A72<>\"\",B72<>\"\"),VLOOKUP(A72,Lookups!A:B,2,FALSE)&\"_\"&B72,\"\")","v":""},{"$f":"IF(AND(D72<>\"\",E72<>\"\"),VLOOKUP(D72,Lookups!E:F,2,FALSE)&IF(E72<8,\"*\",\"\"),\"\")","v":""},"",""]
[null,null,"",null,null,null,null,{"$f":"IF(AND(A73<>\"\",B73<>\"\"),VLOOKUP(A73,Lookups!A:B,2,FALSE)&\"_\"&B73,\"\")","v":""},{"$f":"IF(AND(D73<>\"\",E73<>\"\"),VLOOKUP(D73,Lookups!E:F,2,FALSE)&IF(E73<8,\"*\",\"\"),\"\")","v":""},"",""]
[null,null,"",null,null,null,null,{"$f":"IF(AND(A74<>\"\",B74<>\"\"),VLOOKUP(A74,Lookups!A:B,2,FALSE)&\"_\"&B74,\"\")","v":""},{"$f":"IF(AND(D74<>\"\",E74<>\"\"),VLOOKUP(D74,Lookups!E:F,2,FALSE)&IF(E74<8,\"*\",\"\"),\"\")","v":""},"",""]
[null,null,"",null,null,null,null,{"$f":"IF(AND(A75<>\"\",B75<>\"\"),VLOOKUP(A75,Lookups!A:B,2,FALSE)&\"_\"&B75,\"\")","v":""},{"$f":"IF(AND(D75<>\"\",E75<>\"\"),VLOOKUP(D75,Lookups!E:F,2,FALSE)&IF(E75<8,\"*\",\"\"),\"\")","v":""},"",""]
[null,null,"",null,null,null,null,{"$f":"IF(AND(A76<>\"\",B76<>\"\"),VLOOKUP(A76,Lookups!A:B,2,FALSE)&\"_\"&B76,\"\")","v":""},{"$f":"IF(AND(D76<>\"\",E76<>\"\"),VLOOKUP(D76,Lookups!E:F,2,FALSE)&IF(E76<8,\"*\",\"\"),\"\")","v":""},"",""]
[null,null,"",null,null,null,null,{"$f":"IF(AND(A77<>\"\",B77<>\"\"),VLOOKUP(A77,Lookups!A:B,2,FALSE)&\"_\"&B77,\"\")","v":""},{"$f":"IF(AND(D77<>\"\",E77<>\"\"),VLOOKUP(D77,Lookups!E:F,2,FALSE)&IF(E77<8,\"*\",\"\"),\"\")","v":""},"",""]
[null,null,"",null,null,null,null,{"$f":"IF(AND(A78<>\"\",B78<>\"\"),VLOOKUP(A78,Lookups!A:B,2,FALSE)&\"_\"&B78,\"\")","v":""},{"$f":"IF(AND(D78<>\"\",E78<>\"\"),VLOOKUP(D78,Lookups!E:F,2,FALSE)&IF(E78<8,\"*\",\"\"),\"\")","v":""},"",""]
[null,null,"",null,null,null,null,{"$f":"IF(AND(A79<>\"\",B79<>\"\"),VLOOKUP(A79,Lookups!A:B,2,FALSE)&\"_\"&B79,\"\")","v":""},{"$f":"IF(AND(D79<>\"\",E79<>\"\"),VLOOKUP(D79,Lookups!E:F,2,FALSE)&IF(E79<8,\"*\",\"\"),\"\")","v":""},"",""]
[null,null,"",null,null,null,null,{"$f":"IF(AND(A80<>\"\",B80<>\"\"),VLOOKUP(A80,Lookups!A:B,2,FALSE)&\"_\"&B80,\"\")","v":""},{"$f":"IF(AND(D80<>\"\",E80<>\"\"),VLOOKUP(D80,Lookups!E:F,2,FALSE)&IF(E80<8,\"*\",\"\"),\"\")","v":""},"",""]
[null,null,"",null,null,null,null,{"$f":"IF(AND(A81<>\"\",B81<>\"\"),VLOOKUP(A81,Lookups!A:B,2,FALSE)&\"_\"&B81,\"\")","v":""},{"$f":"IF(AND(D81<>\"\",E81<>\"\"),VLOOKUP(D81,Lookups!E:F,2,FALSE)&IF(E81<8,\"*\",\"\"),\"\")","v":""},"",""]
[null,null,"",null,null,null,null,{"$f":"IF(AND(A82<>\"\",B82<>\"\"),VLOOKUP(A82,Lookups!A:B,2,FALSE)&\"_\"&B82,\"\")","v":""},{"$f":"IF(AND(D82<>\"\",E82<>\"\"),VLOOKUP(D82,Lookups!E:F,2,FALSE)&IF(E82<8,\"*\",\"\"),\"\")","v":""},"",""]
[null,null,"",null,null,null,null,{"$f":"IF(AND(A83<>\"\",B83<>\"\"),VLOOKUP(A83,Lookups!A:B,2,FALSE)&\"_\"&B83,\"\")","v":""},{"$f":"IF(AND(D83<>\"\",E83<>\"\"),VLOOKUP(D83,Lookups!E:F,2,FALSE)&IF(E83<8,\"*\",\"\"),\"\")","v":""},"",""]
[null,null,"",null,null,null,null,{"$f":"IF(AND(A84<>\"\",B84<>\"\"),VLOOKUP(A84,Lookups!A:B,2,FALSE)&\"_\"&B84,\"\")","v":""},{"$f":"IF(AND(D84<>\"\",E84<>\"\"),VLOOKUP(D84,Lookups!E:F,2,FALSE)&IF(E84<8,\"*\",\"\"),\"\")","v":""},"",""]
[null,null,"",null,null,null,null,{"$f":"IF(AND(A85<>\"\",B85<>\"\"),VLOOKUP(A85,Lookups!A:B,2,FALSE)&\"_\"&B85,\"\")","v":""},{"$f":"IF(AND(D85<>\"\",E85<>\"\"),VLOOKUP(D85,Lookups!E:F,2,FALSE)&IF(E85<8,\"*\",\"\"),\"\")","v":""},"",""]
[null,null,"",null,null,null,null,{"$f":"IF(AND(A86<>\"\",B86<>\"\"),VLOOKUP(A86,Lookups!A:B,2,FALSE)&\"_\"&B86,\"\")","v":""},{"$f":"IF(AND(D86<>\"\",E86<>\"\"),VLOOKUP(D86,Lookups!E:F,2,FALSE)&IF(E86<8,\"*\",\"\"),\"\")","v":""},"",""]
[null,null,"",null,null,null,null,{"$f":"IF(AND(A87<>\"\",B87<>\"\"),VLOOKUP(A87,Lookups!A:B,2,FALSE)&\"_\"&B87,\"\")","v":""},{"$f":"IF(AND(D87<>\"\",E87<>\"\"),VLOOKUP(D87,Lookups!E:F,2,FALSE)&IF(E87<8,\"*\",\"\"),\"\")","v":""},"",""]
[null,null,"",null,null,null,null,{"$f":"IF(AND(A88<>\"\",B88<>\"\"),VLOOKUP(A88,Lookups!A:B,2,FALSE)&\"_\"&B88,\"\")","v":""},{"$f":"IF(AND(D88<>\"\",E88<>\"\"),VLOOKUP(D88,Lookups!E:F,2,FALSE)&IF(E88<8,\"*\",\"\"),\"\")","v":""},"",""]
[null,null,"",null,null,null,null,{"$f":"IF(AND(A89<>\"\",B89<>\"\"),VLOOKUP(A89,Lookups!A:B,2,FALSE)&\"_\"&B89,\"\")","v":""},{"$f":"IF(AND(D89<>\"\",E89<>\"\"),VLOOKUP(D89,Lookups!E:F,2,FALSE)&IF(E89<8,\"*\",\"\"),\"\")","v":""},"",""]
[null,null,"",null,null,null,null,{"$f":"IF(AND(A90<>\"\",B90<>\"\"),VLOOKUP(A90,Lookups!A:B,2,FALSE)&\"_\"&B90,\"\")","v":""},{"$f":"IF(AND(D90<>\"\",E90<>\"\"),VLOOKUP(D90,Lookups!E:F,2,FALSE)&IF(E90<8,\"*\",\"\"),\"\")","v":""},"",""]
[null,null,{"$f":"IF(B91=\"\",\"\",TEXT(WEEKDAY(B91),\"aaaa\"))","v":""},null,null,null,null,{"$f":"IF(AND(A91<>\"\",B91<>\"\"),VLOOKUP(A91,Lookups!A:B,2,FALSE)&\"_\"&B91,\"\")","v":""},{"$f":"IF(AND(D91<>\"\",E91<>\"\"),VLOOKUP(D91,Lookups!E:F,2,FALSE)&IF(E91<8,\"*\",\"\"),\"\")","v":""},"",""]
[null,null,"",null,null,null,null,{"$f":"IF(AND(A92<>\"\",B92<>\"\"),VLOOKUP(A92,Lookups!A:B,2,FALSE)&\"_\"&B92,\"\")","v":""},{"$f":"IF(AND(D92<>\"\",E92<>\"\"),VLOOKUP(D92,Lookups!E:F,2,FALSE)&IF(E92<8,\"*\",\"\"),\"\")","v":""},"",""]
[null,null,"",null,null,null,null,{"$f":"IF(AND(A93<>\"\",B93<>\"\"),VLOOKUP(A93,Lookups!A:B,2,FALSE)&\"_\"&B93,\"\")","v":""},{"$f":"IF(AND(D93<>\"\",E93<>\"\"),VLOOKUP(D93,Lookups!E:F,2,FALSE)&IF(E93<8,\"*\",\"\"),\"\")","v":""},"",""]
[null,null,"",null,null,null,null,{"$f":"IF(AND(A94<>\"\",B94<>\"\"),VLOOKUP(A94,Lookups!A:B,2,FALSE)&\"_\"&B94,\"\")","v":""},{"$f":"IF(AND(D94<>\"\",E94<>\"\"),VLOOKUP(D94,Lookups!E:F,2,FALSE)&IF(E94<8,\"*\",\"\"),\"\")","v":""},"",""]
[null,null,"",null,null,null,null,{"$f":"IF(AND(A95<>\"\",B95<>\"\"),VLOOKUP(A95,Lookups!A:B,2,FALSE)&\"_\"&B95,\"\")","v":""},{"$f":"IF(AND(D95<>\"\",E95<>\"\"),VLOOKUP(D95,Lookups!E:F,2,FALSE)&IF(E95<8,\"*\",\"\"),\"\")","v":""},"",""]
[null,null,"",null,null,null,null,{"$f":"IF(AND(A96<>\"\",B96<>\"\"),VLOOKUP(A96,Lookups!A:B,2,FALSE)&\"_\"&B96,\"\")","v":""},{"$f":"IF(AND(D96<>\"\",E96<>\"\"),VLOOKUP(D96,Lookups!E:F,2,FALSE)&IF(E96<8,\"*\",\"\"),\"\")","v":""},{"$f":"IF(F96=\"\",\"\",F96)","v":""}]
[null,null,"",null,null,null,null,{"$f":"IF(AND(A97<>\"\",B97<>\"\"),VLOOKUP(A97,Lookups!A:B,2,FALSE)&\"_\"&B97,\"\")","v":""},{"$f":"IF(AND(D97<>\"\",E97<>\"\"),VLOOKUP(D97,Lookups!E:F,2,FALSE)&IF(E97<8,\"*\",\"\"),\"\")","v":""},"",{"$f":"IF(G97=\"\",\"\",G97)","v":""}]
[null,null,"",null,null,null,null,{"$f":"IF(AND(A98<>\"\",B98<>\"\"),VLOOKUP(A98,Lookups!A:B,2,FALSE)&\"_\"&B98,\"\")","v":""},{"$f":"IF(AND(D98<>\"\",E98<>\"\"),VLOOKUP(D98,Lookups!E:F,2,FALSE)&IF(E98<8,\"*\",\"\"),\"\")","v":""},"",""]
[null,null,"",null,null,null,null,{"$f":"IF(AND(A99<>\"\",B99<>\"\"),VLOOKUP(A99,Lookups!A:B,2,FALSE)&\"_\"&B99,\"\")","v":""},{"$f":"IF(AND(D99<>\"\",E99<>\"\"),VLOOKUP(D99,Lookups!E:F,2,FALSE)&IF(E99<8,\"*\",\"\"),\"\")","v":""},"",""]
[null,null,"",null,null,null,null,{"$f":"IF(AND(A100<>\"\",B100<>\"\"),VLOOKUP(A100,Lookups!A:B,2,FALSE)&\"_\"&B100,\"\")","v":""},{"$f":"IF(AND(D100<>\"\",E100<>\"\"),VLOOKUP(D100,Lookups!E:F,2,FALSE)&IF(E100<8,\"*\",\"\"),\"\")","v":""},"",""]
[null,null,"",null,null,null,null,{"$f":"IF(AND(A101<>\"\",B101<>\"\"),VLOOKUP(A101,Lookups!A:B,2,FALSE)&\"_\"&B101,\"\")","v":""},{"$f":"IF(AND(D101<>\"\",E101<>\"\"),VLOOKUP(D101,Lookups!E:F,2,FALSE)&IF(E101<8,\"*\",\"\"),\"\")","v":""},"",""]
[null,null,"",null,null,null,null,{"$f":"IF(AND(A102<>\"\",B102<>\"\"),VLOOKUP(A102,Lookups!A:B,2,FALSE)&\"_\"&B102,\"\")","v":""},{"$f":"IF(AND(D102<>\"\",E102<>\"\"),VLOOKUP(D102,Lookups!E:F,2,FALSE)&IF(E102<8,\"*\",\"\"),\"\")","v":""},"",""]
[null,null,"",null,null,null,null,{"$f":"IF(AND(A103<>\"\",B103<>\"\"),VLOOKUP(A103,Lookups!A:B,2,FALSE)&\"_\"&B103,\"\")","v":""},{"$f":"IF(AND(D103<>\"\",E103<>\"\"),VLOOKUP(D103,Lookups!E:F,2,FALSE)&IF(E103<8,\"*\",\"\"),\"\")","v":""},"",""]
[null,null,"",null,null,null,null,{"$f":"IF(AND(A104<>\"\",B104<>\"\"),VLOOKUP(A104,Lookups!A:B,2,FALSE)&\"_\"&B104,\"\")","v":""},{"$f":"IF(AND(D104<>\"\",E104<>\"\"),VLOOKUP(D104,Lookups!E:F,2,FALSE)&IF(E104<8,\"*\",\"\"),\"\")","v":""},"",""]
[null,null,"",null,null,null,null,{"$f":"IF(AND(A105<>\"\",B105<>\"\"),VLOOKUP(A105,Lookups!A:B,2,FALSE)&\"_\"&B105,\"\")","v":""},{"$f":"IF(AND(D105<>\"\",E105<>\"\"),VLOOKUP(D105,Lookups!E:F,2,FALSE)&IF(E105<8,\"*\",\"\"),\"\")","v":""},"",""]
[null,null,"",null,null,null,null,{"$f":"IF(AND(A106<>\"\",B106<>\"\"),VLOOKUP(A106,Lookups!A:B,2,FALSE)&\"_\"&B106,\"\")","v":""},{"$f":"IF(AND(D106<>\"\",E106<>\"\"),VLOOKUP(D106,Lookups!E:F,2,FALSE)&IF(E106<8,\"*\",\"\"),\"\")","v":""},"",""]
[null,null,"",null,null,null,null,{"$f":"IF(AND(A107<>\"\",B107<>\"\"),VLOOKUP(A107,Lookups!A:B,2,FALSE)&\"_\"&B107,\"\")","v":""},{"$f":"IF(AND(D107<>\"\",E107<>\"\"),VLOOKUP(D107,Lookups!E:F,2,FALSE)&IF(E107<8,\"*\",\"\"),\"\")","v":""},"",""]
[null,null,"",null,null,null,null,{"$f":"IF(AND(A108<>\"\",B108<>\"\"),VLOOKUP(A108,Lookups!A:B,2,FALSE)&\"_\"&B108,\"\")","v":""},{"$f":"IF(AND(D108<>\"\",E108<>\"\"),VLOOKUP(D108,Lookups!E:F,2,FALSE)&IF(E108<8,\"*\",\"\"),\"\")","v":""},"",""]
[null,null,"",null,null,null,null,{"$f":"IF(AND(A109<>\"\",B109<>\"\"),VLOOKUP(A109,Lookups!A:B,2,FALSE)&\"_\"&B109,\"\")","v":""},{"$f":"IF(AND(D109<>\"\",E109<>\"\"),VLOOKUP(D109,Lookups!E:F,2,FALSE)&IF(E109<8,\"*\",\"\"),\"\")","v":""},"",""]
[null,null,"",null,null,null,null,{"$f":"IF(AND(A110<>\"\",B110<>\"\"),VLOOKUP(A110,Lookups!A:B,2,FALSE)&\"_\"&B110,\"\")","v":""},{"$f":"IF(AND(D110<>\"\",E110<>\"\"),VLOOKUP(D110,Lookups!E:F,2,FALSE)&IF(E110<8,\"*\",\"\"),\"\")","v":""},"",""]
[null,null,"",null,null,null,null,{"$f":"IF(AND(A111<>\"\",B111<>\"\"),VLOOKUP(A111,Lookups!A:B,2,FALSE)&\"_\"&B111,\"\")","v":""},{"$f":"IF(AND(D111<>\"\",E111<>\"\"),VLOOKUP(D111,Lookups!E:F,2,FALSE)&IF(E111<8,\"*\",\"\"),\"\")","v":""},"",""]
[null,null,"",null,null,null,null,{"$f":"IF(AND(A112<>\"\",B112<>\"\"),VLOOKUP(A112,Lookups!A:B,2,FALSE)&\"_\"&B112,\"\")","v":""},{"$f":"IF(AND(D112<>\"\",E112<>\"\"),VLOOKUP(D112,Lookups!E:F,2,FALSE)&IF(E112<8,\"*\",\"\"),\"\")","v":""},"",""]
[null,null,"",null,null,null,null,{"$f":"IF(AND(A113<>\"\",B113<>\"\"),VLOOKUP(A113,Lookups!A:B,2,FALSE)&\"_\"&B113,\"\")","v":""},{"$f":"IF(AND(D113<>\"\",E113<>\"\"),VLOOKUP(D113,Lookups!E:F,2,FALSE)&IF(E113<8,\"*\",\"\"),\"\")","v":""},"",""]
[null,null,"",null,null,null,null,{"$f":"IF(AND(A114<>\"\",B114<>\"\"),VLOOKUP(A114,Lookups!A:B,2,FALSE)&\"_\"&B114,\"\")","v":""},{"$f":"IF(AND(D114<>\"\",E114<>\"\"),VLOOKUP(D114,Lookups!E:F,2,FALSE)&IF(E114<8,\"*\",\"\"),\"\")","v":""},"",""]
[null,null,"",null,null,null,null,{"$f":"IF(AND(A115<>\"\",B115<>\"\"),VLOOKUP(A115,Lookups!A:B,2,FALSE)&\"_\"&B115,\"\")","v":""},{"$f":"IF(AND(D115<>\"\",E115<>\"\"),VLOOKUP(D115,Lookups!E:F,2,FALSE)&IF(E115<8,\"*\",\"\"),\"\")","v":""},"",""]
[null,null,"",null,null,null,null,{"$f":"IF(AND(A116<>\"\",B116<>\"\"),VLOOKUP(A116,Lookups!A:B,2,FALSE)&\"_\"&B116,\"\")","v":""},{"$f":"IF(AND(D116<>\"\",E116<>\"\"),VLOOKUP(D116,Lookups!E:F,2,FALSE)&IF(E116<8,\"*\",\"\"),\"\")","v":""},"",""]
[null,null,"",null,null,null,null,{"$f":"IF(AND(A117<>\"\",B117<>\"\"),VLOOKUP(A117,Lookups!A:B,2,FALSE)&\"_\"&B117,\"\")","v":""},{"$f":"IF(AND(D117<>\"\",E117<>\"\"),VLOOKUP(D117,Lookups!E:F,2,FALSE)&IF(E117<8,\"*\",\"\"),\"\")","v":""},"",""]
[null,null,"",null,null,null,null,{"$f":"IF(AND(A118<>\"\",B118<>\"\"),VLOOKUP(A118,Lookups!A:B,2,FALSE)&\"_\"&B118,\"\")","v":""},{"$f":"IF(AND(D118<>\"\",E118<>\"\"),VLOOKUP(D118,Lookups!E:F,2,FALSE)&IF(E118<8,\"*\",\"\"),\"\")","v":""},"",""]
[null,null,"",null,null,null,null,{"$f":"IF(AND(A119<>\"\",B119<>\"\"),VLOOKUP(A119,Lookups!A:B,2,FALSE)&\"_\"&B119,\"\")","v":""},{"$f":"IF(AND(D119<>\"\",E119<>\"\"),VLOOKUP(D119,Lookups!E:F,2,FALSE)&IF(E119<8,\"*\",\"\"),\"\")","v":""},"",""]
[null,null,"",null,null,null,null,{"$f":"IF(AND(A120<>\"\",B120<>\"\"),VLOOKUP(A120,Lookups!A:B,2,FALSE)&\"_\"&B120,\"\")","v":""},{"$f":"IF(AND(D120<>\"\",E120<>\"\"),VLOOKUP(D120,Lookups!E:F,2,FALSE)&IF(E120<8,\"*\",\"\"),\"\")","v":""},"",""]
[null,null,"",null,null,null,null,{"$f":"IF(AND(A121<>\"\",B121<>\"\"),VLOOKUP(A121,Lookups!A:B,2,FALSE)&\"_\"&B121,\"\")","v":""},{"$f":"IF(AND(D121<>\"\",E121<>\"\"),VLOOKUP(D121,Lookups!E:F,2,FALSE)&IF(E121<8,\"*\",\"\"),\"\")","v":""},"",""]
[null,null,"",null,null,null,null,null,null,"",""]
[null,null,{"$f":"IF(B123=\"\",\"\",TEXT(WEEKDAY(B123),\"aaaa\"))","v":""},null,null,null,null,{"$f":"IF(AND(A123<>\"\",B123<>\"\"),VLOOKUP(A123,Lookups!A:B,2,FALSE)&\"_\"&B123,\"\")","v":""},{"$f":"IF(AND(D123<>\"\",E123<>\"\"),VLOOKUP(D123,Lookups!E:F,2,FALSE)&IF(E123<8,\"*\",\"\"),\"\")","v":""},"",""]
[null,null,"",null,null,null,null,{"$f":"IF(AND(A124<>\"\",B124<>\"\"),VLOOKUP(A124,Lookups!A:B,2,FALSE)&\"_\"&B124,\"\")","v":""},{"$f":"IF(AND(D124<>\"\",E124<>\"\"),VLOOKUP(D124,Lookups!E:F,2,FALSE)&IF(E124<8,\"*\",\"\"),\"\")","v":""},"",""]
[null,null,"",null,null,null,null,{"$f":"IF(AND(A125<>\"\",B125<>\"\"),VLOOKUP(A125,Lookups!A:B,2,FALSE)&\"_\"&B125,\"\")","v":""},{"$f":"IF(AND(D125<>\"\",E125<>\"\"),VLOOKUP(D125,Lookups!E:F,2,FALSE)&IF(E125<8,\"*\",\"\"),\"\")","v":""},"",""]
[null,null,"",null,null,null,null,{"$f":"IF(AND(A126<>\"\",B126<>\"\"),VLOOKUP(A126,Lookups!A:B,2,FALSE)&\"_\"&B126,\"\")","v":""},{"$f":"IF(AND(D126<>\"\",E126<>\"\"),VLOOKUP(D126,Lookups!E:F,2,FALSE)&IF(E126<8,\"*\",\"\"),\"\")","v":""},"",""]
[null,null,"",null,null,null,null,{"$f":"IF(AND(A127<>\"\",B127<>\"\"),VLOOKUP(A127,Lookups!A:B,2,FALSE)&\"_\"&B127,\"\")","v":""},{"$f":"IF(AND(D127<>\"\",E127<>\"\"),VLOOKUP(D127,Lookups!E:F,2,FALSE)&IF(E127<8,\"*\",\"\"),\"\")","v":""},"",""]
[null,null,"",null,null,null,null,{"$f":"IF(AND(A128<>\"\",B128<>\"\"),VLOOKUP(A128,Lookups!A:B,2,FALSE)&\"_\"&B128,\"\")","v":""},{"$f":"IF(AND(D128<>\"\",E128<>\"\"),VLOOKUP(D128,Lookups!E:F,2,FALSE)&IF(E128<8,\"*\",\"\"),\"\")","v":""},{"$f":"IF(F128=\"\",\"\",F128)","v":""},""]
[null,null,"",null,null,null,null,{"$f":"IF(AND(A129<>\"\",B129<>\"\"),VLOOKUP(A129,Lookups!A:B,2,FALSE)&\"_\"&B129,\"\")","v":""},{"$f":"IF(AND(D129<>\"\",E129<>\"\"),VLOOKUP(D129,Lookups!E:F,2,FALSE)&IF(E129<8,\"*\",\"\"),\"\")","v":""},"",{"$f":"IF(G129=\"\",\"\",G129)","v":""}]
[null,null,"",null,null,null,null,{"$f":"IF(AND(A130<>\"\",B130<>\"\"),VLOOKUP(A130,Lookups!A:B,2,FALSE)&\"_\"&B130,\"\")","v":""},{"$f":"IF(AND(D130<>\"\",E130<>\"\"),VLOOKUP(D130,Lookups!E:F,2,FALSE)&IF(E130<8,\"*\",\"\"),\"\")","v":""},"",""]
[null,null,"",null,null,null,null,{"$f":"IF(AND(A131<>\"\",B131<>\"\"),VLOOKUP(A131,Lookups!A:B,2,FALSE)&\"_\"&B131,\"\")","v":""},{"$f":"IF(AND(D131<>\"\",E131<>\"\"),VLOOKUP(D131,Lookups!E:F,2,FALSE)&IF(E131<8,\"*\",\"\"),\"\")","v":""},"",""]
[null,null,"",null,null,null,null,{"$f":"IF(AND(A132<>\"\",B132<>\"\"),VLOOKUP(A132,Lookups!A:B,2,FALSE)&\"_\"&B132,\"\")","v":""},{"$f":"IF(AND(D132<>\"\",E132<>\"\"),VLOOKUP(D132,Lookups!E:F,2,FALSE)&IF(E132<8,\"*\",\"\"),\"\")","v":""},"",""]
[null,null,"",null,null,null,null,{"$f":"IF(AND(A133<>\"\",B133<>\"\"),VLOOKUP(A133,Lookups!A:B,2,FALSE)&\"_\"&B133,\"\")","v":""},{"$f":"IF(AND(D133<>\"\",E133<>\"\"),VLOOKUP(D133,Lookups!E:F,2,FALSE)&IF(E133<8,\"*\",\"\"),\"\")","v":""},"",""]
[null,null,"",null,null,null,null,{"$f":"IF(AND(A134<>\"\",B134<>\"\"),VLOOKUP(A134,Lookups!A:B,2,FALSE)&\"_\"&B134,\"\")","v":""},{"$f":"IF(AND(D134<>\"\",E134<>\"\"),VLOOKUP(D134,Lookups!E:F,2,FALSE)&IF(E134<8,\"*\",\"\"),\"\")","v":""},"",""]
[null,null,"",null,null,null,null,{"$f":"IF(AND(A135<>\"\",B135<>\"\"),VLOOKUP(A135,Lookups!A:B,2,FALSE)&\"_\"&B135,\"\")","v":""},{"$f":"IF(AND(D135<>\"\",E135<>\"\"),VLOOKUP(D135,Lookups!E:F,2,FALSE)&IF(E135<8,\"*\",\"\"),\"\")","v":""},"",""]
[null,null,"",null,null,null,null,{"$f":"IF(AND(A136<>\"\",B136<>\"\"),VLOOKUP(A136,Lookups!A:B,2,FALSE)&\"_\"&B136,\"\")","v":""},{"$f":"IF(AND(D136<>\"\",E136<>\"\"),VLOOKUP(D136,Lookups!E:F,2,FALSE)&IF(E136<8,\"*\",\"\"),\"\")","v":""},"",""]
[null,null,"",null,null,null,null,{"$f":"IF(AND(A137<>\"\",B137<>\"\"),VLOOKUP(A137,Lookups!A:B,2,FALSE)&\"_\"&B137,\"\")","v":""},{"$f":"IF(AND(D137<>\"\",E137<>\"\"),VLOOKUP(D137,Lookups!E:F,2,FALSE)&IF(E137<8,\"*\",\"\"),\"\")","v":""},"",""]
[null,null,"",null,null,null,null,{"$f":"IF(AND(A138<>\"\",B138<>\"\"),VLOOKUP(A138,Lookups!A:B,2,FALSE)&\"_\"&B138,\"\")","v":""},{"$f":"IF(AND(D138<>\"\",E138<>\"\"),VLOOKUP(D138,Lookups!E:F,2,FALSE)&IF(E138<8,\"*\",\"\"),\"\")","v":""},"",""]
[null,null,"",null,null,null,null,{"$f":"IF(AND(A139<>\"\",B139<>\"\"),VLOOKUP(A139,Lookups!A:B,2,FALSE)&\"_\"&B139,\"\")","v":""},{"$f":"IF(AND(D139<>\"\",E139<>\"\"),VLOOKUP(D139,Lookups!E:F,2,FALSE)&IF(E139<8,\"*\",\"\"),\"\")","v":""},"",""]
[null,null,"",null,null,null,null,{"$f":"IF(AND(A140<>\"\",B140<>\"\"),VLOOKUP(A140,Lookups!A:B,2,FALSE)&\"_\"&B140,\"\")","v":""},{"$f":"IF(AND(D140<>\"\",E140<>\"\"),VLOOKUP(D140,Lookups!E:F,2,FALSE)&IF(E140<8,\"*\",\"\"),\"\")","v":""},"",""]
[null,null,"",null,null,null,null,{"$f":"IF(AND(A141<>\"\",B141<>\"\"),VLOOKUP(A141,Lookups!A:B,2,FALSE)&\"_\"&B141,\"\")","v":""},{"$f":"IF(AND(D141<>\"\",E141<>\"\"),VLOOKUP(D141,Lookups!E:F,2,FALSE)&IF(E141<8,\"*\",\"\"),\"\")","v":""},"",""]
[null,null,"",null,null,null,null,{"$f":"IF(AND(A142<>\"\",B142<>\"\"),VLOOKUP(A142,Lookups!A:B,2,FALSE)&\"_\"&B142,\"\")","v":""},{"$f":"IF(AND(D142<>\"\",E142<>\"\"),VLOOKUP(D142,Lookups!E:F,2,FALSE)&IF(E142<8,\"*\",\"\"),\"\")","v":""},"",""]
[null,null,"",null,null,null,null,{"$f":"IF(AND(A143<>\"\",B143<>\"\"),VLOOKUP(A143,Lookups!A:B,2,FALSE)&\"_\"&B143,\"\")","v":""},{"$f":"IF(AND(D143<>\"\",E143<>\"\"),VLOOKUP(D143,Lookups!E:F,2,FALSE)&IF(E143<8,\"*\",\"\"),\"\")","v":""},"",""]
[null,null,"",null,null,null,null,{"$f":"IF(AND(A144<>\"\",B144<>\"\"),VLOOKUP(A144,Lookups!A:B,2,FALSE)&\"_\"&B144,\"\")","v":""},{"$f":"IF(AND(D144<>\"\",E144<>\"\"),VLOOKUP(D144,Lookups!E:F,2,FALSE)&IF(E144<8,\"*\",\"\"),\"\")","v":""},"",""]
[null,null,"",null,null,null,null,{"$f":"IF(AND(A145<>\"\",B145<>\"\"),VLOOKUP(A145,Lookups!A:B,2,FALSE)&\"_\"&B145,\"\")","v":""},{"$f":"IF(AND(D145<>\"\",E145<>\"\"),VLOOKUP(D145,Lookups!E:F,2,FALSE)&IF(E145<8,\"*\",\"\"),\"\")","v":""},"",""]
[null,null,"",null,null,null,null,{"$f":"IF(AND(A146<>\"\",B146<>\"\"),VLOOKUP(A146,Lookups!A:B,2,FALSE)&\"_\"&B146,\"\")","v":""},{"$f":"IF(AND(D146<>\"\",E146<>\"\"),VLOOKUP(D146,Lookups!E:F,2,FALSE)&IF(E146<8,\"*\",\"\"),\"\")","v":""},"",""]
[null,null,"",null,null,null,null,{"$f":"IF(AND(A147<>\"\",B147<>\"\"),VLOOKUP(A147,Lookups!A:B,2,FALSE)&\"_\"&B147,\"\")","v":""},{"$f":"IF(AND(D147<>\"\",E147<>\"\"),VLOOKUP(D147,Lookups!E:F,2,FALSE)&IF(E147<8,\"*\",\"\"),\"\")","v":""},"",""]
[null,null,"",null,null,null,null,{"$f":"IF(AND(A148<>\"\",B148<>\"\"),VLOOKUP(A148,Lookups!A:B,2,FALSE)&\"_\"&B148,\"\")","v":""},{"$f":"IF(AND(D148<>\"\",E148<>\"\"),VLOOKUP(D148,Lookups!E:F,2,FALSE)&IF(E148<8,\"*\",\"\"),\"\")","v":""},"",""]
[null,null,"",null,null,null,null,{"$f":"IF(AND(A149<>\"\",B149<>\"\"),VLOOKUP(A149,Lookups!A:B,2,FALSE)&\"_\"&B149,\"\")","v":""},{"$f":"IF(AND(D149<>\"\",E149<>\"\"),VLOOKUP(D149,Lookups!E:F,2,FALSE)&IF(E149<8,\"*\",\"\"),\"\")","v":""},"",""]
[null,null,"",null,null,null,null,{"$f":"IF(AND(A150<>\"\",B150<>\"\"),VLOOKUP(A150,Lookups!A:B,2,FALSE)&\"_\"&B150,\"\")","v":""},{"$f":"IF(AND(D150<>\"\",E150<>\"\"),VLOOKUP(D150,Lookups!E:F,2,FALSE)&IF(E150<8,\"*\",\"\"),\"\")","v":""},"",""]
[null,null,"",null,null,null,null,{"$f":"IF(AND(A151<>\"\",B151<>\"\"),VLOOKUP(A151,Lookups!A:B,2,FALSE)&\"_\"&B151,\"\")","v":""},{"$f":"IF(AND(D151<>\"\",E151<>\"\"),VLOOKUP(D151,Lookups!E:F,2,FALSE)&IF(E151<8,\"*\",\"\"),\"\")","v":""},"",""]
[null,null,"",null,null,null,null,{"$f":"IF(AND(A152<>\"\",B152<>\"\"),VLOOKUP(A152,Lookups!A:B,2,FALSE)&\"_\"&B152,\"\")","v":""},{"$f":"IF(AND(D152<>\"\",E152<>\"\"),VLOOKUP(D152,Lookups!E:F,2,FALSE)&IF(E152<8,\"*\",\"\"),\"\")","v":""},"",""]
[null,null,"",null,null,null,null,{"$f":"IF(AND(A153<>\"\",B153<>\"\"),VLOOKUP(A153,Lookups!A:B,2,FALSE)&\"_\"&B153,\"\")","v":""},{"$f":"IF(AND(D153<>\"\",E153<>\"\"),VLOOKUP(D153,Lookups!E:F,2,FALSE)&IF(E153<8,\"*\",\"\"),\"\")","v":""},"",""]
[null,null,"",null,null,null,null,{"$f":"IF(AND(A154<>\"\",B154<>\"\"),VLOOKUP(A154,Lookups!A:B,2,FALSE)&\"_\"&B154,\"\")","v":""},{"$f":"IF(AND(D154<>\"\",E154<>\"\"),VLOOKUP(D154,Lookups!E:F,2,FALSE)&IF(E154<8,\"*\",\"\"),\"\")","v":""},"",""]
[null,null,{"$f":"IF(B155=\"\",\"\",TEXT(WEEKDAY(B155),\"aaaa\"))","v":""},null,null,null,null,{"$f":"IF(AND(A155<>\"\",B155<>\"\"),VLOOKUP(A155,Lookups!A:B,2,FALSE)&\"_\"&B155,\"\")","v":""},{"$f":"IF(AND(D155<>\"\",E155<>\"\"),VLOOKUP(D155,Lookups!E:F,2,FALSE)&IF(E155<8,\"*\",\"\"),\"\")","v":""},"",""]
[null,null,"",null,null,null,null,{"$f":"IF(AND(A156<>\"\",B156<>\"\"),VLOOKUP(A156,Lookups!A:B,2,FALSE)&\"_\"&B156,\"\")","v":""},{"$f":"IF(AND(D156<>\"\",E156<>\"\"),VLOOKUP(D156,Lookups!E:F,2,FALSE)&IF(E156<8,\"*\",\"\"),\"\")","v":""},"",""]
[null,null,"",null,null,null,null,{"$f":"IF(AND(A157<>\"\",B157<>\"\"),VLOOKUP(A157,Lookups!A:B,2,FALSE)&\"_\"&B157,\"\")","v":""},{"$f":"IF(AND(D157<>\"\",E157<>\"\"),VLOOKUP(D157,Lookups!E:F,2,FALSE)&IF(E157<8,\"*\",\"\"),\"\")","v":""},"",""]
[null,null,"",null,null,null,null,{"$f":"IF(AND(A158<>\"\",B158<>\"\"),VLOOKUP(A158,Lookups!A:B,2,FALSE)&\"_\"&B158,\"\")","v":""},{"$f":"IF(AND(D158<>\"\",E158<>\"\"),VLOOKUP(D158,Lookups!E:F,2,FALSE)&IF(E158<8,\"*\",\"\"),\"\")","v":""},"",""]
[null,null,"",null,null,null,null,{"$f":"IF(AND(A159<>\"\",B159<>\"\"),VLOOKUP(A159,Lookups!A:B,2,FALSE)&\"_\"&B159,\"\")","v":""},{"$f":"IF(AND(D159<>\"\",E159<>\"\"),VLOOKUP(D159,Lookups!E:F,2,FALSE)&IF(E159<8,\"*\",\"\"),\"\")","v":""},"",""]
[null,null,"",null,null,null,null,{"$f":"IF(AND(A160<>\"\",B160<>\"\"),VLOOKUP(A160,Lookups!A:B,2,FALSE)&\"_\"&B160,\"\")","v":""},{"$f":"IF(AND(D160<>\"\",E160<>\"\"),VLOOKUP(D160,Lookups!E:F,2,FALSE)&IF(E160<8,\"*\",\"\"),\"\")","v":""}]
[null,null,"",null,null,null,null,{"$f":"IF(AND(A161<>\"\",B161<>\"\"),VLOOKUP(A161,Lookups!A:B,2,FALSE)&\"_\"&B161,\"\")","v":""},{"$f":"IF(AND(D161<>\"\",E161<>\"\"),VLOOKUP(D161,Lookups!E:F,2,FALSE)&IF(E161<8,\"*\",\"\"),\"\")","v":""},{"$f":"IF(F161=\"\",\"\",F161)","v":""},{"$f":"IF(G161=\"\",\"\",G161)","v":""}]
[null,null,"",null,null,null,null,{"$f":"IF(AND(A162<>\"\",B162<>\"\"),VLOOKUP(A162,Lookups!A:B,2,FALSE)&\"_\"&B162,\"\")","v":""},{"$f":"IF(AND(D162<>\"\",E162<>\"\"),VLOOKUP(D162,Lookups!E:F,2,FALSE)&IF(E162<8,\"*\",\"\"),\"\")","v":""},"",""]
[null,null,"",null,null,null,null,{"$f":"IF(AND(A163<>\"\",B163<>\"\"),VLOOKUP(A163,Lookups!A:B,2,FALSE)&\"_\"&B163,\"\")","v":""},{"$f":"IF(AND(D163<>\"\",E163<>\"\"),VLOOKUP(D163,Lookups!E:F,2,FALSE)&IF(E163<8,\"*\",\"\"),\"\")","v":""},"",""]
[null,null,"",null,null,null,null,{"$f":"IF(AND(A164<>\"\",B164<>\"\"),VLOOKUP(A164,Lookups!A:B,2,FALSE)&\"_\"&B164,\"\")","v":""},{"$f":"IF(AND(D164<>\"\",E164<>\"\"),VLOOKUP(D164,Lookups!E:F,2,FALSE)&IF(E164<8,\"*\",\"\"),\"\")","v":""},"",""]
[null,null,"",null,null,null,null,{"$f":"IF(AND(A165<>\"\",B165<>\"\"),VLOOKUP(A165,Lookups!A:B,2,FALSE)&\"_\"&B165,\"\")","v":""},{"$f":"IF(AND(D165<>\"\",E165<>\"\"),VLOOKUP(D165,Lookups!E:F,2,FALSE)&IF(E165<8,\"*\",\"\"),\"\")","v":""},"",""]
[null,null,"",null,null,null,null,{"$f":"IF(AND(A166<>\"\",B166<>\"\"),VLOOKUP(A166,Lookups!A:B,2,FALSE)&\"_\"&B166,\"\")","v":""},{"$f":"IF(AND(D166<>\"\",E166<>\"\"),VLOOKUP(D166,Lookups!E:F,2,FALSE)&IF(E166<8,\"*\",\"\"),\"\")","v":""},"",""]
[null,null,"",null,null,null,null,{"$f":"IF(AND(A167<>\"\",B167<>\"\"),VLOOKUP(A167,Lookups!A:B,2,FALSE)&\"_\"&B167,\"\")","v":""},{"$f":"IF(AND(D167<>\"\",E167<>\"\"),VLOOKUP(D167,Lookups!E:F,2,FALSE)&IF(E167<8,\"*\",\"\"),\"\")","v":""},"",""]
[null,null,"",null,null,null,null,{"$f":"IF(AND(A168<>\"\",B168<>\"\"),VLOOKUP(A168,Lookups!A:B,2,FALSE)&\"_\"&B168,\"\")","v":""},{"$f":"IF(AND(D168<>\"\",E168<>\"\"),VLOOKUP(D168,Lookups!E:F,2,FALSE)&IF(E168<8,\"*\",\"\"),\"\")","v":""},"",""]
[null,null,"",null,null,null,null,{"$f":"IF(AND(A169<>\"\",B169<>\"\"),VLOOKUP(A169,Lookups!A:B,2,FALSE)&\"_\"&B169,\"\")","v":""},{"$f":"IF(AND(D169<>\"\",E169<>\"\"),VLOOKUP(D169,Lookups!E:F,2,FALSE)&IF(E169<8,\"*\",\"\"),\"\")","v":""},"",""]
[null,null,"",null,null,null,null,{"$f":"IF(AND(A170<>\"\",B170<>\"\"),VLOOKUP(A170,Lookups!A:B,2,FALSE)&\"_\"&B170,\"\")","v":""},{"$f":"IF(AND(D170<>\"\",E170<>\"\"),VLOOKUP(D170,Lookups!E:F,2,FALSE)&IF(E170<8,\"*\",\"\"),\"\")","v":""},"",""]
[null,null,"",null,null,null,null,{"$f":"IF(AND(A171<>\"\",B171<>\"\"),VLOOKUP(A171,Lookups!A:B,2,FALSE)&\"_\"&B171,\"\")","v":""},{"$f":"IF(AND(D171<>\"\",E171<>\"\"),VLOOKUP(D171,Lookups!E:F,2,FALSE)&IF(E171<8,\"*\",\"\"),\"\")","v":""},"",""]
[null,null,"",null,null,null,null,{"$f":"IF(AND(A172<>\"\",B172<>\"\"),VLOOKUP(A172,Lookups!A:B,2,FALSE)&\"_\"&B172,\"\")","v":""},{"$f":"IF(AND(D172<>\"\",E172<>\"\"),VLOOKUP(D172,Lookups!E:F,2,FALSE)&IF(E172<8,\"*\",\"\"),\"\")","v":""},"",""]
[null,null,"",null,null,null,null,{"$f":"IF(AND(A173<>\"\",B173<>\"\"),VLOOKUP(A173,Lookups!A:B,2,FALSE)&\"_\"&B173,\"\")","v":""},{"$f":"IF(AND(D173<>\"\",E173<>\"\"),VLOOKUP(D173,Lookups!E:F,2,FALSE)&IF(E173<8,\"*\",\"\"),\"\")","v":""},"",""]
[null,null,"",null,null,null,null,{"$f":"IF(AND(A174<>\"\",B174<>\"\"),VLOOKUP(A174,Lookups!A:B,2,FALSE)&\"_\"&B174,\"\")","v":""},{"$f":"IF(AND(D174<>\"\",E174<>\"\"),VLOOKUP(D174,Lookups!E:F,2,FALSE)&IF(E174<8,\"*\",\"\"),\"\")","v":""},"",""]
[null,null,"",null,null,null,null,{"$f":"IF(AND(A175<>\"\",B175<>\"\"),VLOOKUP(A175,Lookups!A:B,2,FALSE)&\"_\"&B175,\"\")","v":""},{"$f":"IF(AND(D175<>\"\",E175<>\"\"),VLOOKUP(D175,Lookups!E:F,2,FALSE)&IF(E175<8,\"*\",\"\"),\"\")","v":""},"",""]
[null,null,"",null,null,null,null,{"$f":"IF(AND(A176<>\"\",B176<>\"\"),VLOOKUP(A176,Lookups!A:B,2,FALSE)&\"_\"&B176,\"\")","v":""},{"$f":"IF(AND(D176<>\"\",E176<>\"\"),VLOOKUP(D176,Lookups!E:F,2,FALSE)&IF(E176<8,\"*\",\"\"),\"\")","v":""},"",""]
[null,null,"",null,null,null,null,{"$f":"IF(AND(A177<>\"\",B177<>\"\"),VLOOKUP(A177,Lookups!A:B,2,FALSE)&\"_\"&B177,\"\")","v":""},{"$f":"IF(AND(D177<>\"\",E177<>\"\"),VLOOKUP(D177,Lookups!E:F,2,FALSE)&IF(E177<8,\"*\",\"\"),\"\")","v":""},"",""]
[null,null,"",null,null,null,null,{"$f":"IF(AND(A178<>\"\",B178<>\"\"),VLOOKUP(A178,Lookups!A:B,2,FALSE)&\"_\"&B178,\"\")","v":""},{"$f":"IF(AND(D178<>\"\",E178<>\"\"),VLOOKUP(D178,Lookups!E:F,2,FALSE)&IF(E178<8,\"*\",\"\"),\"\")","v":""},"",""]
[null,null,"",null,null,null,null,{"$f":"IF(AND(A179<>\"\",B179<>\"\"),VLOOKUP(A179,Lookups!A:B,2,FALSE)&\"_\"&B179,\"\")","v":""},{"$f":"IF(AND(D179<>\"\",E179<>\"\"),VLOOKUP(D179,Lookups!E:F,2,FALSE)&IF(E179<8,\"*\",\"\"),\"\")","v":""},"",""]
[null,null,"",null,null,null,null,{"$f":"IF(AND(A180<>\"\",B180<>\"\"),VLOOKUP(A180,Lookups!A:B,2,FALSE)&\"_\"&B180,\"\")","v":""},{"$f":"IF(AND(D180<>\"\",E180<>\"\"),VLOOKUP(D180,Lookups!E:F,2,FALSE)&IF(E180<8,\"*\",\"\"),\"\")","v":""},"",""]
[null,null,"",null,null,null,null,{"$f":"IF(AND(A181<>\"\",B181<>\"\"),VLOOKUP(A181,Lookups!A:B,2,FALSE)&\"_\"&B181,\"\")","v":""},{"$f":"IF(AND(D181<>\"\",E181<>\"\"),VLOOKUP(D181,Lookups!E:F,2,FALSE)&IF(E181<8,\"*\",\"\"),\"\")","v":""},"",""]
[null,null,"",null,null,null,null,{"$f":"IF(AND(A182<>\"\",B182<>\"\"),VLOOKUP(A182,Lookups!A:B,2,FALSE)&\"_\"&B182,\"\")","v":""},{"$f":"IF(AND(D182<>\"\",E182<>\"\"),VLOOKUP(D182,Lookups!E:F,2,FALSE)&IF(E182<8,\"*\",\"\"),\"\")","v":""},"",""]
[null,null,{"$f":"IF(B183=\"\",\"\",TEXT(WEEKDAY(B183),\"aaaa\"))","v":""},null,null,null,null,{"$f":"IF(AND(A183<>\"\",B183<>\"\"),VLOOKUP(A183,Lookups!A:B,2,FALSE)&\"_\"&B183,\"\")","v":""},{"$f":"IF(AND(D183<>\"\",E183<>\"\"),VLOOKUP(D183,Lookups!E:F,2,FALSE)&IF(E183<8,\"*\",\"\"),\"\")","v":""},{"$f":"IF(F183=\"\",\"\",F183)","v":""},{"$f":"IF(G183=\"\",\"\",G183)","v":""}]
[null,null,"",null,null,null,null,{"$f":"IF(AND(A184<>\"\",B184<>\"\"),VLOOKUP(A184,Lookups!A:B,2,FALSE)&\"_\"&B184,\"\")","v":""},{"$f":"IF(AND(D184<>\"\",E184<>\"\"),VLOOKUP(D184,Lookups!E:F,2,FALSE)&IF(E184<8,\"*\",\"\"),\"\")","v":""},"",""]
[null,null,"",null,null,null,null,{"$f":"IF(AND(A185<>\"\",B185<>\"\"),VLOOKUP(A185,Lookups!A:B,2,FALSE)&\"_\"&B185,\"\")","v":""},{"$f":"IF(AND(D185<>\"\",E185<>\"\"),VLOOKUP(D185,Lookups!E:F,2,FALSE)&IF(E185<8,\"*\",\"\"),\"\")","v":""},"",""]
[null,null,"",null,null,null,null,{"$f":"IF(AND(A186<>\"\",B186<>\"\"),VLOOKUP(A186,Lookups!A:B,2,FALSE)&\"_\"&B186,\"\")","v":""},{"$f":"IF(AND(D186<>\"\",E186<>\"\"),VLOOKUP(D186,Lookups!E:F,2,FALSE)&IF(E186<8,\"*\",\"\"),\"\")","v":""},"",""]
[null,null,{"$f":"IF(B187=\"\",\"\",TEXT(WEEKDAY(B187),\"aaaa\"))","v":""},null,null,null,null,{"$f":"IF(AND(A187<>\"\",B187<>\"\"),VLOOKUP(A187,Lookups!A:B,2,FALSE)&\"_\"&B187,\"\")","v":""},{"$f":"IF(AND(D187<>\"\",E187<>\"\"),VLOOKUP(D187,Lookups!E:F,2,FALSE)&IF(E187<8,\"*\",\"\"),\"\")","v":""},"",""]
[null,null,"",null,null,null,null,{"$f":"IF(AND(A188<>\"\",B188<>\"\"),VLOOKUP(A188,Lookups!A:B,2,FALSE)&\"_\"&B188,\"\")","v":""},{"$f":"IF(AND(D188<>\"\",E188<>\"\"),VLOOKUP(D188,Lookups!E:F,2,FALSE)&IF(E188<8,\"*\",\"\"),\"\")","v":""},"",""]
[null,null,"",null,null,null,null,{"$f":"IF(AND(A189<>\"\",B189<>\"\"),VLOOKUP(A189,Lookups!A:B,2,FALSE)&\"_\"&B189,\"\")","v":""},{"$f":"IF(AND(D189<>\"\",E189<>\"\"),VLOOKUP(D189,Lookups!E:F,2,FALSE)&IF(E189<8,\"*\",\"\"),\"\")","v":""},"",""]
[null,null,"",null,null,null,null,{"$f":"IF(AND(A190<>\"\",B190<>\"\"),VLOOKUP(A190,Lookups!A:B,2,FALSE)&\"_\"&B190,\"\")","v":""},{"$f":"IF(AND(D190<>\"\",E190<>\"\"),VLOOKUP(D190,Lookups!E:F,2,FALSE)&IF(E190<8,\"*\",\"\"),\"\")","v":""},"",""]
[null,null,"",null,null,null,null,{"$f":"IF(AND(A191<>\"\",B191<>\"\"),VLOOKUP(A191,Lookups!A:B,2,FALSE)&\"_\"&B191,\"\")","v":""},{"$f":"IF(AND(D191<>\"\",E191<>\"\"),VLOOKUP(D191,Lookups!E:F,2,FALSE)&IF(E191<8,\"*\",\"\"),\"\")","v":""},"",""]
[null,null,"",null,null,null,null,{"$f":"IF(AND(A192<>\"\",B192<>\"\"),VLOOKUP(A192,Lookups!A:B,2,FALSE)&\"_\"&B192,\"\")","v":""},{"$f":"IF(AND(D192<>\"\",E192<>\"\"),VLOOKUP(D192,Lookups!E:F,2,FALSE)&IF(E192<8,\"*\",\"\"),\"\")","v":""},"",""]
[null,null,"",null,null,null,null,{"$f":"IF(AND(A193<>\"\",B193<>\"\"),VLOOKUP(A193,Lookups!A:B,2,FALSE)&\"_\"&B193,\"\")","v":""},{"$f":"IF(AND(D193<>\"\",E193<>\"\"),VLOOKUP(D193,Lookups!E:F,2,FALSE)&IF(E193<8,\"*\",\"\"),\"\")","v":""},"",""]
[null,null,"",null,null,null,null,{"$f":"IF(AND(A194<>\"\",B194<>\"\"),VLOOKUP(A194,Lookups!A:B,2,FALSE)&\"_\"&B194,\"\")","v":""},{"$f":"IF(AND(D194<>\"\",E194<>\"\"),VLOOKUP(D194,Lookups!E:F,2,FALSE)&IF(E194<8,\"*\",\"\"),\"\")","v":""},"",""]
[null,null,"",null,null,null,null,{"$f":"IF(AND(A195<>\"\",B195<>\"\"),VLOOKUP(A195,Lookups!A:B,2,FALSE)&\"_\"&B195,\"\")","v":""},{"$f":"IF(AND(D195<>\"\",E195<>\"\"),VLOOKUP(D195,Lookups!E:F,2,FALSE)&IF(E195<8,\"*\",\"\"),\"\")","v":""},"",""]
[null,null,"",null,null,null,null,{"$f":"IF(AND(A196<>\"\",B196<>\"\"),VLOOKUP(A196,Lookups!A:B,2,FALSE)&\"_\"&B196,\"\")","v":""},{"$f":"IF(AND(D196<>\"\",E196<>\"\"),VLOOKUP(D196,Lookups!E:F,2,FALSE)&IF(E196<8,\"*\",\"\"),\"\")","v":""},"",""]
[null,null,"",null,null,null,null,{"$f":"IF(AND(A197<>\"\",B197<>\"\"),VLOOKUP(A197,Lookups!A:B,2,FALSE)&\"_\"&B197,\"\")","v":""},{"$f":"IF(AND(D197<>\"\",E197<>\"\"),VLOOKUP(D197,Lookups!E:F,2,FALSE)&IF(E197<8,\"*\",\"\"),\"\")","v":""},"",""]
[null,null,"",null,null,null,null,{"$f":"IF(AND(A198<>\"\",B198<>\"\"),VLOOKUP(A198,Lookups!A:B,2,FALSE)&\"_\"&B198,\"\")","v":""},{"$f":"IF(AND(D198<>\"\",E198<>\"\"),VLOOKUP(D198,Lookups!E:F,2,FALSE)&IF(E198<8,\"*\",\"\"),\"\")","v":""},"",""]
[null,null,"",null,null,null,null,{"$f":"IF(AND(A199<>\"\",B199<>\"\"),VLOOKUP(A199,Lookups!A:B,2,FALSE)&\"_\"&B199,\"\")","v":""},{"$f":"IF(AND(D199<>\"\",E199<>\"\"),VLOOKUP(D199,Lookups!E:F,2,FALSE)&IF(E199<8,\"*\",\"\"),\"\")","v":""},"",""]
[null,null,"",null,null,null,null,{"$f":"IF(AND(A200<>\"\",B200<>\"\"),VLOOKUP(A200,Lookups!A:B,2,FALSE)&\"_\"&B200,\"\")","v":""},{"$f":"IF(AND(D200<>\"\",E200<>\"\"),VLOOKUP(D200,Lookups!E:F,2,FALSE)&IF(E200<8,\"*\",\"\"),\"\")","v":""},"",""]
[null,null,"",null,null,null,null,{"$f":"IF(AND(A201<>\"\",B201<>\"\"),VLOOKUP(A201,Lookups!A:B,2,FALSE)&\"_\"&B201,\"\")","v":""},{"$f":"IF(AND(D201<>\"\",E201<>\"\"),VLOOKUP(D201,Lookups!E:F,2,FALSE)&IF(E201<8,\"*\",\"\"),\"\")","v":""},"",""]
[null,null,"",null,null,null,null,{"$f":"IF(AND(A202<>\"\",B202<>\"\"),VLOOKUP(A202,Lookups!A:B,2,FALSE)&\"_\"&B202,\"\")","v":""},{"$f":"IF(AND(D202<>\"\",E202<>\"\"),VLOOKUP(D202,Lookups!E:F,2,FALSE)&IF(E202<8,\"*\",\"\"),\"\")","v":""},"",""]
[null,null,"",null,null,null,null,{"$f":"IF(AND(A203<>\"\",B203<>\"\"),VLOOKUP(A203,Lookups!A:B,2,FALSE)&\"_\"&B203,\"\")","v":""},{"$f":"IF(AND(D203<>\"\",E203<>\"\"),VLOOKUP(D203,Lookups!E:F,2,FALSE)&IF(E203<8,\"*\",\"\"),\"\")","v":""},"",""]
[null,null,"",null,null,null,null,{"$f":"IF(AND(A204<>\"\",B204<>\"\"),VLOOKUP(A204,Lookups!A:B,2,FALSE)&\"_\"&B204,\"\")","v":""},{"$f":"IF(AND(D204<>\"\",E204<>\"\"),VLOOKUP(D204,Lookups!E:F,2,FALSE)&IF(E204<8,\"*\",\"\"),\"\")","v":""},"",""]
[null,null,"",null,null,null,null,{"$f":"IF(AND(A205<>\"\",B205<>\"\"),VLOOKUP(A205,Lookups!A:B,2,FALSE)&\"_\"&B205,\"\")","v":""},{"$f":"IF(AND(D205<>\"\",E205<>\"\"),VLOOKUP(D205,Lookups!E:F,2,FALSE)&IF(E205<8,\"*\",\"\"),\"\")","v":""},"",""]
[null,null,"",null,null,null,null,{"$f":"IF(AND(A206<>\"\",B206<>\"\"),VLOOKUP(A206,Lookups!A:B,2,FALSE)&\"_\"&B206,\"\")","v":""},{"$f":"IF(AND(D206<>\"\",E206<>\"\"),VLOOKUP(D206,Lookups!E:F,2,FALSE)&IF(E206<8,\"*\",\"\"),\"\")","v":""},"",""]
[null,null,"",null,null,null,null,{"$f":"IF(AND(A207<>\"\",B207<>\"\"),VLOOKUP(A207,Lookups!A:B,2,FALSE)&\"_\"&B207,\"\")","v":""},{"$f":"IF(AND(D207<>\"\",E207<>\"\"),VLOOKUP(D207,Lookups!E:F,2,FALSE)&IF(E207<8,\"*\",\"\"),\"\")","v":""},"",""]
[null,null,"",null,null,null,null,{"$f":"IF(AND(A208<>\"\",B208<>\"\"),VLOOKUP(A208,Lookups!A:B,2,FALSE)&\"_\"&B208,\"\")","v":""},{"$f":"IF(AND(D208<>\"\",E208<>\"\"),VLOOKUP(D208,Lookups!E:F,2,FALSE)&IF(E208<8,\"*\",\"\"),\"\")","v":""},"",""]
[null,null,"",null,null,null,null,{"$f":"IF(AND(A209<>\"\",B209<>\"\"),VLOOKUP(A209,Lookups!A:B,2,FALSE)&\"_\"&B209,\"\")","v":""},{"$f":"IF(AND(D209<>\"\",E209<>\"\"),VLOOKUP(D209,Lookups!E:F,2,FALSE)&IF(E209<8,\"*\",\"\"),\"\")","v":""},"",""]
[null,null,"",null,null,null,null,{"$f":"IF(AND(A210<>\"\",B210<>\"\"),VLOOKUP(A210,Lookups!A:B,2,FALSE)&\"_\"&B210,\"\")","v":""},{"$f":"IF(AND(D210<>\"\",E210<>\"\"),VLOOKUP(D210,Lookups!E:F,2,FALSE)&IF(E210<8,\"*\",\"\"),\"\")","v":""},"",""]
[null,null,"",null,null,null,null,{"$f":"IF(AND(A211<>\"\",B211<>\"\"),VLOOKUP(A211,Lookups!A:B,2,FALSE)&\"_\"&B211,\"\")","v":""},{"$f":"IF(AND(D211<>\"\",E211<>\"\"),VLOOKUP(D211,Lookups!E:F,2,FALSE)&IF(E211<8,\"*\",\"\"),\"\")","v":""},"",""]
[null,null,"",null,null,null,null,{"$f":"IF(AND(A212<>\"\",B212<>\"\"),VLOOKUP(A212,Lookups!A:B,2,FALSE)&\"_\"&B212,\"\")","v":""},{"$f":"IF(AND(D212<>\"\",E212<>\"\"),VLOOKUP(D212,Lookups!E:F,2,FALSE)&IF(E212<8,\"*\",\"\"),\"\")","v":""},"",""]
[null,null,"",null,null,null,null,{"$f":"IF(AND(A213<>\"\",B213<>\"\"),VLOOKUP(A213,Lookups!A:B,2,FALSE)&\"_\"&B213,\"\")","v":""},{"$f":"IF(AND(D213<>\"\",E213<>\"\"),VLOOKUP(D213,Lookups!E:F,2,FALSE)&IF(E213<8,\"*\",\"\"),\"\")","v":""},"",""]
[null,null,"",null,null,null,null,{"$f":"IF(AND(A214<>\"\",B214<>\"\"),VLOOKUP(A214,Lookups!A:B,2,FALSE)&\"_\"&B214,\"\")","v":""},{"$f":"IF(AND(D214<>\"\",E214<>\"\"),VLOOKUP(D214,Lookups!E:F,2,FALSE)&IF(E214<8,\"*\",\"\"),\"\")","v":""},"",""]
[null,null,"",null,null,null,null,{"$f":"IF(AND(A215<>\"\",B215<>\"\"),VLOOKUP(A215,Lookups!A:B,2,FALSE)&\"_\"&B215,\"\")","v":""},{"$f":"IF(AND(D215<>\"\",E215<>\"\"),VLOOKUP(D215,Lookups!E:F,2,FALSE)&IF(E215<8,\"*\",\"\"),\"\")","v":""},"",""]
[null,null,"",null,null,null,null,{"$f":"IF(AND(A216<>\"\",B216<>\"\"),VLOOKUP(A216,Lookups!A:B,2,FALSE)&\"_\"&B216,\"\")","v":""},{"$f":"IF(AND(D216<>\"\",E216<>\"\"),VLOOKUP(D216,Lookups!E:F,2,FALSE)&IF(E216<8,\"*\",\"\"),\"\")","v":""},"",""]
[null,null,"",null,null,null,null,{"$f":"IF(AND(A217<>\"\",B217<>\"\"),VLOOKUP(A217,Lookups!A:B,2,FALSE)&\"_\"&B217,\"\")","v":""},{"$f":"IF(AND(D217<>\"\",E217<>\"\"),VLOOKUP(D217,Lookups!E:F,2,FALSE)&IF(E217<8,\"*\",\"\"),\"\")","v":""},"",""]
[null,null,"",null,null,null,null,{"$f":"IF(AND(A218<>\"\",B218<>\"\"),VLOOKUP(A218,Lookups!A:B,2,FALSE)&\"_\"&B218,\"\")","v":""},{"$f":"IF(AND(D218<>\"\",E218<>\"\"),VLOOKUP(D218,Lookups!E:F,2,FALSE)&IF(E218<8,\"*\",\"\"),\"\")","v":""},"",""]
[null,null,"",null,null,null,null,{"$f":"IF(AND(A219<>\"\",B219<>\"\"),VLOOKUP(A219,Lookups!A:B,2,FALSE)&\"_\"&B219,\"\")","v":""},{"$f":"IF(AND(D219<>\"\",E219<>\"\"),VLOOKUP(D219,Lookups!E:F,2,FALSE)&IF(E219<8,\"*\",\"\"),\"\")","v":""},"",""]
[null,null,"",null,null,null,null,{"$f":"IF(AND(A220<>\"\",B220<>\"\"),VLOOKUP(A220,Lookups!A:B,2,FALSE)&\"_\"&B220,\"\")","v":""},{"$f":"IF(AND(D220<>\"\",E220<>\"\"),VLOOKUP(D220,Lookups!E:F,2,FALSE)&IF(E220<8,\"*\",\"\"),\"\")","v":""},"",""]
[null,null,"",null,null,null,null,{"$f":"IF(AND(A221<>\"\",B221<>\"\"),VLOOKUP(A221,Lookups!A:B,2,FALSE)&\"_\"&B221,\"\")","v":""},{"$f":"IF(AND(D221<>\"\",E221<>\"\"),VLOOKUP(D221,Lookups!E:F,2,FALSE)&IF(E221<8,\"*\",\"\"),\"\")","v":""},"",""]
[null,null,"",null,null,null,null,{"$f":"IF(AND(A222<>\"\",B222<>\"\"),VLOOKUP(A222,Lookups!A:B,2,FALSE)&\"_\"&B222,\"\")","v":""},{"$f":"IF(AND(D222<>\"\",E222<>\"\"),VLOOKUP(D222,Lookups!E:F,2,FALSE)&IF(E222<8,\"*\",\"\"),\"\")","v":""},"",""]
[null,null,"",null,null,null,null,{"$f":"IF(AND(A223<>\"\",B223<>\"\"),VLOOKUP(A223,Lookups!A:B,2,FALSE)&\"_\"&B223,\"\")","v":""},{"$f":"IF(AND(D223<>\"\",E223<>\"\"),VLOOKUP(D223,Lookups!E:F,2,FALSE)&IF(E223<8,\"*\",\"\"),\"\")","v":""},"",""]
[null,null,"",null,null,null,null,{"$f":"IF(AND(A224<>\"\",B224<>\"\"),VLOOKUP(A224,Lookups!A:B,2,FALSE)&\"_\"&B224,\"\")","v":""},{"$f":"IF(AND(D224<>\"\",E224<>\"\"),VLOOKUP(D224,Lookups!E:F,2,FALSE)&IF(E224<8,\"*\",\"\"),\"\")","v":""},{"$f":"IF(F224=\"\",\"\",F224)","v":""},{"$f":"IF(G224=\"\",\"\",G224)","v":""}]
[null,null,"",null,null,null,null,{"$f":"IF(AND(A225<>\"\",B225<>\"\"),VLOOKUP(A225,Lookups!A:B,2,FALSE)&\"_\"&B225,\"\")","v":""},{"$f":"IF(AND(D225<>\"\",E225<>\"\"),VLOOKUP(D225,Lookups!E:F,2,FALSE)&IF(E225<8,\"*\",\"\"),\"\")","v":""},"",""]
[null,null,"",null,null,null,null,{"$f":"IF(AND(A226<>\"\",B226<>\"\"),VLOOKUP(A226,Lookups!A:B,2,FALSE)&\"_\"&B226,\"\")","v":""},{"$f":"IF(AND(D226<>\"\",E226<>\"\"),VLOOKUP(D226,Lookups!E:F,2,FALSE)&IF(E226<8,\"*\",\"\"),\"\")","v":""},"",""]
[null,null,"",null,null,null,null,{"$f":"IF(AND(A227<>\"\",B227<>\"\"),VLOOKUP(A227,Lookups!A:B,2,FALSE)&\"_\"&B227,\"\")","v":""},{"$f":"IF(AND(D227<>\"\",E227<>\"\"),VLOOKUP(D227,Lookups!E:F,2,FALSE)&IF(E227<8,\"*\",\"\"),\"\")","v":""},"",""]
[null,null,"",null,null,null,null,{"$f":"IF(AND(A228<>\"\",B228<>\"\"),VLOOKUP(A228,Lookups!A:B,2,FALSE)&\"_\"&B228,\"\")","v":""},{"$f":"IF(AND(D228<>\"\",E228<>\"\"),VLOOKUP(D228,Lookups!E:F,2,FALSE)&IF(E228<8,\"*\",\"\"),\"\")","v":""},"",""]
[null,null,"",null,null,null,null,{"$f":"IF(AND(A229<>\"\",B229<>\"\"),VLOOKUP(A229,Lookups!A:B,2,FALSE)&\"_\"&B229,\"\")","v":""},{"$f":"IF(AND(D229<>\"\",E229<>\"\"),VLOOKUP(D229,Lookups!E:F,2,FALSE)&IF(E229<8,\"*\",\"\"),\"\")","v":""},"",""]
[null,null,"",null,null,null,null,{"$f":"IF(AND(A230<>\"\",B230<>\"\"),VLOOKUP(A230,Lookups!A:B,2,FALSE)&\"_\"&B230,\"\")","v":""},{"$f":"IF(AND(D230<>\"\",E230<>\"\"),VLOOKUP(D230,Lookups!E:F,2,FALSE)&IF(E230<8,\"*\",\"\"),\"\")","v":""},"",""]
[null,null,"",null,null,null,null,{"$f":"IF(AND(A231<>\"\",B231<>\"\"),VLOOKUP(A231,Lookups!A:B,2,FALSE)&\"_\"&B231,\"\")","v":""},{"$f":"IF(AND(D231<>\"\",E231<>\"\"),VLOOKUP(D231,Lookups!E:F,2,FALSE)&IF(E231<8,\"*\",\"\"),\"\")","v":""},"",""]
[null,null,"",null,null,null,null,{"$f":"IF(AND(A232<>\"\",B232<>\"\"),VLOOKUP(A232,Lookups!A:B,2,FALSE)&\"_\"&B232,\"\")","v":""},{"$f":"IF(AND(D232<>\"\",E232<>\"\"),VLOOKUP(D232,Lookups!E:F,2,FALSE)&IF(E232<8,\"*\",\"\"),\"\")","v":""},"",""]
[null,null,"",null,null,null,null,{"$f":"IF(AND(A233<>\"\",B233<>\"\"),VLOOKUP(A233,Lookups!A:B,2,FALSE)&\"_\"&B233,\"\")","v":""},{"$f":"IF(AND(D233<>\"\",E233<>\"\"),VLOOKUP(D233,Lookups!E:F,2,FALSE)&IF(E233<8,\"*\",\"\"),\"\")","v":""},"",""]
[null,null,"",null,null,null,null,{"$f":"IF(AND(A234<>\"\",B234<>\"\"),VLOOKUP(A234,Lookups!A:B,2,FALSE)&\"_\"&B234,\"\")","v":""},{"$f":"IF(AND(D234<>\"\",E234<>\"\"),VLOOKUP(D234,Lookups!E:F,2,FALSE)&IF(E234<8,\"*\",\"\"),\"\")","v":""},"",""]
[null,null,"",null,null,null,null,{"$f":"IF(AND(A235<>\"\",B235<>\"\"),VLOOKUP(A235,Lookups!A:B,2,FALSE)&\"_\"&B235,\"\")","v":""},{"$f":"IF(AND(D235<>\"\",E235<>\"\"),VLOOKUP(D235,Lookups!E:F,2,FALSE)&IF(E235<8,\"*\",\"\"),\"\")","v":""},"",""]
[null,null,"",null,null,null,null,{"$f":"IF(AND(A236<>\"\",B236<>\"\"),VLOOKUP(A236,Lookups!A:B,2,FALSE)&\"_\"&B236,\"\")","v":""},{"$f":"IF(AND(D236<>\"\",E236<>\"\"),VLOOKUP(D236,Lookups!E:F,2,FALSE)&IF(E236<8,\"*\",\"\"),\"\")","v":""},"",""]
[null,null,"",null,null,null,null,{"$f":"IF(AND(A237<>\"\",B237<>\"\"),VLOOKUP(A237,Lookups!A:B,2,FALSE)&\"_\"&B237,\"\")","v":""},{"$f":"IF(AND(D237<>\"\",E237<>\"\"),VLOOKUP(D237,Lookups!E:F,2,FALSE)&IF(E237<8,\"*\",\"\"),\"\")","v":""},"",""]
[null,null,"",null,null,null,null,{"$f":"IF(AND(A238<>\"\",B238<>\"\"),VLOOKUP(A238,Lookups!A:B,2,FALSE)&\"_\"&B238,\"\")","v":""},{"$f":"IF(AND(D238<>\"\",E238<>\"\"),VLOOKUP(D238,Lookups!E:F,2,FALSE)&IF(E238<8,\"*\",\"\"),\"\")","v":""},"",""]
[null,null,"",null,null,null,null,{"$f":"IF(AND(A239<>\"\",B239<>\"\"),VLOOKUP(A239,Lookups!A:B,2,FALSE)&\"_\"&B239,\"\")","v":""},{"$f":"IF(AND(D239<>\"\",E239<>\"\"),VLOOKUP(D239,Lookups!E:F,2,FALSE)&IF(E239<8,\"*\",\"\"),\"\")","v":""},"",""]
[null,null,"",null,null,null,null,{"$f":"IF(AND(A240<>\"\",B240<>\"\"),VLOOKUP(A240,Lookups!A:B,2,FALSE)&\"_\"&B240,\"\")","v":""},{"$f":"IF(AND(D240<>\"\",E240<>\"\"),VLOOKUP(D240,Lookups!E:F,2,FALSE)&IF(E240<8,\"*\",\"\"),\"\")","v":""},"",""]
[null,null,"",null,null,null,null,{"$f":"IF(AND(A241<>\"\",B241<>\"\"),VLOOKUP(A241,Lookups!A:B,2,FALSE)&\"_\"&B241,\"\")","v":""},{"$f":"IF(AND(D241<>\"\",E241<>\"\"),VLOOKUP(D241,Lookups!E:F,2,FALSE)&IF(E241<8,\"*\",\"\"),\"\")","v":""},"",""]
[null,null,"",null,null,null,null,{"$f":"IF(AND(A242<>\"\",B242<>\"\"),VLOOKUP(A242,Lookups!A:B,2,FALSE)&\"_\"&B242,\"\")","v":""},{"$f":"IF(AND(D242<>\"\",E242<>\"\"),VLOOKUP(D242,Lookups!E:F,2,FALSE)&IF(E242<8,\"*\",\"\"),\"\")","v":""},"",""]
[null,null,"",null,null,null,null,{"$f":"IF(AND(A243<>\"\",B243<>\"\"),VLOOKUP(A243,Lookups!A:B,2,FALSE)&\"_\"&B243,\"\")","v":""},{"$f":"IF(AND(D243<>\"\",E243<>\"\"),VLOOKUP(D243,Lookups!E:F,2,FALSE)&IF(E243<8,\"*\",\"\"),\"\")","v":""},"",""]
[null,null,"",null,null,null,null,{"$f":"IF(AND(A244<>\"\",B244<>\"\"),VLOOKUP(A244,Lookups!A:B,2,FALSE)&\"_\"&B244,\"\")","v":""},{"$f":"IF(AND(D244<>\"\",E244<>\"\"),VLOOKUP(D244,Lookups!E:F,2,FALSE)&IF(E244<8,\"*\",\"\"),\"\")","v":""},"",""]
[null,null,"",null,null,null,null,{"$f":"IF(AND(A245<>\"\",B245<>\"\"),VLOOKUP(A245,Lookups!A:B,2,FALSE)&\"_\"&B245,\"\")","v":""},{"$f":"IF(AND(D245<>\"\",E245<>\"\"),VLOOKUP(D245,Lookups!E:F,2,FALSE)&IF(E245<8,\"*\",\"\"),\"\")","v":""},"",""]
[null,null,"",null,null,null,null,{"$f":"IF(AND(A246<>\"\",B246<>\"\"),VLOOKUP(A246,Lookups!A:B,2,FALSE)&\"_\"&B246,\"\")","v":""},{"$f":"IF(AND(D246<>\"\",E246<>\"\"),VLOOKUP(D246,Lookups!E:F,2,FALSE)&IF(E246<8,\"*\",\"\"),\"\")","v":""},"",""]
[null,null,"",null,null,null,null,{"$f":"IF(AND(A247<>\"\",B247<>\"\"),VLOOKUP(A247,Lookups!A:B,2,FALSE)&\"_\"&B247,\"\")","v":""},{"$f":"IF(AND(D247<>\"\",E247<>\"\"),VLOOKUP(D247,Lookups!E:F,2,FALSE)&IF(E247<8,\"*\",\"\"),\"\")","v":""},"",""]
[null,null,"",null,null,null,null,{"$f":"IF(AND(A248<>\"\",B248<>\"\"),VLOOKUP(A248,Lookups!A:B,2,FALSE)&\"_\"&B248,\"\")","v":""},{"$f":"IF(AND(D248<>\"\",E248<>\"\"),VLOOKUP(D248,Lookups!E:F,2,FALSE)&IF(E248<8,\"*\",\"\"),\"\")","v":""},"",""]
[null,null,"",null,null,null,null,{"$f":"IF(AND(A249<>\"\",B249<>\"\"),VLOOKUP(A249,Lookups!A:B,2,FALSE)&\"_\"&B249,\"\")","v":""},{"$f":"IF(AND(D249<>\"\",E249<>\"\"),VLOOKUP(D249,Lookups!E:F,2,FALSE)&IF(E249<8,\"*\",\"\"),\"\")","v":""},"",""]
[null,null,"",null,null,null,null,{"$f":"IF(AND(A250<>\"\",B250<>\"\"),VLOOKUP(A250,Lookups!A:B,2,FALSE)&\"_\"&B250,\"\")","v":""},{"$f":"IF(AND(D250<>\"\",E250<>\"\"),VLOOKUP(D250,Lookups!E:F,2,FALSE)&IF(E250<8,\"*\",\"\"),\"\")","v":""},"",""]
[null,null,{"$f":"IF(B251=\"\",\"\",TEXT(WEEKDAY(B251),\"aaaa\"))","v":""},null,null,null,null,{"$f":"IF(AND(A251<>\"\",B251<>\"\"),VLOOKUP(A251,Lookups!A:B,2,FALSE)&\"_\"&B251,\"\")","v":""},{"$f":"IF(AND(D251<>\"\",E251<>\"\"),VLOOKUP(D251,Lookups!E:F,2,FALSE)&IF(E251<8,\"*\",\"\"),\"\")","v":""},"",""]
[null,null,"",null,null,null,null,{"$f":"IF(AND(A252<>\"\",B252<>\"\"),VLOOKUP(A252,Lookups!A:B,2,FALSE)&\"_\"&B252,\"\")","v":""},{"$f":"IF(AND(D252<>\"\",E252<>\"\"),VLOOKUP(D252,Lookups!E:F,2,FALSE)&IF(E252<8,\"*\",\"\"),\"\")","v":""},"",""]
[null,null,"",null,null,null,null,{"$f":"IF(AND(A253<>\"\",B253<>\"\"),VLOOKUP(A253,Lookups!A:B,2,FALSE)&\"_\"&B253,\"\")","v":""},{"$f":"IF(AND(D253<>\"\",E253<>\"\"),VLOOKUP(D253,Lookups!E:F,2,FALSE)&IF(E253<8,\"*\",\"\"),\"\")","v":""},"",""]
[null,null,null,null,null,null,null,{"$f":"IF(AND(A254<>\"\",B254<>\"\"),VLOOKUP(A254,Lookups!A:B,2,FALSE)&\"_\"&B254,\"\")","v":""},{"$f":"IF(AND(D254<>\"\",E254<>\"\"),VLOOKUP(D254,Lookups!E:F,2,FALSE)&IF(E254<8,\"*\",\"\"),\"\")","v":""},"",""]
[null,null,null,null,null,null,null,{"$f":"IF(AND(A255<>\"\",B255<>\"\"),VLOOKUP(A255,Lookups!A:B,2,FALSE)&\"_\"&B255,\"\")","v":""},{"$f":"IF(AND(D255<>\"\",E255<>\"\"),VLOOKUP(D255,Lookups!E:F,2,FALSE)&IF(E255<8,\"*\",\"\"),\"\")","v":""},"",""]
[null,null,{"$f":"IF(B256=\"\",\"\",TEXT(WEEKDAY(B256),\"aaaa\"))","v":""},null,null,null,null,{"$f":"IF(AND(A256<>\"\",B256<>\"\"),VLOOKUP(A256,Lookups!A:B,2,FALSE)&\"_\"&B256,\"\")","v":""},{"$f":"IF(AND(D256<>\"\",E256<>\"\"),VLOOKUP(D256,Lookups!E:F,2,FALSE)&IF(E256<8,\"*\",\"\"),\"\")","v":""},"",""]
[null,null,"",null,null,null,null,{"$f":"IF(AND(A257<>\"\",B257<>\"\"),VLOOKUP(A257,Lookups!A:B,2,FALSE)&\"_\"&B257,\"\")","v":""},{"$f":"IF(AND(D257<>\"\",E257<>\"\"),VLOOKUP(D257,Lookups!E:F,2,FALSE)&IF(E257<8,\"*\",\"\"),\"\")","v":""},"",""]
[null,null,"",null,null,null,null,{"$f":"IF(AND(A258<>\"\",B258<>\"\"),VLOOKUP(A258,Lookups!A:B,2,FALSE)&\"_\"&B258,\"\")","v":""},{"$f":"IF(AND(D258<>\"\",E258<>\"\"),VLOOKUP(D258,Lookups!E:F,2,FALSE)&IF(E258<8,\"*\",\"\"),\"\")","v":""},"",""]
[null,null,"",null,null,null,null,{"$f":"IF(AND(A259<>\"\",B259<>\"\"),VLOOKUP(A259,Lookups!A:B,2,FALSE)&\"_\"&B259,\"\")","v":""},{"$f":"IF(AND(D259<>\"\",E259<>\"\"),VLOOKUP(D259,Lookups!E:F,2,FALSE)&IF(E259<8,\"*\",\"\"),\"\")","v":""},"",""]
[null,null,"",null,null,null,null,{"$f":"IF(AND(A260<>\"\",B260<>\"\"),VLOOKUP(A260,Lookups!A:B,2,FALSE)&\"_\"&B260,\"\")","v":""},{"$f":"IF(AND(D260<>\"\",E260<>\"\"),VLOOKUP(D260,Lookups!E:F,2,FALSE)&IF(E260<8,\"*\",\"\"),\"\")","v":""},"",""]
[null,null,"",null,null,null,null,{"$f":"IF(AND(A261<>\"\",B261<>\"\"),VLOOKUP(A261,Lookups!A:B,2,FALSE)&\"_\"&B261,\"\")","v":""},{"$f":"IF(AND(D261<>\"\",E261<>\"\"),VLOOKUP(D261,Lookups!E:F,2,FALSE)&IF(E261<8,\"*\",\"\"),\"\")","v":""},"",""]
[null,null,"",null,null,null,null,{"$f":"IF(AND(A262<>\"\",B262<>\"\"),VLOOKUP(A262,Lookups!A:B,2,FALSE)&\"_\"&B262,\"\")","v":""},{"$f":"IF(AND(D262<>\"\",E262<>\"\"),VLOOKUP(D262,Lookups!E:F,2,FALSE)&IF(E262<8,\"*\",\"\"),\"\")","v":""},"",""]
[null,null,"",null,null,null,null,{"$f":"IF(AND(A263<>\"\",B263<>\"\"),VLOOKUP(A263,Lookups!A:B,2,FALSE)&\"_\"&B263,\"\")","v":""},{"$f":"IF(AND(D263<>\"\",E263<>\"\"),VLOOKUP(D263,Lookups!E:F,2,FALSE)&IF(E263<8,\"*\",\"\"),\"\")","v":""},"",""]
[null,null,"",null,null,null,null,{"$f":"IF(AND(A264<>\"\",B264<>\"\"),VLOOKUP(A264,Lookups!A:B,2,FALSE)&\"_\"&B264,\"\")","v":""},{"$f":"IF(AND(D264<>\"\",E264<>\"\"),VLOOKUP(D264,Lookups!E:F,2,FALSE)&IF(E264<8,\"*\",\"\"),\"\")","v":""},"",""]
[null,null,"",null,null,null,null,{"$f":"IF(AND(A265<>\"\",B265<>\"\"),VLOOKUP(A265,Lookups!A:B,2,FALSE)&\"_\"&B265,\"\")","v":""},{"$f":"IF(AND(D265<>\"\",E265<>\"\"),VLOOKUP(D265,Lookups!E:F,2,FALSE)&IF(E265<8,\"*\",\"\"),\"\")","v":""},"",""]
[null,null,"",null,null,null,null,{"$f":"IF(AND(A266<>\"\",B266<>\"\"),VLOOKUP(A266,Lookups!A:B,2,FALSE)&\"_\"&B266,\"\")","v":""},{"$f":"IF(AND(D266<>\"\",E266<>\"\"),VLOOKUP(D266,Lookups!E:F,2,FALSE)&IF(E266<8,\"*\",\"\"),\"\")","v":""},"",""]
[null,null,"",null,null,null,null,{"$f":"IF(AND(A267<>\"\",B267<>\"\"),VLOOKUP(A267,Lookups!A:B,2,FALSE)&\"_\"&B267,\"\")","v":""},{"$f":"IF(AND(D267<>\"\",E267<>\"\"),VLOOKUP(D267,Lookups!E:F,2,FALSE)&IF(E267<8,\"*\",\"\"),\"\")","v":""},"",""]
[null,null,"",null,null,null,null,{"$f":"IF(AND(A268<>\"\",B268<>\"\"),VLOOKUP(A268,Lookups!A:B,2,FALSE)&\"_\"&B268,\"\")","v":""},{"$f":"IF(AND(D268<>\"\",E268<>\"\"),VLOOKUP(D268,Lookups!E:F,2,FALSE)&IF(E268<8,\"*\",\"\"),\"\")","v":""},"",""]
[null,null,"",null,null,null,null,{"$f":"IF(AND(A269<>\"\",B269<>\"\"),VLOOKUP(A269,Lookups!A:B,2,FALSE)&\"_\"&B269,\"\")","v":""},{"$f":"IF(AND(D269<>\"\",E269<>\"\"),VLOOKUP(D269,Lookups!E:F,2,FALSE)&IF(E269<8,\"*\",\"\"),\"\")","v":""},"",""]
[null,null,"",null,null,null,null,{"$f":"IF(AND(A270<>\"\",B270<>\"\"),VLOOKUP(A270,Lookups!A:B,2,FALSE)&\"_\"&B270,\"\")","v":""},{"$f":"IF(AND(D270<>\"\",E270<>\"\"),VLOOKUP(D270,Lookups!E:F,2,FALSE)&IF(E270<8,\"*\",\"\"),\"\")","v":""},"",""]
[null,null,"",null,null,null,null,{"$f":"IF(AND(A271<>\"\",B271<>\"\"),VLOOKUP(A271,Lookups!A:B,2,FALSE)&\"_\"&B271,\"\")","v":""},{"$f":"IF(AND(D271<>\"\",E271<>\"\"),VLOOKUP(D271,Lookups!E:F,2,FALSE)&IF(E271<8,\"*\",\"\"),\"\")","v":""},"",""]
[null,null,"",null,null,null,null,{"$f":"IF(AND(A272<>\"\",B272<>\"\"),VLOOKUP(A272,Lookups!A:B,2,FALSE)&\"_\"&B272,\"\")","v":""},{"$f":"IF(AND(D272<>\"\",E272<>\"\"),VLOOKUP(D272,Lookups!E:F,2,FALSE)&IF(E272<8,\"*\",\"\"),\"\")","v":""},"",""]
[null,null,"",null,null,null,null,{"$f":"IF(AND(A273<>\"\",B273<>\"\"),VLOOKUP(A273,Lookups!A:B,2,FALSE)&\"_\"&B273,\"\")","v":""},{"$f":"IF(AND(D273<>\"\",E273<>\"\"),VLOOKUP(D273,Lookups!E:F,2,FALSE)&IF(E273<8,\"*\",\"\"),\"\")","v":""},"",""]
[null,null,"",null,null,null,null,{"$f":"IF(AND(A274<>\"\",B274<>\"\"),VLOOKUP(A274,Lookups!A:B,2,FALSE)&\"_\"&B274,\"\")","v":""},{"$f":"IF(AND(D274<>\"\",E274<>\"\"),VLOOKUP(D274,Lookups!E:F,2,FALSE)&IF(E274<8,\"*\",\"\"),\"\")","v":""},"",""]
[null,null,"",null,null,null,null,{"$f":"IF(AND(A275<>\"\",B275<>\"\"),VLOOKUP(A275,Lookups!A:B,2,FALSE)&\"_\"&B275,\"\")","v":""},{"$f":"IF(AND(D275<>\"\",E275<>\"\"),VLOOKUP(D275,Lookups!E:F,2,FALSE)&IF(E275<8,\"*\",\"\"),\"\")","v":""},"",""]
[null,null,"",null,null,null,null,{"$f":"IF(AND(A276<>\"\",B276<>\"\"),VLOOKUP(A276,Lookups!A:B,2,FALSE)&\"_\"&B276,\"\")","v":""},{"$f":"IF(AND(D276<>\"\",E276<>\"\"),VLOOKUP(D276,Lookups!E:F,2,FALSE)&IF(E276<8,\"*\",\"\"),\"\")","v":""},"",""]
[null,null,"",null,null,null,null,{"$f":"IF(AND(A277<>\"\",B277<>\"\"),VLOOKUP(A277,Lookups!A:B,2,FALSE)&\"_\"&B277,\"\")","v":""},{"$f":"IF(AND(D277<>\"\",E277<>\"\"),VLOOKUP(D277,Lookups!E:F,2,FALSE)&IF(E277<8,\"*\",\"\"),\"\")","v":""},"",""]
[null,null,"",null,null,null,null,{"$f":"IF(AND(A278<>\"\",B278<>\"\"),VLOOKUP(A278,Lookups!A:B,2,FALSE)&\"_\"&B278,\"\")","v":""},{"$f":"IF(AND(D278<>\"\",E278<>\"\"),VLOOKUP(D278,Lookups!E:F,2,FALSE)&IF(E278<8,\"*\",\"\"),\"\")","v":""},"",""]
[null,null,"",null,null,null,null,{"$f":"IF(AND(A279<>\"\",B279<>\"\"),VLOOKUP(A279,Lookups!A:B,2,FALSE)&\"_\"&B279,\"\")","v":""},{"$f":"IF(AND(D279<>\"\",E279<>\"\"),VLOOKUP(D279,Lookups!E:F,2,FALSE)&IF(E279<8,\"*\",\"\"),\"\")","v":""},"",""]
[null,null,"",null,null,null,null,{"$f":"IF(AND(A280<>\"\",B280<>\"\"),VLOOKUP(A280,Lookups!A:B,2,FALSE)&\"_\"&B280,\"\")","v":""},{"$f":"IF(AND(D280<>\"\",E280<>\"\"),VLOOKUP(D280,Lookups!E:F,2,FALSE)&IF(E280<8,\"*\",\"\"),\"\")","v":""},"",""]
[null,null,"",null,null,null,null,{"$f":"IF(AND(A281<>\"\",B281<>\"\"),VLOOKUP(A281,Lookups!A:B,2,FALSE)&\"_\"&B281,\"\")","v":""},{"$f":"IF(AND(D281<>\"\",E281<>\"\"),VLOOKUP(D281,Lookups!E:F,2,FALSE)&IF(E281<8,\"*\",\"\"),\"\")","v":""},"",""]
[null,null,"",null,null,null,null,{"$f":"IF(AND(A282<>\"\",B282<>\"\"),VLOOKUP(A282,Lookups!A:B,2,FALSE)&\"_\"&B282,\"\")","v":""},{"$f":"IF(AND(D282<>\"\",E282<>\"\"),VLOOKUP(D282,Lookups!E:F,2,FALSE)&IF(E282<8,\"*\",\"\"),\"\")","v":""},"",""]
[null,null,"",null,null,null,null,{"$f":"IF(AND(A283<>\"\",B283<>\"\"),VLOOKUP(A283,Lookups!A:B,2,FALSE)&\"_\"&B283,\"\")","v":""},{"$f":"IF(AND(D283<>\"\",E283<>\"\"),VLOOKUP(D283,Lookups!E:F,2,FALSE)&IF(E283<8,\"*\",\"\"),\"\")","v":""},"",""]
[null,null,"",null,null,null,null,{"$f":"IF(AND(A284<>\"\",B284<>\"\"),VLOOKUP(A284,Lookups!A:B,2,FALSE)&\"_\"&B284,\"\")","v":""},{"$f":"IF(AND(D284<>\"\",E284<>\"\"),VLOOKUP(D284,Lookups!E:F,2,FALSE)&IF(E284<8,\"*\",\"\"),\"\")","v":""},"",""]
[null,null,"",null,null,null,null,{"$f":"IF(AND(A285<>\"\",B285<>\"\"),VLOOKUP(A285,Lookups!A:B,2,FALSE)&\"_\"&B285,\"\")","v":""},{"$f":"IF(AND(D285<>\"\",E285<>\"\"),VLOOKUP(D285,Lookups!E:F,2,FALSE)&IF(E285<8,\"*\",\"\"),\"\")","v":""},"",""]
[null,null,"",null,null,null,null,{"$f":"IF(AND(A286<>\"\",B286<>\"\"),VLOOKUP(A286,Lookups!A:B,2,FALSE)&\"_\"&B286,\"\")","v":""},{"$f":"IF(AND(D286<>\"\",E286<>\"\"),VLOOKUP(D286,Lookups!E:F,2,FALSE)&IF(E286<8,\"*\",\"\"),\"\")","v":""},"",""]
[null,null,"",null,null,null,null,{"$f":"IF(AND(A287<>\"\",B287<>\"\"),VLOOKUP(A287,Lookups!A:B,2,FALSE)&\"_\"&B287,\"\")","v":""},{"$f":"IF(AND(D287<>\"\",E287<>\"\"),VLOOKUP(D287,Lookups!E:F,2,FALSE)&IF(E287<8,\"*\",\"\"),\"\")","v":""},"",""]
[null,null,"",null,null,null,null,{"$f":"IF(AND(A288<>\"\",B288<>\"\"),VLOOKUP(A288,Lookups!A:B,2,FALSE)&\"_\"&B288,\"\")","v":""},{"$f":"IF(AND(D288<>\"\",E288<>\"\"),VLOOKUP(D288,Lookups!E:F,2,FALSE)&IF(E288<8,\"*\",\"\"),\"\")","v":""},{"$f":"IF(F288=\"\",\"\",F288)","v":""},{"$f":"IF(G288=\"\",\"\",G288)","v":""}]
[null,null,"",null,null,null,null,{"$f":"IF(AND(A289<>\"\",B289<>\"\"),VLOOKUP(A289,Lookups!A:B,2,FALSE)&\"_\"&B289,\"\")","v":""},{"$f":"IF(AND(D289<>\"\",E289<>\"\"),VLOOKUP(D289,Lookups!E:F,2,FALSE)&IF(E289<8,\"*\",\"\"),\"\")","v":""},"",""]
[null,null,"",null,null,null,null,{"$f":"IF(AND(A290<>\"\",B290<>\"\"),VLOOKUP(A290,Lookups!A:B,2,FALSE)&\"_\"&B290,\"\")","v":""},{"$f":"IF(AND(D290<>\"\",E290<>\"\"),VLOOKUP(D290,Lookups!E:F,2,FALSE)&IF(E290<8,\"*\",\"\"),\"\")","v":""},"",""]
[null,null,"",null,null,null,null,{"$f":"IF(AND(A291<>\"\",B291<>\"\"),VLOOKUP(A291,Lookups!A:B,2,FALSE)&\"_\"&B291,\"\")","v":""},{"$f":"IF(AND(D291<>\"\",E291<>\"\"),VLOOKUP(D291,Lookups!E:F,2,FALSE)&IF(E291<8,\"*\",\"\"),\"\")","v":""},"",""]
[null,null,"",null,null,null,null,{"$f":"IF(AND(A292<>\"\",B292<>\"\"),VLOOKUP(A292,Lookups!A:B,2,FALSE)&\"_\"&B292,\"\")","v":""},{"$f":"IF(AND(D292<>\"\",E292<>\"\"),VLOOKUP(D292,Lookups!E:F,2,FALSE)&IF(E292<8,\"*\",\"\"),\"\")","v":""},"",""]
[null,null,"",null,null,null,null,{"$f":"IF(AND(A293<>\"\",B293<>\"\"),VLOOKUP(A293,Lookups!A:B,2,FALSE)&\"_\"&B293,\"\")","v":""},{"$f":"IF(AND(D293<>\"\",E293<>\"\"),VLOOKUP(D293,Lookups!E:F,2,FALSE)&IF(E293<8,\"*\",\"\"),\"\")","v":""},"",""]
[null,null,"",null,null,null,null,{"$f":"IF(AND(A294<>\"\",B294<>\"\"),VLOOKUP(A294,Lookups!A:B,2,FALSE)&\"_\"&B294,\"\")","v":""},{"$f":"IF(AND(D294<>\"\",E294<>\"\"),VLOOKUP(D294,Lookups!E:F,2,FALSE)&IF(E294<8,\"*\",\"\"),\"\")","v":""},"",""]
[null,null,"",null,null,null,null,{"$f":"IF(AND(A295<>\"\",B295<>\"\"),VLOOKUP(A295,Lookups!A:B,2,FALSE)&\"_\"&B295,\"\")","v":""},{"$f":"IF(AND(D295<>\"\",E295<>\"\"),VLOOKUP(D295,Lookups!E:F,2,FALSE)&IF(E295<8,\"*\",\"\"),\"\")","v":""},"",""]
[null,null,"",null,null,null,null,{"$f":"IF(AND(A296<>\"\",B296<>\"\"),VLOOKUP(A296,Lookups!A:B,2,FALSE)&\"_\"&B296,\"\")","v":""},{"$f":"IF(AND(D296<>\"\",E296<>\"\"),VLOOKUP(D296,Lookups!E:F,2,FALSE)&IF(E296<8,\"*\",\"\"),\"\")","v":""},"",""]
[null,null,"",null,null,null,null,{"$f":"IF(AND(A297<>\"\",B297<>\"\"),VLOOKUP(A297,Lookups!A:B,2,FALSE)&\"_\"&B297,\"\")","v":""},{"$f":"IF(AND(D297<>\"\",E297<>\"\"),VLOOKUP(D297,Lookups!E:F,2,FALSE)&IF(E297<8,\"*\",\"\"),\"\")","v":""},"",""]
[null,null,"",null,null,null,null,{"$f":"IF(AND(A298<>\"\",B298<>\"\"),VLOOKUP(A298,Lookups!A:B,2,FALSE)&\"_\"&B298,\"\")","v":""},{"$f":"IF(AND(D298<>\"\",E298<>\"\"),VLOOKUP(D298,Lookups!E:F,2,FALSE)&IF(E298<8,\"*\",\"\"),\"\")","v":""},"",""]
[null,null,"",null,null,null,null,{"$f":"IF(AND(A299<>\"\",B299<>\"\"),VLOOKUP(A299,Lookups!A:B,2,FALSE)&\"_\"&B299,\"\")","v":""},{"$f":"IF(AND(D299<>\"\",E299<>\"\"),VLOOKUP(D299,Lookups!E:F,2,FALSE)&IF(E299<8,\"*\",\"\"),\"\")","v":""},"",""]
[null,null,"",null,null,null,null,{"$f":"IF(AND(A300<>\"\",B300<>\"\"),VLOOKUP(A300,Lookups!A:B,2,FALSE)&\"_\"&B300,\"\")","v":""},{"$f":"IF(AND(D300<>\"\",E300<>\"\"),VLOOKUP(D300,Lookups!E:F,2,FALSE)&IF(E300<8,\"*\",\"\"),\"\")","v":""},"",""]
[null,null,"",null,null,null,null,{"$f":"IF(AND(A301<>\"\",B301<>\"\"),VLOOKUP(A301,Lookups!A:B,2,FALSE)&\"_\"&B301,\"\")","v":""},{"$f":"IF(AND(D301<>\"\",E301<>\"\"),VLOOKUP(D301,Lookups!E:F,2,FALSE)&IF(E301<8,\"*\",\"\"),\"\")","v":""},"",""]
[null,null,"",null,null,null,null,{"$f":"IF(AND(A302<>\"\",B302<>\"\"),VLOOKUP(A302,Lookups!A:B,2,FALSE)&\"_\"&B302,\"\")","v":""},{"$f":"IF(AND(D302<>\"\",E302<>\"\"),VLOOKUP(D302,Lookups!E:F,2,FALSE)&IF(E302<8,\"*\",\"\"),\"\")","v":""},"",""]
[null,null,"",null,null,null,null,{"$f":"IF(AND(A303<>\"\",B303<>\"\"),VLOOKUP(A303,Lookups!A:B,2,FALSE)&\"_\"&B303,\"\")","v":""},{"$f":"IF(AND(D303<>\"\",E303<>\"\"),VLOOKUP(D303,Lookups!E:F,2,FALSE)&IF(E303<8,\"*\",\"\"),\"\")","v":""},"",""]
[null,null,"",null,null,null,null,{"$f":"IF(AND(A304<>\"\",B304<>\"\"),VLOOKUP(A304,Lookups!A:B,2,FALSE)&\"_\"&B304,\"\")","v":""},{"$f":"IF(AND(D304<>\"\",E304<>\"\"),VLOOKUP(D304,Lookups!E:F,2,FALSE)&IF(E304<8,\"*\",\"\"),\"\")","v":""},"",""]
[null,null,"",null,null,null,null,{"$f":"IF(AND(A305<>\"\",B305<>\"\"),VLOOKUP(A305,Lookups!A:B,2,FALSE)&\"_\"&B305,\"\")","v":""},{"$f":"IF(AND(D305<>\"\",E305<>\"\"),VLOOKUP(D305,Lookups!E:F,2,FALSE)&IF(E305<8,\"*\",\"\"),\"\")","v":""},"",""]
[null,null,"",null,null,null,null,{"$f":"IF(AND(A306<>\"\",B306<>\"\"),VLOOKUP(A306,Lookups!A:B,2,FALSE)&\"_\"&B306,\"\")","v":""},{"$f":"IF(AND(D306<>\"\",E306<>\"\"),VLOOKUP(D306,Lookups!E:F,2,FALSE)&IF(E306<8,\"*\",\"\"),\"\")","v":""},"",""]
[null,null,"",null,null,null,null,{"$f":"IF(AND(A307<>\"\",B307<>\"\"),VLOOKUP(A307,Lookups!A:B,2,FALSE)&\"_\"&B307,\"\")","v":""},{"$f":"IF(AND(D307<>\"\",E307<>\"\"),VLOOKUP(D307,Lookups!E:F,2,FALSE)&IF(E307<8,\"*\",\"\"),\"\")","v":""},"",""]
[null,null,"",null,null,null,null,{"$f":"IF(AND(A308<>\"\",B308<>\"\"),VLOOKUP(A308,Lookups!A:B,2,FALSE)&\"_\"&B308,\"\")","v":""},{"$f":"IF(AND(D308<>\"\",E308<>\"\"),VLOOKUP(D308,Lookups!E:F,2,FALSE)&IF(E308<8,\"*\",\"\"),\"\")","v":""},"",""]
[null,null,"",null,null,null,null,{"$f":"IF(AND(A309<>\"\",B309<>\"\"),VLOOKUP(A309,Lookups!A:B,2,FALSE)&\"_\"&B309,\"\")","v":""},{"$f":"IF(AND(D309<>\"\",E309<>\"\"),VLOOKUP(D309,Lookups!E:F,2,FALSE)&IF(E309<8,\"*\",\"\"),\"\")","v":""},"",""]
[null,null,"",null,null,null,null,{"$f":"IF(AND(A310<>\"\",B310<>\"\"),VLOOKUP(A310,Lookups!A:B,2,FALSE)&\"_\"&B310,\"\")","v":""},{"$f":"IF(AND(D310<>\"\",E310<>\"\"),VLOOKUP(D310,Lookups!E:F,2,FALSE)&IF(E310<8,\"*\",\"\"),\"\")","v":""},"",""]
[null,null,"",null,null,null,null,{"$f":"IF(AND(A311<>\"\",B311<>\"\"),VLOOKUP(A311,Lookups!A:B,2,FALSE)&\"_\"&B311,\"\")","v":""},{"$f":"IF(AND(D311<>\"\",E311<>\"\"),VLOOKUP(D311,Lookups!E:F,2,FALSE)&IF(E311<8,\"*\",\"\"),\"\")","v":""},"",""]
[null,null,"",null,null,null,null,{"$f":"IF(AND(A312<>\"\",B312<>\"\"),VLOOKUP(A312,Lookups!A:B,2,FALSE)&\"_\"&B312,\"\")","v":""},{"$f":"IF(AND(D312<>\"\",E312<>\"\"),VLOOKUP(D312,Lookups!E:F,2,FALSE)&IF(E312<8,\"*\",\"\"),\"\")","v":""},"",""]
[null,null,"",null,null,null,null,{"$f":"IF(AND(A313<>\"\",B313<>\"\"),VLOOKUP(A313,Lookups!A:B,2,FALSE)&\"_\"&B313,\"\")","v":""},{"$f":"IF(AND(D313<>\"\",E313<>\"\"),VLOOKUP(D313,Lookups!E:F,2,FALSE)&IF(E313<8,\"*\",\"\"),\"\")","v":""},"",""]
[null,null,"",null,null,null,null,{"$f":"IF(AND(A314<>\"\",B314<>\"\"),VLOOKUP(A314,Lookups!A:B,2,FALSE)&\"_\"&B314,\"\")","v":""},{"$f":"IF(AND(D314<>\"\",E314<>\"\"),VLOOKUP(D314,Lookups!E:F,2,FALSE)&IF(E314<8,\"*\",\"\"),\"\")","v":""},"",""]
[null,null,{"$f":"IF(B315=\"\",\"\",TEXT(WEEKDAY(B315),\"aaaa\"))","v":""},null,null,null,null,{"$f":"IF(AND(A315<>\"\",B315<>\"\"),VLOOKUP(A315,Lookups!A:B,2,FALSE)&\"_\"&B315,\"\")","v":""},{"$f":"IF(AND(D315<>\"\",E315<>\"\"),VLOOKUP(D315,Lookups!E:F,2,FALSE)&IF(E315<8,\"*\",\"\"),\"\")","v":""},"",""]
[null,null,"",null,null,null,null,{"$f":"IF(AND(A316<>\"\",B316<>\"\"),VLOOKUP(A316,Lookups!A:B,2,FALSE)&\"_\"&B316,\"\")","v":""},{"$f":"IF(AND(D316<>\"\",E316<>\"\"),VLOOKUP(D316,Lookups!E:F,2,FALSE)&IF(E316<8,\"*\",\"\"),\"\")","v":""},"",""]
[null,null,"",null,null,null,null,{"$f":"IF(AND(A317<>\"\",B317<>\"\"),VLOOKUP(A317,Lookups!A:B,2,FALSE)&\"_\"&B317,\"\")","v":""},{"$f":"IF(AND(D317<>\"\",E317<>\"\"),VLOOKUP(D317,Lookups!E:F,2,FALSE)&IF(E317<8,\"*\",\"\"),\"\")","v":""},"",""]
[null,null,"",null,null,null,null,{"$f":"IF(AND(A318<>\"\",B318<>\"\"),VLOOKUP(A318,Lookups!A:B,2,FALSE)&\"_\"&B318,\"\")","v":""},{"$f":"IF(AND(D318<>\"\",E318<>\"\"),VLOOKUP(D318,Lookups!E:F,2,FALSE)&IF(E318<8,\"*\",\"\"),\"\")","v":""},"",""]
[null,null,"",null,null,null,null,{"$f":"IF(AND(A319<>\"\",B319<>\"\"),VLOOKUP(A319,Lookups!A:B,2,FALSE)&\"_\"&B319,\"\")","v":""},{"$f":"IF(AND(D319<>\"\",E319<>\"\"),VLOOKUP(D319,Lookups!E:F,2,FALSE)&IF(E319<8,\"*\",\"\"),\"\")","v":""},"",""]
[null,null,"",null,null,null,null,{"$f":"IF(AND(A320<>\"\",B320<>\"\"),VLOOKUP(A320,Lookups!A:B,2,FALSE)&\"_\"&B320,\"\")","v":""},{"$f":"IF(AND(D320<>\"\",E320<>\"\"),VLOOKUP(D320,Lookups!E:F,2,FALSE)&IF(E320<8,\"*\",\"\"),\"\")","v":""},"",""]
[null,null,"",null,null,null,null,{"$f":"IF(AND(A321<>\"\",B321<>\"\"),VLOOKUP(A321,Lookups!A:B,2,FALSE)&\"_\"&B321,\"\")","v":""},{"$f":"IF(AND(D321<>\"\",E321<>\"\"),VLOOKUP(D321,Lookups!E:F,2,FALSE)&IF(E321<8,\"*\",\"\"),\"\")","v":""},"",""]
[null,null,"",null,null,null,null,{"$f":"IF(AND(A322<>\"\",B322<>\"\"),VLOOKUP(A322,Lookups!A:B,2,FALSE)&\"_\"&B322,\"\")","v":""},{"$f":"IF(AND(D322<>\"\",E322<>\"\"),VLOOKUP(D322,Lookups!E:F,2,FALSE)&IF(E322<8,\"*\",\"\"),\"\")","v":""},"",""]
[null,null,"",null,null,null,null,{"$f":"IF(AND(A323<>\"\",B323<>\"\"),VLOOKUP(A323,Lookups!A:B,2,FALSE)&\"_\"&B323,\"\")","v":""},{"$f":"IF(AND(D323<>\"\",E323<>\"\"),VLOOKUP(D323,Lookups!E:F,2,FALSE)&IF(E323<8,\"*\",\"\"),\"\")","v":""},"",""]
[null,null,"",null,null,null,null,{"$f":"IF(AND(A324<>\"\",B324<>\"\"),VLOOKUP(A324,Lookups!A:B,2,FALSE)&\"_\"&B324,\"\")","v":""},{"$f":"IF(AND(D324<>\"\",E324<>\"\"),VLOOKUP(D324,Lookups!E:F,2,FALSE)&IF(E324<8,\"*\",\"\"),\"\")","v":""},"",""]
[null,null,"",null,null,null,null,{"$f":"IF(AND(A325<>\"\",B325<>\"\"),VLOOKUP(A325,Lookups!A:B,2,FALSE)&\"_\"&B325,\"\")","v":""},{"$f":"IF(AND(D325<>\"\",E325<>\"\"),VLOOKUP(D325,Lookups!E:F,2,FALSE)&IF(E325<8,\"*\",\"\"),\"\")","v":""},"",""]
[null,null,"",null,null,null,null,{"$f":"IF(AND(A326<>\"\",B326<>\"\"),VLOOKUP(A326,Lookups!A:B,2,FALSE)&\"_\"&B326,\"\")","v":""},{"$f":"IF(AND(D326<>\"\",E326<>\"\"),VLOOKUP(D326,Lookups!E:F,2,FALSE)&IF(E326<8,\"*\",\"\"),\"\")","v":""},"",""]
[null,null,"",null,null,null,null,{"$f":"IF(AND(A327<>\"\",B327<>\"\"),VLOOKUP(A327,Lookups!A:B,2,FALSE)&\"_\"&B327,\"\")","v":""},{"$f":"IF(AND(D327<>\"\",E327<>\"\"),VLOOKUP(D327,Lookups!E:F,2,FALSE)&IF(E327<8,\"*\",\"\"),\"\")","v":""},"",""]
[null,null,"",null,null,null,null,{"$f":"IF(AND(A328<>\"\",B328<>\"\"),VLOOKUP(A328,Lookups!A:B,2,FALSE)&\"_\"&B328,\"\")","v":""},{"$f":"IF(AND(D328<>\"\",E328<>\"\"),VLOOKUP(D328,Lookups!E:F,2,FALSE)&IF(E328<8,\"*\",\"\"),\"\")","v":""},"",""]
[null,null,"",null,null,null,null,{"$f":"IF(AND(A329<>\"\",B329<>\"\"),VLOOKUP(A329,Lookups!A:B,2,FALSE)&\"_\"&B329,\"\")","v":""},{"$f":"IF(AND(D329<>\"\",E329<>\"\"),VLOOKUP(D329,Lookups!E:F,2,FALSE)&IF(E329<8,\"*\",\"\"),\"\")","v":""},"",""]
[null,null,"",null,null,null,null,{"$f":"IF(AND(A330<>\"\",B330<>\"\"),VLOOKUP(A330,Lookups!A:B,2,FALSE)&\"_\"&B330,\"\")","v":""},{"$f":"IF(AND(D330<>\"\",E330<>\"\"),VLOOKUP(D330,Lookups!E:F,2,FALSE)&IF(E330<8,\"*\",\"\"),\"\")","v":""},"",""]
[null,null,"",null,null,null,null,{"$f":"IF(AND(A331<>\"\",B331<>\"\"),VLOOKUP(A331,Lookups!A:B,2,FALSE)&\"_\"&B331,\"\")","v":""},{"$f":"IF(AND(D331<>\"\",E331<>\"\"),VLOOKUP(D331,Lookups!E:F,2,FALSE)&IF(E331<8,\"*\",\"\"),\"\")","v":""},"",""]
[null,null,"",null,null,null,null,{"$f":"IF(AND(A332<>\"\",B332<>\"\"),VLOOKUP(A332,Lookups!A:B,2,FALSE)&\"_\"&B332,\"\")","v":""},{"$f":"IF(AND(D332<>\"\",E332<>\"\"),VLOOKUP(D332,Lookups!E:F,2,FALSE)&IF(E332<8,\"*\",\"\"),\"\")","v":""},"",""]
[null,null,"",null,null,null,null,{"$f":"IF(AND(A333<>\"\",B333<>\"\"),VLOOKUP(A333,Lookups!A:B,2,FALSE)&\"_\"&B333,\"\")","v":""},{"$f":"IF(AND(D333<>\"\",E333<>\"\"),VLOOKUP(D333,Lookups!E:F,2,FALSE)&IF(E333<8,\"*\",\"\"),\"\")","v":""},"",""]
[null,null,"",null,null,null,null,{"$f":"IF(AND(A334<>\"\",B334<>\"\"),VLOOKUP(A334,Lookups!A:B,2,FALSE)&\"_\"&B334,\"\")","v":""},{"$f":"IF(AND(D334<>\"\",E334<>\"\"),VLOOKUP(D334,Lookups!E:F,2,FALSE)&IF(E334<8,\"*\",\"\"),\"\")","v":""},"",""]
[null,null,"",null,null,null,null,{"$f":"IF(AND(A335<>\"\",B335<>\"\"),VLOOKUP(A335,Lookups!A:B,2,FALSE)&\"_\"&B335,\"\")","v":""},{"$f":"IF(AND(D335<>\"\",E335<>\"\"),VLOOKUP(D335,Lookups!E:F,2,FALSE)&IF(E335<8,\"*\",\"\"),\"\")","v":""},"",""]
[null,null,"",null,null,null,null,{"$f":"IF(AND(A336<>\"\",B336<>\"\"),VLOOKUP(A336,Lookups!A:B,2,FALSE)&\"_\"&B336,\"\")","v":""},{"$f":"IF(AND(D336<>\"\",E336<>\"\"),VLOOKUP(D336,Lookups!E:F,2,FALSE)&IF(E336<8,\"*\",\"\"),\"\")","v":""},"",""]
[null,null,"",null,null,null,null,{"$f":"IF(AND(A337<>\"\",B337<>\"\"),VLOOKUP(A337,Lookups!A:B,2,FALSE)&\"_\"&B337,\"\")","v":""},{"$f":"IF(AND(D337<>\"\",E337<>\"\"),VLOOKUP(D337,Lookups!E:F,2,FALSE)&IF(E337<8,\"*\",\"\"),\"\")","v":""},"",""]
[null,null,"",null,null,null,null,{"$f":"IF(AND(A338<>\"\",B338<>\"\"),VLOOKUP(A338,Lookups!A:B,2,FALSE)&\"_\"&B338,\"\")","v":""},{"$f":"IF(AND(D338<>\"\",E338<>\"\"),VLOOKUP(D338,Lookups!E:F,2,FALSE)&IF(E338<8,\"*\",\"\"),\"\")","v":""},"",""]
[null,null,"",null,null,null,null,{"$f":"IF(AND(A339<>\"\",B339<>\"\"),VLOOKUP(A339,Lookups!A:B,2,FALSE)&\"_\"&B339,\"\")","v":""},{"$f":"IF(AND(D339<>\"\",E339<>\"\"),VLOOKUP(D339,Lookups!E:F,2,FALSE)&IF(E339<8,\"*\",\"\"),\"\")","v":""},"",""]
[null,null,"",null,null,null,null,{"$f":"IF(AND(A340<>\"\",B340<>\"\"),VLOOKUP(A340,Lookups!A:B,2,FALSE)&\"_\"&B340,\"\")","v":""},{"$f":"IF(AND(D340<>\"\",E340<>\"\"),VLOOKUP(D340,Lookups!E:F,2,FALSE)&IF(E340<8,\"*\",\"\"),\"\")","v":""},"",""]
[null,null,"",null,null,null,null,{"$f":"IF(AND(A341<>\"\",B341<>\"\"),VLOOKUP(A341,Lookups!A:B,2,FALSE)&\"_\"&B341,\"\")","v":""},{"$f":"IF(AND(D341<>\"\",E341<>\"\"),VLOOKUP(D341,Lookups!E:F,2,FALSE)&IF(E341<8,\"*\",\"\"),\"\")","v":""},"",""]
[null,null,"",null,null,null,null,{"$f":"IF(AND(A342<>\"\",B342<>\"\"),VLOOKUP(A342,Lookups!A:B,2,FALSE)&\"_\"&B342,\"\")","v":""},{"$f":"IF(AND(D342<>\"\",E342<>\"\"),VLOOKUP(D342,Lookups!E:F,2,FALSE)&IF(E342<8,\"*\",\"\"),\"\")","v":""},"",""]
[null,null,"",null,null,null,null,{"$f":"IF(AND(A343<>\"\",B343<>\"\"),VLOOKUP(A343,Lookups!A:B,2,FALSE)&\"_\"&B343,\"\")","v":""},{"$f":"IF(AND(D343<>\"\",E343<>\"\"),VLOOKUP(D343,Lookups!E:F,2,FALSE)&IF(E343<8,\"*\",\"\"),\"\")","v":""},"",""]
[null,null,"",null,null,null,null,{"$f":"IF(AND(A344<>\"\",B344<>\"\"),VLOOKUP(A344,Lookups!A:B,2,FALSE)&\"_\"&B344,\"\")","v":""},{"$f":"IF(AND(D344<>\"\",E344<>\"\"),VLOOKUP(D344,Lookups!E:F,2,FALSE)&IF(E344<8,\"*\",\"\"),\"\")","v":""},"",""]
[null,null,"",null,null,null,null,{"$f":"IF(AND(A345<>\"\",B345<>\"\"),VLOOKUP(A345,Lookups!A:B,2,FALSE)&\"_\"&B345,\"\")","v":""},{"$f":"IF(AND(D345<>\"\",E345<>\"\"),VLOOKUP(D345,Lookups!E:F,2,FALSE)&IF(E345<8,\"*\",\"\"),\"\")","v":""},"",""]
[null,null,"",null,null,null,null,{"$f":"IF(AND(A346<>\"\",B346<>\"\"),VLOOKUP(A346,Lookups!A:B,2,FALSE)&\"_\"&B346,\"\")","v":""},{"$f":"IF(AND(D346<>\"\",E346<>\"\"),VLOOKUP(D346,Lookups!E:F,2,FALSE)&IF(E346<8,\"*\",\"\"),\"\")","v":""},"",""]
[null,null,"",null,null,null,null,{"$f":"IF(AND(A347<>\"\",B347<>\"\"),VLOOKUP(A347,Lookups!A:B,2,FALSE)&\"_\"&B347,\"\")","v":""},{"$f":"IF(AND(D347<>\"\",E347<>\"\"),VLOOKUP(D347,Lookups!E:F,2,FALSE)&IF(E347<8,\"*\",\"\"),\"\")","v":""},"",""]
[null,null,"",null,null,null,null,{"$f":"IF(AND(A348<>\"\",B348<>\"\"),VLOOKUP(A348,Lookups!A:B,2,FALSE)&\"_\"&B348,\"\")","v":""},{"$f":"IF(AND(D348<>\"\",E348<>\"\"),VLOOKUP(D348,Lookups!E:F,2,FALSE)&IF(E348<8,\"*\",\"\"),\"\")","v":""},"",""]
[null,null,"",null,null,null,null,{"$f":"IF(AND(A349<>\"\",B349<>\"\"),VLOOKUP(A349,Lookups!A:B,2,FALSE)&\"_\"&B349,\"\")","v":""},{"$f":"IF(AND(D349<>\"\",E349<>\"\"),VLOOKUP(D349,Lookups!E:F,2,FALSE)&IF(E349<8,\"*\",\"\"),\"\")","v":""},"",""]
[null,null,"",null,null,null,null,{"$f":"IF(AND(A350<>\"\",B350<>\"\"),VLOOKUP(A350,Lookups!A:B,2,FALSE)&\"_\"&B350,\"\")","v":""},{"$f":"IF(AND(D350<>\"\",E350<>\"\"),VLOOKUP(D350,Lookups!E:F,2,FALSE)&IF(E350<8,\"*\",\"\"),\"\")","v":""},"",""]
[null,null,"",null,null,null,null,{"$f":"IF(AND(A351<>\"\",B351<>\"\"),VLOOKUP(A351,Lookups!A:B,2,FALSE)&\"_\"&B351,\"\")","v":""},{"$f":"IF(AND(D351<>\"\",E351<>\"\"),VLOOKUP(D351,Lookups!E:F,2,FALSE)&IF(E351<8,\"*\",\"\"),\"\")","v":""},"",""]
[null,null,"",null,null,null,null,{"$f":"IF(AND(A352<>\"\",B352<>\"\"),VLOOKUP(A352,Lookups!A:B,2,FALSE)&\"_\"&B352,\"\")","v":""},{"$f":"IF(AND(D352<>\"\",E352<>\"\"),VLOOKUP(D352,Lookups!E:F,2,FALSE)&IF(E352<8,\"*\",\"\"),\"\")","v":""},{"$f":"IF(F352=\"\",\"\",F352)","v":""},{"$f":"IF(G352=\"\",\"\",G352)","v":""}]
[null,null,"",null,null,null,null,{"$f":"IF(AND(A353<>\"\",B353<>\"\"),VLOOKUP(A353,Lookups!A:B,2,FALSE)&\"_\"&B353,\"\")","v":""},{"$f":"IF(AND(D353<>\"\",E353<>\"\"),VLOOKUP(D353,Lookups!E:F,2,FALSE)&IF(E353<8,\"*\",\"\"),\"\")","v":""},"",""]
[null,null,"",null,null,null,null,{"$f":"IF(AND(A354<>\"\",B354<>\"\"),VLOOKUP(A354,Lookups!A:B,2,FALSE)&\"_\"&B354,\"\")","v":""},{"$f":"IF(AND(D354<>\"\",E354<>\"\"),VLOOKUP(D354,Lookups!E:F,2,FALSE)&IF(E354<8,\"*\",\"\"),\"\")","v":""},"",""]
[null,null,"",null,null,null,null,{"$f":"IF(AND(A355<>\"\",B355<>\"\"),VLOOKUP(A355,Lookups!A:B,2,FALSE)&\"_\"&B355,\"\")","v":""},{"$f":"IF(AND(D355<>\"\",E355<>\"\"),VLOOKUP(D355,Lookups!E:F,2,FALSE)&IF(E355<8,\"*\",\"\"),\"\")","v":""},"",""]
[null,null,"",null,null,null,null,{"$f":"IF(AND(A356<>\"\",B356<>\"\"),VLOOKUP(A356,Lookups!A:B,2,FALSE)&\"_\"&B356,\"\")","v":""},{"$f":"IF(AND(D356<>\"\",E356<>\"\"),VLOOKUP(D356,Lookups!E:F,2,FALSE)&IF(E356<8,\"*\",\"\"),\"\")","v":""},"",""]
[null,null,"",null,null,null,null,{"$f":"IF(AND(A357<>\"\",B357<>\"\"),VLOOKUP(A357,Lookups!A:B,2,FALSE)&\"_\"&B357,\"\")","v":""},{"$f":"IF(AND(D357<>\"\",E357<>\"\"),VLOOKUP(D357,Lookups!E:F,2,FALSE)&IF(E357<8,\"*\",\"\"),\"\")","v":""},"",""]
[null,null,"",null,null,null,null,{"$f":"IF(AND(A358<>\"\",B358<>\"\"),VLOOKUP(A358,Lookups!A:B,2,FALSE)&\"_\"&B358,\"\")","v":""},{"$f":"IF(AND(D358<>\"\",E358<>\"\"),VLOOKUP(D358,Lookups!E:F,2,FALSE)&IF(E358<8,\"*\",\"\"),\"\")","v":""},"",""]
[null,null,"",null,null,null,null,{"$f":"IF(AND(A359<>\"\",B359<>\"\"),VLOOKUP(A359,Lookups!A:B,2,FALSE)&\"_\"&B359,\"\")","v":""},{"$f":"IF(AND(D359<>\"\",E359<>\"\"),VLOOKUP(D359,Lookups!E:F,2,FALSE)&IF(E359<8,\"*\",\"\"),\"\")","v":""},"",""]
[null,null,"",null,null,null,null,{"$f":"IF(AND(A360<>\"\",B360<>\"\"),VLOOKUP(A360,Lookups!A:B,2,FALSE)&\"_\"&B360,\"\")","v":""},{"$f":"IF(AND(D360<>\"\",E360<>\"\"),VLOOKUP(D360,Lookups!E:F,2,FALSE)&IF(E360<8,\"*\",\"\"),\"\")","v":""},"",""]
[null,null,"",null,null,null,null,{"$f":"IF(AND(A361<>\"\",B361<>\"\"),VLOOKUP(A361,Lookups!A:B,2,FALSE)&\"_\"&B361,\"\")","v":""},{"$f":"IF(AND(D361<>\"\",E361<>\"\"),VLOOKUP(D361,Lookups!E:F,2,FALSE)&IF(E361<8,\"*\",\"\"),\"\")","v":""},"",""]
[null,null,"",null,null,null,null,{"$f":"IF(AND(A362<>\"\",B362<>\"\"),VLOOKUP(A362,Lookups!A:B,2,FALSE)&\"_\"&B362,\"\")","v":""},{"$f":"IF(AND(D362<>\"\",E362<>\"\"),VLOOKUP(D362,Lookups!E:F,2,FALSE)&IF(E362<8,\"*\",\"\"),\"\")","v":""},"",""]
[null,null,"",null,null,null,null,{"$f":"IF(AND(A363<>\"\",B363<>\"\"),VLOOKUP(A363,Lookups!A:B,2,FALSE)&\"_\"&B363,\"\")","v":""},{"$f":"IF(AND(D363<>\"\",E363<>\"\"),VLOOKUP(D363,Lookups!E:F,2,FALSE)&IF(E363<8,\"*\",\"\"),\"\")","v":""},"",""]
[null,null,"",null,null,null,null,{"$f":"IF(AND(A364<>\"\",B364<>\"\"),VLOOKUP(A364,Lookups!A:B,2,FALSE)&\"_\"&B364,\"\")","v":""},{"$f":"IF(AND(D364<>\"\",E364<>\"\"),VLOOKUP(D364,Lookups!E:F,2,FALSE)&IF(E364<8,\"*\",\"\"),\"\")","v":""},"",""]
[null,null,"",null,null,null,null,{"$f":"IF(AND(A365<>\"\",B365<>\"\"),VLOOKUP(A365,Lookups!A:B,2,FALSE)&\"_\"&B365,\"\")","v":""},{"$f":"IF(AND(D365<>\"\",E365<>\"\"),VLOOKUP(D365,Lookups!E:F,2,FALSE)&IF(E365<8,\"*\",\"\"),\"\")","v":""},"",""]
[null,null,"",null,null,null,null,{"$f":"IF(AND(A366<>\"\",B366<>\"\"),VLOOKUP(A366,Lookups!A:B,2,FALSE)&\"_\"&B366,\"\")","v":""},{"$f":"IF(AND(D366<>\"\",E366<>\"\"),VLOOKUP(D366,Lookups!E:F,2,FALSE)&IF(E366<8,\"*\",\"\"),\"\")","v":""},"",""]
[null,null,"",null,null,null,null,{"$f":"IF(AND(A367<>\"\",B367<>\"\"),VLOOKUP(A367,Lookups!A:B,2,FALSE)&\"_\"&B367,\"\")","v":""},{"$f":"IF(AND(D367<>\"\",E367<>\"\"),VLOOKUP(D367,Lookups!E:F,2,FALSE)&IF(E367<8,\"*\",\"\"),\"\")","v":""},"",""]
[null,null,"",null,null,null,null,{"$f":"IF(AND(A368<>\"\",B368<>\"\"),VLOOKUP(A368,Lookups!A:B,2,FALSE)&\"_\"&B368,\"\")","v":""},{"$f":"IF(AND(D368<>\"\",E368<>\"\"),VLOOKUP(D368,Lookups!E:F,2,FALSE)&IF(E368<8,\"*\",\"\"),\"\")","v":""},"",""]
[null,null,"",null,null,null,null,{"$f":"IF(AND(A369<>\"\",B369<>\"\"),VLOOKUP(A369,Lookups!A:B,2,FALSE)&\"_\"&B369,\"\")","v":""},{"$f":"IF(AND(D369<>\"\",E369<>\"\"),VLOOKUP(D369,Lookups!E:F,2,FALSE)&IF(E369<8,\"*\",\"\"),\"\")","v":""},"",""]
[null,null,"",null,null,null,null,{"$f":"IF(AND(A370<>\"\",B370<>\"\"),VLOOKUP(A370,Lookups!A:B,2,FALSE)&\"_\"&B370,\"\")","v":""},{"$f":"IF(AND(D370<>\"\",E370<>\"\"),VLOOKUP(D370,Lookups!E:F,2,FALSE)&IF(E370<8,\"*\",\"\"),\"\")","v":""},"",""]
[null,null,"",null,null,null,null,{"$f":"IF(AND(A371<>\"\",B371<>\"\"),VLOOKUP(A371,Lookups!A:B,2,FALSE)&\"_\"&B371,\"\")","v":""},{"$f":"IF(AND(D371<>\"\",E371<>\"\"),VLOOKUP(D371,Lookups!E:F,2,FALSE)&IF(E371<8,\"*\",\"\"),\"\")","v":""},"",""]
[null,null,"",null,null,null,null,{"$f":"IF(AND(A372<>\"\",B372<>\"\"),VLOOKUP(A372,Lookups!A:B,2,FALSE)&\"_\"&B372,\"\")","v":""},{"$f":"IF(AND(D372<>\"\",E372<>\"\"),VLOOKUP(D372,Lookups!E:F,2,FALSE)&IF(E372<8,\"*\",\"\"),\"\")","v":""},"",""]
[null,null,"",null,null,null,null,{"$f":"IF(AND(A373<>\"\",B373<>\"\"),VLOOKUP(A373,Lookups!A:B,2,FALSE)&\"_\"&B373,\"\")","v":""},{"$f":"IF(AND(D373<>\"\",E373<>\"\"),VLOOKUP(D373,Lookups!E:F,2,FALSE)&IF(E373<8,\"*\",\"\"),\"\")","v":""},"",""]
[null,null,"",null,null,null,null,{"$f":"IF(AND(A374<>\"\",B374<>\"\"),VLOOKUP(A374,Lookups!A:B,2,FALSE)&\"_\"&B374,\"\")","v":""},{"$f":"IF(AND(D374<>\"\",E374<>\"\"),VLOOKUP(D374,Lookups!E:F,2,FALSE)&IF(E374<8,\"*\",\"\"),\"\")","v":""},"",""]
[null,null,"",null,null,null,null,{"$f":"IF(AND(A375<>\"\",B375<>\"\"),VLOOKUP(A375,Lookups!A:B,2,FALSE)&\"_\"&B375,\"\")","v":""},{"$f":"IF(AND(D375<>\"\",E375<>\"\"),VLOOKUP(D375,Lookups!E:F,2,FALSE)&IF(E375<8,\"*\",\"\"),\"\")","v":""},"",""]
[null,null,"",null,null,null,null,{"$f":"IF(AND(A376<>\"\",B376<>\"\"),VLOOKUP(A376,Lookups!A:B,2,FALSE)&\"_\"&B376,\"\")","v":""},{"$f":"IF(AND(D376<>\"\",E376<>\"\"),VLOOKUP(D376,Lookups!E:F,2,FALSE)&IF(E376<8,\"*\",\"\"),\"\")","v":""},"",""]
[null,null,"",null,null,null,null,{"$f":"IF(AND(A377<>\"\",B377<>\"\"),VLOOKUP(A377,Lookups!A:B,2,FALSE)&\"_\"&B377,\"\")","v":""},{"$f":"IF(AND(D377<>\"\",E377<>\"\"),VLOOKUP(D377,Lookups!E:F,2,FALSE)&IF(E377<8,\"*\",\"\"),\"\")","v":""},"",""]
[null,null,"",null,null,null,null,{"$f":"IF(AND(A378<>\"\",B378<>\"\"),VLOOKUP(A378,Lookups!A:B,2,FALSE)&\"_\"&B378,\"\")","v":""},{"$f":"IF(AND(D378<>\"\",E378<>\"\"),VLOOKUP(D378,Lookups!E:F,2,FALSE)&IF(E378<8,\"*\",\"\"),\"\")","v":""},"",""]
[null,null,{"$f":"IF(B379=\"\",\"\",TEXT(WEEKDAY(B379),\"aaaa\"))","v":""},null,null,null,null,{"$f":"IF(AND(A379<>\"\",B379<>\"\"),VLOOKUP(A379,Lookups!A:B,2,FALSE)&\"_\"&B379,\"\")","v":""},{"$f":"IF(AND(D379<>\"\",E379<>\"\"),VLOOKUP(D379,Lookups!E:F,2,FALSE)&IF(E379<8,\"*\",\"\"),\"\")","v":""},"",""]
[null,null,"",null,null,null,null,{"$f":"IF(AND(A380<>\"\",B380<>\"\"),VLOOKUP(A380,Lookups!A:B,2,FALSE)&\"_\"&B380,\"\")","v":""},{"$f":"IF(AND(D380<>\"\",E380<>\"\"),VLOOKUP(D380,Lookups!E:F,2,FALSE)&IF(E380<8,\"*\",\"\"),\"\")","v":""},"",""]
[null,null,"",null,null,null,null,{"$f":"IF(AND(A381<>\"\",B381<>\"\"),VLOOKUP(A381,Lookups!A:B,2,FALSE)&\"_\"&B381,\"\")","v":""},{"$f":"IF(AND(D381<>\"\",E381<>\"\"),VLOOKUP(D381,Lookups!E:F,2,FALSE)&IF(E381<8,\"*\",\"\"),\"\")","v":""},"",""]
[null,null,"",null,null,null,null,{"$f":"IF(AND(A382<>\"\",B382<>\"\"),VLOOKUP(A382,Lookups!A:B,2,FALSE)&\"_\"&B382,\"\")","v":""},{"$f":"IF(AND(D382<>\"\",E382<>\"\"),VLOOKUP(D382,Lookups!E:F,2,FALSE)&IF(E382<8,\"*\",\"\"),\"\")","v":""},"",""]
[null,null,"",null,null,null,null,{"$f":"IF(AND(A383<>\"\",B383<>\"\"),VLOOKUP(A383,Lookups!A:B,2,FALSE)&\"_\"&B383,\"\")","v":""},{"$f":"IF(AND(D383<>\"\",E383<>\"\"),VLOOKUP(D383,Lookups!E:F,2,FALSE)&IF(E383<8,\"*\",\"\"),\"\")","v":""},"",""]
[null,null,"",null,null,null,null,{"$f":"IF(AND(A384<>\"\",B384<>\"\"),VLOOKUP(A384,Lookups!A:B,2,FALSE)&\"_\"&B384,\"\")","v":""},{"$f":"IF(AND(D384<>\"\",E384<>\"\"),VLOOKUP(D384,Lookups!E:F,2,FALSE)&IF(E384<8,\"*\",\"\"),\"\")","v":""},"",""]
[null,null,"",null,null,null,null,{"$f":"IF(AND(A385<>\"\",B385<>\"\"),VLOOKUP(A385,Lookups!A:B,2,FALSE)&\"_\"&B385,\"\")","v":""},{"$f":"IF(AND(D385<>\"\",E385<>\"\"),VLOOKUP(D385,Lookups!E:F,2,FALSE)&IF(E385<8,\"*\",\"\"),\"\")","v":""},"",""]
[null,null,"",null,null,null,null,{"$f":"IF(AND(A386<>\"\",B386<>\"\"),VLOOKUP(A386,Lookups!A:B,2,FALSE)&\"_\"&B386,\"\")","v":""},{"$f":"IF(AND(D386<>\"\",E386<>\"\"),VLOOKUP(D386,Lookups!E:F,2,FALSE)&IF(E386<8,\"*\",\"\"),\"\")","v":""},"",""]
[null,null,"",null,null,null,null,{"$f":"IF(AND(A387<>\"\",B387<>\"\"),VLOOKUP(A387,Lookups!A:B,2,FALSE)&\"_\"&B387,\"\")","v":""},{"$f":"IF(AND(D387<>\"\",E387<>\"\"),VLOOKUP(D387,Lookups!E:F,2,FALSE)&IF(E387<8,\"*\",\"\"),\"\")","v":""},"",""]
[null,null,"",null,null,null,null,{"$f":"IF(AND(A388<>\"\",B388<>\"\"),VLOOKUP(A388,Lookups!A:B,2,FALSE)&\"_\"&B388,\"\")","v":""},{"$f":"IF(AND(D388<>\"\",E388<>\"\"),VLOOKUP(D388,Lookups!E:F,2,FALSE)&IF(E388<8,\"*\",\"\"),\"\")","v":""},"",""]
[null,null,"",null,null,null,null,{"$f":"IF(AND(A389<>\"\",B389<>\"\"),VLOOKUP(A389,Lookups!A:B,2,FALSE)&\"_\"&B389,\"\")","v":""},{"$f":"IF(AND(D389<>\"\",E389<>\"\"),VLOOKUP(D389,Lookups!E:F,2,FALSE)&IF(E389<8,\"*\",\"\"),\"\")","v":""},"",""]
[null,null,"",null,null,null,null,{"$f":"IF(AND(A390<>\"\",B390<>\"\"),VLOOKUP(A390,Lookups!A:B,2,FALSE)&\"_\"&B390,\"\")","v":""},{"$f":"IF(AND(D390<>\"\",E390<>\"\"),VLOOKUP(D390,Lookups!E:F,2,FALSE)&IF(E390<8,\"*\",\"\"),\"\")","v":""},"",""]
[null,null,"",null,null,null,null,{"$f":"IF(AND(A391<>\"\",B391<>\"\"),VLOOKUP(A391,Lookups!A:B,2,FALSE)&\"_\"&B391,\"\")","v":""},{"$f":"IF(AND(D391<>\"\",E391<>\"\"),VLOOKUP(D391,Lookups!E:F,2,FALSE)&IF(E391<8,\"*\",\"\"),\"\")","v":""},"",""]
[null,null,"",null,null,null,null,{"$f":"IF(AND(A392<>\"\",B392<>\"\"),VLOOKUP(A392,Lookups!A:B,2,FALSE)&\"_\"&B392,\"\")","v":""},{"$f":"IF(AND(D392<>\"\",E392<>\"\"),VLOOKUP(D392,Lookups!E:F,2,FALSE)&IF(E392<8,\"*\",\"\"),\"\")","v":""},"",""]
[null,null,"",null,null,null,null,{"$f":"IF(AND(A393<>\"\",B393<>\"\"),VLOOKUP(A393,Lookups!A:B,2,FALSE)&\"_\"&B393,\"\")","v":""},{"$f":"IF(AND(D393<>\"\",E393<>\"\"),VLOOKUP(D393,Lookups!E:F,2,FALSE)&IF(E393<8,\"*\",\"\"),\"\")","v":""},"",""]
[null,null,"",null,null,null,null,{"$f":"IF(AND(A394<>\"\",B394<>\"\"),VLOOKUP(A394,Lookups!A:B,2,FALSE)&\"_\"&B394,\"\")","v":""},{"$f":"IF(AND(D394<>\"\",E394<>\"\"),VLOOKUP(D394,Lookups!E:F,2,FALSE)&IF(E394<8,\"*\",\"\"),\"\")","v":""},"",""]
[null,null,"",null,null,null,null,{"$f":"IF(AND(A395<>\"\",B395<>\"\"),VLOOKUP(A395,Lookups!A:B,2,FALSE)&\"_\"&B395,\"\")","v":""},{"$f":"IF(AND(D395<>\"\",E395<>\"\"),VLOOKUP(D395,Lookups!E:F,2,FALSE)&IF(E395<8,\"*\",\"\"),\"\")","v":""},"",""]
[null,null,"",null,null,null,null,{"$f":"IF(AND(A396<>\"\",B396<>\"\"),VLOOKUP(A396,Lookups!A:B,2,FALSE)&\"_\"&B396,\"\")","v":""},{"$f":"IF(AND(D396<>\"\",E396<>\"\"),VLOOKUP(D396,Lookups!E:F,2,FALSE)&IF(E396<8,\"*\",\"\"),\"\")","v":""},"",""]
[null,null,"",null,null,null,null,{"$f":"IF(AND(A397<>\"\",B397<>\"\"),VLOOKUP(A397,Lookups!A:B,2,FALSE)&\"_\"&B397,\"\")","v":""},{"$f":"IF(AND(D397<>\"\",E397<>\"\"),VLOOKUP(D397,Lookups!E:F,2,FALSE)&IF(E397<8,\"*\",\"\"),\"\")","v":""},"",""]
[null,null,"",null,null,null,null,{"$f":"IF(AND(A398<>\"\",B398<>\"\"),VLOOKUP(A398,Lookups!A:B,2,FALSE)&\"_\"&B398,\"\")","v":""},{"$f":"IF(AND(D398<>\"\",E398<>\"\"),VLOOKUP(D398,Lookups!E:F,2,FALSE)&IF(E398<8,\"*\",\"\"),\"\")","v":""},"",""]
[null,null,"",null,null,null,null,{"$f":"IF(AND(A399<>\"\",B399<>\"\"),VLOOKUP(A399,Lookups!A:B,2,FALSE)&\"_\"&B399,\"\")","v":""},{"$f":"IF(AND(D399<>\"\",E399<>\"\"),VLOOKUP(D399,Lookups!E:F,2,FALSE)&IF(E399<8,\"*\",\"\"),\"\")","v":""},"",""]
[null,null,"",null,null,null,null,{"$f":"IF(AND(A400<>\"\",B400<>\"\"),VLOOKUP(A400,Lookups!A:B,2,FALSE)&\"_\"&B400,\"\")","v":""},{"$f":"IF(AND(D400<>\"\",E400<>\"\"),VLOOKUP(D400,Lookups!E:F,2,FALSE)&IF(E400<8,\"*\",\"\"),\"\")","v":""},"",""]
[null,null,"",null,null,null,null,{"$f":"IF(AND(A401<>\"\",B401<>\"\"),VLOOKUP(A401,Lookups!A:B,2,FALSE)&\"_\"&B401,\"\")","v":""},{"$f":"IF(AND(D401<>\"\",E401<>\"\"),VLOOKUP(D401,Lookups!E:F,2,FALSE)&IF(E401<8,\"*\",\"\"),\"\")","v":""},"",""]
[null,null,"",null,null,null,null,{"$f":"IF(AND(A402<>\"\",B402<>\"\"),VLOOKUP(A402,Lookups!A:B,2,FALSE)&\"_\"&B402,\"\")","v":""},{"$f":"IF(AND(D402<>\"\",E402<>\"\"),VLOOKUP(D402,Lookups!E:F,2,FALSE)&IF(E402<8,\"*\",\"\"),\"\")","v":""},"",""]
[null,null,"",null,null,null,null,{"$f":"IF(AND(A403<>\"\",B403<>\"\"),VLOOKUP(A403,Lookups!A:B,2,FALSE)&\"_\"&B403,\"\")","v":""},{"$f":"IF(AND(D403<>\"\",E403<>\"\"),VLOOKUP(D403,Lookups!E:F,2,FALSE)&IF(E403<8,\"*\",\"\"),\"\")","v":""},"",""]
[null,null,"",null,null,null,null,{"$f":"IF(AND(A404<>\"\",B404<>\"\"),VLOOKUP(A404,Lookups!A:B,2,FALSE)&\"_\"&B404,\"\")","v":""},{"$f":"IF(AND(D404<>\"\",E404<>\"\"),VLOOKUP(D404,Lookups!E:F,2,FALSE)&IF(E404<8,\"*\",\"\"),\"\")","v":""},"",""]
[null,null,"",null,null,null,null,{"$f":"IF(AND(A405<>\"\",B405<>\"\"),VLOOKUP(A405,Lookups!A:B,2,FALSE)&\"_\"&B405,\"\")","v":""},{"$f":"IF(AND(D405<>\"\",E405<>\"\"),VLOOKUP(D405,Lookups!E:F,2,FALSE)&IF(E405<8,\"*\",\"\"),\"\")","v":""},"",""]
[null,null,"",null,null,null,null,{"$f":"IF(AND(A406<>\"\",B406<>\"\"),VLOOKUP(A406,Lookups!A:B,2,FALSE)&\"_\"&B406,\"\")","v":""},{"$f":"IF(AND(D406<>\"\",E406<>\"\"),VLOOKUP(D406,Lookups!E:F,2,FALSE)&IF(E406<8,\"*\",\"\"),\"\")","v":""},"",""]
[null,null,"",null,null,null,null,{"$f":"IF(AND(A407<>\"\",B407<>\"\"),VLOOKUP(A407,Lookups!A:B,2,FALSE)&\"_\"&B407,\"\")","v":""},{"$f":"IF(AND(D407<>\"\",E407<>\"\"),VLOOKUP(D407,Lookups!E:F,2,FALSE)&IF(E407<8,\"*\",\"\"),\"\")","v":""},"",""]
[null,null,"",null,null,null,null,{"$f":"IF(AND(A408<>\"\",B408<>\"\"),VLOOKUP(A408,Lookups!A:B,2,FALSE)&\"_\"&B408,\"\")","v":""},{"$f":"IF(AND(D408<>\"\",E408<>\"\"),VLOOKUP(D408,Lookups!E:F,2,FALSE)&IF(E408<8,\"*\",\"\"),\"\")","v":""},"",""]
[null,null,"",null,null,null,null,{"$f":"IF(AND(A409<>\"\",B409<>\"\"),VLOOKUP(A409,Lookups!A:B,2,FALSE)&\"_\"&B409,\"\")","v":""},{"$f":"IF(AND(D409<>\"\",E409<>\"\"),VLOOKUP(D409,Lookups!E:F,2,FALSE)&IF(E409<8,\"*\",\"\"),\"\")","v":""},"",""]
[null,null,"",null,null,null,null,{"$f":"IF(AND(A410<>\"\",B410<>\"\"),VLOOKUP(A410,Lookups!A:B,2,FALSE)&\"_\"&B410,\"\")","v":""},{"$f":"IF(AND(D410<>\"\",E410<>\"\"),VLOOKUP(D410,Lookups!E:F,2,FALSE)&IF(E410<8,\"*\",\"\"),\"\")","v":""},"",""]
[null,null,"",null,null,null,null,{"$f":"IF(AND(A411<>\"\",B411<>\"\"),VLOOKUP(A411,Lookups!A:B,2,FALSE)&\"_\"&B411,\"\")","v":""},{"$f":"IF(AND(D411<>\"\",E411<>\"\"),VLOOKUP(D411,Lookups!E:F,2,FALSE)&IF(E411<8,\"*\",\"\"),\"\")","v":""},"",""]
[null,null,"",null,null,null,null,{"$f":"IF(AND(A412<>\"\",B412<>\"\"),VLOOKUP(A412,Lookups!A:B,2,FALSE)&\"_\"&B412,\"\")","v":""},{"$f":"IF(AND(D412<>\"\",E412<>\"\"),VLOOKUP(D412,Lookups!E:F,2,FALSE)&IF(E412<8,\"*\",\"\"),\"\")","v":""},"",""]
[null,null,"",null,null,null,null,{"$f":"IF(AND(A413<>\"\",B413<>\"\"),VLOOKUP(A413,Lookups!A:B,2,FALSE)&\"_\"&B413,\"\")","v":""},{"$f":"IF(AND(D413<>\"\",E413<>\"\"),VLOOKUP(D413,Lookups!E:F,2,FALSE)&IF(E413<8,\"*\",\"\"),\"\")","v":""},"",""]
[null,null,"",null,null,null,null,{"$f":"IF(AND(A414<>\"\",B414<>\"\"),VLOOKUP(A414,Lookups!A:B,2,FALSE)&\"_\"&B414,\"\")","v":""},{"$f":"IF(AND(D414<>\"\",E414<>\"\"),VLOOKUP(D414,Lookups!E:F,2,FALSE)&IF(E414<8,\"*\",\"\"),\"\")","v":""},"",""]
[null,null,"",null,null,null,null,{"$f":"IF(AND(A415<>\"\",B415<>\"\"),VLOOKUP(A415,Lookups!A:B,2,FALSE)&\"_\"&B415,\"\")","v":""},{"$f":"IF(AND(D415<>\"\",E415<>\"\"),VLOOKUP(D415,Lookups!E:F,2,FALSE)&IF(E415<8,\"*\",\"\"),\"\")","v":""},"",""]
[null,null,"",null,null,null,null,{"$f":"IF(AND(A416<>\"\",B416<>\"\"),VLOOKUP(A416,Lookups!A:B,2,FALSE)&\"_\"&B416,\"\")","v":""},{"$f":"IF(AND(D416<>\"\",E416<>\"\"),VLOOKUP(D416,Lookups!E:F,2,FALSE)&IF(E416<8,\"*\",\"\"),\"\")","v":""},{"$f":"IF(F416=\"\",\"\",F416)","v":""},{"$f":"IF(G416=\"\",\"\",G416)","v":""}]
[null,null,"",null,null,null,null,{"$f":"IF(AND(A417<>\"\",B417<>\"\"),VLOOKUP(A417,Lookups!A:B,2,FALSE)&\"_\"&B417,\"\")","v":""},{"$f":"IF(AND(D417<>\"\",E417<>\"\"),VLOOKUP(D417,Lookups!E:F,2,FALSE)&IF(E417<8,\"*\",\"\"),\"\")","v":""},"",""]
[null,null,"",null,null,null,null,{"$f":"IF(AND(A418<>\"\",B418<>\"\"),VLOOKUP(A418,Lookups!A:B,2,FALSE)&\"_\"&B418,\"\")","v":""},{"$f":"IF(AND(D418<>\"\",E418<>\"\"),VLOOKUP(D418,Lookups!E:F,2,FALSE)&IF(E418<8,\"*\",\"\"),\"\")","v":""},"",""]
[null,null,"",null,null,null,null,{"$f":"IF(AND(A419<>\"\",B419<>\"\"),VLOOKUP(A419,Lookups!A:B,2,FALSE)&\"_\"&B419,\"\")","v":""},{"$f":"IF(AND(D419<>\"\",E419<>\"\"),VLOOKUP(D419,Lookups!E:F,2,FALSE)&IF(E419<8,\"*\",\"\"),\"\")","v":""},"",""]
[null,null,"",null,null,null,null,{"$f":"IF(AND(A420<>\"\",B420<>\"\"),VLOOKUP(A420,Lookups!A:B,2,FALSE)&\"_\"&B420,\"\")","v":""},{"$f":"IF(AND(D420<>\"\",E420<>\"\"),VLOOKUP(D420,Lookups!E:F,2,FALSE)&IF(E420<8,\"*\",\"\"),\"\")","v":""},"",""]
[null,null,"",null,null,null,null,{"$f":"IF(AND(A421<>\"\",B421<>\"\"),VLOOKUP(A421,Lookups!A:B,2,FALSE)&\"_\"&B421,\"\")","v":""},{"$f":"IF(AND(D421<>\"\",E421<>\"\"),VLOOKUP(D421,Lookups!E:F,2,FALSE)&IF(E421<8,\"*\",\"\"),\"\")","v":""},"",""]
[null,null,"",null,null,null,null,{"$f":"IF(AND(A422<>\"\",B422<>\"\"),VLOOKUP(A422,Lookups!A:B,2,FALSE)&\"_\"&B422,\"\")","v":""},{"$f":"IF(AND(D422<>\"\",E422<>\"\"),VLOOKUP(D422,Lookups!E:F,2,FALSE)&IF(E422<8,\"*\",\"\"),\"\")","v":""},"",""]
[null,null,"",null,null,null,null,{"$f":"IF(AND(A423<>\"\",B423<>\"\"),VLOOKUP(A423,Lookups!A:B,2,FALSE)&\"_\"&B423,\"\")","v":""},{"$f":"IF(AND(D423<>\"\",E423<>\"\"),VLOOKUP(D423,Lookups!E:F,2,FALSE)&IF(E423<8,\"*\",\"\"),\"\")","v":""},"",""]
[null,null,"",null,null,null,null,{"$f":"IF(AND(A424<>\"\",B424<>\"\"),VLOOKUP(A424,Lookups!A:B,2,FALSE)&\"_\"&B424,\"\")","v":""},{"$f":"IF(AND(D424<>\"\",E424<>\"\"),VLOOKUP(D424,Lookups!E:F,2,FALSE)&IF(E424<8,\"*\",\"\"),\"\")","v":""},"",""]
[null,null,"",null,null,null,null,{"$f":"IF(AND(A425<>\"\",B425<>\"\"),VLOOKUP(A425,Lookups!A:B,2,FALSE)&\"_\"&B425,\"\")","v":""},{"$f":"IF(AND(D425<>\"\",E425<>\"\"),VLOOKUP(D425,Lookups!E:F,2,FALSE)&IF(E425<8,\"*\",\"\"),\"\")","v":""},"",""]
[null,null,"",null,null,null,null,{"$f":"IF(AND(A426<>\"\",B426<>\"\"),VLOOKUP(A426,Lookups!A:B,2,FALSE)&\"_\"&B426,\"\")","v":""},{"$f":"IF(AND(D426<>\"\",E426<>\"\"),VLOOKUP(D426,Lookups!E:F,2,FALSE)&IF(E426<8,\"*\",\"\"),\"\")","v":""},"",""]
[null,null,"",null,null,null,null,{"$f":"IF(AND(A427<>\"\",B427<>\"\"),VLOOKUP(A427,Lookups!A:B,2,FALSE)&\"_\"&B427,\"\")","v":""},{"$f":"IF(AND(D427<>\"\",E427<>\"\"),VLOOKUP(D427,Lookups!E:F,2,FALSE)&IF(E427<8,\"*\",\"\"),\"\")","v":""},"",""]
[null,null,"",null,null,null,null,{"$f":"IF(AND(A428<>\"\",B428<>\"\"),VLOOKUP(A428,Lookups!A:B,2,FALSE)&\"_\"&B428,\"\")","v":""},{"$f":"IF(AND(D428<>\"\",E428<>\"\"),VLOOKUP(D428,Lookups!E:F,2,FALSE)&IF(E428<8,\"*\",\"\"),\"\")","v":""},"",""]
[null,null,"",null,null,null,null,{"$f":"IF(AND(A429<>\"\",B429<>\"\"),VLOOKUP(A429,Lookups!A:B,2,FALSE)&\"_\"&B429,\"\")","v":""},{"$f":"IF(AND(D429<>\"\",E429<>\"\"),VLOOKUP(D429,Lookups!E:F,2,FALSE)&IF(E429<8,\"*\",\"\"),\"\")","v":""},"",""]
[null,null,"",null,null,null,null,{"$f":"IF(AND(A430<>\"\",B430<>\"\"),VLOOKUP(A430,Lookups!A:B,2,FALSE)&\"_\"&B430,\"\")","v":""},{"$f":"IF(AND(D430<>\"\",E430<>\"\"),VLOOKUP(D430,Lookups!E:F,2,FALSE)&IF(E430<8,\"*\",\"\"),\"\")","v":""},"",""]
[null,null,"",null,null,null,null,{"$f":"IF(AND(A431<>\"\",B431<>\"\"),VLOOKUP(A431,Lookups!A:B,2,FALSE)&\"_\"&B431,\"\")","v":""},{"$f":"IF(AND(D431<>\"\",E431<>\"\"),VLOOKUP(D431,Lookups!E:F,2,FALSE)&IF(E431<8,\"*\",\"\"),\"\")","v":""},"",""]
[null,null,"",null,null,null,null,{"$f":"IF(AND(A432<>\"\",B432<>\"\"),VLOOKUP(A432,Lookups!A:B,2,FALSE)&\"_\"&B432,\"\")","v":""},{"$f":"IF(AND(D432<>\"\",E432<>\"\"),VLOOKUP(D432,Lookups!E:F,2,FALSE)&IF(E432<8,\"*\",\"\"),\"\")","v":""},"",""]
[null,null,"",null,null,null,null,{"$f":"IF(AND(A433<>\"\",B433<>\"\"),VLOOKUP(A433,Lookups!A:B,2,FALSE)&\"_\"&B433,\"\")","v":""},{"$f":"IF(AND(D433<>\"\",E433<>\"\"),VLOOKUP(D433,Lookups!E:F,2,FALSE)&IF(E433<8,\"*\",\"\"),\"\")","v":""},"",""]
[null,null,"",null,null,null,null,{"$f":"IF(AND(A434<>\"\",B434<>\"\"),VLOOKUP(A434,Lookups!A:B,2,FALSE)&\"_\"&B434,\"\")","v":""},{"$f":"IF(AND(D434<>\"\",E434<>\"\"),VLOOKUP(D434,Lookups!E:F,2,FALSE)&IF(E434<8,\"*\",\"\"),\"\")","v":""},"",""]
[null,null,"",null,null,null,null,{"$f":"IF(AND(A435<>\"\",B435<>\"\"),VLOOKUP(A435,Lookups!A:B,2,FALSE)&\"_\"&B435,\"\")","v":""},{"$f":"IF(AND(D435<>\"\",E435<>\"\"),VLOOKUP(D435,Lookups!E:F,2,FALSE)&IF(E435<8,\"*\",\"\"),\"\")","v":""},"",""]
[null,null,"",null,null,null,null,{"$f":"IF(AND(A436<>\"\",B436<>\"\"),VLOOKUP(A436,Lookups!A:B,2,FALSE)&\"_\"&B436,\"\")","v":""},{"$f":"IF(AND(D436<>\"\",E436<>\"\"),VLOOKUP(D436,Lookups!E:F,2,FALSE)&IF(E436<8,\"*\",\"\"),\"\")","v":""},"",""]
[null,null,"",null,null,null,null,{"$f":"IF(AND(A437<>\"\",B437<>\"\"),VLOOKUP(A437,Lookups!A:B,2,FALSE)&\"_\"&B437,\"\")","v":""},{"$f":"IF(AND(D437<>\"\",E437<>\"\"),VLOOKUP(D437,Lookups!E:F,2,FALSE)&IF(E437<8,\"*\",\"\"),\"\")","v":""},"",""]
[null,null,"",null,null,null,null,{"$f":"IF(AND(A438<>\"\",B438<>\"\"),VLOOKUP(A438,Lookups!A:B,2,FALSE)&\"_\"&B438,\"\")","v":""},{"$f":"IF(AND(D438<>\"\",E438<>\"\"),VLOOKUP(D438,Lookups!E:F,2,FALSE)&IF(E438<8,\"*\",\"\"),\"\")","v":""},"",""]
[null,null,"",null,null,null,null,{"$f":"IF(AND(A439<>\"\",B439<>\"\"),VLOOKUP(A439,Lookups!A:B,2,FALSE)&\"_\"&B439,\"\")","v":""},{"$f":"IF(AND(D439<>\"\",E439<>\"\"),VLOOKUP(D439,Lookups!E:F,2,FALSE)&IF(E439<8,\"*\",\"\"),\"\")","v":""},"",""]
[null,null,"",null,null,null,null,{"$f":"IF(AND(A440<>\"\",B440<>\"\"),VLOOKUP(A440,Lookups!A:B,2,FALSE)&\"_\"&B440,\"\")","v":""},{"$f":"IF(AND(D440<>\"\",E440<>\"\"),VLOOKUP(D440,Lookups!E:F,2,FALSE)&IF(E440<8,\"*\",\"\"),\"\")","v":""},"",""]
[null,null,"",null,null,null,null,{"$f":"IF(AND(A441<>\"\",B441<>\"\"),VLOOKUP(A441,Lookups!A:B,2,FALSE)&\"_\"&B441,\"\")","v":""},{"$f":"IF(AND(D441<>\"\",E441<>\"\"),VLOOKUP(D441,Lookups!E:F,2,FALSE)&IF(E441<8,\"*\",\"\"),\"\")","v":""},"",""]
[null,null,"",null,null,null,null,{"$f":"IF(AND(A442<>\"\",B442<>\"\"),VLOOKUP(A442,Lookups!A:B,2,FALSE)&\"_\"&B442,\"\")","v":""},{"$f":"IF(AND(D442<>\"\",E442<>\"\"),VLOOKUP(D442,Lookups!E:F,2,FALSE)&IF(E442<8,\"*\",\"\"),\"\")","v":""},"",""]
[null,null,{"$f":"IF(B443=\"\",\"\",TEXT(WEEKDAY(B443),\"aaaa\"))","v":""},null,null,null,null,{"$f":"IF(AND(A443<>\"\",B443<>\"\"),VLOOKUP(A443,Lookups!A:B,2,FALSE)&\"_\"&B443,\"\")","v":""},{"$f":"IF(AND(D443<>\"\",E443<>\"\"),VLOOKUP(D443,Lookups!E:F,2,FALSE)&IF(E443<8,\"*\",\"\"),\"\")","v":""},"",""]
[null,null,"",null,null,null,null,{"$f":"IF(AND(A444<>\"\",B444<>\"\"),VLOOKUP(A444,Lookups!A:B,2,FALSE)&\"_\"&B444,\"\")","v":""},{"$f":"IF(AND(D444<>\"\",E444<>\"\"),VLOOKUP(D444,Lookups!E:F,2,FALSE)&IF(E444<8,\"*\",\"\"),\"\")","v":""},"",""]
[null,null,"",null,null,null,null,{"$f":"IF(AND(A445<>\"\",B445<>\"\"),VLOOKUP(A445,Lookups!A:B,2,FALSE)&\"_\"&B445,\"\")","v":""},{"$f":"IF(AND(D445<>\"\",E445<>\"\"),VLOOKUP(D445,Lookups!E:F,2,FALSE)&IF(E445<8,\"*\",\"\"),\"\")","v":""},"",""]
[null,null,"",null,null,null,null,{"$f":"IF(AND(A446<>\"\",B446<>\"\"),VLOOKUP(A446,Lookups!A:B,2,FALSE)&\"_\"&B446,\"\")","v":""},{"$f":"IF(AND(D446<>\"\",E446<>\"\"),VLOOKUP(D446,Lookups!E:F,2,FALSE)&IF(E446<8,\"*\",\"\"),\"\")","v":""},"",""]
[null,null,"",null,null,null,null,{"$f":"IF(AND(A447<>\"\",B447<>\"\"),VLOOKUP(A447,Lookups!A:B,2,FALSE)&\"_\"&B447,\"\")","v":""},{"$f":"IF(AND(D447<>\"\",E447<>\"\"),VLOOKUP(D447,Lookups!E:F,2,FALSE)&IF(E447<8,\"*\",\"\"),\"\")","v":""},"",""]
[null,null,"",null,null,null,null,{"$f":"IF(AND(A448<>\"\",B448<>\"\"),VLOOKUP(A448,Lookups!A:B,2,FALSE)&\"_\"&B448,\"\")","v":""},{"$f":"IF(AND(D448<>\"\",E448<>\"\"),VLOOKUP(D448,Lookups!E:F,2,FALSE)&IF(E448<8,\"*\",\"\"),\"\")","v":""},"",""]
[null,null,"",null,null,null,null,{"$f":"IF(AND(A449<>\"\",B449<>\"\"),VLOOKUP(A449,Lookups!A:B,2,FALSE)&\"_\"&B449,\"\")","v":""},{"$f":"IF(AND(D449<>\"\",E449<>\"\"),VLOOKUP(D449,Lookups!E:F,2,FALSE)&IF(E449<8,\"*\",\"\"),\"\")","v":""},"",""]
[null,null,"",null,null,null,null,{"$f":"IF(AND(A450<>\"\",B450<>\"\"),VLOOKUP(A450,Lookups!A:B,2,FALSE)&\"_\"&B450,\"\")","v":""},{"$f":"IF(AND(D450<>\"\",E450<>\"\"),VLOOKUP(D450,Lookups!E:F,2,FALSE)&IF(E450<8,\"*\",\"\"),\"\")","v":""},"",""]
[null,null,"",null,null,null,null,{"$f":"IF(AND(A451<>\"\",B451<>\"\"),VLOOKUP(A451,Lookups!A:B,2,FALSE)&\"_\"&B451,\"\")","v":""},{"$f":"IF(AND(D451<>\"\",E451<>\"\"),VLOOKUP(D451,Lookups!E:F,2,FALSE)&IF(E451<8,\"*\",\"\"),\"\")","v":""},"",""]
[null,null,"",null,null,null,null,{"$f":"IF(AND(A452<>\"\",B452<>\"\"),VLOOKUP(A452,Lookups!A:B,2,FALSE)&\"_\"&B452,\"\")","v":""},{"$f":"IF(AND(D452<>\"\",E452<>\"\"),VLOOKUP(D452,Lookups!E:F,2,FALSE)&IF(E452<8,\"*\",\"\"),\"\")","v":""},"",""]
[null,null,"",null,null,null,null,{"$f":"IF(AND(A453<>\"\",B453<>\"\"),VLOOKUP(A453,Lookups!A:B,2,FALSE)&\"_\"&B453,\"\")","v":""},{"$f":"IF(AND(D453<>\"\",E453<>\"\"),VLOOKUP(D453,Lookups!E:F,2,FALSE)&IF(E453<8,\"*\",\"\"),\"\")","v":""},"",""]
[null,null,"",null,null,null,null,{"$f":"IF(AND(A454<>\"\",B454<>\"\"),VLOOKUP(A454,Lookups!A:B,2,FALSE)&\"_\"&B454,\"\")","v":""},{"$f":"IF(AND(D454<>\"\",E454<>\"\"),VLOOKUP(D454,Lookups!E:F,2,FALSE)&IF(E454<8,\"*\",\"\"),\"\")","v":""},"",""]
[null,null,"",null,null,null,null,{"$f":"IF(AND(A455<>\"\",B455<>\"\"),VLOOKUP(A455,Lookups!A:B,2,FALSE)&\"_\"&B455,\"\")","v":""},{"$f":"IF(AND(D455<>\"\",E455<>\"\"),VLOOKUP(D455,Lookups!E:F,2,FALSE)&IF(E455<8,\"*\",\"\"),\"\")","v":""},"",""]
[null,null,"",null,null,null,null,{"$f":"IF(AND(A456<>\"\",B456<>\"\"),VLOOKUP(A456,Lookups!A:B,2,FALSE)&\"_\"&B456,\"\")","v":""},{"$f":"IF(AND(D456<>\"\",E456<>\"\"),VLOOKUP(D456,Lookups!E:F,2,FALSE)&IF(E456<8,\"*\",\"\"),\"\")","v":""},"",""]
[null,null,"",null,null,null,null,{"$f":"IF(AND(A457<>\"\",B457<>\"\"),VLOOKUP(A457,Lookups!A:B,2,FALSE)&\"_\"&B457,\"\")","v":""},{"$f":"IF(AND(D457<>\"\",E457<>\"\"),VLOOKUP(D457,Lookups!E:F,2,FALSE)&IF(E457<8,\"*\",\"\"),\"\")","v":""},"",""]
[null,null,"",null,null,null,null,{"$f":"IF(AND(A458<>\"\",B458<>\"\"),VLOOKUP(A458,Lookups!A:B,2,FALSE)&\"_\"&B458,\"\")","v":""},{"$f":"IF(AND(D458<>\"\",E458<>\"\"),VLOOKUP(D458,Lookups!E:F,2,FALSE)&IF(E458<8,\"*\",\"\"),\"\")","v":""},"",""]
[null,null,"",null,null,null,null,{"$f":"IF(AND(A459<>\"\",B459<>\"\"),VLOOKUP(A459,Lookups!A:B,2,FALSE)&\"_\"&B459,\"\")","v":""},{"$f":"IF(AND(D459<>\"\",E459<>\"\"),VLOOKUP(D459,Lookups!E:F,2,FALSE)&IF(E459<8,\"*\",\"\"),\"\")","v":""},"",""]
[null,null,"",null,null,null,null,{"$f":"IF(AND(A460<>\"\",B460<>\"\"),VLOOKUP(A460,Lookups!A:B,2,FALSE)&\"_\"&B460,\"\")","v":""},{"$f":"IF(AND(D460<>\"\",E460<>\"\"),VLOOKUP(D460,Lookups!E:F,2,FALSE)&IF(E460<8,\"*\",\"\"),\"\")","v":""},"",""]
[null,null,"",null,null,null,null,{"$f":"IF(AND(A461<>\"\",B461<>\"\"),VLOOKUP(A461,Lookups!A:B,2,FALSE)&\"_\"&B461,\"\")","v":""},{"$f":"IF(AND(D461<>\"\",E461<>\"\"),VLOOKUP(D461,Lookups!E:F,2,FALSE)&IF(E461<8,\"*\",\"\"),\"\")","v":""},"",""]
[null,null,"",null,null,null,null,{"$f":"IF(AND(A462<>\"\",B462<>\"\"),VLOOKUP(A462,Lookups!A:B,2,FALSE)&\"_\"&B462,\"\")","v":""},{"$f":"IF(AND(D462<>\"\",E462<>\"\"),VLOOKUP(D462,Lookups!E:F,2,FALSE)&IF(E462<8,\"*\",\"\"),\"\")","v":""},"",""]
[null,null,"",null,null,null,null,{"$f":"IF(AND(A463<>\"\",B463<>\"\"),VLOOKUP(A463,Lookups!A:B,2,FALSE)&\"_\"&B463,\"\")","v":""},{"$f":"IF(AND(D463<>\"\",E463<>\"\"),VLOOKUP(D463,Lookups!E:F,2,FALSE)&IF(E463<8,\"*\",\"\"),\"\")","v":""},"",""]
[null,null,"",null,null,null,null,{"$f":"IF(AND(A464<>\"\",B464<>\"\"),VLOOKUP(A464,Lookups!A:B,2,FALSE)&\"_\"&B464,\"\")","v":""},{"$f":"IF(AND(D464<>\"\",E464<>\"\"),VLOOKUP(D464,Lookups!E:F,2,FALSE)&IF(E464<8,\"*\",\"\"),\"\")","v":""},"",""]
[null,null,"",null,null,null,null,{"$f":"IF(AND(A465<>\"\",B465<>\"\"),VLOOKUP(A465,Lookups!A:B,2,FALSE)&\"_\"&B465,\"\")","v":""},{"$f":"IF(AND(D465<>\"\",E465<>\"\"),VLOOKUP(D465,Lookups!E:F,2,FALSE)&IF(E465<8,\"*\",\"\"),\"\")","v":""},"",""]
[null,null,"",null,null,null,null,{"$f":"IF(AND(A466<>\"\",B466<>\"\"),VLOOKUP(A466,Lookups!A:B,2,FALSE)&\"_\"&B466,\"\")","v":""},{"$f":"IF(AND(D466<>\"\",E466<>\"\"),VLOOKUP(D466,Lookups!E:F,2,FALSE)&IF(E466<8,\"*\",\"\"),\"\")","v":""},"",""]
[null,null,"",null,null,null,null,{"$f":"IF(AND(A467<>\"\",B467<>\"\"),VLOOKUP(A467,Lookups!A:B,2,FALSE)&\"_\"&B467,\"\")","v":""},{"$f":"IF(AND(D467<>\"\",E467<>\"\"),VLOOKUP(D467,Lookups!E:F,2,FALSE)&IF(E467<8,\"*\",\"\"),\"\")","v":""},"",""]
[null,null,"",null,null,null,null,{"$f":"IF(AND(A468<>\"\",B468<>\"\"),VLOOKUP(A468,Lookups!A:B,2,FALSE)&\"_\"&B468,\"\")","v":""},{"$f":"IF(AND(D468<>\"\",E468<>\"\"),VLOOKUP(D468,Lookups!E:F,2,FALSE)&IF(E468<8,\"*\",\"\"),\"\")","v":""},"",""]
[null,null,"",null,null,null,null,{"$f":"IF(AND(A469<>\"\",B469<>\"\"),VLOOKUP(A469,Lookups!A:B,2,FALSE)&\"_\"&B469,\"\")","v":""},{"$f":"IF(AND(D469<>\"\",E469<>\"\"),VLOOKUP(D469,Lookups!E:F,2,FALSE)&IF(E469<8,\"*\",\"\"),\"\")","v":""},"",""]
[null,null,"",null,null,null,null,{"$f":"IF(AND(A470<>\"\",B470<>\"\"),VLOOKUP(A470,Lookups!A:B,2,FALSE)&\"_\"&B470,\"\")","v":""},{"$f":"IF(AND(D470<>\"\",E470<>\"\"),VLOOKUP(D470,Lookups!E:F,2,FALSE)&IF(E470<8,\"*\",\"\"),\"\")","v":""},"",""]
[null,null,"",null,null,null,null,{"$f":"IF(AND(A471<>\"\",B471<>\"\"),VLOOKUP(A471,Lookups!A:B,2,FALSE)&\"_\"&B471,\"\")","v":""},{"$f":"IF(AND(D471<>\"\",E471<>\"\"),VLOOKUP(D471,Lookups!E:F,2,FALSE)&IF(E471<8,\"*\",\"\"),\"\")","v":""},"",""]
[null,null,"",null,null,null,null,{"$f":"IF(AND(A472<>\"\",B472<>\"\"),VLOOKUP(A472,Lookups!A:B,2,FALSE)&\"_\"&B472,\"\")","v":""},{"$f":"IF(AND(D472<>\"\",E472<>\"\"),VLOOKUP(D472,Lookups!E:F,2,FALSE)&IF(E472<8,\"*\",\"\"),\"\")","v":""},"",""]
[null,null,"",null,null,null,null,{"$f":"IF(AND(A473<>\"\",B473<>\"\"),VLOOKUP(A473,Lookups!A:B,2,FALSE)&\"_\"&B473,\"\")","v":""},{"$f":"IF(AND(D473<>\"\",E473<>\"\"),VLOOKUP(D473,Lookups!E:F,2,FALSE)&IF(E473<8,\"*\",\"\"),\"\")","v":""},"",""]
[null,null,"",null,null,null,null,{"$f":"IF(AND(A474<>\"\",B474<>\"\"),VLOOKUP(A474,Lookups!A:B,2,FALSE)&\"_\"&B474,\"\")","v":""},{"$f":"IF(AND(D474<>\"\",E474<>\"\"),VLOOKUP(D474,Lookups!E:F,2,FALSE)&IF(E474<8,\"*\",\"\"),\"\")","v":""},"",""]
[null,null,"",null,null,null,null,{"$f":"IF(AND(A475<>\"\",B475<>\"\"),VLOOKUP(A475,Lookups!A:B,2,FALSE)&\"_\"&B475,\"\")","v":""},{"$f":"IF(AND(D475<>\"\",E475<>\"\"),VLOOKUP(D475,Lookups!E:F,2,FALSE)&IF(E475<8,\"*\",\"\"),\"\")","v":""},"",""]
[null,null,"",null,null,null,null,{"$f":"IF(AND(A476<>\"\",B476<>\"\"),VLOOKUP(A476,Lookups!A:B,2,FALSE)&\"_\"&B476,\"\")","v":""},{"$f":"IF(AND(D476<>\"\",E476<>\"\"),VLOOKUP(D476,Lookups!E:F,2,FALSE)&IF(E476<8,\"*\",\"\"),\"\")","v":""},"",""]
[null,null,"",null,null,null,null,{"$f":"IF(AND(A477<>\"\",B477<>\"\"),VLOOKUP(A477,Lookups!A:B,2,FALSE)&\"_\"&B477,\"\")","v":""},{"$f":"IF(AND(D477<>\"\",E477<>\"\"),VLOOKUP(D477,Lookups!E:F,2,FALSE)&IF(E477<8,\"*\",\"\"),\"\")","v":""},"",""]
[null,null,"",null,null,null,null,{"$f":"IF(AND(A478<>\"\",B478<>\"\"),VLOOKUP(A478,Lookups!A:B,2,FALSE)&\"_\"&B478,\"\")","v":""},{"$f":"IF(AND(D478<>\"\",E478<>\"\"),VLOOKUP(D478,Lookups!E:F,2,FALSE)&IF(E478<8,\"*\",\"\"),\"\")","v":""},"",""]
[null,null,"",null,null,null,null,{"$f":"IF(AND(A479<>\"\",B479<>\"\"),VLOOKUP(A479,Lookups!A:B,2,FALSE)&\"_\"&B479,\"\")","v":""},{"$f":"IF(AND(D479<>\"\",E479<>\"\"),VLOOKUP(D479,Lookups!E:F,2,FALSE)&IF(E479<8,\"*\",\"\"),\"\")","v":""},"",""]
[null,null,"",null,null,null,null,{"$f":"IF(AND(A480<>\"\",B480<>\"\"),VLOOKUP(A480,Lookups!A:B,2,FALSE)&\"_\"&B480,\"\")","v":""},{"$f":"IF(AND(D480<>\"\",E480<>\"\"),VLOOKUP(D480,Lookups!E:F,2,FALSE)&IF(E480<8,\"*\",\"\"),\"\")","v":""},{"$f":"IF(F480=\"\",\"\",F480)","v":""},{"$f":"IF(G480=\"\",\"\",G480)","v":""}]
[null,null,"",null,null,null,null,{"$f":"IF(AND(A481<>\"\",B481<>\"\"),VLOOKUP(A481,Lookups!A:B,2,FALSE)&\"_\"&B481,\"\")","v":""},{"$f":"IF(AND(D481<>\"\",E481<>\"\"),VLOOKUP(D481,Lookups!E:F,2,FALSE)&IF(E481<8,\"*\",\"\"),\"\")","v":""},"",""]
[null,null,"",null,null,null,null,{"$f":"IF(AND(A482<>\"\",B482<>\"\"),VLOOKUP(A482,Lookups!A:B,2,FALSE)&\"_\"&B482,\"\")","v":""},{"$f":"IF(AND(D482<>\"\",E482<>\"\"),VLOOKUP(D482,Lookups!E:F,2,FALSE)&IF(E482<8,\"*\",\"\"),\"\")","v":""},"",""]
[null,null,"",null,null,null,null,{"$f":"IF(AND(A483<>\"\",B483<>\"\"),VLOOKUP(A483,Lookups!A:B,2,FALSE)&\"_\"&B483,\"\")","v":""},{"$f":"IF(AND(D483<>\"\",E483<>\"\"),VLOOKUP(D483,Lookups!E:F,2,FALSE)&IF(E483<8,\"*\",\"\"),\"\")","v":""},"",""]
[null,null,"",null,null,null,null,{"$f":"IF(AND(A484<>\"\",B484<>\"\"),VLOOKUP(A484,Lookups!A:B,2,FALSE)&\"_\"&B484,\"\")","v":""},{"$f":"IF(AND(D484<>\"\",E484<>\"\"),VLOOKUP(D484,Lookups!E:F,2,FALSE)&IF(E484<8,\"*\",\"\"),\"\")","v":""},"",""]
[null,null,"",null,null,null,null,{"$f":"IF(AND(A485<>\"\",B485<>\"\"),VLOOKUP(A485,Lookups!A:B,2,FALSE)&\"_\"&B485,\"\")","v":""},{"$f":"IF(AND(D485<>\"\",E485<>\"\"),VLOOKUP(D485,Lookups!E:F,2,FALSE)&IF(E485<8,\"*\",\"\"),\"\")","v":""},"",""]
[null,null,"",null,null,null,null,{"$f":"IF(AND(A486<>\"\",B486<>\"\"),VLOOKUP(A486,Lookups!A:B,2,FALSE)&\"_\"&B486,\"\")","v":""},{"$f":"IF(AND(D486<>\"\",E486<>\"\"),VLOOKUP(D486,Lookups!E:F,2,FALSE)&IF(E486<8,\"*\",\"\"),\"\")","v":""},"",""]
[null,null,"",null,null,null,null,{"$f":"IF(AND(A487<>\"\",B487<>\"\"),VLOOKUP(A487,Lookups!A:B,2,FALSE)&\"_\"&B487,\"\")","v":""},{"$f":"IF(AND(D487<>\"\",E487<>\"\"),VLOOKUP(D487,Lookups!E:F,2,FALSE)&IF(E487<8,\"*\",\"\"),\"\")","v":""},"",""]
[null,null,"",null,null,null,null,{"$f":"IF(AND(A488<>\"\",B488<>\"\"),VLOOKUP(A488,Lookups!A:B,2,FALSE)&\"_\"&B488,\"\")","v":""},{"$f":"IF(AND(D488<>\"\",E488<>\"\"),VLOOKUP(D488,Lookups!E:F,2,FALSE)&IF(E488<8,\"*\",\"\"),\"\")","v":""},"",""]
[null,null,"",null,null,null,null,{"$f":"IF(AND(A489<>\"\",B489<>\"\"),VLOOKUP(A489,Lookups!A:B,2,FALSE)&\"_\"&B489,\"\")","v":""},{"$f":"IF(AND(D489<>\"\",E489<>\"\"),VLOOKUP(D489,Lookups!E:F,2,FALSE)&IF(E489<8,\"*\",\"\"),\"\")","v":""},"",""]
[null,null,"",null,null,null,null,{"$f":"IF(AND(A490<>\"\",B490<>\"\"),VLOOKUP(A490,Lookups!A:B,2,FALSE)&\"_\"&B490,\"\")","v":""},{"$f":"IF(AND(D490<>\"\",E490<>\"\"),VLOOKUP(D490,Lookups!E:F,2,FALSE)&IF(E490<8,\"*\",\"\"),\"\")","v":""},"",""]
[null,null,"",null,null,null,null,{"$f":"IF(AND(A491<>\"\",B491<>\"\"),VLOOKUP(A491,Lookups!A:B,2,FALSE)&\"_\"&B491,\"\")","v":""},{"$f":"IF(AND(D491<>\"\",E491<>\"\"),VLOOKUP(D491,Lookups!E:F,2,FALSE)&IF(E491<8,\"*\",\"\"),\"\")","v":""},"",""]
[null,null,"",null,null,null,null,{"$f":"IF(AND(A492<>\"\",B492<>\"\"),VLOOKUP(A492,Lookups!A:B,2,FALSE)&\"_\"&B492,\"\")","v":""},{"$f":"IF(AND(D492<>\"\",E492<>\"\"),VLOOKUP(D492,Lookups!E:F,2,FALSE)&IF(E492<8,\"*\",\"\"),\"\")","v":""},"",""]
[null,null,"",null,null,null,null,{"$f":"IF(AND(A493<>\"\",B493<>\"\"),VLOOKUP(A493,Lookups!A:B,2,FALSE)&\"_\"&B493,\"\")","v":""},{"$f":"IF(AND(D493<>\"\",E493<>\"\"),VLOOKUP(D493,Lookups!E:F,2,FALSE)&IF(E493<8,\"*\",\"\"),\"\")","v":""},"",""]
[null,null,"",null,null,null,null,{"$f":"IF(AND(A494<>\"\",B494<>\"\"),VLOOKUP(A494,Lookups!A:B,2,FALSE)&\"_\"&B494,\"\")","v":""},{"$f":"IF(AND(D494<>\"\",E494<>\"\"),VLOOKUP(D494,Lookups!E:F,2,FALSE)&IF(E494<8,\"*\",\"\"),\"\")","v":""},"",""]
[null,null,"",null,null,null,null,{"$f":"IF(AND(A495<>\"\",B495<>\"\"),VLOOKUP(A495,Lookups!A:B,2,FALSE)&\"_\"&B495,\"\")","v":""},{"$f":"IF(AND(D495<>\"\",E495<>\"\"),VLOOKUP(D495,Lookups!E:F,2,FALSE)&IF(E495<8,\"*\",\"\"),\"\")","v":""},"",""]
[null,null,"",null,null,null,null,{"$f":"IF(AND(A496<>\"\",B496<>\"\"),VLOOKUP(A496,Lookups!A:B,2,FALSE)&\"_\"&B496,\"\")","v":""},{"$f":"IF(AND(D496<>\"\",E496<>\"\"),VLOOKUP(D496,Lookups!E:F,2,FALSE)&IF(E496<8,\"*\",\"\"),\"\")","v":""},"",""]
[null,null,"",null,null,null,null,{"$f":"IF(AND(A497<>\"\",B497<>\"\"),VLOOKUP(A497,Lookups!A:B,2,FALSE)&\"_\"&B497,\"\")","v":""},{"$f":"IF(AND(D497<>\"\",E497<>\"\"),VLOOKUP(D497,Lookups!E:F,2,FALSE)&IF(E497<8,\"*\",\"\"),\"\")","v":""},"",""]
[null,null,"",null,null,null,null,{"$f":"IF(AND(A498<>\"\",B498<>\"\"),VLOOKUP(A498,Lookups!A:B,2,FALSE)&\"_\"&B498,\"\")","v":""},{"$f":"IF(AND(D498<>\"\",E498<>\"\"),VLOOKUP(D498,Lookups!E:F,2,FALSE)&IF(E498<8,\"*\",\"\"),\"\")","v":""},"",""]
[null,null,"",null,null,null,null,{"$f":"IF(AND(A499<>\"\",B499<>\"\"),VLOOKUP(A499,Lookups!A:B,2,FALSE)&\"_\"&B499,\"\")","v":""},{"$f":"IF(AND(D499<>\"\",E499<>\"\"),VLOOKUP(D499,Lookups!E:F,2,FALSE)&IF(E499<8,\"*\",\"\"),\"\")","v":""},"",""]
[null,null,"",null,null,null,null,{"$f":"IF(AND(A500<>\"\",B500<>\"\"),VLOOKUP(A500,Lookups!A:B,2,FALSE)&\"_\"&B500,\"\")","v":""},{"$f":"IF(AND(D500<>\"\",E500<>\"\"),VLOOKUP(D500,Lookups!E:F,2,FALSE)&IF(E500<8,\"*\",\"\"),\"\")","v":""},"",""]
[null,null,"",null,null,null,null,{"$f":"IF(AND(A501<>\"\",B501<>\"\"),VLOOKUP(A501,Lookups!A:B,2,FALSE)&\"_\"&B501,\"\")","v":""},{"$f":"IF(AND(D501<>\"\",E501<>\"\"),VLOOKUP(D501,Lookups!E:F,2,FALSE)&IF(E501<8,\"*\",\"\"),\"\")","v":""},"",""]
[null,null,"",null,null,null,null,{"$f":"IF(AND(A502<>\"\",B502<>\"\"),VLOOKUP(A502,Lookups!A:B,2,FALSE)&\"_\"&B502,\"\")","v":""},{"$f":"IF(AND(D502<>\"\",E502<>\"\"),VLOOKUP(D502,Lookups!E:F,2,FALSE)&IF(E502<8,\"*\",\"\"),\"\")","v":""},"",""]
[null,null,"",null,null,null,null,{"$f":"IF(AND(A503<>\"\",B503<>\"\"),VLOOKUP(A503,Lookups!A:B,2,FALSE)&\"_\"&B503,\"\")","v":""},{"$f":"IF(AND(D503<>\"\",E503<>\"\"),VLOOKUP(D503,Lookups!E:F,2,FALSE)&IF(E503<8,\"*\",\"\"),\"\")","v":""},"",""]
[null,null,"",null,null,null,null,{"$f":"IF(AND(A504<>\"\",B504<>\"\"),VLOOKUP(A504,Lookups!A:B,2,FALSE)&\"_\"&B504,\"\")","v":""},{"$f":"IF(AND(D504<>\"\",E504<>\"\"),VLOOKUP(D504,Lookups!E:F,2,FALSE)&IF(E504<8,\"*\",\"\"),\"\")","v":""},"",""]
[null,null,"",null,null,null,null,{"$f":"IF(AND(A505<>\"\",B505<>\"\"),VLOOKUP(A505,Lookups!A:B,2,FALSE)&\"_\"&B505,\"\")","v":""},{"$f":"IF(AND(D505<>\"\",E505<>\"\"),VLOOKUP(D505,Lookups!E:F,2,FALSE)&IF(E505<8,\"*\",\"\"),\"\")","v":""},"",""]
[null,null,"",null,null,null,null,{"$f":"IF(AND(A506<>\"\",B506<>\"\"),VLOOKUP(A506,Lookups!A:B,2,FALSE)&\"_\"&B506,\"\")","v":""},{"$f":"IF(AND(D506<>\"\",E506<>\"\"),VLOOKUP(D506,Lookups!E:F,2,FALSE)&IF(E506<8,\"*\",\"\"),\"\")","v":""},"",""]
[null,null,{"$f":"IF(B507=\"\",\"\",TEXT(WEEKDAY(B507),\"aaaa\"))","v":""},null,null,null,null,{"$f":"IF(AND(A507<>\"\",B507<>\"\"),VLOOKUP(A507,Lookups!A:B,2,FALSE)&\"_\"&B507,\"\")","v":""},{"$f":"IF(AND(D507<>\"\",E507<>\"\"),VLOOKUP(D507,Lookups!E:F,2,FALSE)&IF(E507<8,\"*\",\"\"),\"\")","v":""},"",""]
[null,null,"",null,null,null,null,{"$f":"IF(AND(A508<>\"\",B508<>\"\"),VLOOKUP(A508,Lookups!A:B,2,FALSE)&\"_\"&B508,\"\")","v":""},{"$f":"IF(AND(D508<>\"\",E508<>\"\"),VLOOKUP(D508,Lookups!E:F,2,FALSE)&IF(E508<8,\"*\",\"\"),\"\")","v":""},"",""]
[null,null,"",null,null,null,null,{"$f":"IF(AND(A509<>\"\",B509<>\"\"),VLOOKUP(A509,Lookups!A:B,2,FALSE)&\"_\"&B509,\"\")","v":""},{"$f":"IF(AND(D509<>\"\",E509<>\"\"),VLOOKUP(D509,Lookups!E:F,2,FALSE)&IF(E509<8,\"*\",\"\"),\"\")","v":""},"",""]
[null,null,"",null,null,null,null,{"$f":"IF(AND(A510<>\"\",B510<>\"\"),VLOOKUP(A510,Lookups!A:B,2,FALSE)&\"_\"&B510,\"\")","v":""},{"$f":"IF(AND(D510<>\"\",E510<>\"\"),VLOOKUP(D510,Lookups!E:F,2,FALSE)&IF(E510<8,\"*\",\"\"),\"\")","v":""},"",""]
[null,null,"",null,null,null,null,{"$f":"IF(AND(A511<>\"\",B511<>\"\"),VLOOKUP(A511,Lookups!A:B,2,FALSE)&\"_\"&B511,\"\")","v":""},{"$f":"IF(AND(D511<>\"\",E511<>\"\"),VLOOKUP(D511,Lookups!E:F,2,FALSE)&IF(E511<8,\"*\",\"\"),\"\")","v":""},"",""]
[null,null,"",null,null,null,null,{"$f":"IF(AND(A512<>\"\",B512<>\"\"),VLOOKUP(A512,Lookups!A:B,2,FALSE)&\"_\"&B512,\"\")","v":""},{"$f":"IF(AND(D512<>\"\",E512<>\"\"),VLOOKUP(D512,Lookups!E:F,2,FALSE)&IF(E512<8,\"*\",\"\"),\"\")","v":""},"",""]
[null,null,"",null,null,null,null,{"$f":"IF(AND(A513<>\"\",B513<>\"\"),VLOOKUP(A513,Lookups!A:B,2,FALSE)&\"_\"&B513,\"\")","v":""},{"$f":"IF(AND(D513<>\"\",E513<>\"\"),VLOOKUP(D513,Lookups!E:F,2,FALSE)&IF(E513<8,\"*\",\"\"),\"\")","v":""},"",""]
[null,null,"",null,null,null,null,{"$f":"IF(AND(A514<>\"\",B514<>\"\"),VLOOKUP(A514,Lookups!A:B,2,FALSE)&\"_\"&B514,\"\")","v":""},{"$f":"IF(AND(D514<>\"\",E514<>\"\"),VLOOKUP(D514,Lookups!E:F,2,FALSE)&IF(E514<8,\"*\",\"\"),\"\")","v":""},"",""]
[null,null,"",null,null,null,null,{"$f":"IF(AND(A515<>\"\",B515<>\"\"),VLOOKUP(A515,Lookups!A:B,2,FALSE)&\"_\"&B515,\"\")","v":""},{"$f":"IF(AND(D515<>\"\",E515<>\"\"),VLOOKUP(D515,Lookups!E:F,2,FALSE)&IF(E515<8,\"*\",\"\"),\"\")","v":""},"",""]
[null,null,"",null,null,null,null,{"$f":"IF(AND(A516<>\"\",B516<>\"\"),VLOOKUP(A516,Lookups!A:B,2,FALSE)&\"_\"&B516,\"\")","v":""},{"$f":"IF(AND(D516<>\"\",E516<>\"\"),VLOOKUP(D516,Lookups!E:F,2,FALSE)&IF(E516<8,\"*\",\"\"),\"\")","v":""},"",""]
[null,null,"",null,null,null,null,{"$f":"IF(AND(A517<>\"\",B517<>\"\"),VLOOKUP(A517,Lookups!A:B,2,FALSE)&\"_\"&B517,\"\")","v":""},{"$f":"IF(AND(D517<>\"\",E517<>\"\"),VLOOKUP(D517,Lookups!E:F,2,FALSE)&IF(E517<8,\"*\",\"\"),\"\")","v":""},"",""]
[null,null,"",null,null,null,null,{"$f":"IF(AND(A518<>\"\",B518<>\"\"),VLOOKUP(A518,Lookups!A:B,2,FALSE)&\"_\"&B518,\"\")","v":""},{"$f":"IF(AND(D518<>\"\",E518<>\"\"),VLOOKUP(D518,Lookups!E:F,2,FALSE)&IF(E518<8,\"*\",\"\"),\"\")","v":""},"",""]
[null,null,"",null,null,null,null,{"$f":"IF(AND(A519<>\"\",B519<>\"\"),VLOOKUP(A519,Lookups!A:B,2,FALSE)&\"_\"&B519,\"\")","v":""},{"$f":"IF(AND(D519<>\"\",E519<>\"\"),VLOOKUP(D519,Lookups!E:F,2,FALSE)&IF(E519<8,\"*\",\"\"),\"\")","v":""},"",""]
[null,null,"",null,null,null,null,{"$f":"IF(AND(A520<>\"\",B520<>\"\"),VLOOKUP(A520,Lookups!A:B,2,FALSE)&\"_\"&B520,\"\")","v":""},{"$f":"IF(AND(D520<>\"\",E520<>\"\"),VLOOKUP(D520,Lookups!E:F,2,FALSE)&IF(E520<8,\"*\",\"\"),\"\")","v":""},"",""]
[null,null,"",null,null,null,null,{"$f":"IF(AND(A521<>\"\",B521<>\"\"),VLOOKUP(A521,Lookups!A:B,2,FALSE)&\"_\"&B521,\"\")","v":""},{"$f":"IF(AND(D521<>\"\",E521<>\"\"),VLOOKUP(D521,Lookups!E:F,2,FALSE)&IF(E521<8,\"*\",\"\"),\"\")","v":""},"",""]
[null,null,"",null,null,null,null,{"$f":"IF(AND(A522<>\"\",B522<>\"\"),VLOOKUP(A522,Lookups!A:B,2,FALSE)&\"_\"&B522,\"\")","v":""},{"$f":"IF(AND(D522<>\"\",E522<>\"\"),VLOOKUP(D522,Lookups!E:F,2,FALSE)&IF(E522<8,\"*\",\"\"),\"\")","v":""},"",""]
[null,null,"",null,null,null,null,{"$f":"IF(AND(A523<>\"\",B523<>\"\"),VLOOKUP(A523,Lookups!A:B,2,FALSE)&\"_\"&B523,\"\")","v":""},{"$f":"IF(AND(D523<>\"\",E523<>\"\"),VLOOKUP(D523,Lookups!E:F,2,FALSE)&IF(E523<8,\"*\",\"\"),\"\")","v":""},"",""]
[null,null,"",null,null,null,null,{"$f":"IF(AND(A524<>\"\",B524<>\"\"),VLOOKUP(A524,Lookups!A:B,2,FALSE)&\"_\"&B524,\"\")","v":""},{"$f":"IF(AND(D524<>\"\",E524<>\"\"),VLOOKUP(D524,Lookups!E:F,2,FALSE)&IF(E524<8,\"*\",\"\"),\"\")","v":""},"",""]
[null,null,"",null,null,null,null,{"$f":"IF(AND(A525<>\"\",B525<>\"\"),VLOOKUP(A525,Lookups!A:B,2,FALSE)&\"_\"&B525,\"\")","v":""},{"$f":"IF(AND(D525<>\"\",E525<>\"\"),VLOOKUP(D525,Lookups!E:F,2,FALSE)&IF(E525<8,\"*\",\"\"),\"\")","v":""},"",""]
[null,null,"",null,null,null,null,{"$f":"IF(AND(A526<>\"\",B526<>\"\"),VLOOKUP(A526,Lookups!A:B,2,FALSE)&\"_\"&B526,\"\")","v":""},{"$f":"IF(AND(D526<>\"\",E526<>\"\"),VLOOKUP(D526,Lookups!E:F,2,FALSE)&IF(E526<8,\"*\",\"\"),\"\")","v":""},"",""]
[null,null,"",null,null,null,null,{"$f":"IF(AND(A527<>\"\",B527<>\"\"),VLOOKUP(A527,Lookups!A:B,2,FALSE)&\"_\"&B527,\"\")","v":""},{"$f":"IF(AND(D527<>\"\",E527<>\"\"),VLOOKUP(D527,Lookups!E:F,2,FALSE)&IF(E527<8,\"*\",\"\"),\"\")","v":""},"",""]
[null,null,"",null,null,null,null,{"$f":"IF(AND(A528<>\"\",B528<>\"\"),VLOOKUP(A528,Lookups!A:B,2,FALSE)&\"_\"&B528,\"\")","v":""},{"$f":"IF(AND(D528<>\"\",E528<>\"\"),VLOOKUP(D528,Lookups!E:F,2,FALSE)&IF(E528<8,\"*\",\"\"),\"\")","v":""},"",""]
[null,null,"",null,null,null,null,{"$f":"IF(AND(A529<>\"\",B529<>\"\"),VLOOKUP(A529,Lookups!A:B,2,FALSE)&\"_\"&B529,\"\")","v":""},{"$f":"IF(AND(D529<>\"\",E529<>\"\"),VLOOKUP(D529,Lookups!E:F,2,FALSE)&IF(E529<8,\"*\",\"\"),\"\")","v":""},"",""]
[null,null,"",null,null,null,null,{"$f":"IF(AND(A530<>\"\",B530<>\"\"),VLOOKUP(A530,Lookups!A:B,2,FALSE)&\"_\"&B530,\"\")","v":""},{"$f":"IF(AND(D530<>\"\",E530<>\"\"),VLOOKUP(D530,Lookups!E:F,2,FALSE)&IF(E530<8,\"*\",\"\"),\"\")","v":""},"",""]
[null,null,"",null,null,null,null,{"$f":"IF(AND(A531<>\"\",B531<>\"\"),VLOOKUP(A531,Lookups!A:B,2,FALSE)&\"_\"&B531,\"\")","v":""},{"$f":"IF(AND(D531<>\"\",E531<>\"\"),VLOOKUP(D531,Lookups!E:F,2,FALSE)&IF(E531<8,\"*\",\"\"),\"\")","v":""},"",""]
[null,null,"",null,null,null,null,{"$f":"IF(AND(A532<>\"\",B532<>\"\"),VLOOKUP(A532,Lookups!A:B,2,FALSE)&\"_\"&B532,\"\")","v":""},{"$f":"IF(AND(D532<>\"\",E532<>\"\"),VLOOKUP(D532,Lookups!E:F,2,FALSE)&IF(E532<8,\"*\",\"\"),\"\")","v":""},"",""]
[null,null,"",null,null,null,null,{"$f":"IF(AND(A533<>\"\",B533<>\"\"),VLOOKUP(A533,Lookups!A:B,2,FALSE)&\"_\"&B533,\"\")","v":""},{"$f":"IF(AND(D533<>\"\",E533<>\"\"),VLOOKUP(D533,Lookups!E:F,2,FALSE)&IF(E533<8,\"*\",\"\"),\"\")","v":""},"",""]
[null,null,"",null,null,null,null,{"$f":"IF(AND(A534<>\"\",B534<>\"\"),VLOOKUP(A534,Lookups!A:B,2,FALSE)&\"_\"&B534,\"\")","v":""},{"$f":"IF(AND(D534<>\"\",E534<>\"\"),VLOOKUP(D534,Lookups!E:F,2,FALSE)&IF(E534<8,\"*\",\"\"),\"\")","v":""},"",""]
[null,null,"",null,null,null,null,{"$f":"IF(AND(A535<>\"\",B535<>\"\"),VLOOKUP(A535,Lookups!A:B,2,FALSE)&\"_\"&B535,\"\")","v":""},{"$f":"IF(AND(D535<>\"\",E535<>\"\"),VLOOKUP(D535,Lookups!E:F,2,FALSE)&IF(E535<8,\"*\",\"\"),\"\")","v":""},"",""]
[null,null,"",null,null,null,null,{"$f":"IF(AND(A536<>\"\",B536<>\"\"),VLOOKUP(A536,Lookups!A:B,2,FALSE)&\"_\"&B536,\"\")","v":""},{"$f":"IF(AND(D536<>\"\",E536<>\"\"),VLOOKUP(D536,Lookups!E:F,2,FALSE)&IF(E536<8,\"*\",\"\"),\"\")","v":""},"",""]
[null,null,"",null,null,null,null,{"$f":"IF(AND(A537<>\"\",B537<>\"\"),VLOOKUP(A537,Lookups!A:B,2,FALSE)&\"_\"&B537,\"\")","v":""},{"$f":"IF(AND(D537<>\"\",E537<>\"\"),VLOOKUP(D537,Lookups!E:F,2,FALSE)&IF(E537<8,\"*\",\"\"),\"\")","v":""},"",""]
[null,null,"",null,null,null,null,{"$f":"IF(AND(A538<>\"\",B538<>\"\"),VLOOKUP(A538,Lookups!A:B,2,FALSE)&\"_\"&B538,\"\")","v":""},{"$f":"IF(AND(D538<>\"\",E538<>\"\"),VLOOKUP(D538,Lookups!E:F,2,FALSE)&IF(E538<8,\"*\",\"\"),\"\")","v":""},"",""]
[null,null,"",null,null,null,null,{"$f":"IF(AND(A539<>\"\",B539<>\"\"),VLOOKUP(A539,Lookups!A:B,2,FALSE)&\"_\"&B539,\"\")","v":""},{"$f":"IF(AND(D539<>\"\",E539<>\"\"),VLOOKUP(D539,Lookups!E:F,2,FALSE)&IF(E539<8,\"*\",\"\"),\"\")","v":""},"",""]
[null,null,"",null,null,null,null,{"$f":"IF(AND(A540<>\"\",B540<>\"\"),VLOOKUP(A540,Lookups!A:B,2,FALSE)&\"_\"&B540,\"\")","v":""},{"$f":"IF(AND(D540<>\"\",E540<>\"\"),VLOOKUP(D540,Lookups!E:F,2,FALSE)&IF(E540<8,\"*\",\"\"),\"\")","v":""},"",""]
[null,null,"",null,null,null,null,{"$f":"IF(AND(A541<>\"\",B541<>\"\"),VLOOKUP(A541,Lookups!A:B,2,FALSE)&\"_\"&B541,\"\")","v":""},{"$f":"IF(AND(D541<>\"\",E541<>\"\"),VLOOKUP(D541,Lookups!E:F,2,FALSE)&IF(E541<8,\"*\",\"\"),\"\")","v":""},"",""]
[null,null,"",null,null,null,null,{"$f":"IF(AND(A542<>\"\",B542<>\"\"),VLOOKUP(A542,Lookups!A:B,2,FALSE)&\"_\"&B542,\"\")","v":""},{"$f":"IF(AND(D542<>\"\",E542<>\"\"),VLOOKUP(D542,Lookups!E:F,2,FALSE)&IF(E542<8,\"*\",\"\"),\"\")","v":""},"",""]
[null,null,"",null,null,null,null,{"$f":"IF(AND(A543<>\"\",B543<>\"\"),VLOOKUP(A543,Lookups!A:B,2,FALSE)&\"_\"&B543,\"\")","v":""},{"$f":"IF(AND(D543<>\"\",E543<>\"\"),VLOOKUP(D543,Lookups!E:F,2,FALSE)&IF(E543<8,\"*\",\"\"),\"\")","v":""},"",""]
[null,null,"",null,null,null,null,{"$f":"IF(AND(A544<>\"\",B544<>\"\"),VLOOKUP(A544,Lookups!A:B,2,FALSE)&\"_\"&B544,\"\")","v":""},{"$f":"IF(AND(D544<>\"\",E544<>\"\"),VLOOKUP(D544,Lookups!E:F,2,FALSE)&IF(E544<8,\"*\",\"\"),\"\")","v":""},{"$f":"IF(F544=\"\",\"\",F544)","v":""},{"$f":"IF(G544=\"\",\"\",G544)","v":""}]
[null,null,"",null,null,null,null,{"$f":"IF(AND(A545<>\"\",B545<>\"\"),VLOOKUP(A545,Lookups!A:B,2,FALSE)&\"_\"&B545,\"\")","v":""},{"$f":"IF(AND(D545<>\"\",E545<>\"\"),VLOOKUP(D545,Lookups!E:F,2,FALSE)&IF(E545<8,\"*\",\"\"),\"\")","v":""},"",""]
[null,null,"",null,null,null,null,{"$f":"IF(AND(A546<>\"\",B546<>\"\"),VLOOKUP(A546,Lookups!A:B,2,FALSE)&\"_\"&B546,\"\")","v":""},{"$f":"IF(AND(D546<>\"\",E546<>\"\"),VLOOKUP(D546,Lookups!E:F,2,FALSE)&IF(E546<8,\"*\",\"\"),\"\")","v":""},"",""]
[null,null,"",null,null,null,null,{"$f":"IF(AND(A547<>\"\",B547<>\"\"),VLOOKUP(A547,Lookups!A:B,2,FALSE)&\"_\"&B547,\"\")","v":""},{"$f":"IF(AND(D547<>\"\",E547<>\"\"),VLOOKUP(D547,Lookups!E:F,2,FALSE)&IF(E547<8,\"*\",\"\"),\"\")","v":""},"",""]
[null,null,"",null,null,null,null,{"$f":"IF(AND(A548<>\"\",B548<>\"\"),VLOOKUP(A548,Lookups!A:B,2,FALSE)&\"_\"&B548,\"\")","v":""},{"$f":"IF(AND(D548<>\"\",E548<>\"\"),VLOOKUP(D548,Lookups!E:F,2,FALSE)&IF(E548<8,\"*\",\"\"),\"\")","v":""},"",""]
[null,null,"",null,null,null,null,{"$f":"IF(AND(A549<>\"\",B549<>\"\"),VLOOKUP(A549,Lookups!A:B,2,FALSE)&\"_\"&B549,\"\")","v":""},{"$f":"IF(AND(D549<>\"\",E549<>\"\"),VLOOKUP(D549,Lookups!E:F,2,FALSE)&IF(E549<8,\"*\",\"\"),\"\")","v":""},"",""]
[null,null,"",null,null,null,null,{"$f":"IF(AND(A550<>\"\",B550<>\"\"),VLOOKUP(A550,Lookups!A:B,2,FALSE)&\"_\"&B550,\"\")","v":""},{"$f":"IF(AND(D550<>\"\",E550<>\"\"),VLOOKUP(D550,Lookups!E:F,2,FALSE)&IF(E550<8,\"*\",\"\"),\"\")","v":""},"",""]
[null,null,"",null,null,null,null,{"$f":"IF(AND(A551<>\"\",B551<>\"\"),VLOOKUP(A551,Lookups!A:B,2,FALSE)&\"_\"&B551,\"\")","v":""},{"$f":"IF(AND(D551<>\"\",E551<>\"\"),VLOOKUP(D551,Lookups!E:F,2,FALSE)&IF(E551<8,\"*\",\"\"),\"\")","v":""},"",""]
[null,null,"",null,null,null,null,{"$f":"IF(AND(A552<>\"\",B552<>\"\"),VLOOKUP(A552,Lookups!A:B,2,FALSE)&\"_\"&B552,\"\")","v":""},{"$f":"IF(AND(D552<>\"\",E552<>\"\"),VLOOKUP(D552,Lookups!E:F,2,FALSE)&IF(E552<8,\"*\",\"\"),\"\")","v":""},"",""]
[null,null,"",null,null,null,null,{"$f":"IF(AND(A553<>\"\",B553<>\"\"),VLOOKUP(A553,Lookups!A:B,2,FALSE)&\"_\"&B553,\"\")","v":""},{"$f":"IF(AND(D553<>\"\",E553<>\"\"),VLOOKUP(D553,Lookups!E:F,2,FALSE)&IF(E553<8,\"*\",\"\"),\"\")","v":""},"",""]
[null,null,"",null,null,null,null,{"$f":"IF(AND(A554<>\"\",B554<>\"\"),VLOOKUP(A554,Lookups!A:B,2,FALSE)&\"_\"&B554,\"\")","v":""},{"$f":"IF(AND(D554<>\"\",E554<>\"\"),VLOOKUP(D554,Lookups!E:F,2,FALSE)&IF(E554<8,\"*\",\"\"),\"\")","v":""},"",""]
[null,null,"",null,null,null,null,{"$f":"IF(AND(A555<>\"\",B555<>\"\"),VLOOKUP(A555,Lookups!A:B,2,FALSE)&\"_\"&B555,\"\")","v":""},{"$f":"IF(AND(D555<>\"\",E555<>\"\"),VLOOKUP(D555,Lookups!E:F,2,FALSE)&IF(E555<8,\"*\",\"\"),\"\")","v":""},"",""]
[null,null,"",null,null,null,null,{"$f":"IF(AND(A556<>\"\",B556<>\"\"),VLOOKUP(A556,Lookups!A:B,2,FALSE)&\"_\"&B556,\"\")","v":""},{"$f":"IF(AND(D556<>\"\",E556<>\"\"),VLOOKUP(D556,Lookups!E:F,2,FALSE)&IF(E556<8,\"*\",\"\"),\"\")","v":""},"",""]
[null,null,"",null,null,null,null,{"$f":"IF(AND(A557<>\"\",B557<>\"\"),VLOOKUP(A557,Lookups!A:B,2,FALSE)&\"_\"&B557,\"\")","v":""},{"$f":"IF(AND(D557<>\"\",E557<>\"\"),VLOOKUP(D557,Lookups!E:F,2,FALSE)&IF(E557<8,\"*\",\"\"),\"\")","v":""},"",""]
[null,null,"",null,null,null,null,{"$f":"IF(AND(A558<>\"\",B558<>\"\"),VLOOKUP(A558,Lookups!A:B,2,FALSE)&\"_\"&B558,\"\")","v":""},{"$f":"IF(AND(D558<>\"\",E558<>\"\"),VLOOKUP(D558,Lookups!E:F,2,FALSE)&IF(E558<8,\"*\",\"\"),\"\")","v":""},"",""]
[null,null,"",null,null,null,null,{"$f":"IF(AND(A559<>\"\",B559<>\"\"),VLOOKUP(A559,Lookups!A:B,2,FALSE)&\"_\"&B559,\"\")","v":""},{"$f":"IF(AND(D559<>\"\",E559<>\"\"),VLOOKUP(D559,Lookups!E:F,2,FALSE)&IF(E559<8,\"*\",\"\"),\"\")","v":""},"",""]
[null,null,"",null,null,null,null,{"$f":"IF(AND(A560<>\"\",B560<>\"\"),VLOOKUP(A560,Lookups!A:B,2,FALSE)&\"_\"&B560,\"\")","v":""},{"$f":"IF(AND(D560<>\"\",E560<>\"\"),VLOOKUP(D560,Lookups!E:F,2,FALSE)&IF(E560<8,\"*\",\"\"),\"\")","v":""},"",""]
[null,null,"",null,null,null,null,{"$f":"IF(AND(A561<>\"\",B561<>\"\"),VLOOKUP(A561,Lookups!A:B,2,FALSE)&\"_\"&B561,\"\")","v":""},{"$f":"IF(AND(D561<>\"\",E561<>\"\"),VLOOKUP(D561,Lookups!E:F,2,FALSE)&IF(E561<8,\"*\",\"\"),\"\")","v":""},"",""]
[null,null,"",null,null,null,null,{"$f":"IF(AND(A562<>\"\",B562<>\"\"),VLOOKUP(A562,Lookups!A:B,2,FALSE)&\"_\"&B562,\"\")","v":""},{"$f":"IF(AND(D562<>\"\",E562<>\"\"),VLOOKUP(D562,Lookups!E:F,2,FALSE)&IF(E562<8,\"*\",\"\"),\"\")","v":""},"",""]
[null,null,"",null,null,null,null,{"$f":"IF(AND(A563<>\"\",B563<>\"\"),VLOOKUP(A563,Lookups!A:B,2,FALSE)&\"_\"&B563,\"\")","v":""},{"$f":"IF(AND(D563<>\"\",E563<>\"\"),VLOOKUP(D563,Lookups!E:F,2,FALSE)&IF(E563<8,\"*\",\"\"),\"\")","v":""},"",""]
[null,null,"",null,null,null,null,{"$f":"IF(AND(A564<>\"\",B564<>\"\"),VLOOKUP(A564,Lookups!A:B,2,FALSE)&\"_\"&B564,\"\")","v":""},{"$f":"IF(AND(D564<>\"\",E564<>\"\"),VLOOKUP(D564,Lookups!E:F,2,FALSE)&IF(E564<8,\"*\",\"\"),\"\")","v":""},"",""]
[null,null,"",null,null,null,null,{"$f":"IF(AND(A565<>\"\",B565<>\"\"),VLOOKUP(A565,Lookups!A:B,2,FALSE)&\"_\"&B565,\"\")","v":""},{"$f":"IF(AND(D565<>\"\",E565<>\"\"),VLOOKUP(D565,Lookups!E:F,2,FALSE)&IF(E565<8,\"*\",\"\"),\"\")","v":""},"",""]
[null,null,"",null,null,null,null,{"$f":"IF(AND(A566<>\"\",B566<>\"\"),VLOOKUP(A566,Lookups!A:B,2,FALSE)&\"_\"&B566,\"\")","v":""},{"$f":"IF(AND(D566<>\"\",E566<>\"\"),VLOOKUP(D566,Lookups!E:F,2,FALSE)&IF(E566<8,\"*\",\"\"),\"\")","v":""},"",""]
[null,null,"",null,null,null,null,{"$f":"IF(AND(A567<>\"\",B567<>\"\"),VLOOKUP(A567,Lookups!A:B,2,FALSE)&\"_\"&B567,\"\")","v":""},{"$f":"IF(AND(D567<>\"\",E567<>\"\"),VLOOKUP(D567,Lookups!E:F,2,FALSE)&IF(E567<8,\"*\",\"\"),\"\")","v":""},"",""]
[null,null,"",null,null,null,null,{"$f":"IF(AND(A568<>\"\",B568<>\"\"),VLOOKUP(A568,Lookups!A:B,2,FALSE)&\"_\"&B568,\"\")","v":""},{"$f":"IF(AND(D568<>\"\",E568<>\"\"),VLOOKUP(D568,Lookups!E:F,2,FALSE)&IF(E568<8,\"*\",\"\"),\"\")","v":""},"",""]
[null,null,"",null,null,null,null,{"$f":"IF(AND(A569<>\"\",B569<>\"\"),VLOOKUP(A569,Lookups!A:B,2,FALSE)&\"_\"&B569,\"\")","v":""},{"$f":"IF(AND(D569<>\"\",E569<>\"\"),VLOOKUP(D569,Lookups!E:F,2,FALSE)&IF(E569<8,\"*\",\"\"),\"\")","v":""},"",""]
[null,null,"",null,null,null,null,{"$f":"IF(AND(A570<>\"\",B570<>\"\"),VLOOKUP(A570,Lookups!A:B,2,FALSE)&\"_\"&B570,\"\")","v":""},{"$f":"IF(AND(D570<>\"\",E570<>\"\"),VLOOKUP(D570,Lookups!E:F,2,FALSE)&IF(E570<8,\"*\",\"\"),\"\")","v":""},"",""]
[null,null,{"$f":"IF(B571=\"\",\"\",TEXT(WEEKDAY(B571),\"aaaa\"))","v":""},null,null,null,null,{"$f":"IF(AND(A571<>\"\",B571<>\"\"),VLOOKUP(A571,Lookups!A:B,2,FALSE)&\"_\"&B571,\"\")","v":""},{"$f":"IF(AND(D571<>\"\",E571<>\"\"),VLOOKUP(D571,Lookups!E:F,2,FALSE)&IF(E571<8,\"*\",\"\"),\"\")","v":""},"",""]
[null,null,"",null,null,null,null,{"$f":"IF(AND(A572<>\"\",B572<>\"\"),VLOOKUP(A572,Lookups!A:B,2,FALSE)&\"_\"&B572,\"\")","v":""},{"$f":"IF(AND(D572<>\"\",E572<>\"\"),VLOOKUP(D572,Lookups!E:F,2,FALSE)&IF(E572<8,\"*\",\"\"),\"\")","v":""},"",""]
[null,null,"",null,null,null,null,{"$f":"IF(AND(A573<>\"\",B573<>\"\"),VLOOKUP(A573,Lookups!A:B,2,FALSE)&\"_\"&B573,\"\")","v":""},{"$f":"IF(AND(D573<>\"\",E573<>\"\"),VLOOKUP(D573,Lookups!E:F,2,FALSE)&IF(E573<8,\"*\",\"\"),\"\")","v":""},"",""]
[null,null,"",null,null,null,null,{"$f":"IF(AND(A574<>\"\",B574<>\"\"),VLOOKUP(A574,Lookups!A:B,2,FALSE)&\"_\"&B574,\"\")","v":""},{"$f":"IF(AND(D574<>\"\",E574<>\"\"),VLOOKUP(D574,Lookups!E:F,2,FALSE)&IF(E574<8,\"*\",\"\"),\"\")","v":""},"",""]
[null,null,"",null,null,null,null,{"$f":"IF(AND(A575<>\"\",B575<>\"\"),VLOOKUP(A575,Lookups!A:B,2,FALSE)&\"_\"&B575,\"\")","v":""},{"$f":"IF(AND(D575<>\"\",E575<>\"\"),VLOOKUP(D575,Lookups!E:F,2,FALSE)&IF(E575<8,\"*\",\"\"),\"\")","v":""},"",""]
[null,null,"",null,null,null,null,{"$f":"IF(AND(A576<>\"\",B576<>\"\"),VLOOKUP(A576,Lookups!A:B,2,FALSE)&\"_\"&B576,\"\")","v":""},{"$f":"IF(AND(D576<>\"\",E576<>\"\"),VLOOKUP(D576,Lookups!E:F,2,FALSE)&IF(E576<8,\"*\",\"\"),\"\")","v":""},"",""]
[null,null,"",null,null,null,null,{"$f":"IF(AND(A577<>\"\",B577<>\"\"),VLOOKUP(A577,Lookups!A:B,2,FALSE)&\"_\"&B577,\"\")","v":""},{"$f":"IF(AND(D577<>\"\",E577<>\"\"),VLOOKUP(D577,Lookups!E:F,2,FALSE)&IF(E577<8,\"*\",\"\"),\"\")","v":""},"",""]
[null,null,"",null,null,null,null,{"$f":"IF(AND(A578<>\"\",B578<>\"\"),VLOOKUP(A578,Lookups!A:B,2,FALSE)&\"_\"&B578,\"\")","v":""},{"$f":"IF(AND(D578<>\"\",E578<>\"\"),VLOOKUP(D578,Lookups!E:F,2,FALSE)&IF(E578<8,\"*\",\"\"),\"\")","v":""},"",""]
[null,null,"",null,null,null,null,{"$f":"IF(AND(A579<>\"\",B579<>\"\"),VLOOKUP(A579,Lookups!A:B,2,FALSE)&\"_\"&B579,\"\")","v":""},{"$f":"IF(AND(D579<>\"\",E579<>\"\"),VLOOKUP(D579,Lookups!E:F,2,FALSE)&IF(E579<8,\"*\",\"\"),\"\")","v":""},"",""]
[null,null,"",null,null,null,null,{"$f":"IF(AND(A580<>\"\",B580<>\"\"),VLOOKUP(A580,Lookups!A:B,2,FALSE)&\"_\"&B580,\"\")","v":""},{"$f":"IF(AND(D580<>\"\",E580<>\"\"),VLOOKUP(D580,Lookups!E:F,2,FALSE)&IF(E580<8,\"*\",\"\"),\"\")","v":""},"",""]
[null,null,"",null,null,null,null,{"$f":"IF(AND(A581<>\"\",B581<>\"\"),VLOOKUP(A581,Lookups!A:B,2,FALSE)&\"_\"&B581,\"\")","v":""},{"$f":"IF(AND(D581<>\"\",E581<>\"\"),VLOOKUP(D581,Lookups!E:F,2,FALSE)&IF(E581<8,\"*\",\"\"),\"\")","v":""},"",""]
[null,null,"",null,null,null,null,{"$f":"IF(AND(A582<>\"\",B582<>\"\"),VLOOKUP(A582,Lookups!A:B,2,FALSE)&\"_\"&B582,\"\")","v":""},{"$f":"IF(AND(D582<>\"\",E582<>\"\"),VLOOKUP(D582,Lookups!E:F,2,FALSE)&IF(E582<8,\"*\",\"\"),\"\")","v":""},"",""]
[null,null,"",null,null,null,null,{"$f":"IF(AND(A583<>\"\",B583<>\"\"),VLOOKUP(A583,Lookups!A:B,2,FALSE)&\"_\"&B583,\"\")","v":""},{"$f":"IF(AND(D583<>\"\",E583<>\"\"),VLOOKUP(D583,Lookups!E:F,2,FALSE)&IF(E583<8,\"*\",\"\"),\"\")","v":""},"",""]
[null,null,"",null,null,null,null,{"$f":"IF(AND(A584<>\"\",B584<>\"\"),VLOOKUP(A584,Lookups!A:B,2,FALSE)&\"_\"&B584,\"\")","v":""},{"$f":"IF(AND(D584<>\"\",E584<>\"\"),VLOOKUP(D584,Lookups!E:F,2,FALSE)&IF(E584<8,\"*\",\"\"),\"\")","v":""},"",""]
[null,null,"",null,null,null,null,{"$f":"IF(AND(A585<>\"\",B585<>\"\"),VLOOKUP(A585,Lookups!A:B,2,FALSE)&\"_\"&B585,\"\")","v":""},{"$f":"IF(AND(D585<>\"\",E585<>\"\"),VLOOKUP(D585,Lookups!E:F,2,FALSE)&IF(E585<8,\"*\",\"\"),\"\")","v":""},"",""]
[null,null,"",null,null,null,null,{"$f":"IF(AND(A586<>\"\",B586<>\"\"),VLOOKUP(A586,Lookups!A:B,2,FALSE)&\"_\"&B586,\"\")","v":""},{"$f":"IF(AND(D586<>\"\",E586<>\"\"),VLOOKUP(D586,Lookups!E:F,2,FALSE)&IF(E586<8,\"*\",\"\"),\"\")","v":""},"",""]
[null,null,"",null,null,null,null,{"$f":"IF(AND(A587<>\"\",B587<>\"\"),VLOOKUP(A587,Lookups!A:B,2,FALSE)&\"_\"&B587,\"\")","v":""},{"$f":"IF(AND(D587<>\"\",E587<>\"\"),VLOOKUP(D587,Lookups!E:F,2,FALSE)&IF(E587<8,\"*\",\"\"),\"\")","v":""},"",""]
[null,null,"",null,null,null,null,{"$f":"IF(AND(A588<>\"\",B588<>\"\"),VLOOKUP(A588,Lookups!A:B,2,FALSE)&\"_\"&B588,\"\")","v":""},{"$f":"IF(AND(D588<>\"\",E588<>\"\"),VLOOKUP(D588,Lookups!E:F,2,FALSE)&IF(E588<8,\"*\",\"\"),\"\")","v":""},"",""]
[null,null,"",null,null,null,null,{"$f":"IF(AND(A589<>\"\",B589<>\"\"),VLOOKUP(A589,Lookups!A:B,2,FALSE)&\"_\"&B589,\"\")","v":""},{"$f":"IF(AND(D589<>\"\",E589<>\"\"),VLOOKUP(D589,Lookups!E:F,2,FALSE)&IF(E589<8,\"*\",\"\"),\"\")","v":""},"",""]
[null,null,"",null,null,null,null,{"$f":"IF(AND(A590<>\"\",B590<>\"\"),VLOOKUP(A590,Lookups!A:B,2,FALSE)&\"_\"&B590,\"\")","v":""},{"$f":"IF(AND(D590<>\"\",E590<>\"\"),VLOOKUP(D590,Lookups!E:F,2,FALSE)&IF(E590<8,\"*\",\"\"),\"\")","v":""},"",""]
[null,null,"",null,null,null,null,{"$f":"IF(AND(A591<>\"\",B591<>\"\"),VLOOKUP(A591,Lookups!A:B,2,FALSE)&\"_\"&B591,\"\")","v":""},{"$f":"IF(AND(D591<>\"\",E591<>\"\"),VLOOKUP(D591,Lookups!E:F,2,FALSE)&IF(E591<8,\"*\",\"\"),\"\")","v":""},"",""]
[null,null,"",null,null,null,null,{"$f":"IF(AND(A592<>\"\",B592<>\"\"),VLOOKUP(A592,Lookups!A:B,2,FALSE)&\"_\"&B592,\"\")","v":""},{"$f":"IF(AND(D592<>\"\",E592<>\"\"),VLOOKUP(D592,Lookups!E:F,2,FALSE)&IF(E592<8,\"*\",\"\"),\"\")","v":""},"",""]
[null,null,"",null,null,null,null,{"$f":"IF(AND(A593<>\"\",B593<>\"\"),VLOOKUP(A593,Lookups!A:B,2,FALSE)&\"_\"&B593,\"\")","v":""},{"$f":"IF(AND(D593<>\"\",E593<>\"\"),VLOOKUP(D593,Lookups!E:F,2,FALSE)&IF(E593<8,\"*\",\"\"),\"\")","v":""},"",""]
[null,null,"",null,null,null,null,{"$f":"IF(AND(A594<>\"\",B594<>\"\"),VLOOKUP(A594,Lookups!A:B,2,FALSE)&\"_\"&B594,\"\")","v":""},{"$f":"IF(AND(D594<>\"\",E594<>\"\"),VLOOKUP(D594,Lookups!E:F,2,FALSE)&IF(E594<8,\"*\",\"\"),\"\")","v":""},"",""]
[null,null,"",null,null,null,null,{"$f":"IF(AND(A595<>\"\",B595<>\"\"),VLOOKUP(A595,Lookups!A:B,2,FALSE)&\"_\"&B595,\"\")","v":""},{"$f":"IF(AND(D595<>\"\",E595<>\"\"),VLOOKUP(D595,Lookups!E:F,2,FALSE)&IF(E595<8,\"*\",\"\"),\"\")","v":""},"",""]
[null,null,"",null,null,null,null,{"$f":"IF(AND(A596<>\"\",B596<>\"\"),VLOOKUP(A596,Lookups!A:B,2,FALSE)&\"_\"&B596,\"\")","v":""},{"$f":"IF(AND(D596<>\"\",E596<>\"\"),VLOOKUP(D596,Lookups!E:F,2,FALSE)&IF(E596<8,\"*\",\"\"),\"\")","v":""},"",""]
[null,null,"",null,null,null,null,{"$f":"IF(AND(A597<>\"\",B597<>\"\"),VLOOKUP(A597,Lookups!A:B,2,FALSE)&\"_\"&B597,\"\")","v":""},{"$f":"IF(AND(D597<>\"\",E597<>\"\"),VLOOKUP(D597,Lookups!E:F,2,FALSE)&IF(E597<8,\"*\",\"\"),\"\")","v":""},"",""]
[null,null,"",null,null,null,null,{"$f":"IF(AND(A598<>\"\",B598<>\"\"),VLOOKUP(A598,Lookups!A:B,2,FALSE)&\"_\"&B598,\"\")","v":""},{"$f":"IF(AND(D598<>\"\",E598<>\"\"),VLOOKUP(D598,Lookups!E:F,2,FALSE)&IF(E598<8,\"*\",\"\"),\"\")","v":""},"",""]
[null,null,"",null,null,null,null,{"$f":"IF(AND(A599<>\"\",B599<>\"\"),VLOOKUP(A599,Lookups!A:B,2,FALSE)&\"_\"&B599,\"\")","v":""},{"$f":"IF(AND(D599<>\"\",E599<>\"\"),VLOOKUP(D599,Lookups!E:F,2,FALSE)&IF(E599<8,\"*\",\"\"),\"\")","v":""},"",""]
[null,null,"",null,null,null,null,{"$f":"IF(AND(A600<>\"\",B600<>\"\"),VLOOKUP(A600,Lookups!A:B,2,FALSE)&\"_\"&B600,\"\")","v":""},{"$f":"IF(AND(D600<>\"\",E600<>\"\"),VLOOKUP(D600,Lookups!E:F,2,FALSE)&IF(E600<8,\"*\",\"\"),\"\")","v":""},"",""]
[null,null,"",null,null,null,null,{"$f":"IF(AND(A601<>\"\",B601<>\"\"),VLOOKUP(A601,Lookups!A:B,2,FALSE)&\"_\"&B601,\"\")","v":""},{"$f":"IF(AND(D601<>\"\",E601<>\"\"),VLOOKUP(D601,Lookups!E:F,2,FALSE)&IF(E601<8,\"*\",\"\"),\"\")","v":""},"",""]
[null,null,"",null,null,null,null,{"$f":"IF(AND(A602<>\"\",B602<>\"\"),VLOOKUP(A602,Lookups!A:B,2,FALSE)&\"_\"&B602,\"\")","v":""},{"$f":"IF(AND(D602<>\"\",E602<>\"\"),VLOOKUP(D602,Lookups!E:F,2,FALSE)&IF(E602<8,\"*\",\"\"),\"\")","v":""},"",""]
[null,null,"",null,null,null,null,{"$f":"IF(AND(A603<>\"\",B603<>\"\"),VLOOKUP(A603,Lookups!A:B,2,FALSE)&\"_\"&B603,\"\")","v":""},{"$f":"IF(AND(D603<>\"\",E603<>\"\"),VLOOKUP(D603,Lookups!E:F,2,FALSE)&IF(E603<8,\"*\",\"\"),\"\")","v":""},"",""]
[null,null,"",null,null,null,null,{"$f":"IF(AND(A604<>\"\",B604<>\"\"),VLOOKUP(A604,Lookups!A:B,2,FALSE)&\"_\"&B604,\"\")","v":""},{"$f":"IF(AND(D604<>\"\",E604<>\"\"),VLOOKUP(D604,Lookups!E:F,2,FALSE)&IF(E604<8,\"*\",\"\"),\"\")","v":""},"",""]
[null,null,"",null,null,null,null,{"$f":"IF(AND(A605<>\"\",B605<>\"\"),VLOOKUP(A605,Lookups!A:B,2,FALSE)&\"_\"&B605,\"\")","v":""},{"$f":"IF(AND(D605<>\"\",E605<>\"\"),VLOOKUP(D605,Lookups!E:F,2,FALSE)&IF(E605<8,\"*\",\"\"),\"\")","v":""},"",""]
[null,null,"",null,null,null,null,{"$f":"IF(AND(A606<>\"\",B606<>\"\"),VLOOKUP(A606,Lookups!A:B,2,FALSE)&\"_\"&B606,\"\")","v":""},{"$f":"IF(AND(D606<>\"\",E606<>\"\"),VLOOKUP(D606,Lookups!E:F,2,FALSE)&IF(E606<8,\"*\",\"\"),\"\")","v":""},"",""]
[null,null,"",null,null,null,null,{"$f":"IF(AND(A607<>\"\",B607<>\"\"),VLOOKUP(A607,Lookups!A:B,2,FALSE)&\"_\"&B607,\"\")","v":""},{"$f":"IF(AND(D607<>\"\",E607<>\"\"),VLOOKUP(D607,Lookups!E:F,2,FALSE)&IF(E607<8,\"*\",\"\"),\"\")","v":""},"",""]
[null,null,"",null,null,null,null,{"$f":"IF(AND(A608<>\"\",B608<>\"\"),VLOOKUP(A608,Lookups!A:B,2,FALSE)&\"_\"&B608,\"\")","v":""},{"$f":"IF(AND(D608<>\"\",E608<>\"\"),VLOOKUP(D608,Lookups!E:F,2,FALSE)&IF(E608<8,\"*\",\"\"),\"\")","v":""},{"$f":"IF(F608=\"\",\"\",F608)","v":""},{"$f":"IF(G608=\"\",\"\",G608)","v":""}]
[null,null,"",null,null,null,null,{"$f":"IF(AND(A609<>\"\",B609<>\"\"),VLOOKUP(A609,Lookups!A:B,2,FALSE)&\"_\"&B609,\"\")","v":""},{"$f":"IF(AND(D609<>\"\",E609<>\"\"),VLOOKUP(D609,Lookups!E:F,2,FALSE)&IF(E609<8,\"*\",\"\"),\"\")","v":""},"",""]
[null,null,"",null,null,null,null,{"$f":"IF(AND(A610<>\"\",B610<>\"\"),VLOOKUP(A610,Lookups!A:B,2,FALSE)&\"_\"&B610,\"\")","v":""},{"$f":"IF(AND(D610<>\"\",E610<>\"\"),VLOOKUP(D610,Lookups!E:F,2,FALSE)&IF(E610<8,\"*\",\"\"),\"\")","v":""},"",""]
[null,null,"",null,null,null,null,{"$f":"IF(AND(A611<>\"\",B611<>\"\"),VLOOKUP(A611,Lookups!A:B,2,FALSE)&\"_\"&B611,\"\")","v":""},{"$f":"IF(AND(D611<>\"\",E611<>\"\"),VLOOKUP(D611,Lookups!E:F,2,FALSE)&IF(E611<8,\"*\",\"\"),\"\")","v":""},"",""]
[null,null,"",null,null,null,null,{"$f":"IF(AND(A612<>\"\",B612<>\"\"),VLOOKUP(A612,Lookups!A:B,2,FALSE)&\"_\"&B612,\"\")","v":""},{"$f":"IF(AND(D612<>\"\",E612<>\"\"),VLOOKUP(D612,Lookups!E:F,2,FALSE)&IF(E612<8,\"*\",\"\"),\"\")","v":""},"",""]
[null,null,"",null,null,null,null,{"$f":"IF(AND(A613<>\"\",B613<>\"\"),VLOOKUP(A613,Lookups!A:B,2,FALSE)&\"_\"&B613,\"\")","v":""},{"$f":"IF(AND(D613<>\"\",E613<>\"\"),VLOOKUP(D613,Lookups!E:F,2,FALSE)&IF(E613<8,\"*\",\"\"),\"\")","v":""},"",""]
[null,null,"",null,null,null,null,{"$f":"IF(AND(A614<>\"\",B614<>\"\"),VLOOKUP(A614,Lookups!A:B,2,FALSE)&\"_\"&B614,\"\")","v":""},{"$f":"IF(AND(D614<>\"\",E614<>\"\"),VLOOKUP(D614,Lookups!E:F,2,FALSE)&IF(E614<8,\"*\",\"\"),\"\")","v":""},"",""]
[null,null,"",null,null,null,null,{"$f":"IF(AND(A615<>\"\",B615<>\"\"),VLOOKUP(A615,Lookups!A:B,2,FALSE)&\"_\"&B615,\"\")","v":""},{"$f":"IF(AND(D615<>\"\",E615<>\"\"),VLOOKUP(D615,Lookups!E:F,2,FALSE)&IF(E615<8,\"*\",\"\"),\"\")","v":""},"",""]
[null,null,"",null,null,null,null,{"$f":"IF(AND(A616<>\"\",B616<>\"\"),VLOOKUP(A616,Lookups!A:B,2,FALSE)&\"_\"&B616,\"\")","v":""},{"$f":"IF(AND(D616<>\"\",E616<>\"\"),VLOOKUP(D616,Lookups!E:F,2,FALSE)&IF(E616<8,\"*\",\"\"),\"\")","v":""},"",""]
[null,null,"",null,null,null,null,{"$f":"IF(AND(A617<>\"\",B617<>\"\"),VLOOKUP(A617,Lookups!A:B,2,FALSE)&\"_\"&B617,\"\")","v":""},{"$f":"IF(AND(D617<>\"\",E617<>\"\"),VLOOKUP(D617,Lookups!E:F,2,FALSE)&IF(E617<8,\"*\",\"\"),\"\")","v":""},"",""]
[null,null,"",null,null,null,null,{"$f":"IF(AND(A618<>\"\",B618<>\"\"),VLOOKUP(A618,Lookups!A:B,2,FALSE)&\"_\"&B618,\"\")","v":""},{"$f":"IF(AND(D618<>\"\",E618<>\"\"),VLOOKUP(D618,Lookups!E:F,2,FALSE)&IF(E618<8,\"*\",\"\"),\"\")","v":""},"",""]
[null,null,"",null,null,null,null,{"$f":"IF(AND(A619<>\"\",B619<>\"\"),VLOOKUP(A619,Lookups!A:B,2,FALSE)&\"_\"&B619,\"\")","v":""},{"$f":"IF(AND(D619<>\"\",E619<>\"\"),VLOOKUP(D619,Lookups!E:F,2,FALSE)&IF(E619<8,\"*\",\"\"),\"\")","v":""},"",""]
[null,null,"",null,null,null,null,{"$f":"IF(AND(A620<>\"\",B620<>\"\"),VLOOKUP(A620,Lookups!A:B,2,FALSE)&\"_\"&B620,\"\")","v":""},{"$f":"IF(AND(D620<>\"\",E620<>\"\"),VLOOKUP(D620,Lookups!E:F,2,FALSE)&IF(E620<8,\"*\",\"\"),\"\")","v":""},"",""]
[null,null,"",null,null,null,null,{"$f":"IF(AND(A621<>\"\",B621<>\"\"),VLOOKUP(A621,Lookups!A:B,2,FALSE)&\"_\"&B621,\"\")","v":""},{"$f":"IF(AND(D621<>\"\",E621<>\"\"),VLOOKUP(D621,Lookups!E:F,2,FALSE)&IF(E621<8,\"*\",\"\"),\"\")","v":""},"",""]
[null,null,"",null,null,null,null,{"$f":"IF(AND(A622<>\"\",B622<>\"\"),VLOOKUP(A622,Lookups!A:B,2,FALSE)&\"_\"&B622,\"\")","v":""},{"$f":"IF(AND(D622<>\"\",E622<>\"\"),VLOOKUP(D622,Lookups!E:F,2,FALSE)&IF(E622<8,\"*\",\"\"),\"\")","v":""},"",""]
[null,null,"",null,null,null,null,{"$f":"IF(AND(A623<>\"\",B623<>\"\"),VLOOKUP(A623,Lookups!A:B,2,FALSE)&\"_\"&B623,\"\")","v":""},{"$f":"IF(AND(D623<>\"\",E623<>\"\"),VLOOKUP(D623,Lookups!E:F,2,FALSE)&IF(E623<8,\"*\",\"\"),\"\")","v":""},"",""]
[null,null,"",null,null,null,null,{"$f":"IF(AND(A624<>\"\",B624<>\"\"),VLOOKUP(A624,Lookups!A:B,2,FALSE)&\"_\"&B624,\"\")","v":""},{"$f":"IF(AND(D624<>\"\",E624<>\"\"),VLOOKUP(D624,Lookups!E:F,2,FALSE)&IF(E624<8,\"*\",\"\"),\"\")","v":""},"",""]
[null,null,"",null,null,null,null,{"$f":"IF(AND(A625<>\"\",B625<>\"\"),VLOOKUP(A625,Lookups!A:B,2,FALSE)&\"_\"&B625,\"\")","v":""},{"$f":"IF(AND(D625<>\"\",E625<>\"\"),VLOOKUP(D625,Lookups!E:F,2,FALSE)&IF(E625<8,\"*\",\"\"),\"\")","v":""},"",""]
[null,null,"",null,null,null,null,{"$f":"IF(AND(A626<>\"\",B626<>\"\"),VLOOKUP(A626,Lookups!A:B,2,FALSE)&\"_\"&B626,\"\")","v":""},{"$f":"IF(AND(D626<>\"\",E626<>\"\"),VLOOKUP(D626,Lookups!E:F,2,FALSE)&IF(E626<8,\"*\",\"\"),\"\")","v":""},"",""]
[null,null,"",null,null,null,null,{"$f":"IF(AND(A627<>\"\",B627<>\"\"),VLOOKUP(A627,Lookups!A:B,2,FALSE)&\"_\"&B627,\"\")","v":""},{"$f":"IF(AND(D627<>\"\",E627<>\"\"),VLOOKUP(D627,Lookups!E:F,2,FALSE)&IF(E627<8,\"*\",\"\"),\"\")","v":""},"",""]
[null,null,"",null,null,null,null,{"$f":"IF(AND(A628<>\"\",B628<>\"\"),VLOOKUP(A628,Lookups!A:B,2,FALSE)&\"_\"&B628,\"\")","v":""},{"$f":"IF(AND(D628<>\"\",E628<>\"\"),VLOOKUP(D628,Lookups!E:F,2,FALSE)&IF(E628<8,\"*\",\"\"),\"\")","v":""},"",""]
[null,null,"",null,null,null,null,{"$f":"IF(AND(A629<>\"\",B629<>\"\"),VLOOKUP(A629,Lookups!A:B,2,FALSE)&\"_\"&B629,\"\")","v":""},{"$f":"IF(AND(D629<>\"\",E629<>\"\"),VLOOKUP(D629,Lookups!E:F,2,FALSE)&IF(E629<8,\"*\",\"\"),\"\")","v":""},"",""]
[null,null,"",null,null,null,null,{"$f":"IF(AND(A630<>\"\",B630<>\"\"),VLOOKUP(A630,Lookups!A:B,2,FALSE)&\"_\"&B630,\"\")","v":""},{"$f":"IF(AND(D630<>\"\",E630<>\"\"),VLOOKUP(D630,Lookups!E:F,2,FALSE)&IF(E630<8,\"*\",\"\"),\"\")","v":""},"",""]
[null,null,"",null,null,null,null,{"$f":"IF(AND(A631<>\"\",B631<>\"\"),VLOOKUP(A631,Lookups!A:B,2,FALSE)&\"_\"&B631,\"\")","v":""},{"$f":"IF(AND(D631<>\"\",E631<>\"\"),VLOOKUP(D631,Lookups!E:F,2,FALSE)&IF(E631<8,\"*\",\"\"),\"\")","v":""},"",""]
[null,null,"",null,null,null,null,{"$f":"IF(AND(A632<>\"\",B632<>\"\"),VLOOKUP(A632,Lookups!A:B,2,FALSE)&\"_\"&B632,\"\")","v":""},{"$f":"IF(AND(D632<>\"\",E632<>\"\"),VLOOKUP(D632,Lookups!E:F,2,FALSE)&IF(E632<8,\"*\",\"\"),\"\")","v":""},"",""]
[null,null,"",null,null,null,null,{"$f":"IF(AND(A633<>\"\",B633<>\"\"),VLOOKUP(A633,Lookups!A:B,2,FALSE)&\"_\"&B633,\"\")","v":""},{"$f":"IF(AND(D633<>\"\",E633<>\"\"),VLOOKUP(D633,Lookups!E:F,2,FALSE)&IF(E633<8,\"*\",\"\"),\"\")","v":""},"",""]
[null,null,"",null,null,null,null,{"$f":"IF(AND(A634<>\"\",B634<>\"\"),VLOOKUP(A634,Lookups!A:B,2,FALSE)&\"_\"&B634,\"\")","v":""},{"$f":"IF(AND(D634<>\"\",E634<>\"\"),VLOOKUP(D634,Lookups!E:F,2,FALSE)&IF(E634<8,\"*\",\"\"),\"\")","v":""},"",""]
[null,null,{"$f":"IF(B635=\"\",\"\",TEXT(WEEKDAY(B635),\"aaaa\"))","v":""},null,null,null,null,{"$f":"IF(AND(A635<>\"\",B635<>\"\"),VLOOKUP(A635,Lookups!A:B,2,FALSE)&\"_\"&B635,\"\")","v":""},{"$f":"IF(AND(D635<>\"\",E635<>\"\"),VLOOKUP(D635,Lookups!E:F,2,FALSE)&IF(E635<8,\"*\",\"\"),\"\")","v":""},"",""]
[null,null,"",null,null,null,null,{"$f":"IF(AND(A636<>\"\",B636<>\"\"),VLOOKUP(A636,Lookups!A:B,2,FALSE)&\"_\"&B636,\"\")","v":""},{"$f":"IF(AND(D636<>\"\",E636<>\"\"),VLOOKUP(D636,Lookups!E:F,2,FALSE)&IF(E636<8,\"*\",\"\"),\"\")","v":""},"",""]
[null,null,"",null,null,null,null,{"$f":"IF(AND(A637<>\"\",B637<>\"\"),VLOOKUP(A637,Lookups!A:B,2,FALSE)&\"_\"&B637,\"\")","v":""},{"$f":"IF(AND(D637<>\"\",E637<>\"\"),VLOOKUP(D637,Lookups!E:F,2,FALSE)&IF(E637<8,\"*\",\"\"),\"\")","v":""},"",""]
[null,null,"",null,null,null,null,{"$f":"IF(AND(A638<>\"\",B638<>\"\"),VLOOKUP(A638,Lookups!A:B,2,FALSE)&\"_\"&B638,\"\")","v":""},{"$f":"IF(AND(D638<>\"\",E638<>\"\"),VLOOKUP(D638,Lookups!E:F,2,FALSE)&IF(E638<8,\"*\",\"\"),\"\")","v":""},"",""]
[null,null,"",null,null,null,null,{"$f":"IF(AND(A639<>\"\",B639<>\"\"),VLOOKUP(A639,Lookups!A:B,2,FALSE)&\"_\"&B639,\"\")","v":""},{"$f":"IF(AND(D639<>\"\",E639<>\"\"),VLOOKUP(D639,Lookups!E:F,2,FALSE)&IF(E639<8,\"*\",\"\"),\"\")","v":""},"",""]
[null,null,"",null,null,null,null,{"$f":"IF(AND(A640<>\"\",B640<>\"\"),VLOOKUP(A640,Lookups!A:B,2,FALSE)&\"_\"&B640,\"\")","v":""},{"$f":"IF(AND(D640<>\"\",E640<>\"\"),VLOOKUP(D640,Lookups!E:F,2,FALSE)&IF(E640<8,\"*\",\"\"),\"\")","v":""},"",""]
[null,null,"",null,null,null,null,{"$f":"IF(AND(A641<>\"\",B641<>\"\"),VLOOKUP(A641,Lookups!A:B,2,FALSE)&\"_\"&B641,\"\")","v":""},{"$f":"IF(AND(D641<>\"\",E641<>\"\"),VLOOKUP(D641,Lookups!E:F,2,FALSE)&IF(E641<8,\"*\",\"\"),\"\")","v":""},"",""]
[null,null,"",null,null,null,null,{"$f":"IF(AND(A642<>\"\",B642<>\"\"),VLOOKUP(A642,Lookups!A:B,2,FALSE)&\"_\"&B642,\"\")","v":""},{"$f":"IF(AND(D642<>\"\",E642<>\"\"),VLOOKUP(D642,Lookups!E:F,2,FALSE)&IF(E642<8,\"*\",\"\"),\"\")","v":""},"",""]
[null,null,"",null,null,null,null,{"$f":"IF(AND(A643<>\"\",B643<>\"\"),VLOOKUP(A643,Lookups!A:B,2,FALSE)&\"_\"&B643,\"\")","v":""},{"$f":"IF(AND(D643<>\"\",E643<>\"\"),VLOOKUP(D643,Lookups!E:F,2,FALSE)&IF(E643<8,\"*\",\"\"),\"\")","v":""},"",""]
[null,null,"",null,null,null,null,{"$f":"IF(AND(A644<>\"\",B644<>\"\"),VLOOKUP(A644,Lookups!A:B,2,FALSE)&\"_\"&B644,\"\")","v":""},{"$f":"IF(AND(D644<>\"\",E644<>\"\"),VLOOKUP(D644,Lookups!E:F,2,FALSE)&IF(E644<8,\"*\",\"\"),\"\")","v":""},"",""]
[null,null,"",null,null,null,null,{"$f":"IF(AND(A645<>\"\",B645<>\"\"),VLOOKUP(A645,Lookups!A:B,2,FALSE)&\"_\"&B645,\"\")","v":""},{"$f":"IF(AND(D645<>\"\",E645<>\"\"),VLOOKUP(D645,Lookups!E:F,2,FALSE)&IF(E645<8,\"*\",\"\"),\"\")","v":""},"",""]
[null,null,"",null,null,null,null,{"$f":"IF(AND(A646<>\"\",B646<>\"\"),VLOOKUP(A646,Lookups!A:B,2,FALSE)&\"_\"&B646,\"\")","v":""},{"$f":"IF(AND(D646<>\"\",E646<>\"\"),VLOOKUP(D646,Lookups!E:F,2,FALSE)&IF(E646<8,\"*\",\"\"),\"\")","v":""},"",""]
[null,null,"",null,null,null,null,{"$f":"IF(AND(A647<>\"\",B647<>\"\"),VLOOKUP(A647,Lookups!A:B,2,FALSE)&\"_\"&B647,\"\")","v":""},{"$f":"IF(AND(D647<>\"\",E647<>\"\"),VLOOKUP(D647,Lookups!E:F,2,FALSE)&IF(E647<8,\"*\",\"\"),\"\")","v":""},"",""]
[null,null,"",null,null,null,null,{"$f":"IF(AND(A648<>\"\",B648<>\"\"),VLOOKUP(A648,Lookups!A:B,2,FALSE)&\"_\"&B648,\"\")","v":""},{"$f":"IF(AND(D648<>\"\",E648<>\"\"),VLOOKUP(D648,Lookups!E:F,2,FALSE)&IF(E648<8,\"*\",\"\"),\"\")","v":""},"",""]
[null,null,"",null,null,null,null,{"$f":"IF(AND(A649<>\"\",B649<>\"\"),VLOOKUP(A649,Lookups!A:B,2,FALSE)&\"_\"&B649,\"\")","v":""},{"$f":"IF(AND(D649<>\"\",E649<>\"\"),VLOOKUP(D649,Lookups!E:F,2,FALSE)&IF(E649<8,\"*\",\"\"),\"\")","v":""},"",""]
[null,null,"",null,null,null,null,{"$f":"IF(AND(A650<>\"\",B650<>\"\"),VLOOKUP(A650,Lookups!A:B,2,FALSE)&\"_\"&B650,\"\")","v":""},{"$f":"IF(AND(D650<>\"\",E650<>\"\"),VLOOKUP(D650,Lookups!E:F,2,FALSE)&IF(E650<8,\"*\",\"\"),\"\")","v":""},"",""]
[null,null,"",null,null,null,null,{"$f":"IF(AND(A651<>\"\",B651<>\"\"),VLOOKUP(A651,Lookups!A:B,2,FALSE)&\"_\"&B651,\"\")","v":""},{"$f":"IF(AND(D651<>\"\",E651<>\"\"),VLOOKUP(D651,Lookups!E:F,2,FALSE)&IF(E651<8,\"*\",\"\"),\"\")","v":""},"",""]
[null,null,"",null,null,null,null,{"$f":"IF(AND(A652<>\"\",B652<>\"\"),VLOOKUP(A652,Lookups!A:B,2,FALSE)&\"_\"&B652,\"\")","v":""},{"$f":"IF(AND(D652<>\"\",E652<>\"\"),VLOOKUP(D652,Lookups!E:F,2,FALSE)&IF(E652<8,\"*\",\"\"),\"\")","v":""},"",""]
[null,null,"",null,null,null,null,{"$f":"IF(AND(A653<>\"\",B653<>\"\"),VLOOKUP(A653,Lookups!A:B,2,FALSE)&\"_\"&B653,\"\")","v":""},{"$f":"IF(AND(D653<>\"\",E653<>\"\"),VLOOKUP(D653,Lookups!E:F,2,FALSE)&IF(E653<8,\"*\",\"\"),\"\")","v":""},"",""]
[null,null,"",null,null,null,null,{"$f":"IF(AND(A654<>\"\",B654<>\"\"),VLOOKUP(A654,Lookups!A:B,2,FALSE)&\"_\"&B654,\"\")","v":""},{"$f":"IF(AND(D654<>\"\",E654<>\"\"),VLOOKUP(D654,Lookups!E:F,2,FALSE)&IF(E654<8,\"*\",\"\"),\"\")","v":""},"",""]
[null,null,"",null,null,null,null,{"$f":"IF(AND(A655<>\"\",B655<>\"\"),VLOOKUP(A655,Lookups!A:B,2,FALSE)&\"_\"&B655,\"\")","v":""},{"$f":"IF(AND(D655<>\"\",E655<>\"\"),VLOOKUP(D655,Lookups!E:F,2,FALSE)&IF(E655<8,\"*\",\"\"),\"\")","v":""},"",""]
[null,null,"",null,null,null,null,{"$f":"IF(AND(A656<>\"\",B656<>\"\"),VLOOKUP(A656,Lookups!A:B,2,FALSE)&\"_\"&B656,\"\")","v":""},{"$f":"IF(AND(D656<>\"\",E656<>\"\"),VLOOKUP(D656,Lookups!E:F,2,FALSE)&IF(E656<8,\"*\",\"\"),\"\")","v":""},"",""]
[null,null,"",null,null,null,null,{"$f":"IF(AND(A657<>\"\",B657<>\"\"),VLOOKUP(A657,Lookups!A:B,2,FALSE)&\"_\"&B657,\"\")","v":""},{"$f":"IF(AND(D657<>\"\",E657<>\"\"),VLOOKUP(D657,Lookups!E:F,2,FALSE)&IF(E657<8,\"*\",\"\"),\"\")","v":""},"",""]
[null,null,"",null,null,null,null,{"$f":"IF(AND(A658<>\"\",B658<>\"\"),VLOOKUP(A658,Lookups!A:B,2,FALSE)&\"_\"&B658,\"\")","v":""},{"$f":"IF(AND(D658<>\"\",E658<>\"\"),VLOOKUP(D658,Lookups!E:F,2,FALSE)&IF(E658<8,\"*\",\"\"),\"\")","v":""},"",""]
[null,null,"",null,null,null,null,{"$f":"IF(AND(A659<>\"\",B659<>\"\"),VLOOKUP(A659,Lookups!A:B,2,FALSE)&\"_\"&B659,\"\")","v":""},{"$f":"IF(AND(D659<>\"\",E659<>\"\"),VLOOKUP(D659,Lookups!E:F,2,FALSE)&IF(E659<8,\"*\",\"\"),\"\")","v":""},"",""]
[null,null,"",null,null,null,null,{"$f":"IF(AND(A660<>\"\",B660<>\"\"),VLOOKUP(A660,Lookups!A:B,2,FALSE)&\"_\"&B660,\"\")","v":""},{"$f":"IF(AND(D660<>\"\",E660<>\"\"),VLOOKUP(D660,Lookups!E:F,2,FALSE)&IF(E660<8,\"*\",\"\"),\"\")","v":""},"",""]
[null,null,"",null,null,null,null,{"$f":"IF(AND(A661<>\"\",B661<>\"\"),VLOOKUP(A661,Lookups!A:B,2,FALSE)&\"_\"&B661,\"\")","v":""},{"$f":"IF(AND(D661<>\"\",E661<>\"\"),VLOOKUP(D661,Lookups!E:F,2,FALSE)&IF(E661<8,\"*\",\"\"),\"\")","v":""},"",""]
[null,null,"",null,null,null,null,{"$f":"IF(AND(A662<>\"\",B662<>\"\"),VLOOKUP(A662,Lookups!A:B,2,FALSE)&\"_\"&B662,\"\")","v":""},{"$f":"IF(AND(D662<>\"\",E662<>\"\"),VLOOKUP(D662,Lookups!E:F,2,FALSE)&IF(E662<8,\"*\",\"\"),\"\")","v":""},"",""]
[null,null,"",null,null,null,null,{"$f":"IF(AND(A663<>\"\",B663<>\"\"),VLOOKUP(A663,Lookups!A:B,2,FALSE)&\"_\"&B663,\"\")","v":""},{"$f":"IF(AND(D663<>\"\",E663<>\"\"),VLOOKUP(D663,Lookups!E:F,2,FALSE)&IF(E663<8,\"*\",\"\"),\"\")","v":""},"",""]
[null,null,"",null,null,null,null,{"$f":"IF(AND(A664<>\"\",B664<>\"\"),VLOOKUP(A664,Lookups!A:B,2,FALSE)&\"_\"&B664,\"\")","v":""},{"$f":"IF(AND(D664<>\"\",E664<>\"\"),VLOOKUP(D664,Lookups!E:F,2,FALSE)&IF(E664<8,\"*\",\"\"),\"\")","v":""},"",""]
[null,null,"",null,null,null,null,{"$f":"IF(AND(A665<>\"\",B665<>\"\"),VLOOKUP(A665,Lookups!A:B,2,FALSE)&\"_\"&B665,\"\")","v":""},{"$f":"IF(AND(D665<>\"\",E665<>\"\"),VLOOKUP(D665,Lookups!E:F,2,FALSE)&IF(E665<8,\"*\",\"\"),\"\")","v":""},"",""]
[null,null,"",null,null,null,null,{"$f":"IF(AND(A666<>\"\",B666<>\"\"),VLOOKUP(A666,Lookups!A:B,2,FALSE)&\"_\"&B666,\"\")","v":""},{"$f":"IF(AND(D666<>\"\",E666<>\"\"),VLOOKUP(D666,Lookups!E:F,2,FALSE)&IF(E666<8,\"*\",\"\"),\"\")","v":""},"",""]
[null,null,"",null,null,null,null,{"$f":"IF(AND(A667<>\"\",B667<>\"\"),VLOOKUP(A667,Lookups!A:B,2,FALSE)&\"_\"&B667,\"\")","v":""},{"$f":"IF(AND(D667<>\"\",E667<>\"\"),VLOOKUP(D667,Lookups!E:F,2,FALSE)&IF(E667<8,\"*\",\"\"),\"\")","v":""},"",""]
[null,null,"",null,null,null,null,{"$f":"IF(AND(A668<>\"\",B668<>\"\"),VLOOKUP(A668,Lookups!A:B,2,FALSE)&\"_\"&B668,\"\")","v":""},{"$f":"IF(AND(D668<>\"\",E668<>\"\"),VLOOKUP(D668,Lookups!E:F,2,FALSE)&IF(E668<8,\"*\",\"\"),\"\")","v":""},"",""]
[null,null,"",null,null,null,null,{"$f":"IF(AND(A669<>\"\",B669<>\"\"),VLOOKUP(A669,Lookups!A:B,2,FALSE)&\"_\"&B669,\"\")","v":""},{"$f":"IF(AND(D669<>\"\",E669<>\"\"),VLOOKUP(D669,Lookups!E:F,2,FALSE)&IF(E669<8,\"*\",\"\"),\"\")","v":""},"",""]
[null,null,"",null,null,null,null,{"$f":"IF(AND(A670<>\"\",B670<>\"\"),VLOOKUP(A670,Lookups!A:B,2,FALSE)&\"_\"&B670,\"\")","v":""},{"$f":"IF(AND(D670<>\"\",E670<>\"\"),VLOOKUP(D670,Lookups!E:F,2,FALSE)&IF(E670<8,\"*\",\"\"),\"\")","v":""},"",""]
[null,null,"",null,null,null,null,{"$f":"IF(AND(A671<>\"\",B671<>\"\"),VLOOKUP(A671,Lookups!A:B,2,FALSE)&\"_\"&B671,\"\")","v":""},{"$f":"IF(AND(D671<>\"\",E671<>\"\"),VLOOKUP(D671,Lookups!E:F,2,FALSE)&IF(E671<8,\"*\",\"\"),\"\")","v":""},"",""]
[null,null,"",null,null,null,null,{"$f":"IF(AND(A672<>\"\",B672<>\"\"),VLOOKUP(A672,Lookups!A:B,2,FALSE)&\"_\"&B672,\"\")","v":""},{"$f":"IF(AND(D672<>\"\",E672<>\"\"),VLOOKUP(D672,Lookups!E:F,2,FALSE)&IF(E672<8,\"*\",\"\"),\"\")","v":""},{"$f":"IF(F672=\"\",\"\",F672)","v":""},{"$f":"IF(G672=\"\",\"\",G672)","v":""}]
[null,null,"",null,null,null,null,{"$f":"IF(AND(A673<>\"\",B673<>\"\"),VLOOKUP(A673,Lookups!A:B,2,FALSE)&\"_\"&B673,\"\")","v":""},{"$f":"IF(AND(D673<>\"\",E673<>\"\"),VLOOKUP(D673,Lookups!E:F,2,FALSE)&IF(E673<8,\"*\",\"\"),\"\")","v":""},"",""]
[null,null,"",null,null,null,null,{"$f":"IF(AND(A674<>\"\",B674<>\"\"),VLOOKUP(A674,Lookups!A:B,2,FALSE)&\"_\"&B674,\"\")","v":""},{"$f":"IF(AND(D674<>\"\",E674<>\"\"),VLOOKUP(D674,Lookups!E:F,2,FALSE)&IF(E674<8,\"*\",\"\"),\"\")","v":""},"",""]
[null,null,"",null,null,null,null,{"$f":"IF(AND(A675<>\"\",B675<>\"\"),VLOOKUP(A675,Lookups!A:B,2,FALSE)&\"_\"&B675,\"\")","v":""},{"$f":"IF(AND(D675<>\"\",E675<>\"\"),VLOOKUP(D675,Lookups!E:F,2,FALSE)&IF(E675<8,\"*\",\"\"),\"\")","v":""},"",""]
[null,null,"",null,null,null,null,{"$f":"IF(AND(A676<>\"\",B676<>\"\"),VLOOKUP(A676,Lookups!A:B,2,FALSE)&\"_\"&B676,\"\")","v":""},{"$f":"IF(AND(D676<>\"\",E676<>\"\"),VLOOKUP(D676,Lookups!E:F,2,FALSE)&IF(E676<8,\"*\",\"\"),\"\")","v":""},"",""]
[null,null,"",null,null,null,null,{"$f":"IF(AND(A677<>\"\",B677<>\"\"),VLOOKUP(A677,Lookups!A:B,2,FALSE)&\"_\"&B677,\"\")","v":""},{"$f":"IF(AND(D677<>\"\",E677<>\"\"),VLOOKUP(D677,Lookups!E:F,2,FALSE)&IF(E677<8,\"*\",\"\"),\"\")","v":""},"",""]
[null,null,"",null,null,null,null,{"$f":"IF(AND(A678<>\"\",B678<>\"\"),VLOOKUP(A678,Lookups!A:B,2,FALSE)&\"_\"&B678,\"\")","v":""},{"$f":"IF(AND(D678<>\"\",E678<>\"\"),VLOOKUP(D678,Lookups!E:F,2,FALSE)&IF(E678<8,\"*\",\"\"),\"\")","v":""},"",""]
[null,null,"",null,null,null,null,{"$f":"IF(AND(A679<>\"\",B679<>\"\"),VLOOKUP(A679,Lookups!A:B,2,FALSE)&\"_\"&B679,\"\")","v":""},{"$f":"IF(AND(D679<>\"\",E679<>\"\"),VLOOKUP(D679,Lookups!E:F,2,FALSE)&IF(E679<8,\"*\",\"\"),\"\")","v":""},"",""]
[null,null,"",null,null,null,null,{"$f":"IF(AND(A680<>\"\",B680<>\"\"),VLOOKUP(A680,Lookups!A:B,2,FALSE)&\"_\"&B680,\"\")","v":""},{"$f":"IF(AND(D680<>\"\",E680<>\"\"),VLOOKUP(D680,Lookups!E:F,2,FALSE)&IF(E680<8,\"*\",\"\"),\"\")","v":""},"",""]
[null,null,"",null,null,null,null,{"$f":"IF(AND(A681<>\"\",B681<>\"\"),VLOOKUP(A681,Lookups!A:B,2,FALSE)&\"_\"&B681,\"\")","v":""},{"$f":"IF(AND(D681<>\"\",E681<>\"\"),VLOOKUP(D681,Lookups!E:F,2,FALSE)&IF(E681<8,\"*\",\"\"),\"\")","v":""},"",""]
[null,null,"",null,null,null,null,{"$f":"IF(AND(A682<>\"\",B682<>\"\"),VLOOKUP(A682,Lookups!A:B,2,FALSE)&\"_\"&B682,\"\")","v":""},{"$f":"IF(AND(D682<>\"\",E682<>\"\"),VLOOKUP(D682,Lookups!E:F,2,FALSE)&IF(E682<8,\"*\",\"\"),\"\")","v":""},"",""]
[null,null,"",null,null,null,null,{"$f":"IF(AND(A683<>\"\",B683<>\"\"),VLOOKUP(A683,Lookups!A:B,2,FALSE)&\"_\"&B683,\"\")","v":""},{"$f":"IF(AND(D683<>\"\",E683<>\"\"),VLOOKUP(D683,Lookups!E:F,2,FALSE)&IF(E683<8,\"*\",\"\"),\"\")","v":""},"",""]
[null,null,"",null,null,null,null,{"$f":"IF(AND(A684<>\"\",B684<>\"\"),VLOOKUP(A684,Lookups!A:B,2,FALSE)&\"_\"&B684,\"\")","v":""},{"$f":"IF(AND(D684<>\"\",E684<>\"\"),VLOOKUP(D684,Lookups!E:F,2,FALSE)&IF(E684<8,\"*\",\"\"),\"\")","v":""},"",""]
[null,null,"",null,null,null,null,{"$f":"IF(AND(A685<>\"\",B685<>\"\"),VLOOKUP(A685,Lookups!A:B,2,FALSE)&\"_\"&B685,\"\")","v":""},{"$f":"IF(AND(D685<>\"\",E685<>\"\"),VLOOKUP(D685,Lookups!E:F,2,FALSE)&IF(E685<8,\"*\",\"\"),\"\")","v":""},"",""]
[null,null,"",null,null,null,null,{"$f":"IF(AND(A686<>\"\",B686<>\"\"),VLOOKUP(A686,Lookups!A:B,2,FALSE)&\"_\"&B686,\"\")","v":""},{"$f":"IF(AND(D686<>\"\",E686<>\"\"),VLOOKUP(D686,Lookups!E:F,2,FALSE)&IF(E686<8,\"*\",\"\"),\"\")","v":""},"",""]
[null,null,"",null,null,null,null,{"$f":"IF(AND(A687<>\"\",B687<>\"\"),VLOOKUP(A687,Lookups!A:B,2,FALSE)&\"_\"&B687,\"\")","v":""},{"$f":"IF(AND(D687<>\"\",E687<>\"\"),VLOOKUP(D687,Lookups!E:F,2,FALSE)&IF(E687<8,\"*\",\"\"),\"\")","v":""},"",""]
[null,null,"",null,null,null,null,{"$f":"IF(AND(A688<>\"\",B688<>\"\"),VLOOKUP(A688,Lookups!A:B,2,FALSE)&\"_\"&B688,\"\")","v":""},{"$f":"IF(AND(D688<>\"\",E688<>\"\"),VLOOKUP(D688,Lookups!E:F,2,FALSE)&IF(E688<8,\"*\",\"\"),\"\")","v":""},"",""]
[null,null,"",null,null,null,null,{"$f":"IF(AND(A689<>\"\",B689<>\"\"),VLOOKUP(A689,Lookups!A:B,2,FALSE)&\"_\"&B689,\"\")","v":""},{"$f":"IF(AND(D689<>\"\",E689<>\"\"),VLOOKUP(D689,Lookups!E:F,2,FALSE)&IF(E689<8,\"*\",\"\"),\"\")","v":""},"",""]
[null,null,"",null,null,null,null,{"$f":"IF(AND(A690<>\"\",B690<>\"\"),VLOOKUP(A690,Lookups!A:B,2,FALSE)&\"_\"&B690,\"\")","v":""},{"$f":"IF(AND(D690<>\"\",E690<>\"\"),VLOOKUP(D690,Lookups!E:F,2,FALSE)&IF(E690<8,\"*\",\"\"),\"\")","v":""},"",""]
[null,null,"",null,null,null,null,{"$f":"IF(AND(A691<>\"\",B691<>\"\"),VLOOKUP(A691,Lookups!A:B,2,FALSE)&\"_\"&B691,\"\")","v":""},{"$f":"IF(AND(D691<>\"\",E691<>\"\"),VLOOKUP(D691,Lookups!E:F,2,FALSE)&IF(E691<8,\"*\",\"\"),\"\")","v":""},"",""]
[null,null,"",null,null,null,null,{"$f":"IF(AND(A692<>\"\",B692<>\"\"),VLOOKUP(A692,Lookups!A:B,2,FALSE)&\"_\"&B692,\"\")","v":""},{"$f":"IF(AND(D692<>\"\",E692<>\"\"),VLOOKUP(D692,Lookups!E:F,2,FALSE)&IF(E692<8,\"*\",\"\"),\"\")","v":""},"",""]
[null,null,"",null,null,null,null,{"$f":"IF(AND(A693<>\"\",B693<>\"\"),VLOOKUP(A693,Lookups!A:B,2,FALSE)&\"_\"&B693,\"\")","v":""},{"$f":"IF(AND(D693<>\"\",E693<>\"\"),VLOOKUP(D693,Lookups!E:F,2,FALSE)&IF(E693<8,\"*\",\"\"),\"\")","v":""},"",""]
[null,null,"",null,null,null,null,{"$f":"IF(AND(A694<>\"\",B694<>\"\"),VLOOKUP(A694,Lookups!A:B,2,FALSE)&\"_\"&B694,\"\")","v":""},{"$f":"IF(AND(D694<>\"\",E694<>\"\"),VLOOKUP(D694,Lookups!E:F,2,FALSE)&IF(E694<8,\"*\",\"\"),\"\")","v":""},"",""]
[null,null,"",null,null,null,null,{"$f":"IF(AND(A695<>\"\",B695<>\"\"),VLOOKUP(A695,Lookups!A:B,2,FALSE)&\"_\"&B695,\"\")","v":""},{"$f":"IF(AND(D695<>\"\",E695<>\"\"),VLOOKUP(D695,Lookups!E:F,2,FALSE)&IF(E695<8,\"*\",\"\"),\"\")","v":""},"",""]
[null,null,"",null,null,null,null,{"$f":"IF(AND(A696<>\"\",B696<>\"\"),VLOOKUP(A696,Lookups!A:B,2,FALSE)&\"_\"&B696,\"\")","v":""},{"$f":"IF(AND(D696<>\"\",E696<>\"\"),VLOOKUP(D696,Lookups!E:F,2,FALSE)&IF(E696<8,\"*\",\"\"),\"\")","v":""},"",""]
[null,null,"",null,null,null,null,{"$f":"IF(AND(A697<>\"\",B697<>\"\"),VLOOKUP(A697,Lookups!A:B,2,FALSE)&\"_\"&B697,\"\")","v":""},{"$f":"IF(AND(D697<>\"\",E697<>\"\"),VLOOKUP(D697,Lookups!E:F,2,FALSE)&IF(E697<8,\"*\",\"\"),\"\")","v":""},"",""]
[null,null,"",null,null,null,null,{"$f":"IF(AND(A698<>\"\",B698<>\"\"),VLOOKUP(A698,Lookups!A:B,2,FALSE)&\"_\"&B698,\"\")","v":""},{"$f":"IF(AND(D698<>\"\",E698<>\"\"),VLOOKUP(D698,Lookups!E:F,2,FALSE)&IF(E698<8,\"*\",\"\"),\"\")","v":""},"",""]
[null,null,{"$f":"IF(B699=\"\",\"\",TEXT(WEEKDAY(B699),\"aaaa\"))","v":""},null,null,null,null,{"$f":"IF(AND(A699<>\"\",B699<>\"\"),VLOOKUP(A699,Lookups!A:B,2,FALSE)&\"_\"&B699,\"\")","v":""},{"$f":"IF(AND(D699<>\"\",E699<>\"\"),VLOOKUP(D699,Lookups!E:F,2,FALSE)&IF(E699<8,\"*\",\"\"),\"\")","v":""},"",""]
[null,null,"",null,null,null,null,{"$f":"IF(AND(A700<>\"\",B700<>\"\"),VLOOKUP(A700,Lookups!A:B,2,FALSE)&\"_\"&B700,\"\")","v":""},{"$f":"IF(AND(D700<>\"\",E700<>\"\"),VLOOKUP(D700,Lookups!E:F,2,FALSE)&IF(E700<8,\"*\",\"\"),\"\")","v":""},"",""]
[null,null,"",null,null,null,null,{"$f":"IF(AND(A701<>\"\",B701<>\"\"),VLOOKUP(A701,Lookups!A:B,2,FALSE)&\"_\"&B701,\"\")","v":""},{"$f":"IF(AND(D701<>\"\",E701<>\"\"),VLOOKUP(D701,Lookups!E:F,2,FALSE)&IF(E701<8,\"*\",\"\"),\"\")","v":""},"",""]
[null,null,"",null,null,null,null,{"$f":"IF(AND(A702<>\"\",B702<>\"\"),VLOOKUP(A702,Lookups!A:B,2,FALSE)&\"_\"&B702,\"\")","v":""},{"$f":"IF(AND(D702<>\"\",E702<>\"\"),VLOOKUP(D702,Lookups!E:F,2,FALSE)&IF(E702<8,\"*\",\"\"),\"\")","v":""},"",""]
[null,null,"",null,null,null,null,{"$f":"IF(AND(A703<>\"\",B703<>\"\"),VLOOKUP(A703,Lookups!A:B,2,FALSE)&\"_\"&B703,\"\")","v":""},{"$f":"IF(AND(D703<>\"\",E703<>\"\"),VLOOKUP(D703,Lookups!E:F,2,FALSE)&IF(E703<8,\"*\",\"\"),\"\")","v":""},"",""]
[null,null,"",null,null,null,null,{"$f":"IF(AND(A704<>\"\",B704<>\"\"),VLOOKUP(A704,Lookups!A:B,2,FALSE)&\"_\"&B704,\"\")","v":""},{"$f":"IF(AND(D704<>\"\",E704<>\"\"),VLOOKUP(D704,Lookups!E:F,2,FALSE)&IF(E704<8,\"*\",\"\"),\"\")","v":""},"",""]
[null,null,"",null,null,null,null,{"$f":"IF(AND(A705<>\"\",B705<>\"\"),VLOOKUP(A705,Lookups!A:B,2,FALSE)&\"_\"&B705,\"\")","v":""},{"$f":"IF(AND(D705<>\"\",E705<>\"\"),VLOOKUP(D705,Lookups!E:F,2,FALSE)&IF(E705<8,\"*\",\"\"),\"\")","v":""},"",""]
[null,null,"",null,null,null,null,{"$f":"IF(AND(A706<>\"\",B706<>\"\"),VLOOKUP(A706,Lookups!A:B,2,FALSE)&\"_\"&B706,\"\")","v":""},{"$f":"IF(AND(D706<>\"\",E706<>\"\"),VLOOKUP(D706,Lookups!E:F,2,FALSE)&IF(E706<8,\"*\",\"\"),\"\")","v":""},"",""]
[null,null,"",null,null,null,null,{"$f":"IF(AND(A707<>\"\",B707<>\"\"),VLOOKUP(A707,Lookups!A:B,2,FALSE)&\"_\"&B707,\"\")","v":""},{"$f":"IF(AND(D707<>\"\",E707<>\"\"),VLOOKUP(D707,Lookups!E:F,2,FALSE)&IF(E707<8,\"*\",\"\"),\"\")","v":""},"",""]
[null,null,"",null,null,null,null,{"$f":"IF(AND(A708<>\"\",B708<>\"\"),VLOOKUP(A708,Lookups!A:B,2,FALSE)&\"_\"&B708,\"\")","v":""},{"$f":"IF(AND(D708<>\"\",E708<>\"\"),VLOOKUP(D708,Lookups!E:F,2,FALSE)&IF(E708<8,\"*\",\"\"),\"\")","v":""},"",""]
[null,null,"",null,null,null,null,{"$f":"IF(AND(A709<>\"\",B709<>\"\"),VLOOKUP(A709,Lookups!A:B,2,FALSE)&\"_\"&B709,\"\")","v":""},{"$f":"IF(AND(D709<>\"\",E709<>\"\"),VLOOKUP(D709,Lookups!E:F,2,FALSE)&IF(E709<8,\"*\",\"\"),\"\")","v":""},"",""]
[null,null,"",null,null,null,null,{"$f":"IF(AND(A710<>\"\",B710<>\"\"),VLOOKUP(A710,Lookups!A:B,2,FALSE)&\"_\"&B710,\"\")","v":""},{"$f":"IF(AND(D710<>\"\",E710<>\"\"),VLOOKUP(D710,Lookups!E:F,2,FALSE)&IF(E710<8,\"*\",\"\"),\"\")","v":""},"",""]
[null,null,"",null,null,null,null,{"$f":"IF(AND(A711<>\"\",B711<>\"\"),VLOOKUP(A711,Lookups!A:B,2,FALSE)&\"_\"&B711,\"\")","v":""},{"$f":"IF(AND(D711<>\"\",E711<>\"\"),VLOOKUP(D711,Lookups!E:F,2,FALSE)&IF(E711<8,\"*\",\"\"),\"\")","v":""},"",""]
[null,null,"",null,null,null,null,{"$f":"IF(AND(A712<>\"\",B712<>\"\"),VLOOKUP(A712,Lookups!A:B,2,FALSE)&\"_\"&B712,\"\")","v":""},{"$f":"IF(AND(D712<>\"\",E712<>\"\"),VLOOKUP(D712,Lookups!E:F,2,FALSE)&IF(E712<8,\"*\",\"\"),\"\")","v":""},"",""]
[null,null,"",null,null,null,null,{"$f":"IF(AND(A713<>\"\",B713<>\"\"),VLOOKUP(A713,Lookups!A:B,2,FALSE)&\"_\"&B713,\"\")","v":""},{"$f":"IF(AND(D713<>\"\",E713<>\"\"),VLOOKUP(D713,Lookups!E:F,2,FALSE)&IF(E713<8,\"*\",\"\"),\"\")","v":""},"",""]
[null,null,"",null,null,null,null,{"$f":"IF(AND(A714<>\"\",B714<>\"\"),VLOOKUP(A714,Lookups!A:B,2,FALSE)&\"_\"&B714,\"\")","v":""},{"$f":"IF(AND(D714<>\"\",E714<>\"\"),VLOOKUP(D714,Lookups!E:F,2,FALSE)&IF(E714<8,\"*\",\"\"),\"\")","v":""},"",""]
[null,null,"",null,null,null,null,{"$f":"IF(AND(A715<>\"\",B715<>\"\"),VLOOKUP(A715,Lookups!A:B,2,FALSE)&\"_\"&B715,\"\")","v":""},{"$f":"IF(AND(D715<>\"\",E715<>\"\"),VLOOKUP(D715,Lookups!E:F,2,FALSE)&IF(E715<8,\"*\",\"\"),\"\")","v":""},"",""]
[null,null,"",null,null,null,null,{"$f":"IF(AND(A716<>\"\",B716<>\"\"),VLOOKUP(A716,Lookups!A:B,2,FALSE)&\"_\"&B716,\"\")","v":""},{"$f":"IF(AND(D716<>\"\",E716<>\"\"),VLOOKUP(D716,Lookups!E:F,2,FALSE)&IF(E716<8,\"*\",\"\"),\"\")","v":""},"",""]
[null,null,"",null,null,null,null,{"$f":"IF(AND(A717<>\"\",B717<>\"\"),VLOOKUP(A717,Lookups!A:B,2,FALSE)&\"_\"&B717,\"\")","v":""},{"$f":"IF(AND(D717<>\"\",E717<>\"\"),VLOOKUP(D717,Lookups!E:F,2,FALSE)&IF(E717<8,\"*\",\"\"),\"\")","v":""},"",""]
[null,null,"",null,null,null,null,{"$f":"IF(AND(A718<>\"\",B718<>\"\"),VLOOKUP(A718,Lookups!A:B,2,FALSE)&\"_\"&B718,\"\")","v":""},{"$f":"IF(AND(D718<>\"\",E718<>\"\"),VLOOKUP(D718,Lookups!E:F,2,FALSE)&IF(E718<8,\"*\",\"\"),\"\")","v":""},"",""]
[null,null,"",null,null,null,null,{"$f":"IF(AND(A719<>\"\",B719<>\"\"),VLOOKUP(A719,Lookups!A:B,2,FALSE)&\"_\"&B719,\"\")","v":""},{"$f":"IF(AND(D719<>\"\",E719<>\"\"),VLOOKUP(D719,Lookups!E:F,2,FALSE)&IF(E719<8,\"*\",\"\"),\"\")","v":""},"",""]
[null,null,"",null,null,null,null,{"$f":"IF(AND(A720<>\"\",B720<>\"\"),VLOOKUP(A720,Lookups!A:B,2,FALSE)&\"_\"&B720,\"\")","v":""},{"$f":"IF(AND(D720<>\"\",E720<>\"\"),VLOOKUP(D720,Lookups!E:F,2,FALSE)&IF(E720<8,\"*\",\"\"),\"\")","v":""},"",""]
[null,null,"",null,null,null,null,{"$f":"IF(AND(A721<>\"\",B721<>\"\"),VLOOKUP(A721,Lookups!A:B,2,FALSE)&\"_\"&B721,\"\")","v":""},{"$f":"IF(AND(D721<>\"\",E721<>\"\"),VLOOKUP(D721,Lookups!E:F,2,FALSE)&IF(E721<8,\"*\",\"\"),\"\")","v":""},"",""]
[null,null,"",null,null,null,null,{"$f":"IF(AND(A722<>\"\",B722<>\"\"),VLOOKUP(A722,Lookups!A:B,2,FALSE)&\"_\"&B722,\"\")","v":""},{"$f":"IF(AND(D722<>\"\",E722<>\"\"),VLOOKUP(D722,Lookups!E:F,2,FALSE)&IF(E722<8,\"*\",\"\"),\"\")","v":""},"",""]
[null,null,"",null,null,null,null,{"$f":"IF(AND(A723<>\"\",B723<>\"\"),VLOOKUP(A723,Lookups!A:B,2,FALSE)&\"_\"&B723,\"\")","v":""},{"$f":"IF(AND(D723<>\"\",E723<>\"\"),VLOOKUP(D723,Lookups!E:F,2,FALSE)&IF(E723<8,\"*\",\"\"),\"\")","v":""},"",""]
[null,null,"",null,null,null,null,{"$f":"IF(AND(A724<>\"\",B724<>\"\"),VLOOKUP(A724,Lookups!A:B,2,FALSE)&\"_\"&B724,\"\")","v":""},{"$f":"IF(AND(D724<>\"\",E724<>\"\"),VLOOKUP(D724,Lookups!E:F,2,FALSE)&IF(E724<8,\"*\",\"\"),\"\")","v":""},"",""]
[null,null,"",null,null,null,null,{"$f":"IF(AND(A725<>\"\",B725<>\"\"),VLOOKUP(A725,Lookups!A:B,2,FALSE)&\"_\"&B725,\"\")","v":""},{"$f":"IF(AND(D725<>\"\",E725<>\"\"),VLOOKUP(D725,Lookups!E:F,2,FALSE)&IF(E725<8,\"*\",\"\"),\"\")","v":""},"",""]
[null,null,"",null,null,null,null,{"$f":"IF(AND(A726<>\"\",B726<>\"\"),VLOOKUP(A726,Lookups!A:B,2,FALSE)&\"_\"&B726,\"\")","v":""},{"$f":"IF(AND(D726<>\"\",E726<>\"\"),VLOOKUP(D726,Lookups!E:F,2,FALSE)&IF(E726<8,\"*\",\"\"),\"\")","v":""},"",""]
[null,null,"",null,null,null,null,{"$f":"IF(AND(A727<>\"\",B727<>\"\"),VLOOKUP(A727,Lookups!A:B,2,FALSE)&\"_\"&B727,\"\")","v":""},{"$f":"IF(AND(D727<>\"\",E727<>\"\"),VLOOKUP(D727,Lookups!E:F,2,FALSE)&IF(E727<8,\"*\",\"\"),\"\")","v":""},"",""]
[null,null,"",null,null,null,null,{"$f":"IF(AND(A728<>\"\",B728<>\"\"),VLOOKUP(A728,Lookups!A:B,2,FALSE)&\"_\"&B728,\"\")","v":""},{"$f":"IF(AND(D728<>\"\",E728<>\"\"),VLOOKUP(D728,Lookups!E:F,2,FALSE)&IF(E728<8,\"*\",\"\"),\"\")","v":""},"",""]
[null,null,"",null,null,null,null,{"$f":"IF(AND(A729<>\"\",B729<>\"\"),VLOOKUP(A729,Lookups!A:B,2,FALSE)&\"_\"&B729,\"\")","v":""},{"$f":"IF(AND(D729<>\"\",E729<>\"\"),VLOOKUP(D729,Lookups!E:F,2,FALSE)&IF(E729<8,\"*\",\"\"),\"\")","v":""},"",""]
[null,null,"",null,null,null,null,{"$f":"IF(AND(A730<>\"\",B730<>\"\"),VLOOKUP(A730,Lookups!A:B,2,FALSE)&\"_\"&B730,\"\")","v":""},{"$f":"IF(AND(D730<>\"\",E730<>\"\"),VLOOKUP(D730,Lookups!E:F,2,FALSE)&IF(E730<8,\"*\",\"\"),\"\")","v":""},"",""]
[null,null,"",null,null,null,null,{"$f":"IF(AND(A731<>\"\",B731<>\"\"),VLOOKUP(A731,Lookups!A:B,2,FALSE)&\"_\"&B731,\"\")","v":""},{"$f":"IF(AND(D731<>\"\",E731<>\"\"),VLOOKUP(D731,Lookups!E:F,2,FALSE)&IF(E731<8,\"*\",\"\"),\"\")","v":""},"",""]
[null,null,"",null,null,null,null,{"$f":"IF(AND(A732<>\"\",B732<>\"\"),VLOOKUP(A732,Lookups!A:B,2,FALSE)&\"_\"&B732,\"\")","v":""},{"$f":"IF(AND(D732<>\"\",E732<>\"\"),VLOOKUP(D732,Lookups!E:F,2,FALSE)&IF(E732<8,\"*\",\"\"),\"\")","v":""},"",""]
[null,null,"",null,null,null,null,{"$f":"IF(AND(A733<>\"\",B733<>\"\"),VLOOKUP(A733,Lookups!A:B,2,FALSE)&\"_\"&B733,\"\")","v":""},{"$f":"IF(AND(D733<>\"\",E733<>\"\"),VLOOKUP(D733,Lookups!E:F,2,FALSE)&IF(E733<8,\"*\",\"\"),\"\")","v":""},"",""]
[null,null,"",null,null,null,null,{"$f":"IF(AND(A734<>\"\",B734<>\"\"),VLOOKUP(A734,Lookups!A:B,2,FALSE)&\"_\"&B734,\"\")","v":""},{"$f":"IF(AND(D734<>\"\",E734<>\"\"),VLOOKUP(D734,Lookups!E:F,2,FALSE)&IF(E734<8,\"*\",\"\"),\"\")","v":""},"",""]
[null,null,"",null,null,null,null,{"$f":"IF(AND(A735<>\"\",B735<>\"\"),VLOOKUP(A735,Lookups!A:B,2,FALSE)&\"_\"&B735,\"\")","v":""},{"$f":"IF(AND(D735<>\"\",E735<>\"\"),VLOOKUP(D735,Lookups!E:F,2,FALSE)&IF(E735<8,\"*\",\"\"),\"\")","v":""},"",""]
[null,null,"",null,null,null,null,{"$f":"IF(AND(A736<>\"\",B736<>\"\"),VLOOKUP(A736,Lookups!A:B,2,FALSE)&\"_\"&B736,\"\")","v":""},{"$f":"IF(AND(D736<>\"\",E736<>\"\"),VLOOKUP(D736,Lookups!E:F,2,FALSE)&IF(E736<8,\"*\",\"\"),\"\")","v":""},{"$f":"IF(F736=\"\",\"\",F736)","v":""},{"$f":"IF(G736=\"\",\"\",G736)","v":""}]
[null,null,"",null,null,null,null,{"$f":"IF(AND(A737<>\"\",B737<>\"\"),VLOOKUP(A737,Lookups!A:B,2,FALSE)&\"_\"&B737,\"\")","v":""},{"$f":"IF(AND(D737<>\"\",E737<>\"\"),VLOOKUP(D737,Lookups!E:F,2,FALSE)&IF(E737<8,\"*\",\"\"),\"\")","v":""},"",""]
[null,null,"",null,null,null,null,{"$f":"IF(AND(A738<>\"\",B738<>\"\"),VLOOKUP(A738,Lookups!A:B,2,FALSE)&\"_\"&B738,\"\")","v":""},{"$f":"IF(AND(D738<>\"\",E738<>\"\"),VLOOKUP(D738,Lookups!E:F,2,FALSE)&IF(E738<8,\"*\",\"\"),\"\")","v":""},"",""]
[null,null,"",null,null,null,null,{"$f":"IF(AND(A739<>\"\",B739<>\"\"),VLOOKUP(A739,Lookups!A:B,2,FALSE)&\"_\"&B739,\"\")","v":""},{"$f":"IF(AND(D739<>\"\",E739<>\"\"),VLOOKUP(D739,Lookups!E:F,2,FALSE)&IF(E739<8,\"*\",\"\"),\"\")","v":""},"",""]
[null,null,"",null,null,null,null,{"$f":"IF(AND(A740<>\"\",B740<>\"\"),VLOOKUP(A740,Lookups!A:B,2,FALSE)&\"_\"&B740,\"\")","v":""},{"$f":"IF(AND(D740<>\"\",E740<>\"\"),VLOOKUP(D740,Lookups!E:F,2,FALSE)&IF(E740<8,\"*\",\"\"),\"\")","v":""},"",""]
[null,null,"",null,null,null,null,{"$f":"IF(AND(A741<>\"\",B741<>\"\"),VLOOKUP(A741,Lookups!A:B,2,FALSE)&\"_\"&B741,\"\")","v":""},{"$f":"IF(AND(D741<>\"\",E741<>\"\"),VLOOKUP(D741,Lookups!E:F,2,FALSE)&IF(E741<8,\"*\",\"\"),\"\")","v":""},"",""]
[null,null,"",null,null,null,null,{"$f":"IF(AND(A742<>\"\",B742<>\"\"),VLOOKUP(A742,Lookups!A:B,2,FALSE)&\"_\"&B742,\"\")","v":""},{"$f":"IF(AND(D742<>\"\",E742<>\"\"),VLOOKUP(D742,Lookups!E:F,2,FALSE)&IF(E742<8,\"*\",\"\"),\"\")","v":""},"",""]
[null,null,"",null,null,null,null,{"$f":"IF(AND(A743<>\"\",B743<>\"\"),VLOOKUP(A743,Lookups!A:B,2,FALSE)&\"_\"&B743,\"\")","v":""},{"$f":"IF(AND(D743<>\"\",E743<>\"\"),VLOOKUP(D743,Lookups!E:F,2,FALSE)&IF(E743<8,\"*\",\"\"),\"\")","v":""},"",""]
[null,null,"",null,null,null,null,{"$f":"IF(AND(A744<>\"\",B744<>\"\"),VLOOKUP(A744,Lookups!A:B,2,FALSE)&\"_\"&B744,\"\")","v":""},{"$f":"IF(AND(D744<>\"\",E744<>\"\"),VLOOKUP(D744,Lookups!E:F,2,FALSE)&IF(E744<8,\"*\",\"\"),\"\")","v":""},"",""]
[null,null,"",null,null,null,null,{"$f":"IF(AND(A745<>\"\",B745<>\"\"),VLOOKUP(A745,Lookups!A:B,2,FALSE)&\"_\"&B745,\"\")","v":""},{"$f":"IF(AND(D745<>\"\",E745<>\"\"),VLOOKUP(D745,Lookups!E:F,2,FALSE)&IF(E745<8,\"*\",\"\"),\"\")","v":""},"",""]
[null,null,"",null,null,null,null,{"$f":"IF(AND(A746<>\"\",B746<>\"\"),VLOOKUP(A746,Lookups!A:B,2,FALSE)&\"_\"&B746,\"\")","v":""},{"$f":"IF(AND(D746<>\"\",E746<>\"\"),VLOOKUP(D746,Lookups!E:F,2,FALSE)&IF(E746<8,\"*\",\"\"),\"\")","v":""},"",""]
[null,null,"",null,null,null,null,{"$f":"IF(AND(A747<>\"\",B747<>\"\"),VLOOKUP(A747,Lookups!A:B,2,FALSE)&\"_\"&B747,\"\")","v":""},{"$f":"IF(AND(D747<>\"\",E747<>\"\"),VLOOKUP(D747,Lookups!E:F,2,FALSE)&IF(E747<8,\"*\",\"\"),\"\")","v":""},"",""]
[null,null,"",null,null,null,null,{"$f":"IF(AND(A748<>\"\",B748<>\"\"),VLOOKUP(A748,Lookups!A:B,2,FALSE)&\"_\"&B748,\"\")","v":""},{"$f":"IF(AND(D748<>\"\",E748<>\"\"),VLOOKUP(D748,Lookups!E:F,2,FALSE)&IF(E748<8,\"*\",\"\"),\"\")","v":""},"",""]
[null,null,"",null,null,null,null,{"$f":"IF(AND(A749<>\"\",B749<>\"\"),VLOOKUP(A749,Lookups!A:B,2,FALSE)&\"_\"&B749,\"\")","v":""},{"$f":"IF(AND(D749<>\"\",E749<>\"\"),VLOOKUP(D749,Lookups!E:F,2,FALSE)&IF(E749<8,\"*\",\"\"),\"\")","v":""},"",""]
[null,null,"",null,null,null,null,{"$f":"IF(AND(A750<>\"\",B750<>\"\"),VLOOKUP(A750,Lookups!A:B,2,FALSE)&\"_\"&B750,\"\")","v":""},{"$f":"IF(AND(D750<>\"\",E750<>\"\"),VLOOKUP(D750,Lookups!E:F,2,FALSE)&IF(E750<8,\"*\",\"\"),\"\")","v":""},"",""]
[null,null,"",null,null,null,null,{"$f":"IF(AND(A751<>\"\",B751<>\"\"),VLOOKUP(A751,Lookups!A:B,2,FALSE)&\"_\"&B751,\"\")","v":""},{"$f":"IF(AND(D751<>\"\",E751<>\"\"),VLOOKUP(D751,Lookups!E:F,2,FALSE)&IF(E751<8,\"*\",\"\"),\"\")","v":""},"",""]
[null,null,"",null,null,null,null,{"$f":"IF(AND(A752<>\"\",B752<>\"\"),VLOOKUP(A752,Lookups!A:B,2,FALSE)&\"_\"&B752,\"\")","v":""},{"$f":"IF(AND(D752<>\"\",E752<>\"\"),VLOOKUP(D752,Lookups!E:F,2,FALSE)&IF(E752<8,\"*\",\"\"),\"\")","v":""},"",""]
[null,null,"",null,null,null,null,{"$f":"IF(AND(A753<>\"\",B753<>\"\"),VLOOKUP(A753,Lookups!A:B,2,FALSE)&\"_\"&B753,\"\")","v":""},{"$f":"IF(AND(D753<>\"\",E753<>\"\"),VLOOKUP(D753,Lookups!E:F,2,FALSE)&IF(E753<8,\"*\",\"\"),\"\")","v":""},"",""]
[null,null,"",null,null,null,null,{"$f":"IF(AND(A754<>\"\",B754<>\"\"),VLOOKUP(A754,Lookups!A:B,2,FALSE)&\"_\"&B754,\"\")","v":""},{"$f":"IF(AND(D754<>\"\",E754<>\"\"),VLOOKUP(D754,Lookups!E:F,2,FALSE)&IF(E754<8,\"*\",\"\"),\"\")","v":""},"",""]
[null,null,"",null,null,null,null,{"$f":"IF(AND(A755<>\"\",B755<>\"\"),VLOOKUP(A755,Lookups!A:B,2,FALSE)&\"_\"&B755,\"\")","v":""},{"$f":"IF(AND(D755<>\"\",E755<>\"\"),VLOOKUP(D755,Lookups!E:F,2,FALSE)&IF(E755<8,\"*\",\"\"),\"\")","v":""},"",""]
[null,null,"",null,null,null,null,{"$f":"IF(AND(A756<>\"\",B756<>\"\"),VLOOKUP(A756,Lookups!A:B,2,FALSE)&\"_\"&B756,\"\")","v":""},{"$f":"IF(AND(D756<>\"\",E756<>\"\"),VLOOKUP(D756,Lookups!E:F,2,FALSE)&IF(E756<8,\"*\",\"\"),\"\")","v":""},"",""]
[null,null,"",null,null,null,null,{"$f":"IF(AND(A757<>\"\",B757<>\"\"),VLOOKUP(A757,Lookups!A:B,2,FALSE)&\"_\"&B757,\"\")","v":""},{"$f":"IF(AND(D757<>\"\",E757<>\"\"),VLOOKUP(D757,Lookups!E:F,2,FALSE)&IF(E757<8,\"*\",\"\"),\"\")","v":""},"",""]
[null,null,"",null,null,null,null,{"$f":"IF(AND(A758<>\"\",B758<>\"\"),VLOOKUP(A758,Lookups!A:B,2,FALSE)&\"_\"&B758,\"\")","v":""},{"$f":"IF(AND(D758<>\"\",E758<>\"\"),VLOOKUP(D758,Lookups!E:F,2,FALSE)&IF(E758<8,\"*\",\"\"),\"\")","v":""},"",""]
[null,null,"",null,null,null,null,{"$f":"IF(AND(A759<>\"\",B759<>\"\"),VLOOKUP(A759,Lookups!A:B,2,FALSE)&\"_\"&B759,\"\")","v":""},{"$f":"IF(AND(D759<>\"\",E759<>\"\"),VLOOKUP(D759,Lookups!E:F,2,FALSE)&IF(E759<8,\"*\",\"\"),\"\")","v":""},"",""]
[null,null,"",null,null,null,null,{"$f":"IF(AND(A760<>\"\",B760<>\"\"),VLOOKUP(A760,Lookups!A:B,2,FALSE)&\"_\"&B760,\"\")","v":""},{"$f":"IF(AND(D760<>\"\",E760<>\"\"),VLOOKUP(D760,Lookups!E:F,2,FALSE)&IF(E760<8,\"*\",\"\"),\"\")","v":""},"",""]
[null,null,"",null,null,null,null,{"$f":"IF(AND(A761<>\"\",B761<>\"\"),VLOOKUP(A761,Lookups!A:B,2,FALSE)&\"_\"&B761,\"\")","v":""},{"$f":"IF(AND(D761<>\"\",E761<>\"\"),VLOOKUP(D761,Lookups!E:F,2,FALSE)&IF(E761<8,\"*\",\"\"),\"\")","v":""},"",""]
[null,null,"",null,null,null,null,{"$f":"IF(AND(A762<>\"\",B762<>\"\"),VLOOKUP(A762,Lookups!A:B,2,FALSE)&\"_\"&B762,\"\")","v":""},{"$f":"IF(AND(D762<>\"\",E762<>\"\"),VLOOKUP(D762,Lookups!E:F,2,FALSE)&IF(E762<8,\"*\",\"\"),\"\")","v":""},"",""]
[null,null,{"$f":"IF(B763=\"\",\"\",TEXT(WEEKDAY(B763),\"aaaa\"))","v":""},null,null,null,null,{"$f":"IF(AND(A763<>\"\",B763<>\"\"),VLOOKUP(A763,Lookups!A:B,2,FALSE)&\"_\"&B763,\"\")","v":""},{"$f":"IF(AND(D763<>\"\",E763<>\"\"),VLOOKUP(D763,Lookups!E:F,2,FALSE)&IF(E763<8,\"*\",\"\"),\"\")","v":""},"",""]
[null,null,"",null,null,null,null,{"$f":"IF(AND(A764<>\"\",B764<>\"\"),VLOOKUP(A764,Lookups!A:B,2,FALSE)&\"_\"&B764,\"\")","v":""},{"$f":"IF(AND(D764<>\"\",E764<>\"\"),VLOOKUP(D764,Lookups!E:F,2,FALSE)&IF(E764<8,\"*\",\"\"),\"\")","v":""},"",""]
[null,null,"",null,null,null,null,{"$f":"IF(AND(A765<>\"\",B765<>\"\"),VLOOKUP(A765,Lookups!A:B,2,FALSE)&\"_\"&B765,\"\")","v":""},{"$f":"IF(AND(D765<>\"\",E765<>\"\"),VLOOKUP(D765,Lookups!E:F,2,FALSE)&IF(E765<8,\"*\",\"\"),\"\")","v":""},"",""]
[null,null,"",null,null,null,null,{"$f":"IF(AND(A766<>\"\",B766<>\"\"),VLOOKUP(A766,Lookups!A:B,2,FALSE)&\"_\"&B766,\"\")","v":""},{"$f":"IF(AND(D766<>\"\",E766<>\"\"),VLOOKUP(D766,Lookups!E:F,2,FALSE)&IF(E766<8,\"*\",\"\"),\"\")","v":""},"",""]
[null,null,"",null,null,null,null,{"$f":"IF(AND(A767<>\"\",B767<>\"\"),VLOOKUP(A767,Lookups!A:B,2,FALSE)&\"_\"&B767,\"\")","v":""},{"$f":"IF(AND(D767<>\"\",E767<>\"\"),VLOOKUP(D767,Lookups!E:F,2,FALSE)&IF(E767<8,\"*\",\"\"),\"\")","v":""},"",""]
[null,null,"",null,null,null,null,{"$f":"IF(AND(A768<>\"\",B768<>\"\"),VLOOKUP(A768,Lookups!A:B,2,FALSE)&\"_\"&B768,\"\")","v":""},{"$f":"IF(AND(D768<>\"\",E768<>\"\"),VLOOKUP(D768,Lookups!E:F,2,FALSE)&IF(E768<8,\"*\",\"\"),\"\")","v":""},"",""]
[null,null,"",null,null,null,null,{"$f":"IF(AND(A769<>\"\",B769<>\"\"),VLOOKUP(A769,Lookups!A:B,2,FALSE)&\"_\"&B769,\"\")","v":""},{"$f":"IF(AND(D769<>\"\",E769<>\"\"),VLOOKUP(D769,Lookups!E:F,2,FALSE)&IF(E769<8,\"*\",\"\"),\"\")","v":""},"",""]
[null,null,"",null,null,null,null,{"$f":"IF(AND(A770<>\"\",B770<>\"\"),VLOOKUP(A770,Lookups!A:B,2,FALSE)&\"_\"&B770,\"\")","v":""},{"$f":"IF(AND(D770<>\"\",E770<>\"\"),VLOOKUP(D770,Lookups!E:F,2,FALSE)&IF(E770<8,\"*\",\"\"),\"\")","v":""},"",""]
[null,null,"",null,null,null,null,{"$f":"IF(AND(A771<>\"\",B771<>\"\"),VLOOKUP(A771,Lookups!A:B,2,FALSE)&\"_\"&B771,\"\")","v":""},{"$f":"IF(AND(D771<>\"\",E771<>\"\"),VLOOKUP(D771,Lookups!E:F,2,FALSE)&IF(E771<8,\"*\",\"\"),\"\")","v":""},"",""]
[null,null,"",null,null,null,null,{"$f":"IF(AND(A772<>\"\",B772<>\"\"),VLOOKUP(A772,Lookups!A:B,2,FALSE)&\"_\"&B772,\"\")","v":""},{"$f":"IF(AND(D772<>\"\",E772<>\"\"),VLOOKUP(D772,Lookups!E:F,2,FALSE)&IF(E772<8,\"*\",\"\"),\"\")","v":""},"",""]
[null,null,"",null,null,null,null,{"$f":"IF(AND(A773<>\"\",B773<>\"\"),VLOOKUP(A773,Lookups!A:B,2,FALSE)&\"_\"&B773,\"\")","v":""},{"$f":"IF(AND(D773<>\"\",E773<>\"\"),VLOOKUP(D773,Lookups!E:F,2,FALSE)&IF(E773<8,\"*\",\"\"),\"\")","v":""},"",""]
[null,null,"",null,null,null,null,{"$f":"IF(AND(A774<>\"\",B774<>\"\"),VLOOKUP(A774,Lookups!A:B,2,FALSE)&\"_\"&B774,\"\")","v":""},{"$f":"IF(AND(D774<>\"\",E774<>\"\"),VLOOKUP(D774,Lookups!E:F,2,FALSE)&IF(E774<8,\"*\",\"\"),\"\")","v":""},"",""]
[null,null,"",null,null,null,null,{"$f":"IF(AND(A775<>\"\",B775<>\"\"),VLOOKUP(A775,Lookups!A:B,2,FALSE)&\"_\"&B775,\"\")","v":""},{"$f":"IF(AND(D775<>\"\",E775<>\"\"),VLOOKUP(D775,Lookups!E:F,2,FALSE)&IF(E775<8,\"*\",\"\"),\"\")","v":""},"",""]
[null,null,"",null,null,null,null,{"$f":"IF(AND(A776<>\"\",B776<>\"\"),VLOOKUP(A776,Lookups!A:B,2,FALSE)&\"_\"&B776,\"\")","v":""},{"$f":"IF(AND(D776<>\"\",E776<>\"\"),VLOOKUP(D776,Lookups!E:F,2,FALSE)&IF(E776<8,\"*\",\"\"),\"\")","v":""},"",""]
[null,null,"",null,null,null,null,{"$f":"IF(AND(A777<>\"\",B777<>\"\"),VLOOKUP(A777,Lookups!A:B,2,FALSE)&\"_\"&B777,\"\")","v":""},{"$f":"IF(AND(D777<>\"\",E777<>\"\"),VLOOKUP(D777,Lookups!E:F,2,FALSE)&IF(E777<8,\"*\",\"\"),\"\")","v":""},"",""]
[null,null,"",null,null,null,null,{"$f":"IF(AND(A778<>\"\",B778<>\"\"),VLOOKUP(A778,Lookups!A:B,2,FALSE)&\"_\"&B778,\"\")","v":""},{"$f":"IF(AND(D778<>\"\",E778<>\"\"),VLOOKUP(D778,Lookups!E:F,2,FALSE)&IF(E778<8,\"*\",\"\"),\"\")","v":""},"",""]
[null,null,"",null,null,null,null,{"$f":"IF(AND(A779<>\"\",B779<>\"\"),VLOOKUP(A779,Lookups!A:B,2,FALSE)&\"_\"&B779,\"\")","v":""},{"$f":"IF(AND(D779<>\"\",E779<>\"\"),VLOOKUP(D779,Lookups!E:F,2,FALSE)&IF(E779<8,\"*\",\"\"),\"\")","v":""},"",""]
[null,null,"",null,null,null,null,{"$f":"IF(AND(A780<>\"\",B780<>\"\"),VLOOKUP(A780,Lookups!A:B,2,FALSE)&\"_\"&B780,\"\")","v":""},{"$f":"IF(AND(D780<>\"\",E780<>\"\"),VLOOKUP(D780,Lookups!E:F,2,FALSE)&IF(E780<8,\"*\",\"\"),\"\")","v":""},"",""]
[null,null,"",null,null,null,null,{"$f":"IF(AND(A781<>\"\",B781<>\"\"),VLOOKUP(A781,Lookups!A:B,2,FALSE)&\"_\"&B781,\"\")","v":""},{"$f":"IF(AND(D781<>\"\",E781<>\"\"),VLOOKUP(D781,Lookups!E:F,2,FALSE)&IF(E781<8,\"*\",\"\"),\"\")","v":""},"",""]
[null,null,"",null,null,null,null,{"$f":"IF(AND(A782<>\"\",B782<>\"\"),VLOOKUP(A782,Lookups!A:B,2,FALSE)&\"_\"&B782,\"\")","v":""},{"$f":"IF(AND(D782<>\"\",E782<>\"\"),VLOOKUP(D782,Lookups!E:F,2,FALSE)&IF(E782<8,\"*\",\"\"),\"\")","v":""},"",""]
[null,null,"",null,null,null,null,{"$f":"IF(AND(A783<>\"\",B783<>\"\"),VLOOKUP(A783,Lookups!A:B,2,FALSE)&\"_\"&B783,\"\")","v":""},{"$f":"IF(AND(D783<>\"\",E783<>\"\"),VLOOKUP(D783,Lookups!E:F,2,FALSE)&IF(E783<8,\"*\",\"\"),\"\")","v":""},"",""]
[null,null,"",null,null,null,null,{"$f":"IF(AND(A784<>\"\",B784<>\"\"),VLOOKUP(A784,Lookups!A:B,2,FALSE)&\"_\"&B784,\"\")","v":""},{"$f":"IF(AND(D784<>\"\",E784<>\"\"),VLOOKUP(D784,Lookups!E:F,2,FALSE)&IF(E784<8,\"*\",\"\"),\"\")","v":""},"",""]
[null,null,"",null,null,null,null,{"$f":"IF(AND(A785<>\"\",B785<>\"\"),VLOOKUP(A785,Lookups!A:B,2,FALSE)&\"_\"&B785,\"\")","v":""},{"$f":"IF(AND(D785<>\"\",E785<>\"\"),VLOOKUP(D785,Lookups!E:F,2,FALSE)&IF(E785<8,\"*\",\"\"),\"\")","v":""},"",""]
[null,null,"",null,null,null,null,{"$f":"IF(AND(A786<>\"\",B786<>\"\"),VLOOKUP(A786,Lookups!A:B,2,FALSE)&\"_\"&B786,\"\")","v":""},{"$f":"IF(AND(D786<>\"\",E786<>\"\"),VLOOKUP(D786,Lookups!E:F,2,FALSE)&IF(E786<8,\"*\",\"\"),\"\")","v":""},"",""]
[null,null,"",null,null,null,null,{"$f":"IF(AND(A787<>\"\",B787<>\"\"),VLOOKUP(A787,Lookups!A:B,2,FALSE)&\"_\"&B787,\"\")","v":""},{"$f":"IF(AND(D787<>\"\",E787<>\"\"),VLOOKUP(D787,Lookups!E:F,2,FALSE)&IF(E787<8,\"*\",\"\"),\"\")","v":""},"",""]
[null,null,"",null,null,null,null,{"$f":"IF(AND(A788<>\"\",B788<>\"\"),VLOOKUP(A788,Lookups!A:B,2,FALSE)&\"_\"&B788,\"\")","v":""},{"$f":"IF(AND(D788<>\"\",E788<>\"\"),VLOOKUP(D788,Lookups!E:F,2,FALSE)&IF(E788<8,\"*\",\"\"),\"\")","v":""},"",""]
[null,null,"",null,null,null,null,{"$f":"IF(AND(A789<>\"\",B789<>\"\"),VLOOKUP(A789,Lookups!A:B,2,FALSE)&\"_\"&B789,\"\")","v":""},{"$f":"IF(AND(D789<>\"\",E789<>\"\"),VLOOKUP(D789,Lookups!E:F,2,FALSE)&IF(E789<8,\"*\",\"\"),\"\")","v":""},"",""]
[null,null,"",null,null,null,null,{"$f":"IF(AND(A790<>\"\",B790<>\"\"),VLOOKUP(A790,Lookups!A:B,2,FALSE)&\"_\"&B790,\"\")","v":""},{"$f":"IF(AND(D790<>\"\",E790<>\"\"),VLOOKUP(D790,Lookups!E:F,2,FALSE)&IF(E790<8,\"*\",\"\"),\"\")","v":""},"",""]
[null,null,"",null,null,null,null,{"$f":"IF(AND(A791<>\"\",B791<>\"\"),VLOOKUP(A791,Lookups!A:B,2,FALSE)&\"_\"&B791,\"\")","v":""},{"$f":"IF(AND(D791<>\"\",E791<>\"\"),VLOOKUP(D791,Lookups!E:F,2,FALSE)&IF(E791<8,\"*\",\"\"),\"\")","v":""},"",""]
[null,null,"",null,null,null,null,{"$f":"IF(AND(A792<>\"\",B792<>\"\"),VLOOKUP(A792,Lookups!A:B,2,FALSE)&\"_\"&B792,\"\")","v":""},{"$f":"IF(AND(D792<>\"\",E792<>\"\"),VLOOKUP(D792,Lookups!E:F,2,FALSE)&IF(E792<8,\"*\",\"\"),\"\")","v":""},"",""]
[null,null,"",null,null,null,null,{"$f":"IF(AND(A793<>\"\",B793<>\"\"),VLOOKUP(A793,Lookups!A:B,2,FALSE)&\"_\"&B793,\"\")","v":""},{"$f":"IF(AND(D793<>\"\",E793<>\"\"),VLOOKUP(D793,Lookups!E:F,2,FALSE)&IF(E793<8,\"*\",\"\"),\"\")","v":""},"",""]
[null,null,"",null,null,null,null,{"$f":"IF(AND(A794<>\"\",B794<>\"\"),VLOOKUP(A794,Lookups!A:B,2,FALSE)&\"_\"&B794,\"\")","v":""},{"$f":"IF(AND(D794<>\"\",E794<>\"\"),VLOOKUP(D794,Lookups!E:F,2,FALSE)&IF(E794<8,\"*\",\"\"),\"\")","v":""},"",""]
[null,null,"",null,null,null,null,{"$f":"IF(AND(A795<>\"\",B795<>\"\"),VLOOKUP(A795,Lookups!A:B,2,FALSE)&\"_\"&B795,\"\")","v":""},{"$f":"IF(AND(D795<>\"\",E795<>\"\"),VLOOKUP(D795,Lookups!E:F,2,FALSE)&IF(E795<8,\"*\",\"\"),\"\")","v":""},"",""]
[null,null,"",null,null,null,null,{"$f":"IF(AND(A796<>\"\",B796<>\"\"),VLOOKUP(A796,Lookups!A:B,2,FALSE)&\"_\"&B796,\"\")","v":""},{"$f":"IF(AND(D796<>\"\",E796<>\"\"),VLOOKUP(D796,Lookups!E:F,2,FALSE)&IF(E796<8,\"*\",\"\"),\"\")","v":""},"",""]
[null,null,"",null,null,null,null,{"$f":"IF(AND(A797<>\"\",B797<>\"\"),VLOOKUP(A797,Lookups!A:B,2,FALSE)&\"_\"&B797,\"\")","v":""},{"$f":"IF(AND(D797<>\"\",E797<>\"\"),VLOOKUP(D797,Lookups!E:F,2,FALSE)&IF(E797<8,\"*\",\"\"),\"\")","v":""},"",""]
[null,null,"",null,null,null,null,{"$f":"IF(AND(A798<>\"\",B798<>\"\"),VLOOKUP(A798,Lookups!A:B,2,FALSE)&\"_\"&B798,\"\")","v":""},{"$f":"IF(AND(D798<>\"\",E798<>\"\"),VLOOKUP(D798,Lookups!E:F,2,FALSE)&IF(E798<8,\"*\",\"\"),\"\")","v":""},"",""]
[null,null,"",null,null,null,null,{"$f":"IF(AND(A799<>\"\",B799<>\"\"),VLOOKUP(A799,Lookups!A:B,2,FALSE)&\"_\"&B799,\"\")","v":""},{"$f":"IF(AND(D799<>\"\",E799<>\"\"),VLOOKUP(D799,Lookups!E:F,2,FALSE)&IF(E799<8,\"*\",\"\"),\"\")","v":""},"",""]
[null,null,"",null,null,null,null,{"$f":"IF(AND(A800<>\"\",B800<>\"\"),VLOOKUP(A800,Lookups!A:B,2,FALSE)&\"_\"&B800,\"\")","v":""},{"$f":"IF(AND(D800<>\"\",E800<>\"\"),VLOOKUP(D800,Lookups!E:F,2,FALSE)&IF(E800<8,\"*\",\"\"),\"\")","v":""},{"$f":"IF(F800=\"\",\"\",F800)","v":""},{"$f":"IF(G800=\"\",\"\",G800)","v":""}]
[null,null,"",null,null,null,null,{"$f":"IF(AND(A801<>\"\",B801<>\"\"),VLOOKUP(A801,Lookups!A:B,2,FALSE)&\"_\"&B801,\"\")","v":""},{"$f":"IF(AND(D801<>\"\",E801<>\"\"),VLOOKUP(D801,Lookups!E:F,2,FALSE)&IF(E801<8,\"*\",\"\"),\"\")","v":""},"",""]
[null,null,"",null,null,null,null,{"$f":"IF(AND(A802<>\"\",B802<>\"\"),VLOOKUP(A802,Lookups!A:B,2,FALSE)&\"_\"&B802,\"\")","v":""},{"$f":"IF(AND(D802<>\"\",E802<>\"\"),VLOOKUP(D802,Lookups!E:F,2,FALSE)&IF(E802<8,\"*\",\"\"),\"\")","v":""},"",""]
[null,null,"",null,null,null,null,{"$f":"IF(AND(A803<>\"\",B803<>\"\"),VLOOKUP(A803,Lookups!A:B,2,FALSE)&\"_\"&B803,\"\")","v":""},{"$f":"IF(AND(D803<>\"\",E803<>\"\"),VLOOKUP(D803,Lookups!E:F,2,FALSE)&IF(E803<8,\"*\",\"\"),\"\")","v":""},"",""]
[null,null,"",null,null,null,null,{"$f":"IF(AND(A804<>\"\",B804<>\"\"),VLOOKUP(A804,Lookups!A:B,2,FALSE)&\"_\"&B804,\"\")","v":""},{"$f":"IF(AND(D804<>\"\",E804<>\"\"),VLOOKUP(D804,Lookups!E:F,2,FALSE)&IF(E804<8,\"*\",\"\"),\"\")","v":""},"",""]
[null,null,"",null,null,null,null,{"$f":"IF(AND(A805<>\"\",B805<>\"\"),VLOOKUP(A805,Lookups!A:B,2,FALSE)&\"_\"&B805,\"\")","v":""},{"$f":"IF(AND(D805<>\"\",E805<>\"\"),VLOOKUP(D805,Lookups!E:F,2,FALSE)&IF(E805<8,\"*\",\"\"),\"\")","v":""},"",""]
[null,null,"",null,null,null,null,{"$f":"IF(AND(A806<>\"\",B806<>\"\"),VLOOKUP(A806,Lookups!A:B,2,FALSE)&\"_\"&B806,\"\")","v":""},{"$f":"IF(AND(D806<>\"\",E806<>\"\"),VLOOKUP(D806,Lookups!E:F,2,FALSE)&IF(E806<8,\"*\",\"\"),\"\")","v":""},"",""]
[null,null,"",null,null,null,null,{"$f":"IF(AND(A807<>\"\",B807<>\"\"),VLOOKUP(A807,Lookups!A:B,2,FALSE)&\"_\"&B807,\"\")","v":""},{"$f":"IF(AND(D807<>\"\",E807<>\"\"),VLOOKUP(D807,Lookups!E:F,2,FALSE)&IF(E807<8,\"*\",\"\"),\"\")","v":""},"",""]
[null,null,"",null,null,null,null,{"$f":"IF(AND(A808<>\"\",B808<>\"\"),VLOOKUP(A808,Lookups!A:B,2,FALSE)&\"_\"&B808,\"\")","v":""},{"$f":"IF(AND(D808<>\"\",E808<>\"\"),VLOOKUP(D808,Lookups!E:F,2,FALSE)&IF(E808<8,\"*\",\"\"),\"\")","v":""},"",""]
[null,null,"",null,null,null,null,{"$f":"IF(AND(A809<>\"\",B809<>\"\"),VLOOKUP(A809,Lookups!A:B,2,FALSE)&\"_\"&B809,\"\")","v":""},{"$f":"IF(AND(D809<>\"\",E809<>\"\"),VLOOKUP(D809,Lookups!E:F,2,FALSE)&IF(E809<8,\"*\",\"\"),\"\")","v":""},"",""]
[null,null,"",null,null,null,null,{"$f":"IF(AND(A810<>\"\",B810<>\"\"),VLOOKUP(A810,Lookups!A:B,2,FALSE)&\"_\"&B810,\"\")","v":""},{"$f":"IF(AND(D810<>\"\",E810<>\"\"),VLOOKUP(D810,Lookups!E:F,2,FALSE)&IF(E810<8,\"*\",\"\"),\"\")","v":""},"",""]
[null,null,"",null,null,null,null,{"$f":"IF(AND(A811<>\"\",B811<>\"\"),VLOOKUP(A811,Lookups!A:B,2,FALSE)&\"_\"&B811,\"\")","v":""},{"$f":"IF(AND(D811<>\"\",E811<>\"\"),VLOOKUP(D811,Lookups!E:F,2,FALSE)&IF(E811<8,\"*\",\"\"),\"\")","v":""},"",""]
[null,null,"",null,null,null,null,{"$f":"IF(AND(A812<>\"\",B812<>\"\"),VLOOKUP(A812,Lookups!A:B,2,FALSE)&\"_\"&B812,\"\")","v":""},{"$f":"IF(AND(D812<>\"\",E812<>\"\"),VLOOKUP(D812,Lookups!E:F,2,FALSE)&IF(E812<8,\"*\",\"\"),\"\")","v":""},"",""]
[null,null,"",null,null,null,null,{"$f":"IF(AND(A813<>\"\",B813<>\"\"),VLOOKUP(A813,Lookups!A:B,2,FALSE)&\"_\"&B813,\"\")","v":""},{"$f":"IF(AND(D813<>\"\",E813<>\"\"),VLOOKUP(D813,Lookups!E:F,2,FALSE)&IF(E813<8,\"*\",\"\"),\"\")","v":""},"",""]
[null,null,"",null,null,null,null,{"$f":"IF(AND(A814<>\"\",B814<>\"\"),VLOOKUP(A814,Lookups!A:B,2,FALSE)&\"_\"&B814,\"\")","v":""},{"$f":"IF(AND(D814<>\"\",E814<>\"\"),VLOOKUP(D814,Lookups!E:F,2,FALSE)&IF(E814<8,\"*\",\"\"),\"\")","v":""},"",""]
[null,null,"",null,null,null,null,{"$f":"IF(AND(A815<>\"\",B815<>\"\"),VLOOKUP(A815,Lookups!A:B,2,FALSE)&\"_\"&B815,\"\")","v":""},{"$f":"IF(AND(D815<>\"\",E815<>\"\"),VLOOKUP(D815,Lookups!E:F,2,FALSE)&IF(E815<8,\"*\",\"\"),\"\")","v":""},"",""]
[null,null,"",null,null,null,null,{"$f":"IF(AND(A816<>\"\",B816<>\"\"),VLOOKUP(A816,Lookups!A:B,2,FALSE)&\"_\"&B816,\"\")","v":""},{"$f":"IF(AND(D816<>\"\",E816<>\"\"),VLOOKUP(D816,Lookups!E:F,2,FALSE)&IF(E816<8,\"*\",\"\"),\"\")","v":""},"",""]
[null,null,"",null,null,null,null,{"$f":"IF(AND(A817<>\"\",B817<>\"\"),VLOOKUP(A817,Lookups!A:B,2,FALSE)&\"_\"&B817,\"\")","v":""},{"$f":"IF(AND(D817<>\"\",E817<>\"\"),VLOOKUP(D817,Lookups!E:F,2,FALSE)&IF(E817<8,\"*\",\"\"),\"\")","v":""},"",""]
[null,null,"",null,null,null,null,{"$f":"IF(AND(A818<>\"\",B818<>\"\"),VLOOKUP(A818,Lookups!A:B,2,FALSE)&\"_\"&B818,\"\")","v":""},{"$f":"IF(AND(D818<>\"\",E818<>\"\"),VLOOKUP(D818,Lookups!E:F,2,FALSE)&IF(E818<8,\"*\",\"\"),\"\")","v":""},"",""]
[null,null,"",null,null,null,null,{"$f":"IF(AND(A819<>\"\",B819<>\"\"),VLOOKUP(A819,Lookups!A:B,2,FALSE)&\"_\"&B819,\"\")","v":""},{"$f":"IF(AND(D819<>\"\",E819<>\"\"),VLOOKUP(D819,Lookups!E:F,2,FALSE)&IF(E819<8,\"*\",\"\"),\"\")","v":""},"",""]
[null,null,"",null,null,null,null,{"$f":"IF(AND(A820<>\"\",B820<>\"\"),VLOOKUP(A820,Lookups!A:B,2,FALSE)&\"_\"&B820,\"\")","v":""},{"$f":"IF(AND(D820<>\"\",E820<>\"\"),VLOOKUP(D820,Lookups!E:F,2,FALSE)&IF(E820<8,\"*\",\"\"),\"\")","v":""},"",""]
[null,null,"",null,null,null,null,{"$f":"IF(AND(A821<>\"\",B821<>\"\"),VLOOKUP(A821,Lookups!A:B,2,FALSE)&\"_\"&B821,\"\")","v":""},{"$f":"IF(AND(D821<>\"\",E821<>\"\"),VLOOKUP(D821,Lookups!E:F,2,FALSE)&IF(E821<8,\"*\",\"\"),\"\")","v":""},"",""]
[null,null,"",null,null,null,null,{"$f":"IF(AND(A822<>\"\",B822<>\"\"),VLOOKUP(A822,Lookups!A:B,2,FALSE)&\"_\"&B822,\"\")","v":""},{"$f":"IF(AND(D822<>\"\",E822<>\"\"),VLOOKUP(D822,Lookups!E:F,2,FALSE)&IF(E822<8,\"*\",\"\"),\"\")","v":""},"",""]
[null,null,"",null,null,null,null,{"$f":"IF(AND(A823<>\"\",B823<>\"\"),VLOOKUP(A823,Lookups!A:B,2,FALSE)&\"_\"&B823,\"\")","v":""},{"$f":"IF(AND(D823<>\"\",E823<>\"\"),VLOOKUP(D823,Lookups!E:F,2,FALSE)&IF(E823<8,\"*\",\"\"),\"\")","v":""},"",""]
[null,null,"",null,null,null,null,{"$f":"IF(AND(A824<>\"\",B824<>\"\"),VLOOKUP(A824,Lookups!A:B,2,FALSE)&\"_\"&B824,\"\")","v":""},{"$f":"IF(AND(D824<>\"\",E824<>\"\"),VLOOKUP(D824,Lookups!E:F,2,FALSE)&IF(E824<8,\"*\",\"\"),\"\")","v":""},"",""]
[null,null,"",null,null,null,null,{"$f":"IF(AND(A825<>\"\",B825<>\"\"),VLOOKUP(A825,Lookups!A:B,2,FALSE)&\"_\"&B825,\"\")","v":""},{"$f":"IF(AND(D825<>\"\",E825<>\"\"),VLOOKUP(D825,Lookups!E:F,2,FALSE)&IF(E825<8,\"*\",\"\"),\"\")","v":""},"",""]
[null,null,"",null,null,null,null,{"$f":"IF(AND(A826<>\"\",B826<>\"\"),VLOOKUP(A826,Lookups!A:B,2,FALSE)&\"_\"&B826,\"\")","v":""},{"$f":"IF(AND(D826<>\"\",E826<>\"\"),VLOOKUP(D826,Lookups!E:F,2,FALSE)&IF(E826<8,\"*\",\"\"),\"\")","v":""},"",""]
[null,null,{"$f":"IF(B827=\"\",\"\",TEXT(WEEKDAY(B827),\"aaaa\"))","v":""},null,null,null,null,{"$f":"IF(AND(A827<>\"\",B827<>\"\"),VLOOKUP(A827,Lookups!A:B,2,FALSE)&\"_\"&B827,\"\")","v":""},{"$f":"IF(AND(D827<>\"\",E827<>\"\"),VLOOKUP(D827,Lookups!E:F,2,FALSE)&IF(E827<8,\"*\",\"\"),\"\")","v":""},"",""]
[null,null,"",null,null,null,null,{"$f":"IF(AND(A828<>\"\",B828<>\"\"),VLOOKUP(A828,Lookups!A:B,2,FALSE)&\"_\"&B828,\"\")","v":""},{"$f":"IF(AND(D828<>\"\",E828<>\"\"),VLOOKUP(D828,Lookups!E:F,2,FALSE)&IF(E828<8,\"*\",\"\"),\"\")","v":""},"",""]
[null,null,"",null,null,null,null,{"$f":"IF(AND(A829<>\"\",B829<>\"\"),VLOOKUP(A829,Lookups!A:B,2,FALSE)&\"_\"&B829,\"\")","v":""},{"$f":"IF(AND(D829<>\"\",E829<>\"\"),VLOOKUP(D829,Lookups!E:F,2,FALSE)&IF(E829<8,\"*\",\"\"),\"\")","v":""},"",""]
[null,null,"",null,null,null,null,{"$f":"IF(AND(A830<>\"\",B830<>\"\"),VLOOKUP(A830,Lookups!A:B,2,FALSE)&\"_\"&B830,\"\")","v":""},{"$f":"IF(AND(D830<>\"\",E830<>\"\"),VLOOKUP(D830,Lookups!E:F,2,FALSE)&IF(E830<8,\"*\",\"\"),\"\")","v":""},"",""]
[null,null,"",null,null,null,null,{"$f":"IF(AND(A831<>\"\",B831<>\"\"),VLOOKUP(A831,Lookups!A:B,2,FALSE)&\"_\"&B831,\"\")","v":""},{"$f":"IF(AND(D831<>\"\",E831<>\"\"),VLOOKUP(D831,Lookups!E:F,2,FALSE)&IF(E831<8,\"*\",\"\"),\"\")","v":""},"",""]
[null,null,"",null,null,null,null,{"$f":"IF(AND(A832<>\"\",B832<>\"\"),VLOOKUP(A832,Lookups!A:B,2,FALSE)&\"_\"&B832,\"\")","v":""},{"$f":"IF(AND(D832<>\"\",E832<>\"\"),VLOOKUP(D832,Lookups!E:F,2,FALSE)&IF(E832<8,\"*\",\"\"),\"\")","v":""},"",""]
[null,null,"",null,null,null,null,{"$f":"IF(AND(A833<>\"\",B833<>\"\"),VLOOKUP(A833,Lookups!A:B,2,FALSE)&\"_\"&B833,\"\")","v":""},{"$f":"IF(AND(D833<>\"\",E833<>\"\"),VLOOKUP(D833,Lookups!E:F,2,FALSE)&IF(E833<8,\"*\",\"\"),\"\")","v":""},"",""]
[null,null,"",null,null,null,null,{"$f":"IF(AND(A834<>\"\",B834<>\"\"),VLOOKUP(A834,Lookups!A:B,2,FALSE)&\"_\"&B834,\"\")","v":""},{"$f":"IF(AND(D834<>\"\",E834<>\"\"),VLOOKUP(D834,Lookups!E:F,2,FALSE)&IF(E834<8,\"*\",\"\"),\"\")","v":""},"",""]
[null,null,"",null,null,null,null,{"$f":"IF(AND(A835<>\"\",B835<>\"\"),VLOOKUP(A835,Lookups!A:B,2,FALSE)&\"_\"&B835,\"\")","v":""},{"$f":"IF(AND(D835<>\"\",E835<>\"\"),VLOOKUP(D835,Lookups!E:F,2,FALSE)&IF(E835<8,\"*\",\"\"),\"\")","v":""},"",""]
[null,null,"",null,null,null,null,{"$f":"IF(AND(A836<>\"\",B836<>\"\"),VLOOKUP(A836,Lookups!A:B,2,FALSE)&\"_\"&B836,\"\")","v":""},{"$f":"IF(AND(D836<>\"\",E836<>\"\"),VLOOKUP(D836,Lookups!E:F,2,FALSE)&IF(E836<8,\"*\",\"\"),\"\")","v":""},"",""]
[null,null,"",null,null,null,null,{"$f":"IF(AND(A837<>\"\",B837<>\"\"),VLOOKUP(A837,Lookups!A:B,2,FALSE)&\"_\"&B837,\"\")","v":""},{"$f":"IF(AND(D837<>\"\",E837<>\"\"),VLOOKUP(D837,Lookups!E:F,2,FALSE)&IF(E837<8,\"*\",\"\"),\"\")","v":""},"",""]
[null,null,"",null,null,null,null,{"$f":"IF(AND(A838<>\"\",B838<>\"\"),VLOOKUP(A838,Lookups!A:B,2,FALSE)&\"_\"&B838,\"\")","v":""},{"$f":"IF(AND(D838<>\"\",E838<>\"\"),VLOOKUP(D838,Lookups!E:F,2,FALSE)&IF(E838<8,\"*\",\"\"),\"\")","v":""},"",""]
[null,null,"",null,null,null,null,{"$f":"IF(AND(A839<>\"\",B839<>\"\"),VLOOKUP(A839,Lookups!A:B,2,FALSE)&\"_\"&B839,\"\")","v":""},{"$f":"IF(AND(D839<>\"\",E839<>\"\"),VLOOKUP(D839,Lookups!E:F,2,FALSE)&IF(E839<8,\"*\",\"\"),\"\")","v":""},"",""]
[null,null,"",null,null,null,null,{"$f":"IF(AND(A840<>\"\",B840<>\"\"),VLOOKUP(A840,Lookups!A:B,2,FALSE)&\"_\"&B840,\"\")","v":""},{"$f":"IF(AND(D840<>\"\",E840<>\"\"),VLOOKUP(D840,Lookups!E:F,2,FALSE)&IF(E840<8,\"*\",\"\"),\"\")","v":""},"",""]
[null,null,"",null,null,null,null,{"$f":"IF(AND(A841<>\"\",B841<>\"\"),VLOOKUP(A841,Lookups!A:B,2,FALSE)&\"_\"&B841,\"\")","v":""},{"$f":"IF(AND(D841<>\"\",E841<>\"\"),VLOOKUP(D841,Lookups!E:F,2,FALSE)&IF(E841<8,\"*\",\"\"),\"\")","v":""},"",""]
[null,null,"",null,null,null,null,{"$f":"IF(AND(A842<>\"\",B842<>\"\"),VLOOKUP(A842,Lookups!A:B,2,FALSE)&\"_\"&B842,\"\")","v":""},{"$f":"IF(AND(D842<>\"\",E842<>\"\"),VLOOKUP(D842,Lookups!E:F,2,FALSE)&IF(E842<8,\"*\",\"\"),\"\")","v":""},"",""]
[null,null,"",null,null,null,null,{"$f":"IF(AND(A843<>\"\",B843<>\"\"),VLOOKUP(A843,Lookups!A:B,2,FALSE)&\"_\"&B843,\"\")","v":""},{"$f":"IF(AND(D843<>\"\",E843<>\"\"),VLOOKUP(D843,Lookups!E:F,2,FALSE)&IF(E843<8,\"*\",\"\"),\"\")","v":""},"",""]
[null,null,"",null,null,null,null,{"$f":"IF(AND(A844<>\"\",B844<>\"\"),VLOOKUP(A844,Lookups!A:B,2,FALSE)&\"_\"&B844,\"\")","v":""},{"$f":"IF(AND(D844<>\"\",E844<>\"\"),VLOOKUP(D844,Lookups!E:F,2,FALSE)&IF(E844<8,\"*\",\"\"),\"\")","v":""},"",""]
[null,null,"",null,null,null,null,{"$f":"IF(AND(A845<>\"\",B845<>\"\"),VLOOKUP(A845,Lookups!A:B,2,FALSE)&\"_\"&B845,\"\")","v":""},{"$f":"IF(AND(D845<>\"\",E845<>\"\"),VLOOKUP(D845,Lookups!E:F,2,FALSE)&IF(E845<8,\"*\",\"\"),\"\")","v":""},"",""]
[null,null,"",null,null,null,null,{"$f":"IF(AND(A846<>\"\",B846<>\"\"),VLOOKUP(A846,Lookups!A:B,2,FALSE)&\"_\"&B846,\"\")","v":""},{"$f":"IF(AND(D846<>\"\",E846<>\"\"),VLOOKUP(D846,Lookups!E:F,2,FALSE)&IF(E846<8,\"*\",\"\"),\"\")","v":""},"",""]
[null,null,"",null,null,null,null,{"$f":"IF(AND(A847<>\"\",B847<>\"\"),VLOOKUP(A847,Lookups!A:B,2,FALSE)&\"_\"&B847,\"\")","v":""},{"$f":"IF(AND(D847<>\"\",E847<>\"\"),VLOOKUP(D847,Lookups!E:F,2,FALSE)&IF(E847<8,\"*\",\"\"),\"\")","v":""},"",""]
[null,null,"",null,null,null,null,{"$f":"IF(AND(A848<>\"\",B848<>\"\"),VLOOKUP(A848,Lookups!A:B,2,FALSE)&\"_\"&B848,\"\")","v":""},{"$f":"IF(AND(D848<>\"\",E848<>\"\"),VLOOKUP(D848,Lookups!E:F,2,FALSE)&IF(E848<8,\"*\",\"\"),\"\")","v":""},"",""]
[null,null,"",null,null,null,null,{"$f":"IF(AND(A849<>\"\",B849<>\"\"),VLOOKUP(A849,Lookups!A:B,2,FALSE)&\"_\"&B849,\"\")","v":""},{"$f":"IF(AND(D849<>\"\",E849<>\"\"),VLOOKUP(D849,Lookups!E:F,2,FALSE)&IF(E849<8,\"*\",\"\"),\"\")","v":""},"",""]
[null,null,"",null,null,null,null,{"$f":"IF(AND(A850<>\"\",B850<>\"\"),VLOOKUP(A850,Lookups!A:B,2,FALSE)&\"_\"&B850,\"\")","v":""},{"$f":"IF(AND(D850<>\"\",E850<>\"\"),VLOOKUP(D850,Lookups!E:F,2,FALSE)&IF(E850<8,\"*\",\"\"),\"\")","v":""},"",""]
[null,null,"",null,null,null,null,{"$f":"IF(AND(A851<>\"\",B851<>\"\"),VLOOKUP(A851,Lookups!A:B,2,FALSE)&\"_\"&B851,\"\")","v":""},{"$f":"IF(AND(D851<>\"\",E851<>\"\"),VLOOKUP(D851,Lookups!E:F,2,FALSE)&IF(E851<8,\"*\",\"\"),\"\")","v":""},"",""]
[null,null,"",null,null,null,null,{"$f":"IF(AND(A852<>\"\",B852<>\"\"),VLOOKUP(A852,Lookups!A:B,2,FALSE)&\"_\"&B852,\"\")","v":""},{"$f":"IF(AND(D852<>\"\",E852<>\"\"),VLOOKUP(D852,Lookups!E:F,2,FALSE)&IF(E852<8,\"*\",\"\"),\"\")","v":""},"",""]
[null,null,"",null,null,null,null,{"$f":"IF(AND(A853<>\"\",B853<>\"\"),VLOOKUP(A853,Lookups!A:B,2,FALSE)&\"_\"&B853,\"\")","v":""},{"$f":"IF(AND(D853<>\"\",E853<>\"\"),VLOOKUP(D853,Lookups!E:F,2,FALSE)&IF(E853<8,\"*\",\"\"),\"\")","v":""},"",""]
[null,null,"",null,null,null,null,{"$f":"IF(AND(A854<>\"\",B854<>\"\"),VLOOKUP(A854,Lookups!A:B,2,FALSE)&\"_\"&B854,\"\")","v":""},{"$f":"IF(AND(D854<>\"\",E854<>\"\"),VLOOKUP(D854,Lookups!E:F,2,FALSE)&IF(E854<8,\"*\",\"\"),\"\")","v":""},"",""]
[null,null,"",null,null,null,null,{"$f":"IF(AND(A855<>\"\",B855<>\"\"),VLOOKUP(A855,Lookups!A:B,2,FALSE)&\"_\"&B855,\"\")","v":""},{"$f":"IF(AND(D855<>\"\",E855<>\"\"),VLOOKUP(D855,Lookups!E:F,2,FALSE)&IF(E855<8,\"*\",\"\"),\"\")","v":""},"",""]
[null,null,"",null,null,null,null,{"$f":"IF(AND(A856<>\"\",B856<>\"\"),VLOOKUP(A856,Lookups!A:B,2,FALSE)&\"_\"&B856,\"\")","v":""},{"$f":"IF(AND(D856<>\"\",E856<>\"\"),VLOOKUP(D856,Lookups!E:F,2,FALSE)&IF(E856<8,\"*\",\"\"),\"\")","v":""},"",""]
[null,null,"",null,null,null,null,{"$f":"IF(AND(A857<>\"\",B857<>\"\"),VLOOKUP(A857,Lookups!A:B,2,FALSE)&\"_\"&B857,\"\")","v":""},{"$f":"IF(AND(D857<>\"\",E857<>\"\"),VLOOKUP(D857,Lookups!E:F,2,FALSE)&IF(E857<8,\"*\",\"\"),\"\")","v":""},"",""]
[null,null,"",null,null,null,null,{"$f":"IF(AND(A858<>\"\",B858<>\"\"),VLOOKUP(A858,Lookups!A:B,2,FALSE)&\"_\"&B858,\"\")","v":""},{"$f":"IF(AND(D858<>\"\",E858<>\"\"),VLOOKUP(D858,Lookups!E:F,2,FALSE)&IF(E858<8,\"*\",\"\"),\"\")","v":""},"",""]
[null,null,"",null,null,null,null,{"$f":"IF(AND(A859<>\"\",B859<>\"\"),VLOOKUP(A859,Lookups!A:B,2,FALSE)&\"_\"&B859,\"\")","v":""},{"$f":"IF(AND(D859<>\"\",E859<>\"\"),VLOOKUP(D859,Lookups!E:F,2,FALSE)&IF(E859<8,\"*\",\"\"),\"\")","v":""},"",""]
[null,null,"",null,null,null,null,{"$f":"IF(AND(A860<>\"\",B860<>\"\"),VLOOKUP(A860,Lookups!A:B,2,FALSE)&\"_\"&B860,\"\")","v":""},{"$f":"IF(AND(D860<>\"\",E860<>\"\"),VLOOKUP(D860,Lookups!E:F,2,FALSE)&IF(E860<8,\"*\",\"\"),\"\")","v":""},"",""]
[null,null,"",null,null,null,null,{"$f":"IF(AND(A861<>\"\",B861<>\"\"),VLOOKUP(A861,Lookups!A:B,2,FALSE)&\"_\"&B861,\"\")","v":""},{"$f":"IF(AND(D861<>\"\",E861<>\"\"),VLOOKUP(D861,Lookups!E:F,2,FALSE)&IF(E861<8,\"*\",\"\"),\"\")","v":""},"",""]
[null,null,"",null,null,null,null,{"$f":"IF(AND(A862<>\"\",B862<>\"\"),VLOOKUP(A862,Lookups!A:B,2,FALSE)&\"_\"&B862,\"\")","v":""},{"$f":"IF(AND(D862<>\"\",E862<>\"\"),VLOOKUP(D862,Lookups!E:F,2,FALSE)&IF(E862<8,\"*\",\"\"),\"\")","v":""},"",""]
[null,null,"",null,null,null,null,{"$f":"IF(AND(A863<>\"\",B863<>\"\"),VLOOKUP(A863,Lookups!A:B,2,FALSE)&\"_\"&B863,\"\")","v":""},{"$f":"IF(AND(D863<>\"\",E863<>\"\"),VLOOKUP(D863,Lookups!E:F,2,FALSE)&IF(E863<8,\"*\",\"\"),\"\")","v":""},"",""]
[null,null,"",null,null,null,null,{"$f":"IF(AND(A864<>\"\",B864<>\"\"),VLOOKUP(A864,Lookups!A:B,2,FALSE)&\"_\"&B864,\"\")","v":""},{"$f":"IF(AND(D864<>\"\",E864<>\"\"),VLOOKUP(D864,Lookups!E:F,2,FALSE)&IF(E864<8,\"*\",\"\"),\"\")","v":""},{"$f":"IF(F864=\"\",\"\",F864)","v":""},{"$f":"IF(G864=\"\",\"\",G864)","v":""}]
[null,null,"",null,null,null,null,{"$f":"IF(AND(A865<>\"\",B865<>\"\"),VLOOKUP(A865,Lookups!A:B,2,FALSE)&\"_\"&B865,\"\")","v":""},{"$f":"IF(AND(D865<>\"\",E865<>\"\"),VLOOKUP(D865,Lookups!E:F,2,FALSE)&IF(E865<8,\"*\",\"\"),\"\")","v":""},"",""]
[null,null,"",null,null,null,null,{"$f":"IF(AND(A866<>\"\",B866<>\"\"),VLOOKUP(A866,Lookups!A:B,2,FALSE)&\"_\"&B866,\"\")","v":""},{"$f":"IF(AND(D866<>\"\",E866<>\"\"),VLOOKUP(D866,Lookups!E:F,2,FALSE)&IF(E866<8,\"*\",\"\"),\"\")","v":""},"",""]
[null,null,"",null,null,null,null,{"$f":"IF(AND(A867<>\"\",B867<>\"\"),VLOOKUP(A867,Lookups!A:B,2,FALSE)&\"_\"&B867,\"\")","v":""},{"$f":"IF(AND(D867<>\"\",E867<>\"\"),VLOOKUP(D867,Lookups!E:F,2,FALSE)&IF(E867<8,\"*\",\"\"),\"\")","v":""},"",""]
[null,null,"",null,null,null,null,{"$f":"IF(AND(A868<>\"\",B868<>\"\"),VLOOKUP(A868,Lookups!A:B,2,FALSE)&\"_\"&B868,\"\")","v":""},{"$f":"IF(AND(D868<>\"\",E868<>\"\"),VLOOKUP(D868,Lookups!E:F,2,FALSE)&IF(E868<8,\"*\",\"\"),\"\")","v":""},"",""]
[null,null,"",null,null,null,null,{"$f":"IF(AND(A869<>\"\",B869<>\"\"),VLOOKUP(A869,Lookups!A:B,2,FALSE)&\"_\"&B869,\"\")","v":""},{"$f":"IF(AND(D869<>\"\",E869<>\"\"),VLOOKUP(D869,Lookups!E:F,2,FALSE)&IF(E869<8,\"*\",\"\"),\"\")","v":""},"",""]
[null,null,"",null,null,null,null,{"$f":"IF(AND(A870<>\"\",B870<>\"\"),VLOOKUP(A870,Lookups!A:B,2,FALSE)&\"_\"&B870,\"\")","v":""},{"$f":"IF(AND(D870<>\"\",E870<>\"\"),VLOOKUP(D870,Lookups!E:F,2,FALSE)&IF(E870<8,\"*\",\"\"),\"\")","v":""},"",""]
[null,null,"",null,null,null,null,{"$f":"IF(AND(A871<>\"\",B871<>\"\"),VLOOKUP(A871,Lookups!A:B,2,FALSE)&\"_\"&B871,\"\")","v":""},{"$f":"IF(AND(D871<>\"\",E871<>\"\"),VLOOKUP(D871,Lookups!E:F,2,FALSE)&IF(E871<8,\"*\",\"\"),\"\")","v":""},"",""]
[null,null,"",null,null,null,null,{"$f":"IF(AND(A872<>\"\",B872<>\"\"),VLOOKUP(A872,Lookups!A:B,2,FALSE)&\"_\"&B872,\"\")","v":""},{"$f":"IF(AND(D872<>\"\",E872<>\"\"),VLOOKUP(D872,Lookups!E:F,2,FALSE)&IF(E872<8,\"*\",\"\"),\"\")","v":""},"",""]
[null,null,"",null,null,null,null,{"$f":"IF(AND(A873<>\"\",B873<>\"\"),VLOOKUP(A873,Lookups!A:B,2,FALSE)&\"_\"&B873,\"\")","v":""},{"$f":"IF(AND(D873<>\"\",E873<>\"\"),VLOOKUP(D873,Lookups!E:F,2,FALSE)&IF(E873<8,\"*\",\"\"),\"\")","v":""},"",""]
[null,null,"",null,null,null,null,{"$f":"IF(AND(A874<>\"\",B874<>\"\"),VLOOKUP(A874,Lookups!A:B,2,FALSE)&\"_\"&B874,\"\")","v":""},{"$f":"IF(AND(D874<>\"\",E874<>\"\"),VLOOKUP(D874,Lookups!E:F,2,FALSE)&IF(E874<8,\"*\",\"\"),\"\")","v":""},"",""]
[null,null,"",null,null,null,null,{"$f":"IF(AND(A875<>\"\",B875<>\"\"),VLOOKUP(A875,Lookups!A:B,2,FALSE)&\"_\"&B875,\"\")","v":""},{"$f":"IF(AND(D875<>\"\",E875<>\"\"),VLOOKUP(D875,Lookups!E:F,2,FALSE)&IF(E875<8,\"*\",\"\"),\"\")","v":""},"",""]
[null,null,"",null,null,null,null,{"$f":"IF(AND(A876<>\"\",B876<>\"\"),VLOOKUP(A876,Lookups!A:B,2,FALSE)&\"_\"&B876,\"\")","v":""},{"$f":"IF(AND(D876<>\"\",E876<>\"\"),VLOOKUP(D876,Lookups!E:F,2,FALSE)&IF(E876<8,\"*\",\"\"),\"\")","v":""},"",""]
[null,null,"",null,null,null,null,{"$f":"IF(AND(A877<>\"\",B877<>\"\"),VLOOKUP(A877,Lookups!A:B,2,FALSE)&\"_\"&B877,\"\")","v":""},{"$f":"IF(AND(D877<>\"\",E877<>\"\"),VLOOKUP(D877,Lookups!E:F,2,FALSE)&IF(E877<8,\"*\",\"\"),\"\")","v":""},"",""]
[null,null,"",null,null,null,null,{"$f":"IF(AND(A878<>\"\",B878<>\"\"),VLOOKUP(A878,Lookups!A:B,2,FALSE)&\"_\"&B878,\"\")","v":""},{"$f":"IF(AND(D878<>\"\",E878<>\"\"),VLOOKUP(D878,Lookups!E:F,2,FALSE)&IF(E878<8,\"*\",\"\"),\"\")","v":""},"",""]
[null,null,"",null,null,null,null,{"$f":"IF(AND(A879<>\"\",B879<>\"\"),VLOOKUP(A879,Lookups!A:B,2,FALSE)&\"_\"&B879,\"\")","v":""},{"$f":"IF(AND(D879<>\"\",E879<>\"\"),VLOOKUP(D879,Lookups!E:F,2,FALSE)&IF(E879<8,\"*\",\"\"),\"\")","v":""},"",""]
[null,null,"",null,null,null,null,{"$f":"IF(AND(A880<>\"\",B880<>\"\"),VLOOKUP(A880,Lookups!A:B,2,FALSE)&\"_\"&B880,\"\")","v":""},{"$f":"IF(AND(D880<>\"\",E880<>\"\"),VLOOKUP(D880,Lookups!E:F,2,FALSE)&IF(E880<8,\"*\",\"\"),\"\")","v":""},"",""]
[null,null,"",null,null,null,null,{"$f":"IF(AND(A881<>\"\",B881<>\"\"),VLOOKUP(A881,Lookups!A:B,2,FALSE)&\"_\"&B881,\"\")","v":""},{"$f":"IF(AND(D881<>\"\",E881<>\"\"),VLOOKUP(D881,Lookups!E:F,2,FALSE)&IF(E881<8,\"*\",\"\"),\"\")","v":""},"",""]
[null,null,"",null,null,null,null,{"$f":"IF(AND(A882<>\"\",B882<>\"\"),VLOOKUP(A882,Lookups!A:B,2,FALSE)&\"_\"&B882,\"\")","v":""},{"$f":"IF(AND(D882<>\"\",E882<>\"\"),VLOOKUP(D882,Lookups!E:F,2,FALSE)&IF(E882<8,\"*\",\"\"),\"\")","v":""},"",""]
[null,null,"",null,null,null,null,{"$f":"IF(AND(A883<>\"\",B883<>\"\"),VLOOKUP(A883,Lookups!A:B,2,FALSE)&\"_\"&B883,\"\")","v":""},{"$f":"IF(AND(D883<>\"\",E883<>\"\"),VLOOKUP(D883,Lookups!E:F,2,FALSE)&IF(E883<8,\"*\",\"\"),\"\")","v":""},"",""]
[null,null,"",null,null,null,null,{"$f":"IF(AND(A884<>\"\",B884<>\"\"),VLOOKUP(A884,Lookups!A:B,2,FALSE)&\"_\"&B884,\"\")","v":""},{"$f":"IF(AND(D884<>\"\",E884<>\"\"),VLOOKUP(D884,Lookups!E:F,2,FALSE)&IF(E884<8,\"*\",\"\"),\"\")","v":""},"",""]
[null,null,"",null,null,null,null,{"$f":"IF(AND(A885<>\"\",B885<>\"\"),VLOOKUP(A885,Lookups!A:B,2,FALSE)&\"_\"&B885,\"\")","v":""},{"$f":"IF(AND(D885<>\"\",E885<>\"\"),VLOOKUP(D885,Lookups!E:F,2,FALSE)&IF(E885<8,\"*\",\"\"),\"\")","v":""},"",""]
[null,null,"",null,null,null,null,{"$f":"IF(AND(A886<>\"\",B886<>\"\"),VLOOKUP(A886,Lookups!A:B,2,FALSE)&\"_\"&B886,\"\")","v":""},{"$f":"IF(AND(D886<>\"\",E886<>\"\"),VLOOKUP(D886,Lookups!E:F,2,FALSE)&IF(E886<8,\"*\",\"\"),\"\")","v":""},"",""]
[null,null,"",null,null,null,null,{"$f":"IF(AND(A887<>\"\",B887<>\"\"),VLOOKUP(A887,Lookups!A:B,2,FALSE)&\"_\"&B887,\"\")","v":""},{"$f":"IF(AND(D887<>\"\",E887<>\"\"),VLOOKUP(D887,Lookups!E:F,2,FALSE)&IF(E887<8,\"*\",\"\"),\"\")","v":""},"",""]
[null,null,"",null,null,null,null,{"$f":"IF(AND(A888<>\"\",B888<>\"\"),VLOOKUP(A888,Lookups!A:B,2,FALSE)&\"_\"&B888,\"\")","v":""},{"$f":"IF(AND(D888<>\"\",E888<>\"\"),VLOOKUP(D888,Lookups!E:F,2,FALSE)&IF(E888<8,\"*\",\"\"),\"\")","v":""},"",""]
[null,null,"",null,null,null,null,{"$f":"IF(AND(A889<>\"\",B889<>\"\"),VLOOKUP(A889,Lookups!A:B,2,FALSE)&\"_\"&B889,\"\")","v":""},{"$f":"IF(AND(D889<>\"\",E889<>\"\"),VLOOKUP(D889,Lookups!E:F,2,FALSE)&IF(E889<8,\"*\",\"\"),\"\")","v":""},"",""]
[null,null,"",null,null,null,null,{"$f":"IF(AND(A890<>\"\",B890<>\"\"),VLOOKUP(A890,Lookups!A:B,2,FALSE)&\"_\"&B890,\"\")","v":""},{"$f":"IF(AND(D890<>\"\",E890<>\"\"),VLOOKUP(D890,Lookups!E:F,2,FALSE)&IF(E890<8,\"*\",\"\"),\"\")","v":""},"",""]
[null,null,{"$f":"IF(B891=\"\",\"\",TEXT(WEEKDAY(B891),\"aaaa\"))","v":""},null,null,null,null,{"$f":"IF(AND(A891<>\"\",B891<>\"\"),VLOOKUP(A891,Lookups!A:B,2,FALSE)&\"_\"&B891,\"\")","v":""},{"$f":"IF(AND(D891<>\"\",E891<>\"\"),VLOOKUP(D891,Lookups!E:F,2,FALSE)&IF(E891<8,\"*\",\"\"),\"\")","v":""},"",""]
[null,null,"",null,null,null,null,{"$f":"IF(AND(A892<>\"\",B892<>\"\"),VLOOKUP(A892,Lookups!A:B,2,FALSE)&\"_\"&B892,\"\")","v":""},{"$f":"IF(AND(D892<>\"\",E892<>\"\"),VLOOKUP(D892,Lookups!E:F,2,FALSE)&IF(E892<8,\"*\",\"\"),\"\")","v":""},"",""]
[null,null,"",null,null,null,null,{"$f":"IF(AND(A893<>\"\",B893<>\"\"),VLOOKUP(A893,Lookups!A:B,2,FALSE)&\"_\"&B893,\"\")","v":""},{"$f":"IF(AND(D893<>\"\",E893<>\"\"),VLOOKUP(D893,Lookups!E:F,2,FALSE)&IF(E893<8,\"*\",\"\"),\"\")","v":""},"",""]
[null,null,"",null,null,null,null,{"$f":"IF(AND(A894<>\"\",B894<>\"\"),VLOOKUP(A894,Lookups!A:B,2,FALSE)&\"_\"&B894,\"\")","v":""},{"$f":"IF(AND(D894<>\"\",E894<>\"\"),VLOOKUP(D894,Lookups!E:F,2,FALSE)&IF(E894<8,\"*\",\"\"),\"\")","v":""},"",""]
[null,null,"",null,null,null,null,{"$f":"IF(AND(A895<>\"\",B895<>\"\"),VLOOKUP(A895,Lookups!A:B,2,FALSE)&\"_\"&B895,\"\")","v":""},{"$f":"IF(AND(D895<>\"\",E895<>\"\"),VLOOKUP(D895,Lookups!E:F,2,FALSE)&IF(E895<8,\"*\",\"\"),\"\")","v":""},"",""]
[null,null,"",null,null,null,null,{"$f":"IF(AND(A896<>\"\",B896<>\"\"),VLOOKUP(A896,Lookups!A:B,2,FALSE)&\"_\"&B896,\"\")","v":""},{"$f":"IF(AND(D896<>\"\",E896<>\"\"),VLOOKUP(D896,Lookups!E:F,2,FALSE)&IF(E896<8,\"*\",\"\"),\"\")","v":""},"",""]
[null,null,"",null,null,null,null,{"$f":"IF(AND(A897<>\"\",B897<>\"\"),VLOOKUP(A897,Lookups!A:B,2,FALSE)&\"_\"&B897,\"\")","v":""},{"$f":"IF(AND(D897<>\"\",E897<>\"\"),VLOOKUP(D897,Lookups!E:F,2,FALSE)&IF(E897<8,\"*\",\"\"),\"\")","v":""},"",""]
[null,null,"",null,null,null,null,{"$f":"IF(AND(A898<>\"\",B898<>\"\"),VLOOKUP(A898,Lookups!A:B,2,FALSE)&\"_\"&B898,\"\")","v":""},{"$f":"IF(AND(D898<>\"\",E898<>\"\"),VLOOKUP(D898,Lookups!E:F,2,FALSE)&IF(E898<8,\"*\",\"\"),\"\")","v":""},"",""]
[null,null,"",null,null,null,null,{"$f":"IF(AND(A899<>\"\",B899<>\"\"),VLOOKUP(A899,Lookups!A:B,2,FALSE)&\"_\"&B899,\"\")","v":""},{"$f":"IF(AND(D899<>\"\",E899<>\"\"),VLOOKUP(D899,Lookups!E:F,2,FALSE)&IF(E899<8,\"*\",\"\"),\"\")","v":""},"",""]
[null,null,"",null,null,null,null,{"$f":"IF(AND(A900<>\"\",B900<>\"\"),VLOOKUP(A900,Lookups!A:B,2,FALSE)&\"_\"&B900,\"\")","v":""},{"$f":"IF(AND(D900<>\"\",E900<>\"\"),VLOOKUP(D900,Lookups!E:F,2,FALSE)&IF(E900<8,\"*\",\"\"),\"\")","v":""},"",""]
[null,null,"",null,null,null,null,{"$f":"IF(AND(A901<>\"\",B901<>\"\"),VLOOKUP(A901,Lookups!A:B,2,FALSE)&\"_\"&B901,\"\")","v":""},{"$f":"IF(AND(D901<>\"\",E901<>\"\"),VLOOKUP(D901,Lookups!E:F,2,FALSE)&IF(E901<8,\"*\",\"\"),\"\")","v":""},"",""]
[null,null,"",null,null,null,null,{"$f":"IF(AND(A902<>\"\",B902<>\"\"),VLOOKUP(A902,Lookups!A:B,2,FALSE)&\"_\"&B902,\"\")","v":""},{"$f":"IF(AND(D902<>\"\",E902<>\"\"),VLOOKUP(D902,Lookups!E:F,2,FALSE)&IF(E902<8,\"*\",\"\"),\"\")","v":""},"",""]
[null,null,"",null,null,null,null,{"$f":"IF(AND(A903<>\"\",B903<>\"\"),VLOOKUP(A903,Lookups!A:B,2,FALSE)&\"_\"&B903,\"\")","v":""},{"$f":"IF(AND(D903<>\"\",E903<>\"\"),VLOOKUP(D903,Lookups!E:F,2,FALSE)&IF(E903<8,\"*\",\"\"),\"\")","v":""},"",""]
[null,null,"",null,null,null,null,{"$f":"IF(AND(A904<>\"\",B904<>\"\"),VLOOKUP(A904,Lookups!A:B,2,FALSE)&\"_\"&B904,\"\")","v":""},{"$f":"IF(AND(D904<>\"\",E904<>\"\"),VLOOKUP(D904,Lookups!E:F,2,FALSE)&IF(E904<8,\"*\",\"\"),\"\")","v":""},"",""]
[null,null,"",null,null,null,null,{"$f":"IF(AND(A905<>\"\",B905<>\"\"),VLOOKUP(A905,Lookups!A:B,2,FALSE)&\"_\"&B905,\"\")","v":""},{"$f":"IF(AND(D905<>\"\",E905<>\"\"),VLOOKUP(D905,Lookups!E:F,2,FALSE)&IF(E905<8,\"*\",\"\"),\"\")","v":""},"",""]
[null,null,"",null,null,null,null,{"$f":"IF(AND(A906<>\"\",B906<>\"\"),VLOOKUP(A906,Lookups!A:B,2,FALSE)&\"_\"&B906,\"\")","v":""},{"$f":"IF(AND(D906<>\"\",E906<>\"\"),VLOOKUP(D906,Lookups!E:F,2,FALSE)&IF(E906<8,\"*\",\"\"),\"\")","v":""},"",""]
[null,null,"",null,null,null,null,{"$f":"IF(AND(A907<>\"\",B907<>\"\"),VLOOKUP(A907,Lookups!A:B,2,FALSE)&\"_\"&B907,\"\")","v":""},{"$f":"IF(AND(D907<>\"\",E907<>\"\"),VLOOKUP(D907,Lookups!E:F,2,FALSE)&IF(E907<8,\"*\",\"\"),\"\")","v":""},"",""]
[null,null,"",null,null,null,null,{"$f":"IF(AND(A908<>\"\",B908<>\"\"),VLOOKUP(A908,Lookups!A:B,2,FALSE)&\"_\"&B908,\"\")","v":""},{"$f":"IF(AND(D908<>\"\",E908<>\"\"),VLOOKUP(D908,Lookups!E:F,2,FALSE)&IF(E908<8,\"*\",\"\"),\"\")","v":""},"",""]
[null,null,"",null,null,null,null,{"$f":"IF(AND(A909<>\"\",B909<>\"\"),VLOOKUP(A909,Lookups!A:B,2,FALSE)&\"_\"&B909,\"\")","v":""},{"$f":"IF(AND(D909<>\"\",E909<>\"\"),VLOOKUP(D909,Lookups!E:F,2,FALSE)&IF(E909<8,\"*\",\"\"),\"\")","v":""},"",""]
[null,null,"",null,null,null,null,{"$f":"IF(AND(A910<>\"\",B910<>\"\"),VLOOKUP(A910,Lookups!A:B,2,FALSE)&\"_\"&B910,\"\")","v":""},{"$f":"IF(AND(D910<>\"\",E910<>\"\"),VLOOKUP(D910,Lookups!E:F,2,FALSE)&IF(E910<8,\"*\",\"\"),\"\")","v":""},"",""]
[null,null,"",null,null,null,null,{"$f":"IF(AND(A911<>\"\",B911<>\"\"),VLOOKUP(A911,Lookups!A:B,2,FALSE)&\"_\"&B911,\"\")","v":""},{"$f":"IF(AND(D911<>\"\",E911<>\"\"),VLOOKUP(D911,Lookups!E:F,2,FALSE)&IF(E911<8,\"*\",\"\"),\"\")","v":""},"",""]
[null,null,"",null,null,null,null,{"$f":"IF(AND(A912<>\"\",B912<>\"\"),VLOOKUP(A912,Lookups!A:B,2,FALSE)&\"_\"&B912,\"\")","v":""},{"$f":"IF(AND(D912<>\"\",E912<>\"\"),VLOOKUP(D912,Lookups!E:F,2,FALSE)&IF(E912<8,\"*\",\"\"),\"\")","v":""},"",""]
[null,null,"",null,null,null,null,{"$f":"IF(AND(A913<>\"\",B913<>\"\"),VLOOKUP(A913,Lookups!A:B,2,FALSE)&\"_\"&B913,\"\")","v":""},{"$f":"IF(AND(D913<>\"\",E913<>\"\"),VLOOKUP(D913,Lookups!E:F,2,FALSE)&IF(E913<8,\"*\",\"\"),\"\")","v":""},"",""]
[null,null,"",null,null,null,null,{"$f":"IF(AND(A914<>\"\",B914<>\"\"),VLOOKUP(A914,Lookups!A:B,2,FALSE)&\"_\"&B914,\"\")","v":""},{"$f":"IF(AND(D914<>\"\",E914<>\"\"),VLOOKUP(D914,Lookups!E:F,2,FALSE)&IF(E914<8,\"*\",\"\"),\"\")","v":""},"",""]
[null,null,"",null,null,null,null,{"$f":"IF(AND(A915<>\"\",B915<>\"\"),VLOOKUP(A915,Lookups!A:B,2,FALSE)&\"_\"&B915,\"\")","v":""},{"$f":"IF(AND(D915<>\"\",E915<>\"\"),VLOOKUP(D915,Lookups!E:F,2,FALSE)&IF(E915<8,\"*\",\"\"),\"\")","v":""},"",""]
[null,null,"",null,null,null,null,{"$f":"IF(AND(A916<>\"\",B916<>\"\"),VLOOKUP(A916,Lookups!A:B,2,FALSE)&\"_\"&B916,\"\")","v":""},{"$f":"IF(AND(D916<>\"\",E916<>\"\"),VLOOKUP(D916,Lookups!E:F,2,FALSE)&IF(E916<8,\"*\",\"\"),\"\")","v":""},"",""]
[null,null,"",null,null,null,null,{"$f":"IF(AND(A917<>\"\",B917<>\"\"),VLOOKUP(A917,Lookups!A:B,2,FALSE)&\"_\"&B917,\"\")","v":""},{"$f":"IF(AND(D917<>\"\",E917<>\"\"),VLOOKUP(D917,Lookups!E:F,2,FALSE)&IF(E917<8,\"*\",\"\"),\"\")","v":""},"",""]
[null,null,"",null,null,null,null,{"$f":"IF(AND(A918<>\"\",B918<>\"\"),VLOOKUP(A918,Lookups!A:B,2,FALSE)&\"_\"&B918,\"\")","v":""},{"$f":"IF(AND(D918<>\"\",E918<>\"\"),VLOOKUP(D918,Lookups!E:F,2,FALSE)&IF(E918<8,\"*\",\"\"),\"\")","v":""},"",""]
[null,null,"",null,null,null,null,{"$f":"IF(AND(A919<>\"\",B919<>\"\"),VLOOKUP(A919,Lookups!A:B,2,FALSE)&\"_\"&B919,\"\")","v":""},{"$f":"IF(AND(D919<>\"\",E919<>\"\"),VLOOKUP(D919,Lookups!E:F,2,FALSE)&IF(E919<8,\"*\",\"\"),\"\")","v":""},"",""]
[null,null,"",null,null,null,null,{"$f":"IF(AND(A920<>\"\",B920<>\"\"),VLOOKUP(A920,Lookups!A:B,2,FALSE)&\"_\"&B920,\"\")","v":""},{"$f":"IF(AND(D920<>\"\",E920<>\"\"),VLOOKUP(D920,Lookups!E:F,2,FALSE)&IF(E920<8,\"*\",\"\"),\"\")","v":""},"",""]
[null,null,"",null,null,null,null,{"$f":"IF(AND(A921<>\"\",B921<>\"\"),VLOOKUP(A921,Lookups!A:B,2,FALSE)&\"_\"&B921,\"\")","v":""},{"$f":"IF(AND(D921<>\"\",E921<>\"\"),VLOOKUP(D921,Lookups!E:F,2,FALSE)&IF(E921<8,\"*\",\"\"),\"\")","v":""},"",""]
[null,null,"",null,null,null,null,{"$f":"IF(AND(A922<>\"\",B922<>\"\"),VLOOKUP(A922,Lookups!A:B,2,FALSE)&\"_\"&B922,\"\")","v":""},{"$f":"IF(AND(D922<>\"\",E922<>\"\"),VLOOKUP(D922,Lookups!E:F,2,FALSE)&IF(E922<8,\"*\",\"\"),\"\")","v":""},"",""]
[null,null,"",null,null,null,null,{"$f":"IF(AND(A923<>\"\",B923<>\"\"),VLOOKUP(A923,Lookups!A:B,2,FALSE)&\"_\"&B923,\"\")","v":""},{"$f":"IF(AND(D923<>\"\",E923<>\"\"),VLOOKUP(D923,Lookups!E:F,2,FALSE)&IF(E923<8,\"*\",\"\"),\"\")","v":""},"",""]
[null,null,"",null,null,null,null,{"$f":"IF(AND(A924<>\"\",B924<>\"\"),VLOOKUP(A924,Lookups!A:B,2,FALSE)&\"_\"&B924,\"\")","v":""},{"$f":"IF(AND(D924<>\"\",E924<>\"\"),VLOOKUP(D924,Lookups!E:F,2,FALSE)&IF(E924<8,\"*\",\"\"),\"\")","v":""},"",""]
[null,null,"",null,null,null,null,{"$f":"IF(AND(A925<>\"\",B925<>\"\"),VLOOKUP(A925,Lookups!A:B,2,FALSE)&\"_\"&B925,\"\")","v":""},{"$f":"IF(AND(D925<>\"\",E925<>\"\"),VLOOKUP(D925,Lookups!E:F,2,FALSE)&IF(E925<8,\"*\",\"\"),\"\")","v":""},"",""]
[null,null,"",null,null,null,null,{"$f":"IF(AND(A926<>\"\",B926<>\"\"),VLOOKUP(A926,Lookups!A:B,2,FALSE)&\"_\"&B926,\"\")","v":""},{"$f":"IF(AND(D926<>\"\",E926<>\"\"),VLOOKUP(D926,Lookups!E:F,2,FALSE)&IF(E926<8,\"*\",\"\"),\"\")","v":""},"",""]
[null,null,"",null,null,null,null,{"$f":"IF(AND(A927<>\"\",B927<>\"\"),VLOOKUP(A927,Lookups!A:B,2,FALSE)&\"_\"&B927,\"\")","v":""},{"$f":"IF(AND(D927<>\"\",E927<>\"\"),VLOOKUP(D927,Lookups!E:F,2,FALSE)&IF(E927<8,\"*\",\"\"),\"\")","v":""},"",""]
[null,null,"",null,null,null,null,{"$f":"IF(AND(A928<>\"\",B928<>\"\"),VLOOKUP(A928,Lookups!A:B,2,FALSE)&\"_\"&B928,\"\")","v":""},{"$f":"IF(AND(D928<>\"\",E928<>\"\"),VLOOKUP(D928,Lookups!E:F,2,FALSE)&IF(E928<8,\"*\",\"\"),\"\")","v":""},{"$f":"IF(F928=\"\",\"\",F928)","v":""},{"$f":"IF(G928=\"\",\"\",G928)","v":""}]
[null,null,"",null,null,null,null,{"$f":"IF(AND(A929<>\"\",B929<>\"\"),VLOOKUP(A929,Lookups!A:B,2,FALSE)&\"_\"&B929,\"\")","v":""},{"$f":"IF(AND(D929<>\"\",E929<>\"\"),VLOOKUP(D929,Lookups!E:F,2,FALSE)&IF(E929<8,\"*\",\"\"),\"\")","v":""},"",""]
[null,null,"",null,null,null,null,{"$f":"IF(AND(A930<>\"\",B930<>\"\"),VLOOKUP(A930,Lookups!A:B,2,FALSE)&\"_\"&B930,\"\")","v":""},{"$f":"IF(AND(D930<>\"\",E930<>\"\"),VLOOKUP(D930,Lookups!E:F,2,FALSE)&IF(E930<8,\"*\",\"\"),\"\")","v":""},"",""]
[null,null,"",null,null,null,null,{"$f":"IF(AND(A931<>\"\",B931<>\"\"),VLOOKUP(A931,Lookups!A:B,2,FALSE)&\"_\"&B931,\"\")","v":""},{"$f":"IF(AND(D931<>\"\",E931<>\"\"),VLOOKUP(D931,Lookups!E:F,2,FALSE)&IF(E931<8,\"*\",\"\"),\"\")","v":""},"",""]
[null,null,"",null,null,null,null,{"$f":"IF(AND(A932<>\"\",B932<>\"\"),VLOOKUP(A932,Lookups!A:B,2,FALSE)&\"_\"&B932,\"\")","v":""},{"$f":"IF(AND(D932<>\"\",E932<>\"\"),VLOOKUP(D932,Lookups!E:F,2,FALSE)&IF(E932<8,\"*\",\"\"),\"\")","v":""},"",""]
[null,null,"",null,null,null,null,{"$f":"IF(AND(A933<>\"\",B933<>\"\"),VLOOKUP(A933,Lookups!A:B,2,FALSE)&\"_\"&B933,\"\")","v":""},{"$f":"IF(AND(D933<>\"\",E933<>\"\"),VLOOKUP(D933,Lookups!E:F,2,FALSE)&IF(E933<8,\"*\",\"\"),\"\")","v":""},"",""]
[null,null,"",null,null,null,null,{"$f":"IF(AND(A934<>\"\",B934<>\"\"),VLOOKUP(A934,Lookups!A:B,2,FALSE)&\"_\"&B934,\"\")","v":""},{"$f":"IF(AND(D934<>\"\",E934<>\"\"),VLOOKUP(D934,Lookups!E:F,2,FALSE)&IF(E934<8,\"*\",\"\"),\"\")","v":""},"",""]
[null,null,"",null,null,null,null,{"$f":"IF(AND(A935<>\"\",B935<>\"\"),VLOOKUP(A935,Lookups!A:B,2,FALSE)&\"_\"&B935,\"\")","v":""},{"$f":"IF(AND(D935<>\"\",E935<>\"\"),VLOOKUP(D935,Lookups!E:F,2,FALSE)&IF(E935<8,\"*\",\"\"),\"\")","v":""},"",""]
[null,null,"",null,null,null,null,{"$f":"IF(AND(A936<>\"\",B936<>\"\"),VLOOKUP(A936,Lookups!A:B,2,FALSE)&\"_\"&B936,\"\")","v":""},{"$f":"IF(AND(D936<>\"\",E936<>\"\"),VLOOKUP(D936,Lookups!E:F,2,FALSE)&IF(E936<8,\"*\",\"\"),\"\")","v":""},"",""]
[null,null,"",null,null,null,null,{"$f":"IF(AND(A937<>\"\",B937<>\"\"),VLOOKUP(A937,Lookups!A:B,2,FALSE)&\"_\"&B937,\"\")","v":""},{"$f":"IF(AND(D937<>\"\",E937<>\"\"),VLOOKUP(D937,Lookups!E:F,2,FALSE)&IF(E937<8,\"*\",\"\"),\"\")","v":""},"",""]
[null,null,"",null,null,null,null,{"$f":"IF(AND(A938<>\"\",B938<>\"\"),VLOOKUP(A938,Lookups!A:B,2,FALSE)&\"_\"&B938,\"\")","v":""},{"$f":"IF(AND(D938<>\"\",E938<>\"\"),VLOOKUP(D938,Lookups!E:F,2,FALSE)&IF(E938<8,\"*\",\"\"),\"\")","v":""},"",""]
[null,null,"",null,null,null,null,{"$f":"IF(AND(A939<>\"\",B939<>\"\"),VLOOKUP(A939,Lookups!A:B,2,FALSE)&\"_\"&B939,\"\")","v":""},{"$f":"IF(AND(D939<>\"\",E939<>\"\"),VLOOKUP(D939,Lookups!E:F,2,FALSE)&IF(E939<8,\"*\",\"\"),\"\")","v":""},"",""]
[null,null,"",null,null,null,null,{"$f":"IF(AND(A940<>\"\",B940<>\"\"),VLOOKUP(A940,Lookups!A:B,2,FALSE)&\"_\"&B940,\"\")","v":""},{"$f":"IF(AND(D940<>\"\",E940<>\"\"),VLOOKUP(D940,Lookups!E:F,2,FALSE)&IF(E940<8,\"*\",\"\"),\"\")","v":""},"",""]
[null,null,"",null,null,null,null,{"$f":"IF(AND(A941<>\"\",B941<>\"\"),VLOOKUP(A941,Lookups!A:B,2,FALSE)&\"_\"&B941,\"\")","v":""},{"$f":"IF(AND(D941<>\"\",E941<>\"\"),VLOOKUP(D941,Lookups!E:F,2,FALSE)&IF(E941<8,\"*\",\"\"),\"\")","v":""},"",""]
[null,null,"",null,null,null,null,{"$f":"IF(AND(A942<>\"\",B942<>\"\"),VLOOKUP(A942,Lookups!A:B,2,FALSE)&\"_\"&B942,\"\")","v":""},{"$f":"IF(AND(D942<>\"\",E942<>\"\"),VLOOKUP(D942,Lookups!E:F,2,FALSE)&IF(E942<8,\"*\",\"\"),\"\")","v":""},"",""]
[null,null,"",null,null,null,null,{"$f":"IF(AND(A943<>\"\",B943<>\"\"),VLOOKUP(A943,Lookups!A:B,2,FALSE)&\"_\"&B943,\"\")","v":""},{"$f":"IF(AND(D943<>\"\",E943<>\"\"),VLOOKUP(D943,Lookups!E:F,2,FALSE)&IF(E943<8,\"*\",\"\"),\"\")","v":""},"",""]
[null,null,"",null,null,null,null,{"$f":"IF(AND(A944<>\"\",B944<>\"\"),VLOOKUP(A944,Lookups!A:B,2,FALSE)&\"_\"&B944,\"\")","v":""},{"$f":"IF(AND(D944<>\"\",E944<>\"\"),VLOOKUP(D944,Lookups!E:F,2,FALSE)&IF(E944<8,\"*\",\"\"),\"\")","v":""},"",""]
[null,null,"",null,null,null,null,{"$f":"IF(AND(A945<>\"\",B945<>\"\"),VLOOKUP(A945,Lookups!A:B,2,FALSE)&\"_\"&B945,\"\")","v":""},{"$f":"IF(AND(D945<>\"\",E945<>\"\"),VLOOKUP(D945,Lookups!E:F,2,FALSE)&IF(E945<8,\"*\",\"\"),\"\")","v":""},"",""]
[null,null,"",null,null,null,null,{"$f":"IF(AND(A946<>\"\",B946<>\"\"),VLOOKUP(A946,Lookups!A:B,2,FALSE)&\"_\"&B946,\"\")","v":""},{"$f":"IF(AND(D946<>\"\",E946<>\"\"),VLOOKUP(D946,Lookups!E:F,2,FALSE)&IF(E946<8,\"*\",\"\"),\"\")","v":""}]
[null,null,"",null,null,null,null,{"$f":"IF(AND(A947<>\"\",B947<>\"\"),VLOOKUP(A947,Lookups!A:B,2,FALSE)&\"_\"&B947,\"\")","v":""},{"$f":"IF(AND(D947<>\"\",E947<>\"\"),VLOOKUP(D947,Lookups!E:F,2,FALSE)&IF(E947<8,\"*\",\"\"),\"\")","v":""}]
[null,null,"",null,null,null,null,{"$f":"IF(AND(A948<>\"\",B948<>\"\"),VLOOKUP(A948,Lookups!A:B,2,FALSE)&\"_\"&B948,\"\")","v":""},{"$f":"IF(AND(D948<>\"\",E948<>\"\"),VLOOKUP(D948,Lookups!E:F,2,FALSE)&IF(E948<8,\"*\",\"\"),\"\")","v":""}]
[null,null,"",null,null,null,null,{"$f":"IF(AND(A949<>\"\",B949<>\"\"),VLOOKUP(A949,Lookups!A:B,2,FALSE)&\"_\"&B949,\"\")","v":""},{"$f":"IF(AND(D949<>\"\",E949<>\"\"),VLOOKUP(D949,Lookups!E:F,2,FALSE)&IF(E949<8,\"*\",\"\"),\"\")","v":""}]
[null,null,"",null,null,null,null,{"$f":"IF(AND(A950<>\"\",B950<>\"\"),VLOOKUP(A950,Lookups!A:B,2,FALSE)&\"_\"&B950,\"\")","v":""},{"$f":"IF(AND(D950<>\"\",E950<>\"\"),VLOOKUP(D950,Lookups!E:F,2,FALSE)&IF(E950<8,\"*\",\"\"),\"\")","v":""}]
[null,null,"",null,null,null,null,{"$f":"IF(AND(A951<>\"\",B951<>\"\"),VLOOKUP(A951,Lookups!A:B,2,FALSE)&\"_\"&B951,\"\")","v":""},{"$f":"IF(AND(D951<>\"\",E951<>\"\"),VLOOKUP(D951,Lookups!E:F,2,FALSE)&IF(E951<8,\"*\",\"\"),\"\")","v":""}]
[null,null,"",null,null,null,null,{"$f":"IF(AND(A952<>\"\",B952<>\"\"),VLOOKUP(A952,Lookups!A:B,2,FALSE)&\"_\"&B952,\"\")","v":""},{"$f":"IF(AND(D952<>\"\",E952<>\"\"),VLOOKUP(D952,Lookups!E:F,2,FALSE)&IF(E952<8,\"*\",\"\"),\"\")","v":""}]
[null,null,"",null,null,null,null,{"$f":"IF(AND(A953<>\"\",B953<>\"\"),VLOOKUP(A953,Lookups!A:B,2,FALSE)&\"_\"&B953,\"\")","v":""},{"$f":"IF(AND(D953<>\"\",E953<>\"\"),VLOOKUP(D953,Lookups!E:F,2,FALSE)&IF(E953<8,\"*\",\"\"),\"\")","v":""}]
[null,null,"",null,null,null,null,{"$f":"IF(AND(A954<>\"\",B954<>\"\"),VLOOKUP(A954,Lookups!A:B,2,FALSE)&\"_\"&B954,\"\")","v":""},{"$f":"IF(AND(D954<>\"\",E954<>\"\"),VLOOKUP(D954,Lookups!E:F,2,FALSE)&IF(E954<8,\"*\",\"\"),\"\")","v":""}]
[null,null,{"$f":"IF(B955=\"\",\"\",TEXT(WEEKDAY(B955),\"aaaa\"))","v":""},null,null,null,null,{"$f":"IF(AND(A955<>\"\",B955<>\"\"),VLOOKUP(A955,Lookups!A:B,2,FALSE)&\"_\"&B955,\"\")","v":""},{"$f":"IF(AND(D955<>\"\",E955<>\"\"),VLOOKUP(D955,Lookups!E:F,2,FALSE)&IF(E955<8,\"*\",\"\"),\"\")","v":""}]
[null,null,"",null,null,null,null,{"$f":"IF(AND(A956<>\"\",B956<>\"\"),VLOOKUP(A956,Lookups!A:B,2,FALSE)&\"_\"&B956,\"\")","v":""},{"$f":"IF(AND(D956<>\"\",E956<>\"\"),VLOOKUP(D956,Lookups!E:F,2,FALSE)&IF(E956<8,\"*\",\"\"),\"\")","v":""}]
[null,null,"",null,null,null,null,{"$f":"IF(AND(A957<>\"\",B957<>\"\"),VLOOKUP(A957,Lookups!A:B,2,FALSE)&\"_\"&B957,\"\")","v":""},{"$f":"IF(AND(D957<>\"\",E957<>\"\"),VLOOKUP(D957,Lookups!E:F,2,FALSE)&IF(E957<8,\"*\",\"\"),\"\")","v":""}]
[null,null,"",null,null,null,null,{"$f":"IF(AND(A958<>\"\",B958<>\"\"),VLOOKUP(A958,Lookups!A:B,2,FALSE)&\"_\"&B958,\"\")","v":""},{"$f":"IF(AND(D958<>\"\",E958<>\"\"),VLOOKUP(D958,Lookups!E:F,2,FALSE)&IF(E958<8,\"*\",\"\"),\"\")","v":""}]
[null,null,"",null,null,null,null,{"$f":"IF(AND(A959<>\"\",B959<>\"\"),VLOOKUP(A959,Lookups!A:B,2,FALSE)&\"_\"&B959,\"\")","v":""},{"$f":"IF(AND(D959<>\"\",E959<>\"\"),VLOOKUP(D959,Lookups!E:F,2,FALSE)&IF(E959<8,\"*\",\"\"),\"\")","v":""}]
[null,null,"",null,null,null,null,{"$f":"IF(AND(A960<>\"\",B960<>\"\"),VLOOKUP(A960,Lookups!A:B,2,FALSE)&\"_\"&B960,\"\")","v":""},{"$f":"IF(AND(D960<>\"\",E960<>\"\"),VLOOKUP(D960,Lookups!E:F,2,FALSE)&IF(E960<8,\"*\",\"\"),\"\")","v":""}]
[null,null,"",null,null,null,null,{"$f":"IF(AND(A961<>\"\",B961<>\"\"),VLOOKUP(A961,Lookups!A:B,2,FALSE)&\"_\"&B961,\"\")","v":""},{"$f":"IF(AND(D961<>\"\",E961<>\"\"),VLOOKUP(D961,Lookups!E:F,2,FALSE)&IF(E961<8,\"*\",\"\"),\"\")","v":""}]
[null,null,"",null,null,null,null,{"$f":"IF(AND(A962<>\"\",B962<>\"\"),VLOOKUP(A962,Lookups!A:B,2,FALSE)&\"_\"&B962,\"\")","v":""},{"$f":"IF(AND(D962<>\"\",E962<>\"\"),VLOOKUP(D962,Lookups!E:F,2,FALSE)&IF(E962<8,\"*\",\"\"),\"\")","v":""}]
[null,null,"",null,null,null,null,{"$f":"IF(AND(A963<>\"\",B963<>\"\"),VLOOKUP(A963,Lookups!A:B,2,FALSE)&\"_\"&B963,\"\")","v":""},{"$f":"IF(AND(D963<>\"\",E963<>\"\"),VLOOKUP(D963,Lookups!E:F,2,FALSE)&IF(E963<8,\"*\",\"\"),\"\")","v":""}]
[null,null,"",null,null,null,null,{"$f":"IF(AND(A964<>\"\",B964<>\"\"),VLOOKUP(A964,Lookups!A:B,2,FALSE)&\"_\"&B964,\"\")","v":""},{"$f":"IF(AND(D964<>\"\",E964<>\"\"),VLOOKUP(D964,Lookups!E:F,2,FALSE)&IF(E964<8,\"*\",\"\"),\"\")","v":""}]
[null,null,"",null,null,null,null,{"$f":"IF(AND(A965<>\"\",B965<>\"\"),VLOOKUP(A965,Lookups!A:B,2,FALSE)&\"_\"&B965,\"\")","v":""},{"$f":"IF(AND(D965<>\"\",E965<>\"\"),VLOOKUP(D965,Lookups!E:F,2,FALSE)&IF(E965<8,\"*\",\"\"),\"\")","v":""}]
[null,null,"",null,null,null,null,{"$f":"IF(AND(A966<>\"\",B966<>\"\"),VLOOKUP(A966,Lookups!A:B,2,FALSE)&\"_\"&B966,\"\")","v":""},{"$f":"IF(AND(D966<>\"\",E966<>\"\"),VLOOKUP(D966,Lookups!E:F,2,FALSE)&IF(E966<8,\"*\",\"\"),\"\")","v":""}]
[null,null,"",null,null,null,null,{"$f":"IF(AND(A967<>\"\",B967<>\"\"),VLOOKUP(A967,Lookups!A:B,2,FALSE)&\"_\"&B967,\"\")","v":""},{"$f":"IF(AND(D967<>\"\",E967<>\"\"),VLOOKUP(D967,Lookups!E:F,2,FALSE)&IF(E967<8,\"*\",\"\"),\"\")","v":""}]
[null,null,"",null,null,null,null,{"$f":"IF(AND(A968<>\"\",B968<>\"\"),VLOOKUP(A968,Lookups!A:B,2,FALSE)&\"_\"&B968,\"\")","v":""},{"$f":"IF(AND(D968<>\"\",E968<>\"\"),VLOOKUP(D968,Lookups!E:F,2,FALSE)&IF(E968<8,\"*\",\"\"),\"\")","v":""}]
[null,null,"",null,null,null,null,{"$f":"IF(AND(A969<>\"\",B969<>\"\"),VLOOKUP(A969,Lookups!A:B,2,FALSE)&\"_\"&B969,\"\")","v":""},{"$f":"IF(AND(D969<>\"\",E969<>\"\"),VLOOKUP(D969,Lookups!E:F,2,FALSE)&IF(E969<8,\"*\",\"\"),\"\")","v":""}]
[null,null,"",null,null,null,null,{"$f":"IF(AND(A970<>\"\",B970<>\"\"),VLOOKUP(A970,Lookups!A:B,2,FALSE)&\"_\"&B970,\"\")","v":""},{"$f":"IF(AND(D970<>\"\",E970<>\"\"),VLOOKUP(D970,Lookups!E:F,2,FALSE)&IF(E970<8,\"*\",\"\"),\"\")","v":""}]
[null,null,"",null,null,null,null,{"$f":"IF(AND(A971<>\"\",B971<>\"\"),VLOOKUP(A971,Lookups!A:B,2,FALSE)&\"_\"&B971,\"\")","v":""},{"$f":"IF(AND(D971<>\"\",E971<>\"\"),VLOOKUP(D971,Lookups!E:F,2,FALSE)&IF(E971<8,\"*\",\"\"),\"\")","v":""}]
[null,null,"",null,null,null,null,{"$f":"IF(AND(A972<>\"\",B972<>\"\"),VLOOKUP(A972,Lookups!A:B,2,FALSE)&\"_\"&B972,\"\")","v":""},{"$f":"IF(AND(D972<>\"\",E972<>\"\"),VLOOKUP(D972,Lookups!E:F,2,FALSE)&IF(E972<8,\"*\",\"\"),\"\")","v":""}]
[null,null,"",null,null,null,null,{"$f":"IF(AND(A973<>\"\",B973<>\"\"),VLOOKUP(A973,Lookups!A:B,2,FALSE)&\"_\"&B973,\"\")","v":""},{"$f":"IF(AND(D973<>\"\",E973<>\"\"),VLOOKUP(D973,Lookups!E:F,2,FALSE)&IF(E973<8,\"*\",\"\"),\"\")","v":""}]
[null,null,"",null,null,null,null,{"$f":"IF(AND(A974<>\"\",B974<>\"\"),VLOOKUP(A974,Lookups!A:B,2,FALSE)&\"_\"&B974,\"\")","v":""},{"$f":"IF(AND(D974<>\"\",E974<>\"\"),VLOOKUP(D974,Lookups!E:F,2,FALSE)&IF(E974<8,\"*\",\"\"),\"\")","v":""}]
[null,null,"",null,null,null,null,{"$f":"IF(AND(A975<>\"\",B975<>\"\"),VLOOKUP(A975,Lookups!A:B,2,FALSE)&\"_\"&B975,\"\")","v":""},{"$f":"IF(AND(D975<>\"\",E975<>\"\"),VLOOKUP(D975,Lookups!E:F,2,FALSE)&IF(E975<8,\"*\",\"\"),\"\")","v":""}]
[null,null,"",null,null,null,null,{"$f":"IF(AND(A976<>\"\",B976<>\"\"),VLOOKUP(A976,Lookups!A:B,2,FALSE)&\"_\"&B976,\"\")","v":""},{"$f":"IF(AND(D976<>\"\",E976<>\"\"),VLOOKUP(D976,Lookups!E:F,2,FALSE)&IF(E976<8,\"*\",\"\"),\"\")","v":""}]
[null,null,"",null,null,null,null,{"$f":"IF(AND(A977<>\"\",B977<>\"\"),VLOOKUP(A977,Lookups!A:B,2,FALSE)&\"_\"&B977,\"\")","v":""},{"$f":"IF(AND(D977<>\"\",E977<>\"\"),VLOOKUP(D977,Lookups!E:F,2,FALSE)&IF(E977<8,\"*\",\"\"),\"\")","v":""}]
[null,null,"",null,null,null,null,{"$f":"IF(AND(A978<>\"\",B978<>\"\"),VLOOKUP(A978,Lookups!A:B,2,FALSE)&\"_\"&B978,\"\")","v":""},{"$f":"IF(AND(D978<>\"\",E978<>\"\"),VLOOKUP(D978,Lookups!E:F,2,FALSE)&IF(E978<8,\"*\",\"\"),\"\")","v":""}]
[null,null,"",null,null,null,null,{"$f":"IF(AND(A979<>\"\",B979<>\"\"),VLOOKUP(A979,Lookups!A:B,2,FALSE)&\"_\"&B979,\"\")","v":""},{"$f":"IF(AND(D979<>\"\",E979<>\"\"),VLOOKUP(D979,Lookups!E:F,2,FALSE)&IF(E979<8,\"*\",\"\"),\"\")","v":""}]
[null,null,"",null,null,null,null,{"$f":"IF(AND(A980<>\"\",B980<>\"\"),VLOOKUP(A980,Lookups!A:B,2,FALSE)&\"_\"&B980,\"\")","v":""},{"$f":"IF(AND(D980<>\"\",E980<>\"\"),VLOOKUP(D980,Lookups!E:F,2,FALSE)&IF(E980<8,\"*\",\"\"),\"\")","v":""}]
[null,null,"",null,null,null,null,{"$f":"IF(AND(A981<>\"\",B981<>\"\"),VLOOKUP(A981,Lookups!A:B,2,FALSE)&\"_\"&B981,\"\")","v":""},{"$f":"IF(AND(D981<>\"\",E981<>\"\"),VLOOKUP(D981,Lookups!E:F,2,FALSE)&IF(E981<8,\"*\",\"\"),\"\")","v":""}]
[null,null,"",null,null,null,null,{"$f":"IF(AND(A982<>\"\",B982<>\"\"),VLOOKUP(A982,Lookups!A:B,2,FALSE)&\"_\"&B982,\"\")","v":""},{"$f":"IF(AND(D982<>\"\",E982<>\"\"),VLOOKUP(D982,Lookups!E:F,2,FALSE)&IF(E982<8,\"*\",\"\"),\"\")","v":""}]
[null,null,"",null,null,null,null,{"$f":"IF(AND(A983<>\"\",B983<>\"\"),VLOOKUP(A983,Lookups!A:B,2,FALSE)&\"_\"&B983,\"\")","v":""},{"$f":"IF(AND(D983<>\"\",E983<>\"\"),VLOOKUP(D983,Lookups!E:F,2,FALSE)&IF(E983<8,\"*\",\"\"),\"\")","v":""}]
[null,null,"",null,null,null,null,{"$f":"IF(AND(A984<>\"\",B984<>\"\"),VLOOKUP(A984,Lookups!A:B,2,FALSE)&\"_\"&B984,\"\")","v":""},{"$f":"IF(AND(D984<>\"\",E984<>\"\"),VLOOKUP(D984,Lookups!E:F,2,FALSE)&IF(E984<8,\"*\",\"\"),\"\")","v":""}]
[null,null,"",null,null,null,null,{"$f":"IF(AND(A985<>\"\",B985<>\"\"),VLOOKUP(A985,Lookups!A:B,2,FALSE)&\"_\"&B985,\"\")","v":""},{"$f":"IF(AND(D985<>\"\",E985<>\"\"),VLOOKUP(D985,Lookups!E:F,2,FALSE)&IF(E985<8,\"*\",\"\"),\"\")","v":""}]
[null,null,"",null,null,null,null,{"$f":"IF(AND(A986<>\"\",B986<>\"\"),VLOOKUP(A986,Lookups!A:B,2,FALSE)&\"_\"&B986,\"\")","v":""},{"$f":"IF(AND(D986<>\"\",E986<>\"\"),VLOOKUP(D986,Lookups!E:F,2,FALSE)&IF(E986<8,\"*\",\"\"),\"\")","v":""}]
[null,null,"",null,null,null,null,{"$f":"IF(AND(A987<>\"\",B987<>\"\"),VLOOKUP(A987,Lookups!A:B,2,FALSE)&\"_\"&B987,\"\")","v":""},{"$f":"IF(AND(D987<>\"\",E987<>\"\"),VLOOKUP(D987,Lookups!E:F,2,FALSE)&IF(E987<8,\"*\",\"\"),\"\")","v":""}]
[null,null,"",null,null,null,null,{"$f":"IF(AND(A988<>\"\",B988<>\"\"),VLOOKUP(A988,Lookups!A:B,2,FALSE)&\"_\"&B988,\"\")","v":""},{"$f":"IF(AND(D988<>\"\",E988<>\"\"),VLOOKUP(D988,Lookups!E:F,2,FALSE)&IF(E988<8,\"*\",\"\"),\"\")","v":""}]
[null,null,"",null,null,null,null,{"$f":"IF(AND(A989<>\"\",B989<>\"\"),VLOOKUP(A989,Lookups!A:B,2,FALSE)&\"_\"&B989,\"\")","v":""},{"$f":"IF(AND(D989<>\"\",E989<>\"\"),VLOOKUP(D989,Lookups!E:F,2,FALSE)&IF(E989<8,\"*\",\"\"),\"\")","v":""}]
[null,null,"",null,null,null,null,{"$f":"IF(AND(A990<>\"\",B990<>\"\"),VLOOKUP(A990,Lookups!A:B,2,FALSE)&\"_\"&B990,\"\")","v":""},{"$f":"IF(AND(D990<>\"\",E990<>\"\"),VLOOKUP(D990,Lookups!E:F,2,FALSE)&IF(E990<8,\"*\",\"\"),\"\")","v":""}]
[null,null,"",null,null,null,null,{"$f":"IF(AND(A991<>\"\",B991<>\"\"),VLOOKUP(A991,Lookups!A:B,2,FALSE)&\"_\"&B991,\"\")","v":""},{"$f":"IF(AND(D991<>\"\",E991<>\"\"),VLOOKUP(D991,Lookups!E:F,2,FALSE)&IF(E991<8,\"*\",\"\"),\"\")","v":""}]
[null,null,"",null,null,null,null,{"$f":"IF(AND(A992<>\"\",B992<>\"\"),VLOOKUP(A992,Lookups!A:B,2,FALSE)&\"_\"&B992,\"\")","v":""},{"$f":"IF(AND(D992<>\"\",E992<>\"\"),VLOOKUP(D992,Lookups!E:F,2,FALSE)&IF(E992<8,\"*\",\"\"),\"\")","v":""}]
[null,null,"",null,null,null,null,{"$f":"IF(AND(A993<>\"\",B993<>\"\"),VLOOKUP(A993,Lookups!A:B,2,FALSE)&\"_\"&B993,\"\")","v":""},{"$f":"IF(AND(D993<>\"\",E993<>\"\"),VLOOKUP(D993,Lookups!E:F,2,FALSE)&IF(E993<8,\"*\",\"\"),\"\")","v":""}]
[null,null,"",null,null,null,null,{"$f":"IF(AND(A994<>\"\",B994<>\"\"),VLOOKUP(A994,Lookups!A:B,2,FALSE)&\"_\"&B994,\"\")","v":""},{"$f":"IF(AND(D994<>\"\",E994<>\"\"),VLOOKUP(D994,Lookups!E:F,2,FALSE)&IF(E994<8,\"*\",\"\"),\"\")","v":""}]
[null,null,"",null,null,null,null,{"$f":"IF(AND(A995<>\"\",B995<>\"\"),VLOOKUP(A995,Lookups!A:B,2,FALSE)&\"_\"&B995,\"\")","v":""},{"$f":"IF(AND(D995<>\"\",E995<>\"\"),VLOOKUP(D995,Lookups!E:F,2,FALSE)&IF(E995<8,\"*\",\"\"),\"\")","v":""}]
[null,null,"",null,null,null,null,{"$f":"IF(AND(A996<>\"\",B996<>\"\"),VLOOKUP(A996,Lookups!A:B,2,FALSE)&\"_\"&B996,\"\")","v":""},{"$f":"IF(AND(D996<>\"\",E996<>\"\"),VLOOKUP(D996,Lookups!E:F,2,FALSE)&IF(E996<8,\"*\",\"\"),\"\")","v":""}]
[null,null,"",null,null,null,null,{"$f":"IF(AND(A997<>\"\",B997<>\"\"),VLOOKUP(A997,Lookups!A:B,2,FALSE)&\"_\"&B997,\"\")","v":""},{"$f":"IF(AND(D997<>\"\",E997<>\"\"),VLOOKUP(D997,Lookups!E:F,2,FALSE)&IF(E997<8,\"*\",\"\"),\"\")","v":""}]
[null,null,"",null,null,null,null,{"$f":"IF(AND(A998<>\"\",B998<>\"\"),VLOOKUP(A998,Lookups!A:B,2,FALSE)&\"_\"&B998,\"\")","v":""},{"$f":"IF(AND(D998<>\"\",E998<>\"\"),VLOOKUP(D998,Lookups!E:F,2,FALSE)&IF(E998<8,\"*\",\"\"),\"\")","v":""}]
[null,null,"",null,null,null,null,{"$f":"IF(AND(A999<>\"\",B999<>\"\"),VLOOKUP(A999,Lookups!A:B,2,FALSE)&\"_\"&B999,\"\")","v":""},{"$f":"IF(AND(D999<>\"\",E999<>\"\"),VLOOKUP(D999,Lookups!E:F,2,FALSE)&IF(E999<8,\"*\",\"\"),\"\")","v":""}]
[null,null,"",null,null,null,null,{"$f":"IF(AND(A1000<>\"\",B1000<>\"\"),VLOOKUP(A1000,Lookups!A:B,2,FALSE)&\"_\"&B1000,\"\")","v":""},{"$f":"IF(AND(D1000<>\"\",E1000<>\"\"),VLOOKUP(D1000,Lookups!E:F,2,FALSE)&IF(E1000<8,\"*\",\"\"),\"\")","v":""}]

{"sheet":"Calendar","index":2,"n_rows":80,"n_cols":40,"rows_kept":80,"cut":false,"hidden":false,"merged":[[1,16,1,19],[1,9,1,15],[2,36,2,37],[2,38,2,39],[0,1,0,35]]}
[null,"Team Vacation Schedule"]
[{"$f":"DATE(Q2,VLOOKUP(J2,Lookups!$K$2:$L$13,2,FALSE),1)","v":"2017-06-01"},null,null,null,null,null,null,null,{"$f":"IF(AND(WEEKDAY(A2)>2,WEEKDAY(A2)<7),A2-(WEEKDAY(A2)-2),A2)","v":42884},"June",null,null,null,null,null,null,2017,null,null,null,{"$f":"VLOOKUP(J2,Lookups!$K$2:$L$13,2,FALSE)","v":6}]
[null,{"$f":"IF(B4<>\"\",TEXT(WEEKDAY(B4),\"aaa\"),\"\")","v":"Mon"},{"$f":"IF(C4<>\"\",TEXT(WEEKDAY(C4),\"aaa\"),\"\")","v":"Tue"},"Wed","Thu","Fri","Sat","Sun","Mon","Tue","Wed","Thu","Fri","Sat","Sun","Mon","Tue","Wed","Thu","Fri","Sat","Sun","Mon","Tue","Wed","Thu","Fri","Sat","Sun","Mon","Tue","Wed","Thu","Fri","Sat","Sun","Vacation",null,"Personal day"]
["Employee Name",{"$f":"I2","v":"2017-05-29"},{"$f":"B4+1","v":"2017-05-30"},{"$f":"C4+1","v":"2017-05-31"},"2017-06-01","2017-06-02","2017-06-03","2017-06-04","2017-06-05","2017-06-06","2017-06-07","2017-06-08","2017-06-09","2017-06-10","2017-06-11","2017-06-12","2017-06-13","2017-06-14","2017-06-15","2017-06-16","2017-06-17","2017-06-18","2017-06-19","2017-06-20","2017-06-21","2017-06-22","2017-06-23","2017-06-24","2017-06-25",{"$f":"AC4+1","v":"2017-06-26"},{"$f":"AD4+1","v":"2017-06-27"},{"$f":"AE4+1","v":"2017-06-28"},{"$f":"AF4+1","v":"2017-06-29"},{"$f":"AG4+1","v":"2017-06-30"},{"$f":"AH4+1","v":"2017-07-01"},"2017-07-02","MTD","YTD","MTD","YTD"]
[{"$f":"IF(Lookups!A2=\"\",\"\",Lookups!A2)","v":"Bob Baker"},{"$f":"IF($A5=\"\",\"\",IF(OR(B$3=\"Sat\",B$3=\"Sun\"),\"\",IF(COUNTIF(Holidays!$A:$A,B$4)>0,\"H\",IFERROR(VLOOKUP((ROW(B5)-4)&\"_\"&B$4,Schedule!$H:$I,2,FALSE),\"\"))))","v":"H"},{"$f":"IF($A5=\"\",\"\",IF(OR(C$3=\"Sat\",C$3=\"Sun\"),\"\",IF(COUNTIF(Holidays!$A:$A,C$4)>0,\"H\",IFERROR(VLOOKUP((ROW(C5)-4)&\"_\"&C$4,Schedule!$H:$I,2,FALSE),\"\"))))","v":""},{"$f":"IF($A5=\"\",\"\",IF(OR(D$3=\"Sat\",D$3=\"Sun\"),\"\",IF(COUNTIF(Holidays!$A:$A,D$4)>0,\"H\",IFERROR(VLOOKUP((ROW(D5)-4)&\"_\"&D$4,Schedule!$H:$I,2,FALSE),\"\"))))","v":""},{"$f":"IF($A5=\"\",\"\",IF(OR(E$3=\"Sat\",E$3=\"Sun\"),\"\",IF(COUNTIF(Holidays!$A:$A,E$4)>0,\"H\",IFERROR(VLOOKUP((ROW(E5)-4)&\"_\"&E$4,Schedule!$H:$I,2,FALSE),\"\"))))","v":""},{"$f":"IF($A5=\"\",\"\",IF(OR(F$3=\"Sat\",F$3=\"Sun\"),\"\",IF(COUNTIF(Holidays!$A:$A,F$4)>0,\"H\",IFERROR(VLOOKUP((ROW(F5)-4)&\"_\"&F$4,Schedule!$H:$I,2,FALSE),\"\"))))","v":""},{"$f":"IF($A5=\"\",\"\",IF(OR(G$3=\"Sat\",G$3=\"Sun\"),\"\",IF(COUNTIF(Holidays!$A:$A,G$4)>0,\"H\",IFERROR(VLOOKUP((ROW(G5)-4)&\"_\"&G$4,Schedule!$H:$I,2,FALSE),\"\"))))","v":""},{"$f":"IF($A5=\"\",\"\",IF(OR(H$3=\"Sat\",H$3=\"Sun\"),\"\",IF(COUNTIF(Holidays!$A:$A,H$4)>0,\"H\",IFERROR(VLOOKUP((ROW(H5)-4)&\"_\"&H$4,Schedule!$H:$I,2,FALSE),\"\"))))","v":""},{"$f":"IF($A5=\"\",\"\",IF(OR(I$3=\"Sat\",I$3=\"Sun\"),\"\",IF(COUNTIF(Holidays!$A:$A,I$4)>0,\"H\",IFERROR(VLOOKUP((ROW(I5)-4)&\"_\"&I$4,Schedule!$H:$I,2,FALSE),\"\"))))","v":""},{"$f":"IF($A5=\"\",\"\",IF(OR(J$3=\"Sat\",J$3=\"Sun\"),\"\",IF(COUNTIF(Holidays!$A:$A,J$4)>0,\"H\",IFERROR(VLOOKUP((ROW(J5)-4)&\"_\"&J$4,Schedule!$H:$I,2,FALSE),\"\"))))","v":""},{"$f":"IF($A5=\"\",\"\",IF(OR(K$3=\"Sat\",K$3=\"Sun\"),\"\",IF(COUNTIF(Holidays!$A:$A,K$4)>0,\"H\",IFERROR(VLOOKUP((ROW(K5)-4)&\"_\"&K$4,Schedule!$H:$I,2,FALSE),\"\"))))","v":""},{"$f":"IF($A5=\"\",\"\",IF(OR(L$3=\"Sat\",L$3=\"Sun\"),\"\",IF(COUNTIF(Holidays!$A:$A,L$4)>0,\"H\",IFERROR(VLOOKUP((ROW(L5)-4)&\"_\"&L$4,Schedule!$H:$I,2,FALSE),\"\"))))","v":""},{"$f":"IF($A5=\"\",\"\",IF(OR(M$3=\"Sat\",M$3=\"Sun\"),\"\",IF(COUNTIF(Holidays!$A:$A,M$4)>0,\"H\",IFERROR(VLOOKUP((ROW(M5)-4)&\"_\"&M$4,Schedule!$H:$I,2,FALSE),\"\"))))","v":""},{"$f":"IF($A5=\"\",\"\",IF(OR(N$3=\"Sat\",N$3=\"Sun\"),\"\",IF(COUNTIF(Holidays!$A:$A,N$4)>0,\"H\",IFERROR(VLOOKUP((ROW(N5)-4)&\"_\"&N$4,Schedule!$H:$I,2,FALSE),\"\"))))","v":""},{"$f":"IF($A5=\"\",\"\",IF(OR(O$3=\"Sat\",O$3=\"Sun\"),\"\",IF(COUNTIF(Holidays!$A:$A,O$4)>0,\"H\",IFERROR(VLOOKUP((ROW(O5)-4)&\"_\"&O$4,Schedule!$H:$I,2,FALSE),\"\"))))","v":""},{"$f":"IF($A5=\"\",\"\",IF(OR(P$3=\"Sat\",P$3=\"Sun\"),\"\",IF(COUNTIF(Holidays!$A:$A,P$4)>0,\"H\",IFERROR(VLOOKUP((ROW(P5)-4)&\"_\"&P$4,Schedule!$H:$I,2,FALSE),\"\"))))","v":""},{"$f":"IF($A5=\"\",\"\",IF(OR(Q$3=\"Sat\",Q$3=\"Sun\"),\"\",IF(COUNTIF(Holidays!$A:$A,Q$4)>0,\"H\",IFERROR(VLOOKUP((ROW(Q5)-4)&\"_\"&Q$4,Schedule!$H:$I,2,FALSE),\"\"))))","v":""},{"$f":"IF($A5=\"\",\"\",IF(OR(R$3=\"Sat\",R$3=\"Sun\"),\"\",IF(COUNTIF(Holidays!$A:$A,R$4)>0,\"H\",IFERROR(VLOOKUP((ROW(R5)-4)&\"_\"&R$4,Schedule!$H:$I,2,FALSE),\"\"))))","v":""},{"$f":"IF($A5=\"\",\"\",IF(OR(S$3=\"Sat\",S$3=\"Sun\"),\"\",IF(COUNTIF(Holidays!$A:$A,S$4)>0,\"H\",IFERROR(VLOOKUP((ROW(S5)-4)&\"_\"&S$4,Schedule!$H:$I,2,FALSE),\"\"))))","v":""},{"$f":"IF($A5=\"\",\"\",IF(OR(T$3=\"Sat\",T$3=\"Sun\"),\"\",IF(COUNTIF(Holidays!$A:$A,T$4)>0,\"H\",IFERROR(VLOOKUP((ROW(T5)-4)&\"_\"&T$4,Schedule!$H:$I,2,FALSE),\"\"))))","v":""},{"$f":"IF($A5=\"\",\"\",IF(OR(U$3=\"Sat\",U$3=\"Sun\"),\"\",IF(COUNTIF(Holidays!$A:$A,U$4)>0,\"H\",IFERROR(VLOOKUP((ROW(U5)-4)&\"_\"&U$4,Schedule!$H:$I,2,FALSE),\"\"))))","v":""},{"$f":"IF($A5=\"\",\"\",IF(OR(V$3=\"Sat\",V$3=\"Sun\"),\"\",IF(COUNTIF(Holidays!$A:$A,V$4)>0,\"H\",IFERROR(VLOOKUP((ROW(V5)-4)&\"_\"&V$4,Schedule!$H:$I,2,FALSE),\"\"))))","v":""},{"$f":"IF($A5=\"\",\"\",IF(OR(W$3=\"Sat\",W$3=\"Sun\"),\"\",IF(COUNTIF(Holidays!$A:$A,W$4)>0,\"H\",IFERROR(VLOOKUP((ROW(W5)-4)&\"_\"&W$4,Schedule!$H:$I,2,FALSE),\"\"))))","v":""},{"$f":"IF($A5=\"\",\"\",IF(OR(X$3=\"Sat\",X$3=\"Sun\"),\"\",IF(COUNTIF(Holidays!$A:$A,X$4)>0,\"H\",IFERROR(VLOOKUP((ROW(X5)-4)&\"_\"&X$4,Schedule!$H:$I,2,FALSE),\"\"))))","v":""},{"$f":"IF($A5=\"\",\"\",IF(OR(Y$3=\"Sat\",Y$3=\"Sun\"),\"\",IF(COUNTIF(Holidays!$A:$A,Y$4)>0,\"H\",IFERROR(VLOOKUP((ROW(Y5)-4)&\"_\"&Y$4,Schedule!$H:$I,2,FALSE),\"\"))))","v":""},{"$f":"IF($A5=\"\",\"\",IF(OR(Z$3=\"Sat\",Z$3=\"Sun\"),\"\",IF(COUNTIF(Holidays!$A:$A,Z$4)>0,\"H\",IFERROR(VLOOKUP((ROW(Z5)-4)&\"_\"&Z$4,Schedule!$H:$I,2,FALSE),\"\"))))","v":""},{"$f":"IF($A5=\"\",\"\",IF(OR(AA$3=\"Sat\",AA$3=\"Sun\"),\"\",IF(COUNTIF(Holidays!$A:$A,AA$4)>0,\"H\",IFERROR(VLOOKUP((ROW(AA5)-4)&\"_\"&AA$4,Schedule!$H:$I,2,FALSE),\"\"))))","v":"V"},{"$f":"IF($A5=\"\",\"\",IF(OR(AB$3=\"Sat\",AB$3=\"Sun\"),\"\",IF(COUNTIF(Holidays!$A:$A,AB$4)>0,\"H\",IFERROR(VLOOKUP((ROW(AB5)-4)&\"_\"&AB$4,Schedule!$H:$I,2,FALSE),\"\"))))","v":""},{"$f":"IF($A5=\"\",\"\",IF(OR(AC$3=\"Sat\",AC$3=\"Sun\"),\"\",IF(COUNTIF(Holidays!$A:$A,AC$4)>0,\"H\",IFERROR(VLOOKUP((ROW(AC5)-4)&\"_\"&AC$4,Schedule!$H:$I,2,FALSE),\"\"))))","v":""},{"$f":"IF($A5=\"\",\"\",IF(OR(AD$3=\"Sat\",AD$3=\"Sun\"),\"\",IF(COUNTIF(Holidays!$A:$A,AD$4)>0,\"H\",IFERROR(VLOOKUP((ROW(AD5)-4)&\"_\"&AD$4,Schedule!$H:$I,2,FALSE),\"\"))))","v":""},{"$f":"IF($A5=\"\",\"\",IF(OR(AE$3=\"Sat\",AE$3=\"Sun\"),\"\",IF(COUNTIF(Holidays!$A:$A,AE$4)>0,\"H\",IFERROR(VLOOKUP((ROW(AE5)-4)&\"_\"&AE$4,Schedule!$H:$I,2,FALSE),\"\"))))","v":""},{"$f":"IF($A5=\"\",\"\",IF(OR(AF$3=\"Sat\",AF$3=\"Sun\"),\"\",IF(COUNTIF(Holidays!$A:$A,AF$4)>0,\"H\",IFERROR(VLOOKUP((ROW(AF5)-4)&\"_\"&AF$4,Schedule!$H:$I,2,FALSE),\"\"))))","v":""},{"$f":"IF($A5=\"\",\"\",IF(OR(AG$3=\"Sat\",AG$3=\"Sun\"),\"\",IF(COUNTIF(Holidays!$A:$A,AG$4)>0,\"H\",IFERROR(VLOOKUP((ROW(AG5)-4)&\"_\"&AG$4,Schedule!$H:$I,2,FALSE),\"\"))))","v":""},{"$f":"IF($A5=\"\",\"\",IF(OR(AH$3=\"Sat\",AH$3=\"Sun\"),\"\",IF(COUNTIF(Holidays!$A:$A,AH$4)>0,\"H\",IFERROR(VLOOKUP((ROW(AH5)-4)&\"_\"&AH$4,Schedule!$H:$I,2,FALSE),\"\"))))","v":""},{"$f":"IF($A5=\"\",\"\",IF(OR(AI$3=\"Sat\",AI$3=\"Sun\"),\"\",IF(COUNTIF(Holidays!$A:$A,AI$4)>0,\"H\",IFERROR(VLOOKUP((ROW(AI5)-4)&\"_\"&AI$4,Schedule!$H:$I,2,FALSE),\"\"))))","v":""},{"$f":"IF($A5=\"\",\"\",IF(OR(AJ$3=\"Sat\",AJ$3=\"Sun\"),\"\",IF(COUNTIF(Holidays!$A:$A,AJ$4)>0,\"H\",IFERROR(VLOOKUP((ROW(AJ5)-4)&\"_\"&AJ$4,Schedule!$H:$I,2,FALSE),\"\"))))","v":""},{"$f":"IF($A5=\"\",\"\",ROUND(SUMIFS(Schedule!$E:$E,Schedule!$A:$A,$A5,Schedule!$D:$D,$AK$3,Schedule!$B:$B,\">=\"&DATE($Q$2,$U$2,1),Schedule!$B:$B,\"<=\"&EOMONTH(DATE($Q$2,$U$2,1),0))/8,2))","v":1},{"$f":"IF($A5=\"\",\"\",ROUND(SUMIFS(Schedule!$E:$E,Schedule!$A:$A,$A5,Schedule!$D:$D,$AK$3,Schedule!$B:$B,\">=\"&DATE($Q$2,1,1),Schedule!$B:$B,\"<=\"&EOMONTH(DATE($Q$2,$U$2,1),0))/8,2))","v":1},{"$f":"IF($A5=\"\",\"\",ROUND(SUMIFS(Schedule!$E:$E,Schedule!$A:$A,$A5,Schedule!$D:$D,$AM$3,Schedule!$B:$B,\">=\"&DATE($Q$2,$U$2,1),Schedule!$B:$B,\"<=\"&EOMONTH(DATE($Q$2,$U$2,1),0))/8,2))","v":0},{"$f":"IF($A5=\"\",\"\",ROUND(SUMIFS(Schedule!$E:$E,Schedule!$A:$A,$A5,Schedule!$D:$D,$AM$3,Schedule!$B:$B,\">=\"&DATE($Q$2,1,1),Schedule!$B:$B,\"<=\"&EOMONTH(DATE($Q$2,$U$2,1),0))/8,2))","v":0}]
[{"$f":"IF(Lookups!A3=\"\",\"\",Lookups!A3)","v":"Tim Thompson"},{"$f":"IF($A6=\"\",\"\",IF(OR(B$3=\"Sat\",B$3=\"Sun\"),\"\",IF(COUNTIF(Holidays!$A:$A,B$4)>0,\"H\",IFERROR(VLOOKUP((ROW(B6)-4)&\"_\"&B$4,Schedule!$H:$I,2,FALSE),\"\"))))","v":"H"},{"$f":"IF($A6=\"\",\"\",IF(OR(C$3=\"Sat\",C$3=\"Sun\"),\"\",IF(COUNTIF(Holidays!$A:$A,C$4)>0,\"H\",IFERROR(VLOOKUP((ROW(C6)-4)&\"_\"&C$4,Schedule!$H:$I,2,FALSE),\"\"))))","v":""},{"$f":"IF($A6=\"\",\"\",IF(OR(D$3=\"Sat\",D$3=\"Sun\"),\"\",IF(COUNTIF(Holidays!$A:$A,D$4)>0,\"H\",IFERROR(VLOOKUP((ROW(D6)-4)&\"_\"&D$4,Schedule!$H:$I,2,FALSE),\"\"))))","v":""},{"$f":"IF($A6=\"\",\"\",IF(OR(E$3=\"Sat\",E$3=\"Sun\"),\"\",IF(COUNTIF(Holidays!$A:$A,E$4)>0,\"H\",IFERROR(VLOOKUP((ROW(E6)-4)&\"_\"&E$4,Schedule!$H:$I,2,FALSE),\"\"))))","v":""},{"$f":"IF($A6=\"\",\"\",IF(OR(F$3=\"Sat\",F$3=\"Sun\"),\"\",IF(COUNTIF(Holidays!$A:$A,F$4)>0,\"H\",IFERROR(VLOOKUP((ROW(F6)-4)&\"_\"&F$4,Schedule!$H:$I,2,FALSE),\"\"))))","v":""},{"$f":"IF($A6=\"\",\"\",IF(OR(G$3=\"Sat\",G$3=\"Sun\"),\"\",IF(COUNTIF(Holidays!$A:$A,G$4)>0,\"H\",IFERROR(VLOOKUP((ROW(G6)-4)&\"_\"&G$4,Schedule!$H:$I,2,FALSE),\"\"))))","v":""},{"$f":"IF($A6=\"\",\"\",IF(OR(H$3=\"Sat\",H$3=\"Sun\"),\"\",IF(COUNTIF(Holidays!$A:$A,H$4)>0,\"H\",IFERROR(VLOOKUP((ROW(H6)-4)&\"_\"&H$4,Schedule!$H:$I,2,FALSE),\"\"))))","v":""},{"$f":"IF($A6=\"\",\"\",IF(OR(I$3=\"Sat\",I$3=\"Sun\"),\"\",IF(COUNTIF(Holidays!$A:$A,I$4)>0,\"H\",IFERROR(VLOOKUP((ROW(I6)-4)&\"_\"&I$4,Schedule!$H:$I,2,FALSE),\"\"))))","v":""},{"$f":"IF($A6=\"\",\"\",IF(OR(J$3=\"Sat\",J$3=\"Sun\"),\"\",IF(COUNTIF(Holidays!$A:$A,J$4)>0,\"H\",IFERROR(VLOOKUP((ROW(J6)-4)&\"_\"&J$4,Schedule!$H:$I,2,FALSE),\"\"))))","v":""},{"$f":"IF($A6=\"\",\"\",IF(OR(K$3=\"Sat\",K$3=\"Sun\"),\"\",IF(COUNTIF(Holidays!$A:$A,K$4)>0,\"H\",IFERROR(VLOOKUP((ROW(K6)-4)&\"_\"&K$4,Schedule!$H:$I,2,FALSE),\"\"))))","v":""},{"$f":"IF($A6=\"\",\"\",IF(OR(L$3=\"Sat\",L$3=\"Sun\"),\"\",IF(COUNTIF(Holidays!$A:$A,L$4)>0,\"H\",IFERROR(VLOOKUP((ROW(L6)-4)&\"_\"&L$4,Schedule!$H:$I,2,FALSE),\"\"))))","v":""},{"$f":"IF($A6=\"\",\"\",IF(OR(M$3=\"Sat\",M$3=\"Sun\"),\"\",IF(COUNTIF(Holidays!$A:$A,M$4)>0,\"H\",IFERROR(VLOOKUP((ROW(M6)-4)&\"_\"&M$4,Schedule!$H:$I,2,FALSE),\"\"))))","v":""},{"$f":"IF($A6=\"\",\"\",IF(OR(N$3=\"Sat\",N$3=\"Sun\"),\"\",IF(COUNTIF(Holidays!$A:$A,N$4)>0,\"H\",IFERROR(VLOOKUP((ROW(N6)-4)&\"_\"&N$4,Schedule!$H:$I,2,FALSE),\"\"))))","v":""},{"$f":"IF($A6=\"\",\"\",IF(OR(O$3=\"Sat\",O$3=\"Sun\"),\"\",IF(COUNTIF(Holidays!$A:$A,O$4)>0,\"H\",IFERROR(VLOOKUP((ROW(O6)-4)&\"_\"&O$4,Schedule!$H:$I,2,FALSE),\"\"))))","v":""},{"$f":"IF($A6=\"\",\"\",IF(OR(P$3=\"Sat\",P$3=\"Sun\"),\"\",IF(COUNTIF(Holidays!$A:$A,P$4)>0,\"H\",IFERROR(VLOOKUP((ROW(P6)-4)&\"_\"&P$4,Schedule!$H:$I,2,FALSE),\"\"))))","v":""},{"$f":"IF($A6=\"\",\"\",IF(OR(Q$3=\"Sat\",Q$3=\"Sun\"),\"\",IF(COUNTIF(Holidays!$A:$A,Q$4)>0,\"H\",IFERROR(VLOOKUP((ROW(Q6)-4)&\"_\"&Q$4,Schedule!$H:$I,2,FALSE),\"\"))))","v":""},{"$f":"IF($A6=\"\",\"\",IF(OR(R$3=\"Sat\",R$3=\"Sun\"),\"\",IF(COUNTIF(Holidays!$A:$A,R$4)>0,\"H\",IFERROR(VLOOKUP((ROW(R6)-4)&\"_\"&R$4,Schedule!$H:$I,2,FALSE),\"\"))))","v":""},{"$f":"IF($A6=\"\",\"\",IF(OR(S$3=\"Sat\",S$3=\"Sun\"),\"\",IF(COUNTIF(Holidays!$A:$A,S$4)>0,\"H\",IFERROR(VLOOKUP((ROW(S6)-4)&\"_\"&S$4,Schedule!$H:$I,2,FALSE),\"\"))))","v":""},{"$f":"IF($A6=\"\",\"\",IF(OR(T$3=\"Sat\",T$3=\"Sun\"),\"\",IF(COUNTIF(Holidays!$A:$A,T$4)>0,\"H\",IFERROR(VLOOKUP((ROW(T6)-4)&\"_\"&T$4,Schedule!$H:$I,2,FALSE),\"\"))))","v":""},{"$f":"IF($A6=\"\",\"\",IF(OR(U$3=\"Sat\",U$3=\"Sun\"),\"\",IF(COUNTIF(Holidays!$A:$A,U$4)>0,\"H\",IFERROR(VLOOKUP((ROW(U6)-4)&\"_\"&U$4,Schedule!$H:$I,2,FALSE),\"\"))))","v":""},{"$f":"IF($A6=\"\",\"\",IF(OR(V$3=\"Sat\",V$3=\"Sun\"),\"\",IF(COUNTIF(Holidays!$A:$A,V$4)>0,\"H\",IFERROR(VLOOKUP((ROW(V6)-4)&\"_\"&V$4,Schedule!$H:$I,2,FALSE),\"\"))))","v":""},{"$f":"IF($A6=\"\",\"\",IF(OR(W$3=\"Sat\",W$3=\"Sun\"),\"\",IF(COUNTIF(Holidays!$A:$A,W$4)>0,\"H\",IFERROR(VLOOKUP((ROW(W6)-4)&\"_\"&W$4,Schedule!$H:$I,2,FALSE),\"\"))))","v":""},{"$f":"IF($A6=\"\",\"\",IF(OR(X$3=\"Sat\",X$3=\"Sun\"),\"\",IF(COUNTIF(Holidays!$A:$A,X$4)>0,\"H\",IFERROR(VLOOKUP((ROW(X6)-4)&\"_\"&X$4,Schedule!$H:$I,2,FALSE),\"\"))))","v":""},{"$f":"IF($A6=\"\",\"\",IF(OR(Y$3=\"Sat\",Y$3=\"Sun\"),\"\",IF(COUNTIF(Holidays!$A:$A,Y$4)>0,\"H\",IFERROR(VLOOKUP((ROW(Y6)-4)&\"_\"&Y$4,Schedule!$H:$I,2,FALSE),\"\"))))","v":""},{"$f":"IF($A6=\"\",\"\",IF(OR(Z$3=\"Sat\",Z$3=\"Sun\"),\"\",IF(COUNTIF(Holidays!$A:$A,Z$4)>0,\"H\",IFERROR(VLOOKUP((ROW(Z6)-4)&\"_\"&Z$4,Schedule!$H:$I,2,FALSE),\"\"))))","v":""},{"$f":"IF($A6=\"\",\"\",IF(OR(AA$3=\"Sat\",AA$3=\"Sun\"),\"\",IF(COUNTIF(Holidays!$A:$A,AA$4)>0,\"H\",IFERROR(VLOOKUP((ROW(AA6)-4)&\"_\"&AA$4,Schedule!$H:$I,2,FALSE),\"\"))))","v":"V"},{"$f":"IF($A6=\"\",\"\",IF(OR(AB$3=\"Sat\",AB$3=\"Sun\"),\"\",IF(COUNTIF(Holidays!$A:$A,AB$4)>0,\"H\",IFERROR(VLOOKUP((ROW(AB6)-4)&\"_\"&AB$4,Schedule!$H:$I,2,FALSE),\"\"))))","v":""},{"$f":"IF($A6=\"\",\"\",IF(OR(AC$3=\"Sat\",AC$3=\"Sun\"),\"\",IF(COUNTIF(Holidays!$A:$A,AC$4)>0,\"H\",IFERROR(VLOOKUP((ROW(AC6)-4)&\"_\"&AC$4,Schedule!$H:$I,2,FALSE),\"\"))))","v":""},{"$f":"IF($A6=\"\",\"\",IF(OR(AD$3=\"Sat\",AD$3=\"Sun\"),\"\",IF(COUNTIF(Holidays!$A:$A,AD$4)>0,\"H\",IFERROR(VLOOKUP((ROW(AD6)-4)&\"_\"&AD$4,Schedule!$H:$I,2,FALSE),\"\"))))","v":""},{"$f":"IF($A6=\"\",\"\",IF(OR(AE$3=\"Sat\",AE$3=\"Sun\"),\"\",IF(COUNTIF(Holidays!$A:$A,AE$4)>0,\"H\",IFERROR(VLOOKUP((ROW(AE6)-4)&\"_\"&AE$4,Schedule!$H:$I,2,FALSE),\"\"))))","v":""},{"$f":"IF($A6=\"\",\"\",IF(OR(AF$3=\"Sat\",AF$3=\"Sun\"),\"\",IF(COUNTIF(Holidays!$A:$A,AF$4)>0,\"H\",IFERROR(VLOOKUP((ROW(AF6)-4)&\"_\"&AF$4,Schedule!$H:$I,2,FALSE),\"\"))))","v":""},{"$f":"IF($A6=\"\",\"\",IF(OR(AG$3=\"Sat\",AG$3=\"Sun\"),\"\",IF(COUNTIF(Holidays!$A:$A,AG$4)>0,\"H\",IFERROR(VLOOKUP((ROW(AG6)-4)&\"_\"&AG$4,Schedule!$H:$I,2,FALSE),\"\"))))","v":""},{"$f":"IF($A6=\"\",\"\",IF(OR(AH$3=\"Sat\",AH$3=\"Sun\"),\"\",IF(COUNTIF(Holidays!$A:$A,AH$4)>0,\"H\",IFERROR(VLOOKUP((ROW(AH6)-4)&\"_\"&AH$4,Schedule!$H:$I,2,FALSE),\"\"))))","v":""},{"$f":"IF($A6=\"\",\"\",IF(OR(AI$3=\"Sat\",AI$3=\"Sun\"),\"\",IF(COUNTIF(Holidays!$A:$A,AI$4)>0,\"H\",IFERROR(VLOOKUP((ROW(AI6)-4)&\"_\"&AI$4,Schedule!$H:$I,2,FALSE),\"\"))))","v":""},{"$f":"IF($A6=\"\",\"\",IF(OR(AJ$3=\"Sat\",AJ$3=\"Sun\"),\"\",IF(COUNTIF(Holidays!$A:$A,AJ$4)>0,\"H\",IFERROR(VLOOKUP((ROW(AJ6)-4)&\"_\"&AJ$4,Schedule!$H:$I,2,FALSE),\"\"))))","v":""},{"$f":"IF($A6=\"\",\"\",ROUND(SUMIFS(Schedule!$E:$E,Schedule!$A:$A,$A6,Schedule!$D:$D,$AK$3,Schedule!$B:$B,\">=\"&DATE($Q$2,$U$2,1),Schedule!$B:$B,\"<=\"&EOMONTH(DATE($Q$2,$U$2,1),0))/8,2))","v":1},{"$f":"IF($A6=\"\",\"\",ROUND(SUMIFS(Schedule!$E:$E,Schedule!$A:$A,$A6,Schedule!$D:$D,$AK$3,Schedule!$B:$B,\">=\"&DATE($Q$2,1,1),Schedule!$B:$B,\"<=\"&EOMONTH(DATE($Q$2,$U$2,1),0))/8,2))","v":1},{"$f":"IF($A6=\"\",\"\",ROUND(SUMIFS(Schedule!$E:$E,Schedule!$A:$A,$A6,Schedule!$D:$D,$AM$3,Schedule!$B:$B,\">=\"&DATE($Q$2,$U$2,1),Schedule!$B:$B,\"<=\"&EOMONTH(DATE($Q$2,$U$2,1),0))/8,2))","v":0},{"$f":"IF($A6=\"\",\"\",ROUND(SUMIFS(Schedule!$E:$E,Schedule!$A:$A,$A6,Schedule!$D:$D,$AM$3,Schedule!$B:$B,\">=\"&DATE($Q$2,1,1),Schedule!$B:$B,\"<=\"&EOMONTH(DATE($Q$2,$U$2,1),0))/8,2))","v":0}]
[{"$f":"IF(Lookups!A4=\"\",\"\",Lookups!A4)","v":"Jim Jones"},{"$f":"IF($A7=\"\",\"\",IF(OR(B$3=\"Sat\",B$3=\"Sun\"),\"\",IF(COUNTIF(Holidays!$A:$A,B$4)>0,\"H\",IFERROR(VLOOKUP((ROW(B7)-4)&\"_\"&B$4,Schedule!$H:$I,2,FALSE),\"\"))))","v":"H"},{"$f":"IF($A7=\"\",\"\",IF(OR(C$3=\"Sat\",C$3=\"Sun\"),\"\",IF(COUNTIF(Holidays!$A:$A,C$4)>0,\"H\",IFERROR(VLOOKUP((ROW(C7)-4)&\"_\"&C$4,Schedule!$H:$I,2,FALSE),\"\"))))","v":""},{"$f":"IF($A7=\"\",\"\",IF(OR(D$3=\"Sat\",D$3=\"Sun\"),\"\",IF(COUNTIF(Holidays!$A:$A,D$4)>0,\"H\",IFERROR(VLOOKUP((ROW(D7)-4)&\"_\"&D$4,Schedule!$H:$I,2,FALSE),\"\"))))","v":"W*"},{"$f":"IF($A7=\"\",\"\",IF(OR(E$3=\"Sat\",E$3=\"Sun\"),\"\",IF(COUNTIF(Holidays!$A:$A,E$4)>0,\"H\",IFERROR(VLOOKUP((ROW(E7)-4)&\"_\"&E$4,Schedule!$H:$I,2,FALSE),\"\"))))","v":""},{"$f":"IF($A7=\"\",\"\",IF(OR(F$3=\"Sat\",F$3=\"Sun\"),\"\",IF(COUNTIF(Holidays!$A:$A,F$4)>0,\"H\",IFERROR(VLOOKUP((ROW(F7)-4)&\"_\"&F$4,Schedule!$H:$I,2,FALSE),\"\"))))","v":""},{"$f":"IF($A7=\"\",\"\",IF(OR(G$3=\"Sat\",G$3=\"Sun\"),\"\",IF(COUNTIF(Holidays!$A:$A,G$4)>0,\"H\",IFERROR(VLOOKUP((ROW(G7)-4)&\"_\"&G$4,Schedule!$H:$I,2,FALSE),\"\"))))","v":""},{"$f":"IF($A7=\"\",\"\",IF(OR(H$3=\"Sat\",H$3=\"Sun\"),\"\",IF(COUNTIF(Holidays!$A:$A,H$4)>0,\"H\",IFERROR(VLOOKUP((ROW(H7)-4)&\"_\"&H$4,Schedule!$H:$I,2,FALSE),\"\"))))","v":""},{"$f":"IF($A7=\"\",\"\",IF(OR(I$3=\"Sat\",I$3=\"Sun\"),\"\",IF(COUNTIF(Holidays!$A:$A,I$4)>0,\"H\",IFERROR(VLOOKUP((ROW(I7)-4)&\"_\"&I$4,Schedule!$H:$I,2,FALSE),\"\"))))","v":""},{"$f":"IF($A7=\"\",\"\",IF(OR(J$3=\"Sat\",J$3=\"Sun\"),\"\",IF(COUNTIF(Holidays!$A:$A,J$4)>0,\"H\",IFERROR(VLOOKUP((ROW(J7)-4)&\"_\"&J$4,Schedule!$H:$I,2,FALSE),\"\"))))","v":""},{"$f":"IF($A7=\"\",\"\",IF(OR(K$3=\"Sat\",K$3=\"Sun\"),\"\",IF(COUNTIF(Holidays!$A:$A,K$4)>0,\"H\",IFERROR(VLOOKUP((ROW(K7)-4)&\"_\"&K$4,Schedule!$H:$I,2,FALSE),\"\"))))","v":""},{"$f":"IF($A7=\"\",\"\",IF(OR(L$3=\"Sat\",L$3=\"Sun\"),\"\",IF(COUNTIF(Holidays!$A:$A,L$4)>0,\"H\",IFERROR(VLOOKUP((ROW(L7)-4)&\"_\"&L$4,Schedule!$H:$I,2,FALSE),\"\"))))","v":""},{"$f":"IF($A7=\"\",\"\",IF(OR(M$3=\"Sat\",M$3=\"Sun\"),\"\",IF(COUNTIF(Holidays!$A:$A,M$4)>0,\"H\",IFERROR(VLOOKUP((ROW(M7)-4)&\"_\"&M$4,Schedule!$H:$I,2,FALSE),\"\"))))","v":""},{"$f":"IF($A7=\"\",\"\",IF(OR(N$3=\"Sat\",N$3=\"Sun\"),\"\",IF(COUNTIF(Holidays!$A:$A,N$4)>0,\"H\",IFERROR(VLOOKUP((ROW(N7)-4)&\"_\"&N$4,Schedule!$H:$I,2,FALSE),\"\"))))","v":""},{"$f":"IF($A7=\"\",\"\",IF(OR(O$3=\"Sat\",O$3=\"Sun\"),\"\",IF(COUNTIF(Holidays!$A:$A,O$4)>0,\"H\",IFERROR(VLOOKUP((ROW(O7)-4)&\"_\"&O$4,Schedule!$H:$I,2,FALSE),\"\"))))","v":""},{"$f":"IF($A7=\"\",\"\",IF(OR(P$3=\"Sat\",P$3=\"Sun\"),\"\",IF(COUNTIF(Holidays!$A:$A,P$4)>0,\"H\",IFERROR(VLOOKUP((ROW(P7)-4)&\"_\"&P$4,Schedule!$H:$I,2,FALSE),\"\"))))","v":""},{"$f":"IF($A7=\"\",\"\",IF(OR(Q$3=\"Sat\",Q$3=\"Sun\"),\"\",IF(COUNTIF(Holidays!$A:$A,Q$4)>0,\"H\",IFERROR(VLOOKUP((ROW(Q7)-4)&\"_\"&Q$4,Schedule!$H:$I,2,FALSE),\"\"))))","v":""},{"$f":"IF($A7=\"\",\"\",IF(OR(R$3=\"Sat\",R$3=\"Sun\"),\"\",IF(COUNTIF(Holidays!$A:$A,R$4)>0,\"H\",IFERROR(VLOOKUP((ROW(R7)-4)&\"_\"&R$4,Schedule!$H:$I,2,FALSE),\"\"))))","v":""},{"$f":"IF($A7=\"\",\"\",IF(OR(S$3=\"Sat\",S$3=\"Sun\"),\"\",IF(COUNTIF(Holidays!$A:$A,S$4)>0,\"H\",IFERROR(VLOOKUP((ROW(S7)-4)&\"_\"&S$4,Schedule!$H:$I,2,FALSE),\"\"))))","v":""},{"$f":"IF($A7=\"\",\"\",IF(OR(T$3=\"Sat\",T$3=\"Sun\"),\"\",IF(COUNTIF(Holidays!$A:$A,T$4)>0,\"H\",IFERROR(VLOOKUP((ROW(T7)-4)&\"_\"&T$4,Schedule!$H:$I,2,FALSE),\"\"))))","v":""},{"$f":"IF($A7=\"\",\"\",IF(OR(U$3=\"Sat\",U$3=\"Sun\"),\"\",IF(COUNTIF(Holidays!$A:$A,U$4)>0,\"H\",IFERROR(VLOOKUP((ROW(U7)-4)&\"_\"&U$4,Schedule!$H:$I,2,FALSE),\"\"))))","v":""},{"$f":"IF($A7=\"\",\"\",IF(OR(V$3=\"Sat\",V$3=\"Sun\"),\"\",IF(COUNTIF(Holidays!$A:$A,V$4)>0,\"H\",IFERROR(VLOOKUP((ROW(V7)-4)&\"_\"&V$4,Schedule!$H:$I,2,FALSE),\"\"))))","v":""},{"$f":"IF($A7=\"\",\"\",IF(OR(W$3=\"Sat\",W$3=\"Sun\"),\"\",IF(COUNTIF(Holidays!$A:$A,W$4)>0,\"H\",IFERROR(VLOOKUP((ROW(W7)-4)&\"_\"&W$4,Schedule!$H:$I,2,FALSE),\"\"))))","v":""},{"$f":"IF($A7=\"\",\"\",IF(OR(X$3=\"Sat\",X$3=\"Sun\"),\"\",IF(COUNTIF(Holidays!$A:$A,X$4)>0,\"H\",IFERROR(VLOOKUP((ROW(X7)-4)&\"_\"&X$4,Schedule!$H:$I,2,FALSE),\"\"))))","v":""},{"$f":"IF($A7=\"\",\"\",IF(OR(Y$3=\"Sat\",Y$3=\"Sun\"),\"\",IF(COUNTIF(Holidays!$A:$A,Y$4)>0,\"H\",IFERROR(VLOOKUP((ROW(Y7)-4)&\"_\"&Y$4,Schedule!$H:$I,2,FALSE),\"\"))))","v":""},{"$f":"IF($A7=\"\",\"\",IF(OR(Z$3=\"Sat\",Z$3=\"Sun\"),\"\",IF(COUNTIF(Holidays!$A:$A,Z$4)>0,\"H\",IFERROR(VLOOKUP((ROW(Z7)-4)&\"_\"&Z$4,Schedule!$H:$I,2,FALSE),\"\"))))","v":""},{"$f":"IF($A7=\"\",\"\",IF(OR(AA$3=\"Sat\",AA$3=\"Sun\"),\"\",IF(COUNTIF(Holidays!$A:$A,AA$4)>0,\"H\",IFERROR(VLOOKUP((ROW(AA7)-4)&\"_\"&AA$4,Schedule!$H:$I,2,FALSE),\"\"))))","v":""},{"$f":"IF($A7=\"\",\"\",IF(OR(AB$3=\"Sat\",AB$3=\"Sun\"),\"\",IF(COUNTIF(Holidays!$A:$A,AB$4)>0,\"H\",IFERROR(VLOOKUP((ROW(AB7)-4)&\"_\"&AB$4,Schedule!$H:$I,2,FALSE),\"\"))))","v":""},{"$f":"IF($A7=\"\",\"\",IF(OR(AC$3=\"Sat\",AC$3=\"Sun\"),\"\",IF(COUNTIF(Holidays!$A:$A,AC$4)>0,\"H\",IFERROR(VLOOKUP((ROW(AC7)-4)&\"_\"&AC$4,Schedule!$H:$I,2,FALSE),\"\"))))","v":""},{"$f":"IF($A7=\"\",\"\",IF(OR(AD$3=\"Sat\",AD$3=\"Sun\"),\"\",IF(COUNTIF(Holidays!$A:$A,AD$4)>0,\"H\",IFERROR(VLOOKUP((ROW(AD7)-4)&\"_\"&AD$4,Schedule!$H:$I,2,FALSE),\"\"))))","v":""},{"$f":"IF($A7=\"\",\"\",IF(OR(AE$3=\"Sat\",AE$3=\"Sun\"),\"\",IF(COUNTIF(Holidays!$A:$A,AE$4)>0,\"H\",IFERROR(VLOOKUP((ROW(AE7)-4)&\"_\"&AE$4,Schedule!$H:$I,2,FALSE),\"\"))))","v":""},{"$f":"IF($A7=\"\",\"\",IF(OR(AF$3=\"Sat\",AF$3=\"Sun\"),\"\",IF(COUNTIF(Holidays!$A:$A,AF$4)>0,\"H\",IFERROR(VLOOKUP((ROW(AF7)-4)&\"_\"&AF$4,Schedule!$H:$I,2,FALSE),\"\"))))","v":""},{"$f":"IF($A7=\"\",\"\",IF(OR(AG$3=\"Sat\",AG$3=\"Sun\"),\"\",IF(COUNTIF(Holidays!$A:$A,AG$4)>0,\"H\",IFERROR(VLOOKUP((ROW(AG7)-4)&\"_\"&AG$4,Schedule!$H:$I,2,FALSE),\"\"))))","v":""},{"$f":"IF($A7=\"\",\"\",IF(OR(AH$3=\"Sat\",AH$3=\"Sun\"),\"\",IF(COUNTIF(Holidays!$A:$A,AH$4)>0,\"H\",IFERROR(VLOOKUP((ROW(AH7)-4)&\"_\"&AH$4,Schedule!$H:$I,2,FALSE),\"\"))))","v":""},{"$f":"IF($A7=\"\",\"\",IF(OR(AI$3=\"Sat\",AI$3=\"Sun\"),\"\",IF(COUNTIF(Holidays!$A:$A,AI$4)>0,\"H\",IFERROR(VLOOKUP((ROW(AI7)-4)&\"_\"&AI$4,Schedule!$H:$I,2,FALSE),\"\"))))","v":""},{"$f":"IF($A7=\"\",\"\",IF(OR(AJ$3=\"Sat\",AJ$3=\"Sun\"),\"\",IF(COUNTIF(Holidays!$A:$A,AJ$4)>0,\"H\",IFERROR(VLOOKUP((ROW(AJ7)-4)&\"_\"&AJ$4,Schedule!$H:$I,2,FALSE),\"\"))))","v":""},{"$f":"IF($A7=\"\",\"\",ROUND(SUMIFS(Schedule!$E:$E,Schedule!$A:$A,$A7,Schedule!$D:$D,$AK$3,Schedule!$B:$B,\">=\"&DATE($Q$2,$U$2,1),Schedule!$B:$B,\"<=\"&EOMONTH(DATE($Q$2,$U$2,1),0))/8,2))","v":0},{"$f":"IF($A7=\"\",\"\",ROUND(SUMIFS(Schedule!$E:$E,Schedule!$A:$A,$A7,Schedule!$D:$D,$AK$3,Schedule!$B:$B,\">=\"&DATE($Q$2,1,1),Schedule!$B:$B,\"<=\"&EOMONTH(DATE($Q$2,$U$2,1),0))/8,2))","v":0},{"$f":"IF($A7=\"\",\"\",ROUND(SUMIFS(Schedule!$E:$E,Schedule!$A:$A,$A7,Schedule!$D:$D,$AM$3,Schedule!$B:$B,\">=\"&DATE($Q$2,$U$2,1),Schedule!$B:$B,\"<=\"&EOMONTH(DATE($Q$2,$U$2,1),0))/8,2))","v":0},{"$f":"IF($A7=\"\",\"\",ROUND(SUMIFS(Schedule!$E:$E,Schedule!$A:$A,$A7,Schedule!$D:$D,$AM$3,Schedule!$B:$B,\">=\"&DATE($Q$2,1,1),Schedule!$B:$B,\"<=\"&EOMONTH(DATE($Q$2,$U$2,1),0))/8,2))","v":0}]
[{"$f":"IF(Lookups!A5=\"\",\"\",Lookups!A5)","v":"Steve Smith"},{"$f":"IF($A8=\"\",\"\",IF(OR(B$3=\"Sat\",B$3=\"Sun\"),\"\",IF(COUNTIF(Holidays!$A:$A,B$4)>0,\"H\",IFERROR(VLOOKUP((ROW(B8)-4)&\"_\"&B$4,Schedule!$H:$I,2,FALSE),\"\"))))","v":"H"},{"$f":"IF($A8=\"\",\"\",IF(OR(C$3=\"Sat\",C$3=\"Sun\"),\"\",IF(COUNTIF(Holidays!$A:$A,C$4)>0,\"H\",IFERROR(VLOOKUP((ROW(C8)-4)&\"_\"&C$4,Schedule!$H:$I,2,FALSE),\"\"))))","v":""},{"$f":"IF($A8=\"\",\"\",IF(OR(D$3=\"Sat\",D$3=\"Sun\"),\"\",IF(COUNTIF(Holidays!$A:$A,D$4)>0,\"H\",IFERROR(VLOOKUP((ROW(D8)-4)&\"_\"&D$4,Schedule!$H:$I,2,FALSE),\"\"))))","v":""},{"$f":"IF($A8=\"\",\"\",IF(OR(E$3=\"Sat\",E$3=\"Sun\"),\"\",IF(COUNTIF(Holidays!$A:$A,E$4)>0,\"H\",IFERROR(VLOOKUP((ROW(E8)-4)&\"_\"&E$4,Schedule!$H:$I,2,FALSE),\"\"))))","v":"V"},{"$f":"IF($A8=\"\",\"\",IF(OR(F$3=\"Sat\",F$3=\"Sun\"),\"\",IF(COUNTIF(Holidays!$A:$A,F$4)>0,\"H\",IFERROR(VLOOKUP((ROW(F8)-4)&\"_\"&F$4,Schedule!$H:$I,2,FALSE),\"\"))))","v":""},{"$f":"IF($A8=\"\",\"\",IF(OR(G$3=\"Sat\",G$3=\"Sun\"),\"\",IF(COUNTIF(Holidays!$A:$A,G$4)>0,\"H\",IFERROR(VLOOKUP((ROW(G8)-4)&\"_\"&G$4,Schedule!$H:$I,2,FALSE),\"\"))))","v":""},{"$f":"IF($A8=\"\",\"\",IF(OR(H$3=\"Sat\",H$3=\"Sun\"),\"\",IF(COUNTIF(Holidays!$A:$A,H$4)>0,\"H\",IFERROR(VLOOKUP((ROW(H8)-4)&\"_\"&H$4,Schedule!$H:$I,2,FALSE),\"\"))))","v":""},{"$f":"IF($A8=\"\",\"\",IF(OR(I$3=\"Sat\",I$3=\"Sun\"),\"\",IF(COUNTIF(Holidays!$A:$A,I$4)>0,\"H\",IFERROR(VLOOKUP((ROW(I8)-4)&\"_\"&I$4,Schedule!$H:$I,2,FALSE),\"\"))))","v":""},{"$f":"IF($A8=\"\",\"\",IF(OR(J$3=\"Sat\",J$3=\"Sun\"),\"\",IF(COUNTIF(Holidays!$A:$A,J$4)>0,\"H\",IFERROR(VLOOKUP((ROW(J8)-4)&\"_\"&J$4,Schedule!$H:$I,2,FALSE),\"\"))))","v":""},{"$f":"IF($A8=\"\",\"\",IF(OR(K$3=\"Sat\",K$3=\"Sun\"),\"\",IF(COUNTIF(Holidays!$A:$A,K$4)>0,\"H\",IFERROR(VLOOKUP((ROW(K8)-4)&\"_\"&K$4,Schedule!$H:$I,2,FALSE),\"\"))))","v":""},{"$f":"IF($A8=\"\",\"\",IF(OR(L$3=\"Sat\",L$3=\"Sun\"),\"\",IF(COUNTIF(Holidays!$A:$A,L$4)>0,\"H\",IFERROR(VLOOKUP((ROW(L8)-4)&\"_\"&L$4,Schedule!$H:$I,2,FALSE),\"\"))))","v":""},{"$f":"IF($A8=\"\",\"\",IF(OR(M$3=\"Sat\",M$3=\"Sun\"),\"\",IF(COUNTIF(Holidays!$A:$A,M$4)>0,\"H\",IFERROR(VLOOKUP((ROW(M8)-4)&\"_\"&M$4,Schedule!$H:$I,2,FALSE),\"\"))))","v":""},{"$f":"IF($A8=\"\",\"\",IF(OR(N$3=\"Sat\",N$3=\"Sun\"),\"\",IF(COUNTIF(Holidays!$A:$A,N$4)>0,\"H\",IFERROR(VLOOKUP((ROW(N8)-4)&\"_\"&N$4,Schedule!$H:$I,2,FALSE),\"\"))))","v":""},{"$f":"IF($A8=\"\",\"\",IF(OR(O$3=\"Sat\",O$3=\"Sun\"),\"\",IF(COUNTIF(Holidays!$A:$A,O$4)>0,\"H\",IFERROR(VLOOKUP((ROW(O8)-4)&\"_\"&O$4,Schedule!$H:$I,2,FALSE),\"\"))))","v":""},{"$f":"IF($A8=\"\",\"\",IF(OR(P$3=\"Sat\",P$3=\"Sun\"),\"\",IF(COUNTIF(Holidays!$A:$A,P$4)>0,\"H\",IFERROR(VLOOKUP((ROW(P8)-4)&\"_\"&P$4,Schedule!$H:$I,2,FALSE),\"\"))))","v":""},{"$f":"IF($A8=\"\",\"\",IF(OR(Q$3=\"Sat\",Q$3=\"Sun\"),\"\",IF(COUNTIF(Holidays!$A:$A,Q$4)>0,\"H\",IFERROR(VLOOKUP((ROW(Q8)-4)&\"_\"&Q$4,Schedule!$H:$I,2,FALSE),\"\"))))","v":""},{"$f":"IF($A8=\"\",\"\",IF(OR(R$3=\"Sat\",R$3=\"Sun\"),\"\",IF(COUNTIF(Holidays!$A:$A,R$4)>0,\"H\",IFERROR(VLOOKUP((ROW(R8)-4)&\"_\"&R$4,Schedule!$H:$I,2,FALSE),\"\"))))","v":""},{"$f":"IF($A8=\"\",\"\",IF(OR(S$3=\"Sat\",S$3=\"Sun\"),\"\",IF(COUNTIF(Holidays!$A:$A,S$4)>0,\"H\",IFERROR(VLOOKUP((ROW(S8)-4)&\"_\"&S$4,Schedule!$H:$I,2,FALSE),\"\"))))","v":""},{"$f":"IF($A8=\"\",\"\",IF(OR(T$3=\"Sat\",T$3=\"Sun\"),\"\",IF(COUNTIF(Holidays!$A:$A,T$4)>0,\"H\",IFERROR(VLOOKUP((ROW(T8)-4)&\"_\"&T$4,Schedule!$H:$I,2,FALSE),\"\"))))","v":""},{"$f":"IF($A8=\"\",\"\",IF(OR(U$3=\"Sat\",U$3=\"Sun\"),\"\",IF(COUNTIF(Holidays!$A:$A,U$4)>0,\"H\",IFERROR(VLOOKUP((ROW(U8)-4)&\"_\"&U$4,Schedule!$H:$I,2,FALSE),\"\"))))","v":""},{"$f":"IF($A8=\"\",\"\",IF(OR(V$3=\"Sat\",V$3=\"Sun\"),\"\",IF(COUNTIF(Holidays!$A:$A,V$4)>0,\"H\",IFERROR(VLOOKUP((ROW(V8)-4)&\"_\"&V$4,Schedule!$H:$I,2,FALSE),\"\"))))","v":""},{"$f":"IF($A8=\"\",\"\",IF(OR(W$3=\"Sat\",W$3=\"Sun\"),\"\",IF(COUNTIF(Holidays!$A:$A,W$4)>0,\"H\",IFERROR(VLOOKUP((ROW(W8)-4)&\"_\"&W$4,Schedule!$H:$I,2,FALSE),\"\"))))","v":""},{"$f":"IF($A8=\"\",\"\",IF(OR(X$3=\"Sat\",X$3=\"Sun\"),\"\",IF(COUNTIF(Holidays!$A:$A,X$4)>0,\"H\",IFERROR(VLOOKUP((ROW(X8)-4)&\"_\"&X$4,Schedule!$H:$I,2,FALSE),\"\"))))","v":""},{"$f":"IF($A8=\"\",\"\",IF(OR(Y$3=\"Sat\",Y$3=\"Sun\"),\"\",IF(COUNTIF(Holidays!$A:$A,Y$4)>0,\"H\",IFERROR(VLOOKUP((ROW(Y8)-4)&\"_\"&Y$4,Schedule!$H:$I,2,FALSE),\"\"))))","v":""},{"$f":"IF($A8=\"\",\"\",IF(OR(Z$3=\"Sat\",Z$3=\"Sun\"),\"\",IF(COUNTIF(Holidays!$A:$A,Z$4)>0,\"H\",IFERROR(VLOOKUP((ROW(Z8)-4)&\"_\"&Z$4,Schedule!$H:$I,2,FALSE),\"\"))))","v":""},{"$f":"IF($A8=\"\",\"\",IF(OR(AA$3=\"Sat\",AA$3=\"Sun\"),\"\",IF(COUNTIF(Holidays!$A:$A,AA$4)>0,\"H\",IFERROR(VLOOKUP((ROW(AA8)-4)&\"_\"&AA$4,Schedule!$H:$I,2,FALSE),\"\"))))","v":""},{"$f":"IF($A8=\"\",\"\",IF(OR(AB$3=\"Sat\",AB$3=\"Sun\"),\"\",IF(COUNTIF(Holidays!$A:$A,AB$4)>0,\"H\",IFERROR(VLOOKUP((ROW(AB8)-4)&\"_\"&AB$4,Schedule!$H:$I,2,FALSE),\"\"))))","v":""},{"$f":"IF($A8=\"\",\"\",IF(OR(AC$3=\"Sat\",AC$3=\"Sun\"),\"\",IF(COUNTIF(Holidays!$A:$A,AC$4)>0,\"H\",IFERROR(VLOOKUP((ROW(AC8)-4)&\"_\"&AC$4,Schedule!$H:$I,2,FALSE),\"\"))))","v":""},{"$f":"IF($A8=\"\",\"\",IF(OR(AD$3=\"Sat\",AD$3=\"Sun\"),\"\",IF(COUNTIF(Holidays!$A:$A,AD$4)>0,\"H\",IFERROR(VLOOKUP((ROW(AD8)-4)&\"_\"&AD$4,Schedule!$H:$I,2,FALSE),\"\"))))","v":""},{"$f":"IF($A8=\"\",\"\",IF(OR(AE$3=\"Sat\",AE$3=\"Sun\"),\"\",IF(COUNTIF(Holidays!$A:$A,AE$4)>0,\"H\",IFERROR(VLOOKUP((ROW(AE8)-4)&\"_\"&AE$4,Schedule!$H:$I,2,FALSE),\"\"))))","v":""},{"$f":"IF($A8=\"\",\"\",IF(OR(AF$3=\"Sat\",AF$3=\"Sun\"),\"\",IF(COUNTIF(Holidays!$A:$A,AF$4)>0,\"H\",IFERROR(VLOOKUP((ROW(AF8)-4)&\"_\"&AF$4,Schedule!$H:$I,2,FALSE),\"\"))))","v":""},{"$f":"IF($A8=\"\",\"\",IF(OR(AG$3=\"Sat\",AG$3=\"Sun\"),\"\",IF(COUNTIF(Holidays!$A:$A,AG$4)>0,\"H\",IFERROR(VLOOKUP((ROW(AG8)-4)&\"_\"&AG$4,Schedule!$H:$I,2,FALSE),\"\"))))","v":""},{"$f":"IF($A8=\"\",\"\",IF(OR(AH$3=\"Sat\",AH$3=\"Sun\"),\"\",IF(COUNTIF(Holidays!$A:$A,AH$4)>0,\"H\",IFERROR(VLOOKUP((ROW(AH8)-4)&\"_\"&AH$4,Schedule!$H:$I,2,FALSE),\"\"))))","v":""},{"$f":"IF($A8=\"\",\"\",IF(OR(AI$3=\"Sat\",AI$3=\"Sun\"),\"\",IF(COUNTIF(Holidays!$A:$A,AI$4)>0,\"H\",IFERROR(VLOOKUP((ROW(AI8)-4)&\"_\"&AI$4,Schedule!$H:$I,2,FALSE),\"\"))))","v":""},{"$f":"IF($A8=\"\",\"\",IF(OR(AJ$3=\"Sat\",AJ$3=\"Sun\"),\"\",IF(COUNTIF(Holidays!$A:$A,AJ$4)>0,\"H\",IFERROR(VLOOKUP((ROW(AJ8)-4)&\"_\"&AJ$4,Schedule!$H:$I,2,FALSE),\"\"))))","v":""},{"$f":"IF($A8=\"\",\"\",ROUND(SUMIFS(Schedule!$E:$E,Schedule!$A:$A,$A8,Schedule!$D:$D,$AK$3,Schedule!$B:$B,\">=\"&DATE($Q$2,$U$2,1),Schedule!$B:$B,\"<=\"&EOMONTH(DATE($Q$2,$U$2,1),0))/8,2))","v":1},{"$f":"IF($A8=\"\",\"\",ROUND(SUMIFS(Schedule!$E:$E,Schedule!$A:$A,$A8,Schedule!$D:$D,$AK$3,Schedule!$B:$B,\">=\"&DATE($Q$2,1,1),Schedule!$B:$B,\"<=\"&EOMONTH(DATE($Q$2,$U$2,1),0))/8,2))","v":1},{"$f":"IF($A8=\"\",\"\",ROUND(SUMIFS(Schedule!$E:$E,Schedule!$A:$A,$A8,Schedule!$D:$D,$AM$3,Schedule!$B:$B,\">=\"&DATE($Q$2,$U$2,1),Schedule!$B:$B,\"<=\"&EOMONTH(DATE($Q$2,$U$2,1),0))/8,2))","v":0},{"$f":"IF($A8=\"\",\"\",ROUND(SUMIFS(Schedule!$E:$E,Schedule!$A:$A,$A8,Schedule!$D:$D,$AM$3,Schedule!$B:$B,\">=\"&DATE($Q$2,1,1),Schedule!$B:$B,\"<=\"&EOMONTH(DATE($Q$2,$U$2,1),0))/8,2))","v":0}]
[{"$f":"IF(Lookups!A6=\"\",\"\",Lookups!A6)","v":""},{"$f":"IF($A9=\"\",\"\",IF(OR(B$3=\"Sat\",B$3=\"Sun\"),\"\",IF(COUNTIF(Holidays!$A:$A,B$4)>0,\"H\",IFERROR(VLOOKUP((ROW(B9)-4)&\"_\"&B$4,Schedule!$H:$I,2,FALSE),\"\"))))","v":""},{"$f":"IF($A9=\"\",\"\",IF(OR(C$3=\"Sat\",C$3=\"Sun\"),\"\",IF(COUNTIF(Holidays!$A:$A,C$4)>0,\"H\",IFERROR(VLOOKUP((ROW(C9)-4)&\"_\"&C$4,Schedule!$H:$I,2,FALSE),\"\"))))","v":""},{"$f":"IF($A9=\"\",\"\",IF(OR(D$3=\"Sat\",D$3=\"Sun\"),\"\",IF(COUNTIF(Holidays!$A:$A,D$4)>0,\"H\",IFERROR(VLOOKUP((ROW(D9)-4)&\"_\"&D$4,Schedule!$H:$I,2,FALSE),\"\"))))","v":""},{"$f":"IF($A9=\"\",\"\",IF(OR(E$3=\"Sat\",E$3=\"Sun\"),\"\",IF(COUNTIF(Holidays!$A:$A,E$4)>0,\"H\",IFERROR(VLOOKUP((ROW(E9)-4)&\"_\"&E$4,Schedule!$H:$I,2,FALSE),\"\"))))","v":""},{"$f":"IF($A9=\"\",\"\",IF(OR(F$3=\"Sat\",F$3=\"Sun\"),\"\",IF(COUNTIF(Holidays!$A:$A,F$4)>0,\"H\",IFERROR(VLOOKUP((ROW(F9)-4)&\"_\"&F$4,Schedule!$H:$I,2,FALSE),\"\"))))","v":""},{"$f":"IF($A9=\"\",\"\",IF(OR(G$3=\"Sat\",G$3=\"Sun\"),\"\",IF(COUNTIF(Holidays!$A:$A,G$4)>0,\"H\",IFERROR(VLOOKUP((ROW(G9)-4)&\"_\"&G$4,Schedule!$H:$I,2,FALSE),\"\"))))","v":""},{"$f":"IF($A9=\"\",\"\",IF(OR(H$3=\"Sat\",H$3=\"Sun\"),\"\",IF(COUNTIF(Holidays!$A:$A,H$4)>0,\"H\",IFERROR(VLOOKUP((ROW(H9)-4)&\"_\"&H$4,Schedule!$H:$I,2,FALSE),\"\"))))","v":""},{"$f":"IF($A9=\"\",\"\",IF(OR(I$3=\"Sat\",I$3=\"Sun\"),\"\",IF(COUNTIF(Holidays!$A:$A,I$4)>0,\"H\",IFERROR(VLOOKUP((ROW(I9)-4)&\"_\"&I$4,Schedule!$H:$I,2,FALSE),\"\"))))","v":""},{"$f":"IF($A9=\"\",\"\",IF(OR(J$3=\"Sat\",J$3=\"Sun\"),\"\",IF(COUNTIF(Holidays!$A:$A,J$4)>0,\"H\",IFERROR(VLOOKUP((ROW(J9)-4)&\"_\"&J$4,Schedule!$H:$I,2,FALSE),\"\"))))","v":""},{"$f":"IF($A9=\"\",\"\",IF(OR(K$3=\"Sat\",K$3=\"Sun\"),\"\",IF(COUNTIF(Holidays!$A:$A,K$4)>0,\"H\",IFERROR(VLOOKUP((ROW(K9)-4)&\"_\"&K$4,Schedule!$H:$I,2,FALSE),\"\"))))","v":""},{"$f":"IF($A9=\"\",\"\",IF(OR(L$3=\"Sat\",L$3=\"Sun\"),\"\",IF(COUNTIF(Holidays!$A:$A,L$4)>0,\"H\",IFERROR(VLOOKUP((ROW(L9)-4)&\"_\"&L$4,Schedule!$H:$I,2,FALSE),\"\"))))","v":""},{"$f":"IF($A9=\"\",\"\",IF(OR(M$3=\"Sat\",M$3=\"Sun\"),\"\",IF(COUNTIF(Holidays!$A:$A,M$4)>0,\"H\",IFERROR(VLOOKUP((ROW(M9)-4)&\"_\"&M$4,Schedule!$H:$I,2,FALSE),\"\"))))","v":""},{"$f":"IF($A9=\"\",\"\",IF(OR(N$3=\"Sat\",N$3=\"Sun\"),\"\",IF(COUNTIF(Holidays!$A:$A,N$4)>0,\"H\",IFERROR(VLOOKUP((ROW(N9)-4)&\"_\"&N$4,Schedule!$H:$I,2,FALSE),\"\"))))","v":""},{"$f":"IF($A9=\"\",\"\",IF(OR(O$3=\"Sat\",O$3=\"Sun\"),\"\",IF(COUNTIF(Holidays!$A:$A,O$4)>0,\"H\",IFERROR(VLOOKUP((ROW(O9)-4)&\"_\"&O$4,Schedule!$H:$I,2,FALSE),\"\"))))","v":""},{"$f":"IF($A9=\"\",\"\",IF(OR(P$3=\"Sat\",P$3=\"Sun\"),\"\",IF(COUNTIF(Holidays!$A:$A,P$4)>0,\"H\",IFERROR(VLOOKUP((ROW(P9)-4)&\"_\"&P$4,Schedule!$H:$I,2,FALSE),\"\"))))","v":""},{"$f":"IF($A9=\"\",\"\",IF(OR(Q$3=\"Sat\",Q$3=\"Sun\"),\"\",IF(COUNTIF(Holidays!$A:$A,Q$4)>0,\"H\",IFERROR(VLOOKUP((ROW(Q9)-4)&\"_\"&Q$4,Schedule!$H:$I,2,FALSE),\"\"))))","v":""},{"$f":"IF($A9=\"\",\"\",IF(OR(R$3=\"Sat\",R$3=\"Sun\"),\"\",IF(COUNTIF(Holidays!$A:$A,R$4)>0,\"H\",IFERROR(VLOOKUP((ROW(R9)-4)&\"_\"&R$4,Schedule!$H:$I,2,FALSE),\"\"))))","v":""},{"$f":"IF($A9=\"\",\"\",IF(OR(S$3=\"Sat\",S$3=\"Sun\"),\"\",IF(COUNTIF(Holidays!$A:$A,S$4)>0,\"H\",IFERROR(VLOOKUP((ROW(S9)-4)&\"_\"&S$4,Schedule!$H:$I,2,FALSE),\"\"))))","v":""},{"$f":"IF($A9=\"\",\"\",IF(OR(T$3=\"Sat\",T$3=\"Sun\"),\"\",IF(COUNTIF(Holidays!$A:$A,T$4)>0,\"H\",IFERROR(VLOOKUP((ROW(T9)-4)&\"_\"&T$4,Schedule!$H:$I,2,FALSE),\"\"))))","v":""},{"$f":"IF($A9=\"\",\"\",IF(OR(U$3=\"Sat\",U$3=\"Sun\"),\"\",IF(COUNTIF(Holidays!$A:$A,U$4)>0,\"H\",IFERROR(VLOOKUP((ROW(U9)-4)&\"_\"&U$4,Schedule!$H:$I,2,FALSE),\"\"))))","v":""},{"$f":"IF($A9=\"\",\"\",IF(OR(V$3=\"Sat\",V$3=\"Sun\"),\"\",IF(COUNTIF(Holidays!$A:$A,V$4)>0,\"H\",IFERROR(VLOOKUP((ROW(V9)-4)&\"_\"&V$4,Schedule!$H:$I,2,FALSE),\"\"))))","v":""},{"$f":"IF($A9=\"\",\"\",IF(OR(W$3=\"Sat\",W$3=\"Sun\"),\"\",IF(COUNTIF(Holidays!$A:$A,W$4)>0,\"H\",IFERROR(VLOOKUP((ROW(W9)-4)&\"_\"&W$4,Schedule!$H:$I,2,FALSE),\"\"))))","v":""},{"$f":"IF($A9=\"\",\"\",IF(OR(X$3=\"Sat\",X$3=\"Sun\"),\"\",IF(COUNTIF(Holidays!$A:$A,X$4)>0,\"H\",IFERROR(VLOOKUP((ROW(X9)-4)&\"_\"&X$4,Schedule!$H:$I,2,FALSE),\"\"))))","v":""},{"$f":"IF($A9=\"\",\"\",IF(OR(Y$3=\"Sat\",Y$3=\"Sun\"),\"\",IF(COUNTIF(Holidays!$A:$A,Y$4)>0,\"H\",IFERROR(VLOOKUP((ROW(Y9)-4)&\"_\"&Y$4,Schedule!$H:$I,2,FALSE),\"\"))))","v":""},{"$f":"IF($A9=\"\",\"\",IF(OR(Z$3=\"Sat\",Z$3=\"Sun\"),\"\",IF(COUNTIF(Holidays!$A:$A,Z$4)>0,\"H\",IFERROR(VLOOKUP((ROW(Z9)-4)&\"_\"&Z$4,Schedule!$H:$I,2,FALSE),\"\"))))","v":""},{"$f":"IF($A9=\"\",\"\",IF(OR(AA$3=\"Sat\",AA$3=\"Sun\"),\"\",IF(COUNTIF(Holidays!$A:$A,AA$4)>0,\"H\",IFERROR(VLOOKUP((ROW(AA9)-4)&\"_\"&AA$4,Schedule!$H:$I,2,FALSE),\"\"))))","v":""},{"$f":"IF($A9=\"\",\"\",IF(OR(AB$3=\"Sat\",AB$3=\"Sun\"),\"\",IF(COUNTIF(Holidays!$A:$A,AB$4)>0,\"H\",IFERROR(VLOOKUP((ROW(AB9)-4)&\"_\"&AB$4,Schedule!$H:$I,2,FALSE),\"\"))))","v":""},{"$f":"IF($A9=\"\",\"\",IF(OR(AC$3=\"Sat\",AC$3=\"Sun\"),\"\",IF(COUNTIF(Holidays!$A:$A,AC$4)>0,\"H\",IFERROR(VLOOKUP((ROW(AC9)-4)&\"_\"&AC$4,Schedule!$H:$I,2,FALSE),\"\"))))","v":""},{"$f":"IF($A9=\"\",\"\",IF(OR(AD$3=\"Sat\",AD$3=\"Sun\"),\"\",IF(COUNTIF(Holidays!$A:$A,AD$4)>0,\"H\",IFERROR(VLOOKUP((ROW(AD9)-4)&\"_\"&AD$4,Schedule!$H:$I,2,FALSE),\"\"))))","v":""},{"$f":"IF($A9=\"\",\"\",IF(OR(AE$3=\"Sat\",AE$3=\"Sun\"),\"\",IF(COUNTIF(Holidays!$A:$A,AE$4)>0,\"H\",IFERROR(VLOOKUP((ROW(AE9)-4)&\"_\"&AE$4,Schedule!$H:$I,2,FALSE),\"\"))))","v":""},{"$f":"IF($A9=\"\",\"\",IF(OR(AF$3=\"Sat\",AF$3=\"Sun\"),\"\",IF(COUNTIF(Holidays!$A:$A,AF$4)>0,\"H\",IFERROR(VLOOKUP((ROW(AF9)-4)&\"_\"&AF$4,Schedule!$H:$I,2,FALSE),\"\"))))","v":""},{"$f":"IF($A9=\"\",\"\",IF(OR(AG$3=\"Sat\",AG$3=\"Sun\"),\"\",IF(COUNTIF(Holidays!$A:$A,AG$4)>0,\"H\",IFERROR(VLOOKUP((ROW(AG9)-4)&\"_\"&AG$4,Schedule!$H:$I,2,FALSE),\"\"))))","v":""},{"$f":"IF($A9=\"\",\"\",IF(OR(AH$3=\"Sat\",AH$3=\"Sun\"),\"\",IF(COUNTIF(Holidays!$A:$A,AH$4)>0,\"H\",IFERROR(VLOOKUP((ROW(AH9)-4)&\"_\"&AH$4,Schedule!$H:$I,2,FALSE),\"\"))))","v":""},{"$f":"IF($A9=\"\",\"\",IF(OR(AI$3=\"Sat\",AI$3=\"Sun\"),\"\",IF(COUNTIF(Holidays!$A:$A,AI$4)>0,\"H\",IFERROR(VLOOKUP((ROW(AI9)-4)&\"_\"&AI$4,Schedule!$H:$I,2,FALSE),\"\"))))","v":""},{"$f":"IF($A9=\"\",\"\",IF(OR(AJ$3=\"Sat\",AJ$3=\"Sun\"),\"\",IF(COUNTIF(Holidays!$A:$A,AJ$4)>0,\"H\",IFERROR(VLOOKUP((ROW(AJ9)-4)&\"_\"&AJ$4,Schedule!$H:$I,2,FALSE),\"\"))))","v":""},{"$f":"IF($A9=\"\",\"\",ROUND(SUMIFS(Schedule!$E:$E,Schedule!$A:$A,$A9,Schedule!$D:$D,$AK$3,Schedule!$B:$B,\">=\"&DATE($Q$2,$U$2,1),Schedule!$B:$B,\"<=\"&EOMONTH(DATE($Q$2,$U$2,1),0))/8,2))","v":""},{"$f":"IF($A9=\"\",\"\",ROUND(SUMIFS(Schedule!$E:$E,Schedule!$A:$A,$A9,Schedule!$D:$D,$AK$3,Schedule!$B:$B,\">=\"&DATE($Q$2,1,1),Schedule!$B:$B,\"<=\"&EOMONTH(DATE($Q$2,$U$2,1),0))/8,2))","v":""},{"$f":"IF($A9=\"\",\"\",ROUND(SUMIFS(Schedule!$E:$E,Schedule!$A:$A,$A9,Schedule!$D:$D,$AM$3,Schedule!$B:$B,\">=\"&DATE($Q$2,$U$2,1),Schedule!$B:$B,\"<=\"&EOMONTH(DATE($Q$2,$U$2,1),0))/8,2))","v":""},{"$f":"IF($A9=\"\",\"\",ROUND(SUMIFS(Schedule!$E:$E,Schedule!$A:$A,$A9,Schedule!$D:$D,$AM$3,Schedule!$B:$B,\">=\"&DATE($Q$2,1,1),Schedule!$B:$B,\"<=\"&EOMONTH(DATE($Q$2,$U$2,1),0))/8,2))","v":""}]
[{"$f":"IF(Lookups!A7=\"\",\"\",Lookups!A7)","v":""},{"$f":"IF($A10=\"\",\"\",IF(OR(B$3=\"Sat\",B$3=\"Sun\"),\"\",IF(COUNTIF(Holidays!$A:$A,B$4)>0,\"H\",IFERROR(VLOOKUP((ROW(B10)-4)&\"_\"&B$4,Schedule!$H:$I,2,FALSE),\"\"))))","v":""},{"$f":"IF($A10=\"\",\"\",IF(OR(C$3=\"Sat\",C$3=\"Sun\"),\"\",IF(COUNTIF(Holidays!$A:$A,C$4)>0,\"H\",IFERROR(VLOOKUP((ROW(C10)-4)&\"_\"&C$4,Schedule!$H:$I,2,FALSE),\"\"))))","v":""},{"$f":"IF($A10=\"\",\"\",IF(OR(D$3=\"Sat\",D$3=\"Sun\"),\"\",IF(COUNTIF(Holidays!$A:$A,D$4)>0,\"H\",IFERROR(VLOOKUP((ROW(D10)-4)&\"_\"&D$4,Schedule!$H:$I,2,FALSE),\"\"))))","v":""},{"$f":"IF($A10=\"\",\"\",IF(OR(E$3=\"Sat\",E$3=\"Sun\"),\"\",IF(COUNTIF(Holidays!$A:$A,E$4)>0,\"H\",IFERROR(VLOOKUP((ROW(E10)-4)&\"_\"&E$4,Schedule!$H:$I,2,FALSE),\"\"))))","v":""},{"$f":"IF($A10=\"\",\"\",IF(OR(F$3=\"Sat\",F$3=\"Sun\"),\"\",IF(COUNTIF(Holidays!$A:$A,F$4)>0,\"H\",IFERROR(VLOOKUP((ROW(F10)-4)&\"_\"&F$4,Schedule!$H:$I,2,FALSE),\"\"))))","v":""},{"$f":"IF($A10=\"\",\"\",IF(OR(G$3=\"Sat\",G$3=\"Sun\"),\"\",IF(COUNTIF(Holidays!$A:$A,G$4)>0,\"H\",IFERROR(VLOOKUP((ROW(G10)-4)&\"_\"&G$4,Schedule!$H:$I,2,FALSE),\"\"))))","v":""},{"$f":"IF($A10=\"\",\"\",IF(OR(H$3=\"Sat\",H$3=\"Sun\"),\"\",IF(COUNTIF(Holidays!$A:$A,H$4)>0,\"H\",IFERROR(VLOOKUP((ROW(H10)-4)&\"_\"&H$4,Schedule!$H:$I,2,FALSE),\"\"))))","v":""},{"$f":"IF($A10=\"\",\"\",IF(OR(I$3=\"Sat\",I$3=\"Sun\"),\"\",IF(COUNTIF(Holidays!$A:$A,I$4)>0,\"H\",IFERROR(VLOOKUP((ROW(I10)-4)&\"_\"&I$4,Schedule!$H:$I,2,FALSE),\"\"))))","v":""},{"$f":"IF($A10=\"\",\"\",IF(OR(J$3=\"Sat\",J$3=\"Sun\"),\"\",IF(COUNTIF(Holidays!$A:$A,J$4)>0,\"H\",IFERROR(VLOOKUP((ROW(J10)-4)&\"_\"&J$4,Schedule!$H:$I,2,FALSE),\"\"))))","v":""},{"$f":"IF($A10=\"\",\"\",IF(OR(K$3=\"Sat\",K$3=\"Sun\"),\"\",IF(COUNTIF(Holidays!$A:$A,K$4)>0,\"H\",IFERROR(VLOOKUP((ROW(K10)-4)&\"_\"&K$4,Schedule!$H:$I,2,FALSE),\"\"))))","v":""},{"$f":"IF($A10=\"\",\"\",IF(OR(L$3=\"Sat\",L$3=\"Sun\"),\"\",IF(COUNTIF(Holidays!$A:$A,L$4)>0,\"H\",IFERROR(VLOOKUP((ROW(L10)-4)&\"_\"&L$4,Schedule!$H:$I,2,FALSE),\"\"))))","v":""},{"$f":"IF($A10=\"\",\"\",IF(OR(M$3=\"Sat\",M$3=\"Sun\"),\"\",IF(COUNTIF(Holidays!$A:$A,M$4)>0,\"H\",IFERROR(VLOOKUP((ROW(M10)-4)&\"_\"&M$4,Schedule!$H:$I,2,FALSE),\"\"))))","v":""},{"$f":"IF($A10=\"\",\"\",IF(OR(N$3=\"Sat\",N$3=\"Sun\"),\"\",IF(COUNTIF(Holidays!$A:$A,N$4)>0,\"H\",IFERROR(VLOOKUP((ROW(N10)-4)&\"_\"&N$4,Schedule!$H:$I,2,FALSE),\"\"))))","v":""},{"$f":"IF($A10=\"\",\"\",IF(OR(O$3=\"Sat\",O$3=\"Sun\"),\"\",IF(COUNTIF(Holidays!$A:$A,O$4)>0,\"H\",IFERROR(VLOOKUP((ROW(O10)-4)&\"_\"&O$4,Schedule!$H:$I,2,FALSE),\"\"))))","v":""},{"$f":"IF($A10=\"\",\"\",IF(OR(P$3=\"Sat\",P$3=\"Sun\"),\"\",IF(COUNTIF(Holidays!$A:$A,P$4)>0,\"H\",IFERROR(VLOOKUP((ROW(P10)-4)&\"_\"&P$4,Schedule!$H:$I,2,FALSE),\"\"))))","v":""},{"$f":"IF($A10=\"\",\"\",IF(OR(Q$3=\"Sat\",Q$3=\"Sun\"),\"\",IF(COUNTIF(Holidays!$A:$A,Q$4)>0,\"H\",IFERROR(VLOOKUP((ROW(Q10)-4)&\"_\"&Q$4,Schedule!$H:$I,2,FALSE),\"\"))))","v":""},{"$f":"IF($A10=\"\",\"\",IF(OR(R$3=\"Sat\",R$3=\"Sun\"),\"\",IF(COUNTIF(Holidays!$A:$A,R$4)>0,\"H\",IFERROR(VLOOKUP((ROW(R10)-4)&\"_\"&R$4,Schedule!$H:$I,2,FALSE),\"\"))))","v":""},{"$f":"IF($A10=\"\",\"\",IF(OR(S$3=\"Sat\",S$3=\"Sun\"),\"\",IF(COUNTIF(Holidays!$A:$A,S$4)>0,\"H\",IFERROR(VLOOKUP((ROW(S10)-4)&\"_\"&S$4,Schedule!$H:$I,2,FALSE),\"\"))))","v":""},{"$f":"IF($A10=\"\",\"\",IF(OR(T$3=\"Sat\",T$3=\"Sun\"),\"\",IF(COUNTIF(Holidays!$A:$A,T$4)>0,\"H\",IFERROR(VLOOKUP((ROW(T10)-4)&\"_\"&T$4,Schedule!$H:$I,2,FALSE),\"\"))))","v":""},{"$f":"IF($A10=\"\",\"\",IF(OR(U$3=\"Sat\",U$3=\"Sun\"),\"\",IF(COUNTIF(Holidays!$A:$A,U$4)>0,\"H\",IFERROR(VLOOKUP((ROW(U10)-4)&\"_\"&U$4,Schedule!$H:$I,2,FALSE),\"\"))))","v":""},{"$f":"IF($A10=\"\",\"\",IF(OR(V$3=\"Sat\",V$3=\"Sun\"),\"\",IF(COUNTIF(Holidays!$A:$A,V$4)>0,\"H\",IFERROR(VLOOKUP((ROW(V10)-4)&\"_\"&V$4,Schedule!$H:$I,2,FALSE),\"\"))))","v":""},{"$f":"IF($A10=\"\",\"\",IF(OR(W$3=\"Sat\",W$3=\"Sun\"),\"\",IF(COUNTIF(Holidays!$A:$A,W$4)>0,\"H\",IFERROR(VLOOKUP((ROW(W10)-4)&\"_\"&W$4,Schedule!$H:$I,2,FALSE),\"\"))))","v":""},{"$f":"IF($A10=\"\",\"\",IF(OR(X$3=\"Sat\",X$3=\"Sun\"),\"\",IF(COUNTIF(Holidays!$A:$A,X$4)>0,\"H\",IFERROR(VLOOKUP((ROW(X10)-4)&\"_\"&X$4,Schedule!$H:$I,2,FALSE),\"\"))))","v":""},{"$f":"IF($A10=\"\",\"\",IF(OR(Y$3=\"Sat\",Y$3=\"Sun\"),\"\",IF(COUNTIF(Holidays!$A:$A,Y$4)>0,\"H\",IFERROR(VLOOKUP((ROW(Y10)-4)&\"_\"&Y$4,Schedule!$H:$I,2,FALSE),\"\"))))","v":""},{"$f":"IF($A10=\"\",\"\",IF(OR(Z$3=\"Sat\",Z$3=\"Sun\"),\"\",IF(COUNTIF(Holidays!$A:$A,Z$4)>0,\"H\",IFERROR(VLOOKUP((ROW(Z10)-4)&\"_\"&Z$4,Schedule!$H:$I,2,FALSE),\"\"))))","v":""},{"$f":"IF($A10=\"\",\"\",IF(OR(AA$3=\"Sat\",AA$3=\"Sun\"),\"\",IF(COUNTIF(Holidays!$A:$A,AA$4)>0,\"H\",IFERROR(VLOOKUP((ROW(AA10)-4)&\"_\"&AA$4,Schedule!$H:$I,2,FALSE),\"\"))))","v":""},{"$f":"IF($A10=\"\",\"\",IF(OR(AB$3=\"Sat\",AB$3=\"Sun\"),\"\",IF(COUNTIF(Holidays!$A:$A,AB$4)>0,\"H\",IFERROR(VLOOKUP((ROW(AB10)-4)&\"_\"&AB$4,Schedule!$H:$I,2,FALSE),\"\"))))","v":""},{"$f":"IF($A10=\"\",\"\",IF(OR(AC$3=\"Sat\",AC$3=\"Sun\"),\"\",IF(COUNTIF(Holidays!$A:$A,AC$4)>0,\"H\",IFERROR(VLOOKUP((ROW(AC10)-4)&\"_\"&AC$4,Schedule!$H:$I,2,FALSE),\"\"))))","v":""},{"$f":"IF($A10=\"\",\"\",IF(OR(AD$3=\"Sat\",AD$3=\"Sun\"),\"\",IF(COUNTIF(Holidays!$A:$A,AD$4)>0,\"H\",IFERROR(VLOOKUP((ROW(AD10)-4)&\"_\"&AD$4,Schedule!$H:$I,2,FALSE),\"\"))))","v":""},{"$f":"IF($A10=\"\",\"\",IF(OR(AE$3=\"Sat\",AE$3=\"Sun\"),\"\",IF(COUNTIF(Holidays!$A:$A,AE$4)>0,\"H\",IFERROR(VLOOKUP((ROW(AE10)-4)&\"_\"&AE$4,Schedule!$H:$I,2,FALSE),\"\"))))","v":""},{"$f":"IF($A10=\"\",\"\",IF(OR(AF$3=\"Sat\",AF$3=\"Sun\"),\"\",IF(COUNTIF(Holidays!$A:$A,AF$4)>0,\"H\",IFERROR(VLOOKUP((ROW(AF10)-4)&\"_\"&AF$4,Schedule!$H:$I,2,FALSE),\"\"))))","v":""},{"$f":"IF($A10=\"\",\"\",IF(OR(AG$3=\"Sat\",AG$3=\"Sun\"),\"\",IF(COUNTIF(Holidays!$A:$A,AG$4)>0,\"H\",IFERROR(VLOOKUP((ROW(AG10)-4)&\"_\"&AG$4,Schedule!$H:$I,2,FALSE),\"\"))))","v":""},{"$f":"IF($A10=\"\",\"\",IF(OR(AH$3=\"Sat\",AH$3=\"Sun\"),\"\",IF(COUNTIF(Holidays!$A:$A,AH$4)>0,\"H\",IFERROR(VLOOKUP((ROW(AH10)-4)&\"_\"&AH$4,Schedule!$H:$I,2,FALSE),\"\"))))","v":""},{"$f":"IF($A10=\"\",\"\",IF(OR(AI$3=\"Sat\",AI$3=\"Sun\"),\"\",IF(COUNTIF(Holidays!$A:$A,AI$4)>0,\"H\",IFERROR(VLOOKUP((ROW(AI10)-4)&\"_\"&AI$4,Schedule!$H:$I,2,FALSE),\"\"))))","v":""},{"$f":"IF($A10=\"\",\"\",IF(OR(AJ$3=\"Sat\",AJ$3=\"Sun\"),\"\",IF(COUNTIF(Holidays!$A:$A,AJ$4)>0,\"H\",IFERROR(VLOOKUP((ROW(AJ10)-4)&\"_\"&AJ$4,Schedule!$H:$I,2,FALSE),\"\"))))","v":""},{"$f":"IF($A10=\"\",\"\",ROUND(SUMIFS(Schedule!$E:$E,Schedule!$A:$A,$A10,Schedule!$D:$D,$AK$3,Schedule!$B:$B,\">=\"&DATE($Q$2,$U$2,1),Schedule!$B:$B,\"<=\"&EOMONTH(DATE($Q$2,$U$2,1),0))/8,2))","v":""},{"$f":"IF($A10=\"\",\"\",ROUND(SUMIFS(Schedule!$E:$E,Schedule!$A:$A,$A10,Schedule!$D:$D,$AK$3,Schedule!$B:$B,\">=\"&DATE($Q$2,1,1),Schedule!$B:$B,\"<=\"&EOMONTH(DATE($Q$2,$U$2,1),0))/8,2))","v":""},{"$f":"IF($A10=\"\",\"\",ROUND(SUMIFS(Schedule!$E:$E,Schedule!$A:$A,$A10,Schedule!$D:$D,$AM$3,Schedule!$B:$B,\">=\"&DATE($Q$2,$U$2,1),Schedule!$B:$B,\"<=\"&EOMONTH(DATE($Q$2,$U$2,1),0))/8,2))","v":""},{"$f":"IF($A10=\"\",\"\",ROUND(SUMIFS(Schedule!$E:$E,Schedule!$A:$A,$A10,Schedule!$D:$D,$AM$3,Schedule!$B:$B,\">=\"&DATE($Q$2,1,1),Schedule!$B:$B,\"<=\"&EOMONTH(DATE($Q$2,$U$2,1),0))/8,2))","v":""}]
[{"$f":"IF(Lookups!A8=\"\",\"\",Lookups!A8)","v":""},{"$f":"IF($A11=\"\",\"\",IF(OR(B$3=\"Sat\",B$3=\"Sun\"),\"\",IF(COUNTIF(Holidays!$A:$A,B$4)>0,\"H\",IFERROR(VLOOKUP((ROW(B11)-4)&\"_\"&B$4,Schedule!$H:$I,2,FALSE),\"\"))))","v":""},{"$f":"IF($A11=\"\",\"\",IF(OR(C$3=\"Sat\",C$3=\"Sun\"),\"\",IF(COUNTIF(Holidays!$A:$A,C$4)>0,\"H\",IFERROR(VLOOKUP((ROW(C11)-4)&\"_\"&C$4,Schedule!$H:$I,2,FALSE),\"\"))))","v":""},{"$f":"IF($A11=\"\",\"\",IF(OR(D$3=\"Sat\",D$3=\"Sun\"),\"\",IF(COUNTIF(Holidays!$A:$A,D$4)>0,\"H\",IFERROR(VLOOKUP((ROW(D11)-4)&\"_\"&D$4,Schedule!$H:$I,2,FALSE),\"\"))))","v":""},{"$f":"IF($A11=\"\",\"\",IF(OR(E$3=\"Sat\",E$3=\"Sun\"),\"\",IF(COUNTIF(Holidays!$A:$A,E$4)>0,\"H\",IFERROR(VLOOKUP((ROW(E11)-4)&\"_\"&E$4,Schedule!$H:$I,2,FALSE),\"\"))))","v":""},{"$f":"IF($A11=\"\",\"\",IF(OR(F$3=\"Sat\",F$3=\"Sun\"),\"\",IF(COUNTIF(Holidays!$A:$A,F$4)>0,\"H\",IFERROR(VLOOKUP((ROW(F11)-4)&\"_\"&F$4,Schedule!$H:$I,2,FALSE),\"\"))))","v":""},{"$f":"IF($A11=\"\",\"\",IF(OR(G$3=\"Sat\",G$3=\"Sun\"),\"\",IF(COUNTIF(Holidays!$A:$A,G$4)>0,\"H\",IFERROR(VLOOKUP((ROW(G11)-4)&\"_\"&G$4,Schedule!$H:$I,2,FALSE),\"\"))))","v":""},{"$f":"IF($A11=\"\",\"\",IF(OR(H$3=\"Sat\",H$3=\"Sun\"),\"\",IF(COUNTIF(Holidays!$A:$A,H$4)>0,\"H\",IFERROR(VLOOKUP((ROW(H11)-4)&\"_\"&H$4,Schedule!$H:$I,2,FALSE),\"\"))))","v":""},{"$f":"IF($A11=\"\",\"\",IF(OR(I$3=\"Sat\",I$3=\"Sun\"),\"\",IF(COUNTIF(Holidays!$A:$A,I$4)>0,\"H\",IFERROR(VLOOKUP((ROW(I11)-4)&\"_\"&I$4,Schedule!$H:$I,2,FALSE),\"\"))))","v":""},{"$f":"IF($A11=\"\",\"\",IF(OR(J$3=\"Sat\",J$3=\"Sun\"),\"\",IF(COUNTIF(Holidays!$A:$A,J$4)>0,\"H\",IFERROR(VLOOKUP((ROW(J11)-4)&\"_\"&J$4,Schedule!$H:$I,2,FALSE),\"\"))))","v":""},{"$f":"IF($A11=\"\",\"\",IF(OR(K$3=\"Sat\",K$3=\"Sun\"),\"\",IF(COUNTIF(Holidays!$A:$A,K$4)>0,\"H\",IFERROR(VLOOKUP((ROW(K11)-4)&\"_\"&K$4,Schedule!$H:$I,2,FALSE),\"\"))))","v":""},{"$f":"IF($A11=\"\",\"\",IF(OR(L$3=\"Sat\",L$3=\"Sun\"),\"\",IF(COUNTIF(Holidays!$A:$A,L$4)>0,\"H\",IFERROR(VLOOKUP((ROW(L11)-4)&\"_\"&L$4,Schedule!$H:$I,2,FALSE),\"\"))))","v":""},{"$f":"IF($A11=\"\",\"\",IF(OR(M$3=\"Sat\",M$3=\"Sun\"),\"\",IF(COUNTIF(Holidays!$A:$A,M$4)>0,\"H\",IFERROR(VLOOKUP((ROW(M11)-4)&\"_\"&M$4,Schedule!$H:$I,2,FALSE),\"\"))))","v":""},{"$f":"IF($A11=\"\",\"\",IF(OR(N$3=\"Sat\",N$3=\"Sun\"),\"\",IF(COUNTIF(Holidays!$A:$A,N$4)>0,\"H\",IFERROR(VLOOKUP((ROW(N11)-4)&\"_\"&N$4,Schedule!$H:$I,2,FALSE),\"\"))))","v":""},{"$f":"IF($A11=\"\",\"\",IF(OR(O$3=\"Sat\",O$3=\"Sun\"),\"\",IF(COUNTIF(Holidays!$A:$A,O$4)>0,\"H\",IFERROR(VLOOKUP((ROW(O11)-4)&\"_\"&O$4,Schedule!$H:$I,2,FALSE),\"\"))))","v":""},{"$f":"IF($A11=\"\",\"\",IF(OR(P$3=\"Sat\",P$3=\"Sun\"),\"\",IF(COUNTIF(Holidays!$A:$A,P$4)>0,\"H\",IFERROR(VLOOKUP((ROW(P11)-4)&\"_\"&P$4,Schedule!$H:$I,2,FALSE),\"\"))))","v":""},{"$f":"IF($A11=\"\",\"\",IF(OR(Q$3=\"Sat\",Q$3=\"Sun\"),\"\",IF(COUNTIF(Holidays!$A:$A,Q$4)>0,\"H\",IFERROR(VLOOKUP((ROW(Q11)-4)&\"_\"&Q$4,Schedule!$H:$I,2,FALSE),\"\"))))","v":""},{"$f":"IF($A11=\"\",\"\",IF(OR(R$3=\"Sat\",R$3=\"Sun\"),\"\",IF(COUNTIF(Holidays!$A:$A,R$4)>0,\"H\",IFERROR(VLOOKUP((ROW(R11)-4)&\"_\"&R$4,Schedule!$H:$I,2,FALSE),\"\"))))","v":""},{"$f":"IF($A11=\"\",\"\",IF(OR(S$3=\"Sat\",S$3=\"Sun\"),\"\",IF(COUNTIF(Holidays!$A:$A,S$4)>0,\"H\",IFERROR(VLOOKUP((ROW(S11)-4)&\"_\"&S$4,Schedule!$H:$I,2,FALSE),\"\"))))","v":""},{"$f":"IF($A11=\"\",\"\",IF(OR(T$3=\"Sat\",T$3=\"Sun\"),\"\",IF(COUNTIF(Holidays!$A:$A,T$4)>0,\"H\",IFERROR(VLOOKUP((ROW(T11)-4)&\"_\"&T$4,Schedule!$H:$I,2,FALSE),\"\"))))","v":""},{"$f":"IF($A11=\"\",\"\",IF(OR(U$3=\"Sat\",U$3=\"Sun\"),\"\",IF(COUNTIF(Holidays!$A:$A,U$4)>0,\"H\",IFERROR(VLOOKUP((ROW(U11)-4)&\"_\"&U$4,Schedule!$H:$I,2,FALSE),\"\"))))","v":""},{"$f":"IF($A11=\"\",\"\",IF(OR(V$3=\"Sat\",V$3=\"Sun\"),\"\",IF(COUNTIF(Holidays!$A:$A,V$4)>0,\"H\",IFERROR(VLOOKUP((ROW(V11)-4)&\"_\"&V$4,Schedule!$H:$I,2,FALSE),\"\"))))","v":""},{"$f":"IF($A11=\"\",\"\",IF(OR(W$3=\"Sat\",W$3=\"Sun\"),\"\",IF(COUNTIF(Holidays!$A:$A,W$4)>0,\"H\",IFERROR(VLOOKUP((ROW(W11)-4)&\"_\"&W$4,Schedule!$H:$I,2,FALSE),\"\"))))","v":""},{"$f":"IF($A11=\"\",\"\",IF(OR(X$3=\"Sat\",X$3=\"Sun\"),\"\",IF(COUNTIF(Holidays!$A:$A,X$4)>0,\"H\",IFERROR(VLOOKUP((ROW(X11)-4)&\"_\"&X$4,Schedule!$H:$I,2,FALSE),\"\"))))","v":""},{"$f":"IF($A11=\"\",\"\",IF(OR(Y$3=\"Sat\",Y$3=\"Sun\"),\"\",IF(COUNTIF(Holidays!$A:$A,Y$4)>0,\"H\",IFERROR(VLOOKUP((ROW(Y11)-4)&\"_\"&Y$4,Schedule!$H:$I,2,FALSE),\"\"))))","v":""},{"$f":"IF($A11=\"\",\"\",IF(OR(Z$3=\"Sat\",Z$3=\"Sun\"),\"\",IF(COUNTIF(Holidays!$A:$A,Z$4)>0,\"H\",IFERROR(VLOOKUP((ROW(Z11)-4)&\"_\"&Z$4,Schedule!$H:$I,2,FALSE),\"\"))))","v":""},{"$f":"IF($A11=\"\",\"\",IF(OR(AA$3=\"Sat\",AA$3=\"Sun\"),\"\",IF(COUNTIF(Holidays!$A:$A,AA$4)>0,\"H\",IFERROR(VLOOKUP((ROW(AA11)-4)&\"_\"&AA$4,Schedule!$H:$I,2,FALSE),\"\"))))","v":""},{"$f":"IF($A11=\"\",\"\",IF(OR(AB$3=\"Sat\",AB$3=\"Sun\"),\"\",IF(COUNTIF(Holidays!$A:$A,AB$4)>0,\"H\",IFERROR(VLOOKUP((ROW(AB11)-4)&\"_\"&AB$4,Schedule!$H:$I,2,FALSE),\"\"))))","v":""},{"$f":"IF($A11=\"\",\"\",IF(OR(AC$3=\"Sat\",AC$3=\"Sun\"),\"\",IF(COUNTIF(Holidays!$A:$A,AC$4)>0,\"H\",IFERROR(VLOOKUP((ROW(AC11)-4)&\"_\"&AC$4,Schedule!$H:$I,2,FALSE),\"\"))))","v":""},{"$f":"IF($A11=\"\",\"\",IF(OR(AD$3=\"Sat\",AD$3=\"Sun\"),\"\",IF(COUNTIF(Holidays!$A:$A,AD$4)>0,\"H\",IFERROR(VLOOKUP((ROW(AD11)-4)&\"_\"&AD$4,Schedule!$H:$I,2,FALSE),\"\"))))","v":""},{"$f":"IF($A11=\"\",\"\",IF(OR(AE$3=\"Sat\",AE$3=\"Sun\"),\"\",IF(COUNTIF(Holidays!$A:$A,AE$4)>0,\"H\",IFERROR(VLOOKUP((ROW(AE11)-4)&\"_\"&AE$4,Schedule!$H:$I,2,FALSE),\"\"))))","v":""},{"$f":"IF($A11=\"\",\"\",IF(OR(AF$3=\"Sat\",AF$3=\"Sun\"),\"\",IF(COUNTIF(Holidays!$A:$A,AF$4)>0,\"H\",IFERROR(VLOOKUP((ROW(AF11)-4)&\"_\"&AF$4,Schedule!$H:$I,2,FALSE),\"\"))))","v":""},{"$f":"IF($A11=\"\",\"\",IF(OR(AG$3=\"Sat\",AG$3=\"Sun\"),\"\",IF(COUNTIF(Holidays!$A:$A,AG$4)>0,\"H\",IFERROR(VLOOKUP((ROW(AG11)-4)&\"_\"&AG$4,Schedule!$H:$I,2,FALSE),\"\"))))","v":""},{"$f":"IF($A11=\"\",\"\",IF(OR(AH$3=\"Sat\",AH$3=\"Sun\"),\"\",IF(COUNTIF(Holidays!$A:$A,AH$4)>0,\"H\",IFERROR(VLOOKUP((ROW(AH11)-4)&\"_\"&AH$4,Schedule!$H:$I,2,FALSE),\"\"))))","v":""},{"$f":"IF($A11=\"\",\"\",IF(OR(AI$3=\"Sat\",AI$3=\"Sun\"),\"\",IF(COUNTIF(Holidays!$A:$A,AI$4)>0,\"H\",IFERROR(VLOOKUP((ROW(AI11)-4)&\"_\"&AI$4,Schedule!$H:$I,2,FALSE),\"\"))))","v":""},{"$f":"IF($A11=\"\",\"\",IF(OR(AJ$3=\"Sat\",AJ$3=\"Sun\"),\"\",IF(COUNTIF(Holidays!$A:$A,AJ$4)>0,\"H\",IFERROR(VLOOKUP((ROW(AJ11)-4)&\"_\"&AJ$4,Schedule!$H:$I,2,FALSE),\"\"))))","v":""},{"$f":"IF($A11=\"\",\"\",ROUND(SUMIFS(Schedule!$E:$E,Schedule!$A:$A,$A11,Schedule!$D:$D,$AK$3,Schedule!$B:$B,\">=\"&DATE($Q$2,$U$2,1),Schedule!$B:$B,\"<=\"&EOMONTH(DATE($Q$2,$U$2,1),0))/8,2))","v":""},{"$f":"IF($A11=\"\",\"\",ROUND(SUMIFS(Schedule!$E:$E,Schedule!$A:$A,$A11,Schedule!$D:$D,$AK$3,Schedule!$B:$B,\">=\"&DATE($Q$2,1,1),Schedule!$B:$B,\"<=\"&EOMONTH(DATE($Q$2,$U$2,1),0))/8,2))","v":""},{"$f":"IF($A11=\"\",\"\",ROUND(SUMIFS(Schedule!$E:$E,Schedule!$A:$A,$A11,Schedule!$D:$D,$AM$3,Schedule!$B:$B,\">=\"&DATE($Q$2,$U$2,1),Schedule!$B:$B,\"<=\"&EOMONTH(DATE($Q$2,$U$2,1),0))/8,2))","v":""},{"$f":"IF($A11=\"\",\"\",ROUND(SUMIFS(Schedule!$E:$E,Schedule!$A:$A,$A11,Schedule!$D:$D,$AM$3,Schedule!$B:$B,\">=\"&DATE($Q$2,1,1),Schedule!$B:$B,\"<=\"&EOMONTH(DATE($Q$2,$U$2,1),0))/8,2))","v":""}]
[{"$f":"IF(Lookups!A9=\"\",\"\",Lookups!A9)","v":""},{"$f":"IF($A12=\"\",\"\",IF(OR(B$3=\"Sat\",B$3=\"Sun\"),\"\",IF(COUNTIF(Holidays!$A:$A,B$4)>0,\"H\",IFERROR(VLOOKUP((ROW(B12)-4)&\"_\"&B$4,Schedule!$H:$I,2,FALSE),\"\"))))","v":""},{"$f":"IF($A12=\"\",\"\",IF(OR(C$3=\"Sat\",C$3=\"Sun\"),\"\",IF(COUNTIF(Holidays!$A:$A,C$4)>0,\"H\",IFERROR(VLOOKUP((ROW(C12)-4)&\"_\"&C$4,Schedule!$H:$I,2,FALSE),\"\"))))","v":""},{"$f":"IF($A12=\"\",\"\",IF(OR(D$3=\"Sat\",D$3=\"Sun\"),\"\",IF(COUNTIF(Holidays!$A:$A,D$4)>0,\"H\",IFERROR(VLOOKUP((ROW(D12)-4)&\"_\"&D$4,Schedule!$H:$I,2,FALSE),\"\"))))","v":""},{"$f":"IF($A12=\"\",\"\",IF(OR(E$3=\"Sat\",E$3=\"Sun\"),\"\",IF(COUNTIF(Holidays!$A:$A,E$4)>0,\"H\",IFERROR(VLOOKUP((ROW(E12)-4)&\"_\"&E$4,Schedule!$H:$I,2,FALSE),\"\"))))","v":""},{"$f":"IF($A12=\"\",\"\",IF(OR(F$3=\"Sat\",F$3=\"Sun\"),\"\",IF(COUNTIF(Holidays!$A:$A,F$4)>0,\"H\",IFERROR(VLOOKUP((ROW(F12)-4)&\"_\"&F$4,Schedule!$H:$I,2,FALSE),\"\"))))","v":""},{"$f":"IF($A12=\"\",\"\",IF(OR(G$3=\"Sat\",G$3=\"Sun\"),\"\",IF(COUNTIF(Holidays!$A:$A,G$4)>0,\"H\",IFERROR(VLOOKUP((ROW(G12)-4)&\"_\"&G$4,Schedule!$H:$I,2,FALSE),\"\"))))","v":""},{"$f":"IF($A12=\"\",\"\",IF(OR(H$3=\"Sat\",H$3=\"Sun\"),\"\",IF(COUNTIF(Holidays!$A:$A,H$4)>0,\"H\",IFERROR(VLOOKUP((ROW(H12)-4)&\"_\"&H$4,Schedule!$H:$I,2,FALSE),\"\"))))","v":""},{"$f":"IF($A12=\"\",\"\",IF(OR(I$3=\"Sat\",I$3=\"Sun\"),\"\",IF(COUNTIF(Holidays!$A:$A,I$4)>0,\"H\",IFERROR(VLOOKUP((ROW(I12)-4)&\"_\"&I$4,Schedule!$H:$I,2,FALSE),\"\"))))","v":""},{"$f":"IF($A12=\"\",\"\",IF(OR(J$3=\"Sat\",J$3=\"Sun\"),\"\",IF(COUNTIF(Holidays!$A:$A,J$4)>0,\"H\",IFERROR(VLOOKUP((ROW(J12)-4)&\"_\"&J$4,Schedule!$H:$I,2,FALSE),\"\"))))","v":""},{"$f":"IF($A12=\"\",\"\",IF(OR(K$3=\"Sat\",K$3=\"Sun\"),\"\",IF(COUNTIF(Holidays!$A:$A,K$4)>0,\"H\",IFERROR(VLOOKUP((ROW(K12)-4)&\"_\"&K$4,Schedule!$H:$I,2,FALSE),\"\"))))","v":""},{"$f":"IF($A12=\"\",\"\",IF(OR(L$3=\"Sat\",L$3=\"Sun\"),\"\",IF(COUNTIF(Holidays!$A:$A,L$4)>0,\"H\",IFERROR(VLOOKUP((ROW(L12)-4)&\"_\"&L$4,Schedule!$H:$I,2,FALSE),\"\"))))","v":""},{"$f":"IF($A12=\"\",\"\",IF(OR(M$3=\"Sat\",M$3=\"Sun\"),\"\",IF(COUNTIF(Holidays!$A:$A,M$4)>0,\"H\",IFERROR(VLOOKUP((ROW(M12)-4)&\"_\"&M$4,Schedule!$H:$I,2,FALSE),\"\"))))","v":""},{"$f":"IF($A12=\"\",\"\",IF(OR(N$3=\"Sat\",N$3=\"Sun\"),\"\",IF(COUNTIF(Holidays!$A:$A,N$4)>0,\"H\",IFERROR(VLOOKUP((ROW(N12)-4)&\"_\"&N$4,Schedule!$H:$I,2,FALSE),\"\"))))","v":""},{"$f":"IF($A12=\"\",\"\",IF(OR(O$3=\"Sat\",O$3=\"Sun\"),\"\",IF(COUNTIF(Holidays!$A:$A,O$4)>0,\"H\",IFERROR(VLOOKUP((ROW(O12)-4)&\"_\"&O$4,Schedule!$H:$I,2,FALSE),\"\"))))","v":""},{"$f":"IF($A12=\"\",\"\",IF(OR(P$3=\"Sat\",P$3=\"Sun\"),\"\",IF(COUNTIF(Holidays!$A:$A,P$4)>0,\"H\",IFERROR(VLOOKUP((ROW(P12)-4)&\"_\"&P$4,Schedule!$H:$I,2,FALSE),\"\"))))","v":""},{"$f":"IF($A12=\"\",\"\",IF(OR(Q$3=\"Sat\",Q$3=\"Sun\"),\"\",IF(COUNTIF(Holidays!$A:$A,Q$4)>0,\"H\",IFERROR(VLOOKUP((ROW(Q12)-4)&\"_\"&Q$4,Schedule!$H:$I,2,FALSE),\"\"))))","v":""},{"$f":"IF($A12=\"\",\"\",IF(OR(R$3=\"Sat\",R$3=\"Sun\"),\"\",IF(COUNTIF(Holidays!$A:$A,R$4)>0,\"H\",IFERROR(VLOOKUP((ROW(R12)-4)&\"_\"&R$4,Schedule!$H:$I,2,FALSE),\"\"))))","v":""},{"$f":"IF($A12=\"\",\"\",IF(OR(S$3=\"Sat\",S$3=\"Sun\"),\"\",IF(COUNTIF(Holidays!$A:$A,S$4)>0,\"H\",IFERROR(VLOOKUP((ROW(S12)-4)&\"_\"&S$4,Schedule!$H:$I,2,FALSE),\"\"))))","v":""},{"$f":"IF($A12=\"\",\"\",IF(OR(T$3=\"Sat\",T$3=\"Sun\"),\"\",IF(COUNTIF(Holidays!$A:$A,T$4)>0,\"H\",IFERROR(VLOOKUP((ROW(T12)-4)&\"_\"&T$4,Schedule!$H:$I,2,FALSE),\"\"))))","v":""},{"$f":"IF($A12=\"\",\"\",IF(OR(U$3=\"Sat\",U$3=\"Sun\"),\"\",IF(COUNTIF(Holidays!$A:$A,U$4)>0,\"H\",IFERROR(VLOOKUP((ROW(U12)-4)&\"_\"&U$4,Schedule!$H:$I,2,FALSE),\"\"))))","v":""},{"$f":"IF($A12=\"\",\"\",IF(OR(V$3=\"Sat\",V$3=\"Sun\"),\"\",IF(COUNTIF(Holidays!$A:$A,V$4)>0,\"H\",IFERROR(VLOOKUP((ROW(V12)-4)&\"_\"&V$4,Schedule!$H:$I,2,FALSE),\"\"))))","v":""},{"$f":"IF($A12=\"\",\"\",IF(OR(W$3=\"Sat\",W$3=\"Sun\"),\"\",IF(COUNTIF(Holidays!$A:$A,W$4)>0,\"H\",IFERROR(VLOOKUP((ROW(W12)-4)&\"_\"&W$4,Schedule!$H:$I,2,FALSE),\"\"))))","v":""},{"$f":"IF($A12=\"\",\"\",IF(OR(X$3=\"Sat\",X$3=\"Sun\"),\"\",IF(COUNTIF(Holidays!$A:$A,X$4)>0,\"H\",IFERROR(VLOOKUP((ROW(X12)-4)&\"_\"&X$4,Schedule!$H:$I,2,FALSE),\"\"))))","v":""},{"$f":"IF($A12=\"\",\"\",IF(OR(Y$3=\"Sat\",Y$3=\"Sun\"),\"\",IF(COUNTIF(Holidays!$A:$A,Y$4)>0,\"H\",IFERROR(VLOOKUP((ROW(Y12)-4)&\"_\"&Y$4,Schedule!$H:$I,2,FALSE),\"\"))))","v":""},{"$f":"IF($A12=\"\",\"\",IF(OR(Z$3=\"Sat\",Z$3=\"Sun\"),\"\",IF(COUNTIF(Holidays!$A:$A,Z$4)>0,\"H\",IFERROR(VLOOKUP((ROW(Z12)-4)&\"_\"&Z$4,Schedule!$H:$I,2,FALSE),\"\"))))","v":""},{"$f":"IF($A12=\"\",\"\",IF(OR(AA$3=\"Sat\",AA$3=\"Sun\"),\"\",IF(COUNTIF(Holidays!$A:$A,AA$4)>0,\"H\",IFERROR(VLOOKUP((ROW(AA12)-4)&\"_\"&AA$4,Schedule!$H:$I,2,FALSE),\"\"))))","v":""},{"$f":"IF($A12=\"\",\"\",IF(OR(AB$3=\"Sat\",AB$3=\"Sun\"),\"\",IF(COUNTIF(Holidays!$A:$A,AB$4)>0,\"H\",IFERROR(VLOOKUP((ROW(AB12)-4)&\"_\"&AB$4,Schedule!$H:$I,2,FALSE),\"\"))))","v":""},{"$f":"IF($A12=\"\",\"\",IF(OR(AC$3=\"Sat\",AC$3=\"Sun\"),\"\",IF(COUNTIF(Holidays!$A:$A,AC$4)>0,\"H\",IFERROR(VLOOKUP((ROW(AC12)-4)&\"_\"&AC$4,Schedule!$H:$I,2,FALSE),\"\"))))","v":""},{"$f":"IF($A12=\"\",\"\",IF(OR(AD$3=\"Sat\",AD$3=\"Sun\"),\"\",IF(COUNTIF(Holidays!$A:$A,AD$4)>0,\"H\",IFERROR(VLOOKUP((ROW(AD12)-4)&\"_\"&AD$4,Schedule!$H:$I,2,FALSE),\"\"))))","v":""},{"$f":"IF($A12=\"\",\"\",IF(OR(AE$3=\"Sat\",AE$3=\"Sun\"),\"\",IF(COUNTIF(Holidays!$A:$A,AE$4)>0,\"H\",IFERROR(VLOOKUP((ROW(AE12)-4)&\"_\"&AE$4,Schedule!$H:$I,2,FALSE),\"\"))))","v":""},{"$f":"IF($A12=\"\",\"\",IF(OR(AF$3=\"Sat\",AF$3=\"Sun\"),\"\",IF(COUNTIF(Holidays!$A:$A,AF$4)>0,\"H\",IFERROR(VLOOKUP((ROW(AF12)-4)&\"_\"&AF$4,Schedule!$H:$I,2,FALSE),\"\"))))","v":""},{"$f":"IF($A12=\"\",\"\",IF(OR(AG$3=\"Sat\",AG$3=\"Sun\"),\"\",IF(COUNTIF(Holidays!$A:$A,AG$4)>0,\"H\",IFERROR(VLOOKUP((ROW(AG12)-4)&\"_\"&AG$4,Schedule!$H:$I,2,FALSE),\"\"))))","v":""},{"$f":"IF($A12=\"\",\"\",IF(OR(AH$3=\"Sat\",AH$3=\"Sun\"),\"\",IF(COUNTIF(Holidays!$A:$A,AH$4)>0,\"H\",IFERROR(VLOOKUP((ROW(AH12)-4)&\"_\"&AH$4,Schedule!$H:$I,2,FALSE),\"\"))))","v":""},{"$f":"IF($A12=\"\",\"\",IF(OR(AI$3=\"Sat\",AI$3=\"Sun\"),\"\",IF(COUNTIF(Holidays!$A:$A,AI$4)>0,\"H\",IFERROR(VLOOKUP((ROW(AI12)-4)&\"_\"&AI$4,Schedule!$H:$I,2,FALSE),\"\"))))","v":""},{"$f":"IF($A12=\"\",\"\",IF(OR(AJ$3=\"Sat\",AJ$3=\"Sun\"),\"\",IF(COUNTIF(Holidays!$A:$A,AJ$4)>0,\"H\",IFERROR(VLOOKUP((ROW(AJ12)-4)&\"_\"&AJ$4,Schedule!$H:$I,2,FALSE),\"\"))))","v":""},{"$f":"IF($A12=\"\",\"\",ROUND(SUMIFS(Schedule!$E:$E,Schedule!$A:$A,$A12,Schedule!$D:$D,$AK$3,Schedule!$B:$B,\">=\"&DATE($Q$2,$U$2,1),Schedule!$B:$B,\"<=\"&EOMONTH(DATE($Q$2,$U$2,1),0))/8,2))","v":""},{"$f":"IF($A12=\"\",\"\",ROUND(SUMIFS(Schedule!$E:$E,Schedule!$A:$A,$A12,Schedule!$D:$D,$AK$3,Schedule!$B:$B,\">=\"&DATE($Q$2,1,1),Schedule!$B:$B,\"<=\"&EOMONTH(DATE($Q$2,$U$2,1),0))/8,2))","v":""},{"$f":"IF($A12=\"\",\"\",ROUND(SUMIFS(Schedule!$E:$E,Schedule!$A:$A,$A12,Schedule!$D:$D,$AM$3,Schedule!$B:$B,\">=\"&DATE($Q$2,$U$2,1),Schedule!$B:$B,\"<=\"&EOMONTH(DATE($Q$2,$U$2,1),0))/8,2))","v":""},{"$f":"IF($A12=\"\",\"\",ROUND(SUMIFS(Schedule!$E:$E,Schedule!$A:$A,$A12,Schedule!$D:$D,$AM$3,Schedule!$B:$B,\">=\"&DATE($Q$2,1,1),Schedule!$B:$B,\"<=\"&EOMONTH(DATE($Q$2,$U$2,1),0))/8,2))","v":""}]
[{"$f":"IF(Lookups!A10=\"\",\"\",Lookups!A10)","v":""},{"$f":"IF($A13=\"\",\"\",IF(OR(B$3=\"Sat\",B$3=\"Sun\"),\"\",IF(COUNTIF(Holidays!$A:$A,B$4)>0,\"H\",IFERROR(VLOOKUP((ROW(B13)-4)&\"_\"&B$4,Schedule!$H:$I,2,FALSE),\"\"))))","v":""},{"$f":"IF($A13=\"\",\"\",IF(OR(C$3=\"Sat\",C$3=\"Sun\"),\"\",IF(COUNTIF(Holidays!$A:$A,C$4)>0,\"H\",IFERROR(VLOOKUP((ROW(C13)-4)&\"_\"&C$4,Schedule!$H:$I,2,FALSE),\"\"))))","v":""},{"$f":"IF($A13=\"\",\"\",IF(OR(D$3=\"Sat\",D$3=\"Sun\"),\"\",IF(COUNTIF(Holidays!$A:$A,D$4)>0,\"H\",IFERROR(VLOOKUP((ROW(D13)-4)&\"_\"&D$4,Schedule!$H:$I,2,FALSE),\"\"))))","v":""},{"$f":"IF($A13=\"\",\"\",IF(OR(E$3=\"Sat\",E$3=\"Sun\"),\"\",IF(COUNTIF(Holidays!$A:$A,E$4)>0,\"H\",IFERROR(VLOOKUP((ROW(E13)-4)&\"_\"&E$4,Schedule!$H:$I,2,FALSE),\"\"))))","v":""},{"$f":"IF($A13=\"\",\"\",IF(OR(F$3=\"Sat\",F$3=\"Sun\"),\"\",IF(COUNTIF(Holidays!$A:$A,F$4)>0,\"H\",IFERROR(VLOOKUP((ROW(F13)-4)&\"_\"&F$4,Schedule!$H:$I,2,FALSE),\"\"))))","v":""},{"$f":"IF($A13=\"\",\"\",IF(OR(G$3=\"Sat\",G$3=\"Sun\"),\"\",IF(COUNTIF(Holidays!$A:$A,G$4)>0,\"H\",IFERROR(VLOOKUP((ROW(G13)-4)&\"_\"&G$4,Schedule!$H:$I,2,FALSE),\"\"))))","v":""},{"$f":"IF($A13=\"\",\"\",IF(OR(H$3=\"Sat\",H$3=\"Sun\"),\"\",IF(COUNTIF(Holidays!$A:$A,H$4)>0,\"H\",IFERROR(VLOOKUP((ROW(H13)-4)&\"_\"&H$4,Schedule!$H:$I,2,FALSE),\"\"))))","v":""},{"$f":"IF($A13=\"\",\"\",IF(OR(I$3=\"Sat\",I$3=\"Sun\"),\"\",IF(COUNTIF(Holidays!$A:$A,I$4)>0,\"H\",IFERROR(VLOOKUP((ROW(I13)-4)&\"_\"&I$4,Schedule!$H:$I,2,FALSE),\"\"))))","v":""},{"$f":"IF($A13=\"\",\"\",IF(OR(J$3=\"Sat\",J$3=\"Sun\"),\"\",IF(COUNTIF(Holidays!$A:$A,J$4)>0,\"H\",IFERROR(VLOOKUP((ROW(J13)-4)&\"_\"&J$4,Schedule!$H:$I,2,FALSE),\"\"))))","v":""},{"$f":"IF($A13=\"\",\"\",IF(OR(K$3=\"Sat\",K$3=\"Sun\"),\"\",IF(COUNTIF(Holidays!$A:$A,K$4)>0,\"H\",IFERROR(VLOOKUP((ROW(K13)-4)&\"_\"&K$4,Schedule!$H:$I,2,FALSE),\"\"))))","v":""},{"$f":"IF($A13=\"\",\"\",IF(OR(L$3=\"Sat\",L$3=\"Sun\"),\"\",IF(COUNTIF(Holidays!$A:$A,L$4)>0,\"H\",IFERROR(VLOOKUP((ROW(L13)-4)&\"_\"&L$4,Schedule!$H:$I,2,FALSE),\"\"))))","v":""},{"$f":"IF($A13=\"\",\"\",IF(OR(M$3=\"Sat\",M$3=\"Sun\"),\"\",IF(COUNTIF(Holidays!$A:$A,M$4)>0,\"H\",IFERROR(VLOOKUP((ROW(M13)-4)&\"_\"&M$4,Schedule!$H:$I,2,FALSE),\"\"))))","v":""},{"$f":"IF($A13=\"\",\"\",IF(OR(N$3=\"Sat\",N$3=\"Sun\"),\"\",IF(COUNTIF(Holidays!$A:$A,N$4)>0,\"H\",IFERROR(VLOOKUP((ROW(N13)-4)&\"_\"&N$4,Schedule!$H:$I,2,FALSE),\"\"))))","v":""},{"$f":"IF($A13=\"\",\"\",IF(OR(O$3=\"Sat\",O$3=\"Sun\"),\"\",IF(COUNTIF(Holidays!$A:$A,O$4)>0,\"H\",IFERROR(VLOOKUP((ROW(O13)-4)&\"_\"&O$4,Schedule!$H:$I,2,FALSE),\"\"))))","v":""},{"$f":"IF($A13=\"\",\"\",IF(OR(P$3=\"Sat\",P$3=\"Sun\"),\"\",IF(COUNTIF(Holidays!$A:$A,P$4)>0,\"H\",IFERROR(VLOOKUP((ROW(P13)-4)&\"_\"&P$4,Schedule!$H:$I,2,FALSE),\"\"))))","v":""},{"$f":"IF($A13=\"\",\"\",IF(OR(Q$3=\"Sat\",Q$3=\"Sun\"),\"\",IF(COUNTIF(Holidays!$A:$A,Q$4)>0,\"H\",IFERROR(VLOOKUP((ROW(Q13)-4)&\"_\"&Q$4,Schedule!$H:$I,2,FALSE),\"\"))))","v":""},{"$f":"IF($A13=\"\",\"\",IF(OR(R$3=\"Sat\",R$3=\"Sun\"),\"\",IF(COUNTIF(Holidays!$A:$A,R$4)>0,\"H\",IFERROR(VLOOKUP((ROW(R13)-4)&\"_\"&R$4,Schedule!$H:$I,2,FALSE),\"\"))))","v":""},{"$f":"IF($A13=\"\",\"\",IF(OR(S$3=\"Sat\",S$3=\"Sun\"),\"\",IF(COUNTIF(Holidays!$A:$A,S$4)>0,\"H\",IFERROR(VLOOKUP((ROW(S13)-4)&\"_\"&S$4,Schedule!$H:$I,2,FALSE),\"\"))))","v":""},{"$f":"IF($A13=\"\",\"\",IF(OR(T$3=\"Sat\",T$3=\"Sun\"),\"\",IF(COUNTIF(Holidays!$A:$A,T$4)>0,\"H\",IFERROR(VLOOKUP((ROW(T13)-4)&\"_\"&T$4,Schedule!$H:$I,2,FALSE),\"\"))))","v":""},{"$f":"IF($A13=\"\",\"\",IF(OR(U$3=\"Sat\",U$3=\"Sun\"),\"\",IF(COUNTIF(Holidays!$A:$A,U$4)>0,\"H\",IFERROR(VLOOKUP((ROW(U13)-4)&\"_\"&U$4,Schedule!$H:$I,2,FALSE),\"\"))))","v":""},{"$f":"IF($A13=\"\",\"\",IF(OR(V$3=\"Sat\",V$3=\"Sun\"),\"\",IF(COUNTIF(Holidays!$A:$A,V$4)>0,\"H\",IFERROR(VLOOKUP((ROW(V13)-4)&\"_\"&V$4,Schedule!$H:$I,2,FALSE),\"\"))))","v":""},{"$f":"IF($A13=\"\",\"\",IF(OR(W$3=\"Sat\",W$3=\"Sun\"),\"\",IF(COUNTIF(Holidays!$A:$A,W$4)>0,\"H\",IFERROR(VLOOKUP((ROW(W13)-4)&\"_\"&W$4,Schedule!$H:$I,2,FALSE),\"\"))))","v":""},{"$f":"IF($A13=\"\",\"\",IF(OR(X$3=\"Sat\",X$3=\"Sun\"),\"\",IF(COUNTIF(Holidays!$A:$A,X$4)>0,\"H\",IFERROR(VLOOKUP((ROW(X13)-4)&\"_\"&X$4,Schedule!$H:$I,2,FALSE),\"\"))))","v":""},{"$f":"IF($A13=\"\",\"\",IF(OR(Y$3=\"Sat\",Y$3=\"Sun\"),\"\",IF(COUNTIF(Holidays!$A:$A,Y$4)>0,\"H\",IFERROR(VLOOKUP((ROW(Y13)-4)&\"_\"&Y$4,Schedule!$H:$I,2,FALSE),\"\"))))","v":""},{"$f":"IF($A13=\"\",\"\",IF(OR(Z$3=\"Sat\",Z$3=\"Sun\"),\"\",IF(COUNTIF(Holidays!$A:$A,Z$4)>0,\"H\",IFERROR(VLOOKUP((ROW(Z13)-4)&\"_\"&Z$4,Schedule!$H:$I,2,FALSE),\"\"))))","v":""},{"$f":"IF($A13=\"\",\"\",IF(OR(AA$3=\"Sat\",AA$3=\"Sun\"),\"\",IF(COUNTIF(Holidays!$A:$A,AA$4)>0,\"H\",IFERROR(VLOOKUP((ROW(AA13)-4)&\"_\"&AA$4,Schedule!$H:$I,2,FALSE),\"\"))))","v":""},{"$f":"IF($A13=\"\",\"\",IF(OR(AB$3=\"Sat\",AB$3=\"Sun\"),\"\",IF(COUNTIF(Holidays!$A:$A,AB$4)>0,\"H\",IFERROR(VLOOKUP((ROW(AB13)-4)&\"_\"&AB$4,Schedule!$H:$I,2,FALSE),\"\"))))","v":""},{"$f":"IF($A13=\"\",\"\",IF(OR(AC$3=\"Sat\",AC$3=\"Sun\"),\"\",IF(COUNTIF(Holidays!$A:$A,AC$4)>0,\"H\",IFERROR(VLOOKUP((ROW(AC13)-4)&\"_\"&AC$4,Schedule!$H:$I,2,FALSE),\"\"))))","v":""},{"$f":"IF($A13=\"\",\"\",IF(OR(AD$3=\"Sat\",AD$3=\"Sun\"),\"\",IF(COUNTIF(Holidays!$A:$A,AD$4)>0,\"H\",IFERROR(VLOOKUP((ROW(AD13)-4)&\"_\"&AD$4,Schedule!$H:$I,2,FALSE),\"\"))))","v":""},{"$f":"IF($A13=\"\",\"\",IF(OR(AE$3=\"Sat\",AE$3=\"Sun\"),\"\",IF(COUNTIF(Holidays!$A:$A,AE$4)>0,\"H\",IFERROR(VLOOKUP((ROW(AE13)-4)&\"_\"&AE$4,Schedule!$H:$I,2,FALSE),\"\"))))","v":""},{"$f":"IF($A13=\"\",\"\",IF(OR(AF$3=\"Sat\",AF$3=\"Sun\"),\"\",IF(COUNTIF(Holidays!$A:$A,AF$4)>0,\"H\",IFERROR(VLOOKUP((ROW(AF13)-4)&\"_\"&AF$4,Schedule!$H:$I,2,FALSE),\"\"))))","v":""},{"$f":"IF($A13=\"\",\"\",IF(OR(AG$3=\"Sat\",AG$3=\"Sun\"),\"\",IF(COUNTIF(Holidays!$A:$A,AG$4)>0,\"H\",IFERROR(VLOOKUP((ROW(AG13)-4)&\"_\"&AG$4,Schedule!$H:$I,2,FALSE),\"\"))))","v":""},{"$f":"IF($A13=\"\",\"\",IF(OR(AH$3=\"Sat\",AH$3=\"Sun\"),\"\",IF(COUNTIF(Holidays!$A:$A,AH$4)>0,\"H\",IFERROR(VLOOKUP((ROW(AH13)-4)&\"_\"&AH$4,Schedule!$H:$I,2,FALSE),\"\"))))","v":""},{"$f":"IF($A13=\"\",\"\",IF(OR(AI$3=\"Sat\",AI$3=\"Sun\"),\"\",IF(COUNTIF(Holidays!$A:$A,AI$4)>0,\"H\",IFERROR(VLOOKUP((ROW(AI13)-4)&\"_\"&AI$4,Schedule!$H:$I,2,FALSE),\"\"))))","v":""},{"$f":"IF($A13=\"\",\"\",IF(OR(AJ$3=\"Sat\",AJ$3=\"Sun\"),\"\",IF(COUNTIF(Holidays!$A:$A,AJ$4)>0,\"H\",IFERROR(VLOOKUP((ROW(AJ13)-4)&\"_\"&AJ$4,Schedule!$H:$I,2,FALSE),\"\"))))","v":""},{"$f":"IF($A13=\"\",\"\",ROUND(SUMIFS(Schedule!$E:$E,Schedule!$A:$A,$A13,Schedule!$D:$D,$AK$3,Schedule!$B:$B,\">=\"&DATE($Q$2,$U$2,1),Schedule!$B:$B,\"<=\"&EOMONTH(DATE($Q$2,$U$2,1),0))/8,2))","v":""},{"$f":"IF($A13=\"\",\"\",ROUND(SUMIFS(Schedule!$E:$E,Schedule!$A:$A,$A13,Schedule!$D:$D,$AK$3,Schedule!$B:$B,\">=\"&DATE($Q$2,1,1),Schedule!$B:$B,\"<=\"&EOMONTH(DATE($Q$2,$U$2,1),0))/8,2))","v":""},{"$f":"IF($A13=\"\",\"\",ROUND(SUMIFS(Schedule!$E:$E,Schedule!$A:$A,$A13,Schedule!$D:$D,$AM$3,Schedule!$B:$B,\">=\"&DATE($Q$2,$U$2,1),Schedule!$B:$B,\"<=\"&EOMONTH(DATE($Q$2,$U$2,1),0))/8,2))","v":""},{"$f":"IF($A13=\"\",\"\",ROUND(SUMIFS(Schedule!$E:$E,Schedule!$A:$A,$A13,Schedule!$D:$D,$AM$3,Schedule!$B:$B,\">=\"&DATE($Q$2,1,1),Schedule!$B:$B,\"<=\"&EOMONTH(DATE($Q$2,$U$2,1),0))/8,2))","v":""}]
[{"$f":"IF(Lookups!A11=\"\",\"\",Lookups!A11)","v":""},{"$f":"IF($A14=\"\",\"\",IF(OR(B$3=\"Sat\",B$3=\"Sun\"),\"\",IF(COUNTIF(Holidays!$A:$A,B$4)>0,\"H\",IFERROR(VLOOKUP((ROW(B14)-4)&\"_\"&B$4,Schedule!$H:$I,2,FALSE),\"\"))))","v":""},{"$f":"IF($A14=\"\",\"\",IF(OR(C$3=\"Sat\",C$3=\"Sun\"),\"\",IF(COUNTIF(Holidays!$A:$A,C$4)>0,\"H\",IFERROR(VLOOKUP((ROW(C14)-4)&\"_\"&C$4,Schedule!$H:$I,2,FALSE),\"\"))))","v":""},{"$f":"IF($A14=\"\",\"\",IF(OR(D$3=\"Sat\",D$3=\"Sun\"),\"\",IF(COUNTIF(Holidays!$A:$A,D$4)>0,\"H\",IFERROR(VLOOKUP((ROW(D14)-4)&\"_\"&D$4,Schedule!$H:$I,2,FALSE),\"\"))))","v":""},{"$f":"IF($A14=\"\",\"\",IF(OR(E$3=\"Sat\",E$3=\"Sun\"),\"\",IF(COUNTIF(Holidays!$A:$A,E$4)>0,\"H\",IFERROR(VLOOKUP((ROW(E14)-4)&\"_\"&E$4,Schedule!$H:$I,2,FALSE),\"\"))))","v":""},{"$f":"IF($A14=\"\",\"\",IF(OR(F$3=\"Sat\",F$3=\"Sun\"),\"\",IF(COUNTIF(Holidays!$A:$A,F$4)>0,\"H\",IFERROR(VLOOKUP((ROW(F14)-4)&\"_\"&F$4,Schedule!$H:$I,2,FALSE),\"\"))))","v":""},{"$f":"IF($A14=\"\",\"\",IF(OR(G$3=\"Sat\",G$3=\"Sun\"),\"\",IF(COUNTIF(Holidays!$A:$A,G$4)>0,\"H\",IFERROR(VLOOKUP((ROW(G14)-4)&\"_\"&G$4,Schedule!$H:$I,2,FALSE),\"\"))))","v":""},{"$f":"IF($A14=\"\",\"\",IF(OR(H$3=\"Sat\",H$3=\"Sun\"),\"\",IF(COUNTIF(Holidays!$A:$A,H$4)>0,\"H\",IFERROR(VLOOKUP((ROW(H14)-4)&\"_\"&H$4,Schedule!$H:$I,2,FALSE),\"\"))))","v":""},{"$f":"IF($A14=\"\",\"\",IF(OR(I$3=\"Sat\",I$3=\"Sun\"),\"\",IF(COUNTIF(Holidays!$A:$A,I$4)>0,\"H\",IFERROR(VLOOKUP((ROW(I14)-4)&\"_\"&I$4,Schedule!$H:$I,2,FALSE),\"\"))))","v":""},{"$f":"IF($A14=\"\",\"\",IF(OR(J$3=\"Sat\",J$3=\"Sun\"),\"\",IF(COUNTIF(Holidays!$A:$A,J$4)>0,\"H\",IFERROR(VLOOKUP((ROW(J14)-4)&\"_\"&J$4,Schedule!$H:$I,2,FALSE),\"\"))))","v":""},{"$f":"IF($A14=\"\",\"\",IF(OR(K$3=\"Sat\",K$3=\"Sun\"),\"\",IF(COUNTIF(Holidays!$A:$A,K$4)>0,\"H\",IFERROR(VLOOKUP((ROW(K14)-4)&\"_\"&K$4,Schedule!$H:$I,2,FALSE),\"\"))))","v":""},{"$f":"IF($A14=\"\",\"\",IF(OR(L$3=\"Sat\",L$3=\"Sun\"),\"\",IF(COUNTIF(Holidays!$A:$A,L$4)>0,\"H\",IFERROR(VLOOKUP((ROW(L14)-4)&\"_\"&L$4,Schedule!$H:$I,2,FALSE),\"\"))))","v":""},{"$f":"IF($A14=\"\",\"\",IF(OR(M$3=\"Sat\",M$3=\"Sun\"),\"\",IF(COUNTIF(Holidays!$A:$A,M$4)>0,\"H\",IFERROR(VLOOKUP((ROW(M14)-4)&\"_\"&M$4,Schedule!$H:$I,2,FALSE),\"\"))))","v":""},{"$f":"IF($A14=\"\",\"\",IF(OR(N$3=\"Sat\",N$3=\"Sun\"),\"\",IF(COUNTIF(Holidays!$A:$A,N$4)>0,\"H\",IFERROR(VLOOKUP((ROW(N14)-4)&\"_\"&N$4,Schedule!$H:$I,2,FALSE),\"\"))))","v":""},{"$f":"IF($A14=\"\",\"\",IF(OR(O$3=\"Sat\",O$3=\"Sun\"),\"\",IF(COUNTIF(Holidays!$A:$A,O$4)>0,\"H\",IFERROR(VLOOKUP((ROW(O14)-4)&\"_\"&O$4,Schedule!$H:$I,2,FALSE),\"\"))))","v":""},{"$f":"IF($A14=\"\",\"\",IF(OR(P$3=\"Sat\",P$3=\"Sun\"),\"\",IF(COUNTIF(Holidays!$A:$A,P$4)>0,\"H\",IFERROR(VLOOKUP((ROW(P14)-4)&\"_\"&P$4,Schedule!$H:$I,2,FALSE),\"\"))))","v":""},{"$f":"IF($A14=\"\",\"\",IF(OR(Q$3=\"Sat\",Q$3=\"Sun\"),\"\",IF(COUNTIF(Holidays!$A:$A,Q$4)>0,\"H\",IFERROR(VLOOKUP((ROW(Q14)-4)&\"_\"&Q$4,Schedule!$H:$I,2,FALSE),\"\"))))","v":""},{"$f":"IF($A14=\"\",\"\",IF(OR(R$3=\"Sat\",R$3=\"Sun\"),\"\",IF(COUNTIF(Holidays!$A:$A,R$4)>0,\"H\",IFERROR(VLOOKUP((ROW(R14)-4)&\"_\"&R$4,Schedule!$H:$I,2,FALSE),\"\"))))","v":""},{"$f":"IF($A14=\"\",\"\",IF(OR(S$3=\"Sat\",S$3=\"Sun\"),\"\",IF(COUNTIF(Holidays!$A:$A,S$4)>0,\"H\",IFERROR(VLOOKUP((ROW(S14)-4)&\"_\"&S$4,Schedule!$H:$I,2,FALSE),\"\"))))","v":""},{"$f":"IF($A14=\"\",\"\",IF(OR(T$3=\"Sat\",T$3=\"Sun\"),\"\",IF(COUNTIF(Holidays!$A:$A,T$4)>0,\"H\",IFERROR(VLOOKUP((ROW(T14)-4)&\"_\"&T$4,Schedule!$H:$I,2,FALSE),\"\"))))","v":""},{"$f":"IF($A14=\"\",\"\",IF(OR(U$3=\"Sat\",U$3=\"Sun\"),\"\",IF(COUNTIF(Holidays!$A:$A,U$4)>0,\"H\",IFERROR(VLOOKUP((ROW(U14)-4)&\"_\"&U$4,Schedule!$H:$I,2,FALSE),\"\"))))","v":""},{"$f":"IF($A14=\"\",\"\",IF(OR(V$3=\"Sat\",V$3=\"Sun\"),\"\",IF(COUNTIF(Holidays!$A:$A,V$4)>0,\"H\",IFERROR(VLOOKUP((ROW(V14)-4)&\"_\"&V$4,Schedule!$H:$I,2,FALSE),\"\"))))","v":""},{"$f":"IF($A14=\"\",\"\",IF(OR(W$3=\"Sat\",W$3=\"Sun\"),\"\",IF(COUNTIF(Holidays!$A:$A,W$4)>0,\"H\",IFERROR(VLOOKUP((ROW(W14)-4)&\"_\"&W$4,Schedule!$H:$I,2,FALSE),\"\"))))","v":""},{"$f":"IF($A14=\"\",\"\",IF(OR(X$3=\"Sat\",X$3=\"Sun\"),\"\",IF(COUNTIF(Holidays!$A:$A,X$4)>0,\"H\",IFERROR(VLOOKUP((ROW(X14)-4)&\"_\"&X$4,Schedule!$H:$I,2,FALSE),\"\"))))","v":""},{"$f":"IF($A14=\"\",\"\",IF(OR(Y$3=\"Sat\",Y$3=\"Sun\"),\"\",IF(COUNTIF(Holidays!$A:$A,Y$4)>0,\"H\",IFERROR(VLOOKUP((ROW(Y14)-4)&\"_\"&Y$4,Schedule!$H:$I,2,FALSE),\"\"))))","v":""},{"$f":"IF($A14=\"\",\"\",IF(OR(Z$3=\"Sat\",Z$3=\"Sun\"),\"\",IF(COUNTIF(Holidays!$A:$A,Z$4)>0,\"H\",IFERROR(VLOOKUP((ROW(Z14)-4)&\"_\"&Z$4,Schedule!$H:$I,2,FALSE),\"\"))))","v":""},{"$f":"IF($A14=\"\",\"\",IF(OR(AA$3=\"Sat\",AA$3=\"Sun\"),\"\",IF(COUNTIF(Holidays!$A:$A,AA$4)>0,\"H\",IFERROR(VLOOKUP((ROW(AA14)-4)&\"_\"&AA$4,Schedule!$H:$I,2,FALSE),\"\"))))","v":""},{"$f":"IF($A14=\"\",\"\",IF(OR(AB$3=\"Sat\",AB$3=\"Sun\"),\"\",IF(COUNTIF(Holidays!$A:$A,AB$4)>0,\"H\",IFERROR(VLOOKUP((ROW(AB14)-4)&\"_\"&AB$4,Schedule!$H:$I,2,FALSE),\"\"))))","v":""},{"$f":"IF($A14=\"\",\"\",IF(OR(AC$3=\"Sat\",AC$3=\"Sun\"),\"\",IF(COUNTIF(Holidays!$A:$A,AC$4)>0,\"H\",IFERROR(VLOOKUP((ROW(AC14)-4)&\"_\"&AC$4,Schedule!$H:$I,2,FALSE),\"\"))))","v":""},{"$f":"IF($A14=\"\",\"\",IF(OR(AD$3=\"Sat\",AD$3=\"Sun\"),\"\",IF(COUNTIF(Holidays!$A:$A,AD$4)>0,\"H\",IFERROR(VLOOKUP((ROW(AD14)-4)&\"_\"&AD$4,Schedule!$H:$I,2,FALSE),\"\"))))","v":""},{"$f":"IF($A14=\"\",\"\",IF(OR(AE$3=\"Sat\",AE$3=\"Sun\"),\"\",IF(COUNTIF(Holidays!$A:$A,AE$4)>0,\"H\",IFERROR(VLOOKUP((ROW(AE14)-4)&\"_\"&AE$4,Schedule!$H:$I,2,FALSE),\"\"))))","v":""},{"$f":"IF($A14=\"\",\"\",IF(OR(AF$3=\"Sat\",AF$3=\"Sun\"),\"\",IF(COUNTIF(Holidays!$A:$A,AF$4)>0,\"H\",IFERROR(VLOOKUP((ROW(AF14)-4)&\"_\"&AF$4,Schedule!$H:$I,2,FALSE),\"\"))))","v":""},{"$f":"IF($A14=\"\",\"\",IF(OR(AG$3=\"Sat\",AG$3=\"Sun\"),\"\",IF(COUNTIF(Holidays!$A:$A,AG$4)>0,\"H\",IFERROR(VLOOKUP((ROW(AG14)-4)&\"_\"&AG$4,Schedule!$H:$I,2,FALSE),\"\"))))","v":""},{"$f":"IF($A14=\"\",\"\",IF(OR(AH$3=\"Sat\",AH$3=\"Sun\"),\"\",IF(COUNTIF(Holidays!$A:$A,AH$4)>0,\"H\",IFERROR(VLOOKUP((ROW(AH14)-4)&\"_\"&AH$4,Schedule!$H:$I,2,FALSE),\"\"))))","v":""},{"$f":"IF($A14=\"\",\"\",IF(OR(AI$3=\"Sat\",AI$3=\"Sun\"),\"\",IF(COUNTIF(Holidays!$A:$A,AI$4)>0,\"H\",IFERROR(VLOOKUP((ROW(AI14)-4)&\"_\"&AI$4,Schedule!$H:$I,2,FALSE),\"\"))))","v":""},{"$f":"IF($A14=\"\",\"\",IF(OR(AJ$3=\"Sat\",AJ$3=\"Sun\"),\"\",IF(COUNTIF(Holidays!$A:$A,AJ$4)>0,\"H\",IFERROR(VLOOKUP((ROW(AJ14)-4)&\"_\"&AJ$4,Schedule!$H:$I,2,FALSE),\"\"))))","v":""},{"$f":"IF($A14=\"\",\"\",ROUND(SUMIFS(Schedule!$E:$E,Schedule!$A:$A,$A14,Schedule!$D:$D,$AK$3,Schedule!$B:$B,\">=\"&DATE($Q$2,$U$2,1),Schedule!$B:$B,\"<=\"&EOMONTH(DATE($Q$2,$U$2,1),0))/8,2))","v":""},{"$f":"IF($A14=\"\",\"\",ROUND(SUMIFS(Schedule!$E:$E,Schedule!$A:$A,$A14,Schedule!$D:$D,$AK$3,Schedule!$B:$B,\">=\"&DATE($Q$2,1,1),Schedule!$B:$B,\"<=\"&EOMONTH(DATE($Q$2,$U$2,1),0))/8,2))","v":""},{"$f":"IF($A14=\"\",\"\",ROUND(SUMIFS(Schedule!$E:$E,Schedule!$A:$A,$A14,Schedule!$D:$D,$AM$3,Schedule!$B:$B,\">=\"&DATE($Q$2,$U$2,1),Schedule!$B:$B,\"<=\"&EOMONTH(DATE($Q$2,$U$2,1),0))/8,2))","v":""},{"$f":"IF($A14=\"\",\"\",ROUND(SUMIFS(Schedule!$E:$E,Schedule!$A:$A,$A14,Schedule!$D:$D,$AM$3,Schedule!$B:$B,\">=\"&DATE($Q$2,1,1),Schedule!$B:$B,\"<=\"&EOMONTH(DATE($Q$2,$U$2,1),0))/8,2))","v":""}]
[{"$f":"IF(Lookups!A12=\"\",\"\",Lookups!A12)","v":""},{"$f":"IF($A15=\"\",\"\",IF(OR(B$3=\"Sat\",B$3=\"Sun\"),\"\",IF(COUNTIF(Holidays!$A:$A,B$4)>0,\"H\",IFERROR(VLOOKUP((ROW(B15)-4)&\"_\"&B$4,Schedule!$H:$I,2,FALSE),\"\"))))","v":""},{"$f":"IF($A15=\"\",\"\",IF(OR(C$3=\"Sat\",C$3=\"Sun\"),\"\",IF(COUNTIF(Holidays!$A:$A,C$4)>0,\"H\",IFERROR(VLOOKUP((ROW(C15)-4)&\"_\"&C$4,Schedule!$H:$I,2,FALSE),\"\"))))","v":""},{"$f":"IF($A15=\"\",\"\",IF(OR(D$3=\"Sat\",D$3=\"Sun\"),\"\",IF(COUNTIF(Holidays!$A:$A,D$4)>0,\"H\",IFERROR(VLOOKUP((ROW(D15)-4)&\"_\"&D$4,Schedule!$H:$I,2,FALSE),\"\"))))","v":""},{"$f":"IF($A15=\"\",\"\",IF(OR(E$3=\"Sat\",E$3=\"Sun\"),\"\",IF(COUNTIF(Holidays!$A:$A,E$4)>0,\"H\",IFERROR(VLOOKUP((ROW(E15)-4)&\"_\"&E$4,Schedule!$H:$I,2,FALSE),\"\"))))","v":""},{"$f":"IF($A15=\"\",\"\",IF(OR(F$3=\"Sat\",F$3=\"Sun\"),\"\",IF(COUNTIF(Holidays!$A:$A,F$4)>0,\"H\",IFERROR(VLOOKUP((ROW(F15)-4)&\"_\"&F$4,Schedule!$H:$I,2,FALSE),\"\"))))","v":""},{"$f":"IF($A15=\"\",\"\",IF(OR(G$3=\"Sat\",G$3=\"Sun\"),\"\",IF(COUNTIF(Holidays!$A:$A,G$4)>0,\"H\",IFERROR(VLOOKUP((ROW(G15)-4)&\"_\"&G$4,Schedule!$H:$I,2,FALSE),\"\"))))","v":""},{"$f":"IF($A15=\"\",\"\",IF(OR(H$3=\"Sat\",H$3=\"Sun\"),\"\",IF(COUNTIF(Holidays!$A:$A,H$4)>0,\"H\",IFERROR(VLOOKUP((ROW(H15)-4)&\"_\"&H$4,Schedule!$H:$I,2,FALSE),\"\"))))","v":""},{"$f":"IF($A15=\"\",\"\",IF(OR(I$3=\"Sat\",I$3=\"Sun\"),\"\",IF(COUNTIF(Holidays!$A:$A,I$4)>0,\"H\",IFERROR(VLOOKUP((ROW(I15)-4)&\"_\"&I$4,Schedule!$H:$I,2,FALSE),\"\"))))","v":""},{"$f":"IF($A15=\"\",\"\",IF(OR(J$3=\"Sat\",J$3=\"Sun\"),\"\",IF(COUNTIF(Holidays!$A:$A,J$4)>0,\"H\",IFERROR(VLOOKUP((ROW(J15)-4)&\"_\"&J$4,Schedule!$H:$I,2,FALSE),\"\"))))","v":""},{"$f":"IF($A15=\"\",\"\",IF(OR(K$3=\"Sat\",K$3=\"Sun\"),\"\",IF(COUNTIF(Holidays!$A:$A,K$4)>0,\"H\",IFERROR(VLOOKUP((ROW(K15)-4)&\"_\"&K$4,Schedule!$H:$I,2,FALSE),\"\"))))","v":""},{"$f":"IF($A15=\"\",\"\",IF(OR(L$3=\"Sat\",L$3=\"Sun\"),\"\",IF(COUNTIF(Holidays!$A:$A,L$4)>0,\"H\",IFERROR(VLOOKUP((ROW(L15)-4)&\"_\"&L$4,Schedule!$H:$I,2,FALSE),\"\"))))","v":""},{"$f":"IF($A15=\"\",\"\",IF(OR(M$3=\"Sat\",M$3=\"Sun\"),\"\",IF(COUNTIF(Holidays!$A:$A,M$4)>0,\"H\",IFERROR(VLOOKUP((ROW(M15)-4)&\"_\"&M$4,Schedule!$H:$I,2,FALSE),\"\"))))","v":""},{"$f":"IF($A15=\"\",\"\",IF(OR(N$3=\"Sat\",N$3=\"Sun\"),\"\",IF(COUNTIF(Holidays!$A:$A,N$4)>0,\"H\",IFERROR(VLOOKUP((ROW(N15)-4)&\"_\"&N$4,Schedule!$H:$I,2,FALSE),\"\"))))","v":""},{"$f":"IF($A15=\"\",\"\",IF(OR(O$3=\"Sat\",O$3=\"Sun\"),\"\",IF(COUNTIF(Holidays!$A:$A,O$4)>0,\"H\",IFERROR(VLOOKUP((ROW(O15)-4)&\"_\"&O$4,Schedule!$H:$I,2,FALSE),\"\"))))","v":""},{"$f":"IF($A15=\"\",\"\",IF(OR(P$3=\"Sat\",P$3=\"Sun\"),\"\",IF(COUNTIF(Holidays!$A:$A,P$4)>0,\"H\",IFERROR(VLOOKUP((ROW(P15)-4)&\"_\"&P$4,Schedule!$H:$I,2,FALSE),\"\"))))","v":""},{"$f":"IF($A15=\"\",\"\",IF(OR(Q$3=\"Sat\",Q$3=\"Sun\"),\"\",IF(COUNTIF(Holidays!$A:$A,Q$4)>0,\"H\",IFERROR(VLOOKUP((ROW(Q15)-4)&\"_\"&Q$4,Schedule!$H:$I,2,FALSE),\"\"))))","v":""},{"$f":"IF($A15=\"\",\"\",IF(OR(R$3=\"Sat\",R$3=\"Sun\"),\"\",IF(COUNTIF(Holidays!$A:$A,R$4)>0,\"H\",IFERROR(VLOOKUP((ROW(R15)-4)&\"_\"&R$4,Schedule!$H:$I,2,FALSE),\"\"))))","v":""},{"$f":"IF($A15=\"\",\"\",IF(OR(S$3=\"Sat\",S$3=\"Sun\"),\"\",IF(COUNTIF(Holidays!$A:$A,S$4)>0,\"H\",IFERROR(VLOOKUP((ROW(S15)-4)&\"_\"&S$4,Schedule!$H:$I,2,FALSE),\"\"))))","v":""},{"$f":"IF($A15=\"\",\"\",IF(OR(T$3=\"Sat\",T$3=\"Sun\"),\"\",IF(COUNTIF(Holidays!$A:$A,T$4)>0,\"H\",IFERROR(VLOOKUP((ROW(T15)-4)&\"_\"&T$4,Schedule!$H:$I,2,FALSE),\"\"))))","v":""},{"$f":"IF($A15=\"\",\"\",IF(OR(U$3=\"Sat\",U$3=\"Sun\"),\"\",IF(COUNTIF(Holidays!$A:$A,U$4)>0,\"H\",IFERROR(VLOOKUP((ROW(U15)-4)&\"_\"&U$4,Schedule!$H:$I,2,FALSE),\"\"))))","v":""},{"$f":"IF($A15=\"\",\"\",IF(OR(V$3=\"Sat\",V$3=\"Sun\"),\"\",IF(COUNTIF(Holidays!$A:$A,V$4)>0,\"H\",IFERROR(VLOOKUP((ROW(V15)-4)&\"_\"&V$4,Schedule!$H:$I,2,FALSE),\"\"))))","v":""},{"$f":"IF($A15=\"\",\"\",IF(OR(W$3=\"Sat\",W$3=\"Sun\"),\"\",IF(COUNTIF(Holidays!$A:$A,W$4)>0,\"H\",IFERROR(VLOOKUP((ROW(W15)-4)&\"_\"&W$4,Schedule!$H:$I,2,FALSE),\"\"))))","v":""},{"$f":"IF($A15=\"\",\"\",IF(OR(X$3=\"Sat\",X$3=\"Sun\"),\"\",IF(COUNTIF(Holidays!$A:$A,X$4)>0,\"H\",IFERROR(VLOOKUP((ROW(X15)-4)&\"_\"&X$4,Schedule!$H:$I,2,FALSE),\"\"))))","v":""},{"$f":"IF($A15=\"\",\"\",IF(OR(Y$3=\"Sat\",Y$3=\"Sun\"),\"\",IF(COUNTIF(Holidays!$A:$A,Y$4)>0,\"H\",IFERROR(VLOOKUP((ROW(Y15)-4)&\"_\"&Y$4,Schedule!$H:$I,2,FALSE),\"\"))))","v":""},{"$f":"IF($A15=\"\",\"\",IF(OR(Z$3=\"Sat\",Z$3=\"Sun\"),\"\",IF(COUNTIF(Holidays!$A:$A,Z$4)>0,\"H\",IFERROR(VLOOKUP((ROW(Z15)-4)&\"_\"&Z$4,Schedule!$H:$I,2,FALSE),\"\"))))","v":""},{"$f":"IF($A15=\"\",\"\",IF(OR(AA$3=\"Sat\",AA$3=\"Sun\"),\"\",IF(COUNTIF(Holidays!$A:$A,AA$4)>0,\"H\",IFERROR(VLOOKUP((ROW(AA15)-4)&\"_\"&AA$4,Schedule!$H:$I,2,FALSE),\"\"))))","v":""},{"$f":"IF($A15=\"\",\"\",IF(OR(AB$3=\"Sat\",AB$3=\"Sun\"),\"\",IF(COUNTIF(Holidays!$A:$A,AB$4)>0,\"H\",IFERROR(VLOOKUP((ROW(AB15)-4)&\"_\"&AB$4,Schedule!$H:$I,2,FALSE),\"\"))))","v":""},{"$f":"IF($A15=\"\",\"\",IF(OR(AC$3=\"Sat\",AC$3=\"Sun\"),\"\",IF(COUNTIF(Holidays!$A:$A,AC$4)>0,\"H\",IFERROR(VLOOKUP((ROW(AC15)-4)&\"_\"&AC$4,Schedule!$H:$I,2,FALSE),\"\"))))","v":""},{"$f":"IF($A15=\"\",\"\",IF(OR(AD$3=\"Sat\",AD$3=\"Sun\"),\"\",IF(COUNTIF(Holidays!$A:$A,AD$4)>0,\"H\",IFERROR(VLOOKUP((ROW(AD15)-4)&\"_\"&AD$4,Schedule!$H:$I,2,FALSE),\"\"))))","v":""},{"$f":"IF($A15=\"\",\"\",IF(OR(AE$3=\"Sat\",AE$3=\"Sun\"),\"\",IF(COUNTIF(Holidays!$A:$A,AE$4)>0,\"H\",IFERROR(VLOOKUP((ROW(AE15)-4)&\"_\"&AE$4,Schedule!$H:$I,2,FALSE),\"\"))))","v":""},{"$f":"IF($A15=\"\",\"\",IF(OR(AF$3=\"Sat\",AF$3=\"Sun\"),\"\",IF(COUNTIF(Holidays!$A:$A,AF$4)>0,\"H\",IFERROR(VLOOKUP((ROW(AF15)-4)&\"_\"&AF$4,Schedule!$H:$I,2,FALSE),\"\"))))","v":""},{"$f":"IF($A15=\"\",\"\",IF(OR(AG$3=\"Sat\",AG$3=\"Sun\"),\"\",IF(COUNTIF(Holidays!$A:$A,AG$4)>0,\"H\",IFERROR(VLOOKUP((ROW(AG15)-4)&\"_\"&AG$4,Schedule!$H:$I,2,FALSE),\"\"))))","v":""},{"$f":"IF($A15=\"\",\"\",IF(OR(AH$3=\"Sat\",AH$3=\"Sun\"),\"\",IF(COUNTIF(Holidays!$A:$A,AH$4)>0,\"H\",IFERROR(VLOOKUP((ROW(AH15)-4)&\"_\"&AH$4,Schedule!$H:$I,2,FALSE),\"\"))))","v":""},{"$f":"IF($A15=\"\",\"\",IF(OR(AI$3=\"Sat\",AI$3=\"Sun\"),\"\",IF(COUNTIF(Holidays!$A:$A,AI$4)>0,\"H\",IFERROR(VLOOKUP((ROW(AI15)-4)&\"_\"&AI$4,Schedule!$H:$I,2,FALSE),\"\"))))","v":""},{"$f":"IF($A15=\"\",\"\",IF(OR(AJ$3=\"Sat\",AJ$3=\"Sun\"),\"\",IF(COUNTIF(Holidays!$A:$A,AJ$4)>0,\"H\",IFERROR(VLOOKUP((ROW(AJ15)-4)&\"_\"&AJ$4,Schedule!$H:$I,2,FALSE),\"\"))))","v":""},{"$f":"IF($A15=\"\",\"\",ROUND(SUMIFS(Schedule!$E:$E,Schedule!$A:$A,$A15,Schedule!$D:$D,$AK$3,Schedule!$B:$B,\">=\"&DATE($Q$2,$U$2,1),Schedule!$B:$B,\"<=\"&EOMONTH(DATE($Q$2,$U$2,1),0))/8,2))","v":""},{"$f":"IF($A15=\"\",\"\",ROUND(SUMIFS(Schedule!$E:$E,Schedule!$A:$A,$A15,Schedule!$D:$D,$AK$3,Schedule!$B:$B,\">=\"&DATE($Q$2,1,1),Schedule!$B:$B,\"<=\"&EOMONTH(DATE($Q$2,$U$2,1),0))/8,2))","v":""},{"$f":"IF($A15=\"\",\"\",ROUND(SUMIFS(Schedule!$E:$E,Schedule!$A:$A,$A15,Schedule!$D:$D,$AM$3,Schedule!$B:$B,\">=\"&DATE($Q$2,$U$2,1),Schedule!$B:$B,\"<=\"&EOMONTH(DATE($Q$2,$U$2,1),0))/8,2))","v":""},{"$f":"IF($A15=\"\",\"\",ROUND(SUMIFS(Schedule!$E:$E,Schedule!$A:$A,$A15,Schedule!$D:$D,$AM$3,Schedule!$B:$B,\">=\"&DATE($Q$2,1,1),Schedule!$B:$B,\"<=\"&EOMONTH(DATE($Q$2,$U$2,1),0))/8,2))","v":""}]
[{"$f":"IF(Lookups!A13=\"\",\"\",Lookups!A13)","v":""},{"$f":"IF($A16=\"\",\"\",IF(OR(B$3=\"Sat\",B$3=\"Sun\"),\"\",IF(COUNTIF(Holidays!$A:$A,B$4)>0,\"H\",IFERROR(VLOOKUP((ROW(B16)-4)&\"_\"&B$4,Schedule!$H:$I,2,FALSE),\"\"))))","v":""},{"$f":"IF($A16=\"\",\"\",IF(OR(C$3=\"Sat\",C$3=\"Sun\"),\"\",IF(COUNTIF(Holidays!$A:$A,C$4)>0,\"H\",IFERROR(VLOOKUP((ROW(C16)-4)&\"_\"&C$4,Schedule!$H:$I,2,FALSE),\"\"))))","v":""},{"$f":"IF($A16=\"\",\"\",IF(OR(D$3=\"Sat\",D$3=\"Sun\"),\"\",IF(COUNTIF(Holidays!$A:$A,D$4)>0,\"H\",IFERROR(VLOOKUP((ROW(D16)-4)&\"_\"&D$4,Schedule!$H:$I,2,FALSE),\"\"))))","v":""},{"$f":"IF($A16=\"\",\"\",IF(OR(E$3=\"Sat\",E$3=\"Sun\"),\"\",IF(COUNTIF(Holidays!$A:$A,E$4)>0,\"H\",IFERROR(VLOOKUP((ROW(E16)-4)&\"_\"&E$4,Schedule!$H:$I,2,FALSE),\"\"))))","v":""},{"$f":"IF($A16=\"\",\"\",IF(OR(F$3=\"Sat\",F$3=\"Sun\"),\"\",IF(COUNTIF(Holidays!$A:$A,F$4)>0,\"H\",IFERROR(VLOOKUP((ROW(F16)-4)&\"_\"&F$4,Schedule!$H:$I,2,FALSE),\"\"))))","v":""},{"$f":"IF($A16=\"\",\"\",IF(OR(G$3=\"Sat\",G$3=\"Sun\"),\"\",IF(COUNTIF(Holidays!$A:$A,G$4)>0,\"H\",IFERROR(VLOOKUP((ROW(G16)-4)&\"_\"&G$4,Schedule!$H:$I,2,FALSE),\"\"))))","v":""},{"$f":"IF($A16=\"\",\"\",IF(OR(H$3=\"Sat\",H$3=\"Sun\"),\"\",IF(COUNTIF(Holidays!$A:$A,H$4)>0,\"H\",IFERROR(VLOOKUP((ROW(H16)-4)&\"_\"&H$4,Schedule!$H:$I,2,FALSE),\"\"))))","v":""},{"$f":"IF($A16=\"\",\"\",IF(OR(I$3=\"Sat\",I$3=\"Sun\"),\"\",IF(COUNTIF(Holidays!$A:$A,I$4)>0,\"H\",IFERROR(VLOOKUP((ROW(I16)-4)&\"_\"&I$4,Schedule!$H:$I,2,FALSE),\"\"))))","v":""},{"$f":"IF($A16=\"\",\"\",IF(OR(J$3=\"Sat\",J$3=\"Sun\"),\"\",IF(COUNTIF(Holidays!$A:$A,J$4)>0,\"H\",IFERROR(VLOOKUP((ROW(J16)-4)&\"_\"&J$4,Schedule!$H:$I,2,FALSE),\"\"))))","v":""},{"$f":"IF($A16=\"\",\"\",IF(OR(K$3=\"Sat\",K$3=\"Sun\"),\"\",IF(COUNTIF(Holidays!$A:$A,K$4)>0,\"H\",IFERROR(VLOOKUP((ROW(K16)-4)&\"_\"&K$4,Schedule!$H:$I,2,FALSE),\"\"))))","v":""},{"$f":"IF($A16=\"\",\"\",IF(OR(L$3=\"Sat\",L$3=\"Sun\"),\"\",IF(COUNTIF(Holidays!$A:$A,L$4)>0,\"H\",IFERROR(VLOOKUP((ROW(L16)-4)&\"_\"&L$4,Schedule!$H:$I,2,FALSE),\"\"))))","v":""},{"$f":"IF($A16=\"\",\"\",IF(OR(M$3=\"Sat\",M$3=\"Sun\"),\"\",IF(COUNTIF(Holidays!$A:$A,M$4)>0,\"H\",IFERROR(VLOOKUP((ROW(M16)-4)&\"_\"&M$4,Schedule!$H:$I,2,FALSE),\"\"))))","v":""},{"$f":"IF($A16=\"\",\"\",IF(OR(N$3=\"Sat\",N$3=\"Sun\"),\"\",IF(COUNTIF(Holidays!$A:$A,N$4)>0,\"H\",IFERROR(VLOOKUP((ROW(N16)-4)&\"_\"&N$4,Schedule!$H:$I,2,FALSE),\"\"))))","v":""},{"$f":"IF($A16=\"\",\"\",IF(OR(O$3=\"Sat\",O$3=\"Sun\"),\"\",IF(COUNTIF(Holidays!$A:$A,O$4)>0,\"H\",IFERROR(VLOOKUP((ROW(O16)-4)&\"_\"&O$4,Schedule!$H:$I,2,FALSE),\"\"))))","v":""},{"$f":"IF($A16=\"\",\"\",IF(OR(P$3=\"Sat\",P$3=\"Sun\"),\"\",IF(COUNTIF(Holidays!$A:$A,P$4)>0,\"H\",IFERROR(VLOOKUP((ROW(P16)-4)&\"_\"&P$4,Schedule!$H:$I,2,FALSE),\"\"))))","v":""},{"$f":"IF($A16=\"\",\"\",IF(OR(Q$3=\"Sat\",Q$3=\"Sun\"),\"\",IF(COUNTIF(Holidays!$A:$A,Q$4)>0,\"H\",IFERROR(VLOOKUP((ROW(Q16)-4)&\"_\"&Q$4,Schedule!$H:$I,2,FALSE),\"\"))))","v":""},{"$f":"IF($A16=\"\",\"\",IF(OR(R$3=\"Sat\",R$3=\"Sun\"),\"\",IF(COUNTIF(Holidays!$A:$A,R$4)>0,\"H\",IFERROR(VLOOKUP((ROW(R16)-4)&\"_\"&R$4,Schedule!$H:$I,2,FALSE),\"\"))))","v":""},{"$f":"IF($A16=\"\",\"\",IF(OR(S$3=\"Sat\",S$3=\"Sun\"),\"\",IF(COUNTIF(Holidays!$A:$A,S$4)>0,\"H\",IFERROR(VLOOKUP((ROW(S16)-4)&\"_\"&S$4,Schedule!$H:$I,2,FALSE),\"\"))))","v":""},{"$f":"IF($A16=\"\",\"\",IF(OR(T$3=\"Sat\",T$3=\"Sun\"),\"\",IF(COUNTIF(Holidays!$A:$A,T$4)>0,\"H\",IFERROR(VLOOKUP((ROW(T16)-4)&\"_\"&T$4,Schedule!$H:$I,2,FALSE),\"\"))))","v":""},{"$f":"IF($A16=\"\",\"\",IF(OR(U$3=\"Sat\",U$3=\"Sun\"),\"\",IF(COUNTIF(Holidays!$A:$A,U$4)>0,\"H\",IFERROR(VLOOKUP((ROW(U16)-4)&\"_\"&U$4,Schedule!$H:$I,2,FALSE),\"\"))))","v":""},{"$f":"IF($A16=\"\",\"\",IF(OR(V$3=\"Sat\",V$3=\"Sun\"),\"\",IF(COUNTIF(Holidays!$A:$A,V$4)>0,\"H\",IFERROR(VLOOKUP((ROW(V16)-4)&\"_\"&V$4,Schedule!$H:$I,2,FALSE),\"\"))))","v":""},{"$f":"IF($A16=\"\",\"\",IF(OR(W$3=\"Sat\",W$3=\"Sun\"),\"\",IF(COUNTIF(Holidays!$A:$A,W$4)>0,\"H\",IFERROR(VLOOKUP((ROW(W16)-4)&\"_\"&W$4,Schedule!$H:$I,2,FALSE),\"\"))))","v":""},{"$f":"IF($A16=\"\",\"\",IF(OR(X$3=\"Sat\",X$3=\"Sun\"),\"\",IF(COUNTIF(Holidays!$A:$A,X$4)>0,\"H\",IFERROR(VLOOKUP((ROW(X16)-4)&\"_\"&X$4,Schedule!$H:$I,2,FALSE),\"\"))))","v":""},{"$f":"IF($A16=\"\",\"\",IF(OR(Y$3=\"Sat\",Y$3=\"Sun\"),\"\",IF(COUNTIF(Holidays!$A:$A,Y$4)>0,\"H\",IFERROR(VLOOKUP((ROW(Y16)-4)&\"_\"&Y$4,Schedule!$H:$I,2,FALSE),\"\"))))","v":""},{"$f":"IF($A16=\"\",\"\",IF(OR(Z$3=\"Sat\",Z$3=\"Sun\"),\"\",IF(COUNTIF(Holidays!$A:$A,Z$4)>0,\"H\",IFERROR(VLOOKUP((ROW(Z16)-4)&\"_\"&Z$4,Schedule!$H:$I,2,FALSE),\"\"))))","v":""},{"$f":"IF($A16=\"\",\"\",IF(OR(AA$3=\"Sat\",AA$3=\"Sun\"),\"\",IF(COUNTIF(Holidays!$A:$A,AA$4)>0,\"H\",IFERROR(VLOOKUP((ROW(AA16)-4)&\"_\"&AA$4,Schedule!$H:$I,2,FALSE),\"\"))))","v":""},{"$f":"IF($A16=\"\",\"\",IF(OR(AB$3=\"Sat\",AB$3=\"Sun\"),\"\",IF(COUNTIF(Holidays!$A:$A,AB$4)>0,\"H\",IFERROR(VLOOKUP((ROW(AB16)-4)&\"_\"&AB$4,Schedule!$H:$I,2,FALSE),\"\"))))","v":""},{"$f":"IF($A16=\"\",\"\",IF(OR(AC$3=\"Sat\",AC$3=\"Sun\"),\"\",IF(COUNTIF(Holidays!$A:$A,AC$4)>0,\"H\",IFERROR(VLOOKUP((ROW(AC16)-4)&\"_\"&AC$4,Schedule!$H:$I,2,FALSE),\"\"))))","v":""},{"$f":"IF($A16=\"\",\"\",IF(OR(AD$3=\"Sat\",AD$3=\"Sun\"),\"\",IF(COUNTIF(Holidays!$A:$A,AD$4)>0,\"H\",IFERROR(VLOOKUP((ROW(AD16)-4)&\"_\"&AD$4,Schedule!$H:$I,2,FALSE),\"\"))))","v":""},{"$f":"IF($A16=\"\",\"\",IF(OR(AE$3=\"Sat\",AE$3=\"Sun\"),\"\",IF(COUNTIF(Holidays!$A:$A,AE$4)>0,\"H\",IFERROR(VLOOKUP((ROW(AE16)-4)&\"_\"&AE$4,Schedule!$H:$I,2,FALSE),\"\"))))","v":""},{"$f":"IF($A16=\"\",\"\",IF(OR(AF$3=\"Sat\",AF$3=\"Sun\"),\"\",IF(COUNTIF(Holidays!$A:$A,AF$4)>0,\"H\",IFERROR(VLOOKUP((ROW(AF16)-4)&\"_\"&AF$4,Schedule!$H:$I,2,FALSE),\"\"))))","v":""},{"$f":"IF($A16=\"\",\"\",IF(OR(AG$3=\"Sat\",AG$3=\"Sun\"),\"\",IF(COUNTIF(Holidays!$A:$A,AG$4)>0,\"H\",IFERROR(VLOOKUP((ROW(AG16)-4)&\"_\"&AG$4,Schedule!$H:$I,2,FALSE),\"\"))))","v":""},{"$f":"IF($A16=\"\",\"\",IF(OR(AH$3=\"Sat\",AH$3=\"Sun\"),\"\",IF(COUNTIF(Holidays!$A:$A,AH$4)>0,\"H\",IFERROR(VLOOKUP((ROW(AH16)-4)&\"_\"&AH$4,Schedule!$H:$I,2,FALSE),\"\"))))","v":""},{"$f":"IF($A16=\"\",\"\",IF(OR(AI$3=\"Sat\",AI$3=\"Sun\"),\"\",IF(COUNTIF(Holidays!$A:$A,AI$4)>0,\"H\",IFERROR(VLOOKUP((ROW(AI16)-4)&\"_\"&AI$4,Schedule!$H:$I,2,FALSE),\"\"))))","v":""},{"$f":"IF($A16=\"\",\"\",IF(OR(AJ$3=\"Sat\",AJ$3=\"Sun\"),\"\",IF(COUNTIF(Holidays!$A:$A,AJ$4)>0,\"H\",IFERROR(VLOOKUP((ROW(AJ16)-4)&\"_\"&AJ$4,Schedule!$H:$I,2,FALSE),\"\"))))","v":""},{"$f":"IF($A16=\"\",\"\",ROUND(SUMIFS(Schedule!$E:$E,Schedule!$A:$A,$A16,Schedule!$D:$D,$AK$3,Schedule!$B:$B,\">=\"&DATE($Q$2,$U$2,1),Schedule!$B:$B,\"<=\"&EOMONTH(DATE($Q$2,$U$2,1),0))/8,2))","v":""},{"$f":"IF($A16=\"\",\"\",ROUND(SUMIFS(Schedule!$E:$E,Schedule!$A:$A,$A16,Schedule!$D:$D,$AK$3,Schedule!$B:$B,\">=\"&DATE($Q$2,1,1),Schedule!$B:$B,\"<=\"&EOMONTH(DATE($Q$2,$U$2,1),0))/8,2))","v":""},{"$f":"IF($A16=\"\",\"\",ROUND(SUMIFS(Schedule!$E:$E,Schedule!$A:$A,$A16,Schedule!$D:$D,$AM$3,Schedule!$B:$B,\">=\"&DATE($Q$2,$U$2,1),Schedule!$B:$B,\"<=\"&EOMONTH(DATE($Q$2,$U$2,1),0))/8,2))","v":""},{"$f":"IF($A16=\"\",\"\",ROUND(SUMIFS(Schedule!$E:$E,Schedule!$A:$A,$A16,Schedule!$D:$D,$AM$3,Schedule!$B:$B,\">=\"&DATE($Q$2,1,1),Schedule!$B:$B,\"<=\"&EOMONTH(DATE($Q$2,$U$2,1),0))/8,2))","v":""}]
[{"$f":"IF(Lookups!A14=\"\",\"\",Lookups!A14)","v":""},{"$f":"IF($A17=\"\",\"\",IF(OR(B$3=\"Sat\",B$3=\"Sun\"),\"\",IF(COUNTIF(Holidays!$A:$A,B$4)>0,\"H\",IFERROR(VLOOKUP((ROW(B17)-4)&\"_\"&B$4,Schedule!$H:$I,2,FALSE),\"\"))))","v":""},{"$f":"IF($A17=\"\",\"\",IF(OR(C$3=\"Sat\",C$3=\"Sun\"),\"\",IF(COUNTIF(Holidays!$A:$A,C$4)>0,\"H\",IFERROR(VLOOKUP((ROW(C17)-4)&\"_\"&C$4,Schedule!$H:$I,2,FALSE),\"\"))))","v":""},{"$f":"IF($A17=\"\",\"\",IF(OR(D$3=\"Sat\",D$3=\"Sun\"),\"\",IF(COUNTIF(Holidays!$A:$A,D$4)>0,\"H\",IFERROR(VLOOKUP((ROW(D17)-4)&\"_\"&D$4,Schedule!$H:$I,2,FALSE),\"\"))))","v":""},{"$f":"IF($A17=\"\",\"\",IF(OR(E$3=\"Sat\",E$3=\"Sun\"),\"\",IF(COUNTIF(Holidays!$A:$A,E$4)>0,\"H\",IFERROR(VLOOKUP((ROW(E17)-4)&\"_\"&E$4,Schedule!$H:$I,2,FALSE),\"\"))))","v":""},{"$f":"IF($A17=\"\",\"\",IF(OR(F$3=\"Sat\",F$3=\"Sun\"),\"\",IF(COUNTIF(Holidays!$A:$A,F$4)>0,\"H\",IFERROR(VLOOKUP((ROW(F17)-4)&\"_\"&F$4,Schedule!$H:$I,2,FALSE),\"\"))))","v":""},{"$f":"IF($A17=\"\",\"\",IF(OR(G$3=\"Sat\",G$3=\"Sun\"),\"\",IF(COUNTIF(Holidays!$A:$A,G$4)>0,\"H\",IFERROR(VLOOKUP((ROW(G17)-4)&\"_\"&G$4,Schedule!$H:$I,2,FALSE),\"\"))))","v":""},{"$f":"IF($A17=\"\",\"\",IF(OR(H$3=\"Sat\",H$3=\"Sun\"),\"\",IF(COUNTIF(Holidays!$A:$A,H$4)>0,\"H\",IFERROR(VLOOKUP((ROW(H17)-4)&\"_\"&H$4,Schedule!$H:$I,2,FALSE),\"\"))))","v":""},{"$f":"IF($A17=\"\",\"\",IF(OR(I$3=\"Sat\",I$3=\"Sun\"),\"\",IF(COUNTIF(Holidays!$A:$A,I$4)>0,\"H\",IFERROR(VLOOKUP((ROW(I17)-4)&\"_\"&I$4,Schedule!$H:$I,2,FALSE),\"\"))))","v":""},{"$f":"IF($A17=\"\",\"\",IF(OR(J$3=\"Sat\",J$3=\"Sun\"),\"\",IF(COUNTIF(Holidays!$A:$A,J$4)>0,\"H\",IFERROR(VLOOKUP((ROW(J17)-4)&\"_\"&J$4,Schedule!$H:$I,2,FALSE),\"\"))))","v":""},{"$f":"IF($A17=\"\",\"\",IF(OR(K$3=\"Sat\",K$3=\"Sun\"),\"\",IF(COUNTIF(Holidays!$A:$A,K$4)>0,\"H\",IFERROR(VLOOKUP((ROW(K17)-4)&\"_\"&K$4,Schedule!$H:$I,2,FALSE),\"\"))))","v":""},{"$f":"IF($A17=\"\",\"\",IF(OR(L$3=\"Sat\",L$3=\"Sun\"),\"\",IF(COUNTIF(Holidays!$A:$A,L$4)>0,\"H\",IFERROR(VLOOKUP((ROW(L17)-4)&\"_\"&L$4,Schedule!$H:$I,2,FALSE),\"\"))))","v":""},{"$f":"IF($A17=\"\",\"\",IF(OR(M$3=\"Sat\",M$3=\"Sun\"),\"\",IF(COUNTIF(Holidays!$A:$A,M$4)>0,\"H\",IFERROR(VLOOKUP((ROW(M17)-4)&\"_\"&M$4,Schedule!$H:$I,2,FALSE),\"\"))))","v":""},{"$f":"IF($A17=\"\",\"\",IF(OR(N$3=\"Sat\",N$3=\"Sun\"),\"\",IF(COUNTIF(Holidays!$A:$A,N$4)>0,\"H\",IFERROR(VLOOKUP((ROW(N17)-4)&\"_\"&N$4,Schedule!$H:$I,2,FALSE),\"\"))))","v":""},{"$f":"IF($A17=\"\",\"\",IF(OR(O$3=\"Sat\",O$3=\"Sun\"),\"\",IF(COUNTIF(Holidays!$A:$A,O$4)>0,\"H\",IFERROR(VLOOKUP((ROW(O17)-4)&\"_\"&O$4,Schedule!$H:$I,2,FALSE),\"\"))))","v":""},{"$f":"IF($A17=\"\",\"\",IF(OR(P$3=\"Sat\",P$3=\"Sun\"),\"\",IF(COUNTIF(Holidays!$A:$A,P$4)>0,\"H\",IFERROR(VLOOKUP((ROW(P17)-4)&\"_\"&P$4,Schedule!$H:$I,2,FALSE),\"\"))))","v":""},{"$f":"IF($A17=\"\",\"\",IF(OR(Q$3=\"Sat\",Q$3=\"Sun\"),\"\",IF(COUNTIF(Holidays!$A:$A,Q$4)>0,\"H\",IFERROR(VLOOKUP((ROW(Q17)-4)&\"_\"&Q$4,Schedule!$H:$I,2,FALSE),\"\"))))","v":""},{"$f":"IF($A17=\"\",\"\",IF(OR(R$3=\"Sat\",R$3=\"Sun\"),\"\",IF(COUNTIF(Holidays!$A:$A,R$4)>0,\"H\",IFERROR(VLOOKUP((ROW(R17)-4)&\"_\"&R$4,Schedule!$H:$I,2,FALSE),\"\"))))","v":""},{"$f":"IF($A17=\"\",\"\",IF(OR(S$3=\"Sat\",S$3=\"Sun\"),\"\",IF(COUNTIF(Holidays!$A:$A,S$4)>0,\"H\",IFERROR(VLOOKUP((ROW(S17)-4)&\"_\"&S$4,Schedule!$H:$I,2,FALSE),\"\"))))","v":""},{"$f":"IF($A17=\"\",\"\",IF(OR(T$3=\"Sat\",T$3=\"Sun\"),\"\",IF(COUNTIF(Holidays!$A:$A,T$4)>0,\"H\",IFERROR(VLOOKUP((ROW(T17)-4)&\"_\"&T$4,Schedule!$H:$I,2,FALSE),\"\"))))","v":""},{"$f":"IF($A17=\"\",\"\",IF(OR(U$3=\"Sat\",U$3=\"Sun\"),\"\",IF(COUNTIF(Holidays!$A:$A,U$4)>0,\"H\",IFERROR(VLOOKUP((ROW(U17)-4)&\"_\"&U$4,Schedule!$H:$I,2,FALSE),\"\"))))","v":""},{"$f":"IF($A17=\"\",\"\",IF(OR(V$3=\"Sat\",V$3=\"Sun\"),\"\",IF(COUNTIF(Holidays!$A:$A,V$4)>0,\"H\",IFERROR(VLOOKUP((ROW(V17)-4)&\"_\"&V$4,Schedule!$H:$I,2,FALSE),\"\"))))","v":""},{"$f":"IF($A17=\"\",\"\",IF(OR(W$3=\"Sat\",W$3=\"Sun\"),\"\",IF(COUNTIF(Holidays!$A:$A,W$4)>0,\"H\",IFERROR(VLOOKUP((ROW(W17)-4)&\"_\"&W$4,Schedule!$H:$I,2,FALSE),\"\"))))","v":""},{"$f":"IF($A17=\"\",\"\",IF(OR(X$3=\"Sat\",X$3=\"Sun\"),\"\",IF(COUNTIF(Holidays!$A:$A,X$4)>0,\"H\",IFERROR(VLOOKUP((ROW(X17)-4)&\"_\"&X$4,Schedule!$H:$I,2,FALSE),\"\"))))","v":""},{"$f":"IF($A17=\"\",\"\",IF(OR(Y$3=\"Sat\",Y$3=\"Sun\"),\"\",IF(COUNTIF(Holidays!$A:$A,Y$4)>0,\"H\",IFERROR(VLOOKUP((ROW(Y17)-4)&\"_\"&Y$4,Schedule!$H:$I,2,FALSE),\"\"))))","v":""},{"$f":"IF($A17=\"\",\"\",IF(OR(Z$3=\"Sat\",Z$3=\"Sun\"),\"\",IF(COUNTIF(Holidays!$A:$A,Z$4)>0,\"H\",IFERROR(VLOOKUP((ROW(Z17)-4)&\"_\"&Z$4,Schedule!$H:$I,2,FALSE),\"\"))))","v":""},{"$f":"IF($A17=\"\",\"\",IF(OR(AA$3=\"Sat\",AA$3=\"Sun\"),\"\",IF(COUNTIF(Holidays!$A:$A,AA$4)>0,\"H\",IFERROR(VLOOKUP((ROW(AA17)-4)&\"_\"&AA$4,Schedule!$H:$I,2,FALSE),\"\"))))","v":""},{"$f":"IF($A17=\"\",\"\",IF(OR(AB$3=\"Sat\",AB$3=\"Sun\"),\"\",IF(COUNTIF(Holidays!$A:$A,AB$4)>0,\"H\",IFERROR(VLOOKUP((ROW(AB17)-4)&\"_\"&AB$4,Schedule!$H:$I,2,FALSE),\"\"))))","v":""},{"$f":"IF($A17=\"\",\"\",IF(OR(AC$3=\"Sat\",AC$3=\"Sun\"),\"\",IF(COUNTIF(Holidays!$A:$A,AC$4)>0,\"H\",IFERROR(VLOOKUP((ROW(AC17)-4)&\"_\"&AC$4,Schedule!$H:$I,2,FALSE),\"\"))))","v":""},{"$f":"IF($A17=\"\",\"\",IF(OR(AD$3=\"Sat\",AD$3=\"Sun\"),\"\",IF(COUNTIF(Holidays!$A:$A,AD$4)>0,\"H\",IFERROR(VLOOKUP((ROW(AD17)-4)&\"_\"&AD$4,Schedule!$H:$I,2,FALSE),\"\"))))","v":""},{"$f":"IF($A17=\"\",\"\",IF(OR(AE$3=\"Sat\",AE$3=\"Sun\"),\"\",IF(COUNTIF(Holidays!$A:$A,AE$4)>0,\"H\",IFERROR(VLOOKUP((ROW(AE17)-4)&\"_\"&AE$4,Schedule!$H:$I,2,FALSE),\"\"))))","v":""},{"$f":"IF($A17=\"\",\"\",IF(OR(AF$3=\"Sat\",AF$3=\"Sun\"),\"\",IF(COUNTIF(Holidays!$A:$A,AF$4)>0,\"H\",IFERROR(VLOOKUP((ROW(AF17)-4)&\"_\"&AF$4,Schedule!$H:$I,2,FALSE),\"\"))))","v":""},{"$f":"IF($A17=\"\",\"\",IF(OR(AG$3=\"Sat\",AG$3=\"Sun\"),\"\",IF(COUNTIF(Holidays!$A:$A,AG$4)>0,\"H\",IFERROR(VLOOKUP((ROW(AG17)-4)&\"_\"&AG$4,Schedule!$H:$I,2,FALSE),\"\"))))","v":""},{"$f":"IF($A17=\"\",\"\",IF(OR(AH$3=\"Sat\",AH$3=\"Sun\"),\"\",IF(COUNTIF(Holidays!$A:$A,AH$4)>0,\"H\",IFERROR(VLOOKUP((ROW(AH17)-4)&\"_\"&AH$4,Schedule!$H:$I,2,FALSE),\"\"))))","v":""},{"$f":"IF($A17=\"\",\"\",IF(OR(AI$3=\"Sat\",AI$3=\"Sun\"),\"\",IF(COUNTIF(Holidays!$A:$A,AI$4)>0,\"H\",IFERROR(VLOOKUP((ROW(AI17)-4)&\"_\"&AI$4,Schedule!$H:$I,2,FALSE),\"\"))))","v":""},{"$f":"IF($A17=\"\",\"\",IF(OR(AJ$3=\"Sat\",AJ$3=\"Sun\"),\"\",IF(COUNTIF(Holidays!$A:$A,AJ$4)>0,\"H\",IFERROR(VLOOKUP((ROW(AJ17)-4)&\"_\"&AJ$4,Schedule!$H:$I,2,FALSE),\"\"))))","v":""},{"$f":"IF($A17=\"\",\"\",ROUND(SUMIFS(Schedule!$E:$E,Schedule!$A:$A,$A17,Schedule!$D:$D,$AK$3,Schedule!$B:$B,\">=\"&DATE($Q$2,$U$2,1),Schedule!$B:$B,\"<=\"&EOMONTH(DATE($Q$2,$U$2,1),0))/8,2))","v":""},{"$f":"IF($A17=\"\",\"\",ROUND(SUMIFS(Schedule!$E:$E,Schedule!$A:$A,$A17,Schedule!$D:$D,$AK$3,Schedule!$B:$B,\">=\"&DATE($Q$2,1,1),Schedule!$B:$B,\"<=\"&EOMONTH(DATE($Q$2,$U$2,1),0))/8,2))","v":""},{"$f":"IF($A17=\"\",\"\",ROUND(SUMIFS(Schedule!$E:$E,Schedule!$A:$A,$A17,Schedule!$D:$D,$AM$3,Schedule!$B:$B,\">=\"&DATE($Q$2,$U$2,1),Schedule!$B:$B,\"<=\"&EOMONTH(DATE($Q$2,$U$2,1),0))/8,2))","v":""},{"$f":"IF($A17=\"\",\"\",ROUND(SUMIFS(Schedule!$E:$E,Schedule!$A:$A,$A17,Schedule!$D:$D,$AM$3,Schedule!$B:$B,\">=\"&DATE($Q$2,1,1),Schedule!$B:$B,\"<=\"&EOMONTH(DATE($Q$2,$U$2,1),0))/8,2))","v":""}]
[{"$f":"IF(Lookups!A15=\"\",\"\",Lookups!A15)","v":""},{"$f":"IF($A18=\"\",\"\",IF(OR(B$3=\"Sat\",B$3=\"Sun\"),\"\",IF(COUNTIF(Holidays!$A:$A,B$4)>0,\"H\",IFERROR(VLOOKUP((ROW(B18)-4)&\"_\"&B$4,Schedule!$H:$I,2,FALSE),\"\"))))","v":""},{"$f":"IF($A18=\"\",\"\",IF(OR(C$3=\"Sat\",C$3=\"Sun\"),\"\",IF(COUNTIF(Holidays!$A:$A,C$4)>0,\"H\",IFERROR(VLOOKUP((ROW(C18)-4)&\"_\"&C$4,Schedule!$H:$I,2,FALSE),\"\"))))","v":""},{"$f":"IF($A18=\"\",\"\",IF(OR(D$3=\"Sat\",D$3=\"Sun\"),\"\",IF(COUNTIF(Holidays!$A:$A,D$4)>0,\"H\",IFERROR(VLOOKUP((ROW(D18)-4)&\"_\"&D$4,Schedule!$H:$I,2,FALSE),\"\"))))","v":""},{"$f":"IF($A18=\"\",\"\",IF(OR(E$3=\"Sat\",E$3=\"Sun\"),\"\",IF(COUNTIF(Holidays!$A:$A,E$4)>0,\"H\",IFERROR(VLOOKUP((ROW(E18)-4)&\"_\"&E$4,Schedule!$H:$I,2,FALSE),\"\"))))","v":""},{"$f":"IF($A18=\"\",\"\",IF(OR(F$3=\"Sat\",F$3=\"Sun\"),\"\",IF(COUNTIF(Holidays!$A:$A,F$4)>0,\"H\",IFERROR(VLOOKUP((ROW(F18)-4)&\"_\"&F$4,Schedule!$H:$I,2,FALSE),\"\"))))","v":""},{"$f":"IF($A18=\"\",\"\",IF(OR(G$3=\"Sat\",G$3=\"Sun\"),\"\",IF(COUNTIF(Holidays!$A:$A,G$4)>0,\"H\",IFERROR(VLOOKUP((ROW(G18)-4)&\"_\"&G$4,Schedule!$H:$I,2,FALSE),\"\"))))","v":""},{"$f":"IF($A18=\"\",\"\",IF(OR(H$3=\"Sat\",H$3=\"Sun\"),\"\",IF(COUNTIF(Holidays!$A:$A,H$4)>0,\"H\",IFERROR(VLOOKUP((ROW(H18)-4)&\"_\"&H$4,Schedule!$H:$I,2,FALSE),\"\"))))","v":""},{"$f":"IF($A18=\"\",\"\",IF(OR(I$3=\"Sat\",I$3=\"Sun\"),\"\",IF(COUNTIF(Holidays!$A:$A,I$4)>0,\"H\",IFERROR(VLOOKUP((ROW(I18)-4)&\"_\"&I$4,Schedule!$H:$I,2,FALSE),\"\"))))","v":""},{"$f":"IF($A18=\"\",\"\",IF(OR(J$3=\"Sat\",J$3=\"Sun\"),\"\",IF(COUNTIF(Holidays!$A:$A,J$4)>0,\"H\",IFERROR(VLOOKUP((ROW(J18)-4)&\"_\"&J$4,Schedule!$H:$I,2,FALSE),\"\"))))","v":""},{"$f":"IF($A18=\"\",\"\",IF(OR(K$3=\"Sat\",K$3=\"Sun\"),\"\",IF(COUNTIF(Holidays!$A:$A,K$4)>0,\"H\",IFERROR(VLOOKUP((ROW(K18)-4)&\"_\"&K$4,Schedule!$H:$I,2,FALSE),\"\"))))","v":""},{"$f":"IF($A18=\"\",\"\",IF(OR(L$3=\"Sat\",L$3=\"Sun\"),\"\",IF(COUNTIF(Holidays!$A:$A,L$4)>0,\"H\",IFERROR(VLOOKUP((ROW(L18)-4)&\"_\"&L$4,Schedule!$H:$I,2,FALSE),\"\"))))","v":""},{"$f":"IF($A18=\"\",\"\",IF(OR(M$3=\"Sat\",M$3=\"Sun\"),\"\",IF(COUNTIF(Holidays!$A:$A,M$4)>0,\"H\",IFERROR(VLOOKUP((ROW(M18)-4)&\"_\"&M$4,Schedule!$H:$I,2,FALSE),\"\"))))","v":""},{"$f":"IF($A18=\"\",\"\",IF(OR(N$3=\"Sat\",N$3=\"Sun\"),\"\",IF(COUNTIF(Holidays!$A:$A,N$4)>0,\"H\",IFERROR(VLOOKUP((ROW(N18)-4)&\"_\"&N$4,Schedule!$H:$I,2,FALSE),\"\"))))","v":""},{"$f":"IF($A18=\"\",\"\",IF(OR(O$3=\"Sat\",O$3=\"Sun\"),\"\",IF(COUNTIF(Holidays!$A:$A,O$4)>0,\"H\",IFERROR(VLOOKUP((ROW(O18)-4)&\"_\"&O$4,Schedule!$H:$I,2,FALSE),\"\"))))","v":""},{"$f":"IF($A18=\"\",\"\",IF(OR(P$3=\"Sat\",P$3=\"Sun\"),\"\",IF(COUNTIF(Holidays!$A:$A,P$4)>0,\"H\",IFERROR(VLOOKUP((ROW(P18)-4)&\"_\"&P$4,Schedule!$H:$I,2,FALSE),\"\"))))","v":""},{"$f":"IF($A18=\"\",\"\",IF(OR(Q$3=\"Sat\",Q$3=\"Sun\"),\"\",IF(COUNTIF(Holidays!$A:$A,Q$4)>0,\"H\",IFERROR(VLOOKUP((ROW(Q18)-4)&\"_\"&Q$4,Schedule!$H:$I,2,FALSE),\"\"))))","v":""},{"$f":"IF($A18=\"\",\"\",IF(OR(R$3=\"Sat\",R$3=\"Sun\"),\"\",IF(COUNTIF(Holidays!$A:$A,R$4)>0,\"H\",IFERROR(VLOOKUP((ROW(R18)-4)&\"_\"&R$4,Schedule!$H:$I,2,FALSE),\"\"))))","v":""},{"$f":"IF($A18=\"\",\"\",IF(OR(S$3=\"Sat\",S$3=\"Sun\"),\"\",IF(COUNTIF(Holidays!$A:$A,S$4)>0,\"H\",IFERROR(VLOOKUP((ROW(S18)-4)&\"_\"&S$4,Schedule!$H:$I,2,FALSE),\"\"))))","v":""},{"$f":"IF($A18=\"\",\"\",IF(OR(T$3=\"Sat\",T$3=\"Sun\"),\"\",IF(COUNTIF(Holidays!$A:$A,T$4)>0,\"H\",IFERROR(VLOOKUP((ROW(T18)-4)&\"_\"&T$4,Schedule!$H:$I,2,FALSE),\"\"))))","v":""},{"$f":"IF($A18=\"\",\"\",IF(OR(U$3=\"Sat\",U$3=\"Sun\"),\"\",IF(COUNTIF(Holidays!$A:$A,U$4)>0,\"H\",IFERROR(VLOOKUP((ROW(U18)-4)&\"_\"&U$4,Schedule!$H:$I,2,FALSE),\"\"))))","v":""},{"$f":"IF($A18=\"\",\"\",IF(OR(V$3=\"Sat\",V$3=\"Sun\"),\"\",IF(COUNTIF(Holidays!$A:$A,V$4)>0,\"H\",IFERROR(VLOOKUP((ROW(V18)-4)&\"_\"&V$4,Schedule!$H:$I,2,FALSE),\"\"))))","v":""},{"$f":"IF($A18=\"\",\"\",IF(OR(W$3=\"Sat\",W$3=\"Sun\"),\"\",IF(COUNTIF(Holidays!$A:$A,W$4)>0,\"H\",IFERROR(VLOOKUP((ROW(W18)-4)&\"_\"&W$4,Schedule!$H:$I,2,FALSE),\"\"))))","v":""},{"$f":"IF($A18=\"\",\"\",IF(OR(X$3=\"Sat\",X$3=\"Sun\"),\"\",IF(COUNTIF(Holidays!$A:$A,X$4)>0,\"H\",IFERROR(VLOOKUP((ROW(X18)-4)&\"_\"&X$4,Schedule!$H:$I,2,FALSE),\"\"))))","v":""},{"$f":"IF($A18=\"\",\"\",IF(OR(Y$3=\"Sat\",Y$3=\"Sun\"),\"\",IF(COUNTIF(Holidays!$A:$A,Y$4)>0,\"H\",IFERROR(VLOOKUP((ROW(Y18)-4)&\"_\"&Y$4,Schedule!$H:$I,2,FALSE),\"\"))))","v":""},{"$f":"IF($A18=\"\",\"\",IF(OR(Z$3=\"Sat\",Z$3=\"Sun\"),\"\",IF(COUNTIF(Holidays!$A:$A,Z$4)>0,\"H\",IFERROR(VLOOKUP((ROW(Z18)-4)&\"_\"&Z$4,Schedule!$H:$I,2,FALSE),\"\"))))","v":""},{"$f":"IF($A18=\"\",\"\",IF(OR(AA$3=\"Sat\",AA$3=\"Sun\"),\"\",IF(COUNTIF(Holidays!$A:$A,AA$4)>0,\"H\",IFERROR(VLOOKUP((ROW(AA18)-4)&\"_\"&AA$4,Schedule!$H:$I,2,FALSE),\"\"))))","v":""},{"$f":"IF($A18=\"\",\"\",IF(OR(AB$3=\"Sat\",AB$3=\"Sun\"),\"\",IF(COUNTIF(Holidays!$A:$A,AB$4)>0,\"H\",IFERROR(VLOOKUP((ROW(AB18)-4)&\"_\"&AB$4,Schedule!$H:$I,2,FALSE),\"\"))))","v":""},{"$f":"IF($A18=\"\",\"\",IF(OR(AC$3=\"Sat\",AC$3=\"Sun\"),\"\",IF(COUNTIF(Holidays!$A:$A,AC$4)>0,\"H\",IFERROR(VLOOKUP((ROW(AC18)-4)&\"_\"&AC$4,Schedule!$H:$I,2,FALSE),\"\"))))","v":""},{"$f":"IF($A18=\"\",\"\",IF(OR(AD$3=\"Sat\",AD$3=\"Sun\"),\"\",IF(COUNTIF(Holidays!$A:$A,AD$4)>0,\"H\",IFERROR(VLOOKUP((ROW(AD18)-4)&\"_\"&AD$4,Schedule!$H:$I,2,FALSE),\"\"))))","v":""},{"$f":"IF($A18=\"\",\"\",IF(OR(AE$3=\"Sat\",AE$3=\"Sun\"),\"\",IF(COUNTIF(Holidays!$A:$A,AE$4)>0,\"H\",IFERROR(VLOOKUP((ROW(AE18)-4)&\"_\"&AE$4,Schedule!$H:$I,2,FALSE),\"\"))))","v":""},{"$f":"IF($A18=\"\",\"\",IF(OR(AF$3=\"Sat\",AF$3=\"Sun\"),\"\",IF(COUNTIF(Holidays!$A:$A,AF$4)>0,\"H\",IFERROR(VLOOKUP((ROW(AF18)-4)&\"_\"&AF$4,Schedule!$H:$I,2,FALSE),\"\"))))","v":""},{"$f":"IF($A18=\"\",\"\",IF(OR(AG$3=\"Sat\",AG$3=\"Sun\"),\"\",IF(COUNTIF(Holidays!$A:$A,AG$4)>0,\"H\",IFERROR(VLOOKUP((ROW(AG18)-4)&\"_\"&AG$4,Schedule!$H:$I,2,FALSE),\"\"))))","v":""},{"$f":"IF($A18=\"\",\"\",IF(OR(AH$3=\"Sat\",AH$3=\"Sun\"),\"\",IF(COUNTIF(Holidays!$A:$A,AH$4)>0,\"H\",IFERROR(VLOOKUP((ROW(AH18)-4)&\"_\"&AH$4,Schedule!$H:$I,2,FALSE),\"\"))))","v":""},{"$f":"IF($A18=\"\",\"\",IF(OR(AI$3=\"Sat\",AI$3=\"Sun\"),\"\",IF(COUNTIF(Holidays!$A:$A,AI$4)>0,\"H\",IFERROR(VLOOKUP((ROW(AI18)-4)&\"_\"&AI$4,Schedule!$H:$I,2,FALSE),\"\"))))","v":""},{"$f":"IF($A18=\"\",\"\",IF(OR(AJ$3=\"Sat\",AJ$3=\"Sun\"),\"\",IF(COUNTIF(Holidays!$A:$A,AJ$4)>0,\"H\",IFERROR(VLOOKUP((ROW(AJ18)-4)&\"_\"&AJ$4,Schedule!$H:$I,2,FALSE),\"\"))))","v":""},{"$f":"IF($A18=\"\",\"\",ROUND(SUMIFS(Schedule!$E:$E,Schedule!$A:$A,$A18,Schedule!$D:$D,$AK$3,Schedule!$B:$B,\">=\"&DATE($Q$2,$U$2,1),Schedule!$B:$B,\"<=\"&EOMONTH(DATE($Q$2,$U$2,1),0))/8,2))","v":""},{"$f":"IF($A18=\"\",\"\",ROUND(SUMIFS(Schedule!$E:$E,Schedule!$A:$A,$A18,Schedule!$D:$D,$AK$3,Schedule!$B:$B,\">=\"&DATE($Q$2,1,1),Schedule!$B:$B,\"<=\"&EOMONTH(DATE($Q$2,$U$2,1),0))/8,2))","v":""},{"$f":"IF($A18=\"\",\"\",ROUND(SUMIFS(Schedule!$E:$E,Schedule!$A:$A,$A18,Schedule!$D:$D,$AM$3,Schedule!$B:$B,\">=\"&DATE($Q$2,$U$2,1),Schedule!$B:$B,\"<=\"&EOMONTH(DATE($Q$2,$U$2,1),0))/8,2))","v":""},{"$f":"IF($A18=\"\",\"\",ROUND(SUMIFS(Schedule!$E:$E,Schedule!$A:$A,$A18,Schedule!$D:$D,$AM$3,Schedule!$B:$B,\">=\"&DATE($Q$2,1,1),Schedule!$B:$B,\"<=\"&EOMONTH(DATE($Q$2,$U$2,1),0))/8,2))","v":""}]
[{"$f":"IF(Lookups!A16=\"\",\"\",Lookups!A16)","v":""},{"$f":"IF($A19=\"\",\"\",IF(OR(B$3=\"Sat\",B$3=\"Sun\"),\"\",IF(COUNTIF(Holidays!$A:$A,B$4)>0,\"H\",IFERROR(VLOOKUP((ROW(B19)-4)&\"_\"&B$4,Schedule!$H:$I,2,FALSE),\"\"))))","v":""},{"$f":"IF($A19=\"\",\"\",IF(OR(C$3=\"Sat\",C$3=\"Sun\"),\"\",IF(COUNTIF(Holidays!$A:$A,C$4)>0,\"H\",IFERROR(VLOOKUP((ROW(C19)-4)&\"_\"&C$4,Schedule!$H:$I,2,FALSE),\"\"))))","v":""},{"$f":"IF($A19=\"\",\"\",IF(OR(D$3=\"Sat\",D$3=\"Sun\"),\"\",IF(COUNTIF(Holidays!$A:$A,D$4)>0,\"H\",IFERROR(VLOOKUP((ROW(D19)-4)&\"_\"&D$4,Schedule!$H:$I,2,FALSE),\"\"))))","v":""},{"$f":"IF($A19=\"\",\"\",IF(OR(E$3=\"Sat\",E$3=\"Sun\"),\"\",IF(COUNTIF(Holidays!$A:$A,E$4)>0,\"H\",IFERROR(VLOOKUP((ROW(E19)-4)&\"_\"&E$4,Schedule!$H:$I,2,FALSE),\"\"))))","v":""},{"$f":"IF($A19=\"\",\"\",IF(OR(F$3=\"Sat\",F$3=\"Sun\"),\"\",IF(COUNTIF(Holidays!$A:$A,F$4)>0,\"H\",IFERROR(VLOOKUP((ROW(F19)-4)&\"_\"&F$4,Schedule!$H:$I,2,FALSE),\"\"))))","v":""},{"$f":"IF($A19=\"\",\"\",IF(OR(G$3=\"Sat\",G$3=\"Sun\"),\"\",IF(COUNTIF(Holidays!$A:$A,G$4)>0,\"H\",IFERROR(VLOOKUP((ROW(G19)-4)&\"_\"&G$4,Schedule!$H:$I,2,FALSE),\"\"))))","v":""},{"$f":"IF($A19=\"\",\"\",IF(OR(H$3=\"Sat\",H$3=\"Sun\"),\"\",IF(COUNTIF(Holidays!$A:$A,H$4)>0,\"H\",IFERROR(VLOOKUP((ROW(H19)-4)&\"_\"&H$4,Schedule!$H:$I,2,FALSE),\"\"))))","v":""},{"$f":"IF($A19=\"\",\"\",IF(OR(I$3=\"Sat\",I$3=\"Sun\"),\"\",IF(COUNTIF(Holidays!$A:$A,I$4)>0,\"H\",IFERROR(VLOOKUP((ROW(I19)-4)&\"_\"&I$4,Schedule!$H:$I,2,FALSE),\"\"))))","v":""},{"$f":"IF($A19=\"\",\"\",IF(OR(J$3=\"Sat\",J$3=\"Sun\"),\"\",IF(COUNTIF(Holidays!$A:$A,J$4)>0,\"H\",IFERROR(VLOOKUP((ROW(J19)-4)&\"_\"&J$4,Schedule!$H:$I,2,FALSE),\"\"))))","v":""},{"$f":"IF($A19=\"\",\"\",IF(OR(K$3=\"Sat\",K$3=\"Sun\"),\"\",IF(COUNTIF(Holidays!$A:$A,K$4)>0,\"H\",IFERROR(VLOOKUP((ROW(K19)-4)&\"_\"&K$4,Schedule!$H:$I,2,FALSE),\"\"))))","v":""},{"$f":"IF($A19=\"\",\"\",IF(OR(L$3=\"Sat\",L$3=\"Sun\"),\"\",IF(COUNTIF(Holidays!$A:$A,L$4)>0,\"H\",IFERROR(VLOOKUP((ROW(L19)-4)&\"_\"&L$4,Schedule!$H:$I,2,FALSE),\"\"))))","v":""},{"$f":"IF($A19=\"\",\"\",IF(OR(M$3=\"Sat\",M$3=\"Sun\"),\"\",IF(COUNTIF(Holidays!$A:$A,M$4)>0,\"H\",IFERROR(VLOOKUP((ROW(M19)-4)&\"_\"&M$4,Schedule!$H:$I,2,FALSE),\"\"))))","v":""},{"$f":"IF($A19=\"\",\"\",IF(OR(N$3=\"Sat\",N$3=\"Sun\"),\"\",IF(COUNTIF(Holidays!$A:$A,N$4)>0,\"H\",IFERROR(VLOOKUP((ROW(N19)-4)&\"_\"&N$4,Schedule!$H:$I,2,FALSE),\"\"))))","v":""},{"$f":"IF($A19=\"\",\"\",IF(OR(O$3=\"Sat\",O$3=\"Sun\"),\"\",IF(COUNTIF(Holidays!$A:$A,O$4)>0,\"H\",IFERROR(VLOOKUP((ROW(O19)-4)&\"_\"&O$4,Schedule!$H:$I,2,FALSE),\"\"))))","v":""},{"$f":"IF($A19=\"\",\"\",IF(OR(P$3=\"Sat\",P$3=\"Sun\"),\"\",IF(COUNTIF(Holidays!$A:$A,P$4)>0,\"H\",IFERROR(VLOOKUP((ROW(P19)-4)&\"_\"&P$4,Schedule!$H:$I,2,FALSE),\"\"))))","v":""},{"$f":"IF($A19=\"\",\"\",IF(OR(Q$3=\"Sat\",Q$3=\"Sun\"),\"\",IF(COUNTIF(Holidays!$A:$A,Q$4)>0,\"H\",IFERROR(VLOOKUP((ROW(Q19)-4)&\"_\"&Q$4,Schedule!$H:$I,2,FALSE),\"\"))))","v":""},{"$f":"IF($A19=\"\",\"\",IF(OR(R$3=\"Sat\",R$3=\"Sun\"),\"\",IF(COUNTIF(Holidays!$A:$A,R$4)>0,\"H\",IFERROR(VLOOKUP((ROW(R19)-4)&\"_\"&R$4,Schedule!$H:$I,2,FALSE),\"\"))))","v":""},{"$f":"IF($A19=\"\",\"\",IF(OR(S$3=\"Sat\",S$3=\"Sun\"),\"\",IF(COUNTIF(Holidays!$A:$A,S$4)>0,\"H\",IFERROR(VLOOKUP((ROW(S19)-4)&\"_\"&S$4,Schedule!$H:$I,2,FALSE),\"\"))))","v":""},{"$f":"IF($A19=\"\",\"\",IF(OR(T$3=\"Sat\",T$3=\"Sun\"),\"\",IF(COUNTIF(Holidays!$A:$A,T$4)>0,\"H\",IFERROR(VLOOKUP((ROW(T19)-4)&\"_\"&T$4,Schedule!$H:$I,2,FALSE),\"\"))))","v":""},{"$f":"IF($A19=\"\",\"\",IF(OR(U$3=\"Sat\",U$3=\"Sun\"),\"\",IF(COUNTIF(Holidays!$A:$A,U$4)>0,\"H\",IFERROR(VLOOKUP((ROW(U19)-4)&\"_\"&U$4,Schedule!$H:$I,2,FALSE),\"\"))))","v":""},{"$f":"IF($A19=\"\",\"\",IF(OR(V$3=\"Sat\",V$3=\"Sun\"),\"\",IF(COUNTIF(Holidays!$A:$A,V$4)>0,\"H\",IFERROR(VLOOKUP((ROW(V19)-4)&\"_\"&V$4,Schedule!$H:$I,2,FALSE),\"\"))))","v":""},{"$f":"IF($A19=\"\",\"\",IF(OR(W$3=\"Sat\",W$3=\"Sun\"),\"\",IF(COUNTIF(Holidays!$A:$A,W$4)>0,\"H\",IFERROR(VLOOKUP((ROW(W19)-4)&\"_\"&W$4,Schedule!$H:$I,2,FALSE),\"\"))))","v":""},{"$f":"IF($A19=\"\",\"\",IF(OR(X$3=\"Sat\",X$3=\"Sun\"),\"\",IF(COUNTIF(Holidays!$A:$A,X$4)>0,\"H\",IFERROR(VLOOKUP((ROW(X19)-4)&\"_\"&X$4,Schedule!$H:$I,2,FALSE),\"\"))))","v":""},{"$f":"IF($A19=\"\",\"\",IF(OR(Y$3=\"Sat\",Y$3=\"Sun\"),\"\",IF(COUNTIF(Holidays!$A:$A,Y$4)>0,\"H\",IFERROR(VLOOKUP((ROW(Y19)-4)&\"_\"&Y$4,Schedule!$H:$I,2,FALSE),\"\"))))","v":""},{"$f":"IF($A19=\"\",\"\",IF(OR(Z$3=\"Sat\",Z$3=\"Sun\"),\"\",IF(COUNTIF(Holidays!$A:$A,Z$4)>0,\"H\",IFERROR(VLOOKUP((ROW(Z19)-4)&\"_\"&Z$4,Schedule!$H:$I,2,FALSE),\"\"))))","v":""},{"$f":"IF($A19=\"\",\"\",IF(OR(AA$3=\"Sat\",AA$3=\"Sun\"),\"\",IF(COUNTIF(Holidays!$A:$A,AA$4)>0,\"H\",IFERROR(VLOOKUP((ROW(AA19)-4)&\"_\"&AA$4,Schedule!$H:$I,2,FALSE),\"\"))))","v":""},{"$f":"IF($A19=\"\",\"\",IF(OR(AB$3=\"Sat\",AB$3=\"Sun\"),\"\",IF(COUNTIF(Holidays!$A:$A,AB$4)>0,\"H\",IFERROR(VLOOKUP((ROW(AB19)-4)&\"_\"&AB$4,Schedule!$H:$I,2,FALSE),\"\"))))","v":""},{"$f":"IF($A19=\"\",\"\",IF(OR(AC$3=\"Sat\",AC$3=\"Sun\"),\"\",IF(COUNTIF(Holidays!$A:$A,AC$4)>0,\"H\",IFERROR(VLOOKUP((ROW(AC19)-4)&\"_\"&AC$4,Schedule!$H:$I,2,FALSE),\"\"))))","v":""},{"$f":"IF($A19=\"\",\"\",IF(OR(AD$3=\"Sat\",AD$3=\"Sun\"),\"\",IF(COUNTIF(Holidays!$A:$A,AD$4)>0,\"H\",IFERROR(VLOOKUP((ROW(AD19)-4)&\"_\"&AD$4,Schedule!$H:$I,2,FALSE),\"\"))))","v":""},{"$f":"IF($A19=\"\",\"\",IF(OR(AE$3=\"Sat\",AE$3=\"Sun\"),\"\",IF(COUNTIF(Holidays!$A:$A,AE$4)>0,\"H\",IFERROR(VLOOKUP((ROW(AE19)-4)&\"_\"&AE$4,Schedule!$H:$I,2,FALSE),\"\"))))","v":""},{"$f":"IF($A19=\"\",\"\",IF(OR(AF$3=\"Sat\",AF$3=\"Sun\"),\"\",IF(COUNTIF(Holidays!$A:$A,AF$4)>0,\"H\",IFERROR(VLOOKUP((ROW(AF19)-4)&\"_\"&AF$4,Schedule!$H:$I,2,FALSE),\"\"))))","v":""},{"$f":"IF($A19=\"\",\"\",IF(OR(AG$3=\"Sat\",AG$3=\"Sun\"),\"\",IF(COUNTIF(Holidays!$A:$A,AG$4)>0,\"H\",IFERROR(VLOOKUP((ROW(AG19)-4)&\"_\"&AG$4,Schedule!$H:$I,2,FALSE),\"\"))))","v":""},{"$f":"IF($A19=\"\",\"\",IF(OR(AH$3=\"Sat\",AH$3=\"Sun\"),\"\",IF(COUNTIF(Holidays!$A:$A,AH$4)>0,\"H\",IFERROR(VLOOKUP((ROW(AH19)-4)&\"_\"&AH$4,Schedule!$H:$I,2,FALSE),\"\"))))","v":""},{"$f":"IF($A19=\"\",\"\",IF(OR(AI$3=\"Sat\",AI$3=\"Sun\"),\"\",IF(COUNTIF(Holidays!$A:$A,AI$4)>0,\"H\",IFERROR(VLOOKUP((ROW(AI19)-4)&\"_\"&AI$4,Schedule!$H:$I,2,FALSE),\"\"))))","v":""},{"$f":"IF($A19=\"\",\"\",IF(OR(AJ$3=\"Sat\",AJ$3=\"Sun\"),\"\",IF(COUNTIF(Holidays!$A:$A,AJ$4)>0,\"H\",IFERROR(VLOOKUP((ROW(AJ19)-4)&\"_\"&AJ$4,Schedule!$H:$I,2,FALSE),\"\"))))","v":""},{"$f":"IF($A19=\"\",\"\",ROUND(SUMIFS(Schedule!$E:$E,Schedule!$A:$A,$A19,Schedule!$D:$D,$AK$3,Schedule!$B:$B,\">=\"&DATE($Q$2,$U$2,1),Schedule!$B:$B,\"<=\"&EOMONTH(DATE($Q$2,$U$2,1),0))/8,2))","v":""},{"$f":"IF($A19=\"\",\"\",ROUND(SUMIFS(Schedule!$E:$E,Schedule!$A:$A,$A19,Schedule!$D:$D,$AK$3,Schedule!$B:$B,\">=\"&DATE($Q$2,1,1),Schedule!$B:$B,\"<=\"&EOMONTH(DATE($Q$2,$U$2,1),0))/8,2))","v":""},{"$f":"IF($A19=\"\",\"\",ROUND(SUMIFS(Schedule!$E:$E,Schedule!$A:$A,$A19,Schedule!$D:$D,$AM$3,Schedule!$B:$B,\">=\"&DATE($Q$2,$U$2,1),Schedule!$B:$B,\"<=\"&EOMONTH(DATE($Q$2,$U$2,1),0))/8,2))","v":""},{"$f":"IF($A19=\"\",\"\",ROUND(SUMIFS(Schedule!$E:$E,Schedule!$A:$A,$A19,Schedule!$D:$D,$AM$3,Schedule!$B:$B,\">=\"&DATE($Q$2,1,1),Schedule!$B:$B,\"<=\"&EOMONTH(DATE($Q$2,$U$2,1),0))/8,2))","v":""}]
[{"$f":"IF(Lookups!A17=\"\",\"\",Lookups!A17)","v":""},{"$f":"IF($A20=\"\",\"\",IF(OR(B$3=\"Sat\",B$3=\"Sun\"),\"\",IF(COUNTIF(Holidays!$A:$A,B$4)>0,\"H\",IFERROR(VLOOKUP((ROW(B20)-4)&\"_\"&B$4,Schedule!$H:$I,2,FALSE),\"\"))))","v":""},{"$f":"IF($A20=\"\",\"\",IF(OR(C$3=\"Sat\",C$3=\"Sun\"),\"\",IF(COUNTIF(Holidays!$A:$A,C$4)>0,\"H\",IFERROR(VLOOKUP((ROW(C20)-4)&\"_\"&C$4,Schedule!$H:$I,2,FALSE),\"\"))))","v":""},{"$f":"IF($A20=\"\",\"\",IF(OR(D$3=\"Sat\",D$3=\"Sun\"),\"\",IF(COUNTIF(Holidays!$A:$A,D$4)>0,\"H\",IFERROR(VLOOKUP((ROW(D20)-4)&\"_\"&D$4,Schedule!$H:$I,2,FALSE),\"\"))))","v":""},{"$f":"IF($A20=\"\",\"\",IF(OR(E$3=\"Sat\",E$3=\"Sun\"),\"\",IF(COUNTIF(Holidays!$A:$A,E$4)>0,\"H\",IFERROR(VLOOKUP((ROW(E20)-4)&\"_\"&E$4,Schedule!$H:$I,2,FALSE),\"\"))))","v":""},{"$f":"IF($A20=\"\",\"\",IF(OR(F$3=\"Sat\",F$3=\"Sun\"),\"\",IF(COUNTIF(Holidays!$A:$A,F$4)>0,\"H\",IFERROR(VLOOKUP((ROW(F20)-4)&\"_\"&F$4,Schedule!$H:$I,2,FALSE),\"\"))))","v":""},{"$f":"IF($A20=\"\",\"\",IF(OR(G$3=\"Sat\",G$3=\"Sun\"),\"\",IF(COUNTIF(Holidays!$A:$A,G$4)>0,\"H\",IFERROR(VLOOKUP((ROW(G20)-4)&\"_\"&G$4,Schedule!$H:$I,2,FALSE),\"\"))))","v":""},{"$f":"IF($A20=\"\",\"\",IF(OR(H$3=\"Sat\",H$3=\"Sun\"),\"\",IF(COUNTIF(Holidays!$A:$A,H$4)>0,\"H\",IFERROR(VLOOKUP((ROW(H20)-4)&\"_\"&H$4,Schedule!$H:$I,2,FALSE),\"\"))))","v":""},{"$f":"IF($A20=\"\",\"\",IF(OR(I$3=\"Sat\",I$3=\"Sun\"),\"\",IF(COUNTIF(Holidays!$A:$A,I$4)>0,\"H\",IFERROR(VLOOKUP((ROW(I20)-4)&\"_\"&I$4,Schedule!$H:$I,2,FALSE),\"\"))))","v":""},{"$f":"IF($A20=\"\",\"\",IF(OR(J$3=\"Sat\",J$3=\"Sun\"),\"\",IF(COUNTIF(Holidays!$A:$A,J$4)>0,\"H\",IFERROR(VLOOKUP((ROW(J20)-4)&\"_\"&J$4,Schedule!$H:$I,2,FALSE),\"\"))))","v":""},{"$f":"IF($A20=\"\",\"\",IF(OR(K$3=\"Sat\",K$3=\"Sun\"),\"\",IF(COUNTIF(Holidays!$A:$A,K$4)>0,\"H\",IFERROR(VLOOKUP((ROW(K20)-4)&\"_\"&K$4,Schedule!$H:$I,2,FALSE),\"\"))))","v":""},{"$f":"IF($A20=\"\",\"\",IF(OR(L$3=\"Sat\",L$3=\"Sun\"),\"\",IF(COUNTIF(Holidays!$A:$A,L$4)>0,\"H\",IFERROR(VLOOKUP((ROW(L20)-4)&\"_\"&L$4,Schedule!$H:$I,2,FALSE),\"\"))))","v":""},{"$f":"IF($A20=\"\",\"\",IF(OR(M$3=\"Sat\",M$3=\"Sun\"),\"\",IF(COUNTIF(Holidays!$A:$A,M$4)>0,\"H\",IFERROR(VLOOKUP((ROW(M20)-4)&\"_\"&M$4,Schedule!$H:$I,2,FALSE),\"\"))))","v":""},{"$f":"IF($A20=\"\",\"\",IF(OR(N$3=\"Sat\",N$3=\"Sun\"),\"\",IF(COUNTIF(Holidays!$A:$A,N$4)>0,\"H\",IFERROR(VLOOKUP((ROW(N20)-4)&\"_\"&N$4,Schedule!$H:$I,2,FALSE),\"\"))))","v":""},{"$f":"IF($A20=\"\",\"\",IF(OR(O$3=\"Sat\",O$3=\"Sun\"),\"\",IF(COUNTIF(Holidays!$A:$A,O$4)>0,\"H\",IFERROR(VLOOKUP((ROW(O20)-4)&\"_\"&O$4,Schedule!$H:$I,2,FALSE),\"\"))))","v":""},{"$f":"IF($A20=\"\",\"\",IF(OR(P$3=\"Sat\",P$3=\"Sun\"),\"\",IF(COUNTIF(Holidays!$A:$A,P$4)>0,\"H\",IFERROR(VLOOKUP((ROW(P20)-4)&\"_\"&P$4,Schedule!$H:$I,2,FALSE),\"\"))))","v":""},{"$f":"IF($A20=\"\",\"\",IF(OR(Q$3=\"Sat\",Q$3=\"Sun\"),\"\",IF(COUNTIF(Holidays!$A:$A,Q$4)>0,\"H\",IFERROR(VLOOKUP((ROW(Q20)-4)&\"_\"&Q$4,Schedule!$H:$I,2,FALSE),\"\"))))","v":""},{"$f":"IF($A20=\"\",\"\",IF(OR(R$3=\"Sat\",R$3=\"Sun\"),\"\",IF(COUNTIF(Holidays!$A:$A,R$4)>0,\"H\",IFERROR(VLOOKUP((ROW(R20)-4)&\"_\"&R$4,Schedule!$H:$I,2,FALSE),\"\"))))","v":""},{"$f":"IF($A20=\"\",\"\",IF(OR(S$3=\"Sat\",S$3=\"Sun\"),\"\",IF(COUNTIF(Holidays!$A:$A,S$4)>0,\"H\",IFERROR(VLOOKUP((ROW(S20)-4)&\"_\"&S$4,Schedule!$H:$I,2,FALSE),\"\"))))","v":""},{"$f":"IF($A20=\"\",\"\",IF(OR(T$3=\"Sat\",T$3=\"Sun\"),\"\",IF(COUNTIF(Holidays!$A:$A,T$4)>0,\"H\",IFERROR(VLOOKUP((ROW(T20)-4)&\"_\"&T$4,Schedule!$H:$I,2,FALSE),\"\"))))","v":""},{"$f":"IF($A20=\"\",\"\",IF(OR(U$3=\"Sat\",U$3=\"Sun\"),\"\",IF(COUNTIF(Holidays!$A:$A,U$4)>0,\"H\",IFERROR(VLOOKUP((ROW(U20)-4)&\"_\"&U$4,Schedule!$H:$I,2,FALSE),\"\"))))","v":""},{"$f":"IF($A20=\"\",\"\",IF(OR(V$3=\"Sat\",V$3=\"Sun\"),\"\",IF(COUNTIF(Holidays!$A:$A,V$4)>0,\"H\",IFERROR(VLOOKUP((ROW(V20)-4)&\"_\"&V$4,Schedule!$H:$I,2,FALSE),\"\"))))","v":""},{"$f":"IF($A20=\"\",\"\",IF(OR(W$3=\"Sat\",W$3=\"Sun\"),\"\",IF(COUNTIF(Holidays!$A:$A,W$4)>0,\"H\",IFERROR(VLOOKUP((ROW(W20)-4)&\"_\"&W$4,Schedule!$H:$I,2,FALSE),\"\"))))","v":""},{"$f":"IF($A20=\"\",\"\",IF(OR(X$3=\"Sat\",X$3=\"Sun\"),\"\",IF(COUNTIF(Holidays!$A:$A,X$4)>0,\"H\",IFERROR(VLOOKUP((ROW(X20)-4)&\"_\"&X$4,Schedule!$H:$I,2,FALSE),\"\"))))","v":""},{"$f":"IF($A20=\"\",\"\",IF(OR(Y$3=\"Sat\",Y$3=\"Sun\"),\"\",IF(COUNTIF(Holidays!$A:$A,Y$4)>0,\"H\",IFERROR(VLOOKUP((ROW(Y20)-4)&\"_\"&Y$4,Schedule!$H:$I,2,FALSE),\"\"))))","v":""},{"$f":"IF($A20=\"\",\"\",IF(OR(Z$3=\"Sat\",Z$3=\"Sun\"),\"\",IF(COUNTIF(Holidays!$A:$A,Z$4)>0,\"H\",IFERROR(VLOOKUP((ROW(Z20)-4)&\"_\"&Z$4,Schedule!$H:$I,2,FALSE),\"\"))))","v":""},{"$f":"IF($A20=\"\",\"\",IF(OR(AA$3=\"Sat\",AA$3=\"Sun\"),\"\",IF(COUNTIF(Holidays!$A:$A,AA$4)>0,\"H\",IFERROR(VLOOKUP((ROW(AA20)-4)&\"_\"&AA$4,Schedule!$H:$I,2,FALSE),\"\"))))","v":""},{"$f":"IF($A20=\"\",\"\",IF(OR(AB$3=\"Sat\",AB$3=\"Sun\"),\"\",IF(COUNTIF(Holidays!$A:$A,AB$4)>0,\"H\",IFERROR(VLOOKUP((ROW(AB20)-4)&\"_\"&AB$4,Schedule!$H:$I,2,FALSE),\"\"))))","v":""},{"$f":"IF($A20=\"\",\"\",IF(OR(AC$3=\"Sat\",AC$3=\"Sun\"),\"\",IF(COUNTIF(Holidays!$A:$A,AC$4)>0,\"H\",IFERROR(VLOOKUP((ROW(AC20)-4)&\"_\"&AC$4,Schedule!$H:$I,2,FALSE),\"\"))))","v":""},{"$f":"IF($A20=\"\",\"\",IF(OR(AD$3=\"Sat\",AD$3=\"Sun\"),\"\",IF(COUNTIF(Holidays!$A:$A,AD$4)>0,\"H\",IFERROR(VLOOKUP((ROW(AD20)-4)&\"_\"&AD$4,Schedule!$H:$I,2,FALSE),\"\"))))","v":""},{"$f":"IF($A20=\"\",\"\",IF(OR(AE$3=\"Sat\",AE$3=\"Sun\"),\"\",IF(COUNTIF(Holidays!$A:$A,AE$4)>0,\"H\",IFERROR(VLOOKUP((ROW(AE20)-4)&\"_\"&AE$4,Schedule!$H:$I,2,FALSE),\"\"))))","v":""},{"$f":"IF($A20=\"\",\"\",IF(OR(AF$3=\"Sat\",AF$3=\"Sun\"),\"\",IF(COUNTIF(Holidays!$A:$A,AF$4)>0,\"H\",IFERROR(VLOOKUP((ROW(AF20)-4)&\"_\"&AF$4,Schedule!$H:$I,2,FALSE),\"\"))))","v":""},{"$f":"IF($A20=\"\",\"\",IF(OR(AG$3=\"Sat\",AG$3=\"Sun\"),\"\",IF(COUNTIF(Holidays!$A:$A,AG$4)>0,\"H\",IFERROR(VLOOKUP((ROW(AG20)-4)&\"_\"&AG$4,Schedule!$H:$I,2,FALSE),\"\"))))","v":""},{"$f":"IF($A20=\"\",\"\",IF(OR(AH$3=\"Sat\",AH$3=\"Sun\"),\"\",IF(COUNTIF(Holidays!$A:$A,AH$4)>0,\"H\",IFERROR(VLOOKUP((ROW(AH20)-4)&\"_\"&AH$4,Schedule!$H:$I,2,FALSE),\"\"))))","v":""},{"$f":"IF($A20=\"\",\"\",IF(OR(AI$3=\"Sat\",AI$3=\"Sun\"),\"\",IF(COUNTIF(Holidays!$A:$A,AI$4)>0,\"H\",IFERROR(VLOOKUP((ROW(AI20)-4)&\"_\"&AI$4,Schedule!$H:$I,2,FALSE),\"\"))))","v":""},{"$f":"IF($A20=\"\",\"\",IF(OR(AJ$3=\"Sat\",AJ$3=\"Sun\"),\"\",IF(COUNTIF(Holidays!$A:$A,AJ$4)>0,\"H\",IFERROR(VLOOKUP((ROW(AJ20)-4)&\"_\"&AJ$4,Schedule!$H:$I,2,FALSE),\"\"))))","v":""},{"$f":"IF($A20=\"\",\"\",ROUND(SUMIFS(Schedule!$E:$E,Schedule!$A:$A,$A20,Schedule!$D:$D,$AK$3,Schedule!$B:$B,\">=\"&DATE($Q$2,$U$2,1),Schedule!$B:$B,\"<=\"&EOMONTH(DATE($Q$2,$U$2,1),0))/8,2))","v":""},{"$f":"IF($A20=\"\",\"\",ROUND(SUMIFS(Schedule!$E:$E,Schedule!$A:$A,$A20,Schedule!$D:$D,$AK$3,Schedule!$B:$B,\">=\"&DATE($Q$2,1,1),Schedule!$B:$B,\"<=\"&EOMONTH(DATE($Q$2,$U$2,1),0))/8,2))","v":""},{"$f":"IF($A20=\"\",\"\",ROUND(SUMIFS(Schedule!$E:$E,Schedule!$A:$A,$A20,Schedule!$D:$D,$AM$3,Schedule!$B:$B,\">=\"&DATE($Q$2,$U$2,1),Schedule!$B:$B,\"<=\"&EOMONTH(DATE($Q$2,$U$2,1),0))/8,2))","v":""},{"$f":"IF($A20=\"\",\"\",ROUND(SUMIFS(Schedule!$E:$E,Schedule!$A:$A,$A20,Schedule!$D:$D,$AM$3,Schedule!$B:$B,\">=\"&DATE($Q$2,1,1),Schedule!$B:$B,\"<=\"&EOMONTH(DATE($Q$2,$U$2,1),0))/8,2))","v":""}]
[{"$f":"IF(Lookups!A18=\"\",\"\",Lookups!A18)","v":""},{"$f":"IF($A21=\"\",\"\",IF(OR(B$3=\"Sat\",B$3=\"Sun\"),\"\",IF(COUNTIF(Holidays!$A:$A,B$4)>0,\"H\",IFERROR(VLOOKUP((ROW(B21)-4)&\"_\"&B$4,Schedule!$H:$I,2,FALSE),\"\"))))","v":""},{"$f":"IF($A21=\"\",\"\",IF(OR(C$3=\"Sat\",C$3=\"Sun\"),\"\",IF(COUNTIF(Holidays!$A:$A,C$4)>0,\"H\",IFERROR(VLOOKUP((ROW(C21)-4)&\"_\"&C$4,Schedule!$H:$I,2,FALSE),\"\"))))","v":""},{"$f":"IF($A21=\"\",\"\",IF(OR(D$3=\"Sat\",D$3=\"Sun\"),\"\",IF(COUNTIF(Holidays!$A:$A,D$4)>0,\"H\",IFERROR(VLOOKUP((ROW(D21)-4)&\"_\"&D$4,Schedule!$H:$I,2,FALSE),\"\"))))","v":""},{"$f":"IF($A21=\"\",\"\",IF(OR(E$3=\"Sat\",E$3=\"Sun\"),\"\",IF(COUNTIF(Holidays!$A:$A,E$4)>0,\"H\",IFERROR(VLOOKUP((ROW(E21)-4)&\"_\"&E$4,Schedule!$H:$I,2,FALSE),\"\"))))","v":""},{"$f":"IF($A21=\"\",\"\",IF(OR(F$3=\"Sat\",F$3=\"Sun\"),\"\",IF(COUNTIF(Holidays!$A:$A,F$4)>0,\"H\",IFERROR(VLOOKUP((ROW(F21)-4)&\"_\"&F$4,Schedule!$H:$I,2,FALSE),\"\"))))","v":""},{"$f":"IF($A21=\"\",\"\",IF(OR(G$3=\"Sat\",G$3=\"Sun\"),\"\",IF(COUNTIF(Holidays!$A:$A,G$4)>0,\"H\",IFERROR(VLOOKUP((ROW(G21)-4)&\"_\"&G$4,Schedule!$H:$I,2,FALSE),\"\"))))","v":""},{"$f":"IF($A21=\"\",\"\",IF(OR(H$3=\"Sat\",H$3=\"Sun\"),\"\",IF(COUNTIF(Holidays!$A:$A,H$4)>0,\"H\",IFERROR(VLOOKUP((ROW(H21)-4)&\"_\"&H$4,Schedule!$H:$I,2,FALSE),\"\"))))","v":""},{"$f":"IF($A21=\"\",\"\",IF(OR(I$3=\"Sat\",I$3=\"Sun\"),\"\",IF(COUNTIF(Holidays!$A:$A,I$4)>0,\"H\",IFERROR(VLOOKUP((ROW(I21)-4)&\"_\"&I$4,Schedule!$H:$I,2,FALSE),\"\"))))","v":""},{"$f":"IF($A21=\"\",\"\",IF(OR(J$3=\"Sat\",J$3=\"Sun\"),\"\",IF(COUNTIF(Holidays!$A:$A,J$4)>0,\"H\",IFERROR(VLOOKUP((ROW(J21)-4)&\"_\"&J$4,Schedule!$H:$I,2,FALSE),\"\"))))","v":""},{"$f":"IF($A21=\"\",\"\",IF(OR(K$3=\"Sat\",K$3=\"Sun\"),\"\",IF(COUNTIF(Holidays!$A:$A,K$4)>0,\"H\",IFERROR(VLOOKUP((ROW(K21)-4)&\"_\"&K$4,Schedule!$H:$I,2,FALSE),\"\"))))","v":""},{"$f":"IF($A21=\"\",\"\",IF(OR(L$3=\"Sat\",L$3=\"Sun\"),\"\",IF(COUNTIF(Holidays!$A:$A,L$4)>0,\"H\",IFERROR(VLOOKUP((ROW(L21)-4)&\"_\"&L$4,Schedule!$H:$I,2,FALSE),\"\"))))","v":""},{"$f":"IF($A21=\"\",\"\",IF(OR(M$3=\"Sat\",M$3=\"Sun\"),\"\",IF(COUNTIF(Holidays!$A:$A,M$4)>0,\"H\",IFERROR(VLOOKUP((ROW(M21)-4)&\"_\"&M$4,Schedule!$H:$I,2,FALSE),\"\"))))","v":""},{"$f":"IF($A21=\"\",\"\",IF(OR(N$3=\"Sat\",N$3=\"Sun\"),\"\",IF(COUNTIF(Holidays!$A:$A,N$4)>0,\"H\",IFERROR(VLOOKUP((ROW(N21)-4)&\"_\"&N$4,Schedule!$H:$I,2,FALSE),\"\"))))","v":""},{"$f":"IF($A21=\"\",\"\",IF(OR(O$3=\"Sat\",O$3=\"Sun\"),\"\",IF(COUNTIF(Holidays!$A:$A,O$4)>0,\"H\",IFERROR(VLOOKUP((ROW(O21)-4)&\"_\"&O$4,Schedule!$H:$I,2,FALSE),\"\"))))","v":""},{"$f":"IF($A21=\"\",\"\",IF(OR(P$3=\"Sat\",P$3=\"Sun\"),\"\",IF(COUNTIF(Holidays!$A:$A,P$4)>0,\"H\",IFERROR(VLOOKUP((ROW(P21)-4)&\"_\"&P$4,Schedule!$H:$I,2,FALSE),\"\"))))","v":""},{"$f":"IF($A21=\"\",\"\",IF(OR(Q$3=\"Sat\",Q$3=\"Sun\"),\"\",IF(COUNTIF(Holidays!$A:$A,Q$4)>0,\"H\",IFERROR(VLOOKUP((ROW(Q21)-4)&\"_\"&Q$4,Schedule!$H:$I,2,FALSE),\"\"))))","v":""},{"$f":"IF($A21=\"\",\"\",IF(OR(R$3=\"Sat\",R$3=\"Sun\"),\"\",IF(COUNTIF(Holidays!$A:$A,R$4)>0,\"H\",IFERROR(VLOOKUP((ROW(R21)-4)&\"_\"&R$4,Schedule!$H:$I,2,FALSE),\"\"))))","v":""},{"$f":"IF($A21=\"\",\"\",IF(OR(S$3=\"Sat\",S$3=\"Sun\"),\"\",IF(COUNTIF(Holidays!$A:$A,S$4)>0,\"H\",IFERROR(VLOOKUP((ROW(S21)-4)&\"_\"&S$4,Schedule!$H:$I,2,FALSE),\"\"))))","v":""},{"$f":"IF($A21=\"\",\"\",IF(OR(T$3=\"Sat\",T$3=\"Sun\"),\"\",IF(COUNTIF(Holidays!$A:$A,T$4)>0,\"H\",IFERROR(VLOOKUP((ROW(T21)-4)&\"_\"&T$4,Schedule!$H:$I,2,FALSE),\"\"))))","v":""},{"$f":"IF($A21=\"\",\"\",IF(OR(U$3=\"Sat\",U$3=\"Sun\"),\"\",IF(COUNTIF(Holidays!$A:$A,U$4)>0,\"H\",IFERROR(VLOOKUP((ROW(U21)-4)&\"_\"&U$4,Schedule!$H:$I,2,FALSE),\"\"))))","v":""},{"$f":"IF($A21=\"\",\"\",IF(OR(V$3=\"Sat\",V$3=\"Sun\"),\"\",IF(COUNTIF(Holidays!$A:$A,V$4)>0,\"H\",IFERROR(VLOOKUP((ROW(V21)-4)&\"_\"&V$4,Schedule!$H:$I,2,FALSE),\"\"))))","v":""},{"$f":"IF($A21=\"\",\"\",IF(OR(W$3=\"Sat\",W$3=\"Sun\"),\"\",IF(COUNTIF(Holidays!$A:$A,W$4)>0,\"H\",IFERROR(VLOOKUP((ROW(W21)-4)&\"_\"&W$4,Schedule!$H:$I,2,FALSE),\"\"))))","v":""},{"$f":"IF($A21=\"\",\"\",IF(OR(X$3=\"Sat\",X$3=\"Sun\"),\"\",IF(COUNTIF(Holidays!$A:$A,X$4)>0,\"H\",IFERROR(VLOOKUP((ROW(X21)-4)&\"_\"&X$4,Schedule!$H:$I,2,FALSE),\"\"))))","v":""},{"$f":"IF($A21=\"\",\"\",IF(OR(Y$3=\"Sat\",Y$3=\"Sun\"),\"\",IF(COUNTIF(Holidays!$A:$A,Y$4)>0,\"H\",IFERROR(VLOOKUP((ROW(Y21)-4)&\"_\"&Y$4,Schedule!$H:$I,2,FALSE),\"\"))))","v":""},{"$f":"IF($A21=\"\",\"\",IF(OR(Z$3=\"Sat\",Z$3=\"Sun\"),\"\",IF(COUNTIF(Holidays!$A:$A,Z$4)>0,\"H\",IFERROR(VLOOKUP((ROW(Z21)-4)&\"_\"&Z$4,Schedule!$H:$I,2,FALSE),\"\"))))","v":""},{"$f":"IF($A21=\"\",\"\",IF(OR(AA$3=\"Sat\",AA$3=\"Sun\"),\"\",IF(COUNTIF(Holidays!$A:$A,AA$4)>0,\"H\",IFERROR(VLOOKUP((ROW(AA21)-4)&\"_\"&AA$4,Schedule!$H:$I,2,FALSE),\"\"))))","v":""},{"$f":"IF($A21=\"\",\"\",IF(OR(AB$3=\"Sat\",AB$3=\"Sun\"),\"\",IF(COUNTIF(Holidays!$A:$A,AB$4)>0,\"H\",IFERROR(VLOOKUP((ROW(AB21)-4)&\"_\"&AB$4,Schedule!$H:$I,2,FALSE),\"\"))))","v":""},{"$f":"IF($A21=\"\",\"\",IF(OR(AC$3=\"Sat\",AC$3=\"Sun\"),\"\",IF(COUNTIF(Holidays!$A:$A,AC$4)>0,\"H\",IFERROR(VLOOKUP((ROW(AC21)-4)&\"_\"&AC$4,Schedule!$H:$I,2,FALSE),\"\"))))","v":""},{"$f":"IF($A21=\"\",\"\",IF(OR(AD$3=\"Sat\",AD$3=\"Sun\"),\"\",IF(COUNTIF(Holidays!$A:$A,AD$4)>0,\"H\",IFERROR(VLOOKUP((ROW(AD21)-4)&\"_\"&AD$4,Schedule!$H:$I,2,FALSE),\"\"))))","v":""},{"$f":"IF($A21=\"\",\"\",IF(OR(AE$3=\"Sat\",AE$3=\"Sun\"),\"\",IF(COUNTIF(Holidays!$A:$A,AE$4)>0,\"H\",IFERROR(VLOOKUP((ROW(AE21)-4)&\"_\"&AE$4,Schedule!$H:$I,2,FALSE),\"\"))))","v":""},{"$f":"IF($A21=\"\",\"\",IF(OR(AF$3=\"Sat\",AF$3=\"Sun\"),\"\",IF(COUNTIF(Holidays!$A:$A,AF$4)>0,\"H\",IFERROR(VLOOKUP((ROW(AF21)-4)&\"_\"&AF$4,Schedule!$H:$I,2,FALSE),\"\"))))","v":""},{"$f":"IF($A21=\"\",\"\",IF(OR(AG$3=\"Sat\",AG$3=\"Sun\"),\"\",IF(COUNTIF(Holidays!$A:$A,AG$4)>0,\"H\",IFERROR(VLOOKUP((ROW(AG21)-4)&\"_\"&AG$4,Schedule!$H:$I,2,FALSE),\"\"))))","v":""},{"$f":"IF($A21=\"\",\"\",IF(OR(AH$3=\"Sat\",AH$3=\"Sun\"),\"\",IF(COUNTIF(Holidays!$A:$A,AH$4)>0,\"H\",IFERROR(VLOOKUP((ROW(AH21)-4)&\"_\"&AH$4,Schedule!$H:$I,2,FALSE),\"\"))))","v":""},{"$f":"IF($A21=\"\",\"\",IF(OR(AI$3=\"Sat\",AI$3=\"Sun\"),\"\",IF(COUNTIF(Holidays!$A:$A,AI$4)>0,\"H\",IFERROR(VLOOKUP((ROW(AI21)-4)&\"_\"&AI$4,Schedule!$H:$I,2,FALSE),\"\"))))","v":""},{"$f":"IF($A21=\"\",\"\",IF(OR(AJ$3=\"Sat\",AJ$3=\"Sun\"),\"\",IF(COUNTIF(Holidays!$A:$A,AJ$4)>0,\"H\",IFERROR(VLOOKUP((ROW(AJ21)-4)&\"_\"&AJ$4,Schedule!$H:$I,2,FALSE),\"\"))))","v":""},{"$f":"IF($A21=\"\",\"\",ROUND(SUMIFS(Schedule!$E:$E,Schedule!$A:$A,$A21,Schedule!$D:$D,$AK$3,Schedule!$B:$B,\">=\"&DATE($Q$2,$U$2,1),Schedule!$B:$B,\"<=\"&EOMONTH(DATE($Q$2,$U$2,1),0))/8,2))","v":""},{"$f":"IF($A21=\"\",\"\",ROUND(SUMIFS(Schedule!$E:$E,Schedule!$A:$A,$A21,Schedule!$D:$D,$AK$3,Schedule!$B:$B,\">=\"&DATE($Q$2,1,1),Schedule!$B:$B,\"<=\"&EOMONTH(DATE($Q$2,$U$2,1),0))/8,2))","v":""},{"$f":"IF($A21=\"\",\"\",ROUND(SUMIFS(Schedule!$E:$E,Schedule!$A:$A,$A21,Schedule!$D:$D,$AM$3,Schedule!$B:$B,\">=\"&DATE($Q$2,$U$2,1),Schedule!$B:$B,\"<=\"&EOMONTH(DATE($Q$2,$U$2,1),0))/8,2))","v":""},{"$f":"IF($A21=\"\",\"\",ROUND(SUMIFS(Schedule!$E:$E,Schedule!$A:$A,$A21,Schedule!$D:$D,$AM$3,Schedule!$B:$B,\">=\"&DATE($Q$2,1,1),Schedule!$B:$B,\"<=\"&EOMONTH(DATE($Q$2,$U$2,1),0))/8,2))","v":""}]
[{"$f":"IF(Lookups!A19=\"\",\"\",Lookups!A19)","v":""},{"$f":"IF($A22=\"\",\"\",IF(OR(B$3=\"Sat\",B$3=\"Sun\"),\"\",IF(COUNTIF(Holidays!$A:$A,B$4)>0,\"H\",IFERROR(VLOOKUP((ROW(B22)-4)&\"_\"&B$4,Schedule!$H:$I,2,FALSE),\"\"))))","v":""},{"$f":"IF($A22=\"\",\"\",IF(OR(C$3=\"Sat\",C$3=\"Sun\"),\"\",IF(COUNTIF(Holidays!$A:$A,C$4)>0,\"H\",IFERROR(VLOOKUP((ROW(C22)-4)&\"_\"&C$4,Schedule!$H:$I,2,FALSE),\"\"))))","v":""},{"$f":"IF($A22=\"\",\"\",IF(OR(D$3=\"Sat\",D$3=\"Sun\"),\"\",IF(COUNTIF(Holidays!$A:$A,D$4)>0,\"H\",IFERROR(VLOOKUP((ROW(D22)-4)&\"_\"&D$4,Schedule!$H:$I,2,FALSE),\"\"))))","v":""},{"$f":"IF($A22=\"\",\"\",IF(OR(E$3=\"Sat\",E$3=\"Sun\"),\"\",IF(COUNTIF(Holidays!$A:$A,E$4)>0,\"H\",IFERROR(VLOOKUP((ROW(E22)-4)&\"_\"&E$4,Schedule!$H:$I,2,FALSE),\"\"))))","v":""},{"$f":"IF($A22=\"\",\"\",IF(OR(F$3=\"Sat\",F$3=\"Sun\"),\"\",IF(COUNTIF(Holidays!$A:$A,F$4)>0,\"H\",IFERROR(VLOOKUP((ROW(F22)-4)&\"_\"&F$4,Schedule!$H:$I,2,FALSE),\"\"))))","v":""},{"$f":"IF($A22=\"\",\"\",IF(OR(G$3=\"Sat\",G$3=\"Sun\"),\"\",IF(COUNTIF(Holidays!$A:$A,G$4)>0,\"H\",IFERROR(VLOOKUP((ROW(G22)-4)&\"_\"&G$4,Schedule!$H:$I,2,FALSE),\"\"))))","v":""},{"$f":"IF($A22=\"\",\"\",IF(OR(H$3=\"Sat\",H$3=\"Sun\"),\"\",IF(COUNTIF(Holidays!$A:$A,H$4)>0,\"H\",IFERROR(VLOOKUP((ROW(H22)-4)&\"_\"&H$4,Schedule!$H:$I,2,FALSE),\"\"))))","v":""},{"$f":"IF($A22=\"\",\"\",IF(OR(I$3=\"Sat\",I$3=\"Sun\"),\"\",IF(COUNTIF(Holidays!$A:$A,I$4)>0,\"H\",IFERROR(VLOOKUP((ROW(I22)-4)&\"_\"&I$4,Schedule!$H:$I,2,FALSE),\"\"))))","v":""},{"$f":"IF($A22=\"\",\"\",IF(OR(J$3=\"Sat\",J$3=\"Sun\"),\"\",IF(COUNTIF(Holidays!$A:$A,J$4)>0,\"H\",IFERROR(VLOOKUP((ROW(J22)-4)&\"_\"&J$4,Schedule!$H:$I,2,FALSE),\"\"))))","v":""},{"$f":"IF($A22=\"\",\"\",IF(OR(K$3=\"Sat\",K$3=\"Sun\"),\"\",IF(COUNTIF(Holidays!$A:$A,K$4)>0,\"H\",IFERROR(VLOOKUP((ROW(K22)-4)&\"_\"&K$4,Schedule!$H:$I,2,FALSE),\"\"))))","v":""},{"$f":"IF($A22=\"\",\"\",IF(OR(L$3=\"Sat\",L$3=\"Sun\"),\"\",IF(COUNTIF(Holidays!$A:$A,L$4)>0,\"H\",IFERROR(VLOOKUP((ROW(L22)-4)&\"_\"&L$4,Schedule!$H:$I,2,FALSE),\"\"))))","v":""},{"$f":"IF($A22=\"\",\"\",IF(OR(M$3=\"Sat\",M$3=\"Sun\"),\"\",IF(COUNTIF(Holidays!$A:$A,M$4)>0,\"H\",IFERROR(VLOOKUP((ROW(M22)-4)&\"_\"&M$4,Schedule!$H:$I,2,FALSE),\"\"))))","v":""},{"$f":"IF($A22=\"\",\"\",IF(OR(N$3=\"Sat\",N$3=\"Sun\"),\"\",IF(COUNTIF(Holidays!$A:$A,N$4)>0,\"H\",IFERROR(VLOOKUP((ROW(N22)-4)&\"_\"&N$4,Schedule!$H:$I,2,FALSE),\"\"))))","v":""},{"$f":"IF($A22=\"\",\"\",IF(OR(O$3=\"Sat\",O$3=\"Sun\"),\"\",IF(COUNTIF(Holidays!$A:$A,O$4)>0,\"H\",IFERROR(VLOOKUP((ROW(O22)-4)&\"_\"&O$4,Schedule!$H:$I,2,FALSE),\"\"))))","v":""},{"$f":"IF($A22=\"\",\"\",IF(OR(P$3=\"Sat\",P$3=\"Sun\"),\"\",IF(COUNTIF(Holidays!$A:$A,P$4)>0,\"H\",IFERROR(VLOOKUP((ROW(P22)-4)&\"_\"&P$4,Schedule!$H:$I,2,FALSE),\"\"))))","v":""},{"$f":"IF($A22=\"\",\"\",IF(OR(Q$3=\"Sat\",Q$3=\"Sun\"),\"\",IF(COUNTIF(Holidays!$A:$A,Q$4)>0,\"H\",IFERROR(VLOOKUP((ROW(Q22)-4)&\"_\"&Q$4,Schedule!$H:$I,2,FALSE),\"\"))))","v":""},{"$f":"IF($A22=\"\",\"\",IF(OR(R$3=\"Sat\",R$3=\"Sun\"),\"\",IF(COUNTIF(Holidays!$A:$A,R$4)>0,\"H\",IFERROR(VLOOKUP((ROW(R22)-4)&\"_\"&R$4,Schedule!$H:$I,2,FALSE),\"\"))))","v":""},{"$f":"IF($A22=\"\",\"\",IF(OR(S$3=\"Sat\",S$3=\"Sun\"),\"\",IF(COUNTIF(Holidays!$A:$A,S$4)>0,\"H\",IFERROR(VLOOKUP((ROW(S22)-4)&\"_\"&S$4,Schedule!$H:$I,2,FALSE),\"\"))))","v":""},{"$f":"IF($A22=\"\",\"\",IF(OR(T$3=\"Sat\",T$3=\"Sun\"),\"\",IF(COUNTIF(Holidays!$A:$A,T$4)>0,\"H\",IFERROR(VLOOKUP((ROW(T22)-4)&\"_\"&T$4,Schedule!$H:$I,2,FALSE),\"\"))))","v":""},{"$f":"IF($A22=\"\",\"\",IF(OR(U$3=\"Sat\",U$3=\"Sun\"),\"\",IF(COUNTIF(Holidays!$A:$A,U$4)>0,\"H\",IFERROR(VLOOKUP((ROW(U22)-4)&\"_\"&U$4,Schedule!$H:$I,2,FALSE),\"\"))))","v":""},{"$f":"IF($A22=\"\",\"\",IF(OR(V$3=\"Sat\",V$3=\"Sun\"),\"\",IF(COUNTIF(Holidays!$A:$A,V$4)>0,\"H\",IFERROR(VLOOKUP((ROW(V22)-4)&\"_\"&V$4,Schedule!$H:$I,2,FALSE),\"\"))))","v":""},{"$f":"IF($A22=\"\",\"\",IF(OR(W$3=\"Sat\",W$3=\"Sun\"),\"\",IF(COUNTIF(Holidays!$A:$A,W$4)>0,\"H\",IFERROR(VLOOKUP((ROW(W22)-4)&\"_\"&W$4,Schedule!$H:$I,2,FALSE),\"\"))))","v":""},{"$f":"IF($A22=\"\",\"\",IF(OR(X$3=\"Sat\",X$3=\"Sun\"),\"\",IF(COUNTIF(Holidays!$A:$A,X$4)>0,\"H\",IFERROR(VLOOKUP((ROW(X22)-4)&\"_\"&X$4,Schedule!$H:$I,2,FALSE),\"\"))))","v":""},{"$f":"IF($A22=\"\",\"\",IF(OR(Y$3=\"Sat\",Y$3=\"Sun\"),\"\",IF(COUNTIF(Holidays!$A:$A,Y$4)>0,\"H\",IFERROR(VLOOKUP((ROW(Y22)-4)&\"_\"&Y$4,Schedule!$H:$I,2,FALSE),\"\"))))","v":""},{"$f":"IF($A22=\"\",\"\",IF(OR(Z$3=\"Sat\",Z$3=\"Sun\"),\"\",IF(COUNTIF(Holidays!$A:$A,Z$4)>0,\"H\",IFERROR(VLOOKUP((ROW(Z22)-4)&\"_\"&Z$4,Schedule!$H:$I,2,FALSE),\"\"))))","v":""},{"$f":"IF($A22=\"\",\"\",IF(OR(AA$3=\"Sat\",AA$3=\"Sun\"),\"\",IF(COUNTIF(Holidays!$A:$A,AA$4)>0,\"H\",IFERROR(VLOOKUP((ROW(AA22)-4)&\"_\"&AA$4,Schedule!$H:$I,2,FALSE),\"\"))))","v":""},{"$f":"IF($A22=\"\",\"\",IF(OR(AB$3=\"Sat\",AB$3=\"Sun\"),\"\",IF(COUNTIF(Holidays!$A:$A,AB$4)>0,\"H\",IFERROR(VLOOKUP((ROW(AB22)-4)&\"_\"&AB$4,Schedule!$H:$I,2,FALSE),\"\"))))","v":""},{"$f":"IF($A22=\"\",\"\",IF(OR(AC$3=\"Sat\",AC$3=\"Sun\"),\"\",IF(COUNTIF(Holidays!$A:$A,AC$4)>0,\"H\",IFERROR(VLOOKUP((ROW(AC22)-4)&\"_\"&AC$4,Schedule!$H:$I,2,FALSE),\"\"))))","v":""},{"$f":"IF($A22=\"\",\"\",IF(OR(AD$3=\"Sat\",AD$3=\"Sun\"),\"\",IF(COUNTIF(Holidays!$A:$A,AD$4)>0,\"H\",IFERROR(VLOOKUP((ROW(AD22)-4)&\"_\"&AD$4,Schedule!$H:$I,2,FALSE),\"\"))))","v":""},{"$f":"IF($A22=\"\",\"\",IF(OR(AE$3=\"Sat\",AE$3=\"Sun\"),\"\",IF(COUNTIF(Holidays!$A:$A,AE$4)>0,\"H\",IFERROR(VLOOKUP((ROW(AE22)-4)&\"_\"&AE$4,Schedule!$H:$I,2,FALSE),\"\"))))","v":""},{"$f":"IF($A22=\"\",\"\",IF(OR(AF$3=\"Sat\",AF$3=\"Sun\"),\"\",IF(COUNTIF(Holidays!$A:$A,AF$4)>0,\"H\",IFERROR(VLOOKUP((ROW(AF22)-4)&\"_\"&AF$4,Schedule!$H:$I,2,FALSE),\"\"))))","v":""},{"$f":"IF($A22=\"\",\"\",IF(OR(AG$3=\"Sat\",AG$3=\"Sun\"),\"\",IF(COUNTIF(Holidays!$A:$A,AG$4)>0,\"H\",IFERROR(VLOOKUP((ROW(AG22)-4)&\"_\"&AG$4,Schedule!$H:$I,2,FALSE),\"\"))))","v":""},{"$f":"IF($A22=\"\",\"\",IF(OR(AH$3=\"Sat\",AH$3=\"Sun\"),\"\",IF(COUNTIF(Holidays!$A:$A,AH$4)>0,\"H\",IFERROR(VLOOKUP((ROW(AH22)-4)&\"_\"&AH$4,Schedule!$H:$I,2,FALSE),\"\"))))","v":""},{"$f":"IF($A22=\"\",\"\",IF(OR(AI$3=\"Sat\",AI$3=\"Sun\"),\"\",IF(COUNTIF(Holidays!$A:$A,AI$4)>0,\"H\",IFERROR(VLOOKUP((ROW(AI22)-4)&\"_\"&AI$4,Schedule!$H:$I,2,FALSE),\"\"))))","v":""},{"$f":"IF($A22=\"\",\"\",IF(OR(AJ$3=\"Sat\",AJ$3=\"Sun\"),\"\",IF(COUNTIF(Holidays!$A:$A,AJ$4)>0,\"H\",IFERROR(VLOOKUP((ROW(AJ22)-4)&\"_\"&AJ$4,Schedule!$H:$I,2,FALSE),\"\"))))","v":""},{"$f":"IF($A22=\"\",\"\",ROUND(SUMIFS(Schedule!$E:$E,Schedule!$A:$A,$A22,Schedule!$D:$D,$AK$3,Schedule!$B:$B,\">=\"&DATE($Q$2,$U$2,1),Schedule!$B:$B,\"<=\"&EOMONTH(DATE($Q$2,$U$2,1),0))/8,2))","v":""},{"$f":"IF($A22=\"\",\"\",ROUND(SUMIFS(Schedule!$E:$E,Schedule!$A:$A,$A22,Schedule!$D:$D,$AK$3,Schedule!$B:$B,\">=\"&DATE($Q$2,1,1),Schedule!$B:$B,\"<=\"&EOMONTH(DATE($Q$2,$U$2,1),0))/8,2))","v":""},{"$f":"IF($A22=\"\",\"\",ROUND(SUMIFS(Schedule!$E:$E,Schedule!$A:$A,$A22,Schedule!$D:$D,$AM$3,Schedule!$B:$B,\">=\"&DATE($Q$2,$U$2,1),Schedule!$B:$B,\"<=\"&EOMONTH(DATE($Q$2,$U$2,1),0))/8,2))","v":""},{"$f":"IF($A22=\"\",\"\",ROUND(SUMIFS(Schedule!$E:$E,Schedule!$A:$A,$A22,Schedule!$D:$D,$AM$3,Schedule!$B:$B,\">=\"&DATE($Q$2,1,1),Schedule!$B:$B,\"<=\"&EOMONTH(DATE($Q$2,$U$2,1),0))/8,2))","v":""}]
[{"$f":"IF(Lookups!A20=\"\",\"\",Lookups!A20)","v":""},{"$f":"IF($A23=\"\",\"\",IF(OR(B$3=\"Sat\",B$3=\"Sun\"),\"\",IF(COUNTIF(Holidays!$A:$A,B$4)>0,\"H\",IFERROR(VLOOKUP((ROW(B23)-4)&\"_\"&B$4,Schedule!$H:$I,2,FALSE),\"\"))))","v":""},{"$f":"IF($A23=\"\",\"\",IF(OR(C$3=\"Sat\",C$3=\"Sun\"),\"\",IF(COUNTIF(Holidays!$A:$A,C$4)>0,\"H\",IFERROR(VLOOKUP((ROW(C23)-4)&\"_\"&C$4,Schedule!$H:$I,2,FALSE),\"\"))))","v":""},{"$f":"IF($A23=\"\",\"\",IF(OR(D$3=\"Sat\",D$3=\"Sun\"),\"\",IF(COUNTIF(Holidays!$A:$A,D$4)>0,\"H\",IFERROR(VLOOKUP((ROW(D23)-4)&\"_\"&D$4,Schedule!$H:$I,2,FALSE),\"\"))))","v":""},{"$f":"IF($A23=\"\",\"\",IF(OR(E$3=\"Sat\",E$3=\"Sun\"),\"\",IF(COUNTIF(Holidays!$A:$A,E$4)>0,\"H\",IFERROR(VLOOKUP((ROW(E23)-4)&\"_\"&E$4,Schedule!$H:$I,2,FALSE),\"\"))))","v":""},{"$f":"IF($A23=\"\",\"\",IF(OR(F$3=\"Sat\",F$3=\"Sun\"),\"\",IF(COUNTIF(Holidays!$A:$A,F$4)>0,\"H\",IFERROR(VLOOKUP((ROW(F23)-4)&\"_\"&F$4,Schedule!$H:$I,2,FALSE),\"\"))))","v":""},{"$f":"IF($A23=\"\",\"\",IF(OR(G$3=\"Sat\",G$3=\"Sun\"),\"\",IF(COUNTIF(Holidays!$A:$A,G$4)>0,\"H\",IFERROR(VLOOKUP((ROW(G23)-4)&\"_\"&G$4,Schedule!$H:$I,2,FALSE),\"\"))))","v":""},{"$f":"IF($A23=\"\",\"\",IF(OR(H$3=\"Sat\",H$3=\"Sun\"),\"\",IF(COUNTIF(Holidays!$A:$A,H$4)>0,\"H\",IFERROR(VLOOKUP((ROW(H23)-4)&\"_\"&H$4,Schedule!$H:$I,2,FALSE),\"\"))))","v":""},{"$f":"IF($A23=\"\",\"\",IF(OR(I$3=\"Sat\",I$3=\"Sun\"),\"\",IF(COUNTIF(Holidays!$A:$A,I$4)>0,\"H\",IFERROR(VLOOKUP((ROW(I23)-4)&\"_\"&I$4,Schedule!$H:$I,2,FALSE),\"\"))))","v":""},{"$f":"IF($A23=\"\",\"\",IF(OR(J$3=\"Sat\",J$3=\"Sun\"),\"\",IF(COUNTIF(Holidays!$A:$A,J$4)>0,\"H\",IFERROR(VLOOKUP((ROW(J23)-4)&\"_\"&J$4,Schedule!$H:$I,2,FALSE),\"\"))))","v":""},{"$f":"IF($A23=\"\",\"\",IF(OR(K$3=\"Sat\",K$3=\"Sun\"),\"\",IF(COUNTIF(Holidays!$A:$A,K$4)>0,\"H\",IFERROR(VLOOKUP((ROW(K23)-4)&\"_\"&K$4,Schedule!$H:$I,2,FALSE),\"\"))))","v":""},{"$f":"IF($A23=\"\",\"\",IF(OR(L$3=\"Sat\",L$3=\"Sun\"),\"\",IF(COUNTIF(Holidays!$A:$A,L$4)>0,\"H\",IFERROR(VLOOKUP((ROW(L23)-4)&\"_\"&L$4,Schedule!$H:$I,2,FALSE),\"\"))))","v":""},{"$f":"IF($A23=\"\",\"\",IF(OR(M$3=\"Sat\",M$3=\"Sun\"),\"\",IF(COUNTIF(Holidays!$A:$A,M$4)>0,\"H\",IFERROR(VLOOKUP((ROW(M23)-4)&\"_\"&M$4,Schedule!$H:$I,2,FALSE),\"\"))))","v":""},{"$f":"IF($A23=\"\",\"\",IF(OR(N$3=\"Sat\",N$3=\"Sun\"),\"\",IF(COUNTIF(Holidays!$A:$A,N$4)>0,\"H\",IFERROR(VLOOKUP((ROW(N23)-4)&\"_\"&N$4,Schedule!$H:$I,2,FALSE),\"\"))))","v":""},{"$f":"IF($A23=\"\",\"\",IF(OR(O$3=\"Sat\",O$3=\"Sun\"),\"\",IF(COUNTIF(Holidays!$A:$A,O$4)>0,\"H\",IFERROR(VLOOKUP((ROW(O23)-4)&\"_\"&O$4,Schedule!$H:$I,2,FALSE),\"\"))))","v":""},{"$f":"IF($A23=\"\",\"\",IF(OR(P$3=\"Sat\",P$3=\"Sun\"),\"\",IF(COUNTIF(Holidays!$A:$A,P$4)>0,\"H\",IFERROR(VLOOKUP((ROW(P23)-4)&\"_\"&P$4,Schedule!$H:$I,2,FALSE),\"\"))))","v":""},{"$f":"IF($A23=\"\",\"\",IF(OR(Q$3=\"Sat\",Q$3=\"Sun\"),\"\",IF(COUNTIF(Holidays!$A:$A,Q$4)>0,\"H\",IFERROR(VLOOKUP((ROW(Q23)-4)&\"_\"&Q$4,Schedule!$H:$I,2,FALSE),\"\"))))","v":""},{"$f":"IF($A23=\"\",\"\",IF(OR(R$3=\"Sat\",R$3=\"Sun\"),\"\",IF(COUNTIF(Holidays!$A:$A,R$4)>0,\"H\",IFERROR(VLOOKUP((ROW(R23)-4)&\"_\"&R$4,Schedule!$H:$I,2,FALSE),\"\"))))","v":""},{"$f":"IF($A23=\"\",\"\",IF(OR(S$3=\"Sat\",S$3=\"Sun\"),\"\",IF(COUNTIF(Holidays!$A:$A,S$4)>0,\"H\",IFERROR(VLOOKUP((ROW(S23)-4)&\"_\"&S$4,Schedule!$H:$I,2,FALSE),\"\"))))","v":""},{"$f":"IF($A23=\"\",\"\",IF(OR(T$3=\"Sat\",T$3=\"Sun\"),\"\",IF(COUNTIF(Holidays!$A:$A,T$4)>0,\"H\",IFERROR(VLOOKUP((ROW(T23)-4)&\"_\"&T$4,Schedule!$H:$I,2,FALSE),\"\"))))","v":""},{"$f":"IF($A23=\"\",\"\",IF(OR(U$3=\"Sat\",U$3=\"Sun\"),\"\",IF(COUNTIF(Holidays!$A:$A,U$4)>0,\"H\",IFERROR(VLOOKUP((ROW(U23)-4)&\"_\"&U$4,Schedule!$H:$I,2,FALSE),\"\"))))","v":""},{"$f":"IF($A23=\"\",\"\",IF(OR(V$3=\"Sat\",V$3=\"Sun\"),\"\",IF(COUNTIF(Holidays!$A:$A,V$4)>0,\"H\",IFERROR(VLOOKUP((ROW(V23)-4)&\"_\"&V$4,Schedule!$H:$I,2,FALSE),\"\"))))","v":""},{"$f":"IF($A23=\"\",\"\",IF(OR(W$3=\"Sat\",W$3=\"Sun\"),\"\",IF(COUNTIF(Holidays!$A:$A,W$4)>0,\"H\",IFERROR(VLOOKUP((ROW(W23)-4)&\"_\"&W$4,Schedule!$H:$I,2,FALSE),\"\"))))","v":""},{"$f":"IF($A23=\"\",\"\",IF(OR(X$3=\"Sat\",X$3=\"Sun\"),\"\",IF(COUNTIF(Holidays!$A:$A,X$4)>0,\"H\",IFERROR(VLOOKUP((ROW(X23)-4)&\"_\"&X$4,Schedule!$H:$I,2,FALSE),\"\"))))","v":""},{"$f":"IF($A23=\"\",\"\",IF(OR(Y$3=\"Sat\",Y$3=\"Sun\"),\"\",IF(COUNTIF(Holidays!$A:$A,Y$4)>0,\"H\",IFERROR(VLOOKUP((ROW(Y23)-4)&\"_\"&Y$4,Schedule!$H:$I,2,FALSE),\"\"))))","v":""},{"$f":"IF($A23=\"\",\"\",IF(OR(Z$3=\"Sat\",Z$3=\"Sun\"),\"\",IF(COUNTIF(Holidays!$A:$A,Z$4)>0,\"H\",IFERROR(VLOOKUP((ROW(Z23)-4)&\"_\"&Z$4,Schedule!$H:$I,2,FALSE),\"\"))))","v":""},{"$f":"IF($A23=\"\",\"\",IF(OR(AA$3=\"Sat\",AA$3=\"Sun\"),\"\",IF(COUNTIF(Holidays!$A:$A,AA$4)>0,\"H\",IFERROR(VLOOKUP((ROW(AA23)-4)&\"_\"&AA$4,Schedule!$H:$I,2,FALSE),\"\"))))","v":""},{"$f":"IF($A23=\"\",\"\",IF(OR(AB$3=\"Sat\",AB$3=\"Sun\"),\"\",IF(COUNTIF(Holidays!$A:$A,AB$4)>0,\"H\",IFERROR(VLOOKUP((ROW(AB23)-4)&\"_\"&AB$4,Schedule!$H:$I,2,FALSE),\"\"))))","v":""},{"$f":"IF($A23=\"\",\"\",IF(OR(AC$3=\"Sat\",AC$3=\"Sun\"),\"\",IF(COUNTIF(Holidays!$A:$A,AC$4)>0,\"H\",IFERROR(VLOOKUP((ROW(AC23)-4)&\"_\"&AC$4,Schedule!$H:$I,2,FALSE),\"\"))))","v":""},{"$f":"IF($A23=\"\",\"\",IF(OR(AD$3=\"Sat\",AD$3=\"Sun\"),\"\",IF(COUNTIF(Holidays!$A:$A,AD$4)>0,\"H\",IFERROR(VLOOKUP((ROW(AD23)-4)&\"_\"&AD$4,Schedule!$H:$I,2,FALSE),\"\"))))","v":""},{"$f":"IF($A23=\"\",\"\",IF(OR(AE$3=\"Sat\",AE$3=\"Sun\"),\"\",IF(COUNTIF(Holidays!$A:$A,AE$4)>0,\"H\",IFERROR(VLOOKUP((ROW(AE23)-4)&\"_\"&AE$4,Schedule!$H:$I,2,FALSE),\"\"))))","v":""},{"$f":"IF($A23=\"\",\"\",IF(OR(AF$3=\"Sat\",AF$3=\"Sun\"),\"\",IF(COUNTIF(Holidays!$A:$A,AF$4)>0,\"H\",IFERROR(VLOOKUP((ROW(AF23)-4)&\"_\"&AF$4,Schedule!$H:$I,2,FALSE),\"\"))))","v":""},{"$f":"IF($A23=\"\",\"\",IF(OR(AG$3=\"Sat\",AG$3=\"Sun\"),\"\",IF(COUNTIF(Holidays!$A:$A,AG$4)>0,\"H\",IFERROR(VLOOKUP((ROW(AG23)-4)&\"_\"&AG$4,Schedule!$H:$I,2,FALSE),\"\"))))","v":""},{"$f":"IF($A23=\"\",\"\",IF(OR(AH$3=\"Sat\",AH$3=\"Sun\"),\"\",IF(COUNTIF(Holidays!$A:$A,AH$4)>0,\"H\",IFERROR(VLOOKUP((ROW(AH23)-4)&\"_\"&AH$4,Schedule!$H:$I,2,FALSE),\"\"))))","v":""},{"$f":"IF($A23=\"\",\"\",IF(OR(AI$3=\"Sat\",AI$3=\"Sun\"),\"\",IF(COUNTIF(Holidays!$A:$A,AI$4)>0,\"H\",IFERROR(VLOOKUP((ROW(AI23)-4)&\"_\"&AI$4,Schedule!$H:$I,2,FALSE),\"\"))))","v":""},{"$f":"IF($A23=\"\",\"\",IF(OR(AJ$3=\"Sat\",AJ$3=\"Sun\"),\"\",IF(COUNTIF(Holidays!$A:$A,AJ$4)>0,\"H\",IFERROR(VLOOKUP((ROW(AJ23)-4)&\"_\"&AJ$4,Schedule!$H:$I,2,FALSE),\"\"))))","v":""},{"$f":"IF($A23=\"\",\"\",ROUND(SUMIFS(Schedule!$E:$E,Schedule!$A:$A,$A23,Schedule!$D:$D,$AK$3,Schedule!$B:$B,\">=\"&DATE($Q$2,$U$2,1),Schedule!$B:$B,\"<=\"&EOMONTH(DATE($Q$2,$U$2,1),0))/8,2))","v":""},{"$f":"IF($A23=\"\",\"\",ROUND(SUMIFS(Schedule!$E:$E,Schedule!$A:$A,$A23,Schedule!$D:$D,$AK$3,Schedule!$B:$B,\">=\"&DATE($Q$2,1,1),Schedule!$B:$B,\"<=\"&EOMONTH(DATE($Q$2,$U$2,1),0))/8,2))","v":""},{"$f":"IF($A23=\"\",\"\",ROUND(SUMIFS(Schedule!$E:$E,Schedule!$A:$A,$A23,Schedule!$D:$D,$AM$3,Schedule!$B:$B,\">=\"&DATE($Q$2,$U$2,1),Schedule!$B:$B,\"<=\"&EOMONTH(DATE($Q$2,$U$2,1),0))/8,2))","v":""},{"$f":"IF($A23=\"\",\"\",ROUND(SUMIFS(Schedule!$E:$E,Schedule!$A:$A,$A23,Schedule!$D:$D,$AM$3,Schedule!$B:$B,\">=\"&DATE($Q$2,1,1),Schedule!$B:$B,\"<=\"&EOMONTH(DATE($Q$2,$U$2,1),0))/8,2))","v":""}]
[{"$f":"IF(Lookups!A21=\"\",\"\",Lookups!A21)","v":""},{"$f":"IF($A24=\"\",\"\",IF(OR(B$3=\"Sat\",B$3=\"Sun\"),\"\",IF(COUNTIF(Holidays!$A:$A,B$4)>0,\"H\",IFERROR(VLOOKUP((ROW(B24)-4)&\"_\"&B$4,Schedule!$H:$I,2,FALSE),\"\"))))","v":""},{"$f":"IF($A24=\"\",\"\",IF(OR(C$3=\"Sat\",C$3=\"Sun\"),\"\",IF(COUNTIF(Holidays!$A:$A,C$4)>0,\"H\",IFERROR(VLOOKUP((ROW(C24)-4)&\"_\"&C$4,Schedule!$H:$I,2,FALSE),\"\"))))","v":""},{"$f":"IF($A24=\"\",\"\",IF(OR(D$3=\"Sat\",D$3=\"Sun\"),\"\",IF(COUNTIF(Holidays!$A:$A,D$4)>0,\"H\",IFERROR(VLOOKUP((ROW(D24)-4)&\"_\"&D$4,Schedule!$H:$I,2,FALSE),\"\"))))","v":""},{"$f":"IF($A24=\"\",\"\",IF(OR(E$3=\"Sat\",E$3=\"Sun\"),\"\",IF(COUNTIF(Holidays!$A:$A,E$4)>0,\"H\",IFERROR(VLOOKUP((ROW(E24)-4)&\"_\"&E$4,Schedule!$H:$I,2,FALSE),\"\"))))","v":""},{"$f":"IF($A24=\"\",\"\",IF(OR(F$3=\"Sat\",F$3=\"Sun\"),\"\",IF(COUNTIF(Holidays!$A:$A,F$4)>0,\"H\",IFERROR(VLOOKUP((ROW(F24)-4)&\"_\"&F$4,Schedule!$H:$I,2,FALSE),\"\"))))","v":""},{"$f":"IF($A24=\"\",\"\",IF(OR(G$3=\"Sat\",G$3=\"Sun\"),\"\",IF(COUNTIF(Holidays!$A:$A,G$4)>0,\"H\",IFERROR(VLOOKUP((ROW(G24)-4)&\"_\"&G$4,Schedule!$H:$I,2,FALSE),\"\"))))","v":""},{"$f":"IF($A24=\"\",\"\",IF(OR(H$3=\"Sat\",H$3=\"Sun\"),\"\",IF(COUNTIF(Holidays!$A:$A,H$4)>0,\"H\",IFERROR(VLOOKUP((ROW(H24)-4)&\"_\"&H$4,Schedule!$H:$I,2,FALSE),\"\"))))","v":""},{"$f":"IF($A24=\"\",\"\",IF(OR(I$3=\"Sat\",I$3=\"Sun\"),\"\",IF(COUNTIF(Holidays!$A:$A,I$4)>0,\"H\",IFERROR(VLOOKUP((ROW(I24)-4)&\"_\"&I$4,Schedule!$H:$I,2,FALSE),\"\"))))","v":""},{"$f":"IF($A24=\"\",\"\",IF(OR(J$3=\"Sat\",J$3=\"Sun\"),\"\",IF(COUNTIF(Holidays!$A:$A,J$4)>0,\"H\",IFERROR(VLOOKUP((ROW(J24)-4)&\"_\"&J$4,Schedule!$H:$I,2,FALSE),\"\"))))","v":""},{"$f":"IF($A24=\"\",\"\",IF(OR(K$3=\"Sat\",K$3=\"Sun\"),\"\",IF(COUNTIF(Holidays!$A:$A,K$4)>0,\"H\",IFERROR(VLOOKUP((ROW(K24)-4)&\"_\"&K$4,Schedule!$H:$I,2,FALSE),\"\"))))","v":""},{"$f":"IF($A24=\"\",\"\",IF(OR(L$3=\"Sat\",L$3=\"Sun\"),\"\",IF(COUNTIF(Holidays!$A:$A,L$4)>0,\"H\",IFERROR(VLOOKUP((ROW(L24)-4)&\"_\"&L$4,Schedule!$H:$I,2,FALSE),\"\"))))","v":""},{"$f":"IF($A24=\"\",\"\",IF(OR(M$3=\"Sat\",M$3=\"Sun\"),\"\",IF(COUNTIF(Holidays!$A:$A,M$4)>0,\"H\",IFERROR(VLOOKUP((ROW(M24)-4)&\"_\"&M$4,Schedule!$H:$I,2,FALSE),\"\"))))","v":""},{"$f":"IF($A24=\"\",\"\",IF(OR(N$3=\"Sat\",N$3=\"Sun\"),\"\",IF(COUNTIF(Holidays!$A:$A,N$4)>0,\"H\",IFERROR(VLOOKUP((ROW(N24)-4)&\"_\"&N$4,Schedule!$H:$I,2,FALSE),\"\"))))","v":""},{"$f":"IF($A24=\"\",\"\",IF(OR(O$3=\"Sat\",O$3=\"Sun\"),\"\",IF(COUNTIF(Holidays!$A:$A,O$4)>0,\"H\",IFERROR(VLOOKUP((ROW(O24)-4)&\"_\"&O$4,Schedule!$H:$I,2,FALSE),\"\"))))","v":""},{"$f":"IF($A24=\"\",\"\",IF(OR(P$3=\"Sat\",P$3=\"Sun\"),\"\",IF(COUNTIF(Holidays!$A:$A,P$4)>0,\"H\",IFERROR(VLOOKUP((ROW(P24)-4)&\"_\"&P$4,Schedule!$H:$I,2,FALSE),\"\"))))","v":""},{"$f":"IF($A24=\"\",\"\",IF(OR(Q$3=\"Sat\",Q$3=\"Sun\"),\"\",IF(COUNTIF(Holidays!$A:$A,Q$4)>0,\"H\",IFERROR(VLOOKUP((ROW(Q24)-4)&\"_\"&Q$4,Schedule!$H:$I,2,FALSE),\"\"))))","v":""},{"$f":"IF($A24=\"\",\"\",IF(OR(R$3=\"Sat\",R$3=\"Sun\"),\"\",IF(COUNTIF(Holidays!$A:$A,R$4)>0,\"H\",IFERROR(VLOOKUP((ROW(R24)-4)&\"_\"&R$4,Schedule!$H:$I,2,FALSE),\"\"))))","v":""},{"$f":"IF($A24=\"\",\"\",IF(OR(S$3=\"Sat\",S$3=\"Sun\"),\"\",IF(COUNTIF(Holidays!$A:$A,S$4)>0,\"H\",IFERROR(VLOOKUP((ROW(S24)-4)&\"_\"&S$4,Schedule!$H:$I,2,FALSE),\"\"))))","v":""},{"$f":"IF($A24=\"\",\"\",IF(OR(T$3=\"Sat\",T$3=\"Sun\"),\"\",IF(COUNTIF(Holidays!$A:$A,T$4)>0,\"H\",IFERROR(VLOOKUP((ROW(T24)-4)&\"_\"&T$4,Schedule!$H:$I,2,FALSE),\"\"))))","v":""},{"$f":"IF($A24=\"\",\"\",IF(OR(U$3=\"Sat\",U$3=\"Sun\"),\"\",IF(COUNTIF(Holidays!$A:$A,U$4)>0,\"H\",IFERROR(VLOOKUP((ROW(U24)-4)&\"_\"&U$4,Schedule!$H:$I,2,FALSE),\"\"))))","v":""},{"$f":"IF($A24=\"\",\"\",IF(OR(V$3=\"Sat\",V$3=\"Sun\"),\"\",IF(COUNTIF(Holidays!$A:$A,V$4)>0,\"H\",IFERROR(VLOOKUP((ROW(V24)-4)&\"_\"&V$4,Schedule!$H:$I,2,FALSE),\"\"))))","v":""},{"$f":"IF($A24=\"\",\"\",IF(OR(W$3=\"Sat\",W$3=\"Sun\"),\"\",IF(COUNTIF(Holidays!$A:$A,W$4)>0,\"H\",IFERROR(VLOOKUP((ROW(W24)-4)&\"_\"&W$4,Schedule!$H:$I,2,FALSE),\"\"))))","v":""},{"$f":"IF($A24=\"\",\"\",IF(OR(X$3=\"Sat\",X$3=\"Sun\"),\"\",IF(COUNTIF(Holidays!$A:$A,X$4)>0,\"H\",IFERROR(VLOOKUP((ROW(X24)-4)&\"_\"&X$4,Schedule!$H:$I,2,FALSE),\"\"))))","v":""},{"$f":"IF($A24=\"\",\"\",IF(OR(Y$3=\"Sat\",Y$3=\"Sun\"),\"\",IF(COUNTIF(Holidays!$A:$A,Y$4)>0,\"H\",IFERROR(VLOOKUP((ROW(Y24)-4)&\"_\"&Y$4,Schedule!$H:$I,2,FALSE),\"\"))))","v":""},{"$f":"IF($A24=\"\",\"\",IF(OR(Z$3=\"Sat\",Z$3=\"Sun\"),\"\",IF(COUNTIF(Holidays!$A:$A,Z$4)>0,\"H\",IFERROR(VLOOKUP((ROW(Z24)-4)&\"_\"&Z$4,Schedule!$H:$I,2,FALSE),\"\"))))","v":""},{"$f":"IF($A24=\"\",\"\",IF(OR(AA$3=\"Sat\",AA$3=\"Sun\"),\"\",IF(COUNTIF(Holidays!$A:$A,AA$4)>0,\"H\",IFERROR(VLOOKUP((ROW(AA24)-4)&\"_\"&AA$4,Schedule!$H:$I,2,FALSE),\"\"))))","v":""},{"$f":"IF($A24=\"\",\"\",IF(OR(AB$3=\"Sat\",AB$3=\"Sun\"),\"\",IF(COUNTIF(Holidays!$A:$A,AB$4)>0,\"H\",IFERROR(VLOOKUP((ROW(AB24)-4)&\"_\"&AB$4,Schedule!$H:$I,2,FALSE),\"\"))))","v":""},{"$f":"IF($A24=\"\",\"\",IF(OR(AC$3=\"Sat\",AC$3=\"Sun\"),\"\",IF(COUNTIF(Holidays!$A:$A,AC$4)>0,\"H\",IFERROR(VLOOKUP((ROW(AC24)-4)&\"_\"&AC$4,Schedule!$H:$I,2,FALSE),\"\"))))","v":""},{"$f":"IF($A24=\"\",\"\",IF(OR(AD$3=\"Sat\",AD$3=\"Sun\"),\"\",IF(COUNTIF(Holidays!$A:$A,AD$4)>0,\"H\",IFERROR(VLOOKUP((ROW(AD24)-4)&\"_\"&AD$4,Schedule!$H:$I,2,FALSE),\"\"))))","v":""},{"$f":"IF($A24=\"\",\"\",IF(OR(AE$3=\"Sat\",AE$3=\"Sun\"),\"\",IF(COUNTIF(Holidays!$A:$A,AE$4)>0,\"H\",IFERROR(VLOOKUP((ROW(AE24)-4)&\"_\"&AE$4,Schedule!$H:$I,2,FALSE),\"\"))))","v":""},{"$f":"IF($A24=\"\",\"\",IF(OR(AF$3=\"Sat\",AF$3=\"Sun\"),\"\",IF(COUNTIF(Holidays!$A:$A,AF$4)>0,\"H\",IFERROR(VLOOKUP((ROW(AF24)-4)&\"_\"&AF$4,Schedule!$H:$I,2,FALSE),\"\"))))","v":""},{"$f":"IF($A24=\"\",\"\",IF(OR(AG$3=\"Sat\",AG$3=\"Sun\"),\"\",IF(COUNTIF(Holidays!$A:$A,AG$4)>0,\"H\",IFERROR(VLOOKUP((ROW(AG24)-4)&\"_\"&AG$4,Schedule!$H:$I,2,FALSE),\"\"))))","v":""},{"$f":"IF($A24=\"\",\"\",IF(OR(AH$3=\"Sat\",AH$3=\"Sun\"),\"\",IF(COUNTIF(Holidays!$A:$A,AH$4)>0,\"H\",IFERROR(VLOOKUP((ROW(AH24)-4)&\"_\"&AH$4,Schedule!$H:$I,2,FALSE),\"\"))))","v":""},{"$f":"IF($A24=\"\",\"\",IF(OR(AI$3=\"Sat\",AI$3=\"Sun\"),\"\",IF(COUNTIF(Holidays!$A:$A,AI$4)>0,\"H\",IFERROR(VLOOKUP((ROW(AI24)-4)&\"_\"&AI$4,Schedule!$H:$I,2,FALSE),\"\"))))","v":""},{"$f":"IF($A24=\"\",\"\",IF(OR(AJ$3=\"Sat\",AJ$3=\"Sun\"),\"\",IF(COUNTIF(Holidays!$A:$A,AJ$4)>0,\"H\",IFERROR(VLOOKUP((ROW(AJ24)-4)&\"_\"&AJ$4,Schedule!$H:$I,2,FALSE),\"\"))))","v":""},{"$f":"IF($A24=\"\",\"\",ROUND(SUMIFS(Schedule!$E:$E,Schedule!$A:$A,$A24,Schedule!$D:$D,$AK$3,Schedule!$B:$B,\">=\"&DATE($Q$2,$U$2,1),Schedule!$B:$B,\"<=\"&EOMONTH(DATE($Q$2,$U$2,1),0))/8,2))","v":""},{"$f":"IF($A24=\"\",\"\",ROUND(SUMIFS(Schedule!$E:$E,Schedule!$A:$A,$A24,Schedule!$D:$D,$AK$3,Schedule!$B:$B,\">=\"&DATE($Q$2,1,1),Schedule!$B:$B,\"<=\"&EOMONTH(DATE($Q$2,$U$2,1),0))/8,2))","v":""},{"$f":"IF($A24=\"\",\"\",ROUND(SUMIFS(Schedule!$E:$E,Schedule!$A:$A,$A24,Schedule!$D:$D,$AM$3,Schedule!$B:$B,\">=\"&DATE($Q$2,$U$2,1),Schedule!$B:$B,\"<=\"&EOMONTH(DATE($Q$2,$U$2,1),0))/8,2))","v":""},{"$f":"IF($A24=\"\",\"\",ROUND(SUMIFS(Schedule!$E:$E,Schedule!$A:$A,$A24,Schedule!$D:$D,$AM$3,Schedule!$B:$B,\">=\"&DATE($Q$2,1,1),Schedule!$B:$B,\"<=\"&EOMONTH(DATE($Q$2,$U$2,1),0))/8,2))","v":""}]
[{"$f":"IF(Lookups!A22=\"\",\"\",Lookups!A22)","v":""},{"$f":"IF($A25=\"\",\"\",IF(OR(B$3=\"Sat\",B$3=\"Sun\"),\"\",IF(COUNTIF(Holidays!$A:$A,B$4)>0,\"H\",IFERROR(VLOOKUP((ROW(B25)-4)&\"_\"&B$4,Schedule!$H:$I,2,FALSE),\"\"))))","v":""},{"$f":"IF($A25=\"\",\"\",IF(OR(C$3=\"Sat\",C$3=\"Sun\"),\"\",IF(COUNTIF(Holidays!$A:$A,C$4)>0,\"H\",IFERROR(VLOOKUP((ROW(C25)-4)&\"_\"&C$4,Schedule!$H:$I,2,FALSE),\"\"))))","v":""},{"$f":"IF($A25=\"\",\"\",IF(OR(D$3=\"Sat\",D$3=\"Sun\"),\"\",IF(COUNTIF(Holidays!$A:$A,D$4)>0,\"H\",IFERROR(VLOOKUP((ROW(D25)-4)&\"_\"&D$4,Schedule!$H:$I,2,FALSE),\"\"))))","v":""},{"$f":"IF($A25=\"\",\"\",IF(OR(E$3=\"Sat\",E$3=\"Sun\"),\"\",IF(COUNTIF(Holidays!$A:$A,E$4)>0,\"H\",IFERROR(VLOOKUP((ROW(E25)-4)&\"_\"&E$4,Schedule!$H:$I,2,FALSE),\"\"))))","v":""},{"$f":"IF($A25=\"\",\"\",IF(OR(F$3=\"Sat\",F$3=\"Sun\"),\"\",IF(COUNTIF(Holidays!$A:$A,F$4)>0,\"H\",IFERROR(VLOOKUP((ROW(F25)-4)&\"_\"&F$4,Schedule!$H:$I,2,FALSE),\"\"))))","v":""},{"$f":"IF($A25=\"\",\"\",IF(OR(G$3=\"Sat\",G$3=\"Sun\"),\"\",IF(COUNTIF(Holidays!$A:$A,G$4)>0,\"H\",IFERROR(VLOOKUP((ROW(G25)-4)&\"_\"&G$4,Schedule!$H:$I,2,FALSE),\"\"))))","v":""},{"$f":"IF($A25=\"\",\"\",IF(OR(H$3=\"Sat\",H$3=\"Sun\"),\"\",IF(COUNTIF(Holidays!$A:$A,H$4)>0,\"H\",IFERROR(VLOOKUP((ROW(H25)-4)&\"_\"&H$4,Schedule!$H:$I,2,FALSE),\"\"))))","v":""},{"$f":"IF($A25=\"\",\"\",IF(OR(I$3=\"Sat\",I$3=\"Sun\"),\"\",IF(COUNTIF(Holidays!$A:$A,I$4)>0,\"H\",IFERROR(VLOOKUP((ROW(I25)-4)&\"_\"&I$4,Schedule!$H:$I,2,FALSE),\"\"))))","v":""},{"$f":"IF($A25=\"\",\"\",IF(OR(J$3=\"Sat\",J$3=\"Sun\"),\"\",IF(COUNTIF(Holidays!$A:$A,J$4)>0,\"H\",IFERROR(VLOOKUP((ROW(J25)-4)&\"_\"&J$4,Schedule!$H:$I,2,FALSE),\"\"))))","v":""},{"$f":"IF($A25=\"\",\"\",IF(OR(K$3=\"Sat\",K$3=\"Sun\"),\"\",IF(COUNTIF(Holidays!$A:$A,K$4)>0,\"H\",IFERROR(VLOOKUP((ROW(K25)-4)&\"_\"&K$4,Schedule!$H:$I,2,FALSE),\"\"))))","v":""},{"$f":"IF($A25=\"\",\"\",IF(OR(L$3=\"Sat\",L$3=\"Sun\"),\"\",IF(COUNTIF(Holidays!$A:$A,L$4)>0,\"H\",IFERROR(VLOOKUP((ROW(L25)-4)&\"_\"&L$4,Schedule!$H:$I,2,FALSE),\"\"))))","v":""},{"$f":"IF($A25=\"\",\"\",IF(OR(M$3=\"Sat\",M$3=\"Sun\"),\"\",IF(COUNTIF(Holidays!$A:$A,M$4)>0,\"H\",IFERROR(VLOOKUP((ROW(M25)-4)&\"_\"&M$4,Schedule!$H:$I,2,FALSE),\"\"))))","v":""},{"$f":"IF($A25=\"\",\"\",IF(OR(N$3=\"Sat\",N$3=\"Sun\"),\"\",IF(COUNTIF(Holidays!$A:$A,N$4)>0,\"H\",IFERROR(VLOOKUP((ROW(N25)-4)&\"_\"&N$4,Schedule!$H:$I,2,FALSE),\"\"))))","v":""},{"$f":"IF($A25=\"\",\"\",IF(OR(O$3=\"Sat\",O$3=\"Sun\"),\"\",IF(COUNTIF(Holidays!$A:$A,O$4)>0,\"H\",IFERROR(VLOOKUP((ROW(O25)-4)&\"_\"&O$4,Schedule!$H:$I,2,FALSE),\"\"))))","v":""},{"$f":"IF($A25=\"\",\"\",IF(OR(P$3=\"Sat\",P$3=\"Sun\"),\"\",IF(COUNTIF(Holidays!$A:$A,P$4)>0,\"H\",IFERROR(VLOOKUP((ROW(P25)-4)&\"_\"&P$4,Schedule!$H:$I,2,FALSE),\"\"))))","v":""},{"$f":"IF($A25=\"\",\"\",IF(OR(Q$3=\"Sat\",Q$3=\"Sun\"),\"\",IF(COUNTIF(Holidays!$A:$A,Q$4)>0,\"H\",IFERROR(VLOOKUP((ROW(Q25)-4)&\"_\"&Q$4,Schedule!$H:$I,2,FALSE),\"\"))))","v":""},{"$f":"IF($A25=\"\",\"\",IF(OR(R$3=\"Sat\",R$3=\"Sun\"),\"\",IF(COUNTIF(Holidays!$A:$A,R$4)>0,\"H\",IFERROR(VLOOKUP((ROW(R25)-4)&\"_\"&R$4,Schedule!$H:$I,2,FALSE),\"\"))))","v":""},{"$f":"IF($A25=\"\",\"\",IF(OR(S$3=\"Sat\",S$3=\"Sun\"),\"\",IF(COUNTIF(Holidays!$A:$A,S$4)>0,\"H\",IFERROR(VLOOKUP((ROW(S25)-4)&\"_\"&S$4,Schedule!$H:$I,2,FALSE),\"\"))))","v":""},{"$f":"IF($A25=\"\",\"\",IF(OR(T$3=\"Sat\",T$3=\"Sun\"),\"\",IF(COUNTIF(Holidays!$A:$A,T$4)>0,\"H\",IFERROR(VLOOKUP((ROW(T25)-4)&\"_\"&T$4,Schedule!$H:$I,2,FALSE),\"\"))))","v":""},{"$f":"IF($A25=\"\",\"\",IF(OR(U$3=\"Sat\",U$3=\"Sun\"),\"\",IF(COUNTIF(Holidays!$A:$A,U$4)>0,\"H\",IFERROR(VLOOKUP((ROW(U25)-4)&\"_\"&U$4,Schedule!$H:$I,2,FALSE),\"\"))))","v":""},{"$f":"IF($A25=\"\",\"\",IF(OR(V$3=\"Sat\",V$3=\"Sun\"),\"\",IF(COUNTIF(Holidays!$A:$A,V$4)>0,\"H\",IFERROR(VLOOKUP((ROW(V25)-4)&\"_\"&V$4,Schedule!$H:$I,2,FALSE),\"\"))))","v":""},{"$f":"IF($A25=\"\",\"\",IF(OR(W$3=\"Sat\",W$3=\"Sun\"),\"\",IF(COUNTIF(Holidays!$A:$A,W$4)>0,\"H\",IFERROR(VLOOKUP((ROW(W25)-4)&\"_\"&W$4,Schedule!$H:$I,2,FALSE),\"\"))))","v":""},{"$f":"IF($A25=\"\",\"\",IF(OR(X$3=\"Sat\",X$3=\"Sun\"),\"\",IF(COUNTIF(Holidays!$A:$A,X$4)>0,\"H\",IFERROR(VLOOKUP((ROW(X25)-4)&\"_\"&X$4,Schedule!$H:$I,2,FALSE),\"\"))))","v":""},{"$f":"IF($A25=\"\",\"\",IF(OR(Y$3=\"Sat\",Y$3=\"Sun\"),\"\",IF(COUNTIF(Holidays!$A:$A,Y$4)>0,\"H\",IFERROR(VLOOKUP((ROW(Y25)-4)&\"_\"&Y$4,Schedule!$H:$I,2,FALSE),\"\"))))","v":""},{"$f":"IF($A25=\"\",\"\",IF(OR(Z$3=\"Sat\",Z$3=\"Sun\"),\"\",IF(COUNTIF(Holidays!$A:$A,Z$4)>0,\"H\",IFERROR(VLOOKUP((ROW(Z25)-4)&\"_\"&Z$4,Schedule!$H:$I,2,FALSE),\"\"))))","v":""},{"$f":"IF($A25=\"\",\"\",IF(OR(AA$3=\"Sat\",AA$3=\"Sun\"),\"\",IF(COUNTIF(Holidays!$A:$A,AA$4)>0,\"H\",IFERROR(VLOOKUP((ROW(AA25)-4)&\"_\"&AA$4,Schedule!$H:$I,2,FALSE),\"\"))))","v":""},{"$f":"IF($A25=\"\",\"\",IF(OR(AB$3=\"Sat\",AB$3=\"Sun\"),\"\",IF(COUNTIF(Holidays!$A:$A,AB$4)>0,\"H\",IFERROR(VLOOKUP((ROW(AB25)-4)&\"_\"&AB$4,Schedule!$H:$I,2,FALSE),\"\"))))","v":""},{"$f":"IF($A25=\"\",\"\",IF(OR(AC$3=\"Sat\",AC$3=\"Sun\"),\"\",IF(COUNTIF(Holidays!$A:$A,AC$4)>0,\"H\",IFERROR(VLOOKUP((ROW(AC25)-4)&\"_\"&AC$4,Schedule!$H:$I,2,FALSE),\"\"))))","v":""},{"$f":"IF($A25=\"\",\"\",IF(OR(AD$3=\"Sat\",AD$3=\"Sun\"),\"\",IF(COUNTIF(Holidays!$A:$A,AD$4)>0,\"H\",IFERROR(VLOOKUP((ROW(AD25)-4)&\"_\"&AD$4,Schedule!$H:$I,2,FALSE),\"\"))))","v":""},{"$f":"IF($A25=\"\",\"\",IF(OR(AE$3=\"Sat\",AE$3=\"Sun\"),\"\",IF(COUNTIF(Holidays!$A:$A,AE$4)>0,\"H\",IFERROR(VLOOKUP((ROW(AE25)-4)&\"_\"&AE$4,Schedule!$H:$I,2,FALSE),\"\"))))","v":""},{"$f":"IF($A25=\"\",\"\",IF(OR(AF$3=\"Sat\",AF$3=\"Sun\"),\"\",IF(COUNTIF(Holidays!$A:$A,AF$4)>0,\"H\",IFERROR(VLOOKUP((ROW(AF25)-4)&\"_\"&AF$4,Schedule!$H:$I,2,FALSE),\"\"))))","v":""},{"$f":"IF($A25=\"\",\"\",IF(OR(AG$3=\"Sat\",AG$3=\"Sun\"),\"\",IF(COUNTIF(Holidays!$A:$A,AG$4)>0,\"H\",IFERROR(VLOOKUP((ROW(AG25)-4)&\"_\"&AG$4,Schedule!$H:$I,2,FALSE),\"\"))))","v":""},{"$f":"IF($A25=\"\",\"\",IF(OR(AH$3=\"Sat\",AH$3=\"Sun\"),\"\",IF(COUNTIF(Holidays!$A:$A,AH$4)>0,\"H\",IFERROR(VLOOKUP((ROW(AH25)-4)&\"_\"&AH$4,Schedule!$H:$I,2,FALSE),\"\"))))","v":""},{"$f":"IF($A25=\"\",\"\",IF(OR(AI$3=\"Sat\",AI$3=\"Sun\"),\"\",IF(COUNTIF(Holidays!$A:$A,AI$4)>0,\"H\",IFERROR(VLOOKUP((ROW(AI25)-4)&\"_\"&AI$4,Schedule!$H:$I,2,FALSE),\"\"))))","v":""},{"$f":"IF($A25=\"\",\"\",IF(OR(AJ$3=\"Sat\",AJ$3=\"Sun\"),\"\",IF(COUNTIF(Holidays!$A:$A,AJ$4)>0,\"H\",IFERROR(VLOOKUP((ROW(AJ25)-4)&\"_\"&AJ$4,Schedule!$H:$I,2,FALSE),\"\"))))","v":""},{"$f":"IF($A25=\"\",\"\",ROUND(SUMIFS(Schedule!$E:$E,Schedule!$A:$A,$A25,Schedule!$D:$D,$AK$3,Schedule!$B:$B,\">=\"&DATE($Q$2,$U$2,1),Schedule!$B:$B,\"<=\"&EOMONTH(DATE($Q$2,$U$2,1),0))/8,2))","v":""},{"$f":"IF($A25=\"\",\"\",ROUND(SUMIFS(Schedule!$E:$E,Schedule!$A:$A,$A25,Schedule!$D:$D,$AK$3,Schedule!$B:$B,\">=\"&DATE($Q$2,1,1),Schedule!$B:$B,\"<=\"&EOMONTH(DATE($Q$2,$U$2,1),0))/8,2))","v":""},{"$f":"IF($A25=\"\",\"\",ROUND(SUMIFS(Schedule!$E:$E,Schedule!$A:$A,$A25,Schedule!$D:$D,$AM$3,Schedule!$B:$B,\">=\"&DATE($Q$2,$U$2,1),Schedule!$B:$B,\"<=\"&EOMONTH(DATE($Q$2,$U$2,1),0))/8,2))","v":""},{"$f":"IF($A25=\"\",\"\",ROUND(SUMIFS(Schedule!$E:$E,Schedule!$A:$A,$A25,Schedule!$D:$D,$AM$3,Schedule!$B:$B,\">=\"&DATE($Q$2,1,1),Schedule!$B:$B,\"<=\"&EOMONTH(DATE($Q$2,$U$2,1),0))/8,2))","v":""}]
[{"$f":"IF(Lookups!A23=\"\",\"\",Lookups!A23)","v":""},{"$f":"IF($A26=\"\",\"\",IF(OR(B$3=\"Sat\",B$3=\"Sun\"),\"\",IF(COUNTIF(Holidays!$A:$A,B$4)>0,\"H\",IFERROR(VLOOKUP((ROW(B26)-4)&\"_\"&B$4,Schedule!$H:$I,2,FALSE),\"\"))))","v":""},{"$f":"IF($A26=\"\",\"\",IF(OR(C$3=\"Sat\",C$3=\"Sun\"),\"\",IF(COUNTIF(Holidays!$A:$A,C$4)>0,\"H\",IFERROR(VLOOKUP((ROW(C26)-4)&\"_\"&C$4,Schedule!$H:$I,2,FALSE),\"\"))))","v":""},{"$f":"IF($A26=\"\",\"\",IF(OR(D$3=\"Sat\",D$3=\"Sun\"),\"\",IF(COUNTIF(Holidays!$A:$A,D$4)>0,\"H\",IFERROR(VLOOKUP((ROW(D26)-4)&\"_\"&D$4,Schedule!$H:$I,2,FALSE),\"\"))))","v":""},{"$f":"IF($A26=\"\",\"\",IF(OR(E$3=\"Sat\",E$3=\"Sun\"),\"\",IF(COUNTIF(Holidays!$A:$A,E$4)>0,\"H\",IFERROR(VLOOKUP((ROW(E26)-4)&\"_\"&E$4,Schedule!$H:$I,2,FALSE),\"\"))))","v":""},{"$f":"IF($A26=\"\",\"\",IF(OR(F$3=\"Sat\",F$3=\"Sun\"),\"\",IF(COUNTIF(Holidays!$A:$A,F$4)>0,\"H\",IFERROR(VLOOKUP((ROW(F26)-4)&\"_\"&F$4,Schedule!$H:$I,2,FALSE),\"\"))))","v":""},{"$f":"IF($A26=\"\",\"\",IF(OR(G$3=\"Sat\",G$3=\"Sun\"),\"\",IF(COUNTIF(Holidays!$A:$A,G$4)>0,\"H\",IFERROR(VLOOKUP((ROW(G26)-4)&\"_\"&G$4,Schedule!$H:$I,2,FALSE),\"\"))))","v":""},{"$f":"IF($A26=\"\",\"\",IF(OR(H$3=\"Sat\",H$3=\"Sun\"),\"\",IF(COUNTIF(Holidays!$A:$A,H$4)>0,\"H\",IFERROR(VLOOKUP((ROW(H26)-4)&\"_\"&H$4,Schedule!$H:$I,2,FALSE),\"\"))))","v":""},{"$f":"IF($A26=\"\",\"\",IF(OR(I$3=\"Sat\",I$3=\"Sun\"),\"\",IF(COUNTIF(Holidays!$A:$A,I$4)>0,\"H\",IFERROR(VLOOKUP((ROW(I26)-4)&\"_\"&I$4,Schedule!$H:$I,2,FALSE),\"\"))))","v":""},{"$f":"IF($A26=\"\",\"\",IF(OR(J$3=\"Sat\",J$3=\"Sun\"),\"\",IF(COUNTIF(Holidays!$A:$A,J$4)>0,\"H\",IFERROR(VLOOKUP((ROW(J26)-4)&\"_\"&J$4,Schedule!$H:$I,2,FALSE),\"\"))))","v":""},{"$f":"IF($A26=\"\",\"\",IF(OR(K$3=\"Sat\",K$3=\"Sun\"),\"\",IF(COUNTIF(Holidays!$A:$A,K$4)>0,\"H\",IFERROR(VLOOKUP((ROW(K26)-4)&\"_\"&K$4,Schedule!$H:$I,2,FALSE),\"\"))))","v":""},{"$f":"IF($A26=\"\",\"\",IF(OR(L$3=\"Sat\",L$3=\"Sun\"),\"\",IF(COUNTIF(Holidays!$A:$A,L$4)>0,\"H\",IFERROR(VLOOKUP((ROW(L26)-4)&\"_\"&L$4,Schedule!$H:$I,2,FALSE),\"\"))))","v":""},{"$f":"IF($A26=\"\",\"\",IF(OR(M$3=\"Sat\",M$3=\"Sun\"),\"\",IF(COUNTIF(Holidays!$A:$A,M$4)>0,\"H\",IFERROR(VLOOKUP((ROW(M26)-4)&\"_\"&M$4,Schedule!$H:$I,2,FALSE),\"\"))))","v":""},{"$f":"IF($A26=\"\",\"\",IF(OR(N$3=\"Sat\",N$3=\"Sun\"),\"\",IF(COUNTIF(Holidays!$A:$A,N$4)>0,\"H\",IFERROR(VLOOKUP((ROW(N26)-4)&\"_\"&N$4,Schedule!$H:$I,2,FALSE),\"\"))))","v":""},{"$f":"IF($A26=\"\",\"\",IF(OR(O$3=\"Sat\",O$3=\"Sun\"),\"\",IF(COUNTIF(Holidays!$A:$A,O$4)>0,\"H\",IFERROR(VLOOKUP((ROW(O26)-4)&\"_\"&O$4,Schedule!$H:$I,2,FALSE),\"\"))))","v":""},{"$f":"IF($A26=\"\",\"\",IF(OR(P$3=\"Sat\",P$3=\"Sun\"),\"\",IF(COUNTIF(Holidays!$A:$A,P$4)>0,\"H\",IFERROR(VLOOKUP((ROW(P26)-4)&\"_\"&P$4,Schedule!$H:$I,2,FALSE),\"\"))))","v":""},{"$f":"IF($A26=\"\",\"\",IF(OR(Q$3=\"Sat\",Q$3=\"Sun\"),\"\",IF(COUNTIF(Holidays!$A:$A,Q$4)>0,\"H\",IFERROR(VLOOKUP((ROW(Q26)-4)&\"_\"&Q$4,Schedule!$H:$I,2,FALSE),\"\"))))","v":""},{"$f":"IF($A26=\"\",\"\",IF(OR(R$3=\"Sat\",R$3=\"Sun\"),\"\",IF(COUNTIF(Holidays!$A:$A,R$4)>0,\"H\",IFERROR(VLOOKUP((ROW(R26)-4)&\"_\"&R$4,Schedule!$H:$I,2,FALSE),\"\"))))","v":""},{"$f":"IF($A26=\"\",\"\",IF(OR(S$3=\"Sat\",S$3=\"Sun\"),\"\",IF(COUNTIF(Holidays!$A:$A,S$4)>0,\"H\",IFERROR(VLOOKUP((ROW(S26)-4)&\"_\"&S$4,Schedule!$H:$I,2,FALSE),\"\"))))","v":""},{"$f":"IF($A26=\"\",\"\",IF(OR(T$3=\"Sat\",T$3=\"Sun\"),\"\",IF(COUNTIF(Holidays!$A:$A,T$4)>0,\"H\",IFERROR(VLOOKUP((ROW(T26)-4)&\"_\"&T$4,Schedule!$H:$I,2,FALSE),\"\"))))","v":""},{"$f":"IF($A26=\"\",\"\",IF(OR(U$3=\"Sat\",U$3=\"Sun\"),\"\",IF(COUNTIF(Holidays!$A:$A,U$4)>0,\"H\",IFERROR(VLOOKUP((ROW(U26)-4)&\"_\"&U$4,Schedule!$H:$I,2,FALSE),\"\"))))","v":""},{"$f":"IF($A26=\"\",\"\",IF(OR(V$3=\"Sat\",V$3=\"Sun\"),\"\",IF(COUNTIF(Holidays!$A:$A,V$4)>0,\"H\",IFERROR(VLOOKUP((ROW(V26)-4)&\"_\"&V$4,Schedule!$H:$I,2,FALSE),\"\"))))","v":""},{"$f":"IF($A26=\"\",\"\",IF(OR(W$3=\"Sat\",W$3=\"Sun\"),\"\",IF(COUNTIF(Holidays!$A:$A,W$4)>0,\"H\",IFERROR(VLOOKUP((ROW(W26)-4)&\"_\"&W$4,Schedule!$H:$I,2,FALSE),\"\"))))","v":""},{"$f":"IF($A26=\"\",\"\",IF(OR(X$3=\"Sat\",X$3=\"Sun\"),\"\",IF(COUNTIF(Holidays!$A:$A,X$4)>0,\"H\",IFERROR(VLOOKUP((ROW(X26)-4)&\"_\"&X$4,Schedule!$H:$I,2,FALSE),\"\"))))","v":""},{"$f":"IF($A26=\"\",\"\",IF(OR(Y$3=\"Sat\",Y$3=\"Sun\"),\"\",IF(COUNTIF(Holidays!$A:$A,Y$4)>0,\"H\",IFERROR(VLOOKUP((ROW(Y26)-4)&\"_\"&Y$4,Schedule!$H:$I,2,FALSE),\"\"))))","v":""},{"$f":"IF($A26=\"\",\"\",IF(OR(Z$3=\"Sat\",Z$3=\"Sun\"),\"\",IF(COUNTIF(Holidays!$A:$A,Z$4)>0,\"H\",IFERROR(VLOOKUP((ROW(Z26)-4)&\"_\"&Z$4,Schedule!$H:$I,2,FALSE),\"\"))))","v":""},{"$f":"IF($A26=\"\",\"\",IF(OR(AA$3=\"Sat\",AA$3=\"Sun\"),\"\",IF(COUNTIF(Holidays!$A:$A,AA$4)>0,\"H\",IFERROR(VLOOKUP((ROW(AA26)-4)&\"_\"&AA$4,Schedule!$H:$I,2,FALSE),\"\"))))","v":""},{"$f":"IF($A26=\"\",\"\",IF(OR(AB$3=\"Sat\",AB$3=\"Sun\"),\"\",IF(COUNTIF(Holidays!$A:$A,AB$4)>0,\"H\",IFERROR(VLOOKUP((ROW(AB26)-4)&\"_\"&AB$4,Schedule!$H:$I,2,FALSE),\"\"))))","v":""},{"$f":"IF($A26=\"\",\"\",IF(OR(AC$3=\"Sat\",AC$3=\"Sun\"),\"\",IF(COUNTIF(Holidays!$A:$A,AC$4)>0,\"H\",IFERROR(VLOOKUP((ROW(AC26)-4)&\"_\"&AC$4,Schedule!$H:$I,2,FALSE),\"\"))))","v":""},{"$f":"IF($A26=\"\",\"\",IF(OR(AD$3=\"Sat\",AD$3=\"Sun\"),\"\",IF(COUNTIF(Holidays!$A:$A,AD$4)>0,\"H\",IFERROR(VLOOKUP((ROW(AD26)-4)&\"_\"&AD$4,Schedule!$H:$I,2,FALSE),\"\"))))","v":""},{"$f":"IF($A26=\"\",\"\",IF(OR(AE$3=\"Sat\",AE$3=\"Sun\"),\"\",IF(COUNTIF(Holidays!$A:$A,AE$4)>0,\"H\",IFERROR(VLOOKUP((ROW(AE26)-4)&\"_\"&AE$4,Schedule!$H:$I,2,FALSE),\"\"))))","v":""},{"$f":"IF($A26=\"\",\"\",IF(OR(AF$3=\"Sat\",AF$3=\"Sun\"),\"\",IF(COUNTIF(Holidays!$A:$A,AF$4)>0,\"H\",IFERROR(VLOOKUP((ROW(AF26)-4)&\"_\"&AF$4,Schedule!$H:$I,2,FALSE),\"\"))))","v":""},{"$f":"IF($A26=\"\",\"\",IF(OR(AG$3=\"Sat\",AG$3=\"Sun\"),\"\",IF(COUNTIF(Holidays!$A:$A,AG$4)>0,\"H\",IFERROR(VLOOKUP((ROW(AG26)-4)&\"_\"&AG$4,Schedule!$H:$I,2,FALSE),\"\"))))","v":""},{"$f":"IF($A26=\"\",\"\",IF(OR(AH$3=\"Sat\",AH$3=\"Sun\"),\"\",IF(COUNTIF(Holidays!$A:$A,AH$4)>0,\"H\",IFERROR(VLOOKUP((ROW(AH26)-4)&\"_\"&AH$4,Schedule!$H:$I,2,FALSE),\"\"))))","v":""},{"$f":"IF($A26=\"\",\"\",IF(OR(AI$3=\"Sat\",AI$3=\"Sun\"),\"\",IF(COUNTIF(Holidays!$A:$A,AI$4)>0,\"H\",IFERROR(VLOOKUP((ROW(AI26)-4)&\"_\"&AI$4,Schedule!$H:$I,2,FALSE),\"\"))))","v":""},{"$f":"IF($A26=\"\",\"\",IF(OR(AJ$3=\"Sat\",AJ$3=\"Sun\"),\"\",IF(COUNTIF(Holidays!$A:$A,AJ$4)>0,\"H\",IFERROR(VLOOKUP((ROW(AJ26)-4)&\"_\"&AJ$4,Schedule!$H:$I,2,FALSE),\"\"))))","v":""},{"$f":"IF($A26=\"\",\"\",ROUND(SUMIFS(Schedule!$E:$E,Schedule!$A:$A,$A26,Schedule!$D:$D,$AK$3,Schedule!$B:$B,\">=\"&DATE($Q$2,$U$2,1),Schedule!$B:$B,\"<=\"&EOMONTH(DATE($Q$2,$U$2,1),0))/8,2))","v":""},{"$f":"IF($A26=\"\",\"\",ROUND(SUMIFS(Schedule!$E:$E,Schedule!$A:$A,$A26,Schedule!$D:$D,$AK$3,Schedule!$B:$B,\">=\"&DATE($Q$2,1,1),Schedule!$B:$B,\"<=\"&EOMONTH(DATE($Q$2,$U$2,1),0))/8,2))","v":""},{"$f":"IF($A26=\"\",\"\",ROUND(SUMIFS(Schedule!$E:$E,Schedule!$A:$A,$A26,Schedule!$D:$D,$AM$3,Schedule!$B:$B,\">=\"&DATE($Q$2,$U$2,1),Schedule!$B:$B,\"<=\"&EOMONTH(DATE($Q$2,$U$2,1),0))/8,2))","v":""},{"$f":"IF($A26=\"\",\"\",ROUND(SUMIFS(Schedule!$E:$E,Schedule!$A:$A,$A26,Schedule!$D:$D,$AM$3,Schedule!$B:$B,\">=\"&DATE($Q$2,1,1),Schedule!$B:$B,\"<=\"&EOMONTH(DATE($Q$2,$U$2,1),0))/8,2))","v":""}]
[{"$f":"IF(Lookups!A24=\"\",\"\",Lookups!A24)","v":""},{"$f":"IF($A27=\"\",\"\",IF(OR(B$3=\"Sat\",B$3=\"Sun\"),\"\",IF(COUNTIF(Holidays!$A:$A,B$4)>0,\"H\",IFERROR(VLOOKUP((ROW(B27)-4)&\"_\"&B$4,Schedule!$H:$I,2,FALSE),\"\"))))","v":""},{"$f":"IF($A27=\"\",\"\",IF(OR(C$3=\"Sat\",C$3=\"Sun\"),\"\",IF(COUNTIF(Holidays!$A:$A,C$4)>0,\"H\",IFERROR(VLOOKUP((ROW(C27)-4)&\"_\"&C$4,Schedule!$H:$I,2,FALSE),\"\"))))","v":""},{"$f":"IF($A27=\"\",\"\",IF(OR(D$3=\"Sat\",D$3=\"Sun\"),\"\",IF(COUNTIF(Holidays!$A:$A,D$4)>0,\"H\",IFERROR(VLOOKUP((ROW(D27)-4)&\"_\"&D$4,Schedule!$H:$I,2,FALSE),\"\"))))","v":""},{"$f":"IF($A27=\"\",\"\",IF(OR(E$3=\"Sat\",E$3=\"Sun\"),\"\",IF(COUNTIF(Holidays!$A:$A,E$4)>0,\"H\",IFERROR(VLOOKUP((ROW(E27)-4)&\"_\"&E$4,Schedule!$H:$I,2,FALSE),\"\"))))","v":""},{"$f":"IF($A27=\"\",\"\",IF(OR(F$3=\"Sat\",F$3=\"Sun\"),\"\",IF(COUNTIF(Holidays!$A:$A,F$4)>0,\"H\",IFERROR(VLOOKUP((ROW(F27)-4)&\"_\"&F$4,Schedule!$H:$I,2,FALSE),\"\"))))","v":""},{"$f":"IF($A27=\"\",\"\",IF(OR(G$3=\"Sat\",G$3=\"Sun\"),\"\",IF(COUNTIF(Holidays!$A:$A,G$4)>0,\"H\",IFERROR(VLOOKUP((ROW(G27)-4)&\"_\"&G$4,Schedule!$H:$I,2,FALSE),\"\"))))","v":""},{"$f":"IF($A27=\"\",\"\",IF(OR(H$3=\"Sat\",H$3=\"Sun\"),\"\",IF(COUNTIF(Holidays!$A:$A,H$4)>0,\"H\",IFERROR(VLOOKUP((ROW(H27)-4)&\"_\"&H$4,Schedule!$H:$I,2,FALSE),\"\"))))","v":""},{"$f":"IF($A27=\"\",\"\",IF(OR(I$3=\"Sat\",I$3=\"Sun\"),\"\",IF(COUNTIF(Holidays!$A:$A,I$4)>0,\"H\",IFERROR(VLOOKUP((ROW(I27)-4)&\"_\"&I$4,Schedule!$H:$I,2,FALSE),\"\"))))","v":""},{"$f":"IF($A27=\"\",\"\",IF(OR(J$3=\"Sat\",J$3=\"Sun\"),\"\",IF(COUNTIF(Holidays!$A:$A,J$4)>0,\"H\",IFERROR(VLOOKUP((ROW(J27)-4)&\"_\"&J$4,Schedule!$H:$I,2,FALSE),\"\"))))","v":""},{"$f":"IF($A27=\"\",\"\",IF(OR(K$3=\"Sat\",K$3=\"Sun\"),\"\",IF(COUNTIF(Holidays!$A:$A,K$4)>0,\"H\",IFERROR(VLOOKUP((ROW(K27)-4)&\"_\"&K$4,Schedule!$H:$I,2,FALSE),\"\"))))","v":""},{"$f":"IF($A27=\"\",\"\",IF(OR(L$3=\"Sat\",L$3=\"Sun\"),\"\",IF(COUNTIF(Holidays!$A:$A,L$4)>0,\"H\",IFERROR(VLOOKUP((ROW(L27)-4)&\"_\"&L$4,Schedule!$H:$I,2,FALSE),\"\"))))","v":""},{"$f":"IF($A27=\"\",\"\",IF(OR(M$3=\"Sat\",M$3=\"Sun\"),\"\",IF(COUNTIF(Holidays!$A:$A,M$4)>0,\"H\",IFERROR(VLOOKUP((ROW(M27)-4)&\"_\"&M$4,Schedule!$H:$I,2,FALSE),\"\"))))","v":""},{"$f":"IF($A27=\"\",\"\",IF(OR(N$3=\"Sat\",N$3=\"Sun\"),\"\",IF(COUNTIF(Holidays!$A:$A,N$4)>0,\"H\",IFERROR(VLOOKUP((ROW(N27)-4)&\"_\"&N$4,Schedule!$H:$I,2,FALSE),\"\"))))","v":""},{"$f":"IF($A27=\"\",\"\",IF(OR(O$3=\"Sat\",O$3=\"Sun\"),\"\",IF(COUNTIF(Holidays!$A:$A,O$4)>0,\"H\",IFERROR(VLOOKUP((ROW(O27)-4)&\"_\"&O$4,Schedule!$H:$I,2,FALSE),\"\"))))","v":""},{"$f":"IF($A27=\"\",\"\",IF(OR(P$3=\"Sat\",P$3=\"Sun\"),\"\",IF(COUNTIF(Holidays!$A:$A,P$4)>0,\"H\",IFERROR(VLOOKUP((ROW(P27)-4)&\"_\"&P$4,Schedule!$H:$I,2,FALSE),\"\"))))","v":""},{"$f":"IF($A27=\"\",\"\",IF(OR(Q$3=\"Sat\",Q$3=\"Sun\"),\"\",IF(COUNTIF(Holidays!$A:$A,Q$4)>0,\"H\",IFERROR(VLOOKUP((ROW(Q27)-4)&\"_\"&Q$4,Schedule!$H:$I,2,FALSE),\"\"))))","v":""},{"$f":"IF($A27=\"\",\"\",IF(OR(R$3=\"Sat\",R$3=\"Sun\"),\"\",IF(COUNTIF(Holidays!$A:$A,R$4)>0,\"H\",IFERROR(VLOOKUP((ROW(R27)-4)&\"_\"&R$4,Schedule!$H:$I,2,FALSE),\"\"))))","v":""},{"$f":"IF($A27=\"\",\"\",IF(OR(S$3=\"Sat\",S$3=\"Sun\"),\"\",IF(COUNTIF(Holidays!$A:$A,S$4)>0,\"H\",IFERROR(VLOOKUP((ROW(S27)-4)&\"_\"&S$4,Schedule!$H:$I,2,FALSE),\"\"))))","v":""},{"$f":"IF($A27=\"\",\"\",IF(OR(T$3=\"Sat\",T$3=\"Sun\"),\"\",IF(COUNTIF(Holidays!$A:$A,T$4)>0,\"H\",IFERROR(VLOOKUP((ROW(T27)-4)&\"_\"&T$4,Schedule!$H:$I,2,FALSE),\"\"))))","v":""},{"$f":"IF($A27=\"\",\"\",IF(OR(U$3=\"Sat\",U$3=\"Sun\"),\"\",IF(COUNTIF(Holidays!$A:$A,U$4)>0,\"H\",IFERROR(VLOOKUP((ROW(U27)-4)&\"_\"&U$4,Schedule!$H:$I,2,FALSE),\"\"))))","v":""},{"$f":"IF($A27=\"\",\"\",IF(OR(V$3=\"Sat\",V$3=\"Sun\"),\"\",IF(COUNTIF(Holidays!$A:$A,V$4)>0,\"H\",IFERROR(VLOOKUP((ROW(V27)-4)&\"_\"&V$4,Schedule!$H:$I,2,FALSE),\"\"))))","v":""},{"$f":"IF($A27=\"\",\"\",IF(OR(W$3=\"Sat\",W$3=\"Sun\"),\"\",IF(COUNTIF(Holidays!$A:$A,W$4)>0,\"H\",IFERROR(VLOOKUP((ROW(W27)-4)&\"_\"&W$4,Schedule!$H:$I,2,FALSE),\"\"))))","v":""},{"$f":"IF($A27=\"\",\"\",IF(OR(X$3=\"Sat\",X$3=\"Sun\"),\"\",IF(COUNTIF(Holidays!$A:$A,X$4)>0,\"H\",IFERROR(VLOOKUP((ROW(X27)-4)&\"_\"&X$4,Schedule!$H:$I,2,FALSE),\"\"))))","v":""},{"$f":"IF($A27=\"\",\"\",IF(OR(Y$3=\"Sat\",Y$3=\"Sun\"),\"\",IF(COUNTIF(Holidays!$A:$A,Y$4)>0,\"H\",IFERROR(VLOOKUP((ROW(Y27)-4)&\"_\"&Y$4,Schedule!$H:$I,2,FALSE),\"\"))))","v":""},{"$f":"IF($A27=\"\",\"\",IF(OR(Z$3=\"Sat\",Z$3=\"Sun\"),\"\",IF(COUNTIF(Holidays!$A:$A,Z$4)>0,\"H\",IFERROR(VLOOKUP((ROW(Z27)-4)&\"_\"&Z$4,Schedule!$H:$I,2,FALSE),\"\"))))","v":""},{"$f":"IF($A27=\"\",\"\",IF(OR(AA$3=\"Sat\",AA$3=\"Sun\"),\"\",IF(COUNTIF(Holidays!$A:$A,AA$4)>0,\"H\",IFERROR(VLOOKUP((ROW(AA27)-4)&\"_\"&AA$4,Schedule!$H:$I,2,FALSE),\"\"))))","v":""},{"$f":"IF($A27=\"\",\"\",IF(OR(AB$3=\"Sat\",AB$3=\"Sun\"),\"\",IF(COUNTIF(Holidays!$A:$A,AB$4)>0,\"H\",IFERROR(VLOOKUP((ROW(AB27)-4)&\"_\"&AB$4,Schedule!$H:$I,2,FALSE),\"\"))))","v":""},{"$f":"IF($A27=\"\",\"\",IF(OR(AC$3=\"Sat\",AC$3=\"Sun\"),\"\",IF(COUNTIF(Holidays!$A:$A,AC$4)>0,\"H\",IFERROR(VLOOKUP((ROW(AC27)-4)&\"_\"&AC$4,Schedule!$H:$I,2,FALSE),\"\"))))","v":""},{"$f":"IF($A27=\"\",\"\",IF(OR(AD$3=\"Sat\",AD$3=\"Sun\"),\"\",IF(COUNTIF(Holidays!$A:$A,AD$4)>0,\"H\",IFERROR(VLOOKUP((ROW(AD27)-4)&\"_\"&AD$4,Schedule!$H:$I,2,FALSE),\"\"))))","v":""},{"$f":"IF($A27=\"\",\"\",IF(OR(AE$3=\"Sat\",AE$3=\"Sun\"),\"\",IF(COUNTIF(Holidays!$A:$A,AE$4)>0,\"H\",IFERROR(VLOOKUP((ROW(AE27)-4)&\"_\"&AE$4,Schedule!$H:$I,2,FALSE),\"\"))))","v":""},{"$f":"IF($A27=\"\",\"\",IF(OR(AF$3=\"Sat\",AF$3=\"Sun\"),\"\",IF(COUNTIF(Holidays!$A:$A,AF$4)>0,\"H\",IFERROR(VLOOKUP((ROW(AF27)-4)&\"_\"&AF$4,Schedule!$H:$I,2,FALSE),\"\"))))","v":""},{"$f":"IF($A27=\"\",\"\",IF(OR(AG$3=\"Sat\",AG$3=\"Sun\"),\"\",IF(COUNTIF(Holidays!$A:$A,AG$4)>0,\"H\",IFERROR(VLOOKUP((ROW(AG27)-4)&\"_\"&AG$4,Schedule!$H:$I,2,FALSE),\"\"))))","v":""},{"$f":"IF($A27=\"\",\"\",IF(OR(AH$3=\"Sat\",AH$3=\"Sun\"),\"\",IF(COUNTIF(Holidays!$A:$A,AH$4)>0,\"H\",IFERROR(VLOOKUP((ROW(AH27)-4)&\"_\"&AH$4,Schedule!$H:$I,2,FALSE),\"\"))))","v":""},{"$f":"IF($A27=\"\",\"\",IF(OR(AI$3=\"Sat\",AI$3=\"Sun\"),\"\",IF(COUNTIF(Holidays!$A:$A,AI$4)>0,\"H\",IFERROR(VLOOKUP((ROW(AI27)-4)&\"_\"&AI$4,Schedule!$H:$I,2,FALSE),\"\"))))","v":""},{"$f":"IF($A27=\"\",\"\",IF(OR(AJ$3=\"Sat\",AJ$3=\"Sun\"),\"\",IF(COUNTIF(Holidays!$A:$A,AJ$4)>0,\"H\",IFERROR(VLOOKUP((ROW(AJ27)-4)&\"_\"&AJ$4,Schedule!$H:$I,2,FALSE),\"\"))))","v":""},{"$f":"IF($A27=\"\",\"\",ROUND(SUMIFS(Schedule!$E:$E,Schedule!$A:$A,$A27,Schedule!$D:$D,$AK$3,Schedule!$B:$B,\">=\"&DATE($Q$2,$U$2,1),Schedule!$B:$B,\"<=\"&EOMONTH(DATE($Q$2,$U$2,1),0))/8,2))","v":""},{"$f":"IF($A27=\"\",\"\",ROUND(SUMIFS(Schedule!$E:$E,Schedule!$A:$A,$A27,Schedule!$D:$D,$AK$3,Schedule!$B:$B,\">=\"&DATE($Q$2,1,1),Schedule!$B:$B,\"<=\"&EOMONTH(DATE($Q$2,$U$2,1),0))/8,2))","v":""},{"$f":"IF($A27=\"\",\"\",ROUND(SUMIFS(Schedule!$E:$E,Schedule!$A:$A,$A27,Schedule!$D:$D,$AM$3,Schedule!$B:$B,\">=\"&DATE($Q$2,$U$2,1),Schedule!$B:$B,\"<=\"&EOMONTH(DATE($Q$2,$U$2,1),0))/8,2))","v":""},{"$f":"IF($A27=\"\",\"\",ROUND(SUMIFS(Schedule!$E:$E,Schedule!$A:$A,$A27,Schedule!$D:$D,$AM$3,Schedule!$B:$B,\">=\"&DATE($Q$2,1,1),Schedule!$B:$B,\"<=\"&EOMONTH(DATE($Q$2,$U$2,1),0))/8,2))","v":""}]
[{"$f":"IF(Lookups!A25=\"\",\"\",Lookups!A25)","v":""},{"$f":"IF($A28=\"\",\"\",IF(OR(B$3=\"Sat\",B$3=\"Sun\"),\"\",IF(COUNTIF(Holidays!$A:$A,B$4)>0,\"H\",IFERROR(VLOOKUP((ROW(B28)-4)&\"_\"&B$4,Schedule!$H:$I,2,FALSE),\"\"))))","v":""},{"$f":"IF($A28=\"\",\"\",IF(OR(C$3=\"Sat\",C$3=\"Sun\"),\"\",IF(COUNTIF(Holidays!$A:$A,C$4)>0,\"H\",IFERROR(VLOOKUP((ROW(C28)-4)&\"_\"&C$4,Schedule!$H:$I,2,FALSE),\"\"))))","v":""},{"$f":"IF($A28=\"\",\"\",IF(OR(D$3=\"Sat\",D$3=\"Sun\"),\"\",IF(COUNTIF(Holidays!$A:$A,D$4)>0,\"H\",IFERROR(VLOOKUP((ROW(D28)-4)&\"_\"&D$4,Schedule!$H:$I,2,FALSE),\"\"))))","v":""},{"$f":"IF($A28=\"\",\"\",IF(OR(E$3=\"Sat\",E$3=\"Sun\"),\"\",IF(COUNTIF(Holidays!$A:$A,E$4)>0,\"H\",IFERROR(VLOOKUP((ROW(E28)-4)&\"_\"&E$4,Schedule!$H:$I,2,FALSE),\"\"))))","v":""},{"$f":"IF($A28=\"\",\"\",IF(OR(F$3=\"Sat\",F$3=\"Sun\"),\"\",IF(COUNTIF(Holidays!$A:$A,F$4)>0,\"H\",IFERROR(VLOOKUP((ROW(F28)-4)&\"_\"&F$4,Schedule!$H:$I,2,FALSE),\"\"))))","v":""},{"$f":"IF($A28=\"\",\"\",IF(OR(G$3=\"Sat\",G$3=\"Sun\"),\"\",IF(COUNTIF(Holidays!$A:$A,G$4)>0,\"H\",IFERROR(VLOOKUP((ROW(G28)-4)&\"_\"&G$4,Schedule!$H:$I,2,FALSE),\"\"))))","v":""},{"$f":"IF($A28=\"\",\"\",IF(OR(H$3=\"Sat\",H$3=\"Sun\"),\"\",IF(COUNTIF(Holidays!$A:$A,H$4)>0,\"H\",IFERROR(VLOOKUP((ROW(H28)-4)&\"_\"&H$4,Schedule!$H:$I,2,FALSE),\"\"))))","v":""},{"$f":"IF($A28=\"\",\"\",IF(OR(I$3=\"Sat\",I$3=\"Sun\"),\"\",IF(COUNTIF(Holidays!$A:$A,I$4)>0,\"H\",IFERROR(VLOOKUP((ROW(I28)-4)&\"_\"&I$4,Schedule!$H:$I,2,FALSE),\"\"))))","v":""},{"$f":"IF($A28=\"\",\"\",IF(OR(J$3=\"Sat\",J$3=\"Sun\"),\"\",IF(COUNTIF(Holidays!$A:$A,J$4)>0,\"H\",IFERROR(VLOOKUP((ROW(J28)-4)&\"_\"&J$4,Schedule!$H:$I,2,FALSE),\"\"))))","v":""},{"$f":"IF($A28=\"\",\"\",IF(OR(K$3=\"Sat\",K$3=\"Sun\"),\"\",IF(COUNTIF(Holidays!$A:$A,K$4)>0,\"H\",IFERROR(VLOOKUP((ROW(K28)-4)&\"_\"&K$4,Schedule!$H:$I,2,FALSE),\"\"))))","v":""},{"$f":"IF($A28=\"\",\"\",IF(OR(L$3=\"Sat\",L$3=\"Sun\"),\"\",IF(COUNTIF(Holidays!$A:$A,L$4)>0,\"H\",IFERROR(VLOOKUP((ROW(L28)-4)&\"_\"&L$4,Schedule!$H:$I,2,FALSE),\"\"))))","v":""},{"$f":"IF($A28=\"\",\"\",IF(OR(M$3=\"Sat\",M$3=\"Sun\"),\"\",IF(COUNTIF(Holidays!$A:$A,M$4)>0,\"H\",IFERROR(VLOOKUP((ROW(M28)-4)&\"_\"&M$4,Schedule!$H:$I,2,FALSE),\"\"))))","v":""},{"$f":"IF($A28=\"\",\"\",IF(OR(N$3=\"Sat\",N$3=\"Sun\"),\"\",IF(COUNTIF(Holidays!$A:$A,N$4)>0,\"H\",IFERROR(VLOOKUP((ROW(N28)-4)&\"_\"&N$4,Schedule!$H:$I,2,FALSE),\"\"))))","v":""},{"$f":"IF($A28=\"\",\"\",IF(OR(O$3=\"Sat\",O$3=\"Sun\"),\"\",IF(COUNTIF(Holidays!$A:$A,O$4)>0,\"H\",IFERROR(VLOOKUP((ROW(O28)-4)&\"_\"&O$4,Schedule!$H:$I,2,FALSE),\"\"))))","v":""},{"$f":"IF($A28=\"\",\"\",IF(OR(P$3=\"Sat\",P$3=\"Sun\"),\"\",IF(COUNTIF(Holidays!$A:$A,P$4)>0,\"H\",IFERROR(VLOOKUP((ROW(P28)-4)&\"_\"&P$4,Schedule!$H:$I,2,FALSE),\"\"))))","v":""},{"$f":"IF($A28=\"\",\"\",IF(OR(Q$3=\"Sat\",Q$3=\"Sun\"),\"\",IF(COUNTIF(Holidays!$A:$A,Q$4)>0,\"H\",IFERROR(VLOOKUP((ROW(Q28)-4)&\"_\"&Q$4,Schedule!$H:$I,2,FALSE),\"\"))))","v":""},{"$f":"IF($A28=\"\",\"\",IF(OR(R$3=\"Sat\",R$3=\"Sun\"),\"\",IF(COUNTIF(Holidays!$A:$A,R$4)>0,\"H\",IFERROR(VLOOKUP((ROW(R28)-4)&\"_\"&R$4,Schedule!$H:$I,2,FALSE),\"\"))))","v":""},{"$f":"IF($A28=\"\",\"\",IF(OR(S$3=\"Sat\",S$3=\"Sun\"),\"\",IF(COUNTIF(Holidays!$A:$A,S$4)>0,\"H\",IFERROR(VLOOKUP((ROW(S28)-4)&\"_\"&S$4,Schedule!$H:$I,2,FALSE),\"\"))))","v":""},{"$f":"IF($A28=\"\",\"\",IF(OR(T$3=\"Sat\",T$3=\"Sun\"),\"\",IF(COUNTIF(Holidays!$A:$A,T$4)>0,\"H\",IFERROR(VLOOKUP((ROW(T28)-4)&\"_\"&T$4,Schedule!$H:$I,2,FALSE),\"\"))))","v":""},{"$f":"IF($A28=\"\",\"\",IF(OR(U$3=\"Sat\",U$3=\"Sun\"),\"\",IF(COUNTIF(Holidays!$A:$A,U$4)>0,\"H\",IFERROR(VLOOKUP((ROW(U28)-4)&\"_\"&U$4,Schedule!$H:$I,2,FALSE),\"\"))))","v":""},{"$f":"IF($A28=\"\",\"\",IF(OR(V$3=\"Sat\",V$3=\"Sun\"),\"\",IF(COUNTIF(Holidays!$A:$A,V$4)>0,\"H\",IFERROR(VLOOKUP((ROW(V28)-4)&\"_\"&V$4,Schedule!$H:$I,2,FALSE),\"\"))))","v":""},{"$f":"IF($A28=\"\",\"\",IF(OR(W$3=\"Sat\",W$3=\"Sun\"),\"\",IF(COUNTIF(Holidays!$A:$A,W$4)>0,\"H\",IFERROR(VLOOKUP((ROW(W28)-4)&\"_\"&W$4,Schedule!$H:$I,2,FALSE),\"\"))))","v":""},{"$f":"IF($A28=\"\",\"\",IF(OR(X$3=\"Sat\",X$3=\"Sun\"),\"\",IF(COUNTIF(Holidays!$A:$A,X$4)>0,\"H\",IFERROR(VLOOKUP((ROW(X28)-4)&\"_\"&X$4,Schedule!$H:$I,2,FALSE),\"\"))))","v":""},{"$f":"IF($A28=\"\",\"\",IF(OR(Y$3=\"Sat\",Y$3=\"Sun\"),\"\",IF(COUNTIF(Holidays!$A:$A,Y$4)>0,\"H\",IFERROR(VLOOKUP((ROW(Y28)-4)&\"_\"&Y$4,Schedule!$H:$I,2,FALSE),\"\"))))","v":""},{"$f":"IF($A28=\"\",\"\",IF(OR(Z$3=\"Sat\",Z$3=\"Sun\"),\"\",IF(COUNTIF(Holidays!$A:$A,Z$4)>0,\"H\",IFERROR(VLOOKUP((ROW(Z28)-4)&\"_\"&Z$4,Schedule!$H:$I,2,FALSE),\"\"))))","v":""},{"$f":"IF($A28=\"\",\"\",IF(OR(AA$3=\"Sat\",AA$3=\"Sun\"),\"\",IF(COUNTIF(Holidays!$A:$A,AA$4)>0,\"H\",IFERROR(VLOOKUP((ROW(AA28)-4)&\"_\"&AA$4,Schedule!$H:$I,2,FALSE),\"\"))))","v":""},{"$f":"IF($A28=\"\",\"\",IF(OR(AB$3=\"Sat\",AB$3=\"Sun\"),\"\",IF(COUNTIF(Holidays!$A:$A,AB$4)>0,\"H\",IFERROR(VLOOKUP((ROW(AB28)-4)&\"_\"&AB$4,Schedule!$H:$I,2,FALSE),\"\"))))","v":""},{"$f":"IF($A28=\"\",\"\",IF(OR(AC$3=\"Sat\",AC$3=\"Sun\"),\"\",IF(COUNTIF(Holidays!$A:$A,AC$4)>0,\"H\",IFERROR(VLOOKUP((ROW(AC28)-4)&\"_\"&AC$4,Schedule!$H:$I,2,FALSE),\"\"))))","v":""},{"$f":"IF($A28=\"\",\"\",IF(OR(AD$3=\"Sat\",AD$3=\"Sun\"),\"\",IF(COUNTIF(Holidays!$A:$A,AD$4)>0,\"H\",IFERROR(VLOOKUP((ROW(AD28)-4)&\"_\"&AD$4,Schedule!$H:$I,2,FALSE),\"\"))))","v":""},{"$f":"IF($A28=\"\",\"\",IF(OR(AE$3=\"Sat\",AE$3=\"Sun\"),\"\",IF(COUNTIF(Holidays!$A:$A,AE$4)>0,\"H\",IFERROR(VLOOKUP((ROW(AE28)-4)&\"_\"&AE$4,Schedule!$H:$I,2,FALSE),\"\"))))","v":""},{"$f":"IF($A28=\"\",\"\",IF(OR(AF$3=\"Sat\",AF$3=\"Sun\"),\"\",IF(COUNTIF(Holidays!$A:$A,AF$4)>0,\"H\",IFERROR(VLOOKUP((ROW(AF28)-4)&\"_\"&AF$4,Schedule!$H:$I,2,FALSE),\"\"))))","v":""},{"$f":"IF($A28=\"\",\"\",IF(OR(AG$3=\"Sat\",AG$3=\"Sun\"),\"\",IF(COUNTIF(Holidays!$A:$A,AG$4)>0,\"H\",IFERROR(VLOOKUP((ROW(AG28)-4)&\"_\"&AG$4,Schedule!$H:$I,2,FALSE),\"\"))))","v":""},{"$f":"IF($A28=\"\",\"\",IF(OR(AH$3=\"Sat\",AH$3=\"Sun\"),\"\",IF(COUNTIF(Holidays!$A:$A,AH$4)>0,\"H\",IFERROR(VLOOKUP((ROW(AH28)-4)&\"_\"&AH$4,Schedule!$H:$I,2,FALSE),\"\"))))","v":""},{"$f":"IF($A28=\"\",\"\",IF(OR(AI$3=\"Sat\",AI$3=\"Sun\"),\"\",IF(COUNTIF(Holidays!$A:$A,AI$4)>0,\"H\",IFERROR(VLOOKUP((ROW(AI28)-4)&\"_\"&AI$4,Schedule!$H:$I,2,FALSE),\"\"))))","v":""},{"$f":"IF($A28=\"\",\"\",IF(OR(AJ$3=\"Sat\",AJ$3=\"Sun\"),\"\",IF(COUNTIF(Holidays!$A:$A,AJ$4)>0,\"H\",IFERROR(VLOOKUP((ROW(AJ28)-4)&\"_\"&AJ$4,Schedule!$H:$I,2,FALSE),\"\"))))","v":""},{"$f":"IF($A28=\"\",\"\",ROUND(SUMIFS(Schedule!$E:$E,Schedule!$A:$A,$A28,Schedule!$D:$D,$AK$3,Schedule!$B:$B,\">=\"&DATE($Q$2,$U$2,1),Schedule!$B:$B,\"<=\"&EOMONTH(DATE($Q$2,$U$2,1),0))/8,2))","v":""},{"$f":"IF($A28=\"\",\"\",ROUND(SUMIFS(Schedule!$E:$E,Schedule!$A:$A,$A28,Schedule!$D:$D,$AK$3,Schedule!$B:$B,\">=\"&DATE($Q$2,1,1),Schedule!$B:$B,\"<=\"&EOMONTH(DATE($Q$2,$U$2,1),0))/8,2))","v":""},{"$f":"IF($A28=\"\",\"\",ROUND(SUMIFS(Schedule!$E:$E,Schedule!$A:$A,$A28,Schedule!$D:$D,$AM$3,Schedule!$B:$B,\">=\"&DATE($Q$2,$U$2,1),Schedule!$B:$B,\"<=\"&EOMONTH(DATE($Q$2,$U$2,1),0))/8,2))","v":""},{"$f":"IF($A28=\"\",\"\",ROUND(SUMIFS(Schedule!$E:$E,Schedule!$A:$A,$A28,Schedule!$D:$D,$AM$3,Schedule!$B:$B,\">=\"&DATE($Q$2,1,1),Schedule!$B:$B,\"<=\"&EOMONTH(DATE($Q$2,$U$2,1),0))/8,2))","v":""}]
[{"$f":"IF(Lookups!A26=\"\",\"\",Lookups!A26)","v":""},{"$f":"IF($A29=\"\",\"\",IF(OR(B$3=\"Sat\",B$3=\"Sun\"),\"\",IF(COUNTIF(Holidays!$A:$A,B$4)>0,\"H\",IFERROR(VLOOKUP((ROW(B29)-4)&\"_\"&B$4,Schedule!$H:$I,2,FALSE),\"\"))))","v":""},{"$f":"IF($A29=\"\",\"\",IF(OR(C$3=\"Sat\",C$3=\"Sun\"),\"\",IF(COUNTIF(Holidays!$A:$A,C$4)>0,\"H\",IFERROR(VLOOKUP((ROW(C29)-4)&\"_\"&C$4,Schedule!$H:$I,2,FALSE),\"\"))))","v":""},{"$f":"IF($A29=\"\",\"\",IF(OR(D$3=\"Sat\",D$3=\"Sun\"),\"\",IF(COUNTIF(Holidays!$A:$A,D$4)>0,\"H\",IFERROR(VLOOKUP((ROW(D29)-4)&\"_\"&D$4,Schedule!$H:$I,2,FALSE),\"\"))))","v":""},{"$f":"IF($A29=\"\",\"\",IF(OR(E$3=\"Sat\",E$3=\"Sun\"),\"\",IF(COUNTIF(Holidays!$A:$A,E$4)>0,\"H\",IFERROR(VLOOKUP((ROW(E29)-4)&\"_\"&E$4,Schedule!$H:$I,2,FALSE),\"\"))))","v":""},{"$f":"IF($A29=\"\",\"\",IF(OR(F$3=\"Sat\",F$3=\"Sun\"),\"\",IF(COUNTIF(Holidays!$A:$A,F$4)>0,\"H\",IFERROR(VLOOKUP((ROW(F29)-4)&\"_\"&F$4,Schedule!$H:$I,2,FALSE),\"\"))))","v":""},{"$f":"IF($A29=\"\",\"\",IF(OR(G$3=\"Sat\",G$3=\"Sun\"),\"\",IF(COUNTIF(Holidays!$A:$A,G$4)>0,\"H\",IFERROR(VLOOKUP((ROW(G29)-4)&\"_\"&G$4,Schedule!$H:$I,2,FALSE),\"\"))))","v":""},{"$f":"IF($A29=\"\",\"\",IF(OR(H$3=\"Sat\",H$3=\"Sun\"),\"\",IF(COUNTIF(Holidays!$A:$A,H$4)>0,\"H\",IFERROR(VLOOKUP((ROW(H29)-4)&\"_\"&H$4,Schedule!$H:$I,2,FALSE),\"\"))))","v":""},{"$f":"IF($A29=\"\",\"\",IF(OR(I$3=\"Sat\",I$3=\"Sun\"),\"\",IF(COUNTIF(Holidays!$A:$A,I$4)>0,\"H\",IFERROR(VLOOKUP((ROW(I29)-4)&\"_\"&I$4,Schedule!$H:$I,2,FALSE),\"\"))))","v":""},{"$f":"IF($A29=\"\",\"\",IF(OR(J$3=\"Sat\",J$3=\"Sun\"),\"\",IF(COUNTIF(Holidays!$A:$A,J$4)>0,\"H\",IFERROR(VLOOKUP((ROW(J29)-4)&\"_\"&J$4,Schedule!$H:$I,2,FALSE),\"\"))))","v":""},{"$f":"IF($A29=\"\",\"\",IF(OR(K$3=\"Sat\",K$3=\"Sun\"),\"\",IF(COUNTIF(Holidays!$A:$A,K$4)>0,\"H\",IFERROR(VLOOKUP((ROW(K29)-4)&\"_\"&K$4,Schedule!$H:$I,2,FALSE),\"\"))))","v":""},{"$f":"IF($A29=\"\",\"\",IF(OR(L$3=\"Sat\",L$3=\"Sun\"),\"\",IF(COUNTIF(Holidays!$A:$A,L$4)>0,\"H\",IFERROR(VLOOKUP((ROW(L29)-4)&\"_\"&L$4,Schedule!$H:$I,2,FALSE),\"\"))))","v":""},{"$f":"IF($A29=\"\",\"\",IF(OR(M$3=\"Sat\",M$3=\"Sun\"),\"\",IF(COUNTIF(Holidays!$A:$A,M$4)>0,\"H\",IFERROR(VLOOKUP((ROW(M29)-4)&\"_\"&M$4,Schedule!$H:$I,2,FALSE),\"\"))))","v":""},{"$f":"IF($A29=\"\",\"\",IF(OR(N$3=\"Sat\",N$3=\"Sun\"),\"\",IF(COUNTIF(Holidays!$A:$A,N$4)>0,\"H\",IFERROR(VLOOKUP((ROW(N29)-4)&\"_\"&N$4,Schedule!$H:$I,2,FALSE),\"\"))))","v":""},{"$f":"IF($A29=\"\",\"\",IF(OR(O$3=\"Sat\",O$3=\"Sun\"),\"\",IF(COUNTIF(Holidays!$A:$A,O$4)>0,\"H\",IFERROR(VLOOKUP((ROW(O29)-4)&\"_\"&O$4,Schedule!$H:$I,2,FALSE),\"\"))))","v":""},{"$f":"IF($A29=\"\",\"\",IF(OR(P$3=\"Sat\",P$3=\"Sun\"),\"\",IF(COUNTIF(Holidays!$A:$A,P$4)>0,\"H\",IFERROR(VLOOKUP((ROW(P29)-4)&\"_\"&P$4,Schedule!$H:$I,2,FALSE),\"\"))))","v":""},{"$f":"IF($A29=\"\",\"\",IF(OR(Q$3=\"Sat\",Q$3=\"Sun\"),\"\",IF(COUNTIF(Holidays!$A:$A,Q$4)>0,\"H\",IFERROR(VLOOKUP((ROW(Q29)-4)&\"_\"&Q$4,Schedule!$H:$I,2,FALSE),\"\"))))","v":""},{"$f":"IF($A29=\"\",\"\",IF(OR(R$3=\"Sat\",R$3=\"Sun\"),\"\",IF(COUNTIF(Holidays!$A:$A,R$4)>0,\"H\",IFERROR(VLOOKUP((ROW(R29)-4)&\"_\"&R$4,Schedule!$H:$I,2,FALSE),\"\"))))","v":""},{"$f":"IF($A29=\"\",\"\",IF(OR(S$3=\"Sat\",S$3=\"Sun\"),\"\",IF(COUNTIF(Holidays!$A:$A,S$4)>0,\"H\",IFERROR(VLOOKUP((ROW(S29)-4)&\"_\"&S$4,Schedule!$H:$I,2,FALSE),\"\"))))","v":""},{"$f":"IF($A29=\"\",\"\",IF(OR(T$3=\"Sat\",T$3=\"Sun\"),\"\",IF(COUNTIF(Holidays!$A:$A,T$4)>0,\"H\",IFERROR(VLOOKUP((ROW(T29)-4)&\"_\"&T$4,Schedule!$H:$I,2,FALSE),\"\"))))","v":""},{"$f":"IF($A29=\"\",\"\",IF(OR(U$3=\"Sat\",U$3=\"Sun\"),\"\",IF(COUNTIF(Holidays!$A:$A,U$4)>0,\"H\",IFERROR(VLOOKUP((ROW(U29)-4)&\"_\"&U$4,Schedule!$H:$I,2,FALSE),\"\"))))","v":""},{"$f":"IF($A29=\"\",\"\",IF(OR(V$3=\"Sat\",V$3=\"Sun\"),\"\",IF(COUNTIF(Holidays!$A:$A,V$4)>0,\"H\",IFERROR(VLOOKUP((ROW(V29)-4)&\"_\"&V$4,Schedule!$H:$I,2,FALSE),\"\"))))","v":""},{"$f":"IF($A29=\"\",\"\",IF(OR(W$3=\"Sat\",W$3=\"Sun\"),\"\",IF(COUNTIF(Holidays!$A:$A,W$4)>0,\"H\",IFERROR(VLOOKUP((ROW(W29)-4)&\"_\"&W$4,Schedule!$H:$I,2,FALSE),\"\"))))","v":""},{"$f":"IF($A29=\"\",\"\",IF(OR(X$3=\"Sat\",X$3=\"Sun\"),\"\",IF(COUNTIF(Holidays!$A:$A,X$4)>0,\"H\",IFERROR(VLOOKUP((ROW(X29)-4)&\"_\"&X$4,Schedule!$H:$I,2,FALSE),\"\"))))","v":""},{"$f":"IF($A29=\"\",\"\",IF(OR(Y$3=\"Sat\",Y$3=\"Sun\"),\"\",IF(COUNTIF(Holidays!$A:$A,Y$4)>0,\"H\",IFERROR(VLOOKUP((ROW(Y29)-4)&\"_\"&Y$4,Schedule!$H:$I,2,FALSE),\"\"))))","v":""},{"$f":"IF($A29=\"\",\"\",IF(OR(Z$3=\"Sat\",Z$3=\"Sun\"),\"\",IF(COUNTIF(Holidays!$A:$A,Z$4)>0,\"H\",IFERROR(VLOOKUP((ROW(Z29)-4)&\"_\"&Z$4,Schedule!$H:$I,2,FALSE),\"\"))))","v":""},{"$f":"IF($A29=\"\",\"\",IF(OR(AA$3=\"Sat\",AA$3=\"Sun\"),\"\",IF(COUNTIF(Holidays!$A:$A,AA$4)>0,\"H\",IFERROR(VLOOKUP((ROW(AA29)-4)&\"_\"&AA$4,Schedule!$H:$I,2,FALSE),\"\"))))","v":""},{"$f":"IF($A29=\"\",\"\",IF(OR(AB$3=\"Sat\",AB$3=\"Sun\"),\"\",IF(COUNTIF(Holidays!$A:$A,AB$4)>0,\"H\",IFERROR(VLOOKUP((ROW(AB29)-4)&\"_\"&AB$4,Schedule!$H:$I,2,FALSE),\"\"))))","v":""},{"$f":"IF($A29=\"\",\"\",IF(OR(AC$3=\"Sat\",AC$3=\"Sun\"),\"\",IF(COUNTIF(Holidays!$A:$A,AC$4)>0,\"H\",IFERROR(VLOOKUP((ROW(AC29)-4)&\"_\"&AC$4,Schedule!$H:$I,2,FALSE),\"\"))))","v":""},{"$f":"IF($A29=\"\",\"\",IF(OR(AD$3=\"Sat\",AD$3=\"Sun\"),\"\",IF(COUNTIF(Holidays!$A:$A,AD$4)>0,\"H\",IFERROR(VLOOKUP((ROW(AD29)-4)&\"_\"&AD$4,Schedule!$H:$I,2,FALSE),\"\"))))","v":""},{"$f":"IF($A29=\"\",\"\",IF(OR(AE$3=\"Sat\",AE$3=\"Sun\"),\"\",IF(COUNTIF(Holidays!$A:$A,AE$4)>0,\"H\",IFERROR(VLOOKUP((ROW(AE29)-4)&\"_\"&AE$4,Schedule!$H:$I,2,FALSE),\"\"))))","v":""},{"$f":"IF($A29=\"\",\"\",IF(OR(AF$3=\"Sat\",AF$3=\"Sun\"),\"\",IF(COUNTIF(Holidays!$A:$A,AF$4)>0,\"H\",IFERROR(VLOOKUP((ROW(AF29)-4)&\"_\"&AF$4,Schedule!$H:$I,2,FALSE),\"\"))))","v":""},{"$f":"IF($A29=\"\",\"\",IF(OR(AG$3=\"Sat\",AG$3=\"Sun\"),\"\",IF(COUNTIF(Holidays!$A:$A,AG$4)>0,\"H\",IFERROR(VLOOKUP((ROW(AG29)-4)&\"_\"&AG$4,Schedule!$H:$I,2,FALSE),\"\"))))","v":""},{"$f":"IF($A29=\"\",\"\",IF(OR(AH$3=\"Sat\",AH$3=\"Sun\"),\"\",IF(COUNTIF(Holidays!$A:$A,AH$4)>0,\"H\",IFERROR(VLOOKUP((ROW(AH29)-4)&\"_\"&AH$4,Schedule!$H:$I,2,FALSE),\"\"))))","v":""},{"$f":"IF($A29=\"\",\"\",IF(OR(AI$3=\"Sat\",AI$3=\"Sun\"),\"\",IF(COUNTIF(Holidays!$A:$A,AI$4)>0,\"H\",IFERROR(VLOOKUP((ROW(AI29)-4)&\"_\"&AI$4,Schedule!$H:$I,2,FALSE),\"\"))))","v":""},{"$f":"IF($A29=\"\",\"\",IF(OR(AJ$3=\"Sat\",AJ$3=\"Sun\"),\"\",IF(COUNTIF(Holidays!$A:$A,AJ$4)>0,\"H\",IFERROR(VLOOKUP((ROW(AJ29)-4)&\"_\"&AJ$4,Schedule!$H:$I,2,FALSE),\"\"))))","v":""},{"$f":"IF($A29=\"\",\"\",ROUND(SUMIFS(Schedule!$E:$E,Schedule!$A:$A,$A29,Schedule!$D:$D,$AK$3,Schedule!$B:$B,\">=\"&DATE($Q$2,$U$2,1),Schedule!$B:$B,\"<=\"&EOMONTH(DATE($Q$2,$U$2,1),0))/8,2))","v":""},{"$f":"IF($A29=\"\",\"\",ROUND(SUMIFS(Schedule!$E:$E,Schedule!$A:$A,$A29,Schedule!$D:$D,$AK$3,Schedule!$B:$B,\">=\"&DATE($Q$2,1,1),Schedule!$B:$B,\"<=\"&EOMONTH(DATE($Q$2,$U$2,1),0))/8,2))","v":""},{"$f":"IF($A29=\"\",\"\",ROUND(SUMIFS(Schedule!$E:$E,Schedule!$A:$A,$A29,Schedule!$D:$D,$AM$3,Schedule!$B:$B,\">=\"&DATE($Q$2,$U$2,1),Schedule!$B:$B,\"<=\"&EOMONTH(DATE($Q$2,$U$2,1),0))/8,2))","v":""},{"$f":"IF($A29=\"\",\"\",ROUND(SUMIFS(Schedule!$E:$E,Schedule!$A:$A,$A29,Schedule!$D:$D,$AM$3,Schedule!$B:$B,\">=\"&DATE($Q$2,1,1),Schedule!$B:$B,\"<=\"&EOMONTH(DATE($Q$2,$U$2,1),0))/8,2))","v":""}]
[{"$f":"IF(Lookups!A27=\"\",\"\",Lookups!A27)","v":""},{"$f":"IF($A30=\"\",\"\",IF(OR(B$3=\"Sat\",B$3=\"Sun\"),\"\",IF(COUNTIF(Holidays!$A:$A,B$4)>0,\"H\",IFERROR(VLOOKUP((ROW(B30)-4)&\"_\"&B$4,Schedule!$H:$I,2,FALSE),\"\"))))","v":""},{"$f":"IF($A30=\"\",\"\",IF(OR(C$3=\"Sat\",C$3=\"Sun\"),\"\",IF(COUNTIF(Holidays!$A:$A,C$4)>0,\"H\",IFERROR(VLOOKUP((ROW(C30)-4)&\"_\"&C$4,Schedule!$H:$I,2,FALSE),\"\"))))","v":""},{"$f":"IF($A30=\"\",\"\",IF(OR(D$3=\"Sat\",D$3=\"Sun\"),\"\",IF(COUNTIF(Holidays!$A:$A,D$4)>0,\"H\",IFERROR(VLOOKUP((ROW(D30)-4)&\"_\"&D$4,Schedule!$H:$I,2,FALSE),\"\"))))","v":""},{"$f":"IF($A30=\"\",\"\",IF(OR(E$3=\"Sat\",E$3=\"Sun\"),\"\",IF(COUNTIF(Holidays!$A:$A,E$4)>0,\"H\",IFERROR(VLOOKUP((ROW(E30)-4)&\"_\"&E$4,Schedule!$H:$I,2,FALSE),\"\"))))","v":""},{"$f":"IF($A30=\"\",\"\",IF(OR(F$3=\"Sat\",F$3=\"Sun\"),\"\",IF(COUNTIF(Holidays!$A:$A,F$4)>0,\"H\",IFERROR(VLOOKUP((ROW(F30)-4)&\"_\"&F$4,Schedule!$H:$I,2,FALSE),\"\"))))","v":""},{"$f":"IF($A30=\"\",\"\",IF(OR(G$3=\"Sat\",G$3=\"Sun\"),\"\",IF(COUNTIF(Holidays!$A:$A,G$4)>0,\"H\",IFERROR(VLOOKUP((ROW(G30)-4)&\"_\"&G$4,Schedule!$H:$I,2,FALSE),\"\"))))","v":""},{"$f":"IF($A30=\"\",\"\",IF(OR(H$3=\"Sat\",H$3=\"Sun\"),\"\",IF(COUNTIF(Holidays!$A:$A,H$4)>0,\"H\",IFERROR(VLOOKUP((ROW(H30)-4)&\"_\"&H$4,Schedule!$H:$I,2,FALSE),\"\"))))","v":""},{"$f":"IF($A30=\"\",\"\",IF(OR(I$3=\"Sat\",I$3=\"Sun\"),\"\",IF(COUNTIF(Holidays!$A:$A,I$4)>0,\"H\",IFERROR(VLOOKUP((ROW(I30)-4)&\"_\"&I$4,Schedule!$H:$I,2,FALSE),\"\"))))","v":""},{"$f":"IF($A30=\"\",\"\",IF(OR(J$3=\"Sat\",J$3=\"Sun\"),\"\",IF(COUNTIF(Holidays!$A:$A,J$4)>0,\"H\",IFERROR(VLOOKUP((ROW(J30)-4)&\"_\"&J$4,Schedule!$H:$I,2,FALSE),\"\"))))","v":""},{"$f":"IF($A30=\"\",\"\",IF(OR(K$3=\"Sat\",K$3=\"Sun\"),\"\",IF(COUNTIF(Holidays!$A:$A,K$4)>0,\"H\",IFERROR(VLOOKUP((ROW(K30)-4)&\"_\"&K$4,Schedule!$H:$I,2,FALSE),\"\"))))","v":""},{"$f":"IF($A30=\"\",\"\",IF(OR(L$3=\"Sat\",L$3=\"Sun\"),\"\",IF(COUNTIF(Holidays!$A:$A,L$4)>0,\"H\",IFERROR(VLOOKUP((ROW(L30)-4)&\"_\"&L$4,Schedule!$H:$I,2,FALSE),\"\"))))","v":""},{"$f":"IF($A30=\"\",\"\",IF(OR(M$3=\"Sat\",M$3=\"Sun\"),\"\",IF(COUNTIF(Holidays!$A:$A,M$4)>0,\"H\",IFERROR(VLOOKUP((ROW(M30)-4)&\"_\"&M$4,Schedule!$H:$I,2,FALSE),\"\"))))","v":""},{"$f":"IF($A30=\"\",\"\",IF(OR(N$3=\"Sat\",N$3=\"Sun\"),\"\",IF(COUNTIF(Holidays!$A:$A,N$4)>0,\"H\",IFERROR(VLOOKUP((ROW(N30)-4)&\"_\"&N$4,Schedule!$H:$I,2,FALSE),\"\"))))","v":""},{"$f":"IF($A30=\"\",\"\",IF(OR(O$3=\"Sat\",O$3=\"Sun\"),\"\",IF(COUNTIF(Holidays!$A:$A,O$4)>0,\"H\",IFERROR(VLOOKUP((ROW(O30)-4)&\"_\"&O$4,Schedule!$H:$I,2,FALSE),\"\"))))","v":""},{"$f":"IF($A30=\"\",\"\",IF(OR(P$3=\"Sat\",P$3=\"Sun\"),\"\",IF(COUNTIF(Holidays!$A:$A,P$4)>0,\"H\",IFERROR(VLOOKUP((ROW(P30)-4)&\"_\"&P$4,Schedule!$H:$I,2,FALSE),\"\"))))","v":""},{"$f":"IF($A30=\"\",\"\",IF(OR(Q$3=\"Sat\",Q$3=\"Sun\"),\"\",IF(COUNTIF(Holidays!$A:$A,Q$4)>0,\"H\",IFERROR(VLOOKUP((ROW(Q30)-4)&\"_\"&Q$4,Schedule!$H:$I,2,FALSE),\"\"))))","v":""},{"$f":"IF($A30=\"\",\"\",IF(OR(R$3=\"Sat\",R$3=\"Sun\"),\"\",IF(COUNTIF(Holidays!$A:$A,R$4)>0,\"H\",IFERROR(VLOOKUP((ROW(R30)-4)&\"_\"&R$4,Schedule!$H:$I,2,FALSE),\"\"))))","v":""},{"$f":"IF($A30=\"\",\"\",IF(OR(S$3=\"Sat\",S$3=\"Sun\"),\"\",IF(COUNTIF(Holidays!$A:$A,S$4)>0,\"H\",IFERROR(VLOOKUP((ROW(S30)-4)&\"_\"&S$4,Schedule!$H:$I,2,FALSE),\"\"))))","v":""},{"$f":"IF($A30=\"\",\"\",IF(OR(T$3=\"Sat\",T$3=\"Sun\"),\"\",IF(COUNTIF(Holidays!$A:$A,T$4)>0,\"H\",IFERROR(VLOOKUP((ROW(T30)-4)&\"_\"&T$4,Schedule!$H:$I,2,FALSE),\"\"))))","v":""},{"$f":"IF($A30=\"\",\"\",IF(OR(U$3=\"Sat\",U$3=\"Sun\"),\"\",IF(COUNTIF(Holidays!$A:$A,U$4)>0,\"H\",IFERROR(VLOOKUP((ROW(U30)-4)&\"_\"&U$4,Schedule!$H:$I,2,FALSE),\"\"))))","v":""},{"$f":"IF($A30=\"\",\"\",IF(OR(V$3=\"Sat\",V$3=\"Sun\"),\"\",IF(COUNTIF(Holidays!$A:$A,V$4)>0,\"H\",IFERROR(VLOOKUP((ROW(V30)-4)&\"_\"&V$4,Schedule!$H:$I,2,FALSE),\"\"))))","v":""},{"$f":"IF($A30=\"\",\"\",IF(OR(W$3=\"Sat\",W$3=\"Sun\"),\"\",IF(COUNTIF(Holidays!$A:$A,W$4)>0,\"H\",IFERROR(VLOOKUP((ROW(W30)-4)&\"_\"&W$4,Schedule!$H:$I,2,FALSE),\"\"))))","v":""},{"$f":"IF($A30=\"\",\"\",IF(OR(X$3=\"Sat\",X$3=\"Sun\"),\"\",IF(COUNTIF(Holidays!$A:$A,X$4)>0,\"H\",IFERROR(VLOOKUP((ROW(X30)-4)&\"_\"&X$4,Schedule!$H:$I,2,FALSE),\"\"))))","v":""},{"$f":"IF($A30=\"\",\"\",IF(OR(Y$3=\"Sat\",Y$3=\"Sun\"),\"\",IF(COUNTIF(Holidays!$A:$A,Y$4)>0,\"H\",IFERROR(VLOOKUP((ROW(Y30)-4)&\"_\"&Y$4,Schedule!$H:$I,2,FALSE),\"\"))))","v":""},{"$f":"IF($A30=\"\",\"\",IF(OR(Z$3=\"Sat\",Z$3=\"Sun\"),\"\",IF(COUNTIF(Holidays!$A:$A,Z$4)>0,\"H\",IFERROR(VLOOKUP((ROW(Z30)-4)&\"_\"&Z$4,Schedule!$H:$I,2,FALSE),\"\"))))","v":""},{"$f":"IF($A30=\"\",\"\",IF(OR(AA$3=\"Sat\",AA$3=\"Sun\"),\"\",IF(COUNTIF(Holidays!$A:$A,AA$4)>0,\"H\",IFERROR(VLOOKUP((ROW(AA30)-4)&\"_\"&AA$4,Schedule!$H:$I,2,FALSE),\"\"))))","v":""},{"$f":"IF($A30=\"\",\"\",IF(OR(AB$3=\"Sat\",AB$3=\"Sun\"),\"\",IF(COUNTIF(Holidays!$A:$A,AB$4)>0,\"H\",IFERROR(VLOOKUP((ROW(AB30)-4)&\"_\"&AB$4,Schedule!$H:$I,2,FALSE),\"\"))))","v":""},{"$f":"IF($A30=\"\",\"\",IF(OR(AC$3=\"Sat\",AC$3=\"Sun\"),\"\",IF(COUNTIF(Holidays!$A:$A,AC$4)>0,\"H\",IFERROR(VLOOKUP((ROW(AC30)-4)&\"_\"&AC$4,Schedule!$H:$I,2,FALSE),\"\"))))","v":""},{"$f":"IF($A30=\"\",\"\",IF(OR(AD$3=\"Sat\",AD$3=\"Sun\"),\"\",IF(COUNTIF(Holidays!$A:$A,AD$4)>0,\"H\",IFERROR(VLOOKUP((ROW(AD30)-4)&\"_\"&AD$4,Schedule!$H:$I,2,FALSE),\"\"))))","v":""},{"$f":"IF($A30=\"\",\"\",IF(OR(AE$3=\"Sat\",AE$3=\"Sun\"),\"\",IF(COUNTIF(Holidays!$A:$A,AE$4)>0,\"H\",IFERROR(VLOOKUP((ROW(AE30)-4)&\"_\"&AE$4,Schedule!$H:$I,2,FALSE),\"\"))))","v":""},{"$f":"IF($A30=\"\",\"\",IF(OR(AF$3=\"Sat\",AF$3=\"Sun\"),\"\",IF(COUNTIF(Holidays!$A:$A,AF$4)>0,\"H\",IFERROR(VLOOKUP((ROW(AF30)-4)&\"_\"&AF$4,Schedule!$H:$I,2,FALSE),\"\"))))","v":""},{"$f":"IF($A30=\"\",\"\",IF(OR(AG$3=\"Sat\",AG$3=\"Sun\"),\"\",IF(COUNTIF(Holidays!$A:$A,AG$4)>0,\"H\",IFERROR(VLOOKUP((ROW(AG30)-4)&\"_\"&AG$4,Schedule!$H:$I,2,FALSE),\"\"))))","v":""},{"$f":"IF($A30=\"\",\"\",IF(OR(AH$3=\"Sat\",AH$3=\"Sun\"),\"\",IF(COUNTIF(Holidays!$A:$A,AH$4)>0,\"H\",IFERROR(VLOOKUP((ROW(AH30)-4)&\"_\"&AH$4,Schedule!$H:$I,2,FALSE),\"\"))))","v":""},{"$f":"IF($A30=\"\",\"\",IF(OR(AI$3=\"Sat\",AI$3=\"Sun\"),\"\",IF(COUNTIF(Holidays!$A:$A,AI$4)>0,\"H\",IFERROR(VLOOKUP((ROW(AI30)-4)&\"_\"&AI$4,Schedule!$H:$I,2,FALSE),\"\"))))","v":""},{"$f":"IF($A30=\"\",\"\",IF(OR(AJ$3=\"Sat\",AJ$3=\"Sun\"),\"\",IF(COUNTIF(Holidays!$A:$A,AJ$4)>0,\"H\",IFERROR(VLOOKUP((ROW(AJ30)-4)&\"_\"&AJ$4,Schedule!$H:$I,2,FALSE),\"\"))))","v":""},{"$f":"IF($A30=\"\",\"\",ROUND(SUMIFS(Schedule!$E:$E,Schedule!$A:$A,$A30,Schedule!$D:$D,$AK$3,Schedule!$B:$B,\">=\"&DATE($Q$2,$U$2,1),Schedule!$B:$B,\"<=\"&EOMONTH(DATE($Q$2,$U$2,1),0))/8,2))","v":""},{"$f":"IF($A30=\"\",\"\",ROUND(SUMIFS(Schedule!$E:$E,Schedule!$A:$A,$A30,Schedule!$D:$D,$AK$3,Schedule!$B:$B,\">=\"&DATE($Q$2,1,1),Schedule!$B:$B,\"<=\"&EOMONTH(DATE($Q$2,$U$2,1),0))/8,2))","v":""},{"$f":"IF($A30=\"\",\"\",ROUND(SUMIFS(Schedule!$E:$E,Schedule!$A:$A,$A30,Schedule!$D:$D,$AM$3,Schedule!$B:$B,\">=\"&DATE($Q$2,$U$2,1),Schedule!$B:$B,\"<=\"&EOMONTH(DATE($Q$2,$U$2,1),0))/8,2))","v":""},{"$f":"IF($A30=\"\",\"\",ROUND(SUMIFS(Schedule!$E:$E,Schedule!$A:$A,$A30,Schedule!$D:$D,$AM$3,Schedule!$B:$B,\">=\"&DATE($Q$2,1,1),Schedule!$B:$B,\"<=\"&EOMONTH(DATE($Q$2,$U$2,1),0))/8,2))","v":""}]
[{"$f":"IF(Lookups!A28=\"\",\"\",Lookups!A28)","v":""},{"$f":"IF($A31=\"\",\"\",IF(OR(B$3=\"Sat\",B$3=\"Sun\"),\"\",IF(COUNTIF(Holidays!$A:$A,B$4)>0,\"H\",IFERROR(VLOOKUP((ROW(B31)-4)&\"_\"&B$4,Schedule!$H:$I,2,FALSE),\"\"))))","v":""},{"$f":"IF($A31=\"\",\"\",IF(OR(C$3=\"Sat\",C$3=\"Sun\"),\"\",IF(COUNTIF(Holidays!$A:$A,C$4)>0,\"H\",IFERROR(VLOOKUP((ROW(C31)-4)&\"_\"&C$4,Schedule!$H:$I,2,FALSE),\"\"))))","v":""},{"$f":"IF($A31=\"\",\"\",IF(OR(D$3=\"Sat\",D$3=\"Sun\"),\"\",IF(COUNTIF(Holidays!$A:$A,D$4)>0,\"H\",IFERROR(VLOOKUP((ROW(D31)-4)&\"_\"&D$4,Schedule!$H:$I,2,FALSE),\"\"))))","v":""},{"$f":"IF($A31=\"\",\"\",IF(OR(E$3=\"Sat\",E$3=\"Sun\"),\"\",IF(COUNTIF(Holidays!$A:$A,E$4)>0,\"H\",IFERROR(VLOOKUP((ROW(E31)-4)&\"_\"&E$4,Schedule!$H:$I,2,FALSE),\"\"))))","v":""},{"$f":"IF($A31=\"\",\"\",IF(OR(F$3=\"Sat\",F$3=\"Sun\"),\"\",IF(COUNTIF(Holidays!$A:$A,F$4)>0,\"H\",IFERROR(VLOOKUP((ROW(F31)-4)&\"_\"&F$4,Schedule!$H:$I,2,FALSE),\"\"))))","v":""},{"$f":"IF($A31=\"\",\"\",IF(OR(G$3=\"Sat\",G$3=\"Sun\"),\"\",IF(COUNTIF(Holidays!$A:$A,G$4)>0,\"H\",IFERROR(VLOOKUP((ROW(G31)-4)&\"_\"&G$4,Schedule!$H:$I,2,FALSE),\"\"))))","v":""},{"$f":"IF($A31=\"\",\"\",IF(OR(H$3=\"Sat\",H$3=\"Sun\"),\"\",IF(COUNTIF(Holidays!$A:$A,H$4)>0,\"H\",IFERROR(VLOOKUP((ROW(H31)-4)&\"_\"&H$4,Schedule!$H:$I,2,FALSE),\"\"))))","v":""},{"$f":"IF($A31=\"\",\"\",IF(OR(I$3=\"Sat\",I$3=\"Sun\"),\"\",IF(COUNTIF(Holidays!$A:$A,I$4)>0,\"H\",IFERROR(VLOOKUP((ROW(I31)-4)&\"_\"&I$4,Schedule!$H:$I,2,FALSE),\"\"))))","v":""},{"$f":"IF($A31=\"\",\"\",IF(OR(J$3=\"Sat\",J$3=\"Sun\"),\"\",IF(COUNTIF(Holidays!$A:$A,J$4)>0,\"H\",IFERROR(VLOOKUP((ROW(J31)-4)&\"_\"&J$4,Schedule!$H:$I,2,FALSE),\"\"))))","v":""},{"$f":"IF($A31=\"\",\"\",IF(OR(K$3=\"Sat\",K$3=\"Sun\"),\"\",IF(COUNTIF(Holidays!$A:$A,K$4)>0,\"H\",IFERROR(VLOOKUP((ROW(K31)-4)&\"_\"&K$4,Schedule!$H:$I,2,FALSE),\"\"))))","v":""},{"$f":"IF($A31=\"\",\"\",IF(OR(L$3=\"Sat\",L$3=\"Sun\"),\"\",IF(COUNTIF(Holidays!$A:$A,L$4)>0,\"H\",IFERROR(VLOOKUP((ROW(L31)-4)&\"_\"&L$4,Schedule!$H:$I,2,FALSE),\"\"))))","v":""},{"$f":"IF($A31=\"\",\"\",IF(OR(M$3=\"Sat\",M$3=\"Sun\"),\"\",IF(COUNTIF(Holidays!$A:$A,M$4)>0,\"H\",IFERROR(VLOOKUP((ROW(M31)-4)&\"_\"&M$4,Schedule!$H:$I,2,FALSE),\"\"))))","v":""},{"$f":"IF($A31=\"\",\"\",IF(OR(N$3=\"Sat\",N$3=\"Sun\"),\"\",IF(COUNTIF(Holidays!$A:$A,N$4)>0,\"H\",IFERROR(VLOOKUP((ROW(N31)-4)&\"_\"&N$4,Schedule!$H:$I,2,FALSE),\"\"))))","v":""},{"$f":"IF($A31=\"\",\"\",IF(OR(O$3=\"Sat\",O$3=\"Sun\"),\"\",IF(COUNTIF(Holidays!$A:$A,O$4)>0,\"H\",IFERROR(VLOOKUP((ROW(O31)-4)&\"_\"&O$4,Schedule!$H:$I,2,FALSE),\"\"))))","v":""},{"$f":"IF($A31=\"\",\"\",IF(OR(P$3=\"Sat\",P$3=\"Sun\"),\"\",IF(COUNTIF(Holidays!$A:$A,P$4)>0,\"H\",IFERROR(VLOOKUP((ROW(P31)-4)&\"_\"&P$4,Schedule!$H:$I,2,FALSE),\"\"))))","v":""},{"$f":"IF($A31=\"\",\"\",IF(OR(Q$3=\"Sat\",Q$3=\"Sun\"),\"\",IF(COUNTIF(Holidays!$A:$A,Q$4)>0,\"H\",IFERROR(VLOOKUP((ROW(Q31)-4)&\"_\"&Q$4,Schedule!$H:$I,2,FALSE),\"\"))))","v":""},{"$f":"IF($A31=\"\",\"\",IF(OR(R$3=\"Sat\",R$3=\"Sun\"),\"\",IF(COUNTIF(Holidays!$A:$A,R$4)>0,\"H\",IFERROR(VLOOKUP((ROW(R31)-4)&\"_\"&R$4,Schedule!$H:$I,2,FALSE),\"\"))))","v":""},{"$f":"IF($A31=\"\",\"\",IF(OR(S$3=\"Sat\",S$3=\"Sun\"),\"\",IF(COUNTIF(Holidays!$A:$A,S$4)>0,\"H\",IFERROR(VLOOKUP((ROW(S31)-4)&\"_\"&S$4,Schedule!$H:$I,2,FALSE),\"\"))))","v":""},{"$f":"IF($A31=\"\",\"\",IF(OR(T$3=\"Sat\",T$3=\"Sun\"),\"\",IF(COUNTIF(Holidays!$A:$A,T$4)>0,\"H\",IFERROR(VLOOKUP((ROW(T31)-4)&\"_\"&T$4,Schedule!$H:$I,2,FALSE),\"\"))))","v":""},{"$f":"IF($A31=\"\",\"\",IF(OR(U$3=\"Sat\",U$3=\"Sun\"),\"\",IF(COUNTIF(Holidays!$A:$A,U$4)>0,\"H\",IFERROR(VLOOKUP((ROW(U31)-4)&\"_\"&U$4,Schedule!$H:$I,2,FALSE),\"\"))))","v":""},{"$f":"IF($A31=\"\",\"\",IF(OR(V$3=\"Sat\",V$3=\"Sun\"),\"\",IF(COUNTIF(Holidays!$A:$A,V$4)>0,\"H\",IFERROR(VLOOKUP((ROW(V31)-4)&\"_\"&V$4,Schedule!$H:$I,2,FALSE),\"\"))))","v":""},{"$f":"IF($A31=\"\",\"\",IF(OR(W$3=\"Sat\",W$3=\"Sun\"),\"\",IF(COUNTIF(Holidays!$A:$A,W$4)>0,\"H\",IFERROR(VLOOKUP((ROW(W31)-4)&\"_\"&W$4,Schedule!$H:$I,2,FALSE),\"\"))))","v":""},{"$f":"IF($A31=\"\",\"\",IF(OR(X$3=\"Sat\",X$3=\"Sun\"),\"\",IF(COUNTIF(Holidays!$A:$A,X$4)>0,\"H\",IFERROR(VLOOKUP((ROW(X31)-4)&\"_\"&X$4,Schedule!$H:$I,2,FALSE),\"\"))))","v":""},{"$f":"IF($A31=\"\",\"\",IF(OR(Y$3=\"Sat\",Y$3=\"Sun\"),\"\",IF(COUNTIF(Holidays!$A:$A,Y$4)>0,\"H\",IFERROR(VLOOKUP((ROW(Y31)-4)&\"_\"&Y$4,Schedule!$H:$I,2,FALSE),\"\"))))","v":""},{"$f":"IF($A31=\"\",\"\",IF(OR(Z$3=\"Sat\",Z$3=\"Sun\"),\"\",IF(COUNTIF(Holidays!$A:$A,Z$4)>0,\"H\",IFERROR(VLOOKUP((ROW(Z31)-4)&\"_\"&Z$4,Schedule!$H:$I,2,FALSE),\"\"))))","v":""},{"$f":"IF($A31=\"\",\"\",IF(OR(AA$3=\"Sat\",AA$3=\"Sun\"),\"\",IF(COUNTIF(Holidays!$A:$A,AA$4)>0,\"H\",IFERROR(VLOOKUP((ROW(AA31)-4)&\"_\"&AA$4,Schedule!$H:$I,2,FALSE),\"\"))))","v":""},{"$f":"IF($A31=\"\",\"\",IF(OR(AB$3=\"Sat\",AB$3=\"Sun\"),\"\",IF(COUNTIF(Holidays!$A:$A,AB$4)>0,\"H\",IFERROR(VLOOKUP((ROW(AB31)-4)&\"_\"&AB$4,Schedule!$H:$I,2,FALSE),\"\"))))","v":""},{"$f":"IF($A31=\"\",\"\",IF(OR(AC$3=\"Sat\",AC$3=\"Sun\"),\"\",IF(COUNTIF(Holidays!$A:$A,AC$4)>0,\"H\",IFERROR(VLOOKUP((ROW(AC31)-4)&\"_\"&AC$4,Schedule!$H:$I,2,FALSE),\"\"))))","v":""},{"$f":"IF($A31=\"\",\"\",IF(OR(AD$3=\"Sat\",AD$3=\"Sun\"),\"\",IF(COUNTIF(Holidays!$A:$A,AD$4)>0,\"H\",IFERROR(VLOOKUP((ROW(AD31)-4)&\"_\"&AD$4,Schedule!$H:$I,2,FALSE),\"\"))))","v":""},{"$f":"IF($A31=\"\",\"\",IF(OR(AE$3=\"Sat\",AE$3=\"Sun\"),\"\",IF(COUNTIF(Holidays!$A:$A,AE$4)>0,\"H\",IFERROR(VLOOKUP((ROW(AE31)-4)&\"_\"&AE$4,Schedule!$H:$I,2,FALSE),\"\"))))","v":""},{"$f":"IF($A31=\"\",\"\",IF(OR(AF$3=\"Sat\",AF$3=\"Sun\"),\"\",IF(COUNTIF(Holidays!$A:$A,AF$4)>0,\"H\",IFERROR(VLOOKUP((ROW(AF31)-4)&\"_\"&AF$4,Schedule!$H:$I,2,FALSE),\"\"))))","v":""},{"$f":"IF($A31=\"\",\"\",IF(OR(AG$3=\"Sat\",AG$3=\"Sun\"),\"\",IF(COUNTIF(Holidays!$A:$A,AG$4)>0,\"H\",IFERROR(VLOOKUP((ROW(AG31)-4)&\"_\"&AG$4,Schedule!$H:$I,2,FALSE),\"\"))))","v":""},{"$f":"IF($A31=\"\",\"\",IF(OR(AH$3=\"Sat\",AH$3=\"Sun\"),\"\",IF(COUNTIF(Holidays!$A:$A,AH$4)>0,\"H\",IFERROR(VLOOKUP((ROW(AH31)-4)&\"_\"&AH$4,Schedule!$H:$I,2,FALSE),\"\"))))","v":""},{"$f":"IF($A31=\"\",\"\",IF(OR(AI$3=\"Sat\",AI$3=\"Sun\"),\"\",IF(COUNTIF(Holidays!$A:$A,AI$4)>0,\"H\",IFERROR(VLOOKUP((ROW(AI31)-4)&\"_\"&AI$4,Schedule!$H:$I,2,FALSE),\"\"))))","v":""},{"$f":"IF($A31=\"\",\"\",IF(OR(AJ$3=\"Sat\",AJ$3=\"Sun\"),\"\",IF(COUNTIF(Holidays!$A:$A,AJ$4)>0,\"H\",IFERROR(VLOOKUP((ROW(AJ31)-4)&\"_\"&AJ$4,Schedule!$H:$I,2,FALSE),\"\"))))","v":""},{"$f":"IF($A31=\"\",\"\",ROUND(SUMIFS(Schedule!$E:$E,Schedule!$A:$A,$A31,Schedule!$D:$D,$AK$3,Schedule!$B:$B,\">=\"&DATE($Q$2,$U$2,1),Schedule!$B:$B,\"<=\"&EOMONTH(DATE($Q$2,$U$2,1),0))/8,2))","v":""},{"$f":"IF($A31=\"\",\"\",ROUND(SUMIFS(Schedule!$E:$E,Schedule!$A:$A,$A31,Schedule!$D:$D,$AK$3,Schedule!$B:$B,\">=\"&DATE($Q$2,1,1),Schedule!$B:$B,\"<=\"&EOMONTH(DATE($Q$2,$U$2,1),0))/8,2))","v":""},{"$f":"IF($A31=\"\",\"\",ROUND(SUMIFS(Schedule!$E:$E,Schedule!$A:$A,$A31,Schedule!$D:$D,$AM$3,Schedule!$B:$B,\">=\"&DATE($Q$2,$U$2,1),Schedule!$B:$B,\"<=\"&EOMONTH(DATE($Q$2,$U$2,1),0))/8,2))","v":""},{"$f":"IF($A31=\"\",\"\",ROUND(SUMIFS(Schedule!$E:$E,Schedule!$A:$A,$A31,Schedule!$D:$D,$AM$3,Schedule!$B:$B,\">=\"&DATE($Q$2,1,1),Schedule!$B:$B,\"<=\"&EOMONTH(DATE($Q$2,$U$2,1),0))/8,2))","v":""}]
[{"$f":"IF(Lookups!A29=\"\",\"\",Lookups!A29)","v":""},{"$f":"IF($A32=\"\",\"\",IF(OR(B$3=\"Sat\",B$3=\"Sun\"),\"\",IF(COUNTIF(Holidays!$A:$A,B$4)>0,\"H\",IFERROR(VLOOKUP((ROW(B32)-4)&\"_\"&B$4,Schedule!$H:$I,2,FALSE),\"\"))))","v":""},{"$f":"IF($A32=\"\",\"\",IF(OR(C$3=\"Sat\",C$3=\"Sun\"),\"\",IF(COUNTIF(Holidays!$A:$A,C$4)>0,\"H\",IFERROR(VLOOKUP((ROW(C32)-4)&\"_\"&C$4,Schedule!$H:$I,2,FALSE),\"\"))))","v":""},{"$f":"IF($A32=\"\",\"\",IF(OR(D$3=\"Sat\",D$3=\"Sun\"),\"\",IF(COUNTIF(Holidays!$A:$A,D$4)>0,\"H\",IFERROR(VLOOKUP((ROW(D32)-4)&\"_\"&D$4,Schedule!$H:$I,2,FALSE),\"\"))))","v":""},{"$f":"IF($A32=\"\",\"\",IF(OR(E$3=\"Sat\",E$3=\"Sun\"),\"\",IF(COUNTIF(Holidays!$A:$A,E$4)>0,\"H\",IFERROR(VLOOKUP((ROW(E32)-4)&\"_\"&E$4,Schedule!$H:$I,2,FALSE),\"\"))))","v":""},{"$f":"IF($A32=\"\",\"\",IF(OR(F$3=\"Sat\",F$3=\"Sun\"),\"\",IF(COUNTIF(Holidays!$A:$A,F$4)>0,\"H\",IFERROR(VLOOKUP((ROW(F32)-4)&\"_\"&F$4,Schedule!$H:$I,2,FALSE),\"\"))))","v":""},{"$f":"IF($A32=\"\",\"\",IF(OR(G$3=\"Sat\",G$3=\"Sun\"),\"\",IF(COUNTIF(Holidays!$A:$A,G$4)>0,\"H\",IFERROR(VLOOKUP((ROW(G32)-4)&\"_\"&G$4,Schedule!$H:$I,2,FALSE),\"\"))))","v":""},{"$f":"IF($A32=\"\",\"\",IF(OR(H$3=\"Sat\",H$3=\"Sun\"),\"\",IF(COUNTIF(Holidays!$A:$A,H$4)>0,\"H\",IFERROR(VLOOKUP((ROW(H32)-4)&\"_\"&H$4,Schedule!$H:$I,2,FALSE),\"\"))))","v":""},{"$f":"IF($A32=\"\",\"\",IF(OR(I$3=\"Sat\",I$3=\"Sun\"),\"\",IF(COUNTIF(Holidays!$A:$A,I$4)>0,\"H\",IFERROR(VLOOKUP((ROW(I32)-4)&\"_\"&I$4,Schedule!$H:$I,2,FALSE),\"\"))))","v":""},{"$f":"IF($A32=\"\",\"\",IF(OR(J$3=\"Sat\",J$3=\"Sun\"),\"\",IF(COUNTIF(Holidays!$A:$A,J$4)>0,\"H\",IFERROR(VLOOKUP((ROW(J32)-4)&\"_\"&J$4,Schedule!$H:$I,2,FALSE),\"\"))))","v":""},{"$f":"IF($A32=\"\",\"\",IF(OR(K$3=\"Sat\",K$3=\"Sun\"),\"\",IF(COUNTIF(Holidays!$A:$A,K$4)>0,\"H\",IFERROR(VLOOKUP((ROW(K32)-4)&\"_\"&K$4,Schedule!$H:$I,2,FALSE),\"\"))))","v":""},{"$f":"IF($A32=\"\",\"\",IF(OR(L$3=\"Sat\",L$3=\"Sun\"),\"\",IF(COUNTIF(Holidays!$A:$A,L$4)>0,\"H\",IFERROR(VLOOKUP((ROW(L32)-4)&\"_\"&L$4,Schedule!$H:$I,2,FALSE),\"\"))))","v":""},{"$f":"IF($A32=\"\",\"\",IF(OR(M$3=\"Sat\",M$3=\"Sun\"),\"\",IF(COUNTIF(Holidays!$A:$A,M$4)>0,\"H\",IFERROR(VLOOKUP((ROW(M32)-4)&\"_\"&M$4,Schedule!$H:$I,2,FALSE),\"\"))))","v":""},{"$f":"IF($A32=\"\",\"\",IF(OR(N$3=\"Sat\",N$3=\"Sun\"),\"\",IF(COUNTIF(Holidays!$A:$A,N$4)>0,\"H\",IFERROR(VLOOKUP((ROW(N32)-4)&\"_\"&N$4,Schedule!$H:$I,2,FALSE),\"\"))))","v":""},{"$f":"IF($A32=\"\",\"\",IF(OR(O$3=\"Sat\",O$3=\"Sun\"),\"\",IF(COUNTIF(Holidays!$A:$A,O$4)>0,\"H\",IFERROR(VLOOKUP((ROW(O32)-4)&\"_\"&O$4,Schedule!$H:$I,2,FALSE),\"\"))))","v":""},{"$f":"IF($A32=\"\",\"\",IF(OR(P$3=\"Sat\",P$3=\"Sun\"),\"\",IF(COUNTIF(Holidays!$A:$A,P$4)>0,\"H\",IFERROR(VLOOKUP((ROW(P32)-4)&\"_\"&P$4,Schedule!$H:$I,2,FALSE),\"\"))))","v":""},{"$f":"IF($A32=\"\",\"\",IF(OR(Q$3=\"Sat\",Q$3=\"Sun\"),\"\",IF(COUNTIF(Holidays!$A:$A,Q$4)>0,\"H\",IFERROR(VLOOKUP((ROW(Q32)-4)&\"_\"&Q$4,Schedule!$H:$I,2,FALSE),\"\"))))","v":""},{"$f":"IF($A32=\"\",\"\",IF(OR(R$3=\"Sat\",R$3=\"Sun\"),\"\",IF(COUNTIF(Holidays!$A:$A,R$4)>0,\"H\",IFERROR(VLOOKUP((ROW(R32)-4)&\"_\"&R$4,Schedule!$H:$I,2,FALSE),\"\"))))","v":""},{"$f":"IF($A32=\"\",\"\",IF(OR(S$3=\"Sat\",S$3=\"Sun\"),\"\",IF(COUNTIF(Holidays!$A:$A,S$4)>0,\"H\",IFERROR(VLOOKUP((ROW(S32)-4)&\"_\"&S$4,Schedule!$H:$I,2,FALSE),\"\"))))","v":""},{"$f":"IF($A32=\"\",\"\",IF(OR(T$3=\"Sat\",T$3=\"Sun\"),\"\",IF(COUNTIF(Holidays!$A:$A,T$4)>0,\"H\",IFERROR(VLOOKUP((ROW(T32)-4)&\"_\"&T$4,Schedule!$H:$I,2,FALSE),\"\"))))","v":""},{"$f":"IF($A32=\"\",\"\",IF(OR(U$3=\"Sat\",U$3=\"Sun\"),\"\",IF(COUNTIF(Holidays!$A:$A,U$4)>0,\"H\",IFERROR(VLOOKUP((ROW(U32)-4)&\"_\"&U$4,Schedule!$H:$I,2,FALSE),\"\"))))","v":""},{"$f":"IF($A32=\"\",\"\",IF(OR(V$3=\"Sat\",V$3=\"Sun\"),\"\",IF(COUNTIF(Holidays!$A:$A,V$4)>0,\"H\",IFERROR(VLOOKUP((ROW(V32)-4)&\"_\"&V$4,Schedule!$H:$I,2,FALSE),\"\"))))","v":""},{"$f":"IF($A32=\"\",\"\",IF(OR(W$3=\"Sat\",W$3=\"Sun\"),\"\",IF(COUNTIF(Holidays!$A:$A,W$4)>0,\"H\",IFERROR(VLOOKUP((ROW(W32)-4)&\"_\"&W$4,Schedule!$H:$I,2,FALSE),\"\"))))","v":""},{"$f":"IF($A32=\"\",\"\",IF(OR(X$3=\"Sat\",X$3=\"Sun\"),\"\",IF(COUNTIF(Holidays!$A:$A,X$4)>0,\"H\",IFERROR(VLOOKUP((ROW(X32)-4)&\"_\"&X$4,Schedule!$H:$I,2,FALSE),\"\"))))","v":""},{"$f":"IF($A32=\"\",\"\",IF(OR(Y$3=\"Sat\",Y$3=\"Sun\"),\"\",IF(COUNTIF(Holidays!$A:$A,Y$4)>0,\"H\",IFERROR(VLOOKUP((ROW(Y32)-4)&\"_\"&Y$4,Schedule!$H:$I,2,FALSE),\"\"))))","v":""},{"$f":"IF($A32=\"\",\"\",IF(OR(Z$3=\"Sat\",Z$3=\"Sun\"),\"\",IF(COUNTIF(Holidays!$A:$A,Z$4)>0,\"H\",IFERROR(VLOOKUP((ROW(Z32)-4)&\"_\"&Z$4,Schedule!$H:$I,2,FALSE),\"\"))))","v":""},{"$f":"IF($A32=\"\",\"\",IF(OR(AA$3=\"Sat\",AA$3=\"Sun\"),\"\",IF(COUNTIF(Holidays!$A:$A,AA$4)>0,\"H\",IFERROR(VLOOKUP((ROW(AA32)-4)&\"_\"&AA$4,Schedule!$H:$I,2,FALSE),\"\"))))","v":""},{"$f":"IF($A32=\"\",\"\",IF(OR(AB$3=\"Sat\",AB$3=\"Sun\"),\"\",IF(COUNTIF(Holidays!$A:$A,AB$4)>0,\"H\",IFERROR(VLOOKUP((ROW(AB32)-4)&\"_\"&AB$4,Schedule!$H:$I,2,FALSE),\"\"))))","v":""},{"$f":"IF($A32=\"\",\"\",IF(OR(AC$3=\"Sat\",AC$3=\"Sun\"),\"\",IF(COUNTIF(Holidays!$A:$A,AC$4)>0,\"H\",IFERROR(VLOOKUP((ROW(AC32)-4)&\"_\"&AC$4,Schedule!$H:$I,2,FALSE),\"\"))))","v":""},{"$f":"IF($A32=\"\",\"\",IF(OR(AD$3=\"Sat\",AD$3=\"Sun\"),\"\",IF(COUNTIF(Holidays!$A:$A,AD$4)>0,\"H\",IFERROR(VLOOKUP((ROW(AD32)-4)&\"_\"&AD$4,Schedule!$H:$I,2,FALSE),\"\"))))","v":""},{"$f":"IF($A32=\"\",\"\",IF(OR(AE$3=\"Sat\",AE$3=\"Sun\"),\"\",IF(COUNTIF(Holidays!$A:$A,AE$4)>0,\"H\",IFERROR(VLOOKUP((ROW(AE32)-4)&\"_\"&AE$4,Schedule!$H:$I,2,FALSE),\"\"))))","v":""},{"$f":"IF($A32=\"\",\"\",IF(OR(AF$3=\"Sat\",AF$3=\"Sun\"),\"\",IF(COUNTIF(Holidays!$A:$A,AF$4)>0,\"H\",IFERROR(VLOOKUP((ROW(AF32)-4)&\"_\"&AF$4,Schedule!$H:$I,2,FALSE),\"\"))))","v":""},{"$f":"IF($A32=\"\",\"\",IF(OR(AG$3=\"Sat\",AG$3=\"Sun\"),\"\",IF(COUNTIF(Holidays!$A:$A,AG$4)>0,\"H\",IFERROR(VLOOKUP((ROW(AG32)-4)&\"_\"&AG$4,Schedule!$H:$I,2,FALSE),\"\"))))","v":""},{"$f":"IF($A32=\"\",\"\",IF(OR(AH$3=\"Sat\",AH$3=\"Sun\"),\"\",IF(COUNTIF(Holidays!$A:$A,AH$4)>0,\"H\",IFERROR(VLOOKUP((ROW(AH32)-4)&\"_\"&AH$4,Schedule!$H:$I,2,FALSE),\"\"))))","v":""},{"$f":"IF($A32=\"\",\"\",IF(OR(AI$3=\"Sat\",AI$3=\"Sun\"),\"\",IF(COUNTIF(Holidays!$A:$A,AI$4)>0,\"H\",IFERROR(VLOOKUP((ROW(AI32)-4)&\"_\"&AI$4,Schedule!$H:$I,2,FALSE),\"\"))))","v":""},{"$f":"IF($A32=\"\",\"\",IF(OR(AJ$3=\"Sat\",AJ$3=\"Sun\"),\"\",IF(COUNTIF(Holidays!$A:$A,AJ$4)>0,\"H\",IFERROR(VLOOKUP((ROW(AJ32)-4)&\"_\"&AJ$4,Schedule!$H:$I,2,FALSE),\"\"))))","v":""},{"$f":"IF($A32=\"\",\"\",ROUND(SUMIFS(Schedule!$E:$E,Schedule!$A:$A,$A32,Schedule!$D:$D,$AK$3,Schedule!$B:$B,\">=\"&DATE($Q$2,$U$2,1),Schedule!$B:$B,\"<=\"&EOMONTH(DATE($Q$2,$U$2,1),0))/8,2))","v":""},{"$f":"IF($A32=\"\",\"\",ROUND(SUMIFS(Schedule!$E:$E,Schedule!$A:$A,$A32,Schedule!$D:$D,$AK$3,Schedule!$B:$B,\">=\"&DATE($Q$2,1,1),Schedule!$B:$B,\"<=\"&EOMONTH(DATE($Q$2,$U$2,1),0))/8,2))","v":""},{"$f":"IF($A32=\"\",\"\",ROUND(SUMIFS(Schedule!$E:$E,Schedule!$A:$A,$A32,Schedule!$D:$D,$AM$3,Schedule!$B:$B,\">=\"&DATE($Q$2,$U$2,1),Schedule!$B:$B,\"<=\"&EOMONTH(DATE($Q$2,$U$2,1),0))/8,2))","v":""},{"$f":"IF($A32=\"\",\"\",ROUND(SUMIFS(Schedule!$E:$E,Schedule!$A:$A,$A32,Schedule!$D:$D,$AM$3,Schedule!$B:$B,\">=\"&DATE($Q$2,1,1),Schedule!$B:$B,\"<=\"&EOMONTH(DATE($Q$2,$U$2,1),0))/8,2))","v":""}]
[{"$f":"IF(Lookups!A30=\"\",\"\",Lookups!A30)","v":""},{"$f":"IF($A33=\"\",\"\",IF(OR(B$3=\"Sat\",B$3=\"Sun\"),\"\",IF(COUNTIF(Holidays!$A:$A,B$4)>0,\"H\",IFERROR(VLOOKUP((ROW(B33)-4)&\"_\"&B$4,Schedule!$H:$I,2,FALSE),\"\"))))","v":""},{"$f":"IF($A33=\"\",\"\",IF(OR(C$3=\"Sat\",C$3=\"Sun\"),\"\",IF(COUNTIF(Holidays!$A:$A,C$4)>0,\"H\",IFERROR(VLOOKUP((ROW(C33)-4)&\"_\"&C$4,Schedule!$H:$I,2,FALSE),\"\"))))","v":""},{"$f":"IF($A33=\"\",\"\",IF(OR(D$3=\"Sat\",D$3=\"Sun\"),\"\",IF(COUNTIF(Holidays!$A:$A,D$4)>0,\"H\",IFERROR(VLOOKUP((ROW(D33)-4)&\"_\"&D$4,Schedule!$H:$I,2,FALSE),\"\"))))","v":""},{"$f":"IF($A33=\"\",\"\",IF(OR(E$3=\"Sat\",E$3=\"Sun\"),\"\",IF(COUNTIF(Holidays!$A:$A,E$4)>0,\"H\",IFERROR(VLOOKUP((ROW(E33)-4)&\"_\"&E$4,Schedule!$H:$I,2,FALSE),\"\"))))","v":""},{"$f":"IF($A33=\"\",\"\",IF(OR(F$3=\"Sat\",F$3=\"Sun\"),\"\",IF(COUNTIF(Holidays!$A:$A,F$4)>0,\"H\",IFERROR(VLOOKUP((ROW(F33)-4)&\"_\"&F$4,Schedule!$H:$I,2,FALSE),\"\"))))","v":""},{"$f":"IF($A33=\"\",\"\",IF(OR(G$3=\"Sat\",G$3=\"Sun\"),\"\",IF(COUNTIF(Holidays!$A:$A,G$4)>0,\"H\",IFERROR(VLOOKUP((ROW(G33)-4)&\"_\"&G$4,Schedule!$H:$I,2,FALSE),\"\"))))","v":""},{"$f":"IF($A33=\"\",\"\",IF(OR(H$3=\"Sat\",H$3=\"Sun\"),\"\",IF(COUNTIF(Holidays!$A:$A,H$4)>0,\"H\",IFERROR(VLOOKUP((ROW(H33)-4)&\"_\"&H$4,Schedule!$H:$I,2,FALSE),\"\"))))","v":""},{"$f":"IF($A33=\"\",\"\",IF(OR(I$3=\"Sat\",I$3=\"Sun\"),\"\",IF(COUNTIF(Holidays!$A:$A,I$4)>0,\"H\",IFERROR(VLOOKUP((ROW(I33)-4)&\"_\"&I$4,Schedule!$H:$I,2,FALSE),\"\"))))","v":""},{"$f":"IF($A33=\"\",\"\",IF(OR(J$3=\"Sat\",J$3=\"Sun\"),\"\",IF(COUNTIF(Holidays!$A:$A,J$4)>0,\"H\",IFERROR(VLOOKUP((ROW(J33)-4)&\"_\"&J$4,Schedule!$H:$I,2,FALSE),\"\"))))","v":""},{"$f":"IF($A33=\"\",\"\",IF(OR(K$3=\"Sat\",K$3=\"Sun\"),\"\",IF(COUNTIF(Holidays!$A:$A,K$4)>0,\"H\",IFERROR(VLOOKUP((ROW(K33)-4)&\"_\"&K$4,Schedule!$H:$I,2,FALSE),\"\"))))","v":""},{"$f":"IF($A33=\"\",\"\",IF(OR(L$3=\"Sat\",L$3=\"Sun\"),\"\",IF(COUNTIF(Holidays!$A:$A,L$4)>0,\"H\",IFERROR(VLOOKUP((ROW(L33)-4)&\"_\"&L$4,Schedule!$H:$I,2,FALSE),\"\"))))","v":""},{"$f":"IF($A33=\"\",\"\",IF(OR(M$3=\"Sat\",M$3=\"Sun\"),\"\",IF(COUNTIF(Holidays!$A:$A,M$4)>0,\"H\",IFERROR(VLOOKUP((ROW(M33)-4)&\"_\"&M$4,Schedule!$H:$I,2,FALSE),\"\"))))","v":""},{"$f":"IF($A33=\"\",\"\",IF(OR(N$3=\"Sat\",N$3=\"Sun\"),\"\",IF(COUNTIF(Holidays!$A:$A,N$4)>0,\"H\",IFERROR(VLOOKUP((ROW(N33)-4)&\"_\"&N$4,Schedule!$H:$I,2,FALSE),\"\"))))","v":""},{"$f":"IF($A33=\"\",\"\",IF(OR(O$3=\"Sat\",O$3=\"Sun\"),\"\",IF(COUNTIF(Holidays!$A:$A,O$4)>0,\"H\",IFERROR(VLOOKUP((ROW(O33)-4)&\"_\"&O$4,Schedule!$H:$I,2,FALSE),\"\"))))","v":""},{"$f":"IF($A33=\"\",\"\",IF(OR(P$3=\"Sat\",P$3=\"Sun\"),\"\",IF(COUNTIF(Holidays!$A:$A,P$4)>0,\"H\",IFERROR(VLOOKUP((ROW(P33)-4)&\"_\"&P$4,Schedule!$H:$I,2,FALSE),\"\"))))","v":""},{"$f":"IF($A33=\"\",\"\",IF(OR(Q$3=\"Sat\",Q$3=\"Sun\"),\"\",IF(COUNTIF(Holidays!$A:$A,Q$4)>0,\"H\",IFERROR(VLOOKUP((ROW(Q33)-4)&\"_\"&Q$4,Schedule!$H:$I,2,FALSE),\"\"))))","v":""},{"$f":"IF($A33=\"\",\"\",IF(OR(R$3=\"Sat\",R$3=\"Sun\"),\"\",IF(COUNTIF(Holidays!$A:$A,R$4)>0,\"H\",IFERROR(VLOOKUP((ROW(R33)-4)&\"_\"&R$4,Schedule!$H:$I,2,FALSE),\"\"))))","v":""},{"$f":"IF($A33=\"\",\"\",IF(OR(S$3=\"Sat\",S$3=\"Sun\"),\"\",IF(COUNTIF(Holidays!$A:$A,S$4)>0,\"H\",IFERROR(VLOOKUP((ROW(S33)-4)&\"_\"&S$4,Schedule!$H:$I,2,FALSE),\"\"))))","v":""},{"$f":"IF($A33=\"\",\"\",IF(OR(T$3=\"Sat\",T$3=\"Sun\"),\"\",IF(COUNTIF(Holidays!$A:$A,T$4)>0,\"H\",IFERROR(VLOOKUP((ROW(T33)-4)&\"_\"&T$4,Schedule!$H:$I,2,FALSE),\"\"))))","v":""},{"$f":"IF($A33=\"\",\"\",IF(OR(U$3=\"Sat\",U$3=\"Sun\"),\"\",IF(COUNTIF(Holidays!$A:$A,U$4)>0,\"H\",IFERROR(VLOOKUP((ROW(U33)-4)&\"_\"&U$4,Schedule!$H:$I,2,FALSE),\"\"))))","v":""},{"$f":"IF($A33=\"\",\"\",IF(OR(V$3=\"Sat\",V$3=\"Sun\"),\"\",IF(COUNTIF(Holidays!$A:$A,V$4)>0,\"H\",IFERROR(VLOOKUP((ROW(V33)-4)&\"_\"&V$4,Schedule!$H:$I,2,FALSE),\"\"))))","v":""},{"$f":"IF($A33=\"\",\"\",IF(OR(W$3=\"Sat\",W$3=\"Sun\"),\"\",IF(COUNTIF(Holidays!$A:$A,W$4)>0,\"H\",IFERROR(VLOOKUP((ROW(W33)-4)&\"_\"&W$4,Schedule!$H:$I,2,FALSE),\"\"))))","v":""},{"$f":"IF($A33=\"\",\"\",IF(OR(X$3=\"Sat\",X$3=\"Sun\"),\"\",IF(COUNTIF(Holidays!$A:$A,X$4)>0,\"H\",IFERROR(VLOOKUP((ROW(X33)-4)&\"_\"&X$4,Schedule!$H:$I,2,FALSE),\"\"))))","v":""},{"$f":"IF($A33=\"\",\"\",IF(OR(Y$3=\"Sat\",Y$3=\"Sun\"),\"\",IF(COUNTIF(Holidays!$A:$A,Y$4)>0,\"H\",IFERROR(VLOOKUP((ROW(Y33)-4)&\"_\"&Y$4,Schedule!$H:$I,2,FALSE),\"\"))))","v":""},{"$f":"IF($A33=\"\",\"\",IF(OR(Z$3=\"Sat\",Z$3=\"Sun\"),\"\",IF(COUNTIF(Holidays!$A:$A,Z$4)>0,\"H\",IFERROR(VLOOKUP((ROW(Z33)-4)&\"_\"&Z$4,Schedule!$H:$I,2,FALSE),\"\"))))","v":""},{"$f":"IF($A33=\"\",\"\",IF(OR(AA$3=\"Sat\",AA$3=\"Sun\"),\"\",IF(COUNTIF(Holidays!$A:$A,AA$4)>0,\"H\",IFERROR(VLOOKUP((ROW(AA33)-4)&\"_\"&AA$4,Schedule!$H:$I,2,FALSE),\"\"))))","v":""},{"$f":"IF($A33=\"\",\"\",IF(OR(AB$3=\"Sat\",AB$3=\"Sun\"),\"\",IF(COUNTIF(Holidays!$A:$A,AB$4)>0,\"H\",IFERROR(VLOOKUP((ROW(AB33)-4)&\"_\"&AB$4,Schedule!$H:$I,2,FALSE),\"\"))))","v":""},{"$f":"IF($A33=\"\",\"\",IF(OR(AC$3=\"Sat\",AC$3=\"Sun\"),\"\",IF(COUNTIF(Holidays!$A:$A,AC$4)>0,\"H\",IFERROR(VLOOKUP((ROW(AC33)-4)&\"_\"&AC$4,Schedule!$H:$I,2,FALSE),\"\"))))","v":""},{"$f":"IF($A33=\"\",\"\",IF(OR(AD$3=\"Sat\",AD$3=\"Sun\"),\"\",IF(COUNTIF(Holidays!$A:$A,AD$4)>0,\"H\",IFERROR(VLOOKUP((ROW(AD33)-4)&\"_\"&AD$4,Schedule!$H:$I,2,FALSE),\"\"))))","v":""},{"$f":"IF($A33=\"\",\"\",IF(OR(AE$3=\"Sat\",AE$3=\"Sun\"),\"\",IF(COUNTIF(Holidays!$A:$A,AE$4)>0,\"H\",IFERROR(VLOOKUP((ROW(AE33)-4)&\"_\"&AE$4,Schedule!$H:$I,2,FALSE),\"\"))))","v":""},{"$f":"IF($A33=\"\",\"\",IF(OR(AF$3=\"Sat\",AF$3=\"Sun\"),\"\",IF(COUNTIF(Holidays!$A:$A,AF$4)>0,\"H\",IFERROR(VLOOKUP((ROW(AF33)-4)&\"_\"&AF$4,Schedule!$H:$I,2,FALSE),\"\"))))","v":""},{"$f":"IF($A33=\"\",\"\",IF(OR(AG$3=\"Sat\",AG$3=\"Sun\"),\"\",IF(COUNTIF(Holidays!$A:$A,AG$4)>0,\"H\",IFERROR(VLOOKUP((ROW(AG33)-4)&\"_\"&AG$4,Schedule!$H:$I,2,FALSE),\"\"))))","v":""},{"$f":"IF($A33=\"\",\"\",IF(OR(AH$3=\"Sat\",AH$3=\"Sun\"),\"\",IF(COUNTIF(Holidays!$A:$A,AH$4)>0,\"H\",IFERROR(VLOOKUP((ROW(AH33)-4)&\"_\"&AH$4,Schedule!$H:$I,2,FALSE),\"\"))))","v":""},{"$f":"IF($A33=\"\",\"\",IF(OR(AI$3=\"Sat\",AI$3=\"Sun\"),\"\",IF(COUNTIF(Holidays!$A:$A,AI$4)>0,\"H\",IFERROR(VLOOKUP((ROW(AI33)-4)&\"_\"&AI$4,Schedule!$H:$I,2,FALSE),\"\"))))","v":""},{"$f":"IF($A33=\"\",\"\",IF(OR(AJ$3=\"Sat\",AJ$3=\"Sun\"),\"\",IF(COUNTIF(Holidays!$A:$A,AJ$4)>0,\"H\",IFERROR(VLOOKUP((ROW(AJ33)-4)&\"_\"&AJ$4,Schedule!$H:$I,2,FALSE),\"\"))))","v":""},{"$f":"IF($A33=\"\",\"\",ROUND(SUMIFS(Schedule!$E:$E,Schedule!$A:$A,$A33,Schedule!$D:$D,$AK$3,Schedule!$B:$B,\">=\"&DATE($Q$2,$U$2,1),Schedule!$B:$B,\"<=\"&EOMONTH(DATE($Q$2,$U$2,1),0))/8,2))","v":""},{"$f":"IF($A33=\"\",\"\",ROUND(SUMIFS(Schedule!$E:$E,Schedule!$A:$A,$A33,Schedule!$D:$D,$AK$3,Schedule!$B:$B,\">=\"&DATE($Q$2,1,1),Schedule!$B:$B,\"<=\"&EOMONTH(DATE($Q$2,$U$2,1),0))/8,2))","v":""},{"$f":"IF($A33=\"\",\"\",ROUND(SUMIFS(Schedule!$E:$E,Schedule!$A:$A,$A33,Schedule!$D:$D,$AM$3,Schedule!$B:$B,\">=\"&DATE($Q$2,$U$2,1),Schedule!$B:$B,\"<=\"&EOMONTH(DATE($Q$2,$U$2,1),0))/8,2))","v":""},{"$f":"IF($A33=\"\",\"\",ROUND(SUMIFS(Schedule!$E:$E,Schedule!$A:$A,$A33,Schedule!$D:$D,$AM$3,Schedule!$B:$B,\">=\"&DATE($Q$2,1,1),Schedule!$B:$B,\"<=\"&EOMONTH(DATE($Q$2,$U$2,1),0))/8,2))","v":""}]
[{"$f":"IF(Lookups!A31=\"\",\"\",Lookups!A31)","v":""},{"$f":"IF($A34=\"\",\"\",IF(OR(B$3=\"Sat\",B$3=\"Sun\"),\"\",IF(COUNTIF(Holidays!$A:$A,B$4)>0,\"H\",IFERROR(VLOOKUP((ROW(B34)-4)&\"_\"&B$4,Schedule!$H:$I,2,FALSE),\"\"))))","v":""},{"$f":"IF($A34=\"\",\"\",IF(OR(C$3=\"Sat\",C$3=\"Sun\"),\"\",IF(COUNTIF(Holidays!$A:$A,C$4)>0,\"H\",IFERROR(VLOOKUP((ROW(C34)-4)&\"_\"&C$4,Schedule!$H:$I,2,FALSE),\"\"))))","v":""},{"$f":"IF($A34=\"\",\"\",IF(OR(D$3=\"Sat\",D$3=\"Sun\"),\"\",IF(COUNTIF(Holidays!$A:$A,D$4)>0,\"H\",IFERROR(VLOOKUP((ROW(D34)-4)&\"_\"&D$4,Schedule!$H:$I,2,FALSE),\"\"))))","v":""},{"$f":"IF($A34=\"\",\"\",IF(OR(E$3=\"Sat\",E$3=\"Sun\"),\"\",IF(COUNTIF(Holidays!$A:$A,E$4)>0,\"H\",IFERROR(VLOOKUP((ROW(E34)-4)&\"_\"&E$4,Schedule!$H:$I,2,FALSE),\"\"))))","v":""},{"$f":"IF($A34=\"\",\"\",IF(OR(F$3=\"Sat\",F$3=\"Sun\"),\"\",IF(COUNTIF(Holidays!$A:$A,F$4)>0,\"H\",IFERROR(VLOOKUP((ROW(F34)-4)&\"_\"&F$4,Schedule!$H:$I,2,FALSE),\"\"))))","v":""},{"$f":"IF($A34=\"\",\"\",IF(OR(G$3=\"Sat\",G$3=\"Sun\"),\"\",IF(COUNTIF(Holidays!$A:$A,G$4)>0,\"H\",IFERROR(VLOOKUP((ROW(G34)-4)&\"_\"&G$4,Schedule!$H:$I,2,FALSE),\"\"))))","v":""},{"$f":"IF($A34=\"\",\"\",IF(OR(H$3=\"Sat\",H$3=\"Sun\"),\"\",IF(COUNTIF(Holidays!$A:$A,H$4)>0,\"H\",IFERROR(VLOOKUP((ROW(H34)-4)&\"_\"&H$4,Schedule!$H:$I,2,FALSE),\"\"))))","v":""},{"$f":"IF($A34=\"\",\"\",IF(OR(I$3=\"Sat\",I$3=\"Sun\"),\"\",IF(COUNTIF(Holidays!$A:$A,I$4)>0,\"H\",IFERROR(VLOOKUP((ROW(I34)-4)&\"_\"&I$4,Schedule!$H:$I,2,FALSE),\"\"))))","v":""},{"$f":"IF($A34=\"\",\"\",IF(OR(J$3=\"Sat\",J$3=\"Sun\"),\"\",IF(COUNTIF(Holidays!$A:$A,J$4)>0,\"H\",IFERROR(VLOOKUP((ROW(J34)-4)&\"_\"&J$4,Schedule!$H:$I,2,FALSE),\"\"))))","v":""},{"$f":"IF($A34=\"\",\"\",IF(OR(K$3=\"Sat\",K$3=\"Sun\"),\"\",IF(COUNTIF(Holidays!$A:$A,K$4)>0,\"H\",IFERROR(VLOOKUP((ROW(K34)-4)&\"_\"&K$4,Schedule!$H:$I,2,FALSE),\"\"))))","v":""},{"$f":"IF($A34=\"\",\"\",IF(OR(L$3=\"Sat\",L$3=\"Sun\"),\"\",IF(COUNTIF(Holidays!$A:$A,L$4)>0,\"H\",IFERROR(VLOOKUP((ROW(L34)-4)&\"_\"&L$4,Schedule!$H:$I,2,FALSE),\"\"))))","v":""},{"$f":"IF($A34=\"\",\"\",IF(OR(M$3=\"Sat\",M$3=\"Sun\"),\"\",IF(COUNTIF(Holidays!$A:$A,M$4)>0,\"H\",IFERROR(VLOOKUP((ROW(M34)-4)&\"_\"&M$4,Schedule!$H:$I,2,FALSE),\"\"))))","v":""},{"$f":"IF($A34=\"\",\"\",IF(OR(N$3=\"Sat\",N$3=\"Sun\"),\"\",IF(COUNTIF(Holidays!$A:$A,N$4)>0,\"H\",IFERROR(VLOOKUP((ROW(N34)-4)&\"_\"&N$4,Schedule!$H:$I,2,FALSE),\"\"))))","v":""},{"$f":"IF($A34=\"\",\"\",IF(OR(O$3=\"Sat\",O$3=\"Sun\"),\"\",IF(COUNTIF(Holidays!$A:$A,O$4)>0,\"H\",IFERROR(VLOOKUP((ROW(O34)-4)&\"_\"&O$4,Schedule!$H:$I,2,FALSE),\"\"))))","v":""},{"$f":"IF($A34=\"\",\"\",IF(OR(P$3=\"Sat\",P$3=\"Sun\"),\"\",IF(COUNTIF(Holidays!$A:$A,P$4)>0,\"H\",IFERROR(VLOOKUP((ROW(P34)-4)&\"_\"&P$4,Schedule!$H:$I,2,FALSE),\"\"))))","v":""},{"$f":"IF($A34=\"\",\"\",IF(OR(Q$3=\"Sat\",Q$3=\"Sun\"),\"\",IF(COUNTIF(Holidays!$A:$A,Q$4)>0,\"H\",IFERROR(VLOOKUP((ROW(Q34)-4)&\"_\"&Q$4,Schedule!$H:$I,2,FALSE),\"\"))))","v":""},{"$f":"IF($A34=\"\",\"\",IF(OR(R$3=\"Sat\",R$3=\"Sun\"),\"\",IF(COUNTIF(Holidays!$A:$A,R$4)>0,\"H\",IFERROR(VLOOKUP((ROW(R34)-4)&\"_\"&R$4,Schedule!$H:$I,2,FALSE),\"\"))))","v":""},{"$f":"IF($A34=\"\",\"\",IF(OR(S$3=\"Sat\",S$3=\"Sun\"),\"\",IF(COUNTIF(Holidays!$A:$A,S$4)>0,\"H\",IFERROR(VLOOKUP((ROW(S34)-4)&\"_\"&S$4,Schedule!$H:$I,2,FALSE),\"\"))))","v":""},{"$f":"IF($A34=\"\",\"\",IF(OR(T$3=\"Sat\",T$3=\"Sun\"),\"\",IF(COUNTIF(Holidays!$A:$A,T$4)>0,\"H\",IFERROR(VLOOKUP((ROW(T34)-4)&\"_\"&T$4,Schedule!$H:$I,2,FALSE),\"\"))))","v":""},{"$f":"IF($A34=\"\",\"\",IF(OR(U$3=\"Sat\",U$3=\"Sun\"),\"\",IF(COUNTIF(Holidays!$A:$A,U$4)>0,\"H\",IFERROR(VLOOKUP((ROW(U34)-4)&\"_\"&U$4,Schedule!$H:$I,2,FALSE),\"\"))))","v":""},{"$f":"IF($A34=\"\",\"\",IF(OR(V$3=\"Sat\",V$3=\"Sun\"),\"\",IF(COUNTIF(Holidays!$A:$A,V$4)>0,\"H\",IFERROR(VLOOKUP((ROW(V34)-4)&\"_\"&V$4,Schedule!$H:$I,2,FALSE),\"\"))))","v":""},{"$f":"IF($A34=\"\",\"\",IF(OR(W$3=\"Sat\",W$3=\"Sun\"),\"\",IF(COUNTIF(Holidays!$A:$A,W$4)>0,\"H\",IFERROR(VLOOKUP((ROW(W34)-4)&\"_\"&W$4,Schedule!$H:$I,2,FALSE),\"\"))))","v":""},{"$f":"IF($A34=\"\",\"\",IF(OR(X$3=\"Sat\",X$3=\"Sun\"),\"\",IF(COUNTIF(Holidays!$A:$A,X$4)>0,\"H\",IFERROR(VLOOKUP((ROW(X34)-4)&\"_\"&X$4,Schedule!$H:$I,2,FALSE),\"\"))))","v":""},{"$f":"IF($A34=\"\",\"\",IF(OR(Y$3=\"Sat\",Y$3=\"Sun\"),\"\",IF(COUNTIF(Holidays!$A:$A,Y$4)>0,\"H\",IFERROR(VLOOKUP((ROW(Y34)-4)&\"_\"&Y$4,Schedule!$H:$I,2,FALSE),\"\"))))","v":""},{"$f":"IF($A34=\"\",\"\",IF(OR(Z$3=\"Sat\",Z$3=\"Sun\"),\"\",IF(COUNTIF(Holidays!$A:$A,Z$4)>0,\"H\",IFERROR(VLOOKUP((ROW(Z34)-4)&\"_\"&Z$4,Schedule!$H:$I,2,FALSE),\"\"))))","v":""},{"$f":"IF($A34=\"\",\"\",IF(OR(AA$3=\"Sat\",AA$3=\"Sun\"),\"\",IF(COUNTIF(Holidays!$A:$A,AA$4)>0,\"H\",IFERROR(VLOOKUP((ROW(AA34)-4)&\"_\"&AA$4,Schedule!$H:$I,2,FALSE),\"\"))))","v":""},{"$f":"IF($A34=\"\",\"\",IF(OR(AB$3=\"Sat\",AB$3=\"Sun\"),\"\",IF(COUNTIF(Holidays!$A:$A,AB$4)>0,\"H\",IFERROR(VLOOKUP((ROW(AB34)-4)&\"_\"&AB$4,Schedule!$H:$I,2,FALSE),\"\"))))","v":""},{"$f":"IF($A34=\"\",\"\",IF(OR(AC$3=\"Sat\",AC$3=\"Sun\"),\"\",IF(COUNTIF(Holidays!$A:$A,AC$4)>0,\"H\",IFERROR(VLOOKUP((ROW(AC34)-4)&\"_\"&AC$4,Schedule!$H:$I,2,FALSE),\"\"))))","v":""},{"$f":"IF($A34=\"\",\"\",IF(OR(AD$3=\"Sat\",AD$3=\"Sun\"),\"\",IF(COUNTIF(Holidays!$A:$A,AD$4)>0,\"H\",IFERROR(VLOOKUP((ROW(AD34)-4)&\"_\"&AD$4,Schedule!$H:$I,2,FALSE),\"\"))))","v":""},{"$f":"IF($A34=\"\",\"\",IF(OR(AE$3=\"Sat\",AE$3=\"Sun\"),\"\",IF(COUNTIF(Holidays!$A:$A,AE$4)>0,\"H\",IFERROR(VLOOKUP((ROW(AE34)-4)&\"_\"&AE$4,Schedule!$H:$I,2,FALSE),\"\"))))","v":""},{"$f":"IF($A34=\"\",\"\",IF(OR(AF$3=\"Sat\",AF$3=\"Sun\"),\"\",IF(COUNTIF(Holidays!$A:$A,AF$4)>0,\"H\",IFERROR(VLOOKUP((ROW(AF34)-4)&\"_\"&AF$4,Schedule!$H:$I,2,FALSE),\"\"))))","v":""},{"$f":"IF($A34=\"\",\"\",IF(OR(AG$3=\"Sat\",AG$3=\"Sun\"),\"\",IF(COUNTIF(Holidays!$A:$A,AG$4)>0,\"H\",IFERROR(VLOOKUP((ROW(AG34)-4)&\"_\"&AG$4,Schedule!$H:$I,2,FALSE),\"\"))))","v":""},{"$f":"IF($A34=\"\",\"\",IF(OR(AH$3=\"Sat\",AH$3=\"Sun\"),\"\",IF(COUNTIF(Holidays!$A:$A,AH$4)>0,\"H\",IFERROR(VLOOKUP((ROW(AH34)-4)&\"_\"&AH$4,Schedule!$H:$I,2,FALSE),\"\"))))","v":""},{"$f":"IF($A34=\"\",\"\",IF(OR(AI$3=\"Sat\",AI$3=\"Sun\"),\"\",IF(COUNTIF(Holidays!$A:$A,AI$4)>0,\"H\",IFERROR(VLOOKUP((ROW(AI34)-4)&\"_\"&AI$4,Schedule!$H:$I,2,FALSE),\"\"))))","v":""},{"$f":"IF($A34=\"\",\"\",IF(OR(AJ$3=\"Sat\",AJ$3=\"Sun\"),\"\",IF(COUNTIF(Holidays!$A:$A,AJ$4)>0,\"H\",IFERROR(VLOOKUP((ROW(AJ34)-4)&\"_\"&AJ$4,Schedule!$H:$I,2,FALSE),\"\"))))","v":""},{"$f":"IF($A34=\"\",\"\",ROUND(SUMIFS(Schedule!$E:$E,Schedule!$A:$A,$A34,Schedule!$D:$D,$AK$3,Schedule!$B:$B,\">=\"&DATE($Q$2,$U$2,1),Schedule!$B:$B,\"<=\"&EOMONTH(DATE($Q$2,$U$2,1),0))/8,2))","v":""},{"$f":"IF($A34=\"\",\"\",ROUND(SUMIFS(Schedule!$E:$E,Schedule!$A:$A,$A34,Schedule!$D:$D,$AK$3,Schedule!$B:$B,\">=\"&DATE($Q$2,1,1),Schedule!$B:$B,\"<=\"&EOMONTH(DATE($Q$2,$U$2,1),0))/8,2))","v":""},{"$f":"IF($A34=\"\",\"\",ROUND(SUMIFS(Schedule!$E:$E,Schedule!$A:$A,$A34,Schedule!$D:$D,$AM$3,Schedule!$B:$B,\">=\"&DATE($Q$2,$U$2,1),Schedule!$B:$B,\"<=\"&EOMONTH(DATE($Q$2,$U$2,1),0))/8,2))","v":""},{"$f":"IF($A34=\"\",\"\",ROUND(SUMIFS(Schedule!$E:$E,Schedule!$A:$A,$A34,Schedule!$D:$D,$AM$3,Schedule!$B:$B,\">=\"&DATE($Q$2,1,1),Schedule!$B:$B,\"<=\"&EOMONTH(DATE($Q$2,$U$2,1),0))/8,2))","v":""}]
[{"$f":"IF(Lookups!A32=\"\",\"\",Lookups!A32)","v":""},{"$f":"IF($A35=\"\",\"\",IF(OR(B$3=\"Sat\",B$3=\"Sun\"),\"\",IF(COUNTIF(Holidays!$A:$A,B$4)>0,\"H\",IFERROR(VLOOKUP((ROW(B35)-4)&\"_\"&B$4,Schedule!$H:$I,2,FALSE),\"\"))))","v":""},{"$f":"IF($A35=\"\",\"\",IF(OR(C$3=\"Sat\",C$3=\"Sun\"),\"\",IF(COUNTIF(Holidays!$A:$A,C$4)>0,\"H\",IFERROR(VLOOKUP((ROW(C35)-4)&\"_\"&C$4,Schedule!$H:$I,2,FALSE),\"\"))))","v":""},{"$f":"IF($A35=\"\",\"\",IF(OR(D$3=\"Sat\",D$3=\"Sun\"),\"\",IF(COUNTIF(Holidays!$A:$A,D$4)>0,\"H\",IFERROR(VLOOKUP((ROW(D35)-4)&\"_\"&D$4,Schedule!$H:$I,2,FALSE),\"\"))))","v":""},{"$f":"IF($A35=\"\",\"\",IF(OR(E$3=\"Sat\",E$3=\"Sun\"),\"\",IF(COUNTIF(Holidays!$A:$A,E$4)>0,\"H\",IFERROR(VLOOKUP((ROW(E35)-4)&\"_\"&E$4,Schedule!$H:$I,2,FALSE),\"\"))))","v":""},{"$f":"IF($A35=\"\",\"\",IF(OR(F$3=\"Sat\",F$3=\"Sun\"),\"\",IF(COUNTIF(Holidays!$A:$A,F$4)>0,\"H\",IFERROR(VLOOKUP((ROW(F35)-4)&\"_\"&F$4,Schedule!$H:$I,2,FALSE),\"\"))))","v":""},{"$f":"IF($A35=\"\",\"\",IF(OR(G$3=\"Sat\",G$3=\"Sun\"),\"\",IF(COUNTIF(Holidays!$A:$A,G$4)>0,\"H\",IFERROR(VLOOKUP((ROW(G35)-4)&\"_\"&G$4,Schedule!$H:$I,2,FALSE),\"\"))))","v":""},{"$f":"IF($A35=\"\",\"\",IF(OR(H$3=\"Sat\",H$3=\"Sun\"),\"\",IF(COUNTIF(Holidays!$A:$A,H$4)>0,\"H\",IFERROR(VLOOKUP((ROW(H35)-4)&\"_\"&H$4,Schedule!$H:$I,2,FALSE),\"\"))))","v":""},{"$f":"IF($A35=\"\",\"\",IF(OR(I$3=\"Sat\",I$3=\"Sun\"),\"\",IF(COUNTIF(Holidays!$A:$A,I$4)>0,\"H\",IFERROR(VLOOKUP((ROW(I35)-4)&\"_\"&I$4,Schedule!$H:$I,2,FALSE),\"\"))))","v":""},{"$f":"IF($A35=\"\",\"\",IF(OR(J$3=\"Sat\",J$3=\"Sun\"),\"\",IF(COUNTIF(Holidays!$A:$A,J$4)>0,\"H\",IFERROR(VLOOKUP((ROW(J35)-4)&\"_\"&J$4,Schedule!$H:$I,2,FALSE),\"\"))))","v":""},{"$f":"IF($A35=\"\",\"\",IF(OR(K$3=\"Sat\",K$3=\"Sun\"),\"\",IF(COUNTIF(Holidays!$A:$A,K$4)>0,\"H\",IFERROR(VLOOKUP((ROW(K35)-4)&\"_\"&K$4,Schedule!$H:$I,2,FALSE),\"\"))))","v":""},{"$f":"IF($A35=\"\",\"\",IF(OR(L$3=\"Sat\",L$3=\"Sun\"),\"\",IF(COUNTIF(Holidays!$A:$A,L$4)>0,\"H\",IFERROR(VLOOKUP((ROW(L35)-4)&\"_\"&L$4,Schedule!$H:$I,2,FALSE),\"\"))))","v":""},{"$f":"IF($A35=\"\",\"\",IF(OR(M$3=\"Sat\",M$3=\"Sun\"),\"\",IF(COUNTIF(Holidays!$A:$A,M$4)>0,\"H\",IFERROR(VLOOKUP((ROW(M35)-4)&\"_\"&M$4,Schedule!$H:$I,2,FALSE),\"\"))))","v":""},{"$f":"IF($A35=\"\",\"\",IF(OR(N$3=\"Sat\",N$3=\"Sun\"),\"\",IF(COUNTIF(Holidays!$A:$A,N$4)>0,\"H\",IFERROR(VLOOKUP((ROW(N35)-4)&\"_\"&N$4,Schedule!$H:$I,2,FALSE),\"\"))))","v":""},{"$f":"IF($A35=\"\",\"\",IF(OR(O$3=\"Sat\",O$3=\"Sun\"),\"\",IF(COUNTIF(Holidays!$A:$A,O$4)>0,\"H\",IFERROR(VLOOKUP((ROW(O35)-4)&\"_\"&O$4,Schedule!$H:$I,2,FALSE),\"\"))))","v":""},{"$f":"IF($A35=\"\",\"\",IF(OR(P$3=\"Sat\",P$3=\"Sun\"),\"\",IF(COUNTIF(Holidays!$A:$A,P$4)>0,\"H\",IFERROR(VLOOKUP((ROW(P35)-4)&\"_\"&P$4,Schedule!$H:$I,2,FALSE),\"\"))))","v":""},{"$f":"IF($A35=\"\",\"\",IF(OR(Q$3=\"Sat\",Q$3=\"Sun\"),\"\",IF(COUNTIF(Holidays!$A:$A,Q$4)>0,\"H\",IFERROR(VLOOKUP((ROW(Q35)-4)&\"_\"&Q$4,Schedule!$H:$I,2,FALSE),\"\"))))","v":""},{"$f":"IF($A35=\"\",\"\",IF(OR(R$3=\"Sat\",R$3=\"Sun\"),\"\",IF(COUNTIF(Holidays!$A:$A,R$4)>0,\"H\",IFERROR(VLOOKUP((ROW(R35)-4)&\"_\"&R$4,Schedule!$H:$I,2,FALSE),\"\"))))","v":""},{"$f":"IF($A35=\"\",\"\",IF(OR(S$3=\"Sat\",S$3=\"Sun\"),\"\",IF(COUNTIF(Holidays!$A:$A,S$4)>0,\"H\",IFERROR(VLOOKUP((ROW(S35)-4)&\"_\"&S$4,Schedule!$H:$I,2,FALSE),\"\"))))","v":""},{"$f":"IF($A35=\"\",\"\",IF(OR(T$3=\"Sat\",T$3=\"Sun\"),\"\",IF(COUNTIF(Holidays!$A:$A,T$4)>0,\"H\",IFERROR(VLOOKUP((ROW(T35)-4)&\"_\"&T$4,Schedule!$H:$I,2,FALSE),\"\"))))","v":""},{"$f":"IF($A35=\"\",\"\",IF(OR(U$3=\"Sat\",U$3=\"Sun\"),\"\",IF(COUNTIF(Holidays!$A:$A,U$4)>0,\"H\",IFERROR(VLOOKUP((ROW(U35)-4)&\"_\"&U$4,Schedule!$H:$I,2,FALSE),\"\"))))","v":""},{"$f":"IF($A35=\"\",\"\",IF(OR(V$3=\"Sat\",V$3=\"Sun\"),\"\",IF(COUNTIF(Holidays!$A:$A,V$4)>0,\"H\",IFERROR(VLOOKUP((ROW(V35)-4)&\"_\"&V$4,Schedule!$H:$I,2,FALSE),\"\"))))","v":""},{"$f":"IF($A35=\"\",\"\",IF(OR(W$3=\"Sat\",W$3=\"Sun\"),\"\",IF(COUNTIF(Holidays!$A:$A,W$4)>0,\"H\",IFERROR(VLOOKUP((ROW(W35)-4)&\"_\"&W$4,Schedule!$H:$I,2,FALSE),\"\"))))","v":""},{"$f":"IF($A35=\"\",\"\",IF(OR(X$3=\"Sat\",X$3=\"Sun\"),\"\",IF(COUNTIF(Holidays!$A:$A,X$4)>0,\"H\",IFERROR(VLOOKUP((ROW(X35)-4)&\"_\"&X$4,Schedule!$H:$I,2,FALSE),\"\"))))","v":""},{"$f":"IF($A35=\"\",\"\",IF(OR(Y$3=\"Sat\",Y$3=\"Sun\"),\"\",IF(COUNTIF(Holidays!$A:$A,Y$4)>0,\"H\",IFERROR(VLOOKUP((ROW(Y35)-4)&\"_\"&Y$4,Schedule!$H:$I,2,FALSE),\"\"))))","v":""},{"$f":"IF($A35=\"\",\"\",IF(OR(Z$3=\"Sat\",Z$3=\"Sun\"),\"\",IF(COUNTIF(Holidays!$A:$A,Z$4)>0,\"H\",IFERROR(VLOOKUP((ROW(Z35)-4)&\"_\"&Z$4,Schedule!$H:$I,2,FALSE),\"\"))))","v":""},{"$f":"IF($A35=\"\",\"\",IF(OR(AA$3=\"Sat\",AA$3=\"Sun\"),\"\",IF(COUNTIF(Holidays!$A:$A,AA$4)>0,\"H\",IFERROR(VLOOKUP((ROW(AA35)-4)&\"_\"&AA$4,Schedule!$H:$I,2,FALSE),\"\"))))","v":""},{"$f":"IF($A35=\"\",\"\",IF(OR(AB$3=\"Sat\",AB$3=\"Sun\"),\"\",IF(COUNTIF(Holidays!$A:$A,AB$4)>0,\"H\",IFERROR(VLOOKUP((ROW(AB35)-4)&\"_\"&AB$4,Schedule!$H:$I,2,FALSE),\"\"))))","v":""},{"$f":"IF($A35=\"\",\"\",IF(OR(AC$3=\"Sat\",AC$3=\"Sun\"),\"\",IF(COUNTIF(Holidays!$A:$A,AC$4)>0,\"H\",IFERROR(VLOOKUP((ROW(AC35)-4)&\"_\"&AC$4,Schedule!$H:$I,2,FALSE),\"\"))))","v":""},{"$f":"IF($A35=\"\",\"\",IF(OR(AD$3=\"Sat\",AD$3=\"Sun\"),\"\",IF(COUNTIF(Holidays!$A:$A,AD$4)>0,\"H\",IFERROR(VLOOKUP((ROW(AD35)-4)&\"_\"&AD$4,Schedule!$H:$I,2,FALSE),\"\"))))","v":""},{"$f":"IF($A35=\"\",\"\",IF(OR(AE$3=\"Sat\",AE$3=\"Sun\"),\"\",IF(COUNTIF(Holidays!$A:$A,AE$4)>0,\"H\",IFERROR(VLOOKUP((ROW(AE35)-4)&\"_\"&AE$4,Schedule!$H:$I,2,FALSE),\"\"))))","v":""},{"$f":"IF($A35=\"\",\"\",IF(OR(AF$3=\"Sat\",AF$3=\"Sun\"),\"\",IF(COUNTIF(Holidays!$A:$A,AF$4)>0,\"H\",IFERROR(VLOOKUP((ROW(AF35)-4)&\"_\"&AF$4,Schedule!$H:$I,2,FALSE),\"\"))))","v":""},{"$f":"IF($A35=\"\",\"\",IF(OR(AG$3=\"Sat\",AG$3=\"Sun\"),\"\",IF(COUNTIF(Holidays!$A:$A,AG$4)>0,\"H\",IFERROR(VLOOKUP((ROW(AG35)-4)&\"_\"&AG$4,Schedule!$H:$I,2,FALSE),\"\"))))","v":""},{"$f":"IF($A35=\"\",\"\",IF(OR(AH$3=\"Sat\",AH$3=\"Sun\"),\"\",IF(COUNTIF(Holidays!$A:$A,AH$4)>0,\"H\",IFERROR(VLOOKUP((ROW(AH35)-4)&\"_\"&AH$4,Schedule!$H:$I,2,FALSE),\"\"))))","v":""},{"$f":"IF($A35=\"\",\"\",IF(OR(AI$3=\"Sat\",AI$3=\"Sun\"),\"\",IF(COUNTIF(Holidays!$A:$A,AI$4)>0,\"H\",IFERROR(VLOOKUP((ROW(AI35)-4)&\"_\"&AI$4,Schedule!$H:$I,2,FALSE),\"\"))))","v":""},{"$f":"IF($A35=\"\",\"\",IF(OR(AJ$3=\"Sat\",AJ$3=\"Sun\"),\"\",IF(COUNTIF(Holidays!$A:$A,AJ$4)>0,\"H\",IFERROR(VLOOKUP((ROW(AJ35)-4)&\"_\"&AJ$4,Schedule!$H:$I,2,FALSE),\"\"))))","v":""},{"$f":"IF($A35=\"\",\"\",ROUND(SUMIFS(Schedule!$E:$E,Schedule!$A:$A,$A35,Schedule!$D:$D,$AK$3,Schedule!$B:$B,\">=\"&DATE($Q$2,$U$2,1),Schedule!$B:$B,\"<=\"&EOMONTH(DATE($Q$2,$U$2,1),0))/8,2))","v":""},{"$f":"IF($A35=\"\",\"\",ROUND(SUMIFS(Schedule!$E:$E,Schedule!$A:$A,$A35,Schedule!$D:$D,$AK$3,Schedule!$B:$B,\">=\"&DATE($Q$2,1,1),Schedule!$B:$B,\"<=\"&EOMONTH(DATE($Q$2,$U$2,1),0))/8,2))","v":""},{"$f":"IF($A35=\"\",\"\",ROUND(SUMIFS(Schedule!$E:$E,Schedule!$A:$A,$A35,Schedule!$D:$D,$AM$3,Schedule!$B:$B,\">=\"&DATE($Q$2,$U$2,1),Schedule!$B:$B,\"<=\"&EOMONTH(DATE($Q$2,$U$2,1),0))/8,2))","v":""},{"$f":"IF($A35=\"\",\"\",ROUND(SUMIFS(Schedule!$E:$E,Schedule!$A:$A,$A35,Schedule!$D:$D,$AM$3,Schedule!$B:$B,\">=\"&DATE($Q$2,1,1),Schedule!$B:$B,\"<=\"&EOMONTH(DATE($Q$2,$U$2,1),0))/8,2))","v":""}]
[{"$f":"IF(Lookups!A33=\"\",\"\",Lookups!A33)","v":""},{"$f":"IF($A36=\"\",\"\",IF(OR(B$3=\"Sat\",B$3=\"Sun\"),\"\",IF(COUNTIF(Holidays!$A:$A,B$4)>0,\"H\",IFERROR(VLOOKUP((ROW(B36)-4)&\"_\"&B$4,Schedule!$H:$I,2,FALSE),\"\"))))","v":""},{"$f":"IF($A36=\"\",\"\",IF(OR(C$3=\"Sat\",C$3=\"Sun\"),\"\",IF(COUNTIF(Holidays!$A:$A,C$4)>0,\"H\",IFERROR(VLOOKUP((ROW(C36)-4)&\"_\"&C$4,Schedule!$H:$I,2,FALSE),\"\"))))","v":""},{"$f":"IF($A36=\"\",\"\",IF(OR(D$3=\"Sat\",D$3=\"Sun\"),\"\",IF(COUNTIF(Holidays!$A:$A,D$4)>0,\"H\",IFERROR(VLOOKUP((ROW(D36)-4)&\"_\"&D$4,Schedule!$H:$I,2,FALSE),\"\"))))","v":""},{"$f":"IF($A36=\"\",\"\",IF(OR(E$3=\"Sat\",E$3=\"Sun\"),\"\",IF(COUNTIF(Holidays!$A:$A,E$4)>0,\"H\",IFERROR(VLOOKUP((ROW(E36)-4)&\"_\"&E$4,Schedule!$H:$I,2,FALSE),\"\"))))","v":""},{"$f":"IF($A36=\"\",\"\",IF(OR(F$3=\"Sat\",F$3=\"Sun\"),\"\",IF(COUNTIF(Holidays!$A:$A,F$4)>0,\"H\",IFERROR(VLOOKUP((ROW(F36)-4)&\"_\"&F$4,Schedule!$H:$I,2,FALSE),\"\"))))","v":""},{"$f":"IF($A36=\"\",\"\",IF(OR(G$3=\"Sat\",G$3=\"Sun\"),\"\",IF(COUNTIF(Holidays!$A:$A,G$4)>0,\"H\",IFERROR(VLOOKUP((ROW(G36)-4)&\"_\"&G$4,Schedule!$H:$I,2,FALSE),\"\"))))","v":""},{"$f":"IF($A36=\"\",\"\",IF(OR(H$3=\"Sat\",H$3=\"Sun\"),\"\",IF(COUNTIF(Holidays!$A:$A,H$4)>0,\"H\",IFERROR(VLOOKUP((ROW(H36)-4)&\"_\"&H$4,Schedule!$H:$I,2,FALSE),\"\"))))","v":""},{"$f":"IF($A36=\"\",\"\",IF(OR(I$3=\"Sat\",I$3=\"Sun\"),\"\",IF(COUNTIF(Holidays!$A:$A,I$4)>0,\"H\",IFERROR(VLOOKUP((ROW(I36)-4)&\"_\"&I$4,Schedule!$H:$I,2,FALSE),\"\"))))","v":""},{"$f":"IF($A36=\"\",\"\",IF(OR(J$3=\"Sat\",J$3=\"Sun\"),\"\",IF(COUNTIF(Holidays!$A:$A,J$4)>0,\"H\",IFERROR(VLOOKUP((ROW(J36)-4)&\"_\"&J$4,Schedule!$H:$I,2,FALSE),\"\"))))","v":""},{"$f":"IF($A36=\"\",\"\",IF(OR(K$3=\"Sat\",K$3=\"Sun\"),\"\",IF(COUNTIF(Holidays!$A:$A,K$4)>0,\"H\",IFERROR(VLOOKUP((ROW(K36)-4)&\"_\"&K$4,Schedule!$H:$I,2,FALSE),\"\"))))","v":""},{"$f":"IF($A36=\"\",\"\",IF(OR(L$3=\"Sat\",L$3=\"Sun\"),\"\",IF(COUNTIF(Holidays!$A:$A,L$4)>0,\"H\",IFERROR(VLOOKUP((ROW(L36)-4)&\"_\"&L$4,Schedule!$H:$I,2,FALSE),\"\"))))","v":""},{"$f":"IF($A36=\"\",\"\",IF(OR(M$3=\"Sat\",M$3=\"Sun\"),\"\",IF(COUNTIF(Holidays!$A:$A,M$4)>0,\"H\",IFERROR(VLOOKUP((ROW(M36)-4)&\"_\"&M$4,Schedule!$H:$I,2,FALSE),\"\"))))","v":""},{"$f":"IF($A36=\"\",\"\",IF(OR(N$3=\"Sat\",N$3=\"Sun\"),\"\",IF(COUNTIF(Holidays!$A:$A,N$4)>0,\"H\",IFERROR(VLOOKUP((ROW(N36)-4)&\"_\"&N$4,Schedule!$H:$I,2,FALSE),\"\"))))","v":""},{"$f":"IF($A36=\"\",\"\",IF(OR(O$3=\"Sat\",O$3=\"Sun\"),\"\",IF(COUNTIF(Holidays!$A:$A,O$4)>0,\"H\",IFERROR(VLOOKUP((ROW(O36)-4)&\"_\"&O$4,Schedule!$H:$I,2,FALSE),\"\"))))","v":""},{"$f":"IF($A36=\"\",\"\",IF(OR(P$3=\"Sat\",P$3=\"Sun\"),\"\",IF(COUNTIF(Holidays!$A:$A,P$4)>0,\"H\",IFERROR(VLOOKUP((ROW(P36)-4)&\"_\"&P$4,Schedule!$H:$I,2,FALSE),\"\"))))","v":""},{"$f":"IF($A36=\"\",\"\",IF(OR(Q$3=\"Sat\",Q$3=\"Sun\"),\"\",IF(COUNTIF(Holidays!$A:$A,Q$4)>0,\"H\",IFERROR(VLOOKUP((ROW(Q36)-4)&\"_\"&Q$4,Schedule!$H:$I,2,FALSE),\"\"))))","v":""},{"$f":"IF($A36=\"\",\"\",IF(OR(R$3=\"Sat\",R$3=\"Sun\"),\"\",IF(COUNTIF(Holidays!$A:$A,R$4)>0,\"H\",IFERROR(VLOOKUP((ROW(R36)-4)&\"_\"&R$4,Schedule!$H:$I,2,FALSE),\"\"))))","v":""},{"$f":"IF($A36=\"\",\"\",IF(OR(S$3=\"Sat\",S$3=\"Sun\"),\"\",IF(COUNTIF(Holidays!$A:$A,S$4)>0,\"H\",IFERROR(VLOOKUP((ROW(S36)-4)&\"_\"&S$4,Schedule!$H:$I,2,FALSE),\"\"))))","v":""},{"$f":"IF($A36=\"\",\"\",IF(OR(T$3=\"Sat\",T$3=\"Sun\"),\"\",IF(COUNTIF(Holidays!$A:$A,T$4)>0,\"H\",IFERROR(VLOOKUP((ROW(T36)-4)&\"_\"&T$4,Schedule!$H:$I,2,FALSE),\"\"))))","v":""},{"$f":"IF($A36=\"\",\"\",IF(OR(U$3=\"Sat\",U$3=\"Sun\"),\"\",IF(COUNTIF(Holidays!$A:$A,U$4)>0,\"H\",IFERROR(VLOOKUP((ROW(U36)-4)&\"_\"&U$4,Schedule!$H:$I,2,FALSE),\"\"))))","v":""},{"$f":"IF($A36=\"\",\"\",IF(OR(V$3=\"Sat\",V$3=\"Sun\"),\"\",IF(COUNTIF(Holidays!$A:$A,V$4)>0,\"H\",IFERROR(VLOOKUP((ROW(V36)-4)&\"_\"&V$4,Schedule!$H:$I,2,FALSE),\"\"))))","v":""},{"$f":"IF($A36=\"\",\"\",IF(OR(W$3=\"Sat\",W$3=\"Sun\"),\"\",IF(COUNTIF(Holidays!$A:$A,W$4)>0,\"H\",IFERROR(VLOOKUP((ROW(W36)-4)&\"_\"&W$4,Schedule!$H:$I,2,FALSE),\"\"))))","v":""},{"$f":"IF($A36=\"\",\"\",IF(OR(X$3=\"Sat\",X$3=\"Sun\"),\"\",IF(COUNTIF(Holidays!$A:$A,X$4)>0,\"H\",IFERROR(VLOOKUP((ROW(X36)-4)&\"_\"&X$4,Schedule!$H:$I,2,FALSE),\"\"))))","v":""},{"$f":"IF($A36=\"\",\"\",IF(OR(Y$3=\"Sat\",Y$3=\"Sun\"),\"\",IF(COUNTIF(Holidays!$A:$A,Y$4)>0,\"H\",IFERROR(VLOOKUP((ROW(Y36)-4)&\"_\"&Y$4,Schedule!$H:$I,2,FALSE),\"\"))))","v":""},{"$f":"IF($A36=\"\",\"\",IF(OR(Z$3=\"Sat\",Z$3=\"Sun\"),\"\",IF(COUNTIF(Holidays!$A:$A,Z$4)>0,\"H\",IFERROR(VLOOKUP((ROW(Z36)-4)&\"_\"&Z$4,Schedule!$H:$I,2,FALSE),\"\"))))","v":""},{"$f":"IF($A36=\"\",\"\",IF(OR(AA$3=\"Sat\",AA$3=\"Sun\"),\"\",IF(COUNTIF(Holidays!$A:$A,AA$4)>0,\"H\",IFERROR(VLOOKUP((ROW(AA36)-4)&\"_\"&AA$4,Schedule!$H:$I,2,FALSE),\"\"))))","v":""},{"$f":"IF($A36=\"\",\"\",IF(OR(AB$3=\"Sat\",AB$3=\"Sun\"),\"\",IF(COUNTIF(Holidays!$A:$A,AB$4)>0,\"H\",IFERROR(VLOOKUP((ROW(AB36)-4)&\"_\"&AB$4,Schedule!$H:$I,2,FALSE),\"\"))))","v":""},{"$f":"IF($A36=\"\",\"\",IF(OR(AC$3=\"Sat\",AC$3=\"Sun\"),\"\",IF(COUNTIF(Holidays!$A:$A,AC$4)>0,\"H\",IFERROR(VLOOKUP((ROW(AC36)-4)&\"_\"&AC$4,Schedule!$H:$I,2,FALSE),\"\"))))","v":""},{"$f":"IF($A36=\"\",\"\",IF(OR(AD$3=\"Sat\",AD$3=\"Sun\"),\"\",IF(COUNTIF(Holidays!$A:$A,AD$4)>0,\"H\",IFERROR(VLOOKUP((ROW(AD36)-4)&\"_\"&AD$4,Schedule!$H:$I,2,FALSE),\"\"))))","v":""},{"$f":"IF($A36=\"\",\"\",IF(OR(AE$3=\"Sat\",AE$3=\"Sun\"),\"\",IF(COUNTIF(Holidays!$A:$A,AE$4)>0,\"H\",IFERROR(VLOOKUP((ROW(AE36)-4)&\"_\"&AE$4,Schedule!$H:$I,2,FALSE),\"\"))))","v":""},{"$f":"IF($A36=\"\",\"\",IF(OR(AF$3=\"Sat\",AF$3=\"Sun\"),\"\",IF(COUNTIF(Holidays!$A:$A,AF$4)>0,\"H\",IFERROR(VLOOKUP((ROW(AF36)-4)&\"_\"&AF$4,Schedule!$H:$I,2,FALSE),\"\"))))","v":""},{"$f":"IF($A36=\"\",\"\",IF(OR(AG$3=\"Sat\",AG$3=\"Sun\"),\"\",IF(COUNTIF(Holidays!$A:$A,AG$4)>0,\"H\",IFERROR(VLOOKUP((ROW(AG36)-4)&\"_\"&AG$4,Schedule!$H:$I,2,FALSE),\"\"))))","v":""},{"$f":"IF($A36=\"\",\"\",IF(OR(AH$3=\"Sat\",AH$3=\"Sun\"),\"\",IF(COUNTIF(Holidays!$A:$A,AH$4)>0,\"H\",IFERROR(VLOOKUP((ROW(AH36)-4)&\"_\"&AH$4,Schedule!$H:$I,2,FALSE),\"\"))))","v":""},{"$f":"IF($A36=\"\",\"\",IF(OR(AI$3=\"Sat\",AI$3=\"Sun\"),\"\",IF(COUNTIF(Holidays!$A:$A,AI$4)>0,\"H\",IFERROR(VLOOKUP((ROW(AI36)-4)&\"_\"&AI$4,Schedule!$H:$I,2,FALSE),\"\"))))","v":""},{"$f":"IF($A36=\"\",\"\",IF(OR(AJ$3=\"Sat\",AJ$3=\"Sun\"),\"\",IF(COUNTIF(Holidays!$A:$A,AJ$4)>0,\"H\",IFERROR(VLOOKUP((ROW(AJ36)-4)&\"_\"&AJ$4,Schedule!$H:$I,2,FALSE),\"\"))))","v":""},{"$f":"IF($A36=\"\",\"\",ROUND(SUMIFS(Schedule!$E:$E,Schedule!$A:$A,$A36,Schedule!$D:$D,$AK$3,Schedule!$B:$B,\">=\"&DATE($Q$2,$U$2,1),Schedule!$B:$B,\"<=\"&EOMONTH(DATE($Q$2,$U$2,1),0))/8,2))","v":""},{"$f":"IF($A36=\"\",\"\",ROUND(SUMIFS(Schedule!$E:$E,Schedule!$A:$A,$A36,Schedule!$D:$D,$AK$3,Schedule!$B:$B,\">=\"&DATE($Q$2,1,1),Schedule!$B:$B,\"<=\"&EOMONTH(DATE($Q$2,$U$2,1),0))/8,2))","v":""},{"$f":"IF($A36=\"\",\"\",ROUND(SUMIFS(Schedule!$E:$E,Schedule!$A:$A,$A36,Schedule!$D:$D,$AM$3,Schedule!$B:$B,\">=\"&DATE($Q$2,$U$2,1),Schedule!$B:$B,\"<=\"&EOMONTH(DATE($Q$2,$U$2,1),0))/8,2))","v":""},{"$f":"IF($A36=\"\",\"\",ROUND(SUMIFS(Schedule!$E:$E,Schedule!$A:$A,$A36,Schedule!$D:$D,$AM$3,Schedule!$B:$B,\">=\"&DATE($Q$2,1,1),Schedule!$B:$B,\"<=\"&EOMONTH(DATE($Q$2,$U$2,1),0))/8,2))","v":""}]
[{"$f":"IF(Lookups!A34=\"\",\"\",Lookups!A34)","v":""},{"$f":"IF($A37=\"\",\"\",IF(OR(B$3=\"Sat\",B$3=\"Sun\"),\"\",IF(COUNTIF(Holidays!$A:$A,B$4)>0,\"H\",IFERROR(VLOOKUP((ROW(B37)-4)&\"_\"&B$4,Schedule!$H:$I,2,FALSE),\"\"))))","v":""},{"$f":"IF($A37=\"\",\"\",IF(OR(C$3=\"Sat\",C$3=\"Sun\"),\"\",IF(COUNTIF(Holidays!$A:$A,C$4)>0,\"H\",IFERROR(VLOOKUP((ROW(C37)-4)&\"_\"&C$4,Schedule!$H:$I,2,FALSE),\"\"))))","v":""},{"$f":"IF($A37=\"\",\"\",IF(OR(D$3=\"Sat\",D$3=\"Sun\"),\"\",IF(COUNTIF(Holidays!$A:$A,D$4)>0,\"H\",IFERROR(VLOOKUP((ROW(D37)-4)&\"_\"&D$4,Schedule!$H:$I,2,FALSE),\"\"))))","v":""},{"$f":"IF($A37=\"\",\"\",IF(OR(E$3=\"Sat\",E$3=\"Sun\"),\"\",IF(COUNTIF(Holidays!$A:$A,E$4)>0,\"H\",IFERROR(VLOOKUP((ROW(E37)-4)&\"_\"&E$4,Schedule!$H:$I,2,FALSE),\"\"))))","v":""},{"$f":"IF($A37=\"\",\"\",IF(OR(F$3=\"Sat\",F$3=\"Sun\"),\"\",IF(COUNTIF(Holidays!$A:$A,F$4)>0,\"H\",IFERROR(VLOOKUP((ROW(F37)-4)&\"_\"&F$4,Schedule!$H:$I,2,FALSE),\"\"))))","v":""},{"$f":"IF($A37=\"\",\"\",IF(OR(G$3=\"Sat\",G$3=\"Sun\"),\"\",IF(COUNTIF(Holidays!$A:$A,G$4)>0,\"H\",IFERROR(VLOOKUP((ROW(G37)-4)&\"_\"&G$4,Schedule!$H:$I,2,FALSE),\"\"))))","v":""},{"$f":"IF($A37=\"\",\"\",IF(OR(H$3=\"Sat\",H$3=\"Sun\"),\"\",IF(COUNTIF(Holidays!$A:$A,H$4)>0,\"H\",IFERROR(VLOOKUP((ROW(H37)-4)&\"_\"&H$4,Schedule!$H:$I,2,FALSE),\"\"))))","v":""},{"$f":"IF($A37=\"\",\"\",IF(OR(I$3=\"Sat\",I$3=\"Sun\"),\"\",IF(COUNTIF(Holidays!$A:$A,I$4)>0,\"H\",IFERROR(VLOOKUP((ROW(I37)-4)&\"_\"&I$4,Schedule!$H:$I,2,FALSE),\"\"))))","v":""},{"$f":"IF($A37=\"\",\"\",IF(OR(J$3=\"Sat\",J$3=\"Sun\"),\"\",IF(COUNTIF(Holidays!$A:$A,J$4)>0,\"H\",IFERROR(VLOOKUP((ROW(J37)-4)&\"_\"&J$4,Schedule!$H:$I,2,FALSE),\"\"))))","v":""},{"$f":"IF($A37=\"\",\"\",IF(OR(K$3=\"Sat\",K$3=\"Sun\"),\"\",IF(COUNTIF(Holidays!$A:$A,K$4)>0,\"H\",IFERROR(VLOOKUP((ROW(K37)-4)&\"_\"&K$4,Schedule!$H:$I,2,FALSE),\"\"))))","v":""},{"$f":"IF($A37=\"\",\"\",IF(OR(L$3=\"Sat\",L$3=\"Sun\"),\"\",IF(COUNTIF(Holidays!$A:$A,L$4)>0,\"H\",IFERROR(VLOOKUP((ROW(L37)-4)&\"_\"&L$4,Schedule!$H:$I,2,FALSE),\"\"))))","v":""},{"$f":"IF($A37=\"\",\"\",IF(OR(M$3=\"Sat\",M$3=\"Sun\"),\"\",IF(COUNTIF(Holidays!$A:$A,M$4)>0,\"H\",IFERROR(VLOOKUP((ROW(M37)-4)&\"_\"&M$4,Schedule!$H:$I,2,FALSE),\"\"))))","v":""},{"$f":"IF($A37=\"\",\"\",IF(OR(N$3=\"Sat\",N$3=\"Sun\"),\"\",IF(COUNTIF(Holidays!$A:$A,N$4)>0,\"H\",IFERROR(VLOOKUP((ROW(N37)-4)&\"_\"&N$4,Schedule!$H:$I,2,FALSE),\"\"))))","v":""},{"$f":"IF($A37=\"\",\"\",IF(OR(O$3=\"Sat\",O$3=\"Sun\"),\"\",IF(COUNTIF(Holidays!$A:$A,O$4)>0,\"H\",IFERROR(VLOOKUP((ROW(O37)-4)&\"_\"&O$4,Schedule!$H:$I,2,FALSE),\"\"))))","v":""},{"$f":"IF($A37=\"\",\"\",IF(OR(P$3=\"Sat\",P$3=\"Sun\"),\"\",IF(COUNTIF(Holidays!$A:$A,P$4)>0,\"H\",IFERROR(VLOOKUP((ROW(P37)-4)&\"_\"&P$4,Schedule!$H:$I,2,FALSE),\"\"))))","v":""},{"$f":"IF($A37=\"\",\"\",IF(OR(Q$3=\"Sat\",Q$3=\"Sun\"),\"\",IF(COUNTIF(Holidays!$A:$A,Q$4)>0,\"H\",IFERROR(VLOOKUP((ROW(Q37)-4)&\"_\"&Q$4,Schedule!$H:$I,2,FALSE),\"\"))))","v":""},{"$f":"IF($A37=\"\",\"\",IF(OR(R$3=\"Sat\",R$3=\"Sun\"),\"\",IF(COUNTIF(Holidays!$A:$A,R$4)>0,\"H\",IFERROR(VLOOKUP((ROW(R37)-4)&\"_\"&R$4,Schedule!$H:$I,2,FALSE),\"\"))))","v":""},{"$f":"IF($A37=\"\",\"\",IF(OR(S$3=\"Sat\",S$3=\"Sun\"),\"\",IF(COUNTIF(Holidays!$A:$A,S$4)>0,\"H\",IFERROR(VLOOKUP((ROW(S37)-4)&\"_\"&S$4,Schedule!$H:$I,2,FALSE),\"\"))))","v":""},{"$f":"IF($A37=\"\",\"\",IF(OR(T$3=\"Sat\",T$3=\"Sun\"),\"\",IF(COUNTIF(Holidays!$A:$A,T$4)>0,\"H\",IFERROR(VLOOKUP((ROW(T37)-4)&\"_\"&T$4,Schedule!$H:$I,2,FALSE),\"\"))))","v":""},{"$f":"IF($A37=\"\",\"\",IF(OR(U$3=\"Sat\",U$3=\"Sun\"),\"\",IF(COUNTIF(Holidays!$A:$A,U$4)>0,\"H\",IFERROR(VLOOKUP((ROW(U37)-4)&\"_\"&U$4,Schedule!$H:$I,2,FALSE),\"\"))))","v":""},{"$f":"IF($A37=\"\",\"\",IF(OR(V$3=\"Sat\",V$3=\"Sun\"),\"\",IF(COUNTIF(Holidays!$A:$A,V$4)>0,\"H\",IFERROR(VLOOKUP((ROW(V37)-4)&\"_\"&V$4,Schedule!$H:$I,2,FALSE),\"\"))))","v":""},{"$f":"IF($A37=\"\",\"\",IF(OR(W$3=\"Sat\",W$3=\"Sun\"),\"\",IF(COUNTIF(Holidays!$A:$A,W$4)>0,\"H\",IFERROR(VLOOKUP((ROW(W37)-4)&\"_\"&W$4,Schedule!$H:$I,2,FALSE),\"\"))))","v":""},{"$f":"IF($A37=\"\",\"\",IF(OR(X$3=\"Sat\",X$3=\"Sun\"),\"\",IF(COUNTIF(Holidays!$A:$A,X$4)>0,\"H\",IFERROR(VLOOKUP((ROW(X37)-4)&\"_\"&X$4,Schedule!$H:$I,2,FALSE),\"\"))))","v":""},{"$f":"IF($A37=\"\",\"\",IF(OR(Y$3=\"Sat\",Y$3=\"Sun\"),\"\",IF(COUNTIF(Holidays!$A:$A,Y$4)>0,\"H\",IFERROR(VLOOKUP((ROW(Y37)-4)&\"_\"&Y$4,Schedule!$H:$I,2,FALSE),\"\"))))","v":""},{"$f":"IF($A37=\"\",\"\",IF(OR(Z$3=\"Sat\",Z$3=\"Sun\"),\"\",IF(COUNTIF(Holidays!$A:$A,Z$4)>0,\"H\",IFERROR(VLOOKUP((ROW(Z37)-4)&\"_\"&Z$4,Schedule!$H:$I,2,FALSE),\"\"))))","v":""},{"$f":"IF($A37=\"\",\"\",IF(OR(AA$3=\"Sat\",AA$3=\"Sun\"),\"\",IF(COUNTIF(Holidays!$A:$A,AA$4)>0,\"H\",IFERROR(VLOOKUP((ROW(AA37)-4)&\"_\"&AA$4,Schedule!$H:$I,2,FALSE),\"\"))))","v":""},{"$f":"IF($A37=\"\",\"\",IF(OR(AB$3=\"Sat\",AB$3=\"Sun\"),\"\",IF(COUNTIF(Holidays!$A:$A,AB$4)>0,\"H\",IFERROR(VLOOKUP((ROW(AB37)-4)&\"_\"&AB$4,Schedule!$H:$I,2,FALSE),\"\"))))","v":""},{"$f":"IF($A37=\"\",\"\",IF(OR(AC$3=\"Sat\",AC$3=\"Sun\"),\"\",IF(COUNTIF(Holidays!$A:$A,AC$4)>0,\"H\",IFERROR(VLOOKUP((ROW(AC37)-4)&\"_\"&AC$4,Schedule!$H:$I,2,FALSE),\"\"))))","v":""},{"$f":"IF($A37=\"\",\"\",IF(OR(AD$3=\"Sat\",AD$3=\"Sun\"),\"\",IF(COUNTIF(Holidays!$A:$A,AD$4)>0,\"H\",IFERROR(VLOOKUP((ROW(AD37)-4)&\"_\"&AD$4,Schedule!$H:$I,2,FALSE),\"\"))))","v":""},{"$f":"IF($A37=\"\",\"\",IF(OR(AE$3=\"Sat\",AE$3=\"Sun\"),\"\",IF(COUNTIF(Holidays!$A:$A,AE$4)>0,\"H\",IFERROR(VLOOKUP((ROW(AE37)-4)&\"_\"&AE$4,Schedule!$H:$I,2,FALSE),\"\"))))","v":""},{"$f":"IF($A37=\"\",\"\",IF(OR(AF$3=\"Sat\",AF$3=\"Sun\"),\"\",IF(COUNTIF(Holidays!$A:$A,AF$4)>0,\"H\",IFERROR(VLOOKUP((ROW(AF37)-4)&\"_\"&AF$4,Schedule!$H:$I,2,FALSE),\"\"))))","v":""},{"$f":"IF($A37=\"\",\"\",IF(OR(AG$3=\"Sat\",AG$3=\"Sun\"),\"\",IF(COUNTIF(Holidays!$A:$A,AG$4)>0,\"H\",IFERROR(VLOOKUP((ROW(AG37)-4)&\"_\"&AG$4,Schedule!$H:$I,2,FALSE),\"\"))))","v":""},{"$f":"IF($A37=\"\",\"\",IF(OR(AH$3=\"Sat\",AH$3=\"Sun\"),\"\",IF(COUNTIF(Holidays!$A:$A,AH$4)>0,\"H\",IFERROR(VLOOKUP((ROW(AH37)-4)&\"_\"&AH$4,Schedule!$H:$I,2,FALSE),\"\"))))","v":""},{"$f":"IF($A37=\"\",\"\",IF(OR(AI$3=\"Sat\",AI$3=\"Sun\"),\"\",IF(COUNTIF(Holidays!$A:$A,AI$4)>0,\"H\",IFERROR(VLOOKUP((ROW(AI37)-4)&\"_\"&AI$4,Schedule!$H:$I,2,FALSE),\"\"))))","v":""},{"$f":"IF($A37=\"\",\"\",IF(OR(AJ$3=\"Sat\",AJ$3=\"Sun\"),\"\",IF(COUNTIF(Holidays!$A:$A,AJ$4)>0,\"H\",IFERROR(VLOOKUP((ROW(AJ37)-4)&\"_\"&AJ$4,Schedule!$H:$I,2,FALSE),\"\"))))","v":""},{"$f":"IF($A37=\"\",\"\",ROUND(SUMIFS(Schedule!$E:$E,Schedule!$A:$A,$A37,Schedule!$D:$D,$AK$3,Schedule!$B:$B,\">=\"&DATE($Q$2,$U$2,1),Schedule!$B:$B,\"<=\"&EOMONTH(DATE($Q$2,$U$2,1),0))/8,2))","v":""},{"$f":"IF($A37=\"\",\"\",ROUND(SUMIFS(Schedule!$E:$E,Schedule!$A:$A,$A37,Schedule!$D:$D,$AK$3,Schedule!$B:$B,\">=\"&DATE($Q$2,1,1),Schedule!$B:$B,\"<=\"&EOMONTH(DATE($Q$2,$U$2,1),0))/8,2))","v":""},{"$f":"IF($A37=\"\",\"\",ROUND(SUMIFS(Schedule!$E:$E,Schedule!$A:$A,$A37,Schedule!$D:$D,$AM$3,Schedule!$B:$B,\">=\"&DATE($Q$2,$U$2,1),Schedule!$B:$B,\"<=\"&EOMONTH(DATE($Q$2,$U$2,1),0))/8,2))","v":""},{"$f":"IF($A37=\"\",\"\",ROUND(SUMIFS(Schedule!$E:$E,Schedule!$A:$A,$A37,Schedule!$D:$D,$AM$3,Schedule!$B:$B,\">=\"&DATE($Q$2,1,1),Schedule!$B:$B,\"<=\"&EOMONTH(DATE($Q$2,$U$2,1),0))/8,2))","v":""}]
[{"$f":"IF(Lookups!A35=\"\",\"\",Lookups!A35)","v":""},{"$f":"IF($A38=\"\",\"\",IF(OR(B$3=\"Sat\",B$3=\"Sun\"),\"\",IF(COUNTIF(Holidays!$A:$A,B$4)>0,\"H\",IFERROR(VLOOKUP((ROW(B38)-4)&\"_\"&B$4,Schedule!$H:$I,2,FALSE),\"\"))))","v":""},{"$f":"IF($A38=\"\",\"\",IF(OR(C$3=\"Sat\",C$3=\"Sun\"),\"\",IF(COUNTIF(Holidays!$A:$A,C$4)>0,\"H\",IFERROR(VLOOKUP((ROW(C38)-4)&\"_\"&C$4,Schedule!$H:$I,2,FALSE),\"\"))))","v":""},{"$f":"IF($A38=\"\",\"\",IF(OR(D$3=\"Sat\",D$3=\"Sun\"),\"\",IF(COUNTIF(Holidays!$A:$A,D$4)>0,\"H\",IFERROR(VLOOKUP((ROW(D38)-4)&\"_\"&D$4,Schedule!$H:$I,2,FALSE),\"\"))))","v":""},{"$f":"IF($A38=\"\",\"\",IF(OR(E$3=\"Sat\",E$3=\"Sun\"),\"\",IF(COUNTIF(Holidays!$A:$A,E$4)>0,\"H\",IFERROR(VLOOKUP((ROW(E38)-4)&\"_\"&E$4,Schedule!$H:$I,2,FALSE),\"\"))))","v":""},{"$f":"IF($A38=\"\",\"\",IF(OR(F$3=\"Sat\",F$3=\"Sun\"),\"\",IF(COUNTIF(Holidays!$A:$A,F$4)>0,\"H\",IFERROR(VLOOKUP((ROW(F38)-4)&\"_\"&F$4,Schedule!$H:$I,2,FALSE),\"\"))))","v":""},{"$f":"IF($A38=\"\",\"\",IF(OR(G$3=\"Sat\",G$3=\"Sun\"),\"\",IF(COUNTIF(Holidays!$A:$A,G$4)>0,\"H\",IFERROR(VLOOKUP((ROW(G38)-4)&\"_\"&G$4,Schedule!$H:$I,2,FALSE),\"\"))))","v":""},{"$f":"IF($A38=\"\",\"\",IF(OR(H$3=\"Sat\",H$3=\"Sun\"),\"\",IF(COUNTIF(Holidays!$A:$A,H$4)>0,\"H\",IFERROR(VLOOKUP((ROW(H38)-4)&\"_\"&H$4,Schedule!$H:$I,2,FALSE),\"\"))))","v":""},{"$f":"IF($A38=\"\",\"\",IF(OR(I$3=\"Sat\",I$3=\"Sun\"),\"\",IF(COUNTIF(Holidays!$A:$A,I$4)>0,\"H\",IFERROR(VLOOKUP((ROW(I38)-4)&\"_\"&I$4,Schedule!$H:$I,2,FALSE),\"\"))))","v":""},{"$f":"IF($A38=\"\",\"\",IF(OR(J$3=\"Sat\",J$3=\"Sun\"),\"\",IF(COUNTIF(Holidays!$A:$A,J$4)>0,\"H\",IFERROR(VLOOKUP((ROW(J38)-4)&\"_\"&J$4,Schedule!$H:$I,2,FALSE),\"\"))))","v":""},{"$f":"IF($A38=\"\",\"\",IF(OR(K$3=\"Sat\",K$3=\"Sun\"),\"\",IF(COUNTIF(Holidays!$A:$A,K$4)>0,\"H\",IFERROR(VLOOKUP((ROW(K38)-4)&\"_\"&K$4,Schedule!$H:$I,2,FALSE),\"\"))))","v":""},{"$f":"IF($A38=\"\",\"\",IF(OR(L$3=\"Sat\",L$3=\"Sun\"),\"\",IF(COUNTIF(Holidays!$A:$A,L$4)>0,\"H\",IFERROR(VLOOKUP((ROW(L38)-4)&\"_\"&L$4,Schedule!$H:$I,2,FALSE),\"\"))))","v":""},{"$f":"IF($A38=\"\",\"\",IF(OR(M$3=\"Sat\",M$3=\"Sun\"),\"\",IF(COUNTIF(Holidays!$A:$A,M$4)>0,\"H\",IFERROR(VLOOKUP((ROW(M38)-4)&\"_\"&M$4,Schedule!$H:$I,2,FALSE),\"\"))))","v":""},{"$f":"IF($A38=\"\",\"\",IF(OR(N$3=\"Sat\",N$3=\"Sun\"),\"\",IF(COUNTIF(Holidays!$A:$A,N$4)>0,\"H\",IFERROR(VLOOKUP((ROW(N38)-4)&\"_\"&N$4,Schedule!$H:$I,2,FALSE),\"\"))))","v":""},{"$f":"IF($A38=\"\",\"\",IF(OR(O$3=\"Sat\",O$3=\"Sun\"),\"\",IF(COUNTIF(Holidays!$A:$A,O$4)>0,\"H\",IFERROR(VLOOKUP((ROW(O38)-4)&\"_\"&O$4,Schedule!$H:$I,2,FALSE),\"\"))))","v":""},{"$f":"IF($A38=\"\",\"\",IF(OR(P$3=\"Sat\",P$3=\"Sun\"),\"\",IF(COUNTIF(Holidays!$A:$A,P$4)>0,\"H\",IFERROR(VLOOKUP((ROW(P38)-4)&\"_\"&P$4,Schedule!$H:$I,2,FALSE),\"\"))))","v":""},{"$f":"IF($A38=\"\",\"\",IF(OR(Q$3=\"Sat\",Q$3=\"Sun\"),\"\",IF(COUNTIF(Holidays!$A:$A,Q$4)>0,\"H\",IFERROR(VLOOKUP((ROW(Q38)-4)&\"_\"&Q$4,Schedule!$H:$I,2,FALSE),\"\"))))","v":""},{"$f":"IF($A38=\"\",\"\",IF(OR(R$3=\"Sat\",R$3=\"Sun\"),\"\",IF(COUNTIF(Holidays!$A:$A,R$4)>0,\"H\",IFERROR(VLOOKUP((ROW(R38)-4)&\"_\"&R$4,Schedule!$H:$I,2,FALSE),\"\"))))","v":""},{"$f":"IF($A38=\"\",\"\",IF(OR(S$3=\"Sat\",S$3=\"Sun\"),\"\",IF(COUNTIF(Holidays!$A:$A,S$4)>0,\"H\",IFERROR(VLOOKUP((ROW(S38)-4)&\"_\"&S$4,Schedule!$H:$I,2,FALSE),\"\"))))","v":""},{"$f":"IF($A38=\"\",\"\",IF(OR(T$3=\"Sat\",T$3=\"Sun\"),\"\",IF(COUNTIF(Holidays!$A:$A,T$4)>0,\"H\",IFERROR(VLOOKUP((ROW(T38)-4)&\"_\"&T$4,Schedule!$H:$I,2,FALSE),\"\"))))","v":""},{"$f":"IF($A38=\"\",\"\",IF(OR(U$3=\"Sat\",U$3=\"Sun\"),\"\",IF(COUNTIF(Holidays!$A:$A,U$4)>0,\"H\",IFERROR(VLOOKUP((ROW(U38)-4)&\"_\"&U$4,Schedule!$H:$I,2,FALSE),\"\"))))","v":""},{"$f":"IF($A38=\"\",\"\",IF(OR(V$3=\"Sat\",V$3=\"Sun\"),\"\",IF(COUNTIF(Holidays!$A:$A,V$4)>0,\"H\",IFERROR(VLOOKUP((ROW(V38)-4)&\"_\"&V$4,Schedule!$H:$I,2,FALSE),\"\"))))","v":""},{"$f":"IF($A38=\"\",\"\",IF(OR(W$3=\"Sat\",W$3=\"Sun\"),\"\",IF(COUNTIF(Holidays!$A:$A,W$4)>0,\"H\",IFERROR(VLOOKUP((ROW(W38)-4)&\"_\"&W$4,Schedule!$H:$I,2,FALSE),\"\"))))","v":""},{"$f":"IF($A38=\"\",\"\",IF(OR(X$3=\"Sat\",X$3=\"Sun\"),\"\",IF(COUNTIF(Holidays!$A:$A,X$4)>0,\"H\",IFERROR(VLOOKUP((ROW(X38)-4)&\"_\"&X$4,Schedule!$H:$I,2,FALSE),\"\"))))","v":""},{"$f":"IF($A38=\"\",\"\",IF(OR(Y$3=\"Sat\",Y$3=\"Sun\"),\"\",IF(COUNTIF(Holidays!$A:$A,Y$4)>0,\"H\",IFERROR(VLOOKUP((ROW(Y38)-4)&\"_\"&Y$4,Schedule!$H:$I,2,FALSE),\"\"))))","v":""},{"$f":"IF($A38=\"\",\"\",IF(OR(Z$3=\"Sat\",Z$3=\"Sun\"),\"\",IF(COUNTIF(Holidays!$A:$A,Z$4)>0,\"H\",IFERROR(VLOOKUP((ROW(Z38)-4)&\"_\"&Z$4,Schedule!$H:$I,2,FALSE),\"\"))))","v":""},{"$f":"IF($A38=\"\",\"\",IF(OR(AA$3=\"Sat\",AA$3=\"Sun\"),\"\",IF(COUNTIF(Holidays!$A:$A,AA$4)>0,\"H\",IFERROR(VLOOKUP((ROW(AA38)-4)&\"_\"&AA$4,Schedule!$H:$I,2,FALSE),\"\"))))","v":""},{"$f":"IF($A38=\"\",\"\",IF(OR(AB$3=\"Sat\",AB$3=\"Sun\"),\"\",IF(COUNTIF(Holidays!$A:$A,AB$4)>0,\"H\",IFERROR(VLOOKUP((ROW(AB38)-4)&\"_\"&AB$4,Schedule!$H:$I,2,FALSE),\"\"))))","v":""},{"$f":"IF($A38=\"\",\"\",IF(OR(AC$3=\"Sat\",AC$3=\"Sun\"),\"\",IF(COUNTIF(Holidays!$A:$A,AC$4)>0,\"H\",IFERROR(VLOOKUP((ROW(AC38)-4)&\"_\"&AC$4,Schedule!$H:$I,2,FALSE),\"\"))))","v":""},{"$f":"IF($A38=\"\",\"\",IF(OR(AD$3=\"Sat\",AD$3=\"Sun\"),\"\",IF(COUNTIF(Holidays!$A:$A,AD$4)>0,\"H\",IFERROR(VLOOKUP((ROW(AD38)-4)&\"_\"&AD$4,Schedule!$H:$I,2,FALSE),\"\"))))","v":""},{"$f":"IF($A38=\"\",\"\",IF(OR(AE$3=\"Sat\",AE$3=\"Sun\"),\"\",IF(COUNTIF(Holidays!$A:$A,AE$4)>0,\"H\",IFERROR(VLOOKUP((ROW(AE38)-4)&\"_\"&AE$4,Schedule!$H:$I,2,FALSE),\"\"))))","v":""},{"$f":"IF($A38=\"\",\"\",IF(OR(AF$3=\"Sat\",AF$3=\"Sun\"),\"\",IF(COUNTIF(Holidays!$A:$A,AF$4)>0,\"H\",IFERROR(VLOOKUP((ROW(AF38)-4)&\"_\"&AF$4,Schedule!$H:$I,2,FALSE),\"\"))))","v":""},{"$f":"IF($A38=\"\",\"\",IF(OR(AG$3=\"Sat\",AG$3=\"Sun\"),\"\",IF(COUNTIF(Holidays!$A:$A,AG$4)>0,\"H\",IFERROR(VLOOKUP((ROW(AG38)-4)&\"_\"&AG$4,Schedule!$H:$I,2,FALSE),\"\"))))","v":""},{"$f":"IF($A38=\"\",\"\",IF(OR(AH$3=\"Sat\",AH$3=\"Sun\"),\"\",IF(COUNTIF(Holidays!$A:$A,AH$4)>0,\"H\",IFERROR(VLOOKUP((ROW(AH38)-4)&\"_\"&AH$4,Schedule!$H:$I,2,FALSE),\"\"))))","v":""},{"$f":"IF($A38=\"\",\"\",IF(OR(AI$3=\"Sat\",AI$3=\"Sun\"),\"\",IF(COUNTIF(Holidays!$A:$A,AI$4)>0,\"H\",IFERROR(VLOOKUP((ROW(AI38)-4)&\"_\"&AI$4,Schedule!$H:$I,2,FALSE),\"\"))))","v":""},{"$f":"IF($A38=\"\",\"\",IF(OR(AJ$3=\"Sat\",AJ$3=\"Sun\"),\"\",IF(COUNTIF(Holidays!$A:$A,AJ$4)>0,\"H\",IFERROR(VLOOKUP((ROW(AJ38)-4)&\"_\"&AJ$4,Schedule!$H:$I,2,FALSE),\"\"))))","v":""},{"$f":"IF($A38=\"\",\"\",ROUND(SUMIFS(Schedule!$E:$E,Schedule!$A:$A,$A38,Schedule!$D:$D,$AK$3,Schedule!$B:$B,\">=\"&DATE($Q$2,$U$2,1),Schedule!$B:$B,\"<=\"&EOMONTH(DATE($Q$2,$U$2,1),0))/8,2))","v":""},{"$f":"IF($A38=\"\",\"\",ROUND(SUMIFS(Schedule!$E:$E,Schedule!$A:$A,$A38,Schedule!$D:$D,$AK$3,Schedule!$B:$B,\">=\"&DATE($Q$2,1,1),Schedule!$B:$B,\"<=\"&EOMONTH(DATE($Q$2,$U$2,1),0))/8,2))","v":""},{"$f":"IF($A38=\"\",\"\",ROUND(SUMIFS(Schedule!$E:$E,Schedule!$A:$A,$A38,Schedule!$D:$D,$AM$3,Schedule!$B:$B,\">=\"&DATE($Q$2,$U$2,1),Schedule!$B:$B,\"<=\"&EOMONTH(DATE($Q$2,$U$2,1),0))/8,2))","v":""},{"$f":"IF($A38=\"\",\"\",ROUND(SUMIFS(Schedule!$E:$E,Schedule!$A:$A,$A38,Schedule!$D:$D,$AM$3,Schedule!$B:$B,\">=\"&DATE($Q$2,1,1),Schedule!$B:$B,\"<=\"&EOMONTH(DATE($Q$2,$U$2,1),0))/8,2))","v":""}]
[{"$f":"IF(Lookups!A36=\"\",\"\",Lookups!A36)","v":""},{"$f":"IF($A39=\"\",\"\",IF(OR(B$3=\"Sat\",B$3=\"Sun\"),\"\",IF(COUNTIF(Holidays!$A:$A,B$4)>0,\"H\",IFERROR(VLOOKUP((ROW(B39)-4)&\"_\"&B$4,Schedule!$H:$I,2,FALSE),\"\"))))","v":""},{"$f":"IF($A39=\"\",\"\",IF(OR(C$3=\"Sat\",C$3=\"Sun\"),\"\",IF(COUNTIF(Holidays!$A:$A,C$4)>0,\"H\",IFERROR(VLOOKUP((ROW(C39)-4)&\"_\"&C$4,Schedule!$H:$I,2,FALSE),\"\"))))","v":""},{"$f":"IF($A39=\"\",\"\",IF(OR(D$3=\"Sat\",D$3=\"Sun\"),\"\",IF(COUNTIF(Holidays!$A:$A,D$4)>0,\"H\",IFERROR(VLOOKUP((ROW(D39)-4)&\"_\"&D$4,Schedule!$H:$I,2,FALSE),\"\"))))","v":""},{"$f":"IF($A39=\"\",\"\",IF(OR(E$3=\"Sat\",E$3=\"Sun\"),\"\",IF(COUNTIF(Holidays!$A:$A,E$4)>0,\"H\",IFERROR(VLOOKUP((ROW(E39)-4)&\"_\"&E$4,Schedule!$H:$I,2,FALSE),\"\"))))","v":""},{"$f":"IF($A39=\"\",\"\",IF(OR(F$3=\"Sat\",F$3=\"Sun\"),\"\",IF(COUNTIF(Holidays!$A:$A,F$4)>0,\"H\",IFERROR(VLOOKUP((ROW(F39)-4)&\"_\"&F$4,Schedule!$H:$I,2,FALSE),\"\"))))","v":""},{"$f":"IF($A39=\"\",\"\",IF(OR(G$3=\"Sat\",G$3=\"Sun\"),\"\",IF(COUNTIF(Holidays!$A:$A,G$4)>0,\"H\",IFERROR(VLOOKUP((ROW(G39)-4)&\"_\"&G$4,Schedule!$H:$I,2,FALSE),\"\"))))","v":""},{"$f":"IF($A39=\"\",\"\",IF(OR(H$3=\"Sat\",H$3=\"Sun\"),\"\",IF(COUNTIF(Holidays!$A:$A,H$4)>0,\"H\",IFERROR(VLOOKUP((ROW(H39)-4)&\"_\"&H$4,Schedule!$H:$I,2,FALSE),\"\"))))","v":""},{"$f":"IF($A39=\"\",\"\",IF(OR(I$3=\"Sat\",I$3=\"Sun\"),\"\",IF(COUNTIF(Holidays!$A:$A,I$4)>0,\"H\",IFERROR(VLOOKUP((ROW(I39)-4)&\"_\"&I$4,Schedule!$H:$I,2,FALSE),\"\"))))","v":""},{"$f":"IF($A39=\"\",\"\",IF(OR(J$3=\"Sat\",J$3=\"Sun\"),\"\",IF(COUNTIF(Holidays!$A:$A,J$4)>0,\"H\",IFERROR(VLOOKUP((ROW(J39)-4)&\"_\"&J$4,Schedule!$H:$I,2,FALSE),\"\"))))","v":""},{"$f":"IF($A39=\"\",\"\",IF(OR(K$3=\"Sat\",K$3=\"Sun\"),\"\",IF(COUNTIF(Holidays!$A:$A,K$4)>0,\"H\",IFERROR(VLOOKUP((ROW(K39)-4)&\"_\"&K$4,Schedule!$H:$I,2,FALSE),\"\"))))","v":""},{"$f":"IF($A39=\"\",\"\",IF(OR(L$3=\"Sat\",L$3=\"Sun\"),\"\",IF(COUNTIF(Holidays!$A:$A,L$4)>0,\"H\",IFERROR(VLOOKUP((ROW(L39)-4)&\"_\"&L$4,Schedule!$H:$I,2,FALSE),\"\"))))","v":""},{"$f":"IF($A39=\"\",\"\",IF(OR(M$3=\"Sat\",M$3=\"Sun\"),\"\",IF(COUNTIF(Holidays!$A:$A,M$4)>0,\"H\",IFERROR(VLOOKUP((ROW(M39)-4)&\"_\"&M$4,Schedule!$H:$I,2,FALSE),\"\"))))","v":""},{"$f":"IF($A39=\"\",\"\",IF(OR(N$3=\"Sat\",N$3=\"Sun\"),\"\",IF(COUNTIF(Holidays!$A:$A,N$4)>0,\"H\",IFERROR(VLOOKUP((ROW(N39)-4)&\"_\"&N$4,Schedule!$H:$I,2,FALSE),\"\"))))","v":""},{"$f":"IF($A39=\"\",\"\",IF(OR(O$3=\"Sat\",O$3=\"Sun\"),\"\",IF(COUNTIF(Holidays!$A:$A,O$4)>0,\"H\",IFERROR(VLOOKUP((ROW(O39)-4)&\"_\"&O$4,Schedule!$H:$I,2,FALSE),\"\"))))","v":""},{"$f":"IF($A39=\"\",\"\",IF(OR(P$3=\"Sat\",P$3=\"Sun\"),\"\",IF(COUNTIF(Holidays!$A:$A,P$4)>0,\"H\",IFERROR(VLOOKUP((ROW(P39)-4)&\"_\"&P$4,Schedule!$H:$I,2,FALSE),\"\"))))","v":""},{"$f":"IF($A39=\"\",\"\",IF(OR(Q$3=\"Sat\",Q$3=\"Sun\"),\"\",IF(COUNTIF(Holidays!$A:$A,Q$4)>0,\"H\",IFERROR(VLOOKUP((ROW(Q39)-4)&\"_\"&Q$4,Schedule!$H:$I,2,FALSE),\"\"))))","v":""},{"$f":"IF($A39=\"\",\"\",IF(OR(R$3=\"Sat\",R$3=\"Sun\"),\"\",IF(COUNTIF(Holidays!$A:$A,R$4)>0,\"H\",IFERROR(VLOOKUP((ROW(R39)-4)&\"_\"&R$4,Schedule!$H:$I,2,FALSE),\"\"))))","v":""},{"$f":"IF($A39=\"\",\"\",IF(OR(S$3=\"Sat\",S$3=\"Sun\"),\"\",IF(COUNTIF(Holidays!$A:$A,S$4)>0,\"H\",IFERROR(VLOOKUP((ROW(S39)-4)&\"_\"&S$4,Schedule!$H:$I,2,FALSE),\"\"))))","v":""},{"$f":"IF($A39=\"\",\"\",IF(OR(T$3=\"Sat\",T$3=\"Sun\"),\"\",IF(COUNTIF(Holidays!$A:$A,T$4)>0,\"H\",IFERROR(VLOOKUP((ROW(T39)-4)&\"_\"&T$4,Schedule!$H:$I,2,FALSE),\"\"))))","v":""},{"$f":"IF($A39=\"\",\"\",IF(OR(U$3=\"Sat\",U$3=\"Sun\"),\"\",IF(COUNTIF(Holidays!$A:$A,U$4)>0,\"H\",IFERROR(VLOOKUP((ROW(U39)-4)&\"_\"&U$4,Schedule!$H:$I,2,FALSE),\"\"))))","v":""},{"$f":"IF($A39=\"\",\"\",IF(OR(V$3=\"Sat\",V$3=\"Sun\"),\"\",IF(COUNTIF(Holidays!$A:$A,V$4)>0,\"H\",IFERROR(VLOOKUP((ROW(V39)-4)&\"_\"&V$4,Schedule!$H:$I,2,FALSE),\"\"))))","v":""},{"$f":"IF($A39=\"\",\"\",IF(OR(W$3=\"Sat\",W$3=\"Sun\"),\"\",IF(COUNTIF(Holidays!$A:$A,W$4)>0,\"H\",IFERROR(VLOOKUP((ROW(W39)-4)&\"_\"&W$4,Schedule!$H:$I,2,FALSE),\"\"))))","v":""},{"$f":"IF($A39=\"\",\"\",IF(OR(X$3=\"Sat\",X$3=\"Sun\"),\"\",IF(COUNTIF(Holidays!$A:$A,X$4)>0,\"H\",IFERROR(VLOOKUP((ROW(X39)-4)&\"_\"&X$4,Schedule!$H:$I,2,FALSE),\"\"))))","v":""},{"$f":"IF($A39=\"\",\"\",IF(OR(Y$3=\"Sat\",Y$3=\"Sun\"),\"\",IF(COUNTIF(Holidays!$A:$A,Y$4)>0,\"H\",IFERROR(VLOOKUP((ROW(Y39)-4)&\"_\"&Y$4,Schedule!$H:$I,2,FALSE),\"\"))))","v":""},{"$f":"IF($A39=\"\",\"\",IF(OR(Z$3=\"Sat\",Z$3=\"Sun\"),\"\",IF(COUNTIF(Holidays!$A:$A,Z$4)>0,\"H\",IFERROR(VLOOKUP((ROW(Z39)-4)&\"_\"&Z$4,Schedule!$H:$I,2,FALSE),\"\"))))","v":""},{"$f":"IF($A39=\"\",\"\",IF(OR(AA$3=\"Sat\",AA$3=\"Sun\"),\"\",IF(COUNTIF(Holidays!$A:$A,AA$4)>0,\"H\",IFERROR(VLOOKUP((ROW(AA39)-4)&\"_\"&AA$4,Schedule!$H:$I,2,FALSE),\"\"))))","v":""},{"$f":"IF($A39=\"\",\"\",IF(OR(AB$3=\"Sat\",AB$3=\"Sun\"),\"\",IF(COUNTIF(Holidays!$A:$A,AB$4)>0,\"H\",IFERROR(VLOOKUP((ROW(AB39)-4)&\"_\"&AB$4,Schedule!$H:$I,2,FALSE),\"\"))))","v":""},{"$f":"IF($A39=\"\",\"\",IF(OR(AC$3=\"Sat\",AC$3=\"Sun\"),\"\",IF(COUNTIF(Holidays!$A:$A,AC$4)>0,\"H\",IFERROR(VLOOKUP((ROW(AC39)-4)&\"_\"&AC$4,Schedule!$H:$I,2,FALSE),\"\"))))","v":""},{"$f":"IF($A39=\"\",\"\",IF(OR(AD$3=\"Sat\",AD$3=\"Sun\"),\"\",IF(COUNTIF(Holidays!$A:$A,AD$4)>0,\"H\",IFERROR(VLOOKUP((ROW(AD39)-4)&\"_\"&AD$4,Schedule!$H:$I,2,FALSE),\"\"))))","v":""},{"$f":"IF($A39=\"\",\"\",IF(OR(AE$3=\"Sat\",AE$3=\"Sun\"),\"\",IF(COUNTIF(Holidays!$A:$A,AE$4)>0,\"H\",IFERROR(VLOOKUP((ROW(AE39)-4)&\"_\"&AE$4,Schedule!$H:$I,2,FALSE),\"\"))))","v":""},{"$f":"IF($A39=\"\",\"\",IF(OR(AF$3=\"Sat\",AF$3=\"Sun\"),\"\",IF(COUNTIF(Holidays!$A:$A,AF$4)>0,\"H\",IFERROR(VLOOKUP((ROW(AF39)-4)&\"_\"&AF$4,Schedule!$H:$I,2,FALSE),\"\"))))","v":""},{"$f":"IF($A39=\"\",\"\",IF(OR(AG$3=\"Sat\",AG$3=\"Sun\"),\"\",IF(COUNTIF(Holidays!$A:$A,AG$4)>0,\"H\",IFERROR(VLOOKUP((ROW(AG39)-4)&\"_\"&AG$4,Schedule!$H:$I,2,FALSE),\"\"))))","v":""},{"$f":"IF($A39=\"\",\"\",IF(OR(AH$3=\"Sat\",AH$3=\"Sun\"),\"\",IF(COUNTIF(Holidays!$A:$A,AH$4)>0,\"H\",IFERROR(VLOOKUP((ROW(AH39)-4)&\"_\"&AH$4,Schedule!$H:$I,2,FALSE),\"\"))))","v":""},{"$f":"IF($A39=\"\",\"\",IF(OR(AI$3=\"Sat\",AI$3=\"Sun\"),\"\",IF(COUNTIF(Holidays!$A:$A,AI$4)>0,\"H\",IFERROR(VLOOKUP((ROW(AI39)-4)&\"_\"&AI$4,Schedule!$H:$I,2,FALSE),\"\"))))","v":""},{"$f":"IF($A39=\"\",\"\",IF(OR(AJ$3=\"Sat\",AJ$3=\"Sun\"),\"\",IF(COUNTIF(Holidays!$A:$A,AJ$4)>0,\"H\",IFERROR(VLOOKUP((ROW(AJ39)-4)&\"_\"&AJ$4,Schedule!$H:$I,2,FALSE),\"\"))))","v":""},{"$f":"IF($A39=\"\",\"\",ROUND(SUMIFS(Schedule!$E:$E,Schedule!$A:$A,$A39,Schedule!$D:$D,$AK$3,Schedule!$B:$B,\">=\"&DATE($Q$2,$U$2,1),Schedule!$B:$B,\"<=\"&EOMONTH(DATE($Q$2,$U$2,1),0))/8,2))","v":""},{"$f":"IF($A39=\"\",\"\",ROUND(SUMIFS(Schedule!$E:$E,Schedule!$A:$A,$A39,Schedule!$D:$D,$AK$3,Schedule!$B:$B,\">=\"&DATE($Q$2,1,1),Schedule!$B:$B,\"<=\"&EOMONTH(DATE($Q$2,$U$2,1),0))/8,2))","v":""},{"$f":"IF($A39=\"\",\"\",ROUND(SUMIFS(Schedule!$E:$E,Schedule!$A:$A,$A39,Schedule!$D:$D,$AM$3,Schedule!$B:$B,\">=\"&DATE($Q$2,$U$2,1),Schedule!$B:$B,\"<=\"&EOMONTH(DATE($Q$2,$U$2,1),0))/8,2))","v":""},{"$f":"IF($A39=\"\",\"\",ROUND(SUMIFS(Schedule!$E:$E,Schedule!$A:$A,$A39,Schedule!$D:$D,$AM$3,Schedule!$B:$B,\">=\"&DATE($Q$2,1,1),Schedule!$B:$B,\"<=\"&EOMONTH(DATE($Q$2,$U$2,1),0))/8,2))","v":""}]
[{"$f":"IF(Lookups!A37=\"\",\"\",Lookups!A37)","v":""},{"$f":"IF($A40=\"\",\"\",IF(OR(B$3=\"Sat\",B$3=\"Sun\"),\"\",IF(COUNTIF(Holidays!$A:$A,B$4)>0,\"H\",IFERROR(VLOOKUP((ROW(B40)-4)&\"_\"&B$4,Schedule!$H:$I,2,FALSE),\"\"))))","v":""},{"$f":"IF($A40=\"\",\"\",IF(OR(C$3=\"Sat\",C$3=\"Sun\"),\"\",IF(COUNTIF(Holidays!$A:$A,C$4)>0,\"H\",IFERROR(VLOOKUP((ROW(C40)-4)&\"_\"&C$4,Schedule!$H:$I,2,FALSE),\"\"))))","v":""},{"$f":"IF($A40=\"\",\"\",IF(OR(D$3=\"Sat\",D$3=\"Sun\"),\"\",IF(COUNTIF(Holidays!$A:$A,D$4)>0,\"H\",IFERROR(VLOOKUP((ROW(D40)-4)&\"_\"&D$4,Schedule!$H:$I,2,FALSE),\"\"))))","v":""},{"$f":"IF($A40=\"\",\"\",IF(OR(E$3=\"Sat\",E$3=\"Sun\"),\"\",IF(COUNTIF(Holidays!$A:$A,E$4)>0,\"H\",IFERROR(VLOOKUP((ROW(E40)-4)&\"_\"&E$4,Schedule!$H:$I,2,FALSE),\"\"))))","v":""},{"$f":"IF($A40=\"\",\"\",IF(OR(F$3=\"Sat\",F$3=\"Sun\"),\"\",IF(COUNTIF(Holidays!$A:$A,F$4)>0,\"H\",IFERROR(VLOOKUP((ROW(F40)-4)&\"_\"&F$4,Schedule!$H:$I,2,FALSE),\"\"))))","v":""},{"$f":"IF($A40=\"\",\"\",IF(OR(G$3=\"Sat\",G$3=\"Sun\"),\"\",IF(COUNTIF(Holidays!$A:$A,G$4)>0,\"H\",IFERROR(VLOOKUP((ROW(G40)-4)&\"_\"&G$4,Schedule!$H:$I,2,FALSE),\"\"))))","v":""},{"$f":"IF($A40=\"\",\"\",IF(OR(H$3=\"Sat\",H$3=\"Sun\"),\"\",IF(COUNTIF(Holidays!$A:$A,H$4)>0,\"H\",IFERROR(VLOOKUP((ROW(H40)-4)&\"_\"&H$4,Schedule!$H:$I,2,FALSE),\"\"))))","v":""},{"$f":"IF($A40=\"\",\"\",IF(OR(I$3=\"Sat\",I$3=\"Sun\"),\"\",IF(COUNTIF(Holidays!$A:$A,I$4)>0,\"H\",IFERROR(VLOOKUP((ROW(I40)-4)&\"_\"&I$4,Schedule!$H:$I,2,FALSE),\"\"))))","v":""},{"$f":"IF($A40=\"\",\"\",IF(OR(J$3=\"Sat\",J$3=\"Sun\"),\"\",IF(COUNTIF(Holidays!$A:$A,J$4)>0,\"H\",IFERROR(VLOOKUP((ROW(J40)-4)&\"_\"&J$4,Schedule!$H:$I,2,FALSE),\"\"))))","v":""},{"$f":"IF($A40=\"\",\"\",IF(OR(K$3=\"Sat\",K$3=\"Sun\"),\"\",IF(COUNTIF(Holidays!$A:$A,K$4)>0,\"H\",IFERROR(VLOOKUP((ROW(K40)-4)&\"_\"&K$4,Schedule!$H:$I,2,FALSE),\"\"))))","v":""},{"$f":"IF($A40=\"\",\"\",IF(OR(L$3=\"Sat\",L$3=\"Sun\"),\"\",IF(COUNTIF(Holidays!$A:$A,L$4)>0,\"H\",IFERROR(VLOOKUP((ROW(L40)-4)&\"_\"&L$4,Schedule!$H:$I,2,FALSE),\"\"))))","v":""},{"$f":"IF($A40=\"\",\"\",IF(OR(M$3=\"Sat\",M$3=\"Sun\"),\"\",IF(COUNTIF(Holidays!$A:$A,M$4)>0,\"H\",IFERROR(VLOOKUP((ROW(M40)-4)&\"_\"&M$4,Schedule!$H:$I,2,FALSE),\"\"))))","v":""},{"$f":"IF($A40=\"\",\"\",IF(OR(N$3=\"Sat\",N$3=\"Sun\"),\"\",IF(COUNTIF(Holidays!$A:$A,N$4)>0,\"H\",IFERROR(VLOOKUP((ROW(N40)-4)&\"_\"&N$4,Schedule!$H:$I,2,FALSE),\"\"))))","v":""},{"$f":"IF($A40=\"\",\"\",IF(OR(O$3=\"Sat\",O$3=\"Sun\"),\"\",IF(COUNTIF(Holidays!$A:$A,O$4)>0,\"H\",IFERROR(VLOOKUP((ROW(O40)-4)&\"_\"&O$4,Schedule!$H:$I,2,FALSE),\"\"))))","v":""},{"$f":"IF($A40=\"\",\"\",IF(OR(P$3=\"Sat\",P$3=\"Sun\"),\"\",IF(COUNTIF(Holidays!$A:$A,P$4)>0,\"H\",IFERROR(VLOOKUP((ROW(P40)-4)&\"_\"&P$4,Schedule!$H:$I,2,FALSE),\"\"))))","v":""},{"$f":"IF($A40=\"\",\"\",IF(OR(Q$3=\"Sat\",Q$3=\"Sun\"),\"\",IF(COUNTIF(Holidays!$A:$A,Q$4)>0,\"H\",IFERROR(VLOOKUP((ROW(Q40)-4)&\"_\"&Q$4,Schedule!$H:$I,2,FALSE),\"\"))))","v":""},{"$f":"IF($A40=\"\",\"\",IF(OR(R$3=\"Sat\",R$3=\"Sun\"),\"\",IF(COUNTIF(Holidays!$A:$A,R$4)>0,\"H\",IFERROR(VLOOKUP((ROW(R40)-4)&\"_\"&R$4,Schedule!$H:$I,2,FALSE),\"\"))))","v":""},{"$f":"IF($A40=\"\",\"\",IF(OR(S$3=\"Sat\",S$3=\"Sun\"),\"\",IF(COUNTIF(Holidays!$A:$A,S$4)>0,\"H\",IFERROR(VLOOKUP((ROW(S40)-4)&\"_\"&S$4,Schedule!$H:$I,2,FALSE),\"\"))))","v":""},{"$f":"IF($A40=\"\",\"\",IF(OR(T$3=\"Sat\",T$3=\"Sun\"),\"\",IF(COUNTIF(Holidays!$A:$A,T$4)>0,\"H\",IFERROR(VLOOKUP((ROW(T40)-4)&\"_\"&T$4,Schedule!$H:$I,2,FALSE),\"\"))))","v":""},{"$f":"IF($A40=\"\",\"\",IF(OR(U$3=\"Sat\",U$3=\"Sun\"),\"\",IF(COUNTIF(Holidays!$A:$A,U$4)>0,\"H\",IFERROR(VLOOKUP((ROW(U40)-4)&\"_\"&U$4,Schedule!$H:$I,2,FALSE),\"\"))))","v":""},{"$f":"IF($A40=\"\",\"\",IF(OR(V$3=\"Sat\",V$3=\"Sun\"),\"\",IF(COUNTIF(Holidays!$A:$A,V$4)>0,\"H\",IFERROR(VLOOKUP((ROW(V40)-4)&\"_\"&V$4,Schedule!$H:$I,2,FALSE),\"\"))))","v":""},{"$f":"IF($A40=\"\",\"\",IF(OR(W$3=\"Sat\",W$3=\"Sun\"),\"\",IF(COUNTIF(Holidays!$A:$A,W$4)>0,\"H\",IFERROR(VLOOKUP((ROW(W40)-4)&\"_\"&W$4,Schedule!$H:$I,2,FALSE),\"\"))))","v":""},{"$f":"IF($A40=\"\",\"\",IF(OR(X$3=\"Sat\",X$3=\"Sun\"),\"\",IF(COUNTIF(Holidays!$A:$A,X$4)>0,\"H\",IFERROR(VLOOKUP((ROW(X40)-4)&\"_\"&X$4,Schedule!$H:$I,2,FALSE),\"\"))))","v":""},{"$f":"IF($A40=\"\",\"\",IF(OR(Y$3=\"Sat\",Y$3=\"Sun\"),\"\",IF(COUNTIF(Holidays!$A:$A,Y$4)>0,\"H\",IFERROR(VLOOKUP((ROW(Y40)-4)&\"_\"&Y$4,Schedule!$H:$I,2,FALSE),\"\"))))","v":""},{"$f":"IF($A40=\"\",\"\",IF(OR(Z$3=\"Sat\",Z$3=\"Sun\"),\"\",IF(COUNTIF(Holidays!$A:$A,Z$4)>0,\"H\",IFERROR(VLOOKUP((ROW(Z40)-4)&\"_\"&Z$4,Schedule!$H:$I,2,FALSE),\"\"))))","v":""},{"$f":"IF($A40=\"\",\"\",IF(OR(AA$3=\"Sat\",AA$3=\"Sun\"),\"\",IF(COUNTIF(Holidays!$A:$A,AA$4)>0,\"H\",IFERROR(VLOOKUP((ROW(AA40)-4)&\"_\"&AA$4,Schedule!$H:$I,2,FALSE),\"\"))))","v":""},{"$f":"IF($A40=\"\",\"\",IF(OR(AB$3=\"Sat\",AB$3=\"Sun\"),\"\",IF(COUNTIF(Holidays!$A:$A,AB$4)>0,\"H\",IFERROR(VLOOKUP((ROW(AB40)-4)&\"_\"&AB$4,Schedule!$H:$I,2,FALSE),\"\"))))","v":""},{"$f":"IF($A40=\"\",\"\",IF(OR(AC$3=\"Sat\",AC$3=\"Sun\"),\"\",IF(COUNTIF(Holidays!$A:$A,AC$4)>0,\"H\",IFERROR(VLOOKUP((ROW(AC40)-4)&\"_\"&AC$4,Schedule!$H:$I,2,FALSE),\"\"))))","v":""},{"$f":"IF($A40=\"\",\"\",IF(OR(AD$3=\"Sat\",AD$3=\"Sun\"),\"\",IF(COUNTIF(Holidays!$A:$A,AD$4)>0,\"H\",IFERROR(VLOOKUP((ROW(AD40)-4)&\"_\"&AD$4,Schedule!$H:$I,2,FALSE),\"\"))))","v":""},{"$f":"IF($A40=\"\",\"\",IF(OR(AE$3=\"Sat\",AE$3=\"Sun\"),\"\",IF(COUNTIF(Holidays!$A:$A,AE$4)>0,\"H\",IFERROR(VLOOKUP((ROW(AE40)-4)&\"_\"&AE$4,Schedule!$H:$I,2,FALSE),\"\"))))","v":""},{"$f":"IF($A40=\"\",\"\",IF(OR(AF$3=\"Sat\",AF$3=\"Sun\"),\"\",IF(COUNTIF(Holidays!$A:$A,AF$4)>0,\"H\",IFERROR(VLOOKUP((ROW(AF40)-4)&\"_\"&AF$4,Schedule!$H:$I,2,FALSE),\"\"))))","v":""},{"$f":"IF($A40=\"\",\"\",IF(OR(AG$3=\"Sat\",AG$3=\"Sun\"),\"\",IF(COUNTIF(Holidays!$A:$A,AG$4)>0,\"H\",IFERROR(VLOOKUP((ROW(AG40)-4)&\"_\"&AG$4,Schedule!$H:$I,2,FALSE),\"\"))))","v":""},{"$f":"IF($A40=\"\",\"\",IF(OR(AH$3=\"Sat\",AH$3=\"Sun\"),\"\",IF(COUNTIF(Holidays!$A:$A,AH$4)>0,\"H\",IFERROR(VLOOKUP((ROW(AH40)-4)&\"_\"&AH$4,Schedule!$H:$I,2,FALSE),\"\"))))","v":""},{"$f":"IF($A40=\"\",\"\",IF(OR(AI$3=\"Sat\",AI$3=\"Sun\"),\"\",IF(COUNTIF(Holidays!$A:$A,AI$4)>0,\"H\",IFERROR(VLOOKUP((ROW(AI40)-4)&\"_\"&AI$4,Schedule!$H:$I,2,FALSE),\"\"))))","v":""},{"$f":"IF($A40=\"\",\"\",IF(OR(AJ$3=\"Sat\",AJ$3=\"Sun\"),\"\",IF(COUNTIF(Holidays!$A:$A,AJ$4)>0,\"H\",IFERROR(VLOOKUP((ROW(AJ40)-4)&\"_\"&AJ$4,Schedule!$H:$I,2,FALSE),\"\"))))","v":""},{"$f":"IF($A40=\"\",\"\",ROUND(SUMIFS(Schedule!$E:$E,Schedule!$A:$A,$A40,Schedule!$D:$D,$AK$3,Schedule!$B:$B,\">=\"&DATE($Q$2,$U$2,1),Schedule!$B:$B,\"<=\"&EOMONTH(DATE($Q$2,$U$2,1),0))/8,2))","v":""},{"$f":"IF($A40=\"\",\"\",ROUND(SUMIFS(Schedule!$E:$E,Schedule!$A:$A,$A40,Schedule!$D:$D,$AK$3,Schedule!$B:$B,\">=\"&DATE($Q$2,1,1),Schedule!$B:$B,\"<=\"&EOMONTH(DATE($Q$2,$U$2,1),0))/8,2))","v":""},{"$f":"IF($A40=\"\",\"\",ROUND(SUMIFS(Schedule!$E:$E,Schedule!$A:$A,$A40,Schedule!$D:$D,$AM$3,Schedule!$B:$B,\">=\"&DATE($Q$2,$U$2,1),Schedule!$B:$B,\"<=\"&EOMONTH(DATE($Q$2,$U$2,1),0))/8,2))","v":""},{"$f":"IF($A40=\"\",\"\",ROUND(SUMIFS(Schedule!$E:$E,Schedule!$A:$A,$A40,Schedule!$D:$D,$AM$3,Schedule!$B:$B,\">=\"&DATE($Q$2,1,1),Schedule!$B:$B,\"<=\"&EOMONTH(DATE($Q$2,$U$2,1),0))/8,2))","v":""}]
[{"$f":"IF(Lookups!A38=\"\",\"\",Lookups!A38)","v":""},{"$f":"IF($A41=\"\",\"\",IF(OR(B$3=\"Sat\",B$3=\"Sun\"),\"\",IF(COUNTIF(Holidays!$A:$A,B$4)>0,\"H\",IFERROR(VLOOKUP((ROW(B41)-4)&\"_\"&B$4,Schedule!$H:$I,2,FALSE),\"\"))))","v":""},{"$f":"IF($A41=\"\",\"\",IF(OR(C$3=\"Sat\",C$3=\"Sun\"),\"\",IF(COUNTIF(Holidays!$A:$A,C$4)>0,\"H\",IFERROR(VLOOKUP((ROW(C41)-4)&\"_\"&C$4,Schedule!$H:$I,2,FALSE),\"\"))))","v":""},{"$f":"IF($A41=\"\",\"\",IF(OR(D$3=\"Sat\",D$3=\"Sun\"),\"\",IF(COUNTIF(Holidays!$A:$A,D$4)>0,\"H\",IFERROR(VLOOKUP((ROW(D41)-4)&\"_\"&D$4,Schedule!$H:$I,2,FALSE),\"\"))))","v":""},{"$f":"IF($A41=\"\",\"\",IF(OR(E$3=\"Sat\",E$3=\"Sun\"),\"\",IF(COUNTIF(Holidays!$A:$A,E$4)>0,\"H\",IFERROR(VLOOKUP((ROW(E41)-4)&\"_\"&E$4,Schedule!$H:$I,2,FALSE),\"\"))))","v":""},{"$f":"IF($A41=\"\",\"\",IF(OR(F$3=\"Sat\",F$3=\"Sun\"),\"\",IF(COUNTIF(Holidays!$A:$A,F$4)>0,\"H\",IFERROR(VLOOKUP((ROW(F41)-4)&\"_\"&F$4,Schedule!$H:$I,2,FALSE),\"\"))))","v":""},{"$f":"IF($A41=\"\",\"\",IF(OR(G$3=\"Sat\",G$3=\"Sun\"),\"\",IF(COUNTIF(Holidays!$A:$A,G$4)>0,\"H\",IFERROR(VLOOKUP((ROW(G41)-4)&\"_\"&G$4,Schedule!$H:$I,2,FALSE),\"\"))))","v":""},{"$f":"IF($A41=\"\",\"\",IF(OR(H$3=\"Sat\",H$3=\"Sun\"),\"\",IF(COUNTIF(Holidays!$A:$A,H$4)>0,\"H\",IFERROR(VLOOKUP((ROW(H41)-4)&\"_\"&H$4,Schedule!$H:$I,2,FALSE),\"\"))))","v":""},{"$f":"IF($A41=\"\",\"\",IF(OR(I$3=\"Sat\",I$3=\"Sun\"),\"\",IF(COUNTIF(Holidays!$A:$A,I$4)>0,\"H\",IFERROR(VLOOKUP((ROW(I41)-4)&\"_\"&I$4,Schedule!$H:$I,2,FALSE),\"\"))))","v":""},{"$f":"IF($A41=\"\",\"\",IF(OR(J$3=\"Sat\",J$3=\"Sun\"),\"\",IF(COUNTIF(Holidays!$A:$A,J$4)>0,\"H\",IFERROR(VLOOKUP((ROW(J41)-4)&\"_\"&J$4,Schedule!$H:$I,2,FALSE),\"\"))))","v":""},{"$f":"IF($A41=\"\",\"\",IF(OR(K$3=\"Sat\",K$3=\"Sun\"),\"\",IF(COUNTIF(Holidays!$A:$A,K$4)>0,\"H\",IFERROR(VLOOKUP((ROW(K41)-4)&\"_\"&K$4,Schedule!$H:$I,2,FALSE),\"\"))))","v":""},{"$f":"IF($A41=\"\",\"\",IF(OR(L$3=\"Sat\",L$3=\"Sun\"),\"\",IF(COUNTIF(Holidays!$A:$A,L$4)>0,\"H\",IFERROR(VLOOKUP((ROW(L41)-4)&\"_\"&L$4,Schedule!$H:$I,2,FALSE),\"\"))))","v":""},{"$f":"IF($A41=\"\",\"\",IF(OR(M$3=\"Sat\",M$3=\"Sun\"),\"\",IF(COUNTIF(Holidays!$A:$A,M$4)>0,\"H\",IFERROR(VLOOKUP((ROW(M41)-4)&\"_\"&M$4,Schedule!$H:$I,2,FALSE),\"\"))))","v":""},{"$f":"IF($A41=\"\",\"\",IF(OR(N$3=\"Sat\",N$3=\"Sun\"),\"\",IF(COUNTIF(Holidays!$A:$A,N$4)>0,\"H\",IFERROR(VLOOKUP((ROW(N41)-4)&\"_\"&N$4,Schedule!$H:$I,2,FALSE),\"\"))))","v":""},{"$f":"IF($A41=\"\",\"\",IF(OR(O$3=\"Sat\",O$3=\"Sun\"),\"\",IF(COUNTIF(Holidays!$A:$A,O$4)>0,\"H\",IFERROR(VLOOKUP((ROW(O41)-4)&\"_\"&O$4,Schedule!$H:$I,2,FALSE),\"\"))))","v":""},{"$f":"IF($A41=\"\",\"\",IF(OR(P$3=\"Sat\",P$3=\"Sun\"),\"\",IF(COUNTIF(Holidays!$A:$A,P$4)>0,\"H\",IFERROR(VLOOKUP((ROW(P41)-4)&\"_\"&P$4,Schedule!$H:$I,2,FALSE),\"\"))))","v":""},{"$f":"IF($A41=\"\",\"\",IF(OR(Q$3=\"Sat\",Q$3=\"Sun\"),\"\",IF(COUNTIF(Holidays!$A:$A,Q$4)>0,\"H\",IFERROR(VLOOKUP((ROW(Q41)-4)&\"_\"&Q$4,Schedule!$H:$I,2,FALSE),\"\"))))","v":""},{"$f":"IF($A41=\"\",\"\",IF(OR(R$3=\"Sat\",R$3=\"Sun\"),\"\",IF(COUNTIF(Holidays!$A:$A,R$4)>0,\"H\",IFERROR(VLOOKUP((ROW(R41)-4)&\"_\"&R$4,Schedule!$H:$I,2,FALSE),\"\"))))","v":""},{"$f":"IF($A41=\"\",\"\",IF(OR(S$3=\"Sat\",S$3=\"Sun\"),\"\",IF(COUNTIF(Holidays!$A:$A,S$4)>0,\"H\",IFERROR(VLOOKUP((ROW(S41)-4)&\"_\"&S$4,Schedule!$H:$I,2,FALSE),\"\"))))","v":""},{"$f":"IF($A41=\"\",\"\",IF(OR(T$3=\"Sat\",T$3=\"Sun\"),\"\",IF(COUNTIF(Holidays!$A:$A,T$4)>0,\"H\",IFERROR(VLOOKUP((ROW(T41)-4)&\"_\"&T$4,Schedule!$H:$I,2,FALSE),\"\"))))","v":""},{"$f":"IF($A41=\"\",\"\",IF(OR(U$3=\"Sat\",U$3=\"Sun\"),\"\",IF(COUNTIF(Holidays!$A:$A,U$4)>0,\"H\",IFERROR(VLOOKUP((ROW(U41)-4)&\"_\"&U$4,Schedule!$H:$I,2,FALSE),\"\"))))","v":""},{"$f":"IF($A41=\"\",\"\",IF(OR(V$3=\"Sat\",V$3=\"Sun\"),\"\",IF(COUNTIF(Holidays!$A:$A,V$4)>0,\"H\",IFERROR(VLOOKUP((ROW(V41)-4)&\"_\"&V$4,Schedule!$H:$I,2,FALSE),\"\"))))","v":""},{"$f":"IF($A41=\"\",\"\",IF(OR(W$3=\"Sat\",W$3=\"Sun\"),\"\",IF(COUNTIF(Holidays!$A:$A,W$4)>0,\"H\",IFERROR(VLOOKUP((ROW(W41)-4)&\"_\"&W$4,Schedule!$H:$I,2,FALSE),\"\"))))","v":""},{"$f":"IF($A41=\"\",\"\",IF(OR(X$3=\"Sat\",X$3=\"Sun\"),\"\",IF(COUNTIF(Holidays!$A:$A,X$4)>0,\"H\",IFERROR(VLOOKUP((ROW(X41)-4)&\"_\"&X$4,Schedule!$H:$I,2,FALSE),\"\"))))","v":""},{"$f":"IF($A41=\"\",\"\",IF(OR(Y$3=\"Sat\",Y$3=\"Sun\"),\"\",IF(COUNTIF(Holidays!$A:$A,Y$4)>0,\"H\",IFERROR(VLOOKUP((ROW(Y41)-4)&\"_\"&Y$4,Schedule!$H:$I,2,FALSE),\"\"))))","v":""},{"$f":"IF($A41=\"\",\"\",IF(OR(Z$3=\"Sat\",Z$3=\"Sun\"),\"\",IF(COUNTIF(Holidays!$A:$A,Z$4)>0,\"H\",IFERROR(VLOOKUP((ROW(Z41)-4)&\"_\"&Z$4,Schedule!$H:$I,2,FALSE),\"\"))))","v":""},{"$f":"IF($A41=\"\",\"\",IF(OR(AA$3=\"Sat\",AA$3=\"Sun\"),\"\",IF(COUNTIF(Holidays!$A:$A,AA$4)>0,\"H\",IFERROR(VLOOKUP((ROW(AA41)-4)&\"_\"&AA$4,Schedule!$H:$I,2,FALSE),\"\"))))","v":""},{"$f":"IF($A41=\"\",\"\",IF(OR(AB$3=\"Sat\",AB$3=\"Sun\"),\"\",IF(COUNTIF(Holidays!$A:$A,AB$4)>0,\"H\",IFERROR(VLOOKUP((ROW(AB41)-4)&\"_\"&AB$4,Schedule!$H:$I,2,FALSE),\"\"))))","v":""},{"$f":"IF($A41=\"\",\"\",IF(OR(AC$3=\"Sat\",AC$3=\"Sun\"),\"\",IF(COUNTIF(Holidays!$A:$A,AC$4)>0,\"H\",IFERROR(VLOOKUP((ROW(AC41)-4)&\"_\"&AC$4,Schedule!$H:$I,2,FALSE),\"\"))))","v":""},{"$f":"IF($A41=\"\",\"\",IF(OR(AD$3=\"Sat\",AD$3=\"Sun\"),\"\",IF(COUNTIF(Holidays!$A:$A,AD$4)>0,\"H\",IFERROR(VLOOKUP((ROW(AD41)-4)&\"_\"&AD$4,Schedule!$H:$I,2,FALSE),\"\"))))","v":""},{"$f":"IF($A41=\"\",\"\",IF(OR(AE$3=\"Sat\",AE$3=\"Sun\"),\"\",IF(COUNTIF(Holidays!$A:$A,AE$4)>0,\"H\",IFERROR(VLOOKUP((ROW(AE41)-4)&\"_\"&AE$4,Schedule!$H:$I,2,FALSE),\"\"))))","v":""},{"$f":"IF($A41=\"\",\"\",IF(OR(AF$3=\"Sat\",AF$3=\"Sun\"),\"\",IF(COUNTIF(Holidays!$A:$A,AF$4)>0,\"H\",IFERROR(VLOOKUP((ROW(AF41)-4)&\"_\"&AF$4,Schedule!$H:$I,2,FALSE),\"\"))))","v":""},{"$f":"IF($A41=\"\",\"\",IF(OR(AG$3=\"Sat\",AG$3=\"Sun\"),\"\",IF(COUNTIF(Holidays!$A:$A,AG$4)>0,\"H\",IFERROR(VLOOKUP((ROW(AG41)-4)&\"_\"&AG$4,Schedule!$H:$I,2,FALSE),\"\"))))","v":""},{"$f":"IF($A41=\"\",\"\",IF(OR(AH$3=\"Sat\",AH$3=\"Sun\"),\"\",IF(COUNTIF(Holidays!$A:$A,AH$4)>0,\"H\",IFERROR(VLOOKUP((ROW(AH41)-4)&\"_\"&AH$4,Schedule!$H:$I,2,FALSE),\"\"))))","v":""},{"$f":"IF($A41=\"\",\"\",IF(OR(AI$3=\"Sat\",AI$3=\"Sun\"),\"\",IF(COUNTIF(Holidays!$A:$A,AI$4)>0,\"H\",IFERROR(VLOOKUP((ROW(AI41)-4)&\"_\"&AI$4,Schedule!$H:$I,2,FALSE),\"\"))))","v":""},{"$f":"IF($A41=\"\",\"\",IF(OR(AJ$3=\"Sat\",AJ$3=\"Sun\"),\"\",IF(COUNTIF(Holidays!$A:$A,AJ$4)>0,\"H\",IFERROR(VLOOKUP((ROW(AJ41)-4)&\"_\"&AJ$4,Schedule!$H:$I,2,FALSE),\"\"))))","v":""},{"$f":"IF($A41=\"\",\"\",ROUND(SUMIFS(Schedule!$E:$E,Schedule!$A:$A,$A41,Schedule!$D:$D,$AK$3,Schedule!$B:$B,\">=\"&DATE($Q$2,$U$2,1),Schedule!$B:$B,\"<=\"&EOMONTH(DATE($Q$2,$U$2,1),0))/8,2))","v":""},{"$f":"IF($A41=\"\",\"\",ROUND(SUMIFS(Schedule!$E:$E,Schedule!$A:$A,$A41,Schedule!$D:$D,$AK$3,Schedule!$B:$B,\">=\"&DATE($Q$2,1,1),Schedule!$B:$B,\"<=\"&EOMONTH(DATE($Q$2,$U$2,1),0))/8,2))","v":""},{"$f":"IF($A41=\"\",\"\",ROUND(SUMIFS(Schedule!$E:$E,Schedule!$A:$A,$A41,Schedule!$D:$D,$AM$3,Schedule!$B:$B,\">=\"&DATE($Q$2,$U$2,1),Schedule!$B:$B,\"<=\"&EOMONTH(DATE($Q$2,$U$2,1),0))/8,2))","v":""},{"$f":"IF($A41=\"\",\"\",ROUND(SUMIFS(Schedule!$E:$E,Schedule!$A:$A,$A41,Schedule!$D:$D,$AM$3,Schedule!$B:$B,\">=\"&DATE($Q$2,1,1),Schedule!$B:$B,\"<=\"&EOMONTH(DATE($Q$2,$U$2,1),0))/8,2))","v":""}]
[{"$f":"IF(Lookups!A39=\"\",\"\",Lookups!A39)","v":""},{"$f":"IF($A42=\"\",\"\",IF(OR(B$3=\"Sat\",B$3=\"Sun\"),\"\",IF(COUNTIF(Holidays!$A:$A,B$4)>0,\"H\",IFERROR(VLOOKUP((ROW(B42)-4)&\"_\"&B$4,Schedule!$H:$I,2,FALSE),\"\"))))","v":""},{"$f":"IF($A42=\"\",\"\",IF(OR(C$3=\"Sat\",C$3=\"Sun\"),\"\",IF(COUNTIF(Holidays!$A:$A,C$4)>0,\"H\",IFERROR(VLOOKUP((ROW(C42)-4)&\"_\"&C$4,Schedule!$H:$I,2,FALSE),\"\"))))","v":""},{"$f":"IF($A42=\"\",\"\",IF(OR(D$3=\"Sat\",D$3=\"Sun\"),\"\",IF(COUNTIF(Holidays!$A:$A,D$4)>0,\"H\",IFERROR(VLOOKUP((ROW(D42)-4)&\"_\"&D$4,Schedule!$H:$I,2,FALSE),\"\"))))","v":""},{"$f":"IF($A42=\"\",\"\",IF(OR(E$3=\"Sat\",E$3=\"Sun\"),\"\",IF(COUNTIF(Holidays!$A:$A,E$4)>0,\"H\",IFERROR(VLOOKUP((ROW(E42)-4)&\"_\"&E$4,Schedule!$H:$I,2,FALSE),\"\"))))","v":""},{"$f":"IF($A42=\"\",\"\",IF(OR(F$3=\"Sat\",F$3=\"Sun\"),\"\",IF(COUNTIF(Holidays!$A:$A,F$4)>0,\"H\",IFERROR(VLOOKUP((ROW(F42)-4)&\"_\"&F$4,Schedule!$H:$I,2,FALSE),\"\"))))","v":""},{"$f":"IF($A42=\"\",\"\",IF(OR(G$3=\"Sat\",G$3=\"Sun\"),\"\",IF(COUNTIF(Holidays!$A:$A,G$4)>0,\"H\",IFERROR(VLOOKUP((ROW(G42)-4)&\"_\"&G$4,Schedule!$H:$I,2,FALSE),\"\"))))","v":""},{"$f":"IF($A42=\"\",\"\",IF(OR(H$3=\"Sat\",H$3=\"Sun\"),\"\",IF(COUNTIF(Holidays!$A:$A,H$4)>0,\"H\",IFERROR(VLOOKUP((ROW(H42)-4)&\"_\"&H$4,Schedule!$H:$I,2,FALSE),\"\"))))","v":""},{"$f":"IF($A42=\"\",\"\",IF(OR(I$3=\"Sat\",I$3=\"Sun\"),\"\",IF(COUNTIF(Holidays!$A:$A,I$4)>0,\"H\",IFERROR(VLOOKUP((ROW(I42)-4)&\"_\"&I$4,Schedule!$H:$I,2,FALSE),\"\"))))","v":""},{"$f":"IF($A42=\"\",\"\",IF(OR(J$3=\"Sat\",J$3=\"Sun\"),\"\",IF(COUNTIF(Holidays!$A:$A,J$4)>0,\"H\",IFERROR(VLOOKUP((ROW(J42)-4)&\"_\"&J$4,Schedule!$H:$I,2,FALSE),\"\"))))","v":""},{"$f":"IF($A42=\"\",\"\",IF(OR(K$3=\"Sat\",K$3=\"Sun\"),\"\",IF(COUNTIF(Holidays!$A:$A,K$4)>0,\"H\",IFERROR(VLOOKUP((ROW(K42)-4)&\"_\"&K$4,Schedule!$H:$I,2,FALSE),\"\"))))","v":""},{"$f":"IF($A42=\"\",\"\",IF(OR(L$3=\"Sat\",L$3=\"Sun\"),\"\",IF(COUNTIF(Holidays!$A:$A,L$4)>0,\"H\",IFERROR(VLOOKUP((ROW(L42)-4)&\"_\"&L$4,Schedule!$H:$I,2,FALSE),\"\"))))","v":""},{"$f":"IF($A42=\"\",\"\",IF(OR(M$3=\"Sat\",M$3=\"Sun\"),\"\",IF(COUNTIF(Holidays!$A:$A,M$4)>0,\"H\",IFERROR(VLOOKUP((ROW(M42)-4)&\"_\"&M$4,Schedule!$H:$I,2,FALSE),\"\"))))","v":""},{"$f":"IF($A42=\"\",\"\",IF(OR(N$3=\"Sat\",N$3=\"Sun\"),\"\",IF(COUNTIF(Holidays!$A:$A,N$4)>0,\"H\",IFERROR(VLOOKUP((ROW(N42)-4)&\"_\"&N$4,Schedule!$H:$I,2,FALSE),\"\"))))","v":""},{"$f":"IF($A42=\"\",\"\",IF(OR(O$3=\"Sat\",O$3=\"Sun\"),\"\",IF(COUNTIF(Holidays!$A:$A,O$4)>0,\"H\",IFERROR(VLOOKUP((ROW(O42)-4)&\"_\"&O$4,Schedule!$H:$I,2,FALSE),\"\"))))","v":""},{"$f":"IF($A42=\"\",\"\",IF(OR(P$3=\"Sat\",P$3=\"Sun\"),\"\",IF(COUNTIF(Holidays!$A:$A,P$4)>0,\"H\",IFERROR(VLOOKUP((ROW(P42)-4)&\"_\"&P$4,Schedule!$H:$I,2,FALSE),\"\"))))","v":""},{"$f":"IF($A42=\"\",\"\",IF(OR(Q$3=\"Sat\",Q$3=\"Sun\"),\"\",IF(COUNTIF(Holidays!$A:$A,Q$4)>0,\"H\",IFERROR(VLOOKUP((ROW(Q42)-4)&\"_\"&Q$4,Schedule!$H:$I,2,FALSE),\"\"))))","v":""},{"$f":"IF($A42=\"\",\"\",IF(OR(R$3=\"Sat\",R$3=\"Sun\"),\"\",IF(COUNTIF(Holidays!$A:$A,R$4)>0,\"H\",IFERROR(VLOOKUP((ROW(R42)-4)&\"_\"&R$4,Schedule!$H:$I,2,FALSE),\"\"))))","v":""},{"$f":"IF($A42=\"\",\"\",IF(OR(S$3=\"Sat\",S$3=\"Sun\"),\"\",IF(COUNTIF(Holidays!$A:$A,S$4)>0,\"H\",IFERROR(VLOOKUP((ROW(S42)-4)&\"_\"&S$4,Schedule!$H:$I,2,FALSE),\"\"))))","v":""},{"$f":"IF($A42=\"\",\"\",IF(OR(T$3=\"Sat\",T$3=\"Sun\"),\"\",IF(COUNTIF(Holidays!$A:$A,T$4)>0,\"H\",IFERROR(VLOOKUP((ROW(T42)-4)&\"_\"&T$4,Schedule!$H:$I,2,FALSE),\"\"))))","v":""},{"$f":"IF($A42=\"\",\"\",IF(OR(U$3=\"Sat\",U$3=\"Sun\"),\"\",IF(COUNTIF(Holidays!$A:$A,U$4)>0,\"H\",IFERROR(VLOOKUP((ROW(U42)-4)&\"_\"&U$4,Schedule!$H:$I,2,FALSE),\"\"))))","v":""},{"$f":"IF($A42=\"\",\"\",IF(OR(V$3=\"Sat\",V$3=\"Sun\"),\"\",IF(COUNTIF(Holidays!$A:$A,V$4)>0,\"H\",IFERROR(VLOOKUP((ROW(V42)-4)&\"_\"&V$4,Schedule!$H:$I,2,FALSE),\"\"))))","v":""},{"$f":"IF($A42=\"\",\"\",IF(OR(W$3=\"Sat\",W$3=\"Sun\"),\"\",IF(COUNTIF(Holidays!$A:$A,W$4)>0,\"H\",IFERROR(VLOOKUP((ROW(W42)-4)&\"_\"&W$4,Schedule!$H:$I,2,FALSE),\"\"))))","v":""},{"$f":"IF($A42=\"\",\"\",IF(OR(X$3=\"Sat\",X$3=\"Sun\"),\"\",IF(COUNTIF(Holidays!$A:$A,X$4)>0,\"H\",IFERROR(VLOOKUP((ROW(X42)-4)&\"_\"&X$4,Schedule!$H:$I,2,FALSE),\"\"))))","v":""},{"$f":"IF($A42=\"\",\"\",IF(OR(Y$3=\"Sat\",Y$3=\"Sun\"),\"\",IF(COUNTIF(Holidays!$A:$A,Y$4)>0,\"H\",IFERROR(VLOOKUP((ROW(Y42)-4)&\"_\"&Y$4,Schedule!$H:$I,2,FALSE),\"\"))))","v":""},{"$f":"IF($A42=\"\",\"\",IF(OR(Z$3=\"Sat\",Z$3=\"Sun\"),\"\",IF(COUNTIF(Holidays!$A:$A,Z$4)>0,\"H\",IFERROR(VLOOKUP((ROW(Z42)-4)&\"_\"&Z$4,Schedule!$H:$I,2,FALSE),\"\"))))","v":""},{"$f":"IF($A42=\"\",\"\",IF(OR(AA$3=\"Sat\",AA$3=\"Sun\"),\"\",IF(COUNTIF(Holidays!$A:$A,AA$4)>0,\"H\",IFERROR(VLOOKUP((ROW(AA42)-4)&\"_\"&AA$4,Schedule!$H:$I,2,FALSE),\"\"))))","v":""},{"$f":"IF($A42=\"\",\"\",IF(OR(AB$3=\"Sat\",AB$3=\"Sun\"),\"\",IF(COUNTIF(Holidays!$A:$A,AB$4)>0,\"H\",IFERROR(VLOOKUP((ROW(AB42)-4)&\"_\"&AB$4,Schedule!$H:$I,2,FALSE),\"\"))))","v":""},{"$f":"IF($A42=\"\",\"\",IF(OR(AC$3=\"Sat\",AC$3=\"Sun\"),\"\",IF(COUNTIF(Holidays!$A:$A,AC$4)>0,\"H\",IFERROR(VLOOKUP((ROW(AC42)-4)&\"_\"&AC$4,Schedule!$H:$I,2,FALSE),\"\"))))","v":""},{"$f":"IF($A42=\"\",\"\",IF(OR(AD$3=\"Sat\",AD$3=\"Sun\"),\"\",IF(COUNTIF(Holidays!$A:$A,AD$4)>0,\"H\",IFERROR(VLOOKUP((ROW(AD42)-4)&\"_\"&AD$4,Schedule!$H:$I,2,FALSE),\"\"))))","v":""},{"$f":"IF($A42=\"\",\"\",IF(OR(AE$3=\"Sat\",AE$3=\"Sun\"),\"\",IF(COUNTIF(Holidays!$A:$A,AE$4)>0,\"H\",IFERROR(VLOOKUP((ROW(AE42)-4)&\"_\"&AE$4,Schedule!$H:$I,2,FALSE),\"\"))))","v":""},{"$f":"IF($A42=\"\",\"\",IF(OR(AF$3=\"Sat\",AF$3=\"Sun\"),\"\",IF(COUNTIF(Holidays!$A:$A,AF$4)>0,\"H\",IFERROR(VLOOKUP((ROW(AF42)-4)&\"_\"&AF$4,Schedule!$H:$I,2,FALSE),\"\"))))","v":""},{"$f":"IF($A42=\"\",\"\",IF(OR(AG$3=\"Sat\",AG$3=\"Sun\"),\"\",IF(COUNTIF(Holidays!$A:$A,AG$4)>0,\"H\",IFERROR(VLOOKUP((ROW(AG42)-4)&\"_\"&AG$4,Schedule!$H:$I,2,FALSE),\"\"))))","v":""},{"$f":"IF($A42=\"\",\"\",IF(OR(AH$3=\"Sat\",AH$3=\"Sun\"),\"\",IF(COUNTIF(Holidays!$A:$A,AH$4)>0,\"H\",IFERROR(VLOOKUP((ROW(AH42)-4)&\"_\"&AH$4,Schedule!$H:$I,2,FALSE),\"\"))))","v":""},{"$f":"IF($A42=\"\",\"\",IF(OR(AI$3=\"Sat\",AI$3=\"Sun\"),\"\",IF(COUNTIF(Holidays!$A:$A,AI$4)>0,\"H\",IFERROR(VLOOKUP((ROW(AI42)-4)&\"_\"&AI$4,Schedule!$H:$I,2,FALSE),\"\"))))","v":""},{"$f":"IF($A42=\"\",\"\",IF(OR(AJ$3=\"Sat\",AJ$3=\"Sun\"),\"\",IF(COUNTIF(Holidays!$A:$A,AJ$4)>0,\"H\",IFERROR(VLOOKUP((ROW(AJ42)-4)&\"_\"&AJ$4,Schedule!$H:$I,2,FALSE),\"\"))))","v":""},{"$f":"IF($A42=\"\",\"\",ROUND(SUMIFS(Schedule!$E:$E,Schedule!$A:$A,$A42,Schedule!$D:$D,$AK$3,Schedule!$B:$B,\">=\"&DATE($Q$2,$U$2,1),Schedule!$B:$B,\"<=\"&EOMONTH(DATE($Q$2,$U$2,1),0))/8,2))","v":""},{"$f":"IF($A42=\"\",\"\",ROUND(SUMIFS(Schedule!$E:$E,Schedule!$A:$A,$A42,Schedule!$D:$D,$AK$3,Schedule!$B:$B,\">=\"&DATE($Q$2,1,1),Schedule!$B:$B,\"<=\"&EOMONTH(DATE($Q$2,$U$2,1),0))/8,2))","v":""},{"$f":"IF($A42=\"\",\"\",ROUND(SUMIFS(Schedule!$E:$E,Schedule!$A:$A,$A42,Schedule!$D:$D,$AM$3,Schedule!$B:$B,\">=\"&DATE($Q$2,$U$2,1),Schedule!$B:$B,\"<=\"&EOMONTH(DATE($Q$2,$U$2,1),0))/8,2))","v":""},{"$f":"IF($A42=\"\",\"\",ROUND(SUMIFS(Schedule!$E:$E,Schedule!$A:$A,$A42,Schedule!$D:$D,$AM$3,Schedule!$B:$B,\">=\"&DATE($Q$2,1,1),Schedule!$B:$B,\"<=\"&EOMONTH(DATE($Q$2,$U$2,1),0))/8,2))","v":""}]
[{"$f":"IF(Lookups!A40=\"\",\"\",Lookups!A40)","v":""},{"$f":"IF($A43=\"\",\"\",IF(OR(B$3=\"Sat\",B$3=\"Sun\"),\"\",IF(COUNTIF(Holidays!$A:$A,B$4)>0,\"H\",IFERROR(VLOOKUP((ROW(B43)-4)&\"_\"&B$4,Schedule!$H:$I,2,FALSE),\"\"))))","v":""},{"$f":"IF($A43=\"\",\"\",IF(OR(C$3=\"Sat\",C$3=\"Sun\"),\"\",IF(COUNTIF(Holidays!$A:$A,C$4)>0,\"H\",IFERROR(VLOOKUP((ROW(C43)-4)&\"_\"&C$4,Schedule!$H:$I,2,FALSE),\"\"))))","v":""},{"$f":"IF($A43=\"\",\"\",IF(OR(D$3=\"Sat\",D$3=\"Sun\"),\"\",IF(COUNTIF(Holidays!$A:$A,D$4)>0,\"H\",IFERROR(VLOOKUP((ROW(D43)-4)&\"_\"&D$4,Schedule!$H:$I,2,FALSE),\"\"))))","v":""},{"$f":"IF($A43=\"\",\"\",IF(OR(E$3=\"Sat\",E$3=\"Sun\"),\"\",IF(COUNTIF(Holidays!$A:$A,E$4)>0,\"H\",IFERROR(VLOOKUP((ROW(E43)-4)&\"_\"&E$4,Schedule!$H:$I,2,FALSE),\"\"))))","v":""},{"$f":"IF($A43=\"\",\"\",IF(OR(F$3=\"Sat\",F$3=\"Sun\"),\"\",IF(COUNTIF(Holidays!$A:$A,F$4)>0,\"H\",IFERROR(VLOOKUP((ROW(F43)-4)&\"_\"&F$4,Schedule!$H:$I,2,FALSE),\"\"))))","v":""},{"$f":"IF($A43=\"\",\"\",IF(OR(G$3=\"Sat\",G$3=\"Sun\"),\"\",IF(COUNTIF(Holidays!$A:$A,G$4)>0,\"H\",IFERROR(VLOOKUP((ROW(G43)-4)&\"_\"&G$4,Schedule!$H:$I,2,FALSE),\"\"))))","v":""},{"$f":"IF($A43=\"\",\"\",IF(OR(H$3=\"Sat\",H$3=\"Sun\"),\"\",IF(COUNTIF(Holidays!$A:$A,H$4)>0,\"H\",IFERROR(VLOOKUP((ROW(H43)-4)&\"_\"&H$4,Schedule!$H:$I,2,FALSE),\"\"))))","v":""},{"$f":"IF($A43=\"\",\"\",IF(OR(I$3=\"Sat\",I$3=\"Sun\"),\"\",IF(COUNTIF(Holidays!$A:$A,I$4)>0,\"H\",IFERROR(VLOOKUP((ROW(I43)-4)&\"_\"&I$4,Schedule!$H:$I,2,FALSE),\"\"))))","v":""},{"$f":"IF($A43=\"\",\"\",IF(OR(J$3=\"Sat\",J$3=\"Sun\"),\"\",IF(COUNTIF(Holidays!$A:$A,J$4)>0,\"H\",IFERROR(VLOOKUP((ROW(J43)-4)&\"_\"&J$4,Schedule!$H:$I,2,FALSE),\"\"))))","v":""},{"$f":"IF($A43=\"\",\"\",IF(OR(K$3=\"Sat\",K$3=\"Sun\"),\"\",IF(COUNTIF(Holidays!$A:$A,K$4)>0,\"H\",IFERROR(VLOOKUP((ROW(K43)-4)&\"_\"&K$4,Schedule!$H:$I,2,FALSE),\"\"))))","v":""},{"$f":"IF($A43=\"\",\"\",IF(OR(L$3=\"Sat\",L$3=\"Sun\"),\"\",IF(COUNTIF(Holidays!$A:$A,L$4)>0,\"H\",IFERROR(VLOOKUP((ROW(L43)-4)&\"_\"&L$4,Schedule!$H:$I,2,FALSE),\"\"))))","v":""},{"$f":"IF($A43=\"\",\"\",IF(OR(M$3=\"Sat\",M$3=\"Sun\"),\"\",IF(COUNTIF(Holidays!$A:$A,M$4)>0,\"H\",IFERROR(VLOOKUP((ROW(M43)-4)&\"_\"&M$4,Schedule!$H:$I,2,FALSE),\"\"))))","v":""},{"$f":"IF($A43=\"\",\"\",IF(OR(N$3=\"Sat\",N$3=\"Sun\"),\"\",IF(COUNTIF(Holidays!$A:$A,N$4)>0,\"H\",IFERROR(VLOOKUP((ROW(N43)-4)&\"_\"&N$4,Schedule!$H:$I,2,FALSE),\"\"))))","v":""},{"$f":"IF($A43=\"\",\"\",IF(OR(O$3=\"Sat\",O$3=\"Sun\"),\"\",IF(COUNTIF(Holidays!$A:$A,O$4)>0,\"H\",IFERROR(VLOOKUP((ROW(O43)-4)&\"_\"&O$4,Schedule!$H:$I,2,FALSE),\"\"))))","v":""},{"$f":"IF($A43=\"\",\"\",IF(OR(P$3=\"Sat\",P$3=\"Sun\"),\"\",IF(COUNTIF(Holidays!$A:$A,P$4)>0,\"H\",IFERROR(VLOOKUP((ROW(P43)-4)&\"_\"&P$4,Schedule!$H:$I,2,FALSE),\"\"))))","v":""},{"$f":"IF($A43=\"\",\"\",IF(OR(Q$3=\"Sat\",Q$3=\"Sun\"),\"\",IF(COUNTIF(Holidays!$A:$A,Q$4)>0,\"H\",IFERROR(VLOOKUP((ROW(Q43)-4)&\"_\"&Q$4,Schedule!$H:$I,2,FALSE),\"\"))))","v":""},{"$f":"IF($A43=\"\",\"\",IF(OR(R$3=\"Sat\",R$3=\"Sun\"),\"\",IF(COUNTIF(Holidays!$A:$A,R$4)>0,\"H\",IFERROR(VLOOKUP((ROW(R43)-4)&\"_\"&R$4,Schedule!$H:$I,2,FALSE),\"\"))))","v":""},{"$f":"IF($A43=\"\",\"\",IF(OR(S$3=\"Sat\",S$3=\"Sun\"),\"\",IF(COUNTIF(Holidays!$A:$A,S$4)>0,\"H\",IFERROR(VLOOKUP((ROW(S43)-4)&\"_\"&S$4,Schedule!$H:$I,2,FALSE),\"\"))))","v":""},{"$f":"IF($A43=\"\",\"\",IF(OR(T$3=\"Sat\",T$3=\"Sun\"),\"\",IF(COUNTIF(Holidays!$A:$A,T$4)>0,\"H\",IFERROR(VLOOKUP((ROW(T43)-4)&\"_\"&T$4,Schedule!$H:$I,2,FALSE),\"\"))))","v":""},{"$f":"IF($A43=\"\",\"\",IF(OR(U$3=\"Sat\",U$3=\"Sun\"),\"\",IF(COUNTIF(Holidays!$A:$A,U$4)>0,\"H\",IFERROR(VLOOKUP((ROW(U43)-4)&\"_\"&U$4,Schedule!$H:$I,2,FALSE),\"\"))))","v":""},{"$f":"IF($A43=\"\",\"\",IF(OR(V$3=\"Sat\",V$3=\"Sun\"),\"\",IF(COUNTIF(Holidays!$A:$A,V$4)>0,\"H\",IFERROR(VLOOKUP((ROW(V43)-4)&\"_\"&V$4,Schedule!$H:$I,2,FALSE),\"\"))))","v":""},{"$f":"IF($A43=\"\",\"\",IF(OR(W$3=\"Sat\",W$3=\"Sun\"),\"\",IF(COUNTIF(Holidays!$A:$A,W$4)>0,\"H\",IFERROR(VLOOKUP((ROW(W43)-4)&\"_\"&W$4,Schedule!$H:$I,2,FALSE),\"\"))))","v":""},{"$f":"IF($A43=\"\",\"\",IF(OR(X$3=\"Sat\",X$3=\"Sun\"),\"\",IF(COUNTIF(Holidays!$A:$A,X$4)>0,\"H\",IFERROR(VLOOKUP((ROW(X43)-4)&\"_\"&X$4,Schedule!$H:$I,2,FALSE),\"\"))))","v":""},{"$f":"IF($A43=\"\",\"\",IF(OR(Y$3=\"Sat\",Y$3=\"Sun\"),\"\",IF(COUNTIF(Holidays!$A:$A,Y$4)>0,\"H\",IFERROR(VLOOKUP((ROW(Y43)-4)&\"_\"&Y$4,Schedule!$H:$I,2,FALSE),\"\"))))","v":""},{"$f":"IF($A43=\"\",\"\",IF(OR(Z$3=\"Sat\",Z$3=\"Sun\"),\"\",IF(COUNTIF(Holidays!$A:$A,Z$4)>0,\"H\",IFERROR(VLOOKUP((ROW(Z43)-4)&\"_\"&Z$4,Schedule!$H:$I,2,FALSE),\"\"))))","v":""},{"$f":"IF($A43=\"\",\"\",IF(OR(AA$3=\"Sat\",AA$3=\"Sun\"),\"\",IF(COUNTIF(Holidays!$A:$A,AA$4)>0,\"H\",IFERROR(VLOOKUP((ROW(AA43)-4)&\"_\"&AA$4,Schedule!$H:$I,2,FALSE),\"\"))))","v":""},{"$f":"IF($A43=\"\",\"\",IF(OR(AB$3=\"Sat\",AB$3=\"Sun\"),\"\",IF(COUNTIF(Holidays!$A:$A,AB$4)>0,\"H\",IFERROR(VLOOKUP((ROW(AB43)-4)&\"_\"&AB$4,Schedule!$H:$I,2,FALSE),\"\"))))","v":""},{"$f":"IF($A43=\"\",\"\",IF(OR(AC$3=\"Sat\",AC$3=\"Sun\"),\"\",IF(COUNTIF(Holidays!$A:$A,AC$4)>0,\"H\",IFERROR(VLOOKUP((ROW(AC43)-4)&\"_\"&AC$4,Schedule!$H:$I,2,FALSE),\"\"))))","v":""},{"$f":"IF($A43=\"\",\"\",IF(OR(AD$3=\"Sat\",AD$3=\"Sun\"),\"\",IF(COUNTIF(Holidays!$A:$A,AD$4)>0,\"H\",IFERROR(VLOOKUP((ROW(AD43)-4)&\"_\"&AD$4,Schedule!$H:$I,2,FALSE),\"\"))))","v":""},{"$f":"IF($A43=\"\",\"\",IF(OR(AE$3=\"Sat\",AE$3=\"Sun\"),\"\",IF(COUNTIF(Holidays!$A:$A,AE$4)>0,\"H\",IFERROR(VLOOKUP((ROW(AE43)-4)&\"_\"&AE$4,Schedule!$H:$I,2,FALSE),\"\"))))","v":""},{"$f":"IF($A43=\"\",\"\",IF(OR(AF$3=\"Sat\",AF$3=\"Sun\"),\"\",IF(COUNTIF(Holidays!$A:$A,AF$4)>0,\"H\",IFERROR(VLOOKUP((ROW(AF43)-4)&\"_\"&AF$4,Schedule!$H:$I,2,FALSE),\"\"))))","v":""},{"$f":"IF($A43=\"\",\"\",IF(OR(AG$3=\"Sat\",AG$3=\"Sun\"),\"\",IF(COUNTIF(Holidays!$A:$A,AG$4)>0,\"H\",IFERROR(VLOOKUP((ROW(AG43)-4)&\"_\"&AG$4,Schedule!$H:$I,2,FALSE),\"\"))))","v":""},{"$f":"IF($A43=\"\",\"\",IF(OR(AH$3=\"Sat\",AH$3=\"Sun\"),\"\",IF(COUNTIF(Holidays!$A:$A,AH$4)>0,\"H\",IFERROR(VLOOKUP((ROW(AH43)-4)&\"_\"&AH$4,Schedule!$H:$I,2,FALSE),\"\"))))","v":""},{"$f":"IF($A43=\"\",\"\",IF(OR(AI$3=\"Sat\",AI$3=\"Sun\"),\"\",IF(COUNTIF(Holidays!$A:$A,AI$4)>0,\"H\",IFERROR(VLOOKUP((ROW(AI43)-4)&\"_\"&AI$4,Schedule!$H:$I,2,FALSE),\"\"))))","v":""},{"$f":"IF($A43=\"\",\"\",IF(OR(AJ$3=\"Sat\",AJ$3=\"Sun\"),\"\",IF(COUNTIF(Holidays!$A:$A,AJ$4)>0,\"H\",IFERROR(VLOOKUP((ROW(AJ43)-4)&\"_\"&AJ$4,Schedule!$H:$I,2,FALSE),\"\"))))","v":""},{"$f":"IF($A43=\"\",\"\",ROUND(SUMIFS(Schedule!$E:$E,Schedule!$A:$A,$A43,Schedule!$D:$D,$AK$3,Schedule!$B:$B,\">=\"&DATE($Q$2,$U$2,1),Schedule!$B:$B,\"<=\"&EOMONTH(DATE($Q$2,$U$2,1),0))/8,2))","v":""},{"$f":"IF($A43=\"\",\"\",ROUND(SUMIFS(Schedule!$E:$E,Schedule!$A:$A,$A43,Schedule!$D:$D,$AK$3,Schedule!$B:$B,\">=\"&DATE($Q$2,1,1),Schedule!$B:$B,\"<=\"&EOMONTH(DATE($Q$2,$U$2,1),0))/8,2))","v":""},{"$f":"IF($A43=\"\",\"\",ROUND(SUMIFS(Schedule!$E:$E,Schedule!$A:$A,$A43,Schedule!$D:$D,$AM$3,Schedule!$B:$B,\">=\"&DATE($Q$2,$U$2,1),Schedule!$B:$B,\"<=\"&EOMONTH(DATE($Q$2,$U$2,1),0))/8,2))","v":""},{"$f":"IF($A43=\"\",\"\",ROUND(SUMIFS(Schedule!$E:$E,Schedule!$A:$A,$A43,Schedule!$D:$D,$AM$3,Schedule!$B:$B,\">=\"&DATE($Q$2,1,1),Schedule!$B:$B,\"<=\"&EOMONTH(DATE($Q$2,$U$2,1),0))/8,2))","v":""}]
[{"$f":"IF(Lookups!A41=\"\",\"\",Lookups!A41)","v":""},{"$f":"IF($A44=\"\",\"\",IF(OR(B$3=\"Sat\",B$3=\"Sun\"),\"\",IF(COUNTIF(Holidays!$A:$A,B$4)>0,\"H\",IFERROR(VLOOKUP((ROW(B44)-4)&\"_\"&B$4,Schedule!$H:$I,2,FALSE),\"\"))))","v":""},{"$f":"IF($A44=\"\",\"\",IF(OR(C$3=\"Sat\",C$3=\"Sun\"),\"\",IF(COUNTIF(Holidays!$A:$A,C$4)>0,\"H\",IFERROR(VLOOKUP((ROW(C44)-4)&\"_\"&C$4,Schedule!$H:$I,2,FALSE),\"\"))))","v":""},{"$f":"IF($A44=\"\",\"\",IF(OR(D$3=\"Sat\",D$3=\"Sun\"),\"\",IF(COUNTIF(Holidays!$A:$A,D$4)>0,\"H\",IFERROR(VLOOKUP((ROW(D44)-4)&\"_\"&D$4,Schedule!$H:$I,2,FALSE),\"\"))))","v":""},{"$f":"IF($A44=\"\",\"\",IF(OR(E$3=\"Sat\",E$3=\"Sun\"),\"\",IF(COUNTIF(Holidays!$A:$A,E$4)>0,\"H\",IFERROR(VLOOKUP((ROW(E44)-4)&\"_\"&E$4,Schedule!$H:$I,2,FALSE),\"\"))))","v":""},{"$f":"IF($A44=\"\",\"\",IF(OR(F$3=\"Sat\",F$3=\"Sun\"),\"\",IF(COUNTIF(Holidays!$A:$A,F$4)>0,\"H\",IFERROR(VLOOKUP((ROW(F44)-4)&\"_\"&F$4,Schedule!$H:$I,2,FALSE),\"\"))))","v":""},{"$f":"IF($A44=\"\",\"\",IF(OR(G$3=\"Sat\",G$3=\"Sun\"),\"\",IF(COUNTIF(Holidays!$A:$A,G$4)>0,\"H\",IFERROR(VLOOKUP((ROW(G44)-4)&\"_\"&G$4,Schedule!$H:$I,2,FALSE),\"\"))))","v":""},{"$f":"IF($A44=\"\",\"\",IF(OR(H$3=\"Sat\",H$3=\"Sun\"),\"\",IF(COUNTIF(Holidays!$A:$A,H$4)>0,\"H\",IFERROR(VLOOKUP((ROW(H44)-4)&\"_\"&H$4,Schedule!$H:$I,2,FALSE),\"\"))))","v":""},{"$f":"IF($A44=\"\",\"\",IF(OR(I$3=\"Sat\",I$3=\"Sun\"),\"\",IF(COUNTIF(Holidays!$A:$A,I$4)>0,\"H\",IFERROR(VLOOKUP((ROW(I44)-4)&\"_\"&I$4,Schedule!$H:$I,2,FALSE),\"\"))))","v":""},{"$f":"IF($A44=\"\",\"\",IF(OR(J$3=\"Sat\",J$3=\"Sun\"),\"\",IF(COUNTIF(Holidays!$A:$A,J$4)>0,\"H\",IFERROR(VLOOKUP((ROW(J44)-4)&\"_\"&J$4,Schedule!$H:$I,2,FALSE),\"\"))))","v":""},{"$f":"IF($A44=\"\",\"\",IF(OR(K$3=\"Sat\",K$3=\"Sun\"),\"\",IF(COUNTIF(Holidays!$A:$A,K$4)>0,\"H\",IFERROR(VLOOKUP((ROW(K44)-4)&\"_\"&K$4,Schedule!$H:$I,2,FALSE),\"\"))))","v":""},{"$f":"IF($A44=\"\",\"\",IF(OR(L$3=\"Sat\",L$3=\"Sun\"),\"\",IF(COUNTIF(Holidays!$A:$A,L$4)>0,\"H\",IFERROR(VLOOKUP((ROW(L44)-4)&\"_\"&L$4,Schedule!$H:$I,2,FALSE),\"\"))))","v":""},{"$f":"IF($A44=\"\",\"\",IF(OR(M$3=\"Sat\",M$3=\"Sun\"),\"\",IF(COUNTIF(Holidays!$A:$A,M$4)>0,\"H\",IFERROR(VLOOKUP((ROW(M44)-4)&\"_\"&M$4,Schedule!$H:$I,2,FALSE),\"\"))))","v":""},{"$f":"IF($A44=\"\",\"\",IF(OR(N$3=\"Sat\",N$3=\"Sun\"),\"\",IF(COUNTIF(Holidays!$A:$A,N$4)>0,\"H\",IFERROR(VLOOKUP((ROW(N44)-4)&\"_\"&N$4,Schedule!$H:$I,2,FALSE),\"\"))))","v":""},{"$f":"IF($A44=\"\",\"\",IF(OR(O$3=\"Sat\",O$3=\"Sun\"),\"\",IF(COUNTIF(Holidays!$A:$A,O$4)>0,\"H\",IFERROR(VLOOKUP((ROW(O44)-4)&\"_\"&O$4,Schedule!$H:$I,2,FALSE),\"\"))))","v":""},{"$f":"IF($A44=\"\",\"\",IF(OR(P$3=\"Sat\",P$3=\"Sun\"),\"\",IF(COUNTIF(Holidays!$A:$A,P$4)>0,\"H\",IFERROR(VLOOKUP((ROW(P44)-4)&\"_\"&P$4,Schedule!$H:$I,2,FALSE),\"\"))))","v":""},{"$f":"IF($A44=\"\",\"\",IF(OR(Q$3=\"Sat\",Q$3=\"Sun\"),\"\",IF(COUNTIF(Holidays!$A:$A,Q$4)>0,\"H\",IFERROR(VLOOKUP((ROW(Q44)-4)&\"_\"&Q$4,Schedule!$H:$I,2,FALSE),\"\"))))","v":""},{"$f":"IF($A44=\"\",\"\",IF(OR(R$3=\"Sat\",R$3=\"Sun\"),\"\",IF(COUNTIF(Holidays!$A:$A,R$4)>0,\"H\",IFERROR(VLOOKUP((ROW(R44)-4)&\"_\"&R$4,Schedule!$H:$I,2,FALSE),\"\"))))","v":""},{"$f":"IF($A44=\"\",\"\",IF(OR(S$3=\"Sat\",S$3=\"Sun\"),\"\",IF(COUNTIF(Holidays!$A:$A,S$4)>0,\"H\",IFERROR(VLOOKUP((ROW(S44)-4)&\"_\"&S$4,Schedule!$H:$I,2,FALSE),\"\"))))","v":""},{"$f":"IF($A44=\"\",\"\",IF(OR(T$3=\"Sat\",T$3=\"Sun\"),\"\",IF(COUNTIF(Holidays!$A:$A,T$4)>0,\"H\",IFERROR(VLOOKUP((ROW(T44)-4)&\"_\"&T$4,Schedule!$H:$I,2,FALSE),\"\"))))","v":""},{"$f":"IF($A44=\"\",\"\",IF(OR(U$3=\"Sat\",U$3=\"Sun\"),\"\",IF(COUNTIF(Holidays!$A:$A,U$4)>0,\"H\",IFERROR(VLOOKUP((ROW(U44)-4)&\"_\"&U$4,Schedule!$H:$I,2,FALSE),\"\"))))","v":""},{"$f":"IF($A44=\"\",\"\",IF(OR(V$3=\"Sat\",V$3=\"Sun\"),\"\",IF(COUNTIF(Holidays!$A:$A,V$4)>0,\"H\",IFERROR(VLOOKUP((ROW(V44)-4)&\"_\"&V$4,Schedule!$H:$I,2,FALSE),\"\"))))","v":""},{"$f":"IF($A44=\"\",\"\",IF(OR(W$3=\"Sat\",W$3=\"Sun\"),\"\",IF(COUNTIF(Holidays!$A:$A,W$4)>0,\"H\",IFERROR(VLOOKUP((ROW(W44)-4)&\"_\"&W$4,Schedule!$H:$I,2,FALSE),\"\"))))","v":""},{"$f":"IF($A44=\"\",\"\",IF(OR(X$3=\"Sat\",X$3=\"Sun\"),\"\",IF(COUNTIF(Holidays!$A:$A,X$4)>0,\"H\",IFERROR(VLOOKUP((ROW(X44)-4)&\"_\"&X$4,Schedule!$H:$I,2,FALSE),\"\"))))","v":""},{"$f":"IF($A44=\"\",\"\",IF(OR(Y$3=\"Sat\",Y$3=\"Sun\"),\"\",IF(COUNTIF(Holidays!$A:$A,Y$4)>0,\"H\",IFERROR(VLOOKUP((ROW(Y44)-4)&\"_\"&Y$4,Schedule!$H:$I,2,FALSE),\"\"))))","v":""},{"$f":"IF($A44=\"\",\"\",IF(OR(Z$3=\"Sat\",Z$3=\"Sun\"),\"\",IF(COUNTIF(Holidays!$A:$A,Z$4)>0,\"H\",IFERROR(VLOOKUP((ROW(Z44)-4)&\"_\"&Z$4,Schedule!$H:$I,2,FALSE),\"\"))))","v":""},{"$f":"IF($A44=\"\",\"\",IF(OR(AA$3=\"Sat\",AA$3=\"Sun\"),\"\",IF(COUNTIF(Holidays!$A:$A,AA$4)>0,\"H\",IFERROR(VLOOKUP((ROW(AA44)-4)&\"_\"&AA$4,Schedule!$H:$I,2,FALSE),\"\"))))","v":""},{"$f":"IF($A44=\"\",\"\",IF(OR(AB$3=\"Sat\",AB$3=\"Sun\"),\"\",IF(COUNTIF(Holidays!$A:$A,AB$4)>0,\"H\",IFERROR(VLOOKUP((ROW(AB44)-4)&\"_\"&AB$4,Schedule!$H:$I,2,FALSE),\"\"))))","v":""},{"$f":"IF($A44=\"\",\"\",IF(OR(AC$3=\"Sat\",AC$3=\"Sun\"),\"\",IF(COUNTIF(Holidays!$A:$A,AC$4)>0,\"H\",IFERROR(VLOOKUP((ROW(AC44)-4)&\"_\"&AC$4,Schedule!$H:$I,2,FALSE),\"\"))))","v":""},{"$f":"IF($A44=\"\",\"\",IF(OR(AD$3=\"Sat\",AD$3=\"Sun\"),\"\",IF(COUNTIF(Holidays!$A:$A,AD$4)>0,\"H\",IFERROR(VLOOKUP((ROW(AD44)-4)&\"_\"&AD$4,Schedule!$H:$I,2,FALSE),\"\"))))","v":""},{"$f":"IF($A44=\"\",\"\",IF(OR(AE$3=\"Sat\",AE$3=\"Sun\"),\"\",IF(COUNTIF(Holidays!$A:$A,AE$4)>0,\"H\",IFERROR(VLOOKUP((ROW(AE44)-4)&\"_\"&AE$4,Schedule!$H:$I,2,FALSE),\"\"))))","v":""},{"$f":"IF($A44=\"\",\"\",IF(OR(AF$3=\"Sat\",AF$3=\"Sun\"),\"\",IF(COUNTIF(Holidays!$A:$A,AF$4)>0,\"H\",IFERROR(VLOOKUP((ROW(AF44)-4)&\"_\"&AF$4,Schedule!$H:$I,2,FALSE),\"\"))))","v":""},{"$f":"IF($A44=\"\",\"\",IF(OR(AG$3=\"Sat\",AG$3=\"Sun\"),\"\",IF(COUNTIF(Holidays!$A:$A,AG$4)>0,\"H\",IFERROR(VLOOKUP((ROW(AG44)-4)&\"_\"&AG$4,Schedule!$H:$I,2,FALSE),\"\"))))","v":""},{"$f":"IF($A44=\"\",\"\",IF(OR(AH$3=\"Sat\",AH$3=\"Sun\"),\"\",IF(COUNTIF(Holidays!$A:$A,AH$4)>0,\"H\",IFERROR(VLOOKUP((ROW(AH44)-4)&\"_\"&AH$4,Schedule!$H:$I,2,FALSE),\"\"))))","v":""},{"$f":"IF($A44=\"\",\"\",IF(OR(AI$3=\"Sat\",AI$3=\"Sun\"),\"\",IF(COUNTIF(Holidays!$A:$A,AI$4)>0,\"H\",IFERROR(VLOOKUP((ROW(AI44)-4)&\"_\"&AI$4,Schedule!$H:$I,2,FALSE),\"\"))))","v":""},{"$f":"IF($A44=\"\",\"\",IF(OR(AJ$3=\"Sat\",AJ$3=\"Sun\"),\"\",IF(COUNTIF(Holidays!$A:$A,AJ$4)>0,\"H\",IFERROR(VLOOKUP((ROW(AJ44)-4)&\"_\"&AJ$4,Schedule!$H:$I,2,FALSE),\"\"))))","v":""},{"$f":"IF($A44=\"\",\"\",ROUND(SUMIFS(Schedule!$E:$E,Schedule!$A:$A,$A44,Schedule!$D:$D,$AK$3,Schedule!$B:$B,\">=\"&DATE($Q$2,$U$2,1),Schedule!$B:$B,\"<=\"&EOMONTH(DATE($Q$2,$U$2,1),0))/8,2))","v":""},{"$f":"IF($A44=\"\",\"\",ROUND(SUMIFS(Schedule!$E:$E,Schedule!$A:$A,$A44,Schedule!$D:$D,$AK$3,Schedule!$B:$B,\">=\"&DATE($Q$2,1,1),Schedule!$B:$B,\"<=\"&EOMONTH(DATE($Q$2,$U$2,1),0))/8,2))","v":""},{"$f":"IF($A44=\"\",\"\",ROUND(SUMIFS(Schedule!$E:$E,Schedule!$A:$A,$A44,Schedule!$D:$D,$AM$3,Schedule!$B:$B,\">=\"&DATE($Q$2,$U$2,1),Schedule!$B:$B,\"<=\"&EOMONTH(DATE($Q$2,$U$2,1),0))/8,2))","v":""},{"$f":"IF($A44=\"\",\"\",ROUND(SUMIFS(Schedule!$E:$E,Schedule!$A:$A,$A44,Schedule!$D:$D,$AM$3,Schedule!$B:$B,\">=\"&DATE($Q$2,1,1),Schedule!$B:$B,\"<=\"&EOMONTH(DATE($Q$2,$U$2,1),0))/8,2))","v":""}]
[{"$f":"IF(Lookups!A42=\"\",\"\",Lookups!A42)","v":""},{"$f":"IF($A45=\"\",\"\",IF(OR(B$3=\"Sat\",B$3=\"Sun\"),\"\",IF(COUNTIF(Holidays!$A:$A,B$4)>0,\"H\",IFERROR(VLOOKUP((ROW(B45)-4)&\"_\"&B$4,Schedule!$H:$I,2,FALSE),\"\"))))","v":""},{"$f":"IF($A45=\"\",\"\",IF(OR(C$3=\"Sat\",C$3=\"Sun\"),\"\",IF(COUNTIF(Holidays!$A:$A,C$4)>0,\"H\",IFERROR(VLOOKUP((ROW(C45)-4)&\"_\"&C$4,Schedule!$H:$I,2,FALSE),\"\"))))","v":""},{"$f":"IF($A45=\"\",\"\",IF(OR(D$3=\"Sat\",D$3=\"Sun\"),\"\",IF(COUNTIF(Holidays!$A:$A,D$4)>0,\"H\",IFERROR(VLOOKUP((ROW(D45)-4)&\"_\"&D$4,Schedule!$H:$I,2,FALSE),\"\"))))","v":""},{"$f":"IF($A45=\"\",\"\",IF(OR(E$3=\"Sat\",E$3=\"Sun\"),\"\",IF(COUNTIF(Holidays!$A:$A,E$4)>0,\"H\",IFERROR(VLOOKUP((ROW(E45)-4)&\"_\"&E$4,Schedule!$H:$I,2,FALSE),\"\"))))","v":""},{"$f":"IF($A45=\"\",\"\",IF(OR(F$3=\"Sat\",F$3=\"Sun\"),\"\",IF(COUNTIF(Holidays!$A:$A,F$4)>0,\"H\",IFERROR(VLOOKUP((ROW(F45)-4)&\"_\"&F$4,Schedule!$H:$I,2,FALSE),\"\"))))","v":""},{"$f":"IF($A45=\"\",\"\",IF(OR(G$3=\"Sat\",G$3=\"Sun\"),\"\",IF(COUNTIF(Holidays!$A:$A,G$4)>0,\"H\",IFERROR(VLOOKUP((ROW(G45)-4)&\"_\"&G$4,Schedule!$H:$I,2,FALSE),\"\"))))","v":""},{"$f":"IF($A45=\"\",\"\",IF(OR(H$3=\"Sat\",H$3=\"Sun\"),\"\",IF(COUNTIF(Holidays!$A:$A,H$4)>0,\"H\",IFERROR(VLOOKUP((ROW(H45)-4)&\"_\"&H$4,Schedule!$H:$I,2,FALSE),\"\"))))","v":""},{"$f":"IF($A45=\"\",\"\",IF(OR(I$3=\"Sat\",I$3=\"Sun\"),\"\",IF(COUNTIF(Holidays!$A:$A,I$4)>0,\"H\",IFERROR(VLOOKUP((ROW(I45)-4)&\"_\"&I$4,Schedule!$H:$I,2,FALSE),\"\"))))","v":""},{"$f":"IF($A45=\"\",\"\",IF(OR(J$3=\"Sat\",J$3=\"Sun\"),\"\",IF(COUNTIF(Holidays!$A:$A,J$4)>0,\"H\",IFERROR(VLOOKUP((ROW(J45)-4)&\"_\"&J$4,Schedule!$H:$I,2,FALSE),\"\"))))","v":""},{"$f":"IF($A45=\"\",\"\",IF(OR(K$3=\"Sat\",K$3=\"Sun\"),\"\",IF(COUNTIF(Holidays!$A:$A,K$4)>0,\"H\",IFERROR(VLOOKUP((ROW(K45)-4)&\"_\"&K$4,Schedule!$H:$I,2,FALSE),\"\"))))","v":""},{"$f":"IF($A45=\"\",\"\",IF(OR(L$3=\"Sat\",L$3=\"Sun\"),\"\",IF(COUNTIF(Holidays!$A:$A,L$4)>0,\"H\",IFERROR(VLOOKUP((ROW(L45)-4)&\"_\"&L$4,Schedule!$H:$I,2,FALSE),\"\"))))","v":""},{"$f":"IF($A45=\"\",\"\",IF(OR(M$3=\"Sat\",M$3=\"Sun\"),\"\",IF(COUNTIF(Holidays!$A:$A,M$4)>0,\"H\",IFERROR(VLOOKUP((ROW(M45)-4)&\"_\"&M$4,Schedule!$H:$I,2,FALSE),\"\"))))","v":""},{"$f":"IF($A45=\"\",\"\",IF(OR(N$3=\"Sat\",N$3=\"Sun\"),\"\",IF(COUNTIF(Holidays!$A:$A,N$4)>0,\"H\",IFERROR(VLOOKUP((ROW(N45)-4)&\"_\"&N$4,Schedule!$H:$I,2,FALSE),\"\"))))","v":""},{"$f":"IF($A45=\"\",\"\",IF(OR(O$3=\"Sat\",O$3=\"Sun\"),\"\",IF(COUNTIF(Holidays!$A:$A,O$4)>0,\"H\",IFERROR(VLOOKUP((ROW(O45)-4)&\"_\"&O$4,Schedule!$H:$I,2,FALSE),\"\"))))","v":""},{"$f":"IF($A45=\"\",\"\",IF(OR(P$3=\"Sat\",P$3=\"Sun\"),\"\",IF(COUNTIF(Holidays!$A:$A,P$4)>0,\"H\",IFERROR(VLOOKUP((ROW(P45)-4)&\"_\"&P$4,Schedule!$H:$I,2,FALSE),\"\"))))","v":""},{"$f":"IF($A45=\"\",\"\",IF(OR(Q$3=\"Sat\",Q$3=\"Sun\"),\"\",IF(COUNTIF(Holidays!$A:$A,Q$4)>0,\"H\",IFERROR(VLOOKUP((ROW(Q45)-4)&\"_\"&Q$4,Schedule!$H:$I,2,FALSE),\"\"))))","v":""},{"$f":"IF($A45=\"\",\"\",IF(OR(R$3=\"Sat\",R$3=\"Sun\"),\"\",IF(COUNTIF(Holidays!$A:$A,R$4)>0,\"H\",IFERROR(VLOOKUP((ROW(R45)-4)&\"_\"&R$4,Schedule!$H:$I,2,FALSE),\"\"))))","v":""},{"$f":"IF($A45=\"\",\"\",IF(OR(S$3=\"Sat\",S$3=\"Sun\"),\"\",IF(COUNTIF(Holidays!$A:$A,S$4)>0,\"H\",IFERROR(VLOOKUP((ROW(S45)-4)&\"_\"&S$4,Schedule!$H:$I,2,FALSE),\"\"))))","v":""},{"$f":"IF($A45=\"\",\"\",IF(OR(T$3=\"Sat\",T$3=\"Sun\"),\"\",IF(COUNTIF(Holidays!$A:$A,T$4)>0,\"H\",IFERROR(VLOOKUP((ROW(T45)-4)&\"_\"&T$4,Schedule!$H:$I,2,FALSE),\"\"))))","v":""},{"$f":"IF($A45=\"\",\"\",IF(OR(U$3=\"Sat\",U$3=\"Sun\"),\"\",IF(COUNTIF(Holidays!$A:$A,U$4)>0,\"H\",IFERROR(VLOOKUP((ROW(U45)-4)&\"_\"&U$4,Schedule!$H:$I,2,FALSE),\"\"))))","v":""},{"$f":"IF($A45=\"\",\"\",IF(OR(V$3=\"Sat\",V$3=\"Sun\"),\"\",IF(COUNTIF(Holidays!$A:$A,V$4)>0,\"H\",IFERROR(VLOOKUP((ROW(V45)-4)&\"_\"&V$4,Schedule!$H:$I,2,FALSE),\"\"))))","v":""},{"$f":"IF($A45=\"\",\"\",IF(OR(W$3=\"Sat\",W$3=\"Sun\"),\"\",IF(COUNTIF(Holidays!$A:$A,W$4)>0,\"H\",IFERROR(VLOOKUP((ROW(W45)-4)&\"_\"&W$4,Schedule!$H:$I,2,FALSE),\"\"))))","v":""},{"$f":"IF($A45=\"\",\"\",IF(OR(X$3=\"Sat\",X$3=\"Sun\"),\"\",IF(COUNTIF(Holidays!$A:$A,X$4)>0,\"H\",IFERROR(VLOOKUP((ROW(X45)-4)&\"_\"&X$4,Schedule!$H:$I,2,FALSE),\"\"))))","v":""},{"$f":"IF($A45=\"\",\"\",IF(OR(Y$3=\"Sat\",Y$3=\"Sun\"),\"\",IF(COUNTIF(Holidays!$A:$A,Y$4)>0,\"H\",IFERROR(VLOOKUP((ROW(Y45)-4)&\"_\"&Y$4,Schedule!$H:$I,2,FALSE),\"\"))))","v":""},{"$f":"IF($A45=\"\",\"\",IF(OR(Z$3=\"Sat\",Z$3=\"Sun\"),\"\",IF(COUNTIF(Holidays!$A:$A,Z$4)>0,\"H\",IFERROR(VLOOKUP((ROW(Z45)-4)&\"_\"&Z$4,Schedule!$H:$I,2,FALSE),\"\"))))","v":""},{"$f":"IF($A45=\"\",\"\",IF(OR(AA$3=\"Sat\",AA$3=\"Sun\"),\"\",IF(COUNTIF(Holidays!$A:$A,AA$4)>0,\"H\",IFERROR(VLOOKUP((ROW(AA45)-4)&\"_\"&AA$4,Schedule!$H:$I,2,FALSE),\"\"))))","v":""},{"$f":"IF($A45=\"\",\"\",IF(OR(AB$3=\"Sat\",AB$3=\"Sun\"),\"\",IF(COUNTIF(Holidays!$A:$A,AB$4)>0,\"H\",IFERROR(VLOOKUP((ROW(AB45)-4)&\"_\"&AB$4,Schedule!$H:$I,2,FALSE),\"\"))))","v":""},{"$f":"IF($A45=\"\",\"\",IF(OR(AC$3=\"Sat\",AC$3=\"Sun\"),\"\",IF(COUNTIF(Holidays!$A:$A,AC$4)>0,\"H\",IFERROR(VLOOKUP((ROW(AC45)-4)&\"_\"&AC$4,Schedule!$H:$I,2,FALSE),\"\"))))","v":""},{"$f":"IF($A45=\"\",\"\",IF(OR(AD$3=\"Sat\",AD$3=\"Sun\"),\"\",IF(COUNTIF(Holidays!$A:$A,AD$4)>0,\"H\",IFERROR(VLOOKUP((ROW(AD45)-4)&\"_\"&AD$4,Schedule!$H:$I,2,FALSE),\"\"))))","v":""},{"$f":"IF($A45=\"\",\"\",IF(OR(AE$3=\"Sat\",AE$3=\"Sun\"),\"\",IF(COUNTIF(Holidays!$A:$A,AE$4)>0,\"H\",IFERROR(VLOOKUP((ROW(AE45)-4)&\"_\"&AE$4,Schedule!$H:$I,2,FALSE),\"\"))))","v":""},{"$f":"IF($A45=\"\",\"\",IF(OR(AF$3=\"Sat\",AF$3=\"Sun\"),\"\",IF(COUNTIF(Holidays!$A:$A,AF$4)>0,\"H\",IFERROR(VLOOKUP((ROW(AF45)-4)&\"_\"&AF$4,Schedule!$H:$I,2,FALSE),\"\"))))","v":""},{"$f":"IF($A45=\"\",\"\",IF(OR(AG$3=\"Sat\",AG$3=\"Sun\"),\"\",IF(COUNTIF(Holidays!$A:$A,AG$4)>0,\"H\",IFERROR(VLOOKUP((ROW(AG45)-4)&\"_\"&AG$4,Schedule!$H:$I,2,FALSE),\"\"))))","v":""},{"$f":"IF($A45=\"\",\"\",IF(OR(AH$3=\"Sat\",AH$3=\"Sun\"),\"\",IF(COUNTIF(Holidays!$A:$A,AH$4)>0,\"H\",IFERROR(VLOOKUP((ROW(AH45)-4)&\"_\"&AH$4,Schedule!$H:$I,2,FALSE),\"\"))))","v":""},{"$f":"IF($A45=\"\",\"\",IF(OR(AI$3=\"Sat\",AI$3=\"Sun\"),\"\",IF(COUNTIF(Holidays!$A:$A,AI$4)>0,\"H\",IFERROR(VLOOKUP((ROW(AI45)-4)&\"_\"&AI$4,Schedule!$H:$I,2,FALSE),\"\"))))","v":""},{"$f":"IF($A45=\"\",\"\",IF(OR(AJ$3=\"Sat\",AJ$3=\"Sun\"),\"\",IF(COUNTIF(Holidays!$A:$A,AJ$4)>0,\"H\",IFERROR(VLOOKUP((ROW(AJ45)-4)&\"_\"&AJ$4,Schedule!$H:$I,2,FALSE),\"\"))))","v":""},{"$f":"IF($A45=\"\",\"\",ROUND(SUMIFS(Schedule!$E:$E,Schedule!$A:$A,$A45,Schedule!$D:$D,$AK$3,Schedule!$B:$B,\">=\"&DATE($Q$2,$U$2,1),Schedule!$B:$B,\"<=\"&EOMONTH(DATE($Q$2,$U$2,1),0))/8,2))","v":""},{"$f":"IF($A45=\"\",\"\",ROUND(SUMIFS(Schedule!$E:$E,Schedule!$A:$A,$A45,Schedule!$D:$D,$AK$3,Schedule!$B:$B,\">=\"&DATE($Q$2,1,1),Schedule!$B:$B,\"<=\"&EOMONTH(DATE($Q$2,$U$2,1),0))/8,2))","v":""},{"$f":"IF($A45=\"\",\"\",ROUND(SUMIFS(Schedule!$E:$E,Schedule!$A:$A,$A45,Schedule!$D:$D,$AM$3,Schedule!$B:$B,\">=\"&DATE($Q$2,$U$2,1),Schedule!$B:$B,\"<=\"&EOMONTH(DATE($Q$2,$U$2,1),0))/8,2))","v":""},{"$f":"IF($A45=\"\",\"\",ROUND(SUMIFS(Schedule!$E:$E,Schedule!$A:$A,$A45,Schedule!$D:$D,$AM$3,Schedule!$B:$B,\">=\"&DATE($Q$2,1,1),Schedule!$B:$B,\"<=\"&EOMONTH(DATE($Q$2,$U$2,1),0))/8,2))","v":""}]
[{"$f":"IF(Lookups!A43=\"\",\"\",Lookups!A43)","v":""},{"$f":"IF($A46=\"\",\"\",IF(OR(B$3=\"Sat\",B$3=\"Sun\"),\"\",IF(COUNTIF(Holidays!$A:$A,B$4)>0,\"H\",IFERROR(VLOOKUP((ROW(B46)-4)&\"_\"&B$4,Schedule!$H:$I,2,FALSE),\"\"))))","v":""},{"$f":"IF($A46=\"\",\"\",IF(OR(C$3=\"Sat\",C$3=\"Sun\"),\"\",IF(COUNTIF(Holidays!$A:$A,C$4)>0,\"H\",IFERROR(VLOOKUP((ROW(C46)-4)&\"_\"&C$4,Schedule!$H:$I,2,FALSE),\"\"))))","v":""},{"$f":"IF($A46=\"\",\"\",IF(OR(D$3=\"Sat\",D$3=\"Sun\"),\"\",IF(COUNTIF(Holidays!$A:$A,D$4)>0,\"H\",IFERROR(VLOOKUP((ROW(D46)-4)&\"_\"&D$4,Schedule!$H:$I,2,FALSE),\"\"))))","v":""},{"$f":"IF($A46=\"\",\"\",IF(OR(E$3=\"Sat\",E$3=\"Sun\"),\"\",IF(COUNTIF(Holidays!$A:$A,E$4)>0,\"H\",IFERROR(VLOOKUP((ROW(E46)-4)&\"_\"&E$4,Schedule!$H:$I,2,FALSE),\"\"))))","v":""},{"$f":"IF($A46=\"\",\"\",IF(OR(F$3=\"Sat\",F$3=\"Sun\"),\"\",IF(COUNTIF(Holidays!$A:$A,F$4)>0,\"H\",IFERROR(VLOOKUP((ROW(F46)-4)&\"_\"&F$4,Schedule!$H:$I,2,FALSE),\"\"))))","v":""},{"$f":"IF($A46=\"\",\"\",IF(OR(G$3=\"Sat\",G$3=\"Sun\"),\"\",IF(COUNTIF(Holidays!$A:$A,G$4)>0,\"H\",IFERROR(VLOOKUP((ROW(G46)-4)&\"_\"&G$4,Schedule!$H:$I,2,FALSE),\"\"))))","v":""},{"$f":"IF($A46=\"\",\"\",IF(OR(H$3=\"Sat\",H$3=\"Sun\"),\"\",IF(COUNTIF(Holidays!$A:$A,H$4)>0,\"H\",IFERROR(VLOOKUP((ROW(H46)-4)&\"_\"&H$4,Schedule!$H:$I,2,FALSE),\"\"))))","v":""},{"$f":"IF($A46=\"\",\"\",IF(OR(I$3=\"Sat\",I$3=\"Sun\"),\"\",IF(COUNTIF(Holidays!$A:$A,I$4)>0,\"H\",IFERROR(VLOOKUP((ROW(I46)-4)&\"_\"&I$4,Schedule!$H:$I,2,FALSE),\"\"))))","v":""},{"$f":"IF($A46=\"\",\"\",IF(OR(J$3=\"Sat\",J$3=\"Sun\"),\"\",IF(COUNTIF(Holidays!$A:$A,J$4)>0,\"H\",IFERROR(VLOOKUP((ROW(J46)-4)&\"_\"&J$4,Schedule!$H:$I,2,FALSE),\"\"))))","v":""},{"$f":"IF($A46=\"\",\"\",IF(OR(K$3=\"Sat\",K$3=\"Sun\"),\"\",IF(COUNTIF(Holidays!$A:$A,K$4)>0,\"H\",IFERROR(VLOOKUP((ROW(K46)-4)&\"_\"&K$4,Schedule!$H:$I,2,FALSE),\"\"))))","v":""},{"$f":"IF($A46=\"\",\"\",IF(OR(L$3=\"Sat\",L$3=\"Sun\"),\"\",IF(COUNTIF(Holidays!$A:$A,L$4)>0,\"H\",IFERROR(VLOOKUP((ROW(L46)-4)&\"_\"&L$4,Schedule!$H:$I,2,FALSE),\"\"))))","v":""},{"$f":"IF($A46=\"\",\"\",IF(OR(M$3=\"Sat\",M$3=\"Sun\"),\"\",IF(COUNTIF(Holidays!$A:$A,M$4)>0,\"H\",IFERROR(VLOOKUP((ROW(M46)-4)&\"_\"&M$4,Schedule!$H:$I,2,FALSE),\"\"))))","v":""},{"$f":"IF($A46=\"\",\"\",IF(OR(N$3=\"Sat\",N$3=\"Sun\"),\"\",IF(COUNTIF(Holidays!$A:$A,N$4)>0,\"H\",IFERROR(VLOOKUP((ROW(N46)-4)&\"_\"&N$4,Schedule!$H:$I,2,FALSE),\"\"))))","v":""},{"$f":"IF($A46=\"\",\"\",IF(OR(O$3=\"Sat\",O$3=\"Sun\"),\"\",IF(COUNTIF(Holidays!$A:$A,O$4)>0,\"H\",IFERROR(VLOOKUP((ROW(O46)-4)&\"_\"&O$4,Schedule!$H:$I,2,FALSE),\"\"))))","v":""},{"$f":"IF($A46=\"\",\"\",IF(OR(P$3=\"Sat\",P$3=\"Sun\"),\"\",IF(COUNTIF(Holidays!$A:$A,P$4)>0,\"H\",IFERROR(VLOOKUP((ROW(P46)-4)&\"_\"&P$4,Schedule!$H:$I,2,FALSE),\"\"))))","v":""},{"$f":"IF($A46=\"\",\"\",IF(OR(Q$3=\"Sat\",Q$3=\"Sun\"),\"\",IF(COUNTIF(Holidays!$A:$A,Q$4)>0,\"H\",IFERROR(VLOOKUP((ROW(Q46)-4)&\"_\"&Q$4,Schedule!$H:$I,2,FALSE),\"\"))))","v":""},{"$f":"IF($A46=\"\",\"\",IF(OR(R$3=\"Sat\",R$3=\"Sun\"),\"\",IF(COUNTIF(Holidays!$A:$A,R$4)>0,\"H\",IFERROR(VLOOKUP((ROW(R46)-4)&\"_\"&R$4,Schedule!$H:$I,2,FALSE),\"\"))))","v":""},{"$f":"IF($A46=\"\",\"\",IF(OR(S$3=\"Sat\",S$3=\"Sun\"),\"\",IF(COUNTIF(Holidays!$A:$A,S$4)>0,\"H\",IFERROR(VLOOKUP((ROW(S46)-4)&\"_\"&S$4,Schedule!$H:$I,2,FALSE),\"\"))))","v":""},{"$f":"IF($A46=\"\",\"\",IF(OR(T$3=\"Sat\",T$3=\"Sun\"),\"\",IF(COUNTIF(Holidays!$A:$A,T$4)>0,\"H\",IFERROR(VLOOKUP((ROW(T46)-4)&\"_\"&T$4,Schedule!$H:$I,2,FALSE),\"\"))))","v":""},{"$f":"IF($A46=\"\",\"\",IF(OR(U$3=\"Sat\",U$3=\"Sun\"),\"\",IF(COUNTIF(Holidays!$A:$A,U$4)>0,\"H\",IFERROR(VLOOKUP((ROW(U46)-4)&\"_\"&U$4,Schedule!$H:$I,2,FALSE),\"\"))))","v":""},{"$f":"IF($A46=\"\",\"\",IF(OR(V$3=\"Sat\",V$3=\"Sun\"),\"\",IF(COUNTIF(Holidays!$A:$A,V$4)>0,\"H\",IFERROR(VLOOKUP((ROW(V46)-4)&\"_\"&V$4,Schedule!$H:$I,2,FALSE),\"\"))))","v":""},{"$f":"IF($A46=\"\",\"\",IF(OR(W$3=\"Sat\",W$3=\"Sun\"),\"\",IF(COUNTIF(Holidays!$A:$A,W$4)>0,\"H\",IFERROR(VLOOKUP((ROW(W46)-4)&\"_\"&W$4,Schedule!$H:$I,2,FALSE),\"\"))))","v":""},{"$f":"IF($A46=\"\",\"\",IF(OR(X$3=\"Sat\",X$3=\"Sun\"),\"\",IF(COUNTIF(Holidays!$A:$A,X$4)>0,\"H\",IFERROR(VLOOKUP((ROW(X46)-4)&\"_\"&X$4,Schedule!$H:$I,2,FALSE),\"\"))))","v":""},{"$f":"IF($A46=\"\",\"\",IF(OR(Y$3=\"Sat\",Y$3=\"Sun\"),\"\",IF(COUNTIF(Holidays!$A:$A,Y$4)>0,\"H\",IFERROR(VLOOKUP((ROW(Y46)-4)&\"_\"&Y$4,Schedule!$H:$I,2,FALSE),\"\"))))","v":""},{"$f":"IF($A46=\"\",\"\",IF(OR(Z$3=\"Sat\",Z$3=\"Sun\"),\"\",IF(COUNTIF(Holidays!$A:$A,Z$4)>0,\"H\",IFERROR(VLOOKUP((ROW(Z46)-4)&\"_\"&Z$4,Schedule!$H:$I,2,FALSE),\"\"))))","v":""},{"$f":"IF($A46=\"\",\"\",IF(OR(AA$3=\"Sat\",AA$3=\"Sun\"),\"\",IF(COUNTIF(Holidays!$A:$A,AA$4)>0,\"H\",IFERROR(VLOOKUP((ROW(AA46)-4)&\"_\"&AA$4,Schedule!$H:$I,2,FALSE),\"\"))))","v":""},{"$f":"IF($A46=\"\",\"\",IF(OR(AB$3=\"Sat\",AB$3=\"Sun\"),\"\",IF(COUNTIF(Holidays!$A:$A,AB$4)>0,\"H\",IFERROR(VLOOKUP((ROW(AB46)-4)&\"_\"&AB$4,Schedule!$H:$I,2,FALSE),\"\"))))","v":""},{"$f":"IF($A46=\"\",\"\",IF(OR(AC$3=\"Sat\",AC$3=\"Sun\"),\"\",IF(COUNTIF(Holidays!$A:$A,AC$4)>0,\"H\",IFERROR(VLOOKUP((ROW(AC46)-4)&\"_\"&AC$4,Schedule!$H:$I,2,FALSE),\"\"))))","v":""},{"$f":"IF($A46=\"\",\"\",IF(OR(AD$3=\"Sat\",AD$3=\"Sun\"),\"\",IF(COUNTIF(Holidays!$A:$A,AD$4)>0,\"H\",IFERROR(VLOOKUP((ROW(AD46)-4)&\"_\"&AD$4,Schedule!$H:$I,2,FALSE),\"\"))))","v":""},{"$f":"IF($A46=\"\",\"\",IF(OR(AE$3=\"Sat\",AE$3=\"Sun\"),\"\",IF(COUNTIF(Holidays!$A:$A,AE$4)>0,\"H\",IFERROR(VLOOKUP((ROW(AE46)-4)&\"_\"&AE$4,Schedule!$H:$I,2,FALSE),\"\"))))","v":""},{"$f":"IF($A46=\"\",\"\",IF(OR(AF$3=\"Sat\",AF$3=\"Sun\"),\"\",IF(COUNTIF(Holidays!$A:$A,AF$4)>0,\"H\",IFERROR(VLOOKUP((ROW(AF46)-4)&\"_\"&AF$4,Schedule!$H:$I,2,FALSE),\"\"))))","v":""},{"$f":"IF($A46=\"\",\"\",IF(OR(AG$3=\"Sat\",AG$3=\"Sun\"),\"\",IF(COUNTIF(Holidays!$A:$A,AG$4)>0,\"H\",IFERROR(VLOOKUP((ROW(AG46)-4)&\"_\"&AG$4,Schedule!$H:$I,2,FALSE),\"\"))))","v":""},{"$f":"IF($A46=\"\",\"\",IF(OR(AH$3=\"Sat\",AH$3=\"Sun\"),\"\",IF(COUNTIF(Holidays!$A:$A,AH$4)>0,\"H\",IFERROR(VLOOKUP((ROW(AH46)-4)&\"_\"&AH$4,Schedule!$H:$I,2,FALSE),\"\"))))","v":""},{"$f":"IF($A46=\"\",\"\",IF(OR(AI$3=\"Sat\",AI$3=\"Sun\"),\"\",IF(COUNTIF(Holidays!$A:$A,AI$4)>0,\"H\",IFERROR(VLOOKUP((ROW(AI46)-4)&\"_\"&AI$4,Schedule!$H:$I,2,FALSE),\"\"))))","v":""},{"$f":"IF($A46=\"\",\"\",IF(OR(AJ$3=\"Sat\",AJ$3=\"Sun\"),\"\",IF(COUNTIF(Holidays!$A:$A,AJ$4)>0,\"H\",IFERROR(VLOOKUP((ROW(AJ46)-4)&\"_\"&AJ$4,Schedule!$H:$I,2,FALSE),\"\"))))","v":""},{"$f":"IF($A46=\"\",\"\",ROUND(SUMIFS(Schedule!$E:$E,Schedule!$A:$A,$A46,Schedule!$D:$D,$AK$3,Schedule!$B:$B,\">=\"&DATE($Q$2,$U$2,1),Schedule!$B:$B,\"<=\"&EOMONTH(DATE($Q$2,$U$2,1),0))/8,2))","v":""},{"$f":"IF($A46=\"\",\"\",ROUND(SUMIFS(Schedule!$E:$E,Schedule!$A:$A,$A46,Schedule!$D:$D,$AK$3,Schedule!$B:$B,\">=\"&DATE($Q$2,1,1),Schedule!$B:$B,\"<=\"&EOMONTH(DATE($Q$2,$U$2,1),0))/8,2))","v":""},{"$f":"IF($A46=\"\",\"\",ROUND(SUMIFS(Schedule!$E:$E,Schedule!$A:$A,$A46,Schedule!$D:$D,$AM$3,Schedule!$B:$B,\">=\"&DATE($Q$2,$U$2,1),Schedule!$B:$B,\"<=\"&EOMONTH(DATE($Q$2,$U$2,1),0))/8,2))","v":""},{"$f":"IF($A46=\"\",\"\",ROUND(SUMIFS(Schedule!$E:$E,Schedule!$A:$A,$A46,Schedule!$D:$D,$AM$3,Schedule!$B:$B,\">=\"&DATE($Q$2,1,1),Schedule!$B:$B,\"<=\"&EOMONTH(DATE($Q$2,$U$2,1),0))/8,2))","v":""}]
[{"$f":"IF(Lookups!A44=\"\",\"\",Lookups!A44)","v":""},{"$f":"IF($A47=\"\",\"\",IF(OR(B$3=\"Sat\",B$3=\"Sun\"),\"\",IF(COUNTIF(Holidays!$A:$A,B$4)>0,\"H\",IFERROR(VLOOKUP((ROW(B47)-4)&\"_\"&B$4,Schedule!$H:$I,2,FALSE),\"\"))))","v":""},{"$f":"IF($A47=\"\",\"\",IF(OR(C$3=\"Sat\",C$3=\"Sun\"),\"\",IF(COUNTIF(Holidays!$A:$A,C$4)>0,\"H\",IFERROR(VLOOKUP((ROW(C47)-4)&\"_\"&C$4,Schedule!$H:$I,2,FALSE),\"\"))))","v":""},{"$f":"IF($A47=\"\",\"\",IF(OR(D$3=\"Sat\",D$3=\"Sun\"),\"\",IF(COUNTIF(Holidays!$A:$A,D$4)>0,\"H\",IFERROR(VLOOKUP((ROW(D47)-4)&\"_\"&D$4,Schedule!$H:$I,2,FALSE),\"\"))))","v":""},{"$f":"IF($A47=\"\",\"\",IF(OR(E$3=\"Sat\",E$3=\"Sun\"),\"\",IF(COUNTIF(Holidays!$A:$A,E$4)>0,\"H\",IFERROR(VLOOKUP((ROW(E47)-4)&\"_\"&E$4,Schedule!$H:$I,2,FALSE),\"\"))))","v":""},{"$f":"IF($A47=\"\",\"\",IF(OR(F$3=\"Sat\",F$3=\"Sun\"),\"\",IF(COUNTIF(Holidays!$A:$A,F$4)>0,\"H\",IFERROR(VLOOKUP((ROW(F47)-4)&\"_\"&F$4,Schedule!$H:$I,2,FALSE),\"\"))))","v":""},{"$f":"IF($A47=\"\",\"\",IF(OR(G$3=\"Sat\",G$3=\"Sun\"),\"\",IF(COUNTIF(Holidays!$A:$A,G$4)>0,\"H\",IFERROR(VLOOKUP((ROW(G47)-4)&\"_\"&G$4,Schedule!$H:$I,2,FALSE),\"\"))))","v":""},{"$f":"IF($A47=\"\",\"\",IF(OR(H$3=\"Sat\",H$3=\"Sun\"),\"\",IF(COUNTIF(Holidays!$A:$A,H$4)>0,\"H\",IFERROR(VLOOKUP((ROW(H47)-4)&\"_\"&H$4,Schedule!$H:$I,2,FALSE),\"\"))))","v":""},{"$f":"IF($A47=\"\",\"\",IF(OR(I$3=\"Sat\",I$3=\"Sun\"),\"\",IF(COUNTIF(Holidays!$A:$A,I$4)>0,\"H\",IFERROR(VLOOKUP((ROW(I47)-4)&\"_\"&I$4,Schedule!$H:$I,2,FALSE),\"\"))))","v":""},{"$f":"IF($A47=\"\",\"\",IF(OR(J$3=\"Sat\",J$3=\"Sun\"),\"\",IF(COUNTIF(Holidays!$A:$A,J$4)>0,\"H\",IFERROR(VLOOKUP((ROW(J47)-4)&\"_\"&J$4,Schedule!$H:$I,2,FALSE),\"\"))))","v":""},{"$f":"IF($A47=\"\",\"\",IF(OR(K$3=\"Sat\",K$3=\"Sun\"),\"\",IF(COUNTIF(Holidays!$A:$A,K$4)>0,\"H\",IFERROR(VLOOKUP((ROW(K47)-4)&\"_\"&K$4,Schedule!$H:$I,2,FALSE),\"\"))))","v":""},{"$f":"IF($A47=\"\",\"\",IF(OR(L$3=\"Sat\",L$3=\"Sun\"),\"\",IF(COUNTIF(Holidays!$A:$A,L$4)>0,\"H\",IFERROR(VLOOKUP((ROW(L47)-4)&\"_\"&L$4,Schedule!$H:$I,2,FALSE),\"\"))))","v":""},{"$f":"IF($A47=\"\",\"\",IF(OR(M$3=\"Sat\",M$3=\"Sun\"),\"\",IF(COUNTIF(Holidays!$A:$A,M$4)>0,\"H\",IFERROR(VLOOKUP((ROW(M47)-4)&\"_\"&M$4,Schedule!$H:$I,2,FALSE),\"\"))))","v":""},{"$f":"IF($A47=\"\",\"\",IF(OR(N$3=\"Sat\",N$3=\"Sun\"),\"\",IF(COUNTIF(Holidays!$A:$A,N$4)>0,\"H\",IFERROR(VLOOKUP((ROW(N47)-4)&\"_\"&N$4,Schedule!$H:$I,2,FALSE),\"\"))))","v":""},{"$f":"IF($A47=\"\",\"\",IF(OR(O$3=\"Sat\",O$3=\"Sun\"),\"\",IF(COUNTIF(Holidays!$A:$A,O$4)>0,\"H\",IFERROR(VLOOKUP((ROW(O47)-4)&\"_\"&O$4,Schedule!$H:$I,2,FALSE),\"\"))))","v":""},{"$f":"IF($A47=\"\",\"\",IF(OR(P$3=\"Sat\",P$3=\"Sun\"),\"\",IF(COUNTIF(Holidays!$A:$A,P$4)>0,\"H\",IFERROR(VLOOKUP((ROW(P47)-4)&\"_\"&P$4,Schedule!$H:$I,2,FALSE),\"\"))))","v":""},{"$f":"IF($A47=\"\",\"\",IF(OR(Q$3=\"Sat\",Q$3=\"Sun\"),\"\",IF(COUNTIF(Holidays!$A:$A,Q$4)>0,\"H\",IFERROR(VLOOKUP((ROW(Q47)-4)&\"_\"&Q$4,Schedule!$H:$I,2,FALSE),\"\"))))","v":""},{"$f":"IF($A47=\"\",\"\",IF(OR(R$3=\"Sat\",R$3=\"Sun\"),\"\",IF(COUNTIF(Holidays!$A:$A,R$4)>0,\"H\",IFERROR(VLOOKUP((ROW(R47)-4)&\"_\"&R$4,Schedule!$H:$I,2,FALSE),\"\"))))","v":""},{"$f":"IF($A47=\"\",\"\",IF(OR(S$3=\"Sat\",S$3=\"Sun\"),\"\",IF(COUNTIF(Holidays!$A:$A,S$4)>0,\"H\",IFERROR(VLOOKUP((ROW(S47)-4)&\"_\"&S$4,Schedule!$H:$I,2,FALSE),\"\"))))","v":""},{"$f":"IF($A47=\"\",\"\",IF(OR(T$3=\"Sat\",T$3=\"Sun\"),\"\",IF(COUNTIF(Holidays!$A:$A,T$4)>0,\"H\",IFERROR(VLOOKUP((ROW(T47)-4)&\"_\"&T$4,Schedule!$H:$I,2,FALSE),\"\"))))","v":""},{"$f":"IF($A47=\"\",\"\",IF(OR(U$3=\"Sat\",U$3=\"Sun\"),\"\",IF(COUNTIF(Holidays!$A:$A,U$4)>0,\"H\",IFERROR(VLOOKUP((ROW(U47)-4)&\"_\"&U$4,Schedule!$H:$I,2,FALSE),\"\"))))","v":""},{"$f":"IF($A47=\"\",\"\",IF(OR(V$3=\"Sat\",V$3=\"Sun\"),\"\",IF(COUNTIF(Holidays!$A:$A,V$4)>0,\"H\",IFERROR(VLOOKUP((ROW(V47)-4)&\"_\"&V$4,Schedule!$H:$I,2,FALSE),\"\"))))","v":""},{"$f":"IF($A47=\"\",\"\",IF(OR(W$3=\"Sat\",W$3=\"Sun\"),\"\",IF(COUNTIF(Holidays!$A:$A,W$4)>0,\"H\",IFERROR(VLOOKUP((ROW(W47)-4)&\"_\"&W$4,Schedule!$H:$I,2,FALSE),\"\"))))","v":""},{"$f":"IF($A47=\"\",\"\",IF(OR(X$3=\"Sat\",X$3=\"Sun\"),\"\",IF(COUNTIF(Holidays!$A:$A,X$4)>0,\"H\",IFERROR(VLOOKUP((ROW(X47)-4)&\"_\"&X$4,Schedule!$H:$I,2,FALSE),\"\"))))","v":""},{"$f":"IF($A47=\"\",\"\",IF(OR(Y$3=\"Sat\",Y$3=\"Sun\"),\"\",IF(COUNTIF(Holidays!$A:$A,Y$4)>0,\"H\",IFERROR(VLOOKUP((ROW(Y47)-4)&\"_\"&Y$4,Schedule!$H:$I,2,FALSE),\"\"))))","v":""},{"$f":"IF($A47=\"\",\"\",IF(OR(Z$3=\"Sat\",Z$3=\"Sun\"),\"\",IF(COUNTIF(Holidays!$A:$A,Z$4)>0,\"H\",IFERROR(VLOOKUP((ROW(Z47)-4)&\"_\"&Z$4,Schedule!$H:$I,2,FALSE),\"\"))))","v":""},{"$f":"IF($A47=\"\",\"\",IF(OR(AA$3=\"Sat\",AA$3=\"Sun\"),\"\",IF(COUNTIF(Holidays!$A:$A,AA$4)>0,\"H\",IFERROR(VLOOKUP((ROW(AA47)-4)&\"_\"&AA$4,Schedule!$H:$I,2,FALSE),\"\"))))","v":""},{"$f":"IF($A47=\"\",\"\",IF(OR(AB$3=\"Sat\",AB$3=\"Sun\"),\"\",IF(COUNTIF(Holidays!$A:$A,AB$4)>0,\"H\",IFERROR(VLOOKUP((ROW(AB47)-4)&\"_\"&AB$4,Schedule!$H:$I,2,FALSE),\"\"))))","v":""},{"$f":"IF($A47=\"\",\"\",IF(OR(AC$3=\"Sat\",AC$3=\"Sun\"),\"\",IF(COUNTIF(Holidays!$A:$A,AC$4)>0,\"H\",IFERROR(VLOOKUP((ROW(AC47)-4)&\"_\"&AC$4,Schedule!$H:$I,2,FALSE),\"\"))))","v":""},{"$f":"IF($A47=\"\",\"\",IF(OR(AD$3=\"Sat\",AD$3=\"Sun\"),\"\",IF(COUNTIF(Holidays!$A:$A,AD$4)>0,\"H\",IFERROR(VLOOKUP((ROW(AD47)-4)&\"_\"&AD$4,Schedule!$H:$I,2,FALSE),\"\"))))","v":""},{"$f":"IF($A47=\"\",\"\",IF(OR(AE$3=\"Sat\",AE$3=\"Sun\"),\"\",IF(COUNTIF(Holidays!$A:$A,AE$4)>0,\"H\",IFERROR(VLOOKUP((ROW(AE47)-4)&\"_\"&AE$4,Schedule!$H:$I,2,FALSE),\"\"))))","v":""},{"$f":"IF($A47=\"\",\"\",IF(OR(AF$3=\"Sat\",AF$3=\"Sun\"),\"\",IF(COUNTIF(Holidays!$A:$A,AF$4)>0,\"H\",IFERROR(VLOOKUP((ROW(AF47)-4)&\"_\"&AF$4,Schedule!$H:$I,2,FALSE),\"\"))))","v":""},{"$f":"IF($A47=\"\",\"\",IF(OR(AG$3=\"Sat\",AG$3=\"Sun\"),\"\",IF(COUNTIF(Holidays!$A:$A,AG$4)>0,\"H\",IFERROR(VLOOKUP((ROW(AG47)-4)&\"_\"&AG$4,Schedule!$H:$I,2,FALSE),\"\"))))","v":""},{"$f":"IF($A47=\"\",\"\",IF(OR(AH$3=\"Sat\",AH$3=\"Sun\"),\"\",IF(COUNTIF(Holidays!$A:$A,AH$4)>0,\"H\",IFERROR(VLOOKUP((ROW(AH47)-4)&\"_\"&AH$4,Schedule!$H:$I,2,FALSE),\"\"))))","v":""},{"$f":"IF($A47=\"\",\"\",IF(OR(AI$3=\"Sat\",AI$3=\"Sun\"),\"\",IF(COUNTIF(Holidays!$A:$A,AI$4)>0,\"H\",IFERROR(VLOOKUP((ROW(AI47)-4)&\"_\"&AI$4,Schedule!$H:$I,2,FALSE),\"\"))))","v":""},{"$f":"IF($A47=\"\",\"\",IF(OR(AJ$3=\"Sat\",AJ$3=\"Sun\"),\"\",IF(COUNTIF(Holidays!$A:$A,AJ$4)>0,\"H\",IFERROR(VLOOKUP((ROW(AJ47)-4)&\"_\"&AJ$4,Schedule!$H:$I,2,FALSE),\"\"))))","v":""},{"$f":"IF($A47=\"\",\"\",ROUND(SUMIFS(Schedule!$E:$E,Schedule!$A:$A,$A47,Schedule!$D:$D,$AK$3,Schedule!$B:$B,\">=\"&DATE($Q$2,$U$2,1),Schedule!$B:$B,\"<=\"&EOMONTH(DATE($Q$2,$U$2,1),0))/8,2))","v":""},{"$f":"IF($A47=\"\",\"\",ROUND(SUMIFS(Schedule!$E:$E,Schedule!$A:$A,$A47,Schedule!$D:$D,$AK$3,Schedule!$B:$B,\">=\"&DATE($Q$2,1,1),Schedule!$B:$B,\"<=\"&EOMONTH(DATE($Q$2,$U$2,1),0))/8,2))","v":""},{"$f":"IF($A47=\"\",\"\",ROUND(SUMIFS(Schedule!$E:$E,Schedule!$A:$A,$A47,Schedule!$D:$D,$AM$3,Schedule!$B:$B,\">=\"&DATE($Q$2,$U$2,1),Schedule!$B:$B,\"<=\"&EOMONTH(DATE($Q$2,$U$2,1),0))/8,2))","v":""},{"$f":"IF($A47=\"\",\"\",ROUND(SUMIFS(Schedule!$E:$E,Schedule!$A:$A,$A47,Schedule!$D:$D,$AM$3,Schedule!$B:$B,\">=\"&DATE($Q$2,1,1),Schedule!$B:$B,\"<=\"&EOMONTH(DATE($Q$2,$U$2,1),0))/8,2))","v":""}]
[{"$f":"IF(Lookups!A45=\"\",\"\",Lookups!A45)","v":""},{"$f":"IF($A48=\"\",\"\",IF(OR(B$3=\"Sat\",B$3=\"Sun\"),\"\",IF(COUNTIF(Holidays!$A:$A,B$4)>0,\"H\",IFERROR(VLOOKUP((ROW(B48)-4)&\"_\"&B$4,Schedule!$H:$I,2,FALSE),\"\"))))","v":""},{"$f":"IF($A48=\"\",\"\",IF(OR(C$3=\"Sat\",C$3=\"Sun\"),\"\",IF(COUNTIF(Holidays!$A:$A,C$4)>0,\"H\",IFERROR(VLOOKUP((ROW(C48)-4)&\"_\"&C$4,Schedule!$H:$I,2,FALSE),\"\"))))","v":""},{"$f":"IF($A48=\"\",\"\",IF(OR(D$3=\"Sat\",D$3=\"Sun\"),\"\",IF(COUNTIF(Holidays!$A:$A,D$4)>0,\"H\",IFERROR(VLOOKUP((ROW(D48)-4)&\"_\"&D$4,Schedule!$H:$I,2,FALSE),\"\"))))","v":""},{"$f":"IF($A48=\"\",\"\",IF(OR(E$3=\"Sat\",E$3=\"Sun\"),\"\",IF(COUNTIF(Holidays!$A:$A,E$4)>0,\"H\",IFERROR(VLOOKUP((ROW(E48)-4)&\"_\"&E$4,Schedule!$H:$I,2,FALSE),\"\"))))","v":""},{"$f":"IF($A48=\"\",\"\",IF(OR(F$3=\"Sat\",F$3=\"Sun\"),\"\",IF(COUNTIF(Holidays!$A:$A,F$4)>0,\"H\",IFERROR(VLOOKUP((ROW(F48)-4)&\"_\"&F$4,Schedule!$H:$I,2,FALSE),\"\"))))","v":""},{"$f":"IF($A48=\"\",\"\",IF(OR(G$3=\"Sat\",G$3=\"Sun\"),\"\",IF(COUNTIF(Holidays!$A:$A,G$4)>0,\"H\",IFERROR(VLOOKUP((ROW(G48)-4)&\"_\"&G$4,Schedule!$H:$I,2,FALSE),\"\"))))","v":""},{"$f":"IF($A48=\"\",\"\",IF(OR(H$3=\"Sat\",H$3=\"Sun\"),\"\",IF(COUNTIF(Holidays!$A:$A,H$4)>0,\"H\",IFERROR(VLOOKUP((ROW(H48)-4)&\"_\"&H$4,Schedule!$H:$I,2,FALSE),\"\"))))","v":""},{"$f":"IF($A48=\"\",\"\",IF(OR(I$3=\"Sat\",I$3=\"Sun\"),\"\",IF(COUNTIF(Holidays!$A:$A,I$4)>0,\"H\",IFERROR(VLOOKUP((ROW(I48)-4)&\"_\"&I$4,Schedule!$H:$I,2,FALSE),\"\"))))","v":""},{"$f":"IF($A48=\"\",\"\",IF(OR(J$3=\"Sat\",J$3=\"Sun\"),\"\",IF(COUNTIF(Holidays!$A:$A,J$4)>0,\"H\",IFERROR(VLOOKUP((ROW(J48)-4)&\"_\"&J$4,Schedule!$H:$I,2,FALSE),\"\"))))","v":""},{"$f":"IF($A48=\"\",\"\",IF(OR(K$3=\"Sat\",K$3=\"Sun\"),\"\",IF(COUNTIF(Holidays!$A:$A,K$4)>0,\"H\",IFERROR(VLOOKUP((ROW(K48)-4)&\"_\"&K$4,Schedule!$H:$I,2,FALSE),\"\"))))","v":""},{"$f":"IF($A48=\"\",\"\",IF(OR(L$3=\"Sat\",L$3=\"Sun\"),\"\",IF(COUNTIF(Holidays!$A:$A,L$4)>0,\"H\",IFERROR(VLOOKUP((ROW(L48)-4)&\"_\"&L$4,Schedule!$H:$I,2,FALSE),\"\"))))","v":""},{"$f":"IF($A48=\"\",\"\",IF(OR(M$3=\"Sat\",M$3=\"Sun\"),\"\",IF(COUNTIF(Holidays!$A:$A,M$4)>0,\"H\",IFERROR(VLOOKUP((ROW(M48)-4)&\"_\"&M$4,Schedule!$H:$I,2,FALSE),\"\"))))","v":""},{"$f":"IF($A48=\"\",\"\",IF(OR(N$3=\"Sat\",N$3=\"Sun\"),\"\",IF(COUNTIF(Holidays!$A:$A,N$4)>0,\"H\",IFERROR(VLOOKUP((ROW(N48)-4)&\"_\"&N$4,Schedule!$H:$I,2,FALSE),\"\"))))","v":""},{"$f":"IF($A48=\"\",\"\",IF(OR(O$3=\"Sat\",O$3=\"Sun\"),\"\",IF(COUNTIF(Holidays!$A:$A,O$4)>0,\"H\",IFERROR(VLOOKUP((ROW(O48)-4)&\"_\"&O$4,Schedule!$H:$I,2,FALSE),\"\"))))","v":""},{"$f":"IF($A48=\"\",\"\",IF(OR(P$3=\"Sat\",P$3=\"Sun\"),\"\",IF(COUNTIF(Holidays!$A:$A,P$4)>0,\"H\",IFERROR(VLOOKUP((ROW(P48)-4)&\"_\"&P$4,Schedule!$H:$I,2,FALSE),\"\"))))","v":""},{"$f":"IF($A48=\"\",\"\",IF(OR(Q$3=\"Sat\",Q$3=\"Sun\"),\"\",IF(COUNTIF(Holidays!$A:$A,Q$4)>0,\"H\",IFERROR(VLOOKUP((ROW(Q48)-4)&\"_\"&Q$4,Schedule!$H:$I,2,FALSE),\"\"))))","v":""},{"$f":"IF($A48=\"\",\"\",IF(OR(R$3=\"Sat\",R$3=\"Sun\"),\"\",IF(COUNTIF(Holidays!$A:$A,R$4)>0,\"H\",IFERROR(VLOOKUP((ROW(R48)-4)&\"_\"&R$4,Schedule!$H:$I,2,FALSE),\"\"))))","v":""},{"$f":"IF($A48=\"\",\"\",IF(OR(S$3=\"Sat\",S$3=\"Sun\"),\"\",IF(COUNTIF(Holidays!$A:$A,S$4)>0,\"H\",IFERROR(VLOOKUP((ROW(S48)-4)&\"_\"&S$4,Schedule!$H:$I,2,FALSE),\"\"))))","v":""},{"$f":"IF($A48=\"\",\"\",IF(OR(T$3=\"Sat\",T$3=\"Sun\"),\"\",IF(COUNTIF(Holidays!$A:$A,T$4)>0,\"H\",IFERROR(VLOOKUP((ROW(T48)-4)&\"_\"&T$4,Schedule!$H:$I,2,FALSE),\"\"))))","v":""},{"$f":"IF($A48=\"\",\"\",IF(OR(U$3=\"Sat\",U$3=\"Sun\"),\"\",IF(COUNTIF(Holidays!$A:$A,U$4)>0,\"H\",IFERROR(VLOOKUP((ROW(U48)-4)&\"_\"&U$4,Schedule!$H:$I,2,FALSE),\"\"))))","v":""},{"$f":"IF($A48=\"\",\"\",IF(OR(V$3=\"Sat\",V$3=\"Sun\"),\"\",IF(COUNTIF(Holidays!$A:$A,V$4)>0,\"H\",IFERROR(VLOOKUP((ROW(V48)-4)&\"_\"&V$4,Schedule!$H:$I,2,FALSE),\"\"))))","v":""},{"$f":"IF($A48=\"\",\"\",IF(OR(W$3=\"Sat\",W$3=\"Sun\"),\"\",IF(COUNTIF(Holidays!$A:$A,W$4)>0,\"H\",IFERROR(VLOOKUP((ROW(W48)-4)&\"_\"&W$4,Schedule!$H:$I,2,FALSE),\"\"))))","v":""},{"$f":"IF($A48=\"\",\"\",IF(OR(X$3=\"Sat\",X$3=\"Sun\"),\"\",IF(COUNTIF(Holidays!$A:$A,X$4)>0,\"H\",IFERROR(VLOOKUP((ROW(X48)-4)&\"_\"&X$4,Schedule!$H:$I,2,FALSE),\"\"))))","v":""},{"$f":"IF($A48=\"\",\"\",IF(OR(Y$3=\"Sat\",Y$3=\"Sun\"),\"\",IF(COUNTIF(Holidays!$A:$A,Y$4)>0,\"H\",IFERROR(VLOOKUP((ROW(Y48)-4)&\"_\"&Y$4,Schedule!$H:$I,2,FALSE),\"\"))))","v":""},{"$f":"IF($A48=\"\",\"\",IF(OR(Z$3=\"Sat\",Z$3=\"Sun\"),\"\",IF(COUNTIF(Holidays!$A:$A,Z$4)>0,\"H\",IFERROR(VLOOKUP((ROW(Z48)-4)&\"_\"&Z$4,Schedule!$H:$I,2,FALSE),\"\"))))","v":""},{"$f":"IF($A48=\"\",\"\",IF(OR(AA$3=\"Sat\",AA$3=\"Sun\"),\"\",IF(COUNTIF(Holidays!$A:$A,AA$4)>0,\"H\",IFERROR(VLOOKUP((ROW(AA48)-4)&\"_\"&AA$4,Schedule!$H:$I,2,FALSE),\"\"))))","v":""},{"$f":"IF($A48=\"\",\"\",IF(OR(AB$3=\"Sat\",AB$3=\"Sun\"),\"\",IF(COUNTIF(Holidays!$A:$A,AB$4)>0,\"H\",IFERROR(VLOOKUP((ROW(AB48)-4)&\"_\"&AB$4,Schedule!$H:$I,2,FALSE),\"\"))))","v":""},{"$f":"IF($A48=\"\",\"\",IF(OR(AC$3=\"Sat\",AC$3=\"Sun\"),\"\",IF(COUNTIF(Holidays!$A:$A,AC$4)>0,\"H\",IFERROR(VLOOKUP((ROW(AC48)-4)&\"_\"&AC$4,Schedule!$H:$I,2,FALSE),\"\"))))","v":""},{"$f":"IF($A48=\"\",\"\",IF(OR(AD$3=\"Sat\",AD$3=\"Sun\"),\"\",IF(COUNTIF(Holidays!$A:$A,AD$4)>0,\"H\",IFERROR(VLOOKUP((ROW(AD48)-4)&\"_\"&AD$4,Schedule!$H:$I,2,FALSE),\"\"))))","v":""},{"$f":"IF($A48=\"\",\"\",IF(OR(AE$3=\"Sat\",AE$3=\"Sun\"),\"\",IF(COUNTIF(Holidays!$A:$A,AE$4)>0,\"H\",IFERROR(VLOOKUP((ROW(AE48)-4)&\"_\"&AE$4,Schedule!$H:$I,2,FALSE),\"\"))))","v":""},{"$f":"IF($A48=\"\",\"\",IF(OR(AF$3=\"Sat\",AF$3=\"Sun\"),\"\",IF(COUNTIF(Holidays!$A:$A,AF$4)>0,\"H\",IFERROR(VLOOKUP((ROW(AF48)-4)&\"_\"&AF$4,Schedule!$H:$I,2,FALSE),\"\"))))","v":""},{"$f":"IF($A48=\"\",\"\",IF(OR(AG$3=\"Sat\",AG$3=\"Sun\"),\"\",IF(COUNTIF(Holidays!$A:$A,AG$4)>0,\"H\",IFERROR(VLOOKUP((ROW(AG48)-4)&\"_\"&AG$4,Schedule!$H:$I,2,FALSE),\"\"))))","v":""},{"$f":"IF($A48=\"\",\"\",IF(OR(AH$3=\"Sat\",AH$3=\"Sun\"),\"\",IF(COUNTIF(Holidays!$A:$A,AH$4)>0,\"H\",IFERROR(VLOOKUP((ROW(AH48)-4)&\"_\"&AH$4,Schedule!$H:$I,2,FALSE),\"\"))))","v":""},{"$f":"IF($A48=\"\",\"\",IF(OR(AI$3=\"Sat\",AI$3=\"Sun\"),\"\",IF(COUNTIF(Holidays!$A:$A,AI$4)>0,\"H\",IFERROR(VLOOKUP((ROW(AI48)-4)&\"_\"&AI$4,Schedule!$H:$I,2,FALSE),\"\"))))","v":""},{"$f":"IF($A48=\"\",\"\",IF(OR(AJ$3=\"Sat\",AJ$3=\"Sun\"),\"\",IF(COUNTIF(Holidays!$A:$A,AJ$4)>0,\"H\",IFERROR(VLOOKUP((ROW(AJ48)-4)&\"_\"&AJ$4,Schedule!$H:$I,2,FALSE),\"\"))))","v":""},{"$f":"IF($A48=\"\",\"\",ROUND(SUMIFS(Schedule!$E:$E,Schedule!$A:$A,$A48,Schedule!$D:$D,$AK$3,Schedule!$B:$B,\">=\"&DATE($Q$2,$U$2,1),Schedule!$B:$B,\"<=\"&EOMONTH(DATE($Q$2,$U$2,1),0))/8,2))","v":""},{"$f":"IF($A48=\"\",\"\",ROUND(SUMIFS(Schedule!$E:$E,Schedule!$A:$A,$A48,Schedule!$D:$D,$AK$3,Schedule!$B:$B,\">=\"&DATE($Q$2,1,1),Schedule!$B:$B,\"<=\"&EOMONTH(DATE($Q$2,$U$2,1),0))/8,2))","v":""},{"$f":"IF($A48=\"\",\"\",ROUND(SUMIFS(Schedule!$E:$E,Schedule!$A:$A,$A48,Schedule!$D:$D,$AM$3,Schedule!$B:$B,\">=\"&DATE($Q$2,$U$2,1),Schedule!$B:$B,\"<=\"&EOMONTH(DATE($Q$2,$U$2,1),0))/8,2))","v":""},{"$f":"IF($A48=\"\",\"\",ROUND(SUMIFS(Schedule!$E:$E,Schedule!$A:$A,$A48,Schedule!$D:$D,$AM$3,Schedule!$B:$B,\">=\"&DATE($Q$2,1,1),Schedule!$B:$B,\"<=\"&EOMONTH(DATE($Q$2,$U$2,1),0))/8,2))","v":""}]
[{"$f":"IF(Lookups!A46=\"\",\"\",Lookups!A46)","v":""},{"$f":"IF($A49=\"\",\"\",IF(OR(B$3=\"Sat\",B$3=\"Sun\"),\"\",IF(COUNTIF(Holidays!$A:$A,B$4)>0,\"H\",IFERROR(VLOOKUP((ROW(B49)-4)&\"_\"&B$4,Schedule!$H:$I,2,FALSE),\"\"))))","v":""},{"$f":"IF($A49=\"\",\"\",IF(OR(C$3=\"Sat\",C$3=\"Sun\"),\"\",IF(COUNTIF(Holidays!$A:$A,C$4)>0,\"H\",IFERROR(VLOOKUP((ROW(C49)-4)&\"_\"&C$4,Schedule!$H:$I,2,FALSE),\"\"))))","v":""},{"$f":"IF($A49=\"\",\"\",IF(OR(D$3=\"Sat\",D$3=\"Sun\"),\"\",IF(COUNTIF(Holidays!$A:$A,D$4)>0,\"H\",IFERROR(VLOOKUP((ROW(D49)-4)&\"_\"&D$4,Schedule!$H:$I,2,FALSE),\"\"))))","v":""},{"$f":"IF($A49=\"\",\"\",IF(OR(E$3=\"Sat\",E$3=\"Sun\"),\"\",IF(COUNTIF(Holidays!$A:$A,E$4)>0,\"H\",IFERROR(VLOOKUP((ROW(E49)-4)&\"_\"&E$4,Schedule!$H:$I,2,FALSE),\"\"))))","v":""},{"$f":"IF($A49=\"\",\"\",IF(OR(F$3=\"Sat\",F$3=\"Sun\"),\"\",IF(COUNTIF(Holidays!$A:$A,F$4)>0,\"H\",IFERROR(VLOOKUP((ROW(F49)-4)&\"_\"&F$4,Schedule!$H:$I,2,FALSE),\"\"))))","v":""},{"$f":"IF($A49=\"\",\"\",IF(OR(G$3=\"Sat\",G$3=\"Sun\"),\"\",IF(COUNTIF(Holidays!$A:$A,G$4)>0,\"H\",IFERROR(VLOOKUP((ROW(G49)-4)&\"_\"&G$4,Schedule!$H:$I,2,FALSE),\"\"))))","v":""},{"$f":"IF($A49=\"\",\"\",IF(OR(H$3=\"Sat\",H$3=\"Sun\"),\"\",IF(COUNTIF(Holidays!$A:$A,H$4)>0,\"H\",IFERROR(VLOOKUP((ROW(H49)-4)&\"_\"&H$4,Schedule!$H:$I,2,FALSE),\"\"))))","v":""},{"$f":"IF($A49=\"\",\"\",IF(OR(I$3=\"Sat\",I$3=\"Sun\"),\"\",IF(COUNTIF(Holidays!$A:$A,I$4)>0,\"H\",IFERROR(VLOOKUP((ROW(I49)-4)&\"_\"&I$4,Schedule!$H:$I,2,FALSE),\"\"))))","v":""},{"$f":"IF($A49=\"\",\"\",IF(OR(J$3=\"Sat\",J$3=\"Sun\"),\"\",IF(COUNTIF(Holidays!$A:$A,J$4)>0,\"H\",IFERROR(VLOOKUP((ROW(J49)-4)&\"_\"&J$4,Schedule!$H:$I,2,FALSE),\"\"))))","v":""},{"$f":"IF($A49=\"\",\"\",IF(OR(K$3=\"Sat\",K$3=\"Sun\"),\"\",IF(COUNTIF(Holidays!$A:$A,K$4)>0,\"H\",IFERROR(VLOOKUP((ROW(K49)-4)&\"_\"&K$4,Schedule!$H:$I,2,FALSE),\"\"))))","v":""},{"$f":"IF($A49=\"\",\"\",IF(OR(L$3=\"Sat\",L$3=\"Sun\"),\"\",IF(COUNTIF(Holidays!$A:$A,L$4)>0,\"H\",IFERROR(VLOOKUP((ROW(L49)-4)&\"_\"&L$4,Schedule!$H:$I,2,FALSE),\"\"))))","v":""},{"$f":"IF($A49=\"\",\"\",IF(OR(M$3=\"Sat\",M$3=\"Sun\"),\"\",IF(COUNTIF(Holidays!$A:$A,M$4)>0,\"H\",IFERROR(VLOOKUP((ROW(M49)-4)&\"_\"&M$4,Schedule!$H:$I,2,FALSE),\"\"))))","v":""},{"$f":"IF($A49=\"\",\"\",IF(OR(N$3=\"Sat\",N$3=\"Sun\"),\"\",IF(COUNTIF(Holidays!$A:$A,N$4)>0,\"H\",IFERROR(VLOOKUP((ROW(N49)-4)&\"_\"&N$4,Schedule!$H:$I,2,FALSE),\"\"))))","v":""},{"$f":"IF($A49=\"\",\"\",IF(OR(O$3=\"Sat\",O$3=\"Sun\"),\"\",IF(COUNTIF(Holidays!$A:$A,O$4)>0,\"H\",IFERROR(VLOOKUP((ROW(O49)-4)&\"_\"&O$4,Schedule!$H:$I,2,FALSE),\"\"))))","v":""},{"$f":"IF($A49=\"\",\"\",IF(OR(P$3=\"Sat\",P$3=\"Sun\"),\"\",IF(COUNTIF(Holidays!$A:$A,P$4)>0,\"H\",IFERROR(VLOOKUP((ROW(P49)-4)&\"_\"&P$4,Schedule!$H:$I,2,FALSE),\"\"))))","v":""},{"$f":"IF($A49=\"\",\"\",IF(OR(Q$3=\"Sat\",Q$3=\"Sun\"),\"\",IF(COUNTIF(Holidays!$A:$A,Q$4)>0,\"H\",IFERROR(VLOOKUP((ROW(Q49)-4)&\"_\"&Q$4,Schedule!$H:$I,2,FALSE),\"\"))))","v":""},{"$f":"IF($A49=\"\",\"\",IF(OR(R$3=\"Sat\",R$3=\"Sun\"),\"\",IF(COUNTIF(Holidays!$A:$A,R$4)>0,\"H\",IFERROR(VLOOKUP((ROW(R49)-4)&\"_\"&R$4,Schedule!$H:$I,2,FALSE),\"\"))))","v":""},{"$f":"IF($A49=\"\",\"\",IF(OR(S$3=\"Sat\",S$3=\"Sun\"),\"\",IF(COUNTIF(Holidays!$A:$A,S$4)>0,\"H\",IFERROR(VLOOKUP((ROW(S49)-4)&\"_\"&S$4,Schedule!$H:$I,2,FALSE),\"\"))))","v":""},{"$f":"IF($A49=\"\",\"\",IF(OR(T$3=\"Sat\",T$3=\"Sun\"),\"\",IF(COUNTIF(Holidays!$A:$A,T$4)>0,\"H\",IFERROR(VLOOKUP((ROW(T49)-4)&\"_\"&T$4,Schedule!$H:$I,2,FALSE),\"\"))))","v":""},{"$f":"IF($A49=\"\",\"\",IF(OR(U$3=\"Sat\",U$3=\"Sun\"),\"\",IF(COUNTIF(Holidays!$A:$A,U$4)>0,\"H\",IFERROR(VLOOKUP((ROW(U49)-4)&\"_\"&U$4,Schedule!$H:$I,2,FALSE),\"\"))))","v":""},{"$f":"IF($A49=\"\",\"\",IF(OR(V$3=\"Sat\",V$3=\"Sun\"),\"\",IF(COUNTIF(Holidays!$A:$A,V$4)>0,\"H\",IFERROR(VLOOKUP((ROW(V49)-4)&\"_\"&V$4,Schedule!$H:$I,2,FALSE),\"\"))))","v":""},{"$f":"IF($A49=\"\",\"\",IF(OR(W$3=\"Sat\",W$3=\"Sun\"),\"\",IF(COUNTIF(Holidays!$A:$A,W$4)>0,\"H\",IFERROR(VLOOKUP((ROW(W49)-4)&\"_\"&W$4,Schedule!$H:$I,2,FALSE),\"\"))))","v":""},{"$f":"IF($A49=\"\",\"\",IF(OR(X$3=\"Sat\",X$3=\"Sun\"),\"\",IF(COUNTIF(Holidays!$A:$A,X$4)>0,\"H\",IFERROR(VLOOKUP((ROW(X49)-4)&\"_\"&X$4,Schedule!$H:$I,2,FALSE),\"\"))))","v":""},{"$f":"IF($A49=\"\",\"\",IF(OR(Y$3=\"Sat\",Y$3=\"Sun\"),\"\",IF(COUNTIF(Holidays!$A:$A,Y$4)>0,\"H\",IFERROR(VLOOKUP((ROW(Y49)-4)&\"_\"&Y$4,Schedule!$H:$I,2,FALSE),\"\"))))","v":""},{"$f":"IF($A49=\"\",\"\",IF(OR(Z$3=\"Sat\",Z$3=\"Sun\"),\"\",IF(COUNTIF(Holidays!$A:$A,Z$4)>0,\"H\",IFERROR(VLOOKUP((ROW(Z49)-4)&\"_\"&Z$4,Schedule!$H:$I,2,FALSE),\"\"))))","v":""},{"$f":"IF($A49=\"\",\"\",IF(OR(AA$3=\"Sat\",AA$3=\"Sun\"),\"\",IF(COUNTIF(Holidays!$A:$A,AA$4)>0,\"H\",IFERROR(VLOOKUP((ROW(AA49)-4)&\"_\"&AA$4,Schedule!$H:$I,2,FALSE),\"\"))))","v":""},{"$f":"IF($A49=\"\",\"\",IF(OR(AB$3=\"Sat\",AB$3=\"Sun\"),\"\",IF(COUNTIF(Holidays!$A:$A,AB$4)>0,\"H\",IFERROR(VLOOKUP((ROW(AB49)-4)&\"_\"&AB$4,Schedule!$H:$I,2,FALSE),\"\"))))","v":""},{"$f":"IF($A49=\"\",\"\",IF(OR(AC$3=\"Sat\",AC$3=\"Sun\"),\"\",IF(COUNTIF(Holidays!$A:$A,AC$4)>0,\"H\",IFERROR(VLOOKUP((ROW(AC49)-4)&\"_\"&AC$4,Schedule!$H:$I,2,FALSE),\"\"))))","v":""},{"$f":"IF($A49=\"\",\"\",IF(OR(AD$3=\"Sat\",AD$3=\"Sun\"),\"\",IF(COUNTIF(Holidays!$A:$A,AD$4)>0,\"H\",IFERROR(VLOOKUP((ROW(AD49)-4)&\"_\"&AD$4,Schedule!$H:$I,2,FALSE),\"\"))))","v":""},{"$f":"IF($A49=\"\",\"\",IF(OR(AE$3=\"Sat\",AE$3=\"Sun\"),\"\",IF(COUNTIF(Holidays!$A:$A,AE$4)>0,\"H\",IFERROR(VLOOKUP((ROW(AE49)-4)&\"_\"&AE$4,Schedule!$H:$I,2,FALSE),\"\"))))","v":""},{"$f":"IF($A49=\"\",\"\",IF(OR(AF$3=\"Sat\",AF$3=\"Sun\"),\"\",IF(COUNTIF(Holidays!$A:$A,AF$4)>0,\"H\",IFERROR(VLOOKUP((ROW(AF49)-4)&\"_\"&AF$4,Schedule!$H:$I,2,FALSE),\"\"))))","v":""},{"$f":"IF($A49=\"\",\"\",IF(OR(AG$3=\"Sat\",AG$3=\"Sun\"),\"\",IF(COUNTIF(Holidays!$A:$A,AG$4)>0,\"H\",IFERROR(VLOOKUP((ROW(AG49)-4)&\"_\"&AG$4,Schedule!$H:$I,2,FALSE),\"\"))))","v":""},{"$f":"IF($A49=\"\",\"\",IF(OR(AH$3=\"Sat\",AH$3=\"Sun\"),\"\",IF(COUNTIF(Holidays!$A:$A,AH$4)>0,\"H\",IFERROR(VLOOKUP((ROW(AH49)-4)&\"_\"&AH$4,Schedule!$H:$I,2,FALSE),\"\"))))","v":""},{"$f":"IF($A49=\"\",\"\",IF(OR(AI$3=\"Sat\",AI$3=\"Sun\"),\"\",IF(COUNTIF(Holidays!$A:$A,AI$4)>0,\"H\",IFERROR(VLOOKUP((ROW(AI49)-4)&\"_\"&AI$4,Schedule!$H:$I,2,FALSE),\"\"))))","v":""},{"$f":"IF($A49=\"\",\"\",IF(OR(AJ$3=\"Sat\",AJ$3=\"Sun\"),\"\",IF(COUNTIF(Holidays!$A:$A,AJ$4)>0,\"H\",IFERROR(VLOOKUP((ROW(AJ49)-4)&\"_\"&AJ$4,Schedule!$H:$I,2,FALSE),\"\"))))","v":""},{"$f":"IF($A49=\"\",\"\",ROUND(SUMIFS(Schedule!$E:$E,Schedule!$A:$A,$A49,Schedule!$D:$D,$AK$3,Schedule!$B:$B,\">=\"&DATE($Q$2,$U$2,1),Schedule!$B:$B,\"<=\"&EOMONTH(DATE($Q$2,$U$2,1),0))/8,2))","v":""},{"$f":"IF($A49=\"\",\"\",ROUND(SUMIFS(Schedule!$E:$E,Schedule!$A:$A,$A49,Schedule!$D:$D,$AK$3,Schedule!$B:$B,\">=\"&DATE($Q$2,1,1),Schedule!$B:$B,\"<=\"&EOMONTH(DATE($Q$2,$U$2,1),0))/8,2))","v":""},{"$f":"IF($A49=\"\",\"\",ROUND(SUMIFS(Schedule!$E:$E,Schedule!$A:$A,$A49,Schedule!$D:$D,$AM$3,Schedule!$B:$B,\">=\"&DATE($Q$2,$U$2,1),Schedule!$B:$B,\"<=\"&EOMONTH(DATE($Q$2,$U$2,1),0))/8,2))","v":""},{"$f":"IF($A49=\"\",\"\",ROUND(SUMIFS(Schedule!$E:$E,Schedule!$A:$A,$A49,Schedule!$D:$D,$AM$3,Schedule!$B:$B,\">=\"&DATE($Q$2,1,1),Schedule!$B:$B,\"<=\"&EOMONTH(DATE($Q$2,$U$2,1),0))/8,2))","v":""}]
[{"$f":"IF(Lookups!A47=\"\",\"\",Lookups!A47)","v":""},{"$f":"IF($A50=\"\",\"\",IF(OR(B$3=\"Sat\",B$3=\"Sun\"),\"\",IF(COUNTIF(Holidays!$A:$A,B$4)>0,\"H\",IFERROR(VLOOKUP((ROW(B50)-4)&\"_\"&B$4,Schedule!$H:$I,2,FALSE),\"\"))))","v":""},{"$f":"IF($A50=\"\",\"\",IF(OR(C$3=\"Sat\",C$3=\"Sun\"),\"\",IF(COUNTIF(Holidays!$A:$A,C$4)>0,\"H\",IFERROR(VLOOKUP((ROW(C50)-4)&\"_\"&C$4,Schedule!$H:$I,2,FALSE),\"\"))))","v":""},{"$f":"IF($A50=\"\",\"\",IF(OR(D$3=\"Sat\",D$3=\"Sun\"),\"\",IF(COUNTIF(Holidays!$A:$A,D$4)>0,\"H\",IFERROR(VLOOKUP((ROW(D50)-4)&\"_\"&D$4,Schedule!$H:$I,2,FALSE),\"\"))))","v":""},{"$f":"IF($A50=\"\",\"\",IF(OR(E$3=\"Sat\",E$3=\"Sun\"),\"\",IF(COUNTIF(Holidays!$A:$A,E$4)>0,\"H\",IFERROR(VLOOKUP((ROW(E50)-4)&\"_\"&E$4,Schedule!$H:$I,2,FALSE),\"\"))))","v":""},{"$f":"IF($A50=\"\",\"\",IF(OR(F$3=\"Sat\",F$3=\"Sun\"),\"\",IF(COUNTIF(Holidays!$A:$A,F$4)>0,\"H\",IFERROR(VLOOKUP((ROW(F50)-4)&\"_\"&F$4,Schedule!$H:$I,2,FALSE),\"\"))))","v":""},{"$f":"IF($A50=\"\",\"\",IF(OR(G$3=\"Sat\",G$3=\"Sun\"),\"\",IF(COUNTIF(Holidays!$A:$A,G$4)>0,\"H\",IFERROR(VLOOKUP((ROW(G50)-4)&\"_\"&G$4,Schedule!$H:$I,2,FALSE),\"\"))))","v":""},{"$f":"IF($A50=\"\",\"\",IF(OR(H$3=\"Sat\",H$3=\"Sun\"),\"\",IF(COUNTIF(Holidays!$A:$A,H$4)>0,\"H\",IFERROR(VLOOKUP((ROW(H50)-4)&\"_\"&H$4,Schedule!$H:$I,2,FALSE),\"\"))))","v":""},{"$f":"IF($A50=\"\",\"\",IF(OR(I$3=\"Sat\",I$3=\"Sun\"),\"\",IF(COUNTIF(Holidays!$A:$A,I$4)>0,\"H\",IFERROR(VLOOKUP((ROW(I50)-4)&\"_\"&I$4,Schedule!$H:$I,2,FALSE),\"\"))))","v":""},{"$f":"IF($A50=\"\",\"\",IF(OR(J$3=\"Sat\",J$3=\"Sun\"),\"\",IF(COUNTIF(Holidays!$A:$A,J$4)>0,\"H\",IFERROR(VLOOKUP((ROW(J50)-4)&\"_\"&J$4,Schedule!$H:$I,2,FALSE),\"\"))))","v":""},{"$f":"IF($A50=\"\",\"\",IF(OR(K$3=\"Sat\",K$3=\"Sun\"),\"\",IF(COUNTIF(Holidays!$A:$A,K$4)>0,\"H\",IFERROR(VLOOKUP((ROW(K50)-4)&\"_\"&K$4,Schedule!$H:$I,2,FALSE),\"\"))))","v":""},{"$f":"IF($A50=\"\",\"\",IF(OR(L$3=\"Sat\",L$3=\"Sun\"),\"\",IF(COUNTIF(Holidays!$A:$A,L$4)>0,\"H\",IFERROR(VLOOKUP((ROW(L50)-4)&\"_\"&L$4,Schedule!$H:$I,2,FALSE),\"\"))))","v":""},{"$f":"IF($A50=\"\",\"\",IF(OR(M$3=\"Sat\",M$3=\"Sun\"),\"\",IF(COUNTIF(Holidays!$A:$A,M$4)>0,\"H\",IFERROR(VLOOKUP((ROW(M50)-4)&\"_\"&M$4,Schedule!$H:$I,2,FALSE),\"\"))))","v":""},{"$f":"IF($A50=\"\",\"\",IF(OR(N$3=\"Sat\",N$3=\"Sun\"),\"\",IF(COUNTIF(Holidays!$A:$A,N$4)>0,\"H\",IFERROR(VLOOKUP((ROW(N50)-4)&\"_\"&N$4,Schedule!$H:$I,2,FALSE),\"\"))))","v":""},{"$f":"IF($A50=\"\",\"\",IF(OR(O$3=\"Sat\",O$3=\"Sun\"),\"\",IF(COUNTIF(Holidays!$A:$A,O$4)>0,\"H\",IFERROR(VLOOKUP((ROW(O50)-4)&\"_\"&O$4,Schedule!$H:$I,2,FALSE),\"\"))))","v":""},{"$f":"IF($A50=\"\",\"\",IF(OR(P$3=\"Sat\",P$3=\"Sun\"),\"\",IF(COUNTIF(Holidays!$A:$A,P$4)>0,\"H\",IFERROR(VLOOKUP((ROW(P50)-4)&\"_\"&P$4,Schedule!$H:$I,2,FALSE),\"\"))))","v":""},{"$f":"IF($A50=\"\",\"\",IF(OR(Q$3=\"Sat\",Q$3=\"Sun\"),\"\",IF(COUNTIF(Holidays!$A:$A,Q$4)>0,\"H\",IFERROR(VLOOKUP((ROW(Q50)-4)&\"_\"&Q$4,Schedule!$H:$I,2,FALSE),\"\"))))","v":""},{"$f":"IF($A50=\"\",\"\",IF(OR(R$3=\"Sat\",R$3=\"Sun\"),\"\",IF(COUNTIF(Holidays!$A:$A,R$4)>0,\"H\",IFERROR(VLOOKUP((ROW(R50)-4)&\"_\"&R$4,Schedule!$H:$I,2,FALSE),\"\"))))","v":""},{"$f":"IF($A50=\"\",\"\",IF(OR(S$3=\"Sat\",S$3=\"Sun\"),\"\",IF(COUNTIF(Holidays!$A:$A,S$4)>0,\"H\",IFERROR(VLOOKUP((ROW(S50)-4)&\"_\"&S$4,Schedule!$H:$I,2,FALSE),\"\"))))","v":""},{"$f":"IF($A50=\"\",\"\",IF(OR(T$3=\"Sat\",T$3=\"Sun\"),\"\",IF(COUNTIF(Holidays!$A:$A,T$4)>0,\"H\",IFERROR(VLOOKUP((ROW(T50)-4)&\"_\"&T$4,Schedule!$H:$I,2,FALSE),\"\"))))","v":""},{"$f":"IF($A50=\"\",\"\",IF(OR(U$3=\"Sat\",U$3=\"Sun\"),\"\",IF(COUNTIF(Holidays!$A:$A,U$4)>0,\"H\",IFERROR(VLOOKUP((ROW(U50)-4)&\"_\"&U$4,Schedule!$H:$I,2,FALSE),\"\"))))","v":""},{"$f":"IF($A50=\"\",\"\",IF(OR(V$3=\"Sat\",V$3=\"Sun\"),\"\",IF(COUNTIF(Holidays!$A:$A,V$4)>0,\"H\",IFERROR(VLOOKUP((ROW(V50)-4)&\"_\"&V$4,Schedule!$H:$I,2,FALSE),\"\"))))","v":""},{"$f":"IF($A50=\"\",\"\",IF(OR(W$3=\"Sat\",W$3=\"Sun\"),\"\",IF(COUNTIF(Holidays!$A:$A,W$4)>0,\"H\",IFERROR(VLOOKUP((ROW(W50)-4)&\"_\"&W$4,Schedule!$H:$I,2,FALSE),\"\"))))","v":""},{"$f":"IF($A50=\"\",\"\",IF(OR(X$3=\"Sat\",X$3=\"Sun\"),\"\",IF(COUNTIF(Holidays!$A:$A,X$4)>0,\"H\",IFERROR(VLOOKUP((ROW(X50)-4)&\"_\"&X$4,Schedule!$H:$I,2,FALSE),\"\"))))","v":""},{"$f":"IF($A50=\"\",\"\",IF(OR(Y$3=\"Sat\",Y$3=\"Sun\"),\"\",IF(COUNTIF(Holidays!$A:$A,Y$4)>0,\"H\",IFERROR(VLOOKUP((ROW(Y50)-4)&\"_\"&Y$4,Schedule!$H:$I,2,FALSE),\"\"))))","v":""},{"$f":"IF($A50=\"\",\"\",IF(OR(Z$3=\"Sat\",Z$3=\"Sun\"),\"\",IF(COUNTIF(Holidays!$A:$A,Z$4)>0,\"H\",IFERROR(VLOOKUP((ROW(Z50)-4)&\"_\"&Z$4,Schedule!$H:$I,2,FALSE),\"\"))))","v":""},{"$f":"IF($A50=\"\",\"\",IF(OR(AA$3=\"Sat\",AA$3=\"Sun\"),\"\",IF(COUNTIF(Holidays!$A:$A,AA$4)>0,\"H\",IFERROR(VLOOKUP((ROW(AA50)-4)&\"_\"&AA$4,Schedule!$H:$I,2,FALSE),\"\"))))","v":""},{"$f":"IF($A50=\"\",\"\",IF(OR(AB$3=\"Sat\",AB$3=\"Sun\"),\"\",IF(COUNTIF(Holidays!$A:$A,AB$4)>0,\"H\",IFERROR(VLOOKUP((ROW(AB50)-4)&\"_\"&AB$4,Schedule!$H:$I,2,FALSE),\"\"))))","v":""},{"$f":"IF($A50=\"\",\"\",IF(OR(AC$3=\"Sat\",AC$3=\"Sun\"),\"\",IF(COUNTIF(Holidays!$A:$A,AC$4)>0,\"H\",IFERROR(VLOOKUP((ROW(AC50)-4)&\"_\"&AC$4,Schedule!$H:$I,2,FALSE),\"\"))))","v":""},{"$f":"IF($A50=\"\",\"\",IF(OR(AD$3=\"Sat\",AD$3=\"Sun\"),\"\",IF(COUNTIF(Holidays!$A:$A,AD$4)>0,\"H\",IFERROR(VLOOKUP((ROW(AD50)-4)&\"_\"&AD$4,Schedule!$H:$I,2,FALSE),\"\"))))","v":""},{"$f":"IF($A50=\"\",\"\",IF(OR(AE$3=\"Sat\",AE$3=\"Sun\"),\"\",IF(COUNTIF(Holidays!$A:$A,AE$4)>0,\"H\",IFERROR(VLOOKUP((ROW(AE50)-4)&\"_\"&AE$4,Schedule!$H:$I,2,FALSE),\"\"))))","v":""},{"$f":"IF($A50=\"\",\"\",IF(OR(AF$3=\"Sat\",AF$3=\"Sun\"),\"\",IF(COUNTIF(Holidays!$A:$A,AF$4)>0,\"H\",IFERROR(VLOOKUP((ROW(AF50)-4)&\"_\"&AF$4,Schedule!$H:$I,2,FALSE),\"\"))))","v":""},{"$f":"IF($A50=\"\",\"\",IF(OR(AG$3=\"Sat\",AG$3=\"Sun\"),\"\",IF(COUNTIF(Holidays!$A:$A,AG$4)>0,\"H\",IFERROR(VLOOKUP((ROW(AG50)-4)&\"_\"&AG$4,Schedule!$H:$I,2,FALSE),\"\"))))","v":""},{"$f":"IF($A50=\"\",\"\",IF(OR(AH$3=\"Sat\",AH$3=\"Sun\"),\"\",IF(COUNTIF(Holidays!$A:$A,AH$4)>0,\"H\",IFERROR(VLOOKUP((ROW(AH50)-4)&\"_\"&AH$4,Schedule!$H:$I,2,FALSE),\"\"))))","v":""},{"$f":"IF($A50=\"\",\"\",IF(OR(AI$3=\"Sat\",AI$3=\"Sun\"),\"\",IF(COUNTIF(Holidays!$A:$A,AI$4)>0,\"H\",IFERROR(VLOOKUP((ROW(AI50)-4)&\"_\"&AI$4,Schedule!$H:$I,2,FALSE),\"\"))))","v":""},{"$f":"IF($A50=\"\",\"\",IF(OR(AJ$3=\"Sat\",AJ$3=\"Sun\"),\"\",IF(COUNTIF(Holidays!$A:$A,AJ$4)>0,\"H\",IFERROR(VLOOKUP((ROW(AJ50)-4)&\"_\"&AJ$4,Schedule!$H:$I,2,FALSE),\"\"))))","v":""},{"$f":"IF($A50=\"\",\"\",ROUND(SUMIFS(Schedule!$E:$E,Schedule!$A:$A,$A50,Schedule!$D:$D,$AK$3,Schedule!$B:$B,\">=\"&DATE($Q$2,$U$2,1),Schedule!$B:$B,\"<=\"&EOMONTH(DATE($Q$2,$U$2,1),0))/8,2))","v":""},{"$f":"IF($A50=\"\",\"\",ROUND(SUMIFS(Schedule!$E:$E,Schedule!$A:$A,$A50,Schedule!$D:$D,$AK$3,Schedule!$B:$B,\">=\"&DATE($Q$2,1,1),Schedule!$B:$B,\"<=\"&EOMONTH(DATE($Q$2,$U$2,1),0))/8,2))","v":""},{"$f":"IF($A50=\"\",\"\",ROUND(SUMIFS(Schedule!$E:$E,Schedule!$A:$A,$A50,Schedule!$D:$D,$AM$3,Schedule!$B:$B,\">=\"&DATE($Q$2,$U$2,1),Schedule!$B:$B,\"<=\"&EOMONTH(DATE($Q$2,$U$2,1),0))/8,2))","v":""},{"$f":"IF($A50=\"\",\"\",ROUND(SUMIFS(Schedule!$E:$E,Schedule!$A:$A,$A50,Schedule!$D:$D,$AM$3,Schedule!$B:$B,\">=\"&DATE($Q$2,1,1),Schedule!$B:$B,\"<=\"&EOMONTH(DATE($Q$2,$U$2,1),0))/8,2))","v":""}]
[{"$f":"IF(Lookups!A48=\"\",\"\",Lookups!A48)","v":""},{"$f":"IF($A51=\"\",\"\",IF(OR(B$3=\"Sat\",B$3=\"Sun\"),\"\",IF(COUNTIF(Holidays!$A:$A,B$4)>0,\"H\",IFERROR(VLOOKUP((ROW(B51)-4)&\"_\"&B$4,Schedule!$H:$I,2,FALSE),\"\"))))","v":""},{"$f":"IF($A51=\"\",\"\",IF(OR(C$3=\"Sat\",C$3=\"Sun\"),\"\",IF(COUNTIF(Holidays!$A:$A,C$4)>0,\"H\",IFERROR(VLOOKUP((ROW(C51)-4)&\"_\"&C$4,Schedule!$H:$I,2,FALSE),\"\"))))","v":""},{"$f":"IF($A51=\"\",\"\",IF(OR(D$3=\"Sat\",D$3=\"Sun\"),\"\",IF(COUNTIF(Holidays!$A:$A,D$4)>0,\"H\",IFERROR(VLOOKUP((ROW(D51)-4)&\"_\"&D$4,Schedule!$H:$I,2,FALSE),\"\"))))","v":""},{"$f":"IF($A51=\"\",\"\",IF(OR(E$3=\"Sat\",E$3=\"Sun\"),\"\",IF(COUNTIF(Holidays!$A:$A,E$4)>0,\"H\",IFERROR(VLOOKUP((ROW(E51)-4)&\"_\"&E$4,Schedule!$H:$I,2,FALSE),\"\"))))","v":""},{"$f":"IF($A51=\"\",\"\",IF(OR(F$3=\"Sat\",F$3=\"Sun\"),\"\",IF(COUNTIF(Holidays!$A:$A,F$4)>0,\"H\",IFERROR(VLOOKUP((ROW(F51)-4)&\"_\"&F$4,Schedule!$H:$I,2,FALSE),\"\"))))","v":""},{"$f":"IF($A51=\"\",\"\",IF(OR(G$3=\"Sat\",G$3=\"Sun\"),\"\",IF(COUNTIF(Holidays!$A:$A,G$4)>0,\"H\",IFERROR(VLOOKUP((ROW(G51)-4)&\"_\"&G$4,Schedule!$H:$I,2,FALSE),\"\"))))","v":""},{"$f":"IF($A51=\"\",\"\",IF(OR(H$3=\"Sat\",H$3=\"Sun\"),\"\",IF(COUNTIF(Holidays!$A:$A,H$4)>0,\"H\",IFERROR(VLOOKUP((ROW(H51)-4)&\"_\"&H$4,Schedule!$H:$I,2,FALSE),\"\"))))","v":""},{"$f":"IF($A51=\"\",\"\",IF(OR(I$3=\"Sat\",I$3=\"Sun\"),\"\",IF(COUNTIF(Holidays!$A:$A,I$4)>0,\"H\",IFERROR(VLOOKUP((ROW(I51)-4)&\"_\"&I$4,Schedule!$H:$I,2,FALSE),\"\"))))","v":""},{"$f":"IF($A51=\"\",\"\",IF(OR(J$3=\"Sat\",J$3=\"Sun\"),\"\",IF(COUNTIF(Holidays!$A:$A,J$4)>0,\"H\",IFERROR(VLOOKUP((ROW(J51)-4)&\"_\"&J$4,Schedule!$H:$I,2,FALSE),\"\"))))","v":""},{"$f":"IF($A51=\"\",\"\",IF(OR(K$3=\"Sat\",K$3=\"Sun\"),\"\",IF(COUNTIF(Holidays!$A:$A,K$4)>0,\"H\",IFERROR(VLOOKUP((ROW(K51)-4)&\"_\"&K$4,Schedule!$H:$I,2,FALSE),\"\"))))","v":""},{"$f":"IF($A51=\"\",\"\",IF(OR(L$3=\"Sat\",L$3=\"Sun\"),\"\",IF(COUNTIF(Holidays!$A:$A,L$4)>0,\"H\",IFERROR(VLOOKUP((ROW(L51)-4)&\"_\"&L$4,Schedule!$H:$I,2,FALSE),\"\"))))","v":""},{"$f":"IF($A51=\"\",\"\",IF(OR(M$3=\"Sat\",M$3=\"Sun\"),\"\",IF(COUNTIF(Holidays!$A:$A,M$4)>0,\"H\",IFERROR(VLOOKUP((ROW(M51)-4)&\"_\"&M$4,Schedule!$H:$I,2,FALSE),\"\"))))","v":""},{"$f":"IF($A51=\"\",\"\",IF(OR(N$3=\"Sat\",N$3=\"Sun\"),\"\",IF(COUNTIF(Holidays!$A:$A,N$4)>0,\"H\",IFERROR(VLOOKUP((ROW(N51)-4)&\"_\"&N$4,Schedule!$H:$I,2,FALSE),\"\"))))","v":""},{"$f":"IF($A51=\"\",\"\",IF(OR(O$3=\"Sat\",O$3=\"Sun\"),\"\",IF(COUNTIF(Holidays!$A:$A,O$4)>0,\"H\",IFERROR(VLOOKUP((ROW(O51)-4)&\"_\"&O$4,Schedule!$H:$I,2,FALSE),\"\"))))","v":""},{"$f":"IF($A51=\"\",\"\",IF(OR(P$3=\"Sat\",P$3=\"Sun\"),\"\",IF(COUNTIF(Holidays!$A:$A,P$4)>0,\"H\",IFERROR(VLOOKUP((ROW(P51)-4)&\"_\"&P$4,Schedule!$H:$I,2,FALSE),\"\"))))","v":""},{"$f":"IF($A51=\"\",\"\",IF(OR(Q$3=\"Sat\",Q$3=\"Sun\"),\"\",IF(COUNTIF(Holidays!$A:$A,Q$4)>0,\"H\",IFERROR(VLOOKUP((ROW(Q51)-4)&\"_\"&Q$4,Schedule!$H:$I,2,FALSE),\"\"))))","v":""},{"$f":"IF($A51=\"\",\"\",IF(OR(R$3=\"Sat\",R$3=\"Sun\"),\"\",IF(COUNTIF(Holidays!$A:$A,R$4)>0,\"H\",IFERROR(VLOOKUP((ROW(R51)-4)&\"_\"&R$4,Schedule!$H:$I,2,FALSE),\"\"))))","v":""},{"$f":"IF($A51=\"\",\"\",IF(OR(S$3=\"Sat\",S$3=\"Sun\"),\"\",IF(COUNTIF(Holidays!$A:$A,S$4)>0,\"H\",IFERROR(VLOOKUP((ROW(S51)-4)&\"_\"&S$4,Schedule!$H:$I,2,FALSE),\"\"))))","v":""},{"$f":"IF($A51=\"\",\"\",IF(OR(T$3=\"Sat\",T$3=\"Sun\"),\"\",IF(COUNTIF(Holidays!$A:$A,T$4)>0,\"H\",IFERROR(VLOOKUP((ROW(T51)-4)&\"_\"&T$4,Schedule!$H:$I,2,FALSE),\"\"))))","v":""},{"$f":"IF($A51=\"\",\"\",IF(OR(U$3=\"Sat\",U$3=\"Sun\"),\"\",IF(COUNTIF(Holidays!$A:$A,U$4)>0,\"H\",IFERROR(VLOOKUP((ROW(U51)-4)&\"_\"&U$4,Schedule!$H:$I,2,FALSE),\"\"))))","v":""},{"$f":"IF($A51=\"\",\"\",IF(OR(V$3=\"Sat\",V$3=\"Sun\"),\"\",IF(COUNTIF(Holidays!$A:$A,V$4)>0,\"H\",IFERROR(VLOOKUP((ROW(V51)-4)&\"_\"&V$4,Schedule!$H:$I,2,FALSE),\"\"))))","v":""},{"$f":"IF($A51=\"\",\"\",IF(OR(W$3=\"Sat\",W$3=\"Sun\"),\"\",IF(COUNTIF(Holidays!$A:$A,W$4)>0,\"H\",IFERROR(VLOOKUP((ROW(W51)-4)&\"_\"&W$4,Schedule!$H:$I,2,FALSE),\"\"))))","v":""},{"$f":"IF($A51=\"\",\"\",IF(OR(X$3=\"Sat\",X$3=\"Sun\"),\"\",IF(COUNTIF(Holidays!$A:$A,X$4)>0,\"H\",IFERROR(VLOOKUP((ROW(X51)-4)&\"_\"&X$4,Schedule!$H:$I,2,FALSE),\"\"))))","v":""},{"$f":"IF($A51=\"\",\"\",IF(OR(Y$3=\"Sat\",Y$3=\"Sun\"),\"\",IF(COUNTIF(Holidays!$A:$A,Y$4)>0,\"H\",IFERROR(VLOOKUP((ROW(Y51)-4)&\"_\"&Y$4,Schedule!$H:$I,2,FALSE),\"\"))))","v":""},{"$f":"IF($A51=\"\",\"\",IF(OR(Z$3=\"Sat\",Z$3=\"Sun\"),\"\",IF(COUNTIF(Holidays!$A:$A,Z$4)>0,\"H\",IFERROR(VLOOKUP((ROW(Z51)-4)&\"_\"&Z$4,Schedule!$H:$I,2,FALSE),\"\"))))","v":""},{"$f":"IF($A51=\"\",\"\",IF(OR(AA$3=\"Sat\",AA$3=\"Sun\"),\"\",IF(COUNTIF(Holidays!$A:$A,AA$4)>0,\"H\",IFERROR(VLOOKUP((ROW(AA51)-4)&\"_\"&AA$4,Schedule!$H:$I,2,FALSE),\"\"))))","v":""},{"$f":"IF($A51=\"\",\"\",IF(OR(AB$3=\"Sat\",AB$3=\"Sun\"),\"\",IF(COUNTIF(Holidays!$A:$A,AB$4)>0,\"H\",IFERROR(VLOOKUP((ROW(AB51)-4)&\"_\"&AB$4,Schedule!$H:$I,2,FALSE),\"\"))))","v":""},{"$f":"IF($A51=\"\",\"\",IF(OR(AC$3=\"Sat\",AC$3=\"Sun\"),\"\",IF(COUNTIF(Holidays!$A:$A,AC$4)>0,\"H\",IFERROR(VLOOKUP((ROW(AC51)-4)&\"_\"&AC$4,Schedule!$H:$I,2,FALSE),\"\"))))","v":""},{"$f":"IF($A51=\"\",\"\",IF(OR(AD$3=\"Sat\",AD$3=\"Sun\"),\"\",IF(COUNTIF(Holidays!$A:$A,AD$4)>0,\"H\",IFERROR(VLOOKUP((ROW(AD51)-4)&\"_\"&AD$4,Schedule!$H:$I,2,FALSE),\"\"))))","v":""},{"$f":"IF($A51=\"\",\"\",IF(OR(AE$3=\"Sat\",AE$3=\"Sun\"),\"\",IF(COUNTIF(Holidays!$A:$A,AE$4)>0,\"H\",IFERROR(VLOOKUP((ROW(AE51)-4)&\"_\"&AE$4,Schedule!$H:$I,2,FALSE),\"\"))))","v":""},{"$f":"IF($A51=\"\",\"\",IF(OR(AF$3=\"Sat\",AF$3=\"Sun\"),\"\",IF(COUNTIF(Holidays!$A:$A,AF$4)>0,\"H\",IFERROR(VLOOKUP((ROW(AF51)-4)&\"_\"&AF$4,Schedule!$H:$I,2,FALSE),\"\"))))","v":""},{"$f":"IF($A51=\"\",\"\",IF(OR(AG$3=\"Sat\",AG$3=\"Sun\"),\"\",IF(COUNTIF(Holidays!$A:$A,AG$4)>0,\"H\",IFERROR(VLOOKUP((ROW(AG51)-4)&\"_\"&AG$4,Schedule!$H:$I,2,FALSE),\"\"))))","v":""},{"$f":"IF($A51=\"\",\"\",IF(OR(AH$3=\"Sat\",AH$3=\"Sun\"),\"\",IF(COUNTIF(Holidays!$A:$A,AH$4)>0,\"H\",IFERROR(VLOOKUP((ROW(AH51)-4)&\"_\"&AH$4,Schedule!$H:$I,2,FALSE),\"\"))))","v":""},{"$f":"IF($A51=\"\",\"\",IF(OR(AI$3=\"Sat\",AI$3=\"Sun\"),\"\",IF(COUNTIF(Holidays!$A:$A,AI$4)>0,\"H\",IFERROR(VLOOKUP((ROW(AI51)-4)&\"_\"&AI$4,Schedule!$H:$I,2,FALSE),\"\"))))","v":""},{"$f":"IF($A51=\"\",\"\",IF(OR(AJ$3=\"Sat\",AJ$3=\"Sun\"),\"\",IF(COUNTIF(Holidays!$A:$A,AJ$4)>0,\"H\",IFERROR(VLOOKUP((ROW(AJ51)-4)&\"_\"&AJ$4,Schedule!$H:$I,2,FALSE),\"\"))))","v":""},{"$f":"IF($A51=\"\",\"\",ROUND(SUMIFS(Schedule!$E:$E,Schedule!$A:$A,$A51,Schedule!$D:$D,$AK$3,Schedule!$B:$B,\">=\"&DATE($Q$2,$U$2,1),Schedule!$B:$B,\"<=\"&EOMONTH(DATE($Q$2,$U$2,1),0))/8,2))","v":""},{"$f":"IF($A51=\"\",\"\",ROUND(SUMIFS(Schedule!$E:$E,Schedule!$A:$A,$A51,Schedule!$D:$D,$AK$3,Schedule!$B:$B,\">=\"&DATE($Q$2,1,1),Schedule!$B:$B,\"<=\"&EOMONTH(DATE($Q$2,$U$2,1),0))/8,2))","v":""},{"$f":"IF($A51=\"\",\"\",ROUND(SUMIFS(Schedule!$E:$E,Schedule!$A:$A,$A51,Schedule!$D:$D,$AM$3,Schedule!$B:$B,\">=\"&DATE($Q$2,$U$2,1),Schedule!$B:$B,\"<=\"&EOMONTH(DATE($Q$2,$U$2,1),0))/8,2))","v":""},{"$f":"IF($A51=\"\",\"\",ROUND(SUMIFS(Schedule!$E:$E,Schedule!$A:$A,$A51,Schedule!$D:$D,$AM$3,Schedule!$B:$B,\">=\"&DATE($Q$2,1,1),Schedule!$B:$B,\"<=\"&EOMONTH(DATE($Q$2,$U$2,1),0))/8,2))","v":""}]
[{"$f":"IF(Lookups!A49=\"\",\"\",Lookups!A49)","v":""},{"$f":"IF($A52=\"\",\"\",IF(OR(B$3=\"Sat\",B$3=\"Sun\"),\"\",IF(COUNTIF(Holidays!$A:$A,B$4)>0,\"H\",IFERROR(VLOOKUP((ROW(B52)-4)&\"_\"&B$4,Schedule!$H:$I,2,FALSE),\"\"))))","v":""},{"$f":"IF($A52=\"\",\"\",IF(OR(C$3=\"Sat\",C$3=\"Sun\"),\"\",IF(COUNTIF(Holidays!$A:$A,C$4)>0,\"H\",IFERROR(VLOOKUP((ROW(C52)-4)&\"_\"&C$4,Schedule!$H:$I,2,FALSE),\"\"))))","v":""},{"$f":"IF($A52=\"\",\"\",IF(OR(D$3=\"Sat\",D$3=\"Sun\"),\"\",IF(COUNTIF(Holidays!$A:$A,D$4)>0,\"H\",IFERROR(VLOOKUP((ROW(D52)-4)&\"_\"&D$4,Schedule!$H:$I,2,FALSE),\"\"))))","v":""},{"$f":"IF($A52=\"\",\"\",IF(OR(E$3=\"Sat\",E$3=\"Sun\"),\"\",IF(COUNTIF(Holidays!$A:$A,E$4)>0,\"H\",IFERROR(VLOOKUP((ROW(E52)-4)&\"_\"&E$4,Schedule!$H:$I,2,FALSE),\"\"))))","v":""},{"$f":"IF($A52=\"\",\"\",IF(OR(F$3=\"Sat\",F$3=\"Sun\"),\"\",IF(COUNTIF(Holidays!$A:$A,F$4)>0,\"H\",IFERROR(VLOOKUP((ROW(F52)-4)&\"_\"&F$4,Schedule!$H:$I,2,FALSE),\"\"))))","v":""},{"$f":"IF($A52=\"\",\"\",IF(OR(G$3=\"Sat\",G$3=\"Sun\"),\"\",IF(COUNTIF(Holidays!$A:$A,G$4)>0,\"H\",IFERROR(VLOOKUP((ROW(G52)-4)&\"_\"&G$4,Schedule!$H:$I,2,FALSE),\"\"))))","v":""},{"$f":"IF($A52=\"\",\"\",IF(OR(H$3=\"Sat\",H$3=\"Sun\"),\"\",IF(COUNTIF(Holidays!$A:$A,H$4)>0,\"H\",IFERROR(VLOOKUP((ROW(H52)-4)&\"_\"&H$4,Schedule!$H:$I,2,FALSE),\"\"))))","v":""},{"$f":"IF($A52=\"\",\"\",IF(OR(I$3=\"Sat\",I$3=\"Sun\"),\"\",IF(COUNTIF(Holidays!$A:$A,I$4)>0,\"H\",IFERROR(VLOOKUP((ROW(I52)-4)&\"_\"&I$4,Schedule!$H:$I,2,FALSE),\"\"))))","v":""},{"$f":"IF($A52=\"\",\"\",IF(OR(J$3=\"Sat\",J$3=\"Sun\"),\"\",IF(COUNTIF(Holidays!$A:$A,J$4)>0,\"H\",IFERROR(VLOOKUP((ROW(J52)-4)&\"_\"&J$4,Schedule!$H:$I,2,FALSE),\"\"))))","v":""},{"$f":"IF($A52=\"\",\"\",IF(OR(K$3=\"Sat\",K$3=\"Sun\"),\"\",IF(COUNTIF(Holidays!$A:$A,K$4)>0,\"H\",IFERROR(VLOOKUP((ROW(K52)-4)&\"_\"&K$4,Schedule!$H:$I,2,FALSE),\"\"))))","v":""},{"$f":"IF($A52=\"\",\"\",IF(OR(L$3=\"Sat\",L$3=\"Sun\"),\"\",IF(COUNTIF(Holidays!$A:$A,L$4)>0,\"H\",IFERROR(VLOOKUP((ROW(L52)-4)&\"_\"&L$4,Schedule!$H:$I,2,FALSE),\"\"))))","v":""},{"$f":"IF($A52=\"\",\"\",IF(OR(M$3=\"Sat\",M$3=\"Sun\"),\"\",IF(COUNTIF(Holidays!$A:$A,M$4)>0,\"H\",IFERROR(VLOOKUP((ROW(M52)-4)&\"_\"&M$4,Schedule!$H:$I,2,FALSE),\"\"))))","v":""},{"$f":"IF($A52=\"\",\"\",IF(OR(N$3=\"Sat\",N$3=\"Sun\"),\"\",IF(COUNTIF(Holidays!$A:$A,N$4)>0,\"H\",IFERROR(VLOOKUP((ROW(N52)-4)&\"_\"&N$4,Schedule!$H:$I,2,FALSE),\"\"))))","v":""},{"$f":"IF($A52=\"\",\"\",IF(OR(O$3=\"Sat\",O$3=\"Sun\"),\"\",IF(COUNTIF(Holidays!$A:$A,O$4)>0,\"H\",IFERROR(VLOOKUP((ROW(O52)-4)&\"_\"&O$4,Schedule!$H:$I,2,FALSE),\"\"))))","v":""},{"$f":"IF($A52=\"\",\"\",IF(OR(P$3=\"Sat\",P$3=\"Sun\"),\"\",IF(COUNTIF(Holidays!$A:$A,P$4)>0,\"H\",IFERROR(VLOOKUP((ROW(P52)-4)&\"_\"&P$4,Schedule!$H:$I,2,FALSE),\"\"))))","v":""},{"$f":"IF($A52=\"\",\"\",IF(OR(Q$3=\"Sat\",Q$3=\"Sun\"),\"\",IF(COUNTIF(Holidays!$A:$A,Q$4)>0,\"H\",IFERROR(VLOOKUP((ROW(Q52)-4)&\"_\"&Q$4,Schedule!$H:$I,2,FALSE),\"\"))))","v":""},{"$f":"IF($A52=\"\",\"\",IF(OR(R$3=\"Sat\",R$3=\"Sun\"),\"\",IF(COUNTIF(Holidays!$A:$A,R$4)>0,\"H\",IFERROR(VLOOKUP((ROW(R52)-4)&\"_\"&R$4,Schedule!$H:$I,2,FALSE),\"\"))))","v":""},{"$f":"IF($A52=\"\",\"\",IF(OR(S$3=\"Sat\",S$3=\"Sun\"),\"\",IF(COUNTIF(Holidays!$A:$A,S$4)>0,\"H\",IFERROR(VLOOKUP((ROW(S52)-4)&\"_\"&S$4,Schedule!$H:$I,2,FALSE),\"\"))))","v":""},{"$f":"IF($A52=\"\",\"\",IF(OR(T$3=\"Sat\",T$3=\"Sun\"),\"\",IF(COUNTIF(Holidays!$A:$A,T$4)>0,\"H\",IFERROR(VLOOKUP((ROW(T52)-4)&\"_\"&T$4,Schedule!$H:$I,2,FALSE),\"\"))))","v":""},{"$f":"IF($A52=\"\",\"\",IF(OR(U$3=\"Sat\",U$3=\"Sun\"),\"\",IF(COUNTIF(Holidays!$A:$A,U$4)>0,\"H\",IFERROR(VLOOKUP((ROW(U52)-4)&\"_\"&U$4,Schedule!$H:$I,2,FALSE),\"\"))))","v":""},{"$f":"IF($A52=\"\",\"\",IF(OR(V$3=\"Sat\",V$3=\"Sun\"),\"\",IF(COUNTIF(Holidays!$A:$A,V$4)>0,\"H\",IFERROR(VLOOKUP((ROW(V52)-4)&\"_\"&V$4,Schedule!$H:$I,2,FALSE),\"\"))))","v":""},{"$f":"IF($A52=\"\",\"\",IF(OR(W$3=\"Sat\",W$3=\"Sun\"),\"\",IF(COUNTIF(Holidays!$A:$A,W$4)>0,\"H\",IFERROR(VLOOKUP((ROW(W52)-4)&\"_\"&W$4,Schedule!$H:$I,2,FALSE),\"\"))))","v":""},{"$f":"IF($A52=\"\",\"\",IF(OR(X$3=\"Sat\",X$3=\"Sun\"),\"\",IF(COUNTIF(Holidays!$A:$A,X$4)>0,\"H\",IFERROR(VLOOKUP((ROW(X52)-4)&\"_\"&X$4,Schedule!$H:$I,2,FALSE),\"\"))))","v":""},{"$f":"IF($A52=\"\",\"\",IF(OR(Y$3=\"Sat\",Y$3=\"Sun\"),\"\",IF(COUNTIF(Holidays!$A:$A,Y$4)>0,\"H\",IFERROR(VLOOKUP((ROW(Y52)-4)&\"_\"&Y$4,Schedule!$H:$I,2,FALSE),\"\"))))","v":""},{"$f":"IF($A52=\"\",\"\",IF(OR(Z$3=\"Sat\",Z$3=\"Sun\"),\"\",IF(COUNTIF(Holidays!$A:$A,Z$4)>0,\"H\",IFERROR(VLOOKUP((ROW(Z52)-4)&\"_\"&Z$4,Schedule!$H:$I,2,FALSE),\"\"))))","v":""},{"$f":"IF($A52=\"\",\"\",IF(OR(AA$3=\"Sat\",AA$3=\"Sun\"),\"\",IF(COUNTIF(Holidays!$A:$A,AA$4)>0,\"H\",IFERROR(VLOOKUP((ROW(AA52)-4)&\"_\"&AA$4,Schedule!$H:$I,2,FALSE),\"\"))))","v":""},{"$f":"IF($A52=\"\",\"\",IF(OR(AB$3=\"Sat\",AB$3=\"Sun\"),\"\",IF(COUNTIF(Holidays!$A:$A,AB$4)>0,\"H\",IFERROR(VLOOKUP((ROW(AB52)-4)&\"_\"&AB$4,Schedule!$H:$I,2,FALSE),\"\"))))","v":""},{"$f":"IF($A52=\"\",\"\",IF(OR(AC$3=\"Sat\",AC$3=\"Sun\"),\"\",IF(COUNTIF(Holidays!$A:$A,AC$4)>0,\"H\",IFERROR(VLOOKUP((ROW(AC52)-4)&\"_\"&AC$4,Schedule!$H:$I,2,FALSE),\"\"))))","v":""},{"$f":"IF($A52=\"\",\"\",IF(OR(AD$3=\"Sat\",AD$3=\"Sun\"),\"\",IF(COUNTIF(Holidays!$A:$A,AD$4)>0,\"H\",IFERROR(VLOOKUP((ROW(AD52)-4)&\"_\"&AD$4,Schedule!$H:$I,2,FALSE),\"\"))))","v":""},{"$f":"IF($A52=\"\",\"\",IF(OR(AE$3=\"Sat\",AE$3=\"Sun\"),\"\",IF(COUNTIF(Holidays!$A:$A,AE$4)>0,\"H\",IFERROR(VLOOKUP((ROW(AE52)-4)&\"_\"&AE$4,Schedule!$H:$I,2,FALSE),\"\"))))","v":""},{"$f":"IF($A52=\"\",\"\",IF(OR(AF$3=\"Sat\",AF$3=\"Sun\"),\"\",IF(COUNTIF(Holidays!$A:$A,AF$4)>0,\"H\",IFERROR(VLOOKUP((ROW(AF52)-4)&\"_\"&AF$4,Schedule!$H:$I,2,FALSE),\"\"))))","v":""},{"$f":"IF($A52=\"\",\"\",IF(OR(AG$3=\"Sat\",AG$3=\"Sun\"),\"\",IF(COUNTIF(Holidays!$A:$A,AG$4)>0,\"H\",IFERROR(VLOOKUP((ROW(AG52)-4)&\"_\"&AG$4,Schedule!$H:$I,2,FALSE),\"\"))))","v":""},{"$f":"IF($A52=\"\",\"\",IF(OR(AH$3=\"Sat\",AH$3=\"Sun\"),\"\",IF(COUNTIF(Holidays!$A:$A,AH$4)>0,\"H\",IFERROR(VLOOKUP((ROW(AH52)-4)&\"_\"&AH$4,Schedule!$H:$I,2,FALSE),\"\"))))","v":""},{"$f":"IF($A52=\"\",\"\",IF(OR(AI$3=\"Sat\",AI$3=\"Sun\"),\"\",IF(COUNTIF(Holidays!$A:$A,AI$4)>0,\"H\",IFERROR(VLOOKUP((ROW(AI52)-4)&\"_\"&AI$4,Schedule!$H:$I,2,FALSE),\"\"))))","v":""},{"$f":"IF($A52=\"\",\"\",IF(OR(AJ$3=\"Sat\",AJ$3=\"Sun\"),\"\",IF(COUNTIF(Holidays!$A:$A,AJ$4)>0,\"H\",IFERROR(VLOOKUP((ROW(AJ52)-4)&\"_\"&AJ$4,Schedule!$H:$I,2,FALSE),\"\"))))","v":""},{"$f":"IF($A52=\"\",\"\",ROUND(SUMIFS(Schedule!$E:$E,Schedule!$A:$A,$A52,Schedule!$D:$D,$AK$3,Schedule!$B:$B,\">=\"&DATE($Q$2,$U$2,1),Schedule!$B:$B,\"<=\"&EOMONTH(DATE($Q$2,$U$2,1),0))/8,2))","v":""},{"$f":"IF($A52=\"\",\"\",ROUND(SUMIFS(Schedule!$E:$E,Schedule!$A:$A,$A52,Schedule!$D:$D,$AK$3,Schedule!$B:$B,\">=\"&DATE($Q$2,1,1),Schedule!$B:$B,\"<=\"&EOMONTH(DATE($Q$2,$U$2,1),0))/8,2))","v":""},{"$f":"IF($A52=\"\",\"\",ROUND(SUMIFS(Schedule!$E:$E,Schedule!$A:$A,$A52,Schedule!$D:$D,$AM$3,Schedule!$B:$B,\">=\"&DATE($Q$2,$U$2,1),Schedule!$B:$B,\"<=\"&EOMONTH(DATE($Q$2,$U$2,1),0))/8,2))","v":""},{"$f":"IF($A52=\"\",\"\",ROUND(SUMIFS(Schedule!$E:$E,Schedule!$A:$A,$A52,Schedule!$D:$D,$AM$3,Schedule!$B:$B,\">=\"&DATE($Q$2,1,1),Schedule!$B:$B,\"<=\"&EOMONTH(DATE($Q$2,$U$2,1),0))/8,2))","v":""}]
[{"$f":"IF(Lookups!A50=\"\",\"\",Lookups!A50)","v":""},{"$f":"IF($A53=\"\",\"\",IF(OR(B$3=\"Sat\",B$3=\"Sun\"),\"\",IF(COUNTIF(Holidays!$A:$A,B$4)>0,\"H\",IFERROR(VLOOKUP((ROW(B53)-4)&\"_\"&B$4,Schedule!$H:$I,2,FALSE),\"\"))))","v":""},{"$f":"IF($A53=\"\",\"\",IF(OR(C$3=\"Sat\",C$3=\"Sun\"),\"\",IF(COUNTIF(Holidays!$A:$A,C$4)>0,\"H\",IFERROR(VLOOKUP((ROW(C53)-4)&\"_\"&C$4,Schedule!$H:$I,2,FALSE),\"\"))))","v":""},{"$f":"IF($A53=\"\",\"\",IF(OR(D$3=\"Sat\",D$3=\"Sun\"),\"\",IF(COUNTIF(Holidays!$A:$A,D$4)>0,\"H\",IFERROR(VLOOKUP((ROW(D53)-4)&\"_\"&D$4,Schedule!$H:$I,2,FALSE),\"\"))))","v":""},{"$f":"IF($A53=\"\",\"\",IF(OR(E$3=\"Sat\",E$3=\"Sun\"),\"\",IF(COUNTIF(Holidays!$A:$A,E$4)>0,\"H\",IFERROR(VLOOKUP((ROW(E53)-4)&\"_\"&E$4,Schedule!$H:$I,2,FALSE),\"\"))))","v":""},{"$f":"IF($A53=\"\",\"\",IF(OR(F$3=\"Sat\",F$3=\"Sun\"),\"\",IF(COUNTIF(Holidays!$A:$A,F$4)>0,\"H\",IFERROR(VLOOKUP((ROW(F53)-4)&\"_\"&F$4,Schedule!$H:$I,2,FALSE),\"\"))))","v":""},{"$f":"IF($A53=\"\",\"\",IF(OR(G$3=\"Sat\",G$3=\"Sun\"),\"\",IF(COUNTIF(Holidays!$A:$A,G$4)>0,\"H\",IFERROR(VLOOKUP((ROW(G53)-4)&\"_\"&G$4,Schedule!$H:$I,2,FALSE),\"\"))))","v":""},{"$f":"IF($A53=\"\",\"\",IF(OR(H$3=\"Sat\",H$3=\"Sun\"),\"\",IF(COUNTIF(Holidays!$A:$A,H$4)>0,\"H\",IFERROR(VLOOKUP((ROW(H53)-4)&\"_\"&H$4,Schedule!$H:$I,2,FALSE),\"\"))))","v":""},{"$f":"IF($A53=\"\",\"\",IF(OR(I$3=\"Sat\",I$3=\"Sun\"),\"\",IF(COUNTIF(Holidays!$A:$A,I$4)>0,\"H\",IFERROR(VLOOKUP((ROW(I53)-4)&\"_\"&I$4,Schedule!$H:$I,2,FALSE),\"\"))))","v":""},{"$f":"IF($A53=\"\",\"\",IF(OR(J$3=\"Sat\",J$3=\"Sun\"),\"\",IF(COUNTIF(Holidays!$A:$A,J$4)>0,\"H\",IFERROR(VLOOKUP((ROW(J53)-4)&\"_\"&J$4,Schedule!$H:$I,2,FALSE),\"\"))))","v":""},{"$f":"IF($A53=\"\",\"\",IF(OR(K$3=\"Sat\",K$3=\"Sun\"),\"\",IF(COUNTIF(Holidays!$A:$A,K$4)>0,\"H\",IFERROR(VLOOKUP((ROW(K53)-4)&\"_\"&K$4,Schedule!$H:$I,2,FALSE),\"\"))))","v":""},{"$f":"IF($A53=\"\",\"\",IF(OR(L$3=\"Sat\",L$3=\"Sun\"),\"\",IF(COUNTIF(Holidays!$A:$A,L$4)>0,\"H\",IFERROR(VLOOKUP((ROW(L53)-4)&\"_\"&L$4,Schedule!$H:$I,2,FALSE),\"\"))))","v":""},{"$f":"IF($A53=\"\",\"\",IF(OR(M$3=\"Sat\",M$3=\"Sun\"),\"\",IF(COUNTIF(Holidays!$A:$A,M$4)>0,\"H\",IFERROR(VLOOKUP((ROW(M53)-4)&\"_\"&M$4,Schedule!$H:$I,2,FALSE),\"\"))))","v":""},{"$f":"IF($A53=\"\",\"\",IF(OR(N$3=\"Sat\",N$3=\"Sun\"),\"\",IF(COUNTIF(Holidays!$A:$A,N$4)>0,\"H\",IFERROR(VLOOKUP((ROW(N53)-4)&\"_\"&N$4,Schedule!$H:$I,2,FALSE),\"\"))))","v":""},{"$f":"IF($A53=\"\",\"\",IF(OR(O$3=\"Sat\",O$3=\"Sun\"),\"\",IF(COUNTIF(Holidays!$A:$A,O$4)>0,\"H\",IFERROR(VLOOKUP((ROW(O53)-4)&\"_\"&O$4,Schedule!$H:$I,2,FALSE),\"\"))))","v":""},{"$f":"IF($A53=\"\",\"\",IF(OR(P$3=\"Sat\",P$3=\"Sun\"),\"\",IF(COUNTIF(Holidays!$A:$A,P$4)>0,\"H\",IFERROR(VLOOKUP((ROW(P53)-4)&\"_\"&P$4,Schedule!$H:$I,2,FALSE),\"\"))))","v":""},{"$f":"IF($A53=\"\",\"\",IF(OR(Q$3=\"Sat\",Q$3=\"Sun\"),\"\",IF(COUNTIF(Holidays!$A:$A,Q$4)>0,\"H\",IFERROR(VLOOKUP((ROW(Q53)-4)&\"_\"&Q$4,Schedule!$H:$I,2,FALSE),\"\"))))","v":""},{"$f":"IF($A53=\"\",\"\",IF(OR(R$3=\"Sat\",R$3=\"Sun\"),\"\",IF(COUNTIF(Holidays!$A:$A,R$4)>0,\"H\",IFERROR(VLOOKUP((ROW(R53)-4)&\"_\"&R$4,Schedule!$H:$I,2,FALSE),\"\"))))","v":""},{"$f":"IF($A53=\"\",\"\",IF(OR(S$3=\"Sat\",S$3=\"Sun\"),\"\",IF(COUNTIF(Holidays!$A:$A,S$4)>0,\"H\",IFERROR(VLOOKUP((ROW(S53)-4)&\"_\"&S$4,Schedule!$H:$I,2,FALSE),\"\"))))","v":""},{"$f":"IF($A53=\"\",\"\",IF(OR(T$3=\"Sat\",T$3=\"Sun\"),\"\",IF(COUNTIF(Holidays!$A:$A,T$4)>0,\"H\",IFERROR(VLOOKUP((ROW(T53)-4)&\"_\"&T$4,Schedule!$H:$I,2,FALSE),\"\"))))","v":""},{"$f":"IF($A53=\"\",\"\",IF(OR(U$3=\"Sat\",U$3=\"Sun\"),\"\",IF(COUNTIF(Holidays!$A:$A,U$4)>0,\"H\",IFERROR(VLOOKUP((ROW(U53)-4)&\"_\"&U$4,Schedule!$H:$I,2,FALSE),\"\"))))","v":""},{"$f":"IF($A53=\"\",\"\",IF(OR(V$3=\"Sat\",V$3=\"Sun\"),\"\",IF(COUNTIF(Holidays!$A:$A,V$4)>0,\"H\",IFERROR(VLOOKUP((ROW(V53)-4)&\"_\"&V$4,Schedule!$H:$I,2,FALSE),\"\"))))","v":""},{"$f":"IF($A53=\"\",\"\",IF(OR(W$3=\"Sat\",W$3=\"Sun\"),\"\",IF(COUNTIF(Holidays!$A:$A,W$4)>0,\"H\",IFERROR(VLOOKUP((ROW(W53)-4)&\"_\"&W$4,Schedule!$H:$I,2,FALSE),\"\"))))","v":""},{"$f":"IF($A53=\"\",\"\",IF(OR(X$3=\"Sat\",X$3=\"Sun\"),\"\",IF(COUNTIF(Holidays!$A:$A,X$4)>0,\"H\",IFERROR(VLOOKUP((ROW(X53)-4)&\"_\"&X$4,Schedule!$H:$I,2,FALSE),\"\"))))","v":""},{"$f":"IF($A53=\"\",\"\",IF(OR(Y$3=\"Sat\",Y$3=\"Sun\"),\"\",IF(COUNTIF(Holidays!$A:$A,Y$4)>0,\"H\",IFERROR(VLOOKUP((ROW(Y53)-4)&\"_\"&Y$4,Schedule!$H:$I,2,FALSE),\"\"))))","v":""},{"$f":"IF($A53=\"\",\"\",IF(OR(Z$3=\"Sat\",Z$3=\"Sun\"),\"\",IF(COUNTIF(Holidays!$A:$A,Z$4)>0,\"H\",IFERROR(VLOOKUP((ROW(Z53)-4)&\"_\"&Z$4,Schedule!$H:$I,2,FALSE),\"\"))))","v":""},{"$f":"IF($A53=\"\",\"\",IF(OR(AA$3=\"Sat\",AA$3=\"Sun\"),\"\",IF(COUNTIF(Holidays!$A:$A,AA$4)>0,\"H\",IFERROR(VLOOKUP((ROW(AA53)-4)&\"_\"&AA$4,Schedule!$H:$I,2,FALSE),\"\"))))","v":""},{"$f":"IF($A53=\"\",\"\",IF(OR(AB$3=\"Sat\",AB$3=\"Sun\"),\"\",IF(COUNTIF(Holidays!$A:$A,AB$4)>0,\"H\",IFERROR(VLOOKUP((ROW(AB53)-4)&\"_\"&AB$4,Schedule!$H:$I,2,FALSE),\"\"))))","v":""},{"$f":"IF($A53=\"\",\"\",IF(OR(AC$3=\"Sat\",AC$3=\"Sun\"),\"\",IF(COUNTIF(Holidays!$A:$A,AC$4)>0,\"H\",IFERROR(VLOOKUP((ROW(AC53)-4)&\"_\"&AC$4,Schedule!$H:$I,2,FALSE),\"\"))))","v":""},{"$f":"IF($A53=\"\",\"\",IF(OR(AD$3=\"Sat\",AD$3=\"Sun\"),\"\",IF(COUNTIF(Holidays!$A:$A,AD$4)>0,\"H\",IFERROR(VLOOKUP((ROW(AD53)-4)&\"_\"&AD$4,Schedule!$H:$I,2,FALSE),\"\"))))","v":""},{"$f":"IF($A53=\"\",\"\",IF(OR(AE$3=\"Sat\",AE$3=\"Sun\"),\"\",IF(COUNTIF(Holidays!$A:$A,AE$4)>0,\"H\",IFERROR(VLOOKUP((ROW(AE53)-4)&\"_\"&AE$4,Schedule!$H:$I,2,FALSE),\"\"))))","v":""},{"$f":"IF($A53=\"\",\"\",IF(OR(AF$3=\"Sat\",AF$3=\"Sun\"),\"\",IF(COUNTIF(Holidays!$A:$A,AF$4)>0,\"H\",IFERROR(VLOOKUP((ROW(AF53)-4)&\"_\"&AF$4,Schedule!$H:$I,2,FALSE),\"\"))))","v":""},{"$f":"IF($A53=\"\",\"\",IF(OR(AG$3=\"Sat\",AG$3=\"Sun\"),\"\",IF(COUNTIF(Holidays!$A:$A,AG$4)>0,\"H\",IFERROR(VLOOKUP((ROW(AG53)-4)&\"_\"&AG$4,Schedule!$H:$I,2,FALSE),\"\"))))","v":""},{"$f":"IF($A53=\"\",\"\",IF(OR(AH$3=\"Sat\",AH$3=\"Sun\"),\"\",IF(COUNTIF(Holidays!$A:$A,AH$4)>0,\"H\",IFERROR(VLOOKUP((ROW(AH53)-4)&\"_\"&AH$4,Schedule!$H:$I,2,FALSE),\"\"))))","v":""},{"$f":"IF($A53=\"\",\"\",IF(OR(AI$3=\"Sat\",AI$3=\"Sun\"),\"\",IF(COUNTIF(Holidays!$A:$A,AI$4)>0,\"H\",IFERROR(VLOOKUP((ROW(AI53)-4)&\"_\"&AI$4,Schedule!$H:$I,2,FALSE),\"\"))))","v":""},{"$f":"IF($A53=\"\",\"\",IF(OR(AJ$3=\"Sat\",AJ$3=\"Sun\"),\"\",IF(COUNTIF(Holidays!$A:$A,AJ$4)>0,\"H\",IFERROR(VLOOKUP((ROW(AJ53)-4)&\"_\"&AJ$4,Schedule!$H:$I,2,FALSE),\"\"))))","v":""},{"$f":"IF($A53=\"\",\"\",ROUND(SUMIFS(Schedule!$E:$E,Schedule!$A:$A,$A53,Schedule!$D:$D,$AK$3,Schedule!$B:$B,\">=\"&DATE($Q$2,$U$2,1),Schedule!$B:$B,\"<=\"&EOMONTH(DATE($Q$2,$U$2,1),0))/8,2))","v":""},{"$f":"IF($A53=\"\",\"\",ROUND(SUMIFS(Schedule!$E:$E,Schedule!$A:$A,$A53,Schedule!$D:$D,$AK$3,Schedule!$B:$B,\">=\"&DATE($Q$2,1,1),Schedule!$B:$B,\"<=\"&EOMONTH(DATE($Q$2,$U$2,1),0))/8,2))","v":""},{"$f":"IF($A53=\"\",\"\",ROUND(SUMIFS(Schedule!$E:$E,Schedule!$A:$A,$A53,Schedule!$D:$D,$AM$3,Schedule!$B:$B,\">=\"&DATE($Q$2,$U$2,1),Schedule!$B:$B,\"<=\"&EOMONTH(DATE($Q$2,$U$2,1),0))/8,2))","v":""},{"$f":"IF($A53=\"\",\"\",ROUND(SUMIFS(Schedule!$E:$E,Schedule!$A:$A,$A53,Schedule!$D:$D,$AM$3,Schedule!$B:$B,\">=\"&DATE($Q$2,1,1),Schedule!$B:$B,\"<=\"&EOMONTH(DATE($Q$2,$U$2,1),0))/8,2))","v":""}]
[{"$f":"IF(Lookups!A51=\"\",\"\",Lookups!A51)","v":""},{"$f":"IF($A54=\"\",\"\",IF(OR(B$3=\"Sat\",B$3=\"Sun\"),\"\",IF(COUNTIF(Holidays!$A:$A,B$4)>0,\"H\",IFERROR(VLOOKUP((ROW(B54)-4)&\"_\"&B$4,Schedule!$H:$I,2,FALSE),\"\"))))","v":""},{"$f":"IF($A54=\"\",\"\",IF(OR(C$3=\"Sat\",C$3=\"Sun\"),\"\",IF(COUNTIF(Holidays!$A:$A,C$4)>0,\"H\",IFERROR(VLOOKUP((ROW(C54)-4)&\"_\"&C$4,Schedule!$H:$I,2,FALSE),\"\"))))","v":""},{"$f":"IF($A54=\"\",\"\",IF(OR(D$3=\"Sat\",D$3=\"Sun\"),\"\",IF(COUNTIF(Holidays!$A:$A,D$4)>0,\"H\",IFERROR(VLOOKUP((ROW(D54)-4)&\"_\"&D$4,Schedule!$H:$I,2,FALSE),\"\"))))","v":""},{"$f":"IF($A54=\"\",\"\",IF(OR(E$3=\"Sat\",E$3=\"Sun\"),\"\",IF(COUNTIF(Holidays!$A:$A,E$4)>0,\"H\",IFERROR(VLOOKUP((ROW(E54)-4)&\"_\"&E$4,Schedule!$H:$I,2,FALSE),\"\"))))","v":""},{"$f":"IF($A54=\"\",\"\",IF(OR(F$3=\"Sat\",F$3=\"Sun\"),\"\",IF(COUNTIF(Holidays!$A:$A,F$4)>0,\"H\",IFERROR(VLOOKUP((ROW(F54)-4)&\"_\"&F$4,Schedule!$H:$I,2,FALSE),\"\"))))","v":""},{"$f":"IF($A54=\"\",\"\",IF(OR(G$3=\"Sat\",G$3=\"Sun\"),\"\",IF(COUNTIF(Holidays!$A:$A,G$4)>0,\"H\",IFERROR(VLOOKUP((ROW(G54)-4)&\"_\"&G$4,Schedule!$H:$I,2,FALSE),\"\"))))","v":""},{"$f":"IF($A54=\"\",\"\",IF(OR(H$3=\"Sat\",H$3=\"Sun\"),\"\",IF(COUNTIF(Holidays!$A:$A,H$4)>0,\"H\",IFERROR(VLOOKUP((ROW(H54)-4)&\"_\"&H$4,Schedule!$H:$I,2,FALSE),\"\"))))","v":""},{"$f":"IF($A54=\"\",\"\",IF(OR(I$3=\"Sat\",I$3=\"Sun\"),\"\",IF(COUNTIF(Holidays!$A:$A,I$4)>0,\"H\",IFERROR(VLOOKUP((ROW(I54)-4)&\"_\"&I$4,Schedule!$H:$I,2,FALSE),\"\"))))","v":""},{"$f":"IF($A54=\"\",\"\",IF(OR(J$3=\"Sat\",J$3=\"Sun\"),\"\",IF(COUNTIF(Holidays!$A:$A,J$4)>0,\"H\",IFERROR(VLOOKUP((ROW(J54)-4)&\"_\"&J$4,Schedule!$H:$I,2,FALSE),\"\"))))","v":""},{"$f":"IF($A54=\"\",\"\",IF(OR(K$3=\"Sat\",K$3=\"Sun\"),\"\",IF(COUNTIF(Holidays!$A:$A,K$4)>0,\"H\",IFERROR(VLOOKUP((ROW(K54)-4)&\"_\"&K$4,Schedule!$H:$I,2,FALSE),\"\"))))","v":""},{"$f":"IF($A54=\"\",\"\",IF(OR(L$3=\"Sat\",L$3=\"Sun\"),\"\",IF(COUNTIF(Holidays!$A:$A,L$4)>0,\"H\",IFERROR(VLOOKUP((ROW(L54)-4)&\"_\"&L$4,Schedule!$H:$I,2,FALSE),\"\"))))","v":""},{"$f":"IF($A54=\"\",\"\",IF(OR(M$3=\"Sat\",M$3=\"Sun\"),\"\",IF(COUNTIF(Holidays!$A:$A,M$4)>0,\"H\",IFERROR(VLOOKUP((ROW(M54)-4)&\"_\"&M$4,Schedule!$H:$I,2,FALSE),\"\"))))","v":""},{"$f":"IF($A54=\"\",\"\",IF(OR(N$3=\"Sat\",N$3=\"Sun\"),\"\",IF(COUNTIF(Holidays!$A:$A,N$4)>0,\"H\",IFERROR(VLOOKUP((ROW(N54)-4)&\"_\"&N$4,Schedule!$H:$I,2,FALSE),\"\"))))","v":""},{"$f":"IF($A54=\"\",\"\",IF(OR(O$3=\"Sat\",O$3=\"Sun\"),\"\",IF(COUNTIF(Holidays!$A:$A,O$4)>0,\"H\",IFERROR(VLOOKUP((ROW(O54)-4)&\"_\"&O$4,Schedule!$H:$I,2,FALSE),\"\"))))","v":""},{"$f":"IF($A54=\"\",\"\",IF(OR(P$3=\"Sat\",P$3=\"Sun\"),\"\",IF(COUNTIF(Holidays!$A:$A,P$4)>0,\"H\",IFERROR(VLOOKUP((ROW(P54)-4)&\"_\"&P$4,Schedule!$H:$I,2,FALSE),\"\"))))","v":""},{"$f":"IF($A54=\"\",\"\",IF(OR(Q$3=\"Sat\",Q$3=\"Sun\"),\"\",IF(COUNTIF(Holidays!$A:$A,Q$4)>0,\"H\",IFERROR(VLOOKUP((ROW(Q54)-4)&\"_\"&Q$4,Schedule!$H:$I,2,FALSE),\"\"))))","v":""},{"$f":"IF($A54=\"\",\"\",IF(OR(R$3=\"Sat\",R$3=\"Sun\"),\"\",IF(COUNTIF(Holidays!$A:$A,R$4)>0,\"H\",IFERROR(VLOOKUP((ROW(R54)-4)&\"_\"&R$4,Schedule!$H:$I,2,FALSE),\"\"))))","v":""},{"$f":"IF($A54=\"\",\"\",IF(OR(S$3=\"Sat\",S$3=\"Sun\"),\"\",IF(COUNTIF(Holidays!$A:$A,S$4)>0,\"H\",IFERROR(VLOOKUP((ROW(S54)-4)&\"_\"&S$4,Schedule!$H:$I,2,FALSE),\"\"))))","v":""},{"$f":"IF($A54=\"\",\"\",IF(OR(T$3=\"Sat\",T$3=\"Sun\"),\"\",IF(COUNTIF(Holidays!$A:$A,T$4)>0,\"H\",IFERROR(VLOOKUP((ROW(T54)-4)&\"_\"&T$4,Schedule!$H:$I,2,FALSE),\"\"))))","v":""},{"$f":"IF($A54=\"\",\"\",IF(OR(U$3=\"Sat\",U$3=\"Sun\"),\"\",IF(COUNTIF(Holidays!$A:$A,U$4)>0,\"H\",IFERROR(VLOOKUP((ROW(U54)-4)&\"_\"&U$4,Schedule!$H:$I,2,FALSE),\"\"))))","v":""},{"$f":"IF($A54=\"\",\"\",IF(OR(V$3=\"Sat\",V$3=\"Sun\"),\"\",IF(COUNTIF(Holidays!$A:$A,V$4)>0,\"H\",IFERROR(VLOOKUP((ROW(V54)-4)&\"_\"&V$4,Schedule!$H:$I,2,FALSE),\"\"))))","v":""},{"$f":"IF($A54=\"\",\"\",IF(OR(W$3=\"Sat\",W$3=\"Sun\"),\"\",IF(COUNTIF(Holidays!$A:$A,W$4)>0,\"H\",IFERROR(VLOOKUP((ROW(W54)-4)&\"_\"&W$4,Schedule!$H:$I,2,FALSE),\"\"))))","v":""},{"$f":"IF($A54=\"\",\"\",IF(OR(X$3=\"Sat\",X$3=\"Sun\"),\"\",IF(COUNTIF(Holidays!$A:$A,X$4)>0,\"H\",IFERROR(VLOOKUP((ROW(X54)-4)&\"_\"&X$4,Schedule!$H:$I,2,FALSE),\"\"))))","v":""},{"$f":"IF($A54=\"\",\"\",IF(OR(Y$3=\"Sat\",Y$3=\"Sun\"),\"\",IF(COUNTIF(Holidays!$A:$A,Y$4)>0,\"H\",IFERROR(VLOOKUP((ROW(Y54)-4)&\"_\"&Y$4,Schedule!$H:$I,2,FALSE),\"\"))))","v":""},{"$f":"IF($A54=\"\",\"\",IF(OR(Z$3=\"Sat\",Z$3=\"Sun\"),\"\",IF(COUNTIF(Holidays!$A:$A,Z$4)>0,\"H\",IFERROR(VLOOKUP((ROW(Z54)-4)&\"_\"&Z$4,Schedule!$H:$I,2,FALSE),\"\"))))","v":""},{"$f":"IF($A54=\"\",\"\",IF(OR(AA$3=\"Sat\",AA$3=\"Sun\"),\"\",IF(COUNTIF(Holidays!$A:$A,AA$4)>0,\"H\",IFERROR(VLOOKUP((ROW(AA54)-4)&\"_\"&AA$4,Schedule!$H:$I,2,FALSE),\"\"))))","v":""},{"$f":"IF($A54=\"\",\"\",IF(OR(AB$3=\"Sat\",AB$3=\"Sun\"),\"\",IF(COUNTIF(Holidays!$A:$A,AB$4)>0,\"H\",IFERROR(VLOOKUP((ROW(AB54)-4)&\"_\"&AB$4,Schedule!$H:$I,2,FALSE),\"\"))))","v":""},{"$f":"IF($A54=\"\",\"\",IF(OR(AC$3=\"Sat\",AC$3=\"Sun\"),\"\",IF(COUNTIF(Holidays!$A:$A,AC$4)>0,\"H\",IFERROR(VLOOKUP((ROW(AC54)-4)&\"_\"&AC$4,Schedule!$H:$I,2,FALSE),\"\"))))","v":""},{"$f":"IF($A54=\"\",\"\",IF(OR(AD$3=\"Sat\",AD$3=\"Sun\"),\"\",IF(COUNTIF(Holidays!$A:$A,AD$4)>0,\"H\",IFERROR(VLOOKUP((ROW(AD54)-4)&\"_\"&AD$4,Schedule!$H:$I,2,FALSE),\"\"))))","v":""},{"$f":"IF($A54=\"\",\"\",IF(OR(AE$3=\"Sat\",AE$3=\"Sun\"),\"\",IF(COUNTIF(Holidays!$A:$A,AE$4)>0,\"H\",IFERROR(VLOOKUP((ROW(AE54)-4)&\"_\"&AE$4,Schedule!$H:$I,2,FALSE),\"\"))))","v":""},{"$f":"IF($A54=\"\",\"\",IF(OR(AF$3=\"Sat\",AF$3=\"Sun\"),\"\",IF(COUNTIF(Holidays!$A:$A,AF$4)>0,\"H\",IFERROR(VLOOKUP((ROW(AF54)-4)&\"_\"&AF$4,Schedule!$H:$I,2,FALSE),\"\"))))","v":""},{"$f":"IF($A54=\"\",\"\",IF(OR(AG$3=\"Sat\",AG$3=\"Sun\"),\"\",IF(COUNTIF(Holidays!$A:$A,AG$4)>0,\"H\",IFERROR(VLOOKUP((ROW(AG54)-4)&\"_\"&AG$4,Schedule!$H:$I,2,FALSE),\"\"))))","v":""},{"$f":"IF($A54=\"\",\"\",IF(OR(AH$3=\"Sat\",AH$3=\"Sun\"),\"\",IF(COUNTIF(Holidays!$A:$A,AH$4)>0,\"H\",IFERROR(VLOOKUP((ROW(AH54)-4)&\"_\"&AH$4,Schedule!$H:$I,2,FALSE),\"\"))))","v":""},{"$f":"IF($A54=\"\",\"\",IF(OR(AI$3=\"Sat\",AI$3=\"Sun\"),\"\",IF(COUNTIF(Holidays!$A:$A,AI$4)>0,\"H\",IFERROR(VLOOKUP((ROW(AI54)-4)&\"_\"&AI$4,Schedule!$H:$I,2,FALSE),\"\"))))","v":""},{"$f":"IF($A54=\"\",\"\",IF(OR(AJ$3=\"Sat\",AJ$3=\"Sun\"),\"\",IF(COUNTIF(Holidays!$A:$A,AJ$4)>0,\"H\",IFERROR(VLOOKUP((ROW(AJ54)-4)&\"_\"&AJ$4,Schedule!$H:$I,2,FALSE),\"\"))))","v":""},{"$f":"IF($A54=\"\",\"\",ROUND(SUMIFS(Schedule!$E:$E,Schedule!$A:$A,$A54,Schedule!$D:$D,$AK$3,Schedule!$B:$B,\">=\"&DATE($Q$2,$U$2,1),Schedule!$B:$B,\"<=\"&EOMONTH(DATE($Q$2,$U$2,1),0))/8,2))","v":""},{"$f":"IF($A54=\"\",\"\",ROUND(SUMIFS(Schedule!$E:$E,Schedule!$A:$A,$A54,Schedule!$D:$D,$AK$3,Schedule!$B:$B,\">=\"&DATE($Q$2,1,1),Schedule!$B:$B,\"<=\"&EOMONTH(DATE($Q$2,$U$2,1),0))/8,2))","v":""},{"$f":"IF($A54=\"\",\"\",ROUND(SUMIFS(Schedule!$E:$E,Schedule!$A:$A,$A54,Schedule!$D:$D,$AM$3,Schedule!$B:$B,\">=\"&DATE($Q$2,$U$2,1),Schedule!$B:$B,\"<=\"&EOMONTH(DATE($Q$2,$U$2,1),0))/8,2))","v":""},{"$f":"IF($A54=\"\",\"\",ROUND(SUMIFS(Schedule!$E:$E,Schedule!$A:$A,$A54,Schedule!$D:$D,$AM$3,Schedule!$B:$B,\">=\"&DATE($Q$2,1,1),Schedule!$B:$B,\"<=\"&EOMONTH(DATE($Q$2,$U$2,1),0))/8,2))","v":""}]
[{"$f":"IF(Lookups!A52=\"\",\"\",Lookups!A52)","v":""},{"$f":"IF($A55=\"\",\"\",IF(OR(B$3=\"Sat\",B$3=\"Sun\"),\"\",IF(COUNTIF(Holidays!$A:$A,B$4)>0,\"H\",IFERROR(VLOOKUP((ROW(B55)-4)&\"_\"&B$4,Schedule!$H:$I,2,FALSE),\"\"))))","v":""},{"$f":"IF($A55=\"\",\"\",IF(OR(C$3=\"Sat\",C$3=\"Sun\"),\"\",IF(COUNTIF(Holidays!$A:$A,C$4)>0,\"H\",IFERROR(VLOOKUP((ROW(C55)-4)&\"_\"&C$4,Schedule!$H:$I,2,FALSE),\"\"))))","v":""},{"$f":"IF($A55=\"\",\"\",IF(OR(D$3=\"Sat\",D$3=\"Sun\"),\"\",IF(COUNTIF(Holidays!$A:$A,D$4)>0,\"H\",IFERROR(VLOOKUP((ROW(D55)-4)&\"_\"&D$4,Schedule!$H:$I,2,FALSE),\"\"))))","v":""},{"$f":"IF($A55=\"\",\"\",IF(OR(E$3=\"Sat\",E$3=\"Sun\"),\"\",IF(COUNTIF(Holidays!$A:$A,E$4)>0,\"H\",IFERROR(VLOOKUP((ROW(E55)-4)&\"_\"&E$4,Schedule!$H:$I,2,FALSE),\"\"))))","v":""},{"$f":"IF($A55=\"\",\"\",IF(OR(F$3=\"Sat\",F$3=\"Sun\"),\"\",IF(COUNTIF(Holidays!$A:$A,F$4)>0,\"H\",IFERROR(VLOOKUP((ROW(F55)-4)&\"_\"&F$4,Schedule!$H:$I,2,FALSE),\"\"))))","v":""},{"$f":"IF($A55=\"\",\"\",IF(OR(G$3=\"Sat\",G$3=\"Sun\"),\"\",IF(COUNTIF(Holidays!$A:$A,G$4)>0,\"H\",IFERROR(VLOOKUP((ROW(G55)-4)&\"_\"&G$4,Schedule!$H:$I,2,FALSE),\"\"))))","v":""},{"$f":"IF($A55=\"\",\"\",IF(OR(H$3=\"Sat\",H$3=\"Sun\"),\"\",IF(COUNTIF(Holidays!$A:$A,H$4)>0,\"H\",IFERROR(VLOOKUP((ROW(H55)-4)&\"_\"&H$4,Schedule!$H:$I,2,FALSE),\"\"))))","v":""},{"$f":"IF($A55=\"\",\"\",IF(OR(I$3=\"Sat\",I$3=\"Sun\"),\"\",IF(COUNTIF(Holidays!$A:$A,I$4)>0,\"H\",IFERROR(VLOOKUP((ROW(I55)-4)&\"_\"&I$4,Schedule!$H:$I,2,FALSE),\"\"))))","v":""},{"$f":"IF($A55=\"\",\"\",IF(OR(J$3=\"Sat\",J$3=\"Sun\"),\"\",IF(COUNTIF(Holidays!$A:$A,J$4)>0,\"H\",IFERROR(VLOOKUP((ROW(J55)-4)&\"_\"&J$4,Schedule!$H:$I,2,FALSE),\"\"))))","v":""},{"$f":"IF($A55=\"\",\"\",IF(OR(K$3=\"Sat\",K$3=\"Sun\"),\"\",IF(COUNTIF(Holidays!$A:$A,K$4)>0,\"H\",IFERROR(VLOOKUP((ROW(K55)-4)&\"_\"&K$4,Schedule!$H:$I,2,FALSE),\"\"))))","v":""},{"$f":"IF($A55=\"\",\"\",IF(OR(L$3=\"Sat\",L$3=\"Sun\"),\"\",IF(COUNTIF(Holidays!$A:$A,L$4)>0,\"H\",IFERROR(VLOOKUP((ROW(L55)-4)&\"_\"&L$4,Schedule!$H:$I,2,FALSE),\"\"))))","v":""},{"$f":"IF($A55=\"\",\"\",IF(OR(M$3=\"Sat\",M$3=\"Sun\"),\"\",IF(COUNTIF(Holidays!$A:$A,M$4)>0,\"H\",IFERROR(VLOOKUP((ROW(M55)-4)&\"_\"&M$4,Schedule!$H:$I,2,FALSE),\"\"))))","v":""},{"$f":"IF($A55=\"\",\"\",IF(OR(N$3=\"Sat\",N$3=\"Sun\"),\"\",IF(COUNTIF(Holidays!$A:$A,N$4)>0,\"H\",IFERROR(VLOOKUP((ROW(N55)-4)&\"_\"&N$4,Schedule!$H:$I,2,FALSE),\"\"))))","v":""},{"$f":"IF($A55=\"\",\"\",IF(OR(O$3=\"Sat\",O$3=\"Sun\"),\"\",IF(COUNTIF(Holidays!$A:$A,O$4)>0,\"H\",IFERROR(VLOOKUP((ROW(O55)-4)&\"_\"&O$4,Schedule!$H:$I,2,FALSE),\"\"))))","v":""},{"$f":"IF($A55=\"\",\"\",IF(OR(P$3=\"Sat\",P$3=\"Sun\"),\"\",IF(COUNTIF(Holidays!$A:$A,P$4)>0,\"H\",IFERROR(VLOOKUP((ROW(P55)-4)&\"_\"&P$4,Schedule!$H:$I,2,FALSE),\"\"))))","v":""},{"$f":"IF($A55=\"\",\"\",IF(OR(Q$3=\"Sat\",Q$3=\"Sun\"),\"\",IF(COUNTIF(Holidays!$A:$A,Q$4)>0,\"H\",IFERROR(VLOOKUP((ROW(Q55)-4)&\"_\"&Q$4,Schedule!$H:$I,2,FALSE),\"\"))))","v":""},{"$f":"IF($A55=\"\",\"\",IF(OR(R$3=\"Sat\",R$3=\"Sun\"),\"\",IF(COUNTIF(Holidays!$A:$A,R$4)>0,\"H\",IFERROR(VLOOKUP((ROW(R55)-4)&\"_\"&R$4,Schedule!$H:$I,2,FALSE),\"\"))))","v":""},{"$f":"IF($A55=\"\",\"\",IF(OR(S$3=\"Sat\",S$3=\"Sun\"),\"\",IF(COUNTIF(Holidays!$A:$A,S$4)>0,\"H\",IFERROR(VLOOKUP((ROW(S55)-4)&\"_\"&S$4,Schedule!$H:$I,2,FALSE),\"\"))))","v":""},{"$f":"IF($A55=\"\",\"\",IF(OR(T$3=\"Sat\",T$3=\"Sun\"),\"\",IF(COUNTIF(Holidays!$A:$A,T$4)>0,\"H\",IFERROR(VLOOKUP((ROW(T55)-4)&\"_\"&T$4,Schedule!$H:$I,2,FALSE),\"\"))))","v":""},{"$f":"IF($A55=\"\",\"\",IF(OR(U$3=\"Sat\",U$3=\"Sun\"),\"\",IF(COUNTIF(Holidays!$A:$A,U$4)>0,\"H\",IFERROR(VLOOKUP((ROW(U55)-4)&\"_\"&U$4,Schedule!$H:$I,2,FALSE),\"\"))))","v":""},{"$f":"IF($A55=\"\",\"\",IF(OR(V$3=\"Sat\",V$3=\"Sun\"),\"\",IF(COUNTIF(Holidays!$A:$A,V$4)>0,\"H\",IFERROR(VLOOKUP((ROW(V55)-4)&\"_\"&V$4,Schedule!$H:$I,2,FALSE),\"\"))))","v":""},{"$f":"IF($A55=\"\",\"\",IF(OR(W$3=\"Sat\",W$3=\"Sun\"),\"\",IF(COUNTIF(Holidays!$A:$A,W$4)>0,\"H\",IFERROR(VLOOKUP((ROW(W55)-4)&\"_\"&W$4,Schedule!$H:$I,2,FALSE),\"\"))))","v":""},{"$f":"IF($A55=\"\",\"\",IF(OR(X$3=\"Sat\",X$3=\"Sun\"),\"\",IF(COUNTIF(Holidays!$A:$A,X$4)>0,\"H\",IFERROR(VLOOKUP((ROW(X55)-4)&\"_\"&X$4,Schedule!$H:$I,2,FALSE),\"\"))))","v":""},{"$f":"IF($A55=\"\",\"\",IF(OR(Y$3=\"Sat\",Y$3=\"Sun\"),\"\",IF(COUNTIF(Holidays!$A:$A,Y$4)>0,\"H\",IFERROR(VLOOKUP((ROW(Y55)-4)&\"_\"&Y$4,Schedule!$H:$I,2,FALSE),\"\"))))","v":""},{"$f":"IF($A55=\"\",\"\",IF(OR(Z$3=\"Sat\",Z$3=\"Sun\"),\"\",IF(COUNTIF(Holidays!$A:$A,Z$4)>0,\"H\",IFERROR(VLOOKUP((ROW(Z55)-4)&\"_\"&Z$4,Schedule!$H:$I,2,FALSE),\"\"))))","v":""},{"$f":"IF($A55=\"\",\"\",IF(OR(AA$3=\"Sat\",AA$3=\"Sun\"),\"\",IF(COUNTIF(Holidays!$A:$A,AA$4)>0,\"H\",IFERROR(VLOOKUP((ROW(AA55)-4)&\"_\"&AA$4,Schedule!$H:$I,2,FALSE),\"\"))))","v":""},{"$f":"IF($A55=\"\",\"\",IF(OR(AB$3=\"Sat\",AB$3=\"Sun\"),\"\",IF(COUNTIF(Holidays!$A:$A,AB$4)>0,\"H\",IFERROR(VLOOKUP((ROW(AB55)-4)&\"_\"&AB$4,Schedule!$H:$I,2,FALSE),\"\"))))","v":""},{"$f":"IF($A55=\"\",\"\",IF(OR(AC$3=\"Sat\",AC$3=\"Sun\"),\"\",IF(COUNTIF(Holidays!$A:$A,AC$4)>0,\"H\",IFERROR(VLOOKUP((ROW(AC55)-4)&\"_\"&AC$4,Schedule!$H:$I,2,FALSE),\"\"))))","v":""},{"$f":"IF($A55=\"\",\"\",IF(OR(AD$3=\"Sat\",AD$3=\"Sun\"),\"\",IF(COUNTIF(Holidays!$A:$A,AD$4)>0,\"H\",IFERROR(VLOOKUP((ROW(AD55)-4)&\"_\"&AD$4,Schedule!$H:$I,2,FALSE),\"\"))))","v":""},{"$f":"IF($A55=\"\",\"\",IF(OR(AE$3=\"Sat\",AE$3=\"Sun\"),\"\",IF(COUNTIF(Holidays!$A:$A,AE$4)>0,\"H\",IFERROR(VLOOKUP((ROW(AE55)-4)&\"_\"&AE$4,Schedule!$H:$I,2,FALSE),\"\"))))","v":""},{"$f":"IF($A55=\"\",\"\",IF(OR(AF$3=\"Sat\",AF$3=\"Sun\"),\"\",IF(COUNTIF(Holidays!$A:$A,AF$4)>0,\"H\",IFERROR(VLOOKUP((ROW(AF55)-4)&\"_\"&AF$4,Schedule!$H:$I,2,FALSE),\"\"))))","v":""},{"$f":"IF($A55=\"\",\"\",IF(OR(AG$3=\"Sat\",AG$3=\"Sun\"),\"\",IF(COUNTIF(Holidays!$A:$A,AG$4)>0,\"H\",IFERROR(VLOOKUP((ROW(AG55)-4)&\"_\"&AG$4,Schedule!$H:$I,2,FALSE),\"\"))))","v":""},{"$f":"IF($A55=\"\",\"\",IF(OR(AH$3=\"Sat\",AH$3=\"Sun\"),\"\",IF(COUNTIF(Holidays!$A:$A,AH$4)>0,\"H\",IFERROR(VLOOKUP((ROW(AH55)-4)&\"_\"&AH$4,Schedule!$H:$I,2,FALSE),\"\"))))","v":""},{"$f":"IF($A55=\"\",\"\",IF(OR(AI$3=\"Sat\",AI$3=\"Sun\"),\"\",IF(COUNTIF(Holidays!$A:$A,AI$4)>0,\"H\",IFERROR(VLOOKUP((ROW(AI55)-4)&\"_\"&AI$4,Schedule!$H:$I,2,FALSE),\"\"))))","v":""},{"$f":"IF($A55=\"\",\"\",IF(OR(AJ$3=\"Sat\",AJ$3=\"Sun\"),\"\",IF(COUNTIF(Holidays!$A:$A,AJ$4)>0,\"H\",IFERROR(VLOOKUP((ROW(AJ55)-4)&\"_\"&AJ$4,Schedule!$H:$I,2,FALSE),\"\"))))","v":""},{"$f":"IF($A55=\"\",\"\",ROUND(SUMIFS(Schedule!$E:$E,Schedule!$A:$A,$A55,Schedule!$D:$D,$AK$3,Schedule!$B:$B,\">=\"&DATE($Q$2,$U$2,1),Schedule!$B:$B,\"<=\"&EOMONTH(DATE($Q$2,$U$2,1),0))/8,2))","v":""},{"$f":"IF($A55=\"\",\"\",ROUND(SUMIFS(Schedule!$E:$E,Schedule!$A:$A,$A55,Schedule!$D:$D,$AK$3,Schedule!$B:$B,\">=\"&DATE($Q$2,1,1),Schedule!$B:$B,\"<=\"&EOMONTH(DATE($Q$2,$U$2,1),0))/8,2))","v":""},{"$f":"IF($A55=\"\",\"\",ROUND(SUMIFS(Schedule!$E:$E,Schedule!$A:$A,$A55,Schedule!$D:$D,$AM$3,Schedule!$B:$B,\">=\"&DATE($Q$2,$U$2,1),Schedule!$B:$B,\"<=\"&EOMONTH(DATE($Q$2,$U$2,1),0))/8,2))","v":""},{"$f":"IF($A55=\"\",\"\",ROUND(SUMIFS(Schedule!$E:$E,Schedule!$A:$A,$A55,Schedule!$D:$D,$AM$3,Schedule!$B:$B,\">=\"&DATE($Q$2,1,1),Schedule!$B:$B,\"<=\"&EOMONTH(DATE($Q$2,$U$2,1),0))/8,2))","v":""}]
[{"$f":"IF(Lookups!A53=\"\",\"\",Lookups!A53)","v":""},{"$f":"IF($A56=\"\",\"\",IF(OR(B$3=\"Sat\",B$3=\"Sun\"),\"\",IF(COUNTIF(Holidays!$A:$A,B$4)>0,\"H\",IFERROR(VLOOKUP((ROW(B56)-4)&\"_\"&B$4,Schedule!$H:$I,2,FALSE),\"\"))))","v":""},{"$f":"IF($A56=\"\",\"\",IF(OR(C$3=\"Sat\",C$3=\"Sun\"),\"\",IF(COUNTIF(Holidays!$A:$A,C$4)>0,\"H\",IFERROR(VLOOKUP((ROW(C56)-4)&\"_\"&C$4,Schedule!$H:$I,2,FALSE),\"\"))))","v":""},{"$f":"IF($A56=\"\",\"\",IF(OR(D$3=\"Sat\",D$3=\"Sun\"),\"\",IF(COUNTIF(Holidays!$A:$A,D$4)>0,\"H\",IFERROR(VLOOKUP((ROW(D56)-4)&\"_\"&D$4,Schedule!$H:$I,2,FALSE),\"\"))))","v":""},{"$f":"IF($A56=\"\",\"\",IF(OR(E$3=\"Sat\",E$3=\"Sun\"),\"\",IF(COUNTIF(Holidays!$A:$A,E$4)>0,\"H\",IFERROR(VLOOKUP((ROW(E56)-4)&\"_\"&E$4,Schedule!$H:$I,2,FALSE),\"\"))))","v":""},{"$f":"IF($A56=\"\",\"\",IF(OR(F$3=\"Sat\",F$3=\"Sun\"),\"\",IF(COUNTIF(Holidays!$A:$A,F$4)>0,\"H\",IFERROR(VLOOKUP((ROW(F56)-4)&\"_\"&F$4,Schedule!$H:$I,2,FALSE),\"\"))))","v":""},{"$f":"IF($A56=\"\",\"\",IF(OR(G$3=\"Sat\",G$3=\"Sun\"),\"\",IF(COUNTIF(Holidays!$A:$A,G$4)>0,\"H\",IFERROR(VLOOKUP((ROW(G56)-4)&\"_\"&G$4,Schedule!$H:$I,2,FALSE),\"\"))))","v":""},{"$f":"IF($A56=\"\",\"\",IF(OR(H$3=\"Sat\",H$3=\"Sun\"),\"\",IF(COUNTIF(Holidays!$A:$A,H$4)>0,\"H\",IFERROR(VLOOKUP((ROW(H56)-4)&\"_\"&H$4,Schedule!$H:$I,2,FALSE),\"\"))))","v":""},{"$f":"IF($A56=\"\",\"\",IF(OR(I$3=\"Sat\",I$3=\"Sun\"),\"\",IF(COUNTIF(Holidays!$A:$A,I$4)>0,\"H\",IFERROR(VLOOKUP((ROW(I56)-4)&\"_\"&I$4,Schedule!$H:$I,2,FALSE),\"\"))))","v":""},{"$f":"IF($A56=\"\",\"\",IF(OR(J$3=\"Sat\",J$3=\"Sun\"),\"\",IF(COUNTIF(Holidays!$A:$A,J$4)>0,\"H\",IFERROR(VLOOKUP((ROW(J56)-4)&\"_\"&J$4,Schedule!$H:$I,2,FALSE),\"\"))))","v":""},{"$f":"IF($A56=\"\",\"\",IF(OR(K$3=\"Sat\",K$3=\"Sun\"),\"\",IF(COUNTIF(Holidays!$A:$A,K$4)>0,\"H\",IFERROR(VLOOKUP((ROW(K56)-4)&\"_\"&K$4,Schedule!$H:$I,2,FALSE),\"\"))))","v":""},{"$f":"IF($A56=\"\",\"\",IF(OR(L$3=\"Sat\",L$3=\"Sun\"),\"\",IF(COUNTIF(Holidays!$A:$A,L$4)>0,\"H\",IFERROR(VLOOKUP((ROW(L56)-4)&\"_\"&L$4,Schedule!$H:$I,2,FALSE),\"\"))))","v":""},{"$f":"IF($A56=\"\",\"\",IF(OR(M$3=\"Sat\",M$3=\"Sun\"),\"\",IF(COUNTIF(Holidays!$A:$A,M$4)>0,\"H\",IFERROR(VLOOKUP((ROW(M56)-4)&\"_\"&M$4,Schedule!$H:$I,2,FALSE),\"\"))))","v":""},{"$f":"IF($A56=\"\",\"\",IF(OR(N$3=\"Sat\",N$3=\"Sun\"),\"\",IF(COUNTIF(Holidays!$A:$A,N$4)>0,\"H\",IFERROR(VLOOKUP((ROW(N56)-4)&\"_\"&N$4,Schedule!$H:$I,2,FALSE),\"\"))))","v":""},{"$f":"IF($A56=\"\",\"\",IF(OR(O$3=\"Sat\",O$3=\"Sun\"),\"\",IF(COUNTIF(Holidays!$A:$A,O$4)>0,\"H\",IFERROR(VLOOKUP((ROW(O56)-4)&\"_\"&O$4,Schedule!$H:$I,2,FALSE),\"\"))))","v":""},{"$f":"IF($A56=\"\",\"\",IF(OR(P$3=\"Sat\",P$3=\"Sun\"),\"\",IF(COUNTIF(Holidays!$A:$A,P$4)>0,\"H\",IFERROR(VLOOKUP((ROW(P56)-4)&\"_\"&P$4,Schedule!$H:$I,2,FALSE),\"\"))))","v":""},{"$f":"IF($A56=\"\",\"\",IF(OR(Q$3=\"Sat\",Q$3=\"Sun\"),\"\",IF(COUNTIF(Holidays!$A:$A,Q$4)>0,\"H\",IFERROR(VLOOKUP((ROW(Q56)-4)&\"_\"&Q$4,Schedule!$H:$I,2,FALSE),\"\"))))","v":""},{"$f":"IF($A56=\"\",\"\",IF(OR(R$3=\"Sat\",R$3=\"Sun\"),\"\",IF(COUNTIF(Holidays!$A:$A,R$4)>0,\"H\",IFERROR(VLOOKUP((ROW(R56)-4)&\"_\"&R$4,Schedule!$H:$I,2,FALSE),\"\"))))","v":""},{"$f":"IF($A56=\"\",\"\",IF(OR(S$3=\"Sat\",S$3=\"Sun\"),\"\",IF(COUNTIF(Holidays!$A:$A,S$4)>0,\"H\",IFERROR(VLOOKUP((ROW(S56)-4)&\"_\"&S$4,Schedule!$H:$I,2,FALSE),\"\"))))","v":""},{"$f":"IF($A56=\"\",\"\",IF(OR(T$3=\"Sat\",T$3=\"Sun\"),\"\",IF(COUNTIF(Holidays!$A:$A,T$4)>0,\"H\",IFERROR(VLOOKUP((ROW(T56)-4)&\"_\"&T$4,Schedule!$H:$I,2,FALSE),\"\"))))","v":""},{"$f":"IF($A56=\"\",\"\",IF(OR(U$3=\"Sat\",U$3=\"Sun\"),\"\",IF(COUNTIF(Holidays!$A:$A,U$4)>0,\"H\",IFERROR(VLOOKUP((ROW(U56)-4)&\"_\"&U$4,Schedule!$H:$I,2,FALSE),\"\"))))","v":""},{"$f":"IF($A56=\"\",\"\",IF(OR(V$3=\"Sat\",V$3=\"Sun\"),\"\",IF(COUNTIF(Holidays!$A:$A,V$4)>0,\"H\",IFERROR(VLOOKUP((ROW(V56)-4)&\"_\"&V$4,Schedule!$H:$I,2,FALSE),\"\"))))","v":""},{"$f":"IF($A56=\"\",\"\",IF(OR(W$3=\"Sat\",W$3=\"Sun\"),\"\",IF(COUNTIF(Holidays!$A:$A,W$4)>0,\"H\",IFERROR(VLOOKUP((ROW(W56)-4)&\"_\"&W$4,Schedule!$H:$I,2,FALSE),\"\"))))","v":""},{"$f":"IF($A56=\"\",\"\",IF(OR(X$3=\"Sat\",X$3=\"Sun\"),\"\",IF(COUNTIF(Holidays!$A:$A,X$4)>0,\"H\",IFERROR(VLOOKUP((ROW(X56)-4)&\"_\"&X$4,Schedule!$H:$I,2,FALSE),\"\"))))","v":""},{"$f":"IF($A56=\"\",\"\",IF(OR(Y$3=\"Sat\",Y$3=\"Sun\"),\"\",IF(COUNTIF(Holidays!$A:$A,Y$4)>0,\"H\",IFERROR(VLOOKUP((ROW(Y56)-4)&\"_\"&Y$4,Schedule!$H:$I,2,FALSE),\"\"))))","v":""},{"$f":"IF($A56=\"\",\"\",IF(OR(Z$3=\"Sat\",Z$3=\"Sun\"),\"\",IF(COUNTIF(Holidays!$A:$A,Z$4)>0,\"H\",IFERROR(VLOOKUP((ROW(Z56)-4)&\"_\"&Z$4,Schedule!$H:$I,2,FALSE),\"\"))))","v":""},{"$f":"IF($A56=\"\",\"\",IF(OR(AA$3=\"Sat\",AA$3=\"Sun\"),\"\",IF(COUNTIF(Holidays!$A:$A,AA$4)>0,\"H\",IFERROR(VLOOKUP((ROW(AA56)-4)&\"_\"&AA$4,Schedule!$H:$I,2,FALSE),\"\"))))","v":""},{"$f":"IF($A56=\"\",\"\",IF(OR(AB$3=\"Sat\",AB$3=\"Sun\"),\"\",IF(COUNTIF(Holidays!$A:$A,AB$4)>0,\"H\",IFERROR(VLOOKUP((ROW(AB56)-4)&\"_\"&AB$4,Schedule!$H:$I,2,FALSE),\"\"))))","v":""},{"$f":"IF($A56=\"\",\"\",IF(OR(AC$3=\"Sat\",AC$3=\"Sun\"),\"\",IF(COUNTIF(Holidays!$A:$A,AC$4)>0,\"H\",IFERROR(VLOOKUP((ROW(AC56)-4)&\"_\"&AC$4,Schedule!$H:$I,2,FALSE),\"\"))))","v":""},{"$f":"IF($A56=\"\",\"\",IF(OR(AD$3=\"Sat\",AD$3=\"Sun\"),\"\",IF(COUNTIF(Holidays!$A:$A,AD$4)>0,\"H\",IFERROR(VLOOKUP((ROW(AD56)-4)&\"_\"&AD$4,Schedule!$H:$I,2,FALSE),\"\"))))","v":""},{"$f":"IF($A56=\"\",\"\",IF(OR(AE$3=\"Sat\",AE$3=\"Sun\"),\"\",IF(COUNTIF(Holidays!$A:$A,AE$4)>0,\"H\",IFERROR(VLOOKUP((ROW(AE56)-4)&\"_\"&AE$4,Schedule!$H:$I,2,FALSE),\"\"))))","v":""},{"$f":"IF($A56=\"\",\"\",IF(OR(AF$3=\"Sat\",AF$3=\"Sun\"),\"\",IF(COUNTIF(Holidays!$A:$A,AF$4)>0,\"H\",IFERROR(VLOOKUP((ROW(AF56)-4)&\"_\"&AF$4,Schedule!$H:$I,2,FALSE),\"\"))))","v":""},{"$f":"IF($A56=\"\",\"\",IF(OR(AG$3=\"Sat\",AG$3=\"Sun\"),\"\",IF(COUNTIF(Holidays!$A:$A,AG$4)>0,\"H\",IFERROR(VLOOKUP((ROW(AG56)-4)&\"_\"&AG$4,Schedule!$H:$I,2,FALSE),\"\"))))","v":""},{"$f":"IF($A56=\"\",\"\",IF(OR(AH$3=\"Sat\",AH$3=\"Sun\"),\"\",IF(COUNTIF(Holidays!$A:$A,AH$4)>0,\"H\",IFERROR(VLOOKUP((ROW(AH56)-4)&\"_\"&AH$4,Schedule!$H:$I,2,FALSE),\"\"))))","v":""},{"$f":"IF($A56=\"\",\"\",IF(OR(AI$3=\"Sat\",AI$3=\"Sun\"),\"\",IF(COUNTIF(Holidays!$A:$A,AI$4)>0,\"H\",IFERROR(VLOOKUP((ROW(AI56)-4)&\"_\"&AI$4,Schedule!$H:$I,2,FALSE),\"\"))))","v":""},{"$f":"IF($A56=\"\",\"\",IF(OR(AJ$3=\"Sat\",AJ$3=\"Sun\"),\"\",IF(COUNTIF(Holidays!$A:$A,AJ$4)>0,\"H\",IFERROR(VLOOKUP((ROW(AJ56)-4)&\"_\"&AJ$4,Schedule!$H:$I,2,FALSE),\"\"))))","v":""},{"$f":"IF($A56=\"\",\"\",ROUND(SUMIFS(Schedule!$E:$E,Schedule!$A:$A,$A56,Schedule!$D:$D,$AK$3,Schedule!$B:$B,\">=\"&DATE($Q$2,$U$2,1),Schedule!$B:$B,\"<=\"&EOMONTH(DATE($Q$2,$U$2,1),0))/8,2))","v":""},{"$f":"IF($A56=\"\",\"\",ROUND(SUMIFS(Schedule!$E:$E,Schedule!$A:$A,$A56,Schedule!$D:$D,$AK$3,Schedule!$B:$B,\">=\"&DATE($Q$2,1,1),Schedule!$B:$B,\"<=\"&EOMONTH(DATE($Q$2,$U$2,1),0))/8,2))","v":""},{"$f":"IF($A56=\"\",\"\",ROUND(SUMIFS(Schedule!$E:$E,Schedule!$A:$A,$A56,Schedule!$D:$D,$AM$3,Schedule!$B:$B,\">=\"&DATE($Q$2,$U$2,1),Schedule!$B:$B,\"<=\"&EOMONTH(DATE($Q$2,$U$2,1),0))/8,2))","v":""},{"$f":"IF($A56=\"\",\"\",ROUND(SUMIFS(Schedule!$E:$E,Schedule!$A:$A,$A56,Schedule!$D:$D,$AM$3,Schedule!$B:$B,\">=\"&DATE($Q$2,1,1),Schedule!$B:$B,\"<=\"&EOMONTH(DATE($Q$2,$U$2,1),0))/8,2))","v":""}]
[{"$f":"IF(Lookups!A54=\"\",\"\",Lookups!A54)","v":""},{"$f":"IF($A57=\"\",\"\",IF(OR(B$3=\"Sat\",B$3=\"Sun\"),\"\",IF(COUNTIF(Holidays!$A:$A,B$4)>0,\"H\",IFERROR(VLOOKUP((ROW(B57)-4)&\"_\"&B$4,Schedule!$H:$I,2,FALSE),\"\"))))","v":""},{"$f":"IF($A57=\"\",\"\",IF(OR(C$3=\"Sat\",C$3=\"Sun\"),\"\",IF(COUNTIF(Holidays!$A:$A,C$4)>0,\"H\",IFERROR(VLOOKUP((ROW(C57)-4)&\"_\"&C$4,Schedule!$H:$I,2,FALSE),\"\"))))","v":""},{"$f":"IF($A57=\"\",\"\",IF(OR(D$3=\"Sat\",D$3=\"Sun\"),\"\",IF(COUNTIF(Holidays!$A:$A,D$4)>0,\"H\",IFERROR(VLOOKUP((ROW(D57)-4)&\"_\"&D$4,Schedule!$H:$I,2,FALSE),\"\"))))","v":""},{"$f":"IF($A57=\"\",\"\",IF(OR(E$3=\"Sat\",E$3=\"Sun\"),\"\",IF(COUNTIF(Holidays!$A:$A,E$4)>0,\"H\",IFERROR(VLOOKUP((ROW(E57)-4)&\"_\"&E$4,Schedule!$H:$I,2,FALSE),\"\"))))","v":""},{"$f":"IF($A57=\"\",\"\",IF(OR(F$3=\"Sat\",F$3=\"Sun\"),\"\",IF(COUNTIF(Holidays!$A:$A,F$4)>0,\"H\",IFERROR(VLOOKUP((ROW(F57)-4)&\"_\"&F$4,Schedule!$H:$I,2,FALSE),\"\"))))","v":""},{"$f":"IF($A57=\"\",\"\",IF(OR(G$3=\"Sat\",G$3=\"Sun\"),\"\",IF(COUNTIF(Holidays!$A:$A,G$4)>0,\"H\",IFERROR(VLOOKUP((ROW(G57)-4)&\"_\"&G$4,Schedule!$H:$I,2,FALSE),\"\"))))","v":""},{"$f":"IF($A57=\"\",\"\",IF(OR(H$3=\"Sat\",H$3=\"Sun\"),\"\",IF(COUNTIF(Holidays!$A:$A,H$4)>0,\"H\",IFERROR(VLOOKUP((ROW(H57)-4)&\"_\"&H$4,Schedule!$H:$I,2,FALSE),\"\"))))","v":""},{"$f":"IF($A57=\"\",\"\",IF(OR(I$3=\"Sat\",I$3=\"Sun\"),\"\",IF(COUNTIF(Holidays!$A:$A,I$4)>0,\"H\",IFERROR(VLOOKUP((ROW(I57)-4)&\"_\"&I$4,Schedule!$H:$I,2,FALSE),\"\"))))","v":""},{"$f":"IF($A57=\"\",\"\",IF(OR(J$3=\"Sat\",J$3=\"Sun\"),\"\",IF(COUNTIF(Holidays!$A:$A,J$4)>0,\"H\",IFERROR(VLOOKUP((ROW(J57)-4)&\"_\"&J$4,Schedule!$H:$I,2,FALSE),\"\"))))","v":""},{"$f":"IF($A57=\"\",\"\",IF(OR(K$3=\"Sat\",K$3=\"Sun\"),\"\",IF(COUNTIF(Holidays!$A:$A,K$4)>0,\"H\",IFERROR(VLOOKUP((ROW(K57)-4)&\"_\"&K$4,Schedule!$H:$I,2,FALSE),\"\"))))","v":""},{"$f":"IF($A57=\"\",\"\",IF(OR(L$3=\"Sat\",L$3=\"Sun\"),\"\",IF(COUNTIF(Holidays!$A:$A,L$4)>0,\"H\",IFERROR(VLOOKUP((ROW(L57)-4)&\"_\"&L$4,Schedule!$H:$I,2,FALSE),\"\"))))","v":""},{"$f":"IF($A57=\"\",\"\",IF(OR(M$3=\"Sat\",M$3=\"Sun\"),\"\",IF(COUNTIF(Holidays!$A:$A,M$4)>0,\"H\",IFERROR(VLOOKUP((ROW(M57)-4)&\"_\"&M$4,Schedule!$H:$I,2,FALSE),\"\"))))","v":""},{"$f":"IF($A57=\"\",\"\",IF(OR(N$3=\"Sat\",N$3=\"Sun\"),\"\",IF(COUNTIF(Holidays!$A:$A,N$4)>0,\"H\",IFERROR(VLOOKUP((ROW(N57)-4)&\"_\"&N$4,Schedule!$H:$I,2,FALSE),\"\"))))","v":""},{"$f":"IF($A57=\"\",\"\",IF(OR(O$3=\"Sat\",O$3=\"Sun\"),\"\",IF(COUNTIF(Holidays!$A:$A,O$4)>0,\"H\",IFERROR(VLOOKUP((ROW(O57)-4)&\"_\"&O$4,Schedule!$H:$I,2,FALSE),\"\"))))","v":""},{"$f":"IF($A57=\"\",\"\",IF(OR(P$3=\"Sat\",P$3=\"Sun\"),\"\",IF(COUNTIF(Holidays!$A:$A,P$4)>0,\"H\",IFERROR(VLOOKUP((ROW(P57)-4)&\"_\"&P$4,Schedule!$H:$I,2,FALSE),\"\"))))","v":""},{"$f":"IF($A57=\"\",\"\",IF(OR(Q$3=\"Sat\",Q$3=\"Sun\"),\"\",IF(COUNTIF(Holidays!$A:$A,Q$4)>0,\"H\",IFERROR(VLOOKUP((ROW(Q57)-4)&\"_\"&Q$4,Schedule!$H:$I,2,FALSE),\"\"))))","v":""},{"$f":"IF($A57=\"\",\"\",IF(OR(R$3=\"Sat\",R$3=\"Sun\"),\"\",IF(COUNTIF(Holidays!$A:$A,R$4)>0,\"H\",IFERROR(VLOOKUP((ROW(R57)-4)&\"_\"&R$4,Schedule!$H:$I,2,FALSE),\"\"))))","v":""},{"$f":"IF($A57=\"\",\"\",IF(OR(S$3=\"Sat\",S$3=\"Sun\"),\"\",IF(COUNTIF(Holidays!$A:$A,S$4)>0,\"H\",IFERROR(VLOOKUP((ROW(S57)-4)&\"_\"&S$4,Schedule!$H:$I,2,FALSE),\"\"))))","v":""},{"$f":"IF($A57=\"\",\"\",IF(OR(T$3=\"Sat\",T$3=\"Sun\"),\"\",IF(COUNTIF(Holidays!$A:$A,T$4)>0,\"H\",IFERROR(VLOOKUP((ROW(T57)-4)&\"_\"&T$4,Schedule!$H:$I,2,FALSE),\"\"))))","v":""},{"$f":"IF($A57=\"\",\"\",IF(OR(U$3=\"Sat\",U$3=\"Sun\"),\"\",IF(COUNTIF(Holidays!$A:$A,U$4)>0,\"H\",IFERROR(VLOOKUP((ROW(U57)-4)&\"_\"&U$4,Schedule!$H:$I,2,FALSE),\"\"))))","v":""},{"$f":"IF($A57=\"\",\"\",IF(OR(V$3=\"Sat\",V$3=\"Sun\"),\"\",IF(COUNTIF(Holidays!$A:$A,V$4)>0,\"H\",IFERROR(VLOOKUP((ROW(V57)-4)&\"_\"&V$4,Schedule!$H:$I,2,FALSE),\"\"))))","v":""},{"$f":"IF($A57=\"\",\"\",IF(OR(W$3=\"Sat\",W$3=\"Sun\"),\"\",IF(COUNTIF(Holidays!$A:$A,W$4)>0,\"H\",IFERROR(VLOOKUP((ROW(W57)-4)&\"_\"&W$4,Schedule!$H:$I,2,FALSE),\"\"))))","v":""},{"$f":"IF($A57=\"\",\"\",IF(OR(X$3=\"Sat\",X$3=\"Sun\"),\"\",IF(COUNTIF(Holidays!$A:$A,X$4)>0,\"H\",IFERROR(VLOOKUP((ROW(X57)-4)&\"_\"&X$4,Schedule!$H:$I,2,FALSE),\"\"))))","v":""},{"$f":"IF($A57=\"\",\"\",IF(OR(Y$3=\"Sat\",Y$3=\"Sun\"),\"\",IF(COUNTIF(Holidays!$A:$A,Y$4)>0,\"H\",IFERROR(VLOOKUP((ROW(Y57)-4)&\"_\"&Y$4,Schedule!$H:$I,2,FALSE),\"\"))))","v":""},{"$f":"IF($A57=\"\",\"\",IF(OR(Z$3=\"Sat\",Z$3=\"Sun\"),\"\",IF(COUNTIF(Holidays!$A:$A,Z$4)>0,\"H\",IFERROR(VLOOKUP((ROW(Z57)-4)&\"_\"&Z$4,Schedule!$H:$I,2,FALSE),\"\"))))","v":""},{"$f":"IF($A57=\"\",\"\",IF(OR(AA$3=\"Sat\",AA$3=\"Sun\"),\"\",IF(COUNTIF(Holidays!$A:$A,AA$4)>0,\"H\",IFERROR(VLOOKUP((ROW(AA57)-4)&\"_\"&AA$4,Schedule!$H:$I,2,FALSE),\"\"))))","v":""},{"$f":"IF($A57=\"\",\"\",IF(OR(AB$3=\"Sat\",AB$3=\"Sun\"),\"\",IF(COUNTIF(Holidays!$A:$A,AB$4)>0,\"H\",IFERROR(VLOOKUP((ROW(AB57)-4)&\"_\"&AB$4,Schedule!$H:$I,2,FALSE),\"\"))))","v":""},{"$f":"IF($A57=\"\",\"\",IF(OR(AC$3=\"Sat\",AC$3=\"Sun\"),\"\",IF(COUNTIF(Holidays!$A:$A,AC$4)>0,\"H\",IFERROR(VLOOKUP((ROW(AC57)-4)&\"_\"&AC$4,Schedule!$H:$I,2,FALSE),\"\"))))","v":""},{"$f":"IF($A57=\"\",\"\",IF(OR(AD$3=\"Sat\",AD$3=\"Sun\"),\"\",IF(COUNTIF(Holidays!$A:$A,AD$4)>0,\"H\",IFERROR(VLOOKUP((ROW(AD57)-4)&\"_\"&AD$4,Schedule!$H:$I,2,FALSE),\"\"))))","v":""},{"$f":"IF($A57=\"\",\"\",IF(OR(AE$3=\"Sat\",AE$3=\"Sun\"),\"\",IF(COUNTIF(Holidays!$A:$A,AE$4)>0,\"H\",IFERROR(VLOOKUP((ROW(AE57)-4)&\"_\"&AE$4,Schedule!$H:$I,2,FALSE),\"\"))))","v":""},{"$f":"IF($A57=\"\",\"\",IF(OR(AF$3=\"Sat\",AF$3=\"Sun\"),\"\",IF(COUNTIF(Holidays!$A:$A,AF$4)>0,\"H\",IFERROR(VLOOKUP((ROW(AF57)-4)&\"_\"&AF$4,Schedule!$H:$I,2,FALSE),\"\"))))","v":""},{"$f":"IF($A57=\"\",\"\",IF(OR(AG$3=\"Sat\",AG$3=\"Sun\"),\"\",IF(COUNTIF(Holidays!$A:$A,AG$4)>0,\"H\",IFERROR(VLOOKUP((ROW(AG57)-4)&\"_\"&AG$4,Schedule!$H:$I,2,FALSE),\"\"))))","v":""},{"$f":"IF($A57=\"\",\"\",IF(OR(AH$3=\"Sat\",AH$3=\"Sun\"),\"\",IF(COUNTIF(Holidays!$A:$A,AH$4)>0,\"H\",IFERROR(VLOOKUP((ROW(AH57)-4)&\"_\"&AH$4,Schedule!$H:$I,2,FALSE),\"\"))))","v":""},{"$f":"IF($A57=\"\",\"\",IF(OR(AI$3=\"Sat\",AI$3=\"Sun\"),\"\",IF(COUNTIF(Holidays!$A:$A,AI$4)>0,\"H\",IFERROR(VLOOKUP((ROW(AI57)-4)&\"_\"&AI$4,Schedule!$H:$I,2,FALSE),\"\"))))","v":""},{"$f":"IF($A57=\"\",\"\",IF(OR(AJ$3=\"Sat\",AJ$3=\"Sun\"),\"\",IF(COUNTIF(Holidays!$A:$A,AJ$4)>0,\"H\",IFERROR(VLOOKUP((ROW(AJ57)-4)&\"_\"&AJ$4,Schedule!$H:$I,2,FALSE),\"\"))))","v":""},{"$f":"IF($A57=\"\",\"\",ROUND(SUMIFS(Schedule!$E:$E,Schedule!$A:$A,$A57,Schedule!$D:$D,$AK$3,Schedule!$B:$B,\">=\"&DATE($Q$2,$U$2,1),Schedule!$B:$B,\"<=\"&EOMONTH(DATE($Q$2,$U$2,1),0))/8,2))","v":""},{"$f":"IF($A57=\"\",\"\",ROUND(SUMIFS(Schedule!$E:$E,Schedule!$A:$A,$A57,Schedule!$D:$D,$AK$3,Schedule!$B:$B,\">=\"&DATE($Q$2,1,1),Schedule!$B:$B,\"<=\"&EOMONTH(DATE($Q$2,$U$2,1),0))/8,2))","v":""},{"$f":"IF($A57=\"\",\"\",ROUND(SUMIFS(Schedule!$E:$E,Schedule!$A:$A,$A57,Schedule!$D:$D,$AM$3,Schedule!$B:$B,\">=\"&DATE($Q$2,$U$2,1),Schedule!$B:$B,\"<=\"&EOMONTH(DATE($Q$2,$U$2,1),0))/8,2))","v":""},{"$f":"IF($A57=\"\",\"\",ROUND(SUMIFS(Schedule!$E:$E,Schedule!$A:$A,$A57,Schedule!$D:$D,$AM$3,Schedule!$B:$B,\">=\"&DATE($Q$2,1,1),Schedule!$B:$B,\"<=\"&EOMONTH(DATE($Q$2,$U$2,1),0))/8,2))","v":""}]
[{"$f":"IF(Lookups!A55=\"\",\"\",Lookups!A55)","v":""},{"$f":"IF($A58=\"\",\"\",IF(OR(B$3=\"Sat\",B$3=\"Sun\"),\"\",IF(COUNTIF(Holidays!$A:$A,B$4)>0,\"H\",IFERROR(VLOOKUP((ROW(B58)-4)&\"_\"&B$4,Schedule!$H:$I,2,FALSE),\"\"))))","v":""},{"$f":"IF($A58=\"\",\"\",IF(OR(C$3=\"Sat\",C$3=\"Sun\"),\"\",IF(COUNTIF(Holidays!$A:$A,C$4)>0,\"H\",IFERROR(VLOOKUP((ROW(C58)-4)&\"_\"&C$4,Schedule!$H:$I,2,FALSE),\"\"))))","v":""},{"$f":"IF($A58=\"\",\"\",IF(OR(D$3=\"Sat\",D$3=\"Sun\"),\"\",IF(COUNTIF(Holidays!$A:$A,D$4)>0,\"H\",IFERROR(VLOOKUP((ROW(D58)-4)&\"_\"&D$4,Schedule!$H:$I,2,FALSE),\"\"))))","v":""},{"$f":"IF($A58=\"\",\"\",IF(OR(E$3=\"Sat\",E$3=\"Sun\"),\"\",IF(COUNTIF(Holidays!$A:$A,E$4)>0,\"H\",IFERROR(VLOOKUP((ROW(E58)-4)&\"_\"&E$4,Schedule!$H:$I,2,FALSE),\"\"))))","v":""},{"$f":"IF($A58=\"\",\"\",IF(OR(F$3=\"Sat\",F$3=\"Sun\"),\"\",IF(COUNTIF(Holidays!$A:$A,F$4)>0,\"H\",IFERROR(VLOOKUP((ROW(F58)-4)&\"_\"&F$4,Schedule!$H:$I,2,FALSE),\"\"))))","v":""},{"$f":"IF($A58=\"\",\"\",IF(OR(G$3=\"Sat\",G$3=\"Sun\"),\"\",IF(COUNTIF(Holidays!$A:$A,G$4)>0,\"H\",IFERROR(VLOOKUP((ROW(G58)-4)&\"_\"&G$4,Schedule!$H:$I,2,FALSE),\"\"))))","v":""},{"$f":"IF($A58=\"\",\"\",IF(OR(H$3=\"Sat\",H$3=\"Sun\"),\"\",IF(COUNTIF(Holidays!$A:$A,H$4)>0,\"H\",IFERROR(VLOOKUP((ROW(H58)-4)&\"_\"&H$4,Schedule!$H:$I,2,FALSE),\"\"))))","v":""},{"$f":"IF($A58=\"\",\"\",IF(OR(I$3=\"Sat\",I$3=\"Sun\"),\"\",IF(COUNTIF(Holidays!$A:$A,I$4)>0,\"H\",IFERROR(VLOOKUP((ROW(I58)-4)&\"_\"&I$4,Schedule!$H:$I,2,FALSE),\"\"))))","v":""},{"$f":"IF($A58=\"\",\"\",IF(OR(J$3=\"Sat\",J$3=\"Sun\"),\"\",IF(COUNTIF(Holidays!$A:$A,J$4)>0,\"H\",IFERROR(VLOOKUP((ROW(J58)-4)&\"_\"&J$4,Schedule!$H:$I,2,FALSE),\"\"))))","v":""},{"$f":"IF($A58=\"\",\"\",IF(OR(K$3=\"Sat\",K$3=\"Sun\"),\"\",IF(COUNTIF(Holidays!$A:$A,K$4)>0,\"H\",IFERROR(VLOOKUP((ROW(K58)-4)&\"_\"&K$4,Schedule!$H:$I,2,FALSE),\"\"))))","v":""},{"$f":"IF($A58=\"\",\"\",IF(OR(L$3=\"Sat\",L$3=\"Sun\"),\"\",IF(COUNTIF(Holidays!$A:$A,L$4)>0,\"H\",IFERROR(VLOOKUP((ROW(L58)-4)&\"_\"&L$4,Schedule!$H:$I,2,FALSE),\"\"))))","v":""},{"$f":"IF($A58=\"\",\"\",IF(OR(M$3=\"Sat\",M$3=\"Sun\"),\"\",IF(COUNTIF(Holidays!$A:$A,M$4)>0,\"H\",IFERROR(VLOOKUP((ROW(M58)-4)&\"_\"&M$4,Schedule!$H:$I,2,FALSE),\"\"))))","v":""},{"$f":"IF($A58=\"\",\"\",IF(OR(N$3=\"Sat\",N$3=\"Sun\"),\"\",IF(COUNTIF(Holidays!$A:$A,N$4)>0,\"H\",IFERROR(VLOOKUP((ROW(N58)-4)&\"_\"&N$4,Schedule!$H:$I,2,FALSE),\"\"))))","v":""},{"$f":"IF($A58=\"\",\"\",IF(OR(O$3=\"Sat\",O$3=\"Sun\"),\"\",IF(COUNTIF(Holidays!$A:$A,O$4)>0,\"H\",IFERROR(VLOOKUP((ROW(O58)-4)&\"_\"&O$4,Schedule!$H:$I,2,FALSE),\"\"))))","v":""},{"$f":"IF($A58=\"\",\"\",IF(OR(P$3=\"Sat\",P$3=\"Sun\"),\"\",IF(COUNTIF(Holidays!$A:$A,P$4)>0,\"H\",IFERROR(VLOOKUP((ROW(P58)-4)&\"_\"&P$4,Schedule!$H:$I,2,FALSE),\"\"))))","v":""},{"$f":"IF($A58=\"\",\"\",IF(OR(Q$3=\"Sat\",Q$3=\"Sun\"),\"\",IF(COUNTIF(Holidays!$A:$A,Q$4)>0,\"H\",IFERROR(VLOOKUP((ROW(Q58)-4)&\"_\"&Q$4,Schedule!$H:$I,2,FALSE),\"\"))))","v":""},{"$f":"IF($A58=\"\",\"\",IF(OR(R$3=\"Sat\",R$3=\"Sun\"),\"\",IF(COUNTIF(Holidays!$A:$A,R$4)>0,\"H\",IFERROR(VLOOKUP((ROW(R58)-4)&\"_\"&R$4,Schedule!$H:$I,2,FALSE),\"\"))))","v":""},{"$f":"IF($A58=\"\",\"\",IF(OR(S$3=\"Sat\",S$3=\"Sun\"),\"\",IF(COUNTIF(Holidays!$A:$A,S$4)>0,\"H\",IFERROR(VLOOKUP((ROW(S58)-4)&\"_\"&S$4,Schedule!$H:$I,2,FALSE),\"\"))))","v":""},{"$f":"IF($A58=\"\",\"\",IF(OR(T$3=\"Sat\",T$3=\"Sun\"),\"\",IF(COUNTIF(Holidays!$A:$A,T$4)>0,\"H\",IFERROR(VLOOKUP((ROW(T58)-4)&\"_\"&T$4,Schedule!$H:$I,2,FALSE),\"\"))))","v":""},{"$f":"IF($A58=\"\",\"\",IF(OR(U$3=\"Sat\",U$3=\"Sun\"),\"\",IF(COUNTIF(Holidays!$A:$A,U$4)>0,\"H\",IFERROR(VLOOKUP((ROW(U58)-4)&\"_\"&U$4,Schedule!$H:$I,2,FALSE),\"\"))))","v":""},{"$f":"IF($A58=\"\",\"\",IF(OR(V$3=\"Sat\",V$3=\"Sun\"),\"\",IF(COUNTIF(Holidays!$A:$A,V$4)>0,\"H\",IFERROR(VLOOKUP((ROW(V58)-4)&\"_\"&V$4,Schedule!$H:$I,2,FALSE),\"\"))))","v":""},{"$f":"IF($A58=\"\",\"\",IF(OR(W$3=\"Sat\",W$3=\"Sun\"),\"\",IF(COUNTIF(Holidays!$A:$A,W$4)>0,\"H\",IFERROR(VLOOKUP((ROW(W58)-4)&\"_\"&W$4,Schedule!$H:$I,2,FALSE),\"\"))))","v":""},{"$f":"IF($A58=\"\",\"\",IF(OR(X$3=\"Sat\",X$3=\"Sun\"),\"\",IF(COUNTIF(Holidays!$A:$A,X$4)>0,\"H\",IFERROR(VLOOKUP((ROW(X58)-4)&\"_\"&X$4,Schedule!$H:$I,2,FALSE),\"\"))))","v":""},{"$f":"IF($A58=\"\",\"\",IF(OR(Y$3=\"Sat\",Y$3=\"Sun\"),\"\",IF(COUNTIF(Holidays!$A:$A,Y$4)>0,\"H\",IFERROR(VLOOKUP((ROW(Y58)-4)&\"_\"&Y$4,Schedule!$H:$I,2,FALSE),\"\"))))","v":""},{"$f":"IF($A58=\"\",\"\",IF(OR(Z$3=\"Sat\",Z$3=\"Sun\"),\"\",IF(COUNTIF(Holidays!$A:$A,Z$4)>0,\"H\",IFERROR(VLOOKUP((ROW(Z58)-4)&\"_\"&Z$4,Schedule!$H:$I,2,FALSE),\"\"))))","v":""},{"$f":"IF($A58=\"\",\"\",IF(OR(AA$3=\"Sat\",AA$3=\"Sun\"),\"\",IF(COUNTIF(Holidays!$A:$A,AA$4)>0,\"H\",IFERROR(VLOOKUP((ROW(AA58)-4)&\"_\"&AA$4,Schedule!$H:$I,2,FALSE),\"\"))))","v":""},{"$f":"IF($A58=\"\",\"\",IF(OR(AB$3=\"Sat\",AB$3=\"Sun\"),\"\",IF(COUNTIF(Holidays!$A:$A,AB$4)>0,\"H\",IFERROR(VLOOKUP((ROW(AB58)-4)&\"_\"&AB$4,Schedule!$H:$I,2,FALSE),\"\"))))","v":""},{"$f":"IF($A58=\"\",\"\",IF(OR(AC$3=\"Sat\",AC$3=\"Sun\"),\"\",IF(COUNTIF(Holidays!$A:$A,AC$4)>0,\"H\",IFERROR(VLOOKUP((ROW(AC58)-4)&\"_\"&AC$4,Schedule!$H:$I,2,FALSE),\"\"))))","v":""},{"$f":"IF($A58=\"\",\"\",IF(OR(AD$3=\"Sat\",AD$3=\"Sun\"),\"\",IF(COUNTIF(Holidays!$A:$A,AD$4)>0,\"H\",IFERROR(VLOOKUP((ROW(AD58)-4)&\"_\"&AD$4,Schedule!$H:$I,2,FALSE),\"\"))))","v":""},{"$f":"IF($A58=\"\",\"\",IF(OR(AE$3=\"Sat\",AE$3=\"Sun\"),\"\",IF(COUNTIF(Holidays!$A:$A,AE$4)>0,\"H\",IFERROR(VLOOKUP((ROW(AE58)-4)&\"_\"&AE$4,Schedule!$H:$I,2,FALSE),\"\"))))","v":""},{"$f":"IF($A58=\"\",\"\",IF(OR(AF$3=\"Sat\",AF$3=\"Sun\"),\"\",IF(COUNTIF(Holidays!$A:$A,AF$4)>0,\"H\",IFERROR(VLOOKUP((ROW(AF58)-4)&\"_\"&AF$4,Schedule!$H:$I,2,FALSE),\"\"))))","v":""},{"$f":"IF($A58=\"\",\"\",IF(OR(AG$3=\"Sat\",AG$3=\"Sun\"),\"\",IF(COUNTIF(Holidays!$A:$A,AG$4)>0,\"H\",IFERROR(VLOOKUP((ROW(AG58)-4)&\"_\"&AG$4,Schedule!$H:$I,2,FALSE),\"\"))))","v":""},{"$f":"IF($A58=\"\",\"\",IF(OR(AH$3=\"Sat\",AH$3=\"Sun\"),\"\",IF(COUNTIF(Holidays!$A:$A,AH$4)>0,\"H\",IFERROR(VLOOKUP((ROW(AH58)-4)&\"_\"&AH$4,Schedule!$H:$I,2,FALSE),\"\"))))","v":""},{"$f":"IF($A58=\"\",\"\",IF(OR(AI$3=\"Sat\",AI$3=\"Sun\"),\"\",IF(COUNTIF(Holidays!$A:$A,AI$4)>0,\"H\",IFERROR(VLOOKUP((ROW(AI58)-4)&\"_\"&AI$4,Schedule!$H:$I,2,FALSE),\"\"))))","v":""},{"$f":"IF($A58=\"\",\"\",IF(OR(AJ$3=\"Sat\",AJ$3=\"Sun\"),\"\",IF(COUNTIF(Holidays!$A:$A,AJ$4)>0,\"H\",IFERROR(VLOOKUP((ROW(AJ58)-4)&\"_\"&AJ$4,Schedule!$H:$I,2,FALSE),\"\"))))","v":""},{"$f":"IF($A58=\"\",\"\",ROUND(SUMIFS(Schedule!$E:$E,Schedule!$A:$A,$A58,Schedule!$D:$D,$AK$3,Schedule!$B:$B,\">=\"&DATE($Q$2,$U$2,1),Schedule!$B:$B,\"<=\"&EOMONTH(DATE($Q$2,$U$2,1),0))/8,2))","v":""},{"$f":"IF($A58=\"\",\"\",ROUND(SUMIFS(Schedule!$E:$E,Schedule!$A:$A,$A58,Schedule!$D:$D,$AK$3,Schedule!$B:$B,\">=\"&DATE($Q$2,1,1),Schedule!$B:$B,\"<=\"&EOMONTH(DATE($Q$2,$U$2,1),0))/8,2))","v":""},{"$f":"IF($A58=\"\",\"\",ROUND(SUMIFS(Schedule!$E:$E,Schedule!$A:$A,$A58,Schedule!$D:$D,$AM$3,Schedule!$B:$B,\">=\"&DATE($Q$2,$U$2,1),Schedule!$B:$B,\"<=\"&EOMONTH(DATE($Q$2,$U$2,1),0))/8,2))","v":""},{"$f":"IF($A58=\"\",\"\",ROUND(SUMIFS(Schedule!$E:$E,Schedule!$A:$A,$A58,Schedule!$D:$D,$AM$3,Schedule!$B:$B,\">=\"&DATE($Q$2,1,1),Schedule!$B:$B,\"<=\"&EOMONTH(DATE($Q$2,$U$2,1),0))/8,2))","v":""}]
[{"$f":"IF(Lookups!A56=\"\",\"\",Lookups!A56)","v":""},{"$f":"IF($A59=\"\",\"\",IF(OR(B$3=\"Sat\",B$3=\"Sun\"),\"\",IF(COUNTIF(Holidays!$A:$A,B$4)>0,\"H\",IFERROR(VLOOKUP((ROW(B59)-4)&\"_\"&B$4,Schedule!$H:$I,2,FALSE),\"\"))))","v":""},{"$f":"IF($A59=\"\",\"\",IF(OR(C$3=\"Sat\",C$3=\"Sun\"),\"\",IF(COUNTIF(Holidays!$A:$A,C$4)>0,\"H\",IFERROR(VLOOKUP((ROW(C59)-4)&\"_\"&C$4,Schedule!$H:$I,2,FALSE),\"\"))))","v":""},{"$f":"IF($A59=\"\",\"\",IF(OR(D$3=\"Sat\",D$3=\"Sun\"),\"\",IF(COUNTIF(Holidays!$A:$A,D$4)>0,\"H\",IFERROR(VLOOKUP((ROW(D59)-4)&\"_\"&D$4,Schedule!$H:$I,2,FALSE),\"\"))))","v":""},{"$f":"IF($A59=\"\",\"\",IF(OR(E$3=\"Sat\",E$3=\"Sun\"),\"\",IF(COUNTIF(Holidays!$A:$A,E$4)>0,\"H\",IFERROR(VLOOKUP((ROW(E59)-4)&\"_\"&E$4,Schedule!$H:$I,2,FALSE),\"\"))))","v":""},{"$f":"IF($A59=\"\",\"\",IF(OR(F$3=\"Sat\",F$3=\"Sun\"),\"\",IF(COUNTIF(Holidays!$A:$A,F$4)>0,\"H\",IFERROR(VLOOKUP((ROW(F59)-4)&\"_\"&F$4,Schedule!$H:$I,2,FALSE),\"\"))))","v":""},{"$f":"IF($A59=\"\",\"\",IF(OR(G$3=\"Sat\",G$3=\"Sun\"),\"\",IF(COUNTIF(Holidays!$A:$A,G$4)>0,\"H\",IFERROR(VLOOKUP((ROW(G59)-4)&\"_\"&G$4,Schedule!$H:$I,2,FALSE),\"\"))))","v":""},{"$f":"IF($A59=\"\",\"\",IF(OR(H$3=\"Sat\",H$3=\"Sun\"),\"\",IF(COUNTIF(Holidays!$A:$A,H$4)>0,\"H\",IFERROR(VLOOKUP((ROW(H59)-4)&\"_\"&H$4,Schedule!$H:$I,2,FALSE),\"\"))))","v":""},{"$f":"IF($A59=\"\",\"\",IF(OR(I$3=\"Sat\",I$3=\"Sun\"),\"\",IF(COUNTIF(Holidays!$A:$A,I$4)>0,\"H\",IFERROR(VLOOKUP((ROW(I59)-4)&\"_\"&I$4,Schedule!$H:$I,2,FALSE),\"\"))))","v":""},{"$f":"IF($A59=\"\",\"\",IF(OR(J$3=\"Sat\",J$3=\"Sun\"),\"\",IF(COUNTIF(Holidays!$A:$A,J$4)>0,\"H\",IFERROR(VLOOKUP((ROW(J59)-4)&\"_\"&J$4,Schedule!$H:$I,2,FALSE),\"\"))))","v":""},{"$f":"IF($A59=\"\",\"\",IF(OR(K$3=\"Sat\",K$3=\"Sun\"),\"\",IF(COUNTIF(Holidays!$A:$A,K$4)>0,\"H\",IFERROR(VLOOKUP((ROW(K59)-4)&\"_\"&K$4,Schedule!$H:$I,2,FALSE),\"\"))))","v":""},{"$f":"IF($A59=\"\",\"\",IF(OR(L$3=\"Sat\",L$3=\"Sun\"),\"\",IF(COUNTIF(Holidays!$A:$A,L$4)>0,\"H\",IFERROR(VLOOKUP((ROW(L59)-4)&\"_\"&L$4,Schedule!$H:$I,2,FALSE),\"\"))))","v":""},{"$f":"IF($A59=\"\",\"\",IF(OR(M$3=\"Sat\",M$3=\"Sun\"),\"\",IF(COUNTIF(Holidays!$A:$A,M$4)>0,\"H\",IFERROR(VLOOKUP((ROW(M59)-4)&\"_\"&M$4,Schedule!$H:$I,2,FALSE),\"\"))))","v":""},{"$f":"IF($A59=\"\",\"\",IF(OR(N$3=\"Sat\",N$3=\"Sun\"),\"\",IF(COUNTIF(Holidays!$A:$A,N$4)>0,\"H\",IFERROR(VLOOKUP((ROW(N59)-4)&\"_\"&N$4,Schedule!$H:$I,2,FALSE),\"\"))))","v":""},{"$f":"IF($A59=\"\",\"\",IF(OR(O$3=\"Sat\",O$3=\"Sun\"),\"\",IF(COUNTIF(Holidays!$A:$A,O$4)>0,\"H\",IFERROR(VLOOKUP((ROW(O59)-4)&\"_\"&O$4,Schedule!$H:$I,2,FALSE),\"\"))))","v":""},{"$f":"IF($A59=\"\",\"\",IF(OR(P$3=\"Sat\",P$3=\"Sun\"),\"\",IF(COUNTIF(Holidays!$A:$A,P$4)>0,\"H\",IFERROR(VLOOKUP((ROW(P59)-4)&\"_\"&P$4,Schedule!$H:$I,2,FALSE),\"\"))))","v":""},{"$f":"IF($A59=\"\",\"\",IF(OR(Q$3=\"Sat\",Q$3=\"Sun\"),\"\",IF(COUNTIF(Holidays!$A:$A,Q$4)>0,\"H\",IFERROR(VLOOKUP((ROW(Q59)-4)&\"_\"&Q$4,Schedule!$H:$I,2,FALSE),\"\"))))","v":""},{"$f":"IF($A59=\"\",\"\",IF(OR(R$3=\"Sat\",R$3=\"Sun\"),\"\",IF(COUNTIF(Holidays!$A:$A,R$4)>0,\"H\",IFERROR(VLOOKUP((ROW(R59)-4)&\"_\"&R$4,Schedule!$H:$I,2,FALSE),\"\"))))","v":""},{"$f":"IF($A59=\"\",\"\",IF(OR(S$3=\"Sat\",S$3=\"Sun\"),\"\",IF(COUNTIF(Holidays!$A:$A,S$4)>0,\"H\",IFERROR(VLOOKUP((ROW(S59)-4)&\"_\"&S$4,Schedule!$H:$I,2,FALSE),\"\"))))","v":""},{"$f":"IF($A59=\"\",\"\",IF(OR(T$3=\"Sat\",T$3=\"Sun\"),\"\",IF(COUNTIF(Holidays!$A:$A,T$4)>0,\"H\",IFERROR(VLOOKUP((ROW(T59)-4)&\"_\"&T$4,Schedule!$H:$I,2,FALSE),\"\"))))","v":""},{"$f":"IF($A59=\"\",\"\",IF(OR(U$3=\"Sat\",U$3=\"Sun\"),\"\",IF(COUNTIF(Holidays!$A:$A,U$4)>0,\"H\",IFERROR(VLOOKUP((ROW(U59)-4)&\"_\"&U$4,Schedule!$H:$I,2,FALSE),\"\"))))","v":""},{"$f":"IF($A59=\"\",\"\",IF(OR(V$3=\"Sat\",V$3=\"Sun\"),\"\",IF(COUNTIF(Holidays!$A:$A,V$4)>0,\"H\",IFERROR(VLOOKUP((ROW(V59)-4)&\"_\"&V$4,Schedule!$H:$I,2,FALSE),\"\"))))","v":""},{"$f":"IF($A59=\"\",\"\",IF(OR(W$3=\"Sat\",W$3=\"Sun\"),\"\",IF(COUNTIF(Holidays!$A:$A,W$4)>0,\"H\",IFERROR(VLOOKUP((ROW(W59)-4)&\"_\"&W$4,Schedule!$H:$I,2,FALSE),\"\"))))","v":""},{"$f":"IF($A59=\"\",\"\",IF(OR(X$3=\"Sat\",X$3=\"Sun\"),\"\",IF(COUNTIF(Holidays!$A:$A,X$4)>0,\"H\",IFERROR(VLOOKUP((ROW(X59)-4)&\"_\"&X$4,Schedule!$H:$I,2,FALSE),\"\"))))","v":""},{"$f":"IF($A59=\"\",\"\",IF(OR(Y$3=\"Sat\",Y$3=\"Sun\"),\"\",IF(COUNTIF(Holidays!$A:$A,Y$4)>0,\"H\",IFERROR(VLOOKUP((ROW(Y59)-4)&\"_\"&Y$4,Schedule!$H:$I,2,FALSE),\"\"))))","v":""},{"$f":"IF($A59=\"\",\"\",IF(OR(Z$3=\"Sat\",Z$3=\"Sun\"),\"\",IF(COUNTIF(Holidays!$A:$A,Z$4)>0,\"H\",IFERROR(VLOOKUP((ROW(Z59)-4)&\"_\"&Z$4,Schedule!$H:$I,2,FALSE),\"\"))))","v":""},{"$f":"IF($A59=\"\",\"\",IF(OR(AA$3=\"Sat\",AA$3=\"Sun\"),\"\",IF(COUNTIF(Holidays!$A:$A,AA$4)>0,\"H\",IFERROR(VLOOKUP((ROW(AA59)-4)&\"_\"&AA$4,Schedule!$H:$I,2,FALSE),\"\"))))","v":""},{"$f":"IF($A59=\"\",\"\",IF(OR(AB$3=\"Sat\",AB$3=\"Sun\"),\"\",IF(COUNTIF(Holidays!$A:$A,AB$4)>0,\"H\",IFERROR(VLOOKUP((ROW(AB59)-4)&\"_\"&AB$4,Schedule!$H:$I,2,FALSE),\"\"))))","v":""},{"$f":"IF($A59=\"\",\"\",IF(OR(AC$3=\"Sat\",AC$3=\"Sun\"),\"\",IF(COUNTIF(Holidays!$A:$A,AC$4)>0,\"H\",IFERROR(VLOOKUP((ROW(AC59)-4)&\"_\"&AC$4,Schedule!$H:$I,2,FALSE),\"\"))))","v":""},{"$f":"IF($A59=\"\",\"\",IF(OR(AD$3=\"Sat\",AD$3=\"Sun\"),\"\",IF(COUNTIF(Holidays!$A:$A,AD$4)>0,\"H\",IFERROR(VLOOKUP((ROW(AD59)-4)&\"_\"&AD$4,Schedule!$H:$I,2,FALSE),\"\"))))","v":""},{"$f":"IF($A59=\"\",\"\",IF(OR(AE$3=\"Sat\",AE$3=\"Sun\"),\"\",IF(COUNTIF(Holidays!$A:$A,AE$4)>0,\"H\",IFERROR(VLOOKUP((ROW(AE59)-4)&\"_\"&AE$4,Schedule!$H:$I,2,FALSE),\"\"))))","v":""},{"$f":"IF($A59=\"\",\"\",IF(OR(AF$3=\"Sat\",AF$3=\"Sun\"),\"\",IF(COUNTIF(Holidays!$A:$A,AF$4)>0,\"H\",IFERROR(VLOOKUP((ROW(AF59)-4)&\"_\"&AF$4,Schedule!$H:$I,2,FALSE),\"\"))))","v":""},{"$f":"IF($A59=\"\",\"\",IF(OR(AG$3=\"Sat\",AG$3=\"Sun\"),\"\",IF(COUNTIF(Holidays!$A:$A,AG$4)>0,\"H\",IFERROR(VLOOKUP((ROW(AG59)-4)&\"_\"&AG$4,Schedule!$H:$I,2,FALSE),\"\"))))","v":""},{"$f":"IF($A59=\"\",\"\",IF(OR(AH$3=\"Sat\",AH$3=\"Sun\"),\"\",IF(COUNTIF(Holidays!$A:$A,AH$4)>0,\"H\",IFERROR(VLOOKUP((ROW(AH59)-4)&\"_\"&AH$4,Schedule!$H:$I,2,FALSE),\"\"))))","v":""},{"$f":"IF($A59=\"\",\"\",IF(OR(AI$3=\"Sat\",AI$3=\"Sun\"),\"\",IF(COUNTIF(Holidays!$A:$A,AI$4)>0,\"H\",IFERROR(VLOOKUP((ROW(AI59)-4)&\"_\"&AI$4,Schedule!$H:$I,2,FALSE),\"\"))))","v":""},{"$f":"IF($A59=\"\",\"\",IF(OR(AJ$3=\"Sat\",AJ$3=\"Sun\"),\"\",IF(COUNTIF(Holidays!$A:$A,AJ$4)>0,\"H\",IFERROR(VLOOKUP((ROW(AJ59)-4)&\"_\"&AJ$4,Schedule!$H:$I,2,FALSE),\"\"))))","v":""},{"$f":"IF($A59=\"\",\"\",ROUND(SUMIFS(Schedule!$E:$E,Schedule!$A:$A,$A59,Schedule!$D:$D,$AK$3,Schedule!$B:$B,\">=\"&DATE($Q$2,$U$2,1),Schedule!$B:$B,\"<=\"&EOMONTH(DATE($Q$2,$U$2,1),0))/8,2))","v":""},{"$f":"IF($A59=\"\",\"\",ROUND(SUMIFS(Schedule!$E:$E,Schedule!$A:$A,$A59,Schedule!$D:$D,$AK$3,Schedule!$B:$B,\">=\"&DATE($Q$2,1,1),Schedule!$B:$B,\"<=\"&EOMONTH(DATE($Q$2,$U$2,1),0))/8,2))","v":""},{"$f":"IF($A59=\"\",\"\",ROUND(SUMIFS(Schedule!$E:$E,Schedule!$A:$A,$A59,Schedule!$D:$D,$AM$3,Schedule!$B:$B,\">=\"&DATE($Q$2,$U$2,1),Schedule!$B:$B,\"<=\"&EOMONTH(DATE($Q$2,$U$2,1),0))/8,2))","v":""},{"$f":"IF($A59=\"\",\"\",ROUND(SUMIFS(Schedule!$E:$E,Schedule!$A:$A,$A59,Schedule!$D:$D,$AM$3,Schedule!$B:$B,\">=\"&DATE($Q$2,1,1),Schedule!$B:$B,\"<=\"&EOMONTH(DATE($Q$2,$U$2,1),0))/8,2))","v":""}]
[{"$f":"IF(Lookups!A57=\"\",\"\",Lookups!A57)","v":""},{"$f":"IF($A60=\"\",\"\",IF(OR(B$3=\"Sat\",B$3=\"Sun\"),\"\",IF(COUNTIF(Holidays!$A:$A,B$4)>0,\"H\",IFERROR(VLOOKUP((ROW(B60)-4)&\"_\"&B$4,Schedule!$H:$I,2,FALSE),\"\"))))","v":""},{"$f":"IF($A60=\"\",\"\",IF(OR(C$3=\"Sat\",C$3=\"Sun\"),\"\",IF(COUNTIF(Holidays!$A:$A,C$4)>0,\"H\",IFERROR(VLOOKUP((ROW(C60)-4)&\"_\"&C$4,Schedule!$H:$I,2,FALSE),\"\"))))","v":""},{"$f":"IF($A60=\"\",\"\",IF(OR(D$3=\"Sat\",D$3=\"Sun\"),\"\",IF(COUNTIF(Holidays!$A:$A,D$4)>0,\"H\",IFERROR(VLOOKUP((ROW(D60)-4)&\"_\"&D$4,Schedule!$H:$I,2,FALSE),\"\"))))","v":""},{"$f":"IF($A60=\"\",\"\",IF(OR(E$3=\"Sat\",E$3=\"Sun\"),\"\",IF(COUNTIF(Holidays!$A:$A,E$4)>0,\"H\",IFERROR(VLOOKUP((ROW(E60)-4)&\"_\"&E$4,Schedule!$H:$I,2,FALSE),\"\"))))","v":""},{"$f":"IF($A60=\"\",\"\",IF(OR(F$3=\"Sat\",F$3=\"Sun\"),\"\",IF(COUNTIF(Holidays!$A:$A,F$4)>0,\"H\",IFERROR(VLOOKUP((ROW(F60)-4)&\"_\"&F$4,Schedule!$H:$I,2,FALSE),\"\"))))","v":""},{"$f":"IF($A60=\"\",\"\",IF(OR(G$3=\"Sat\",G$3=\"Sun\"),\"\",IF(COUNTIF(Holidays!$A:$A,G$4)>0,\"H\",IFERROR(VLOOKUP((ROW(G60)-4)&\"_\"&G$4,Schedule!$H:$I,2,FALSE),\"\"))))","v":""},{"$f":"IF($A60=\"\",\"\",IF(OR(H$3=\"Sat\",H$3=\"Sun\"),\"\",IF(COUNTIF(Holidays!$A:$A,H$4)>0,\"H\",IFERROR(VLOOKUP((ROW(H60)-4)&\"_\"&H$4,Schedule!$H:$I,2,FALSE),\"\"))))","v":""},{"$f":"IF($A60=\"\",\"\",IF(OR(I$3=\"Sat\",I$3=\"Sun\"),\"\",IF(COUNTIF(Holidays!$A:$A,I$4)>0,\"H\",IFERROR(VLOOKUP((ROW(I60)-4)&\"_\"&I$4,Schedule!$H:$I,2,FALSE),\"\"))))","v":""},{"$f":"IF($A60=\"\",\"\",IF(OR(J$3=\"Sat\",J$3=\"Sun\"),\"\",IF(COUNTIF(Holidays!$A:$A,J$4)>0,\"H\",IFERROR(VLOOKUP((ROW(J60)-4)&\"_\"&J$4,Schedule!$H:$I,2,FALSE),\"\"))))","v":""},{"$f":"IF($A60=\"\",\"\",IF(OR(K$3=\"Sat\",K$3=\"Sun\"),\"\",IF(COUNTIF(Holidays!$A:$A,K$4)>0,\"H\",IFERROR(VLOOKUP((ROW(K60)-4)&\"_\"&K$4,Schedule!$H:$I,2,FALSE),\"\"))))","v":""},{"$f":"IF($A60=\"\",\"\",IF(OR(L$3=\"Sat\",L$3=\"Sun\"),\"\",IF(COUNTIF(Holidays!$A:$A,L$4)>0,\"H\",IFERROR(VLOOKUP((ROW(L60)-4)&\"_\"&L$4,Schedule!$H:$I,2,FALSE),\"\"))))","v":""},{"$f":"IF($A60=\"\",\"\",IF(OR(M$3=\"Sat\",M$3=\"Sun\"),\"\",IF(COUNTIF(Holidays!$A:$A,M$4)>0,\"H\",IFERROR(VLOOKUP((ROW(M60)-4)&\"_\"&M$4,Schedule!$H:$I,2,FALSE),\"\"))))","v":""},{"$f":"IF($A60=\"\",\"\",IF(OR(N$3=\"Sat\",N$3=\"Sun\"),\"\",IF(COUNTIF(Holidays!$A:$A,N$4)>0,\"H\",IFERROR(VLOOKUP((ROW(N60)-4)&\"_\"&N$4,Schedule!$H:$I,2,FALSE),\"\"))))","v":""},{"$f":"IF($A60=\"\",\"\",IF(OR(O$3=\"Sat\",O$3=\"Sun\"),\"\",IF(COUNTIF(Holidays!$A:$A,O$4)>0,\"H\",IFERROR(VLOOKUP((ROW(O60)-4)&\"_\"&O$4,Schedule!$H:$I,2,FALSE),\"\"))))","v":""},{"$f":"IF($A60=\"\",\"\",IF(OR(P$3=\"Sat\",P$3=\"Sun\"),\"\",IF(COUNTIF(Holidays!$A:$A,P$4)>0,\"H\",IFERROR(VLOOKUP((ROW(P60)-4)&\"_\"&P$4,Schedule!$H:$I,2,FALSE),\"\"))))","v":""},{"$f":"IF($A60=\"\",\"\",IF(OR(Q$3=\"Sat\",Q$3=\"Sun\"),\"\",IF(COUNTIF(Holidays!$A:$A,Q$4)>0,\"H\",IFERROR(VLOOKUP((ROW(Q60)-4)&\"_\"&Q$4,Schedule!$H:$I,2,FALSE),\"\"))))","v":""},{"$f":"IF($A60=\"\",\"\",IF(OR(R$3=\"Sat\",R$3=\"Sun\"),\"\",IF(COUNTIF(Holidays!$A:$A,R$4)>0,\"H\",IFERROR(VLOOKUP((ROW(R60)-4)&\"_\"&R$4,Schedule!$H:$I,2,FALSE),\"\"))))","v":""},{"$f":"IF($A60=\"\",\"\",IF(OR(S$3=\"Sat\",S$3=\"Sun\"),\"\",IF(COUNTIF(Holidays!$A:$A,S$4)>0,\"H\",IFERROR(VLOOKUP((ROW(S60)-4)&\"_\"&S$4,Schedule!$H:$I,2,FALSE),\"\"))))","v":""},{"$f":"IF($A60=\"\",\"\",IF(OR(T$3=\"Sat\",T$3=\"Sun\"),\"\",IF(COUNTIF(Holidays!$A:$A,T$4)>0,\"H\",IFERROR(VLOOKUP((ROW(T60)-4)&\"_\"&T$4,Schedule!$H:$I,2,FALSE),\"\"))))","v":""},{"$f":"IF($A60=\"\",\"\",IF(OR(U$3=\"Sat\",U$3=\"Sun\"),\"\",IF(COUNTIF(Holidays!$A:$A,U$4)>0,\"H\",IFERROR(VLOOKUP((ROW(U60)-4)&\"_\"&U$4,Schedule!$H:$I,2,FALSE),\"\"))))","v":""},{"$f":"IF($A60=\"\",\"\",IF(OR(V$3=\"Sat\",V$3=\"Sun\"),\"\",IF(COUNTIF(Holidays!$A:$A,V$4)>0,\"H\",IFERROR(VLOOKUP((ROW(V60)-4)&\"_\"&V$4,Schedule!$H:$I,2,FALSE),\"\"))))","v":""},{"$f":"IF($A60=\"\",\"\",IF(OR(W$3=\"Sat\",W$3=\"Sun\"),\"\",IF(COUNTIF(Holidays!$A:$A,W$4)>0,\"H\",IFERROR(VLOOKUP((ROW(W60)-4)&\"_\"&W$4,Schedule!$H:$I,2,FALSE),\"\"))))","v":""},{"$f":"IF($A60=\"\",\"\",IF(OR(X$3=\"Sat\",X$3=\"Sun\"),\"\",IF(COUNTIF(Holidays!$A:$A,X$4)>0,\"H\",IFERROR(VLOOKUP((ROW(X60)-4)&\"_\"&X$4,Schedule!$H:$I,2,FALSE),\"\"))))","v":""},{"$f":"IF($A60=\"\",\"\",IF(OR(Y$3=\"Sat\",Y$3=\"Sun\"),\"\",IF(COUNTIF(Holidays!$A:$A,Y$4)>0,\"H\",IFERROR(VLOOKUP((ROW(Y60)-4)&\"_\"&Y$4,Schedule!$H:$I,2,FALSE),\"\"))))","v":""},{"$f":"IF($A60=\"\",\"\",IF(OR(Z$3=\"Sat\",Z$3=\"Sun\"),\"\",IF(COUNTIF(Holidays!$A:$A,Z$4)>0,\"H\",IFERROR(VLOOKUP((ROW(Z60)-4)&\"_\"&Z$4,Schedule!$H:$I,2,FALSE),\"\"))))","v":""},{"$f":"IF($A60=\"\",\"\",IF(OR(AA$3=\"Sat\",AA$3=\"Sun\"),\"\",IF(COUNTIF(Holidays!$A:$A,AA$4)>0,\"H\",IFERROR(VLOOKUP((ROW(AA60)-4)&\"_\"&AA$4,Schedule!$H:$I,2,FALSE),\"\"))))","v":""},{"$f":"IF($A60=\"\",\"\",IF(OR(AB$3=\"Sat\",AB$3=\"Sun\"),\"\",IF(COUNTIF(Holidays!$A:$A,AB$4)>0,\"H\",IFERROR(VLOOKUP((ROW(AB60)-4)&\"_\"&AB$4,Schedule!$H:$I,2,FALSE),\"\"))))","v":""},{"$f":"IF($A60=\"\",\"\",IF(OR(AC$3=\"Sat\",AC$3=\"Sun\"),\"\",IF(COUNTIF(Holidays!$A:$A,AC$4)>0,\"H\",IFERROR(VLOOKUP((ROW(AC60)-4)&\"_\"&AC$4,Schedule!$H:$I,2,FALSE),\"\"))))","v":""},{"$f":"IF($A60=\"\",\"\",IF(OR(AD$3=\"Sat\",AD$3=\"Sun\"),\"\",IF(COUNTIF(Holidays!$A:$A,AD$4)>0,\"H\",IFERROR(VLOOKUP((ROW(AD60)-4)&\"_\"&AD$4,Schedule!$H:$I,2,FALSE),\"\"))))","v":""},{"$f":"IF($A60=\"\",\"\",IF(OR(AE$3=\"Sat\",AE$3=\"Sun\"),\"\",IF(COUNTIF(Holidays!$A:$A,AE$4)>0,\"H\",IFERROR(VLOOKUP((ROW(AE60)-4)&\"_\"&AE$4,Schedule!$H:$I,2,FALSE),\"\"))))","v":""},{"$f":"IF($A60=\"\",\"\",IF(OR(AF$3=\"Sat\",AF$3=\"Sun\"),\"\",IF(COUNTIF(Holidays!$A:$A,AF$4)>0,\"H\",IFERROR(VLOOKUP((ROW(AF60)-4)&\"_\"&AF$4,Schedule!$H:$I,2,FALSE),\"\"))))","v":""},{"$f":"IF($A60=\"\",\"\",IF(OR(AG$3=\"Sat\",AG$3=\"Sun\"),\"\",IF(COUNTIF(Holidays!$A:$A,AG$4)>0,\"H\",IFERROR(VLOOKUP((ROW(AG60)-4)&\"_\"&AG$4,Schedule!$H:$I,2,FALSE),\"\"))))","v":""},{"$f":"IF($A60=\"\",\"\",IF(OR(AH$3=\"Sat\",AH$3=\"Sun\"),\"\",IF(COUNTIF(Holidays!$A:$A,AH$4)>0,\"H\",IFERROR(VLOOKUP((ROW(AH60)-4)&\"_\"&AH$4,Schedule!$H:$I,2,FALSE),\"\"))))","v":""},{"$f":"IF($A60=\"\",\"\",IF(OR(AI$3=\"Sat\",AI$3=\"Sun\"),\"\",IF(COUNTIF(Holidays!$A:$A,AI$4)>0,\"H\",IFERROR(VLOOKUP((ROW(AI60)-4)&\"_\"&AI$4,Schedule!$H:$I,2,FALSE),\"\"))))","v":""},{"$f":"IF($A60=\"\",\"\",IF(OR(AJ$3=\"Sat\",AJ$3=\"Sun\"),\"\",IF(COUNTIF(Holidays!$A:$A,AJ$4)>0,\"H\",IFERROR(VLOOKUP((ROW(AJ60)-4)&\"_\"&AJ$4,Schedule!$H:$I,2,FALSE),\"\"))))","v":""},{"$f":"IF($A60=\"\",\"\",ROUND(SUMIFS(Schedule!$E:$E,Schedule!$A:$A,$A60,Schedule!$D:$D,$AK$3,Schedule!$B:$B,\">=\"&DATE($Q$2,$U$2,1),Schedule!$B:$B,\"<=\"&EOMONTH(DATE($Q$2,$U$2,1),0))/8,2))","v":""},{"$f":"IF($A60=\"\",\"\",ROUND(SUMIFS(Schedule!$E:$E,Schedule!$A:$A,$A60,Schedule!$D:$D,$AK$3,Schedule!$B:$B,\">=\"&DATE($Q$2,1,1),Schedule!$B:$B,\"<=\"&EOMONTH(DATE($Q$2,$U$2,1),0))/8,2))","v":""},{"$f":"IF($A60=\"\",\"\",ROUND(SUMIFS(Schedule!$E:$E,Schedule!$A:$A,$A60,Schedule!$D:$D,$AM$3,Schedule!$B:$B,\">=\"&DATE($Q$2,$U$2,1),Schedule!$B:$B,\"<=\"&EOMONTH(DATE($Q$2,$U$2,1),0))/8,2))","v":""},{"$f":"IF($A60=\"\",\"\",ROUND(SUMIFS(Schedule!$E:$E,Schedule!$A:$A,$A60,Schedule!$D:$D,$AM$3,Schedule!$B:$B,\">=\"&DATE($Q$2,1,1),Schedule!$B:$B,\"<=\"&EOMONTH(DATE($Q$2,$U$2,1),0))/8,2))","v":""}]
[{"$f":"IF(Lookups!A58=\"\",\"\",Lookups!A58)","v":""},{"$f":"IF($A61=\"\",\"\",IF(OR(B$3=\"Sat\",B$3=\"Sun\"),\"\",IF(COUNTIF(Holidays!$A:$A,B$4)>0,\"H\",IFERROR(VLOOKUP((ROW(B61)-4)&\"_\"&B$4,Schedule!$H:$I,2,FALSE),\"\"))))","v":""},{"$f":"IF($A61=\"\",\"\",IF(OR(C$3=\"Sat\",C$3=\"Sun\"),\"\",IF(COUNTIF(Holidays!$A:$A,C$4)>0,\"H\",IFERROR(VLOOKUP((ROW(C61)-4)&\"_\"&C$4,Schedule!$H:$I,2,FALSE),\"\"))))","v":""},{"$f":"IF($A61=\"\",\"\",IF(OR(D$3=\"Sat\",D$3=\"Sun\"),\"\",IF(COUNTIF(Holidays!$A:$A,D$4)>0,\"H\",IFERROR(VLOOKUP((ROW(D61)-4)&\"_\"&D$4,Schedule!$H:$I,2,FALSE),\"\"))))","v":""},{"$f":"IF($A61=\"\",\"\",IF(OR(E$3=\"Sat\",E$3=\"Sun\"),\"\",IF(COUNTIF(Holidays!$A:$A,E$4)>0,\"H\",IFERROR(VLOOKUP((ROW(E61)-4)&\"_\"&E$4,Schedule!$H:$I,2,FALSE),\"\"))))","v":""},{"$f":"IF($A61=\"\",\"\",IF(OR(F$3=\"Sat\",F$3=\"Sun\"),\"\",IF(COUNTIF(Holidays!$A:$A,F$4)>0,\"H\",IFERROR(VLOOKUP((ROW(F61)-4)&\"_\"&F$4,Schedule!$H:$I,2,FALSE),\"\"))))","v":""},{"$f":"IF($A61=\"\",\"\",IF(OR(G$3=\"Sat\",G$3=\"Sun\"),\"\",IF(COUNTIF(Holidays!$A:$A,G$4)>0,\"H\",IFERROR(VLOOKUP((ROW(G61)-4)&\"_\"&G$4,Schedule!$H:$I,2,FALSE),\"\"))))","v":""},{"$f":"IF($A61=\"\",\"\",IF(OR(H$3=\"Sat\",H$3=\"Sun\"),\"\",IF(COUNTIF(Holidays!$A:$A,H$4)>0,\"H\",IFERROR(VLOOKUP((ROW(H61)-4)&\"_\"&H$4,Schedule!$H:$I,2,FALSE),\"\"))))","v":""},{"$f":"IF($A61=\"\",\"\",IF(OR(I$3=\"Sat\",I$3=\"Sun\"),\"\",IF(COUNTIF(Holidays!$A:$A,I$4)>0,\"H\",IFERROR(VLOOKUP((ROW(I61)-4)&\"_\"&I$4,Schedule!$H:$I,2,FALSE),\"\"))))","v":""},{"$f":"IF($A61=\"\",\"\",IF(OR(J$3=\"Sat\",J$3=\"Sun\"),\"\",IF(COUNTIF(Holidays!$A:$A,J$4)>0,\"H\",IFERROR(VLOOKUP((ROW(J61)-4)&\"_\"&J$4,Schedule!$H:$I,2,FALSE),\"\"))))","v":""},{"$f":"IF($A61=\"\",\"\",IF(OR(K$3=\"Sat\",K$3=\"Sun\"),\"\",IF(COUNTIF(Holidays!$A:$A,K$4)>0,\"H\",IFERROR(VLOOKUP((ROW(K61)-4)&\"_\"&K$4,Schedule!$H:$I,2,FALSE),\"\"))))","v":""},{"$f":"IF($A61=\"\",\"\",IF(OR(L$3=\"Sat\",L$3=\"Sun\"),\"\",IF(COUNTIF(Holidays!$A:$A,L$4)>0,\"H\",IFERROR(VLOOKUP((ROW(L61)-4)&\"_\"&L$4,Schedule!$H:$I,2,FALSE),\"\"))))","v":""},{"$f":"IF($A61=\"\",\"\",IF(OR(M$3=\"Sat\",M$3=\"Sun\"),\"\",IF(COUNTIF(Holidays!$A:$A,M$4)>0,\"H\",IFERROR(VLOOKUP((ROW(M61)-4)&\"_\"&M$4,Schedule!$H:$I,2,FALSE),\"\"))))","v":""},{"$f":"IF($A61=\"\",\"\",IF(OR(N$3=\"Sat\",N$3=\"Sun\"),\"\",IF(COUNTIF(Holidays!$A:$A,N$4)>0,\"H\",IFERROR(VLOOKUP((ROW(N61)-4)&\"_\"&N$4,Schedule!$H:$I,2,FALSE),\"\"))))","v":""},{"$f":"IF($A61=\"\",\"\",IF(OR(O$3=\"Sat\",O$3=\"Sun\"),\"\",IF(COUNTIF(Holidays!$A:$A,O$4)>0,\"H\",IFERROR(VLOOKUP((ROW(O61)-4)&\"_\"&O$4,Schedule!$H:$I,2,FALSE),\"\"))))","v":""},{"$f":"IF($A61=\"\",\"\",IF(OR(P$3=\"Sat\",P$3=\"Sun\"),\"\",IF(COUNTIF(Holidays!$A:$A,P$4)>0,\"H\",IFERROR(VLOOKUP((ROW(P61)-4)&\"_\"&P$4,Schedule!$H:$I,2,FALSE),\"\"))))","v":""},{"$f":"IF($A61=\"\",\"\",IF(OR(Q$3=\"Sat\",Q$3=\"Sun\"),\"\",IF(COUNTIF(Holidays!$A:$A,Q$4)>0,\"H\",IFERROR(VLOOKUP((ROW(Q61)-4)&\"_\"&Q$4,Schedule!$H:$I,2,FALSE),\"\"))))","v":""},{"$f":"IF($A61=\"\",\"\",IF(OR(R$3=\"Sat\",R$3=\"Sun\"),\"\",IF(COUNTIF(Holidays!$A:$A,R$4)>0,\"H\",IFERROR(VLOOKUP((ROW(R61)-4)&\"_\"&R$4,Schedule!$H:$I,2,FALSE),\"\"))))","v":""},{"$f":"IF($A61=\"\",\"\",IF(OR(S$3=\"Sat\",S$3=\"Sun\"),\"\",IF(COUNTIF(Holidays!$A:$A,S$4)>0,\"H\",IFERROR(VLOOKUP((ROW(S61)-4)&\"_\"&S$4,Schedule!$H:$I,2,FALSE),\"\"))))","v":""},{"$f":"IF($A61=\"\",\"\",IF(OR(T$3=\"Sat\",T$3=\"Sun\"),\"\",IF(COUNTIF(Holidays!$A:$A,T$4)>0,\"H\",IFERROR(VLOOKUP((ROW(T61)-4)&\"_\"&T$4,Schedule!$H:$I,2,FALSE),\"\"))))","v":""},{"$f":"IF($A61=\"\",\"\",IF(OR(U$3=\"Sat\",U$3=\"Sun\"),\"\",IF(COUNTIF(Holidays!$A:$A,U$4)>0,\"H\",IFERROR(VLOOKUP((ROW(U61)-4)&\"_\"&U$4,Schedule!$H:$I,2,FALSE),\"\"))))","v":""},{"$f":"IF($A61=\"\",\"\",IF(OR(V$3=\"Sat\",V$3=\"Sun\"),\"\",IF(COUNTIF(Holidays!$A:$A,V$4)>0,\"H\",IFERROR(VLOOKUP((ROW(V61)-4)&\"_\"&V$4,Schedule!$H:$I,2,FALSE),\"\"))))","v":""},{"$f":"IF($A61=\"\",\"\",IF(OR(W$3=\"Sat\",W$3=\"Sun\"),\"\",IF(COUNTIF(Holidays!$A:$A,W$4)>0,\"H\",IFERROR(VLOOKUP((ROW(W61)-4)&\"_\"&W$4,Schedule!$H:$I,2,FALSE),\"\"))))","v":""},{"$f":"IF($A61=\"\",\"\",IF(OR(X$3=\"Sat\",X$3=\"Sun\"),\"\",IF(COUNTIF(Holidays!$A:$A,X$4)>0,\"H\",IFERROR(VLOOKUP((ROW(X61)-4)&\"_\"&X$4,Schedule!$H:$I,2,FALSE),\"\"))))","v":""},{"$f":"IF($A61=\"\",\"\",IF(OR(Y$3=\"Sat\",Y$3=\"Sun\"),\"\",IF(COUNTIF(Holidays!$A:$A,Y$4)>0,\"H\",IFERROR(VLOOKUP((ROW(Y61)-4)&\"_\"&Y$4,Schedule!$H:$I,2,FALSE),\"\"))))","v":""},{"$f":"IF($A61=\"\",\"\",IF(OR(Z$3=\"Sat\",Z$3=\"Sun\"),\"\",IF(COUNTIF(Holidays!$A:$A,Z$4)>0,\"H\",IFERROR(VLOOKUP((ROW(Z61)-4)&\"_\"&Z$4,Schedule!$H:$I,2,FALSE),\"\"))))","v":""},{"$f":"IF($A61=\"\",\"\",IF(OR(AA$3=\"Sat\",AA$3=\"Sun\"),\"\",IF(COUNTIF(Holidays!$A:$A,AA$4)>0,\"H\",IFERROR(VLOOKUP((ROW(AA61)-4)&\"_\"&AA$4,Schedule!$H:$I,2,FALSE),\"\"))))","v":""},{"$f":"IF($A61=\"\",\"\",IF(OR(AB$3=\"Sat\",AB$3=\"Sun\"),\"\",IF(COUNTIF(Holidays!$A:$A,AB$4)>0,\"H\",IFERROR(VLOOKUP((ROW(AB61)-4)&\"_\"&AB$4,Schedule!$H:$I,2,FALSE),\"\"))))","v":""},{"$f":"IF($A61=\"\",\"\",IF(OR(AC$3=\"Sat\",AC$3=\"Sun\"),\"\",IF(COUNTIF(Holidays!$A:$A,AC$4)>0,\"H\",IFERROR(VLOOKUP((ROW(AC61)-4)&\"_\"&AC$4,Schedule!$H:$I,2,FALSE),\"\"))))","v":""},{"$f":"IF($A61=\"\",\"\",IF(OR(AD$3=\"Sat\",AD$3=\"Sun\"),\"\",IF(COUNTIF(Holidays!$A:$A,AD$4)>0,\"H\",IFERROR(VLOOKUP((ROW(AD61)-4)&\"_\"&AD$4,Schedule!$H:$I,2,FALSE),\"\"))))","v":""},{"$f":"IF($A61=\"\",\"\",IF(OR(AE$3=\"Sat\",AE$3=\"Sun\"),\"\",IF(COUNTIF(Holidays!$A:$A,AE$4)>0,\"H\",IFERROR(VLOOKUP((ROW(AE61)-4)&\"_\"&AE$4,Schedule!$H:$I,2,FALSE),\"\"))))","v":""},{"$f":"IF($A61=\"\",\"\",IF(OR(AF$3=\"Sat\",AF$3=\"Sun\"),\"\",IF(COUNTIF(Holidays!$A:$A,AF$4)>0,\"H\",IFERROR(VLOOKUP((ROW(AF61)-4)&\"_\"&AF$4,Schedule!$H:$I,2,FALSE),\"\"))))","v":""},{"$f":"IF($A61=\"\",\"\",IF(OR(AG$3=\"Sat\",AG$3=\"Sun\"),\"\",IF(COUNTIF(Holidays!$A:$A,AG$4)>0,\"H\",IFERROR(VLOOKUP((ROW(AG61)-4)&\"_\"&AG$4,Schedule!$H:$I,2,FALSE),\"\"))))","v":""},{"$f":"IF($A61=\"\",\"\",IF(OR(AH$3=\"Sat\",AH$3=\"Sun\"),\"\",IF(COUNTIF(Holidays!$A:$A,AH$4)>0,\"H\",IFERROR(VLOOKUP((ROW(AH61)-4)&\"_\"&AH$4,Schedule!$H:$I,2,FALSE),\"\"))))","v":""},{"$f":"IF($A61=\"\",\"\",IF(OR(AI$3=\"Sat\",AI$3=\"Sun\"),\"\",IF(COUNTIF(Holidays!$A:$A,AI$4)>0,\"H\",IFERROR(VLOOKUP((ROW(AI61)-4)&\"_\"&AI$4,Schedule!$H:$I,2,FALSE),\"\"))))","v":""},{"$f":"IF($A61=\"\",\"\",IF(OR(AJ$3=\"Sat\",AJ$3=\"Sun\"),\"\",IF(COUNTIF(Holidays!$A:$A,AJ$4)>0,\"H\",IFERROR(VLOOKUP((ROW(AJ61)-4)&\"_\"&AJ$4,Schedule!$H:$I,2,FALSE),\"\"))))","v":""},{"$f":"IF($A61=\"\",\"\",ROUND(SUMIFS(Schedule!$E:$E,Schedule!$A:$A,$A61,Schedule!$D:$D,$AK$3,Schedule!$B:$B,\">=\"&DATE($Q$2,$U$2,1),Schedule!$B:$B,\"<=\"&EOMONTH(DATE($Q$2,$U$2,1),0))/8,2))","v":""},{"$f":"IF($A61=\"\",\"\",ROUND(SUMIFS(Schedule!$E:$E,Schedule!$A:$A,$A61,Schedule!$D:$D,$AK$3,Schedule!$B:$B,\">=\"&DATE($Q$2,1,1),Schedule!$B:$B,\"<=\"&EOMONTH(DATE($Q$2,$U$2,1),0))/8,2))","v":""},{"$f":"IF($A61=\"\",\"\",ROUND(SUMIFS(Schedule!$E:$E,Schedule!$A:$A,$A61,Schedule!$D:$D,$AM$3,Schedule!$B:$B,\">=\"&DATE($Q$2,$U$2,1),Schedule!$B:$B,\"<=\"&EOMONTH(DATE($Q$2,$U$2,1),0))/8,2))","v":""},{"$f":"IF($A61=\"\",\"\",ROUND(SUMIFS(Schedule!$E:$E,Schedule!$A:$A,$A61,Schedule!$D:$D,$AM$3,Schedule!$B:$B,\">=\"&DATE($Q$2,1,1),Schedule!$B:$B,\"<=\"&EOMONTH(DATE($Q$2,$U$2,1),0))/8,2))","v":""}]
[{"$f":"IF(Lookups!A59=\"\",\"\",Lookups!A59)","v":""},{"$f":"IF($A62=\"\",\"\",IF(OR(B$3=\"Sat\",B$3=\"Sun\"),\"\",IF(COUNTIF(Holidays!$A:$A,B$4)>0,\"H\",IFERROR(VLOOKUP((ROW(B62)-4)&\"_\"&B$4,Schedule!$H:$I,2,FALSE),\"\"))))","v":""},{"$f":"IF($A62=\"\",\"\",IF(OR(C$3=\"Sat\",C$3=\"Sun\"),\"\",IF(COUNTIF(Holidays!$A:$A,C$4)>0,\"H\",IFERROR(VLOOKUP((ROW(C62)-4)&\"_\"&C$4,Schedule!$H:$I,2,FALSE),\"\"))))","v":""},{"$f":"IF($A62=\"\",\"\",IF(OR(D$3=\"Sat\",D$3=\"Sun\"),\"\",IF(COUNTIF(Holidays!$A:$A,D$4)>0,\"H\",IFERROR(VLOOKUP((ROW(D62)-4)&\"_\"&D$4,Schedule!$H:$I,2,FALSE),\"\"))))","v":""},{"$f":"IF($A62=\"\",\"\",IF(OR(E$3=\"Sat\",E$3=\"Sun\"),\"\",IF(COUNTIF(Holidays!$A:$A,E$4)>0,\"H\",IFERROR(VLOOKUP((ROW(E62)-4)&\"_\"&E$4,Schedule!$H:$I,2,FALSE),\"\"))))","v":""},{"$f":"IF($A62=\"\",\"\",IF(OR(F$3=\"Sat\",F$3=\"Sun\"),\"\",IF(COUNTIF(Holidays!$A:$A,F$4)>0,\"H\",IFERROR(VLOOKUP((ROW(F62)-4)&\"_\"&F$4,Schedule!$H:$I,2,FALSE),\"\"))))","v":""},{"$f":"IF($A62=\"\",\"\",IF(OR(G$3=\"Sat\",G$3=\"Sun\"),\"\",IF(COUNTIF(Holidays!$A:$A,G$4)>0,\"H\",IFERROR(VLOOKUP((ROW(G62)-4)&\"_\"&G$4,Schedule!$H:$I,2,FALSE),\"\"))))","v":""},{"$f":"IF($A62=\"\",\"\",IF(OR(H$3=\"Sat\",H$3=\"Sun\"),\"\",IF(COUNTIF(Holidays!$A:$A,H$4)>0,\"H\",IFERROR(VLOOKUP((ROW(H62)-4)&\"_\"&H$4,Schedule!$H:$I,2,FALSE),\"\"))))","v":""},{"$f":"IF($A62=\"\",\"\",IF(OR(I$3=\"Sat\",I$3=\"Sun\"),\"\",IF(COUNTIF(Holidays!$A:$A,I$4)>0,\"H\",IFERROR(VLOOKUP((ROW(I62)-4)&\"_\"&I$4,Schedule!$H:$I,2,FALSE),\"\"))))","v":""},{"$f":"IF($A62=\"\",\"\",IF(OR(J$3=\"Sat\",J$3=\"Sun\"),\"\",IF(COUNTIF(Holidays!$A:$A,J$4)>0,\"H\",IFERROR(VLOOKUP((ROW(J62)-4)&\"_\"&J$4,Schedule!$H:$I,2,FALSE),\"\"))))","v":""},{"$f":"IF($A62=\"\",\"\",IF(OR(K$3=\"Sat\",K$3=\"Sun\"),\"\",IF(COUNTIF(Holidays!$A:$A,K$4)>0,\"H\",IFERROR(VLOOKUP((ROW(K62)-4)&\"_\"&K$4,Schedule!$H:$I,2,FALSE),\"\"))))","v":""},{"$f":"IF($A62=\"\",\"\",IF(OR(L$3=\"Sat\",L$3=\"Sun\"),\"\",IF(COUNTIF(Holidays!$A:$A,L$4)>0,\"H\",IFERROR(VLOOKUP((ROW(L62)-4)&\"_\"&L$4,Schedule!$H:$I,2,FALSE),\"\"))))","v":""},{"$f":"IF($A62=\"\",\"\",IF(OR(M$3=\"Sat\",M$3=\"Sun\"),\"\",IF(COUNTIF(Holidays!$A:$A,M$4)>0,\"H\",IFERROR(VLOOKUP((ROW(M62)-4)&\"_\"&M$4,Schedule!$H:$I,2,FALSE),\"\"))))","v":""},{"$f":"IF($A62=\"\",\"\",IF(OR(N$3=\"Sat\",N$3=\"Sun\"),\"\",IF(COUNTIF(Holidays!$A:$A,N$4)>0,\"H\",IFERROR(VLOOKUP((ROW(N62)-4)&\"_\"&N$4,Schedule!$H:$I,2,FALSE),\"\"))))","v":""},{"$f":"IF($A62=\"\",\"\",IF(OR(O$3=\"Sat\",O$3=\"Sun\"),\"\",IF(COUNTIF(Holidays!$A:$A,O$4)>0,\"H\",IFERROR(VLOOKUP((ROW(O62)-4)&\"_\"&O$4,Schedule!$H:$I,2,FALSE),\"\"))))","v":""},{"$f":"IF($A62=\"\",\"\",IF(OR(P$3=\"Sat\",P$3=\"Sun\"),\"\",IF(COUNTIF(Holidays!$A:$A,P$4)>0,\"H\",IFERROR(VLOOKUP((ROW(P62)-4)&\"_\"&P$4,Schedule!$H:$I,2,FALSE),\"\"))))","v":""},{"$f":"IF($A62=\"\",\"\",IF(OR(Q$3=\"Sat\",Q$3=\"Sun\"),\"\",IF(COUNTIF(Holidays!$A:$A,Q$4)>0,\"H\",IFERROR(VLOOKUP((ROW(Q62)-4)&\"_\"&Q$4,Schedule!$H:$I,2,FALSE),\"\"))))","v":""},{"$f":"IF($A62=\"\",\"\",IF(OR(R$3=\"Sat\",R$3=\"Sun\"),\"\",IF(COUNTIF(Holidays!$A:$A,R$4)>0,\"H\",IFERROR(VLOOKUP((ROW(R62)-4)&\"_\"&R$4,Schedule!$H:$I,2,FALSE),\"\"))))","v":""},{"$f":"IF($A62=\"\",\"\",IF(OR(S$3=\"Sat\",S$3=\"Sun\"),\"\",IF(COUNTIF(Holidays!$A:$A,S$4)>0,\"H\",IFERROR(VLOOKUP((ROW(S62)-4)&\"_\"&S$4,Schedule!$H:$I,2,FALSE),\"\"))))","v":""},{"$f":"IF($A62=\"\",\"\",IF(OR(T$3=\"Sat\",T$3=\"Sun\"),\"\",IF(COUNTIF(Holidays!$A:$A,T$4)>0,\"H\",IFERROR(VLOOKUP((ROW(T62)-4)&\"_\"&T$4,Schedule!$H:$I,2,FALSE),\"\"))))","v":""},{"$f":"IF($A62=\"\",\"\",IF(OR(U$3=\"Sat\",U$3=\"Sun\"),\"\",IF(COUNTIF(Holidays!$A:$A,U$4)>0,\"H\",IFERROR(VLOOKUP((ROW(U62)-4)&\"_\"&U$4,Schedule!$H:$I,2,FALSE),\"\"))))","v":""},{"$f":"IF($A62=\"\",\"\",IF(OR(V$3=\"Sat\",V$3=\"Sun\"),\"\",IF(COUNTIF(Holidays!$A:$A,V$4)>0,\"H\",IFERROR(VLOOKUP((ROW(V62)-4)&\"_\"&V$4,Schedule!$H:$I,2,FALSE),\"\"))))","v":""},{"$f":"IF($A62=\"\",\"\",IF(OR(W$3=\"Sat\",W$3=\"Sun\"),\"\",IF(COUNTIF(Holidays!$A:$A,W$4)>0,\"H\",IFERROR(VLOOKUP((ROW(W62)-4)&\"_\"&W$4,Schedule!$H:$I,2,FALSE),\"\"))))","v":""},{"$f":"IF($A62=\"\",\"\",IF(OR(X$3=\"Sat\",X$3=\"Sun\"),\"\",IF(COUNTIF(Holidays!$A:$A,X$4)>0,\"H\",IFERROR(VLOOKUP((ROW(X62)-4)&\"_\"&X$4,Schedule!$H:$I,2,FALSE),\"\"))))","v":""},{"$f":"IF($A62=\"\",\"\",IF(OR(Y$3=\"Sat\",Y$3=\"Sun\"),\"\",IF(COUNTIF(Holidays!$A:$A,Y$4)>0,\"H\",IFERROR(VLOOKUP((ROW(Y62)-4)&\"_\"&Y$4,Schedule!$H:$I,2,FALSE),\"\"))))","v":""},{"$f":"IF($A62=\"\",\"\",IF(OR(Z$3=\"Sat\",Z$3=\"Sun\"),\"\",IF(COUNTIF(Holidays!$A:$A,Z$4)>0,\"H\",IFERROR(VLOOKUP((ROW(Z62)-4)&\"_\"&Z$4,Schedule!$H:$I,2,FALSE),\"\"))))","v":""},{"$f":"IF($A62=\"\",\"\",IF(OR(AA$3=\"Sat\",AA$3=\"Sun\"),\"\",IF(COUNTIF(Holidays!$A:$A,AA$4)>0,\"H\",IFERROR(VLOOKUP((ROW(AA62)-4)&\"_\"&AA$4,Schedule!$H:$I,2,FALSE),\"\"))))","v":""},{"$f":"IF($A62=\"\",\"\",IF(OR(AB$3=\"Sat\",AB$3=\"Sun\"),\"\",IF(COUNTIF(Holidays!$A:$A,AB$4)>0,\"H\",IFERROR(VLOOKUP((ROW(AB62)-4)&\"_\"&AB$4,Schedule!$H:$I,2,FALSE),\"\"))))","v":""},{"$f":"IF($A62=\"\",\"\",IF(OR(AC$3=\"Sat\",AC$3=\"Sun\"),\"\",IF(COUNTIF(Holidays!$A:$A,AC$4)>0,\"H\",IFERROR(VLOOKUP((ROW(AC62)-4)&\"_\"&AC$4,Schedule!$H:$I,2,FALSE),\"\"))))","v":""},{"$f":"IF($A62=\"\",\"\",IF(OR(AD$3=\"Sat\",AD$3=\"Sun\"),\"\",IF(COUNTIF(Holidays!$A:$A,AD$4)>0,\"H\",IFERROR(VLOOKUP((ROW(AD62)-4)&\"_\"&AD$4,Schedule!$H:$I,2,FALSE),\"\"))))","v":""},{"$f":"IF($A62=\"\",\"\",IF(OR(AE$3=\"Sat\",AE$3=\"Sun\"),\"\",IF(COUNTIF(Holidays!$A:$A,AE$4)>0,\"H\",IFERROR(VLOOKUP((ROW(AE62)-4)&\"_\"&AE$4,Schedule!$H:$I,2,FALSE),\"\"))))","v":""},{"$f":"IF($A62=\"\",\"\",IF(OR(AF$3=\"Sat\",AF$3=\"Sun\"),\"\",IF(COUNTIF(Holidays!$A:$A,AF$4)>0,\"H\",IFERROR(VLOOKUP((ROW(AF62)-4)&\"_\"&AF$4,Schedule!$H:$I,2,FALSE),\"\"))))","v":""},{"$f":"IF($A62=\"\",\"\",IF(OR(AG$3=\"Sat\",AG$3=\"Sun\"),\"\",IF(COUNTIF(Holidays!$A:$A,AG$4)>0,\"H\",IFERROR(VLOOKUP((ROW(AG62)-4)&\"_\"&AG$4,Schedule!$H:$I,2,FALSE),\"\"))))","v":""},{"$f":"IF($A62=\"\",\"\",IF(OR(AH$3=\"Sat\",AH$3=\"Sun\"),\"\",IF(COUNTIF(Holidays!$A:$A,AH$4)>0,\"H\",IFERROR(VLOOKUP((ROW(AH62)-4)&\"_\"&AH$4,Schedule!$H:$I,2,FALSE),\"\"))))","v":""},{"$f":"IF($A62=\"\",\"\",IF(OR(AI$3=\"Sat\",AI$3=\"Sun\"),\"\",IF(COUNTIF(Holidays!$A:$A,AI$4)>0,\"H\",IFERROR(VLOOKUP((ROW(AI62)-4)&\"_\"&AI$4,Schedule!$H:$I,2,FALSE),\"\"))))","v":""},{"$f":"IF($A62=\"\",\"\",IF(OR(AJ$3=\"Sat\",AJ$3=\"Sun\"),\"\",IF(COUNTIF(Holidays!$A:$A,AJ$4)>0,\"H\",IFERROR(VLOOKUP((ROW(AJ62)-4)&\"_\"&AJ$4,Schedule!$H:$I,2,FALSE),\"\"))))","v":""},{"$f":"IF($A62=\"\",\"\",ROUND(SUMIFS(Schedule!$E:$E,Schedule!$A:$A,$A62,Schedule!$D:$D,$AK$3,Schedule!$B:$B,\">=\"&DATE($Q$2,$U$2,1),Schedule!$B:$B,\"<=\"&EOMONTH(DATE($Q$2,$U$2,1),0))/8,2))","v":""},{"$f":"IF($A62=\"\",\"\",ROUND(SUMIFS(Schedule!$E:$E,Schedule!$A:$A,$A62,Schedule!$D:$D,$AK$3,Schedule!$B:$B,\">=\"&DATE($Q$2,1,1),Schedule!$B:$B,\"<=\"&EOMONTH(DATE($Q$2,$U$2,1),0))/8,2))","v":""},{"$f":"IF($A62=\"\",\"\",ROUND(SUMIFS(Schedule!$E:$E,Schedule!$A:$A,$A62,Schedule!$D:$D,$AM$3,Schedule!$B:$B,\">=\"&DATE($Q$2,$U$2,1),Schedule!$B:$B,\"<=\"&EOMONTH(DATE($Q$2,$U$2,1),0))/8,2))","v":""},{"$f":"IF($A62=\"\",\"\",ROUND(SUMIFS(Schedule!$E:$E,Schedule!$A:$A,$A62,Schedule!$D:$D,$AM$3,Schedule!$B:$B,\">=\"&DATE($Q$2,1,1),Schedule!$B:$B,\"<=\"&EOMONTH(DATE($Q$2,$U$2,1),0))/8,2))","v":""}]
[{"$f":"IF(Lookups!A60=\"\",\"\",Lookups!A60)","v":""},{"$f":"IF($A63=\"\",\"\",IF(OR(B$3=\"Sat\",B$3=\"Sun\"),\"\",IF(COUNTIF(Holidays!$A:$A,B$4)>0,\"H\",IFERROR(VLOOKUP((ROW(B63)-4)&\"_\"&B$4,Schedule!$H:$I,2,FALSE),\"\"))))","v":""},{"$f":"IF($A63=\"\",\"\",IF(OR(C$3=\"Sat\",C$3=\"Sun\"),\"\",IF(COUNTIF(Holidays!$A:$A,C$4)>0,\"H\",IFERROR(VLOOKUP((ROW(C63)-4)&\"_\"&C$4,Schedule!$H:$I,2,FALSE),\"\"))))","v":""},{"$f":"IF($A63=\"\",\"\",IF(OR(D$3=\"Sat\",D$3=\"Sun\"),\"\",IF(COUNTIF(Holidays!$A:$A,D$4)>0,\"H\",IFERROR(VLOOKUP((ROW(D63)-4)&\"_\"&D$4,Schedule!$H:$I,2,FALSE),\"\"))))","v":""},{"$f":"IF($A63=\"\",\"\",IF(OR(E$3=\"Sat\",E$3=\"Sun\"),\"\",IF(COUNTIF(Holidays!$A:$A,E$4)>0,\"H\",IFERROR(VLOOKUP((ROW(E63)-4)&\"_\"&E$4,Schedule!$H:$I,2,FALSE),\"\"))))","v":""},{"$f":"IF($A63=\"\",\"\",IF(OR(F$3=\"Sat\",F$3=\"Sun\"),\"\",IF(COUNTIF(Holidays!$A:$A,F$4)>0,\"H\",IFERROR(VLOOKUP((ROW(F63)-4)&\"_\"&F$4,Schedule!$H:$I,2,FALSE),\"\"))))","v":""},{"$f":"IF($A63=\"\",\"\",IF(OR(G$3=\"Sat\",G$3=\"Sun\"),\"\",IF(COUNTIF(Holidays!$A:$A,G$4)>0,\"H\",IFERROR(VLOOKUP((ROW(G63)-4)&\"_\"&G$4,Schedule!$H:$I,2,FALSE),\"\"))))","v":""},{"$f":"IF($A63=\"\",\"\",IF(OR(H$3=\"Sat\",H$3=\"Sun\"),\"\",IF(COUNTIF(Holidays!$A:$A,H$4)>0,\"H\",IFERROR(VLOOKUP((ROW(H63)-4)&\"_\"&H$4,Schedule!$H:$I,2,FALSE),\"\"))))","v":""},{"$f":"IF($A63=\"\",\"\",IF(OR(I$3=\"Sat\",I$3=\"Sun\"),\"\",IF(COUNTIF(Holidays!$A:$A,I$4)>0,\"H\",IFERROR(VLOOKUP((ROW(I63)-4)&\"_\"&I$4,Schedule!$H:$I,2,FALSE),\"\"))))","v":""},{"$f":"IF($A63=\"\",\"\",IF(OR(J$3=\"Sat\",J$3=\"Sun\"),\"\",IF(COUNTIF(Holidays!$A:$A,J$4)>0,\"H\",IFERROR(VLOOKUP((ROW(J63)-4)&\"_\"&J$4,Schedule!$H:$I,2,FALSE),\"\"))))","v":""},{"$f":"IF($A63=\"\",\"\",IF(OR(K$3=\"Sat\",K$3=\"Sun\"),\"\",IF(COUNTIF(Holidays!$A:$A,K$4)>0,\"H\",IFERROR(VLOOKUP((ROW(K63)-4)&\"_\"&K$4,Schedule!$H:$I,2,FALSE),\"\"))))","v":""},{"$f":"IF($A63=\"\",\"\",IF(OR(L$3=\"Sat\",L$3=\"Sun\"),\"\",IF(COUNTIF(Holidays!$A:$A,L$4)>0,\"H\",IFERROR(VLOOKUP((ROW(L63)-4)&\"_\"&L$4,Schedule!$H:$I,2,FALSE),\"\"))))","v":""},{"$f":"IF($A63=\"\",\"\",IF(OR(M$3=\"Sat\",M$3=\"Sun\"),\"\",IF(COUNTIF(Holidays!$A:$A,M$4)>0,\"H\",IFERROR(VLOOKUP((ROW(M63)-4)&\"_\"&M$4,Schedule!$H:$I,2,FALSE),\"\"))))","v":""},{"$f":"IF($A63=\"\",\"\",IF(OR(N$3=\"Sat\",N$3=\"Sun\"),\"\",IF(COUNTIF(Holidays!$A:$A,N$4)>0,\"H\",IFERROR(VLOOKUP((ROW(N63)-4)&\"_\"&N$4,Schedule!$H:$I,2,FALSE),\"\"))))","v":""},{"$f":"IF($A63=\"\",\"\",IF(OR(O$3=\"Sat\",O$3=\"Sun\"),\"\",IF(COUNTIF(Holidays!$A:$A,O$4)>0,\"H\",IFERROR(VLOOKUP((ROW(O63)-4)&\"_\"&O$4,Schedule!$H:$I,2,FALSE),\"\"))))","v":""},{"$f":"IF($A63=\"\",\"\",IF(OR(P$3=\"Sat\",P$3=\"Sun\"),\"\",IF(COUNTIF(Holidays!$A:$A,P$4)>0,\"H\",IFERROR(VLOOKUP((ROW(P63)-4)&\"_\"&P$4,Schedule!$H:$I,2,FALSE),\"\"))))","v":""},{"$f":"IF($A63=\"\",\"\",IF(OR(Q$3=\"Sat\",Q$3=\"Sun\"),\"\",IF(COUNTIF(Holidays!$A:$A,Q$4)>0,\"H\",IFERROR(VLOOKUP((ROW(Q63)-4)&\"_\"&Q$4,Schedule!$H:$I,2,FALSE),\"\"))))","v":""},{"$f":"IF($A63=\"\",\"\",IF(OR(R$3=\"Sat\",R$3=\"Sun\"),\"\",IF(COUNTIF(Holidays!$A:$A,R$4)>0,\"H\",IFERROR(VLOOKUP((ROW(R63)-4)&\"_\"&R$4,Schedule!$H:$I,2,FALSE),\"\"))))","v":""},{"$f":"IF($A63=\"\",\"\",IF(OR(S$3=\"Sat\",S$3=\"Sun\"),\"\",IF(COUNTIF(Holidays!$A:$A,S$4)>0,\"H\",IFERROR(VLOOKUP((ROW(S63)-4)&\"_\"&S$4,Schedule!$H:$I,2,FALSE),\"\"))))","v":""},{"$f":"IF($A63=\"\",\"\",IF(OR(T$3=\"Sat\",T$3=\"Sun\"),\"\",IF(COUNTIF(Holidays!$A:$A,T$4)>0,\"H\",IFERROR(VLOOKUP((ROW(T63)-4)&\"_\"&T$4,Schedule!$H:$I,2,FALSE),\"\"))))","v":""},{"$f":"IF($A63=\"\",\"\",IF(OR(U$3=\"Sat\",U$3=\"Sun\"),\"\",IF(COUNTIF(Holidays!$A:$A,U$4)>0,\"H\",IFERROR(VLOOKUP((ROW(U63)-4)&\"_\"&U$4,Schedule!$H:$I,2,FALSE),\"\"))))","v":""},{"$f":"IF($A63=\"\",\"\",IF(OR(V$3=\"Sat\",V$3=\"Sun\"),\"\",IF(COUNTIF(Holidays!$A:$A,V$4)>0,\"H\",IFERROR(VLOOKUP((ROW(V63)-4)&\"_\"&V$4,Schedule!$H:$I,2,FALSE),\"\"))))","v":""},{"$f":"IF($A63=\"\",\"\",IF(OR(W$3=\"Sat\",W$3=\"Sun\"),\"\",IF(COUNTIF(Holidays!$A:$A,W$4)>0,\"H\",IFERROR(VLOOKUP((ROW(W63)-4)&\"_\"&W$4,Schedule!$H:$I,2,FALSE),\"\"))))","v":""},{"$f":"IF($A63=\"\",\"\",IF(OR(X$3=\"Sat\",X$3=\"Sun\"),\"\",IF(COUNTIF(Holidays!$A:$A,X$4)>0,\"H\",IFERROR(VLOOKUP((ROW(X63)-4)&\"_\"&X$4,Schedule!$H:$I,2,FALSE),\"\"))))","v":""},{"$f":"IF($A63=\"\",\"\",IF(OR(Y$3=\"Sat\",Y$3=\"Sun\"),\"\",IF(COUNTIF(Holidays!$A:$A,Y$4)>0,\"H\",IFERROR(VLOOKUP((ROW(Y63)-4)&\"_\"&Y$4,Schedule!$H:$I,2,FALSE),\"\"))))","v":""},{"$f":"IF($A63=\"\",\"\",IF(OR(Z$3=\"Sat\",Z$3=\"Sun\"),\"\",IF(COUNTIF(Holidays!$A:$A,Z$4)>0,\"H\",IFERROR(VLOOKUP((ROW(Z63)-4)&\"_\"&Z$4,Schedule!$H:$I,2,FALSE),\"\"))))","v":""},{"$f":"IF($A63=\"\",\"\",IF(OR(AA$3=\"Sat\",AA$3=\"Sun\"),\"\",IF(COUNTIF(Holidays!$A:$A,AA$4)>0,\"H\",IFERROR(VLOOKUP((ROW(AA63)-4)&\"_\"&AA$4,Schedule!$H:$I,2,FALSE),\"\"))))","v":""},{"$f":"IF($A63=\"\",\"\",IF(OR(AB$3=\"Sat\",AB$3=\"Sun\"),\"\",IF(COUNTIF(Holidays!$A:$A,AB$4)>0,\"H\",IFERROR(VLOOKUP((ROW(AB63)-4)&\"_\"&AB$4,Schedule!$H:$I,2,FALSE),\"\"))))","v":""},{"$f":"IF($A63=\"\",\"\",IF(OR(AC$3=\"Sat\",AC$3=\"Sun\"),\"\",IF(COUNTIF(Holidays!$A:$A,AC$4)>0,\"H\",IFERROR(VLOOKUP((ROW(AC63)-4)&\"_\"&AC$4,Schedule!$H:$I,2,FALSE),\"\"))))","v":""},{"$f":"IF($A63=\"\",\"\",IF(OR(AD$3=\"Sat\",AD$3=\"Sun\"),\"\",IF(COUNTIF(Holidays!$A:$A,AD$4)>0,\"H\",IFERROR(VLOOKUP((ROW(AD63)-4)&\"_\"&AD$4,Schedule!$H:$I,2,FALSE),\"\"))))","v":""},{"$f":"IF($A63=\"\",\"\",IF(OR(AE$3=\"Sat\",AE$3=\"Sun\"),\"\",IF(COUNTIF(Holidays!$A:$A,AE$4)>0,\"H\",IFERROR(VLOOKUP((ROW(AE63)-4)&\"_\"&AE$4,Schedule!$H:$I,2,FALSE),\"\"))))","v":""},{"$f":"IF($A63=\"\",\"\",IF(OR(AF$3=\"Sat\",AF$3=\"Sun\"),\"\",IF(COUNTIF(Holidays!$A:$A,AF$4)>0,\"H\",IFERROR(VLOOKUP((ROW(AF63)-4)&\"_\"&AF$4,Schedule!$H:$I,2,FALSE),\"\"))))","v":""},{"$f":"IF($A63=\"\",\"\",IF(OR(AG$3=\"Sat\",AG$3=\"Sun\"),\"\",IF(COUNTIF(Holidays!$A:$A,AG$4)>0,\"H\",IFERROR(VLOOKUP((ROW(AG63)-4)&\"_\"&AG$4,Schedule!$H:$I,2,FALSE),\"\"))))","v":""},{"$f":"IF($A63=\"\",\"\",IF(OR(AH$3=\"Sat\",AH$3=\"Sun\"),\"\",IF(COUNTIF(Holidays!$A:$A,AH$4)>0,\"H\",IFERROR(VLOOKUP((ROW(AH63)-4)&\"_\"&AH$4,Schedule!$H:$I,2,FALSE),\"\"))))","v":""},{"$f":"IF($A63=\"\",\"\",IF(OR(AI$3=\"Sat\",AI$3=\"Sun\"),\"\",IF(COUNTIF(Holidays!$A:$A,AI$4)>0,\"H\",IFERROR(VLOOKUP((ROW(AI63)-4)&\"_\"&AI$4,Schedule!$H:$I,2,FALSE),\"\"))))","v":""},{"$f":"IF($A63=\"\",\"\",IF(OR(AJ$3=\"Sat\",AJ$3=\"Sun\"),\"\",IF(COUNTIF(Holidays!$A:$A,AJ$4)>0,\"H\",IFERROR(VLOOKUP((ROW(AJ63)-4)&\"_\"&AJ$4,Schedule!$H:$I,2,FALSE),\"\"))))","v":""},{"$f":"IF($A63=\"\",\"\",ROUND(SUMIFS(Schedule!$E:$E,Schedule!$A:$A,$A63,Schedule!$D:$D,$AK$3,Schedule!$B:$B,\">=\"&DATE($Q$2,$U$2,1),Schedule!$B:$B,\"<=\"&EOMONTH(DATE($Q$2,$U$2,1),0))/8,2))","v":""},{"$f":"IF($A63=\"\",\"\",ROUND(SUMIFS(Schedule!$E:$E,Schedule!$A:$A,$A63,Schedule!$D:$D,$AK$3,Schedule!$B:$B,\">=\"&DATE($Q$2,1,1),Schedule!$B:$B,\"<=\"&EOMONTH(DATE($Q$2,$U$2,1),0))/8,2))","v":""},{"$f":"IF($A63=\"\",\"\",ROUND(SUMIFS(Schedule!$E:$E,Schedule!$A:$A,$A63,Schedule!$D:$D,$AM$3,Schedule!$B:$B,\">=\"&DATE($Q$2,$U$2,1),Schedule!$B:$B,\"<=\"&EOMONTH(DATE($Q$2,$U$2,1),0))/8,2))","v":""},{"$f":"IF($A63=\"\",\"\",ROUND(SUMIFS(Schedule!$E:$E,Schedule!$A:$A,$A63,Schedule!$D:$D,$AM$3,Schedule!$B:$B,\">=\"&DATE($Q$2,1,1),Schedule!$B:$B,\"<=\"&EOMONTH(DATE($Q$2,$U$2,1),0))/8,2))","v":""}]
[{"$f":"IF(Lookups!A61=\"\",\"\",Lookups!A61)","v":""},{"$f":"IF($A64=\"\",\"\",IF(OR(B$3=\"Sat\",B$3=\"Sun\"),\"\",IF(COUNTIF(Holidays!$A:$A,B$4)>0,\"H\",IFERROR(VLOOKUP((ROW(B64)-4)&\"_\"&B$4,Schedule!$H:$I,2,FALSE),\"\"))))","v":""},{"$f":"IF($A64=\"\",\"\",IF(OR(C$3=\"Sat\",C$3=\"Sun\"),\"\",IF(COUNTIF(Holidays!$A:$A,C$4)>0,\"H\",IFERROR(VLOOKUP((ROW(C64)-4)&\"_\"&C$4,Schedule!$H:$I,2,FALSE),\"\"))))","v":""},{"$f":"IF($A64=\"\",\"\",IF(OR(D$3=\"Sat\",D$3=\"Sun\"),\"\",IF(COUNTIF(Holidays!$A:$A,D$4)>0,\"H\",IFERROR(VLOOKUP((ROW(D64)-4)&\"_\"&D$4,Schedule!$H:$I,2,FALSE),\"\"))))","v":""},{"$f":"IF($A64=\"\",\"\",IF(OR(E$3=\"Sat\",E$3=\"Sun\"),\"\",IF(COUNTIF(Holidays!$A:$A,E$4)>0,\"H\",IFERROR(VLOOKUP((ROW(E64)-4)&\"_\"&E$4,Schedule!$H:$I,2,FALSE),\"\"))))","v":""},{"$f":"IF($A64=\"\",\"\",IF(OR(F$3=\"Sat\",F$3=\"Sun\"),\"\",IF(COUNTIF(Holidays!$A:$A,F$4)>0,\"H\",IFERROR(VLOOKUP((ROW(F64)-4)&\"_\"&F$4,Schedule!$H:$I,2,FALSE),\"\"))))","v":""},{"$f":"IF($A64=\"\",\"\",IF(OR(G$3=\"Sat\",G$3=\"Sun\"),\"\",IF(COUNTIF(Holidays!$A:$A,G$4)>0,\"H\",IFERROR(VLOOKUP((ROW(G64)-4)&\"_\"&G$4,Schedule!$H:$I,2,FALSE),\"\"))))","v":""},{"$f":"IF($A64=\"\",\"\",IF(OR(H$3=\"Sat\",H$3=\"Sun\"),\"\",IF(COUNTIF(Holidays!$A:$A,H$4)>0,\"H\",IFERROR(VLOOKUP((ROW(H64)-4)&\"_\"&H$4,Schedule!$H:$I,2,FALSE),\"\"))))","v":""},{"$f":"IF($A64=\"\",\"\",IF(OR(I$3=\"Sat\",I$3=\"Sun\"),\"\",IF(COUNTIF(Holidays!$A:$A,I$4)>0,\"H\",IFERROR(VLOOKUP((ROW(I64)-4)&\"_\"&I$4,Schedule!$H:$I,2,FALSE),\"\"))))","v":""},{"$f":"IF($A64=\"\",\"\",IF(OR(J$3=\"Sat\",J$3=\"Sun\"),\"\",IF(COUNTIF(Holidays!$A:$A,J$4)>0,\"H\",IFERROR(VLOOKUP((ROW(J64)-4)&\"_\"&J$4,Schedule!$H:$I,2,FALSE),\"\"))))","v":""},{"$f":"IF($A64=\"\",\"\",IF(OR(K$3=\"Sat\",K$3=\"Sun\"),\"\",IF(COUNTIF(Holidays!$A:$A,K$4)>0,\"H\",IFERROR(VLOOKUP((ROW(K64)-4)&\"_\"&K$4,Schedule!$H:$I,2,FALSE),\"\"))))","v":""},{"$f":"IF($A64=\"\",\"\",IF(OR(L$3=\"Sat\",L$3=\"Sun\"),\"\",IF(COUNTIF(Holidays!$A:$A,L$4)>0,\"H\",IFERROR(VLOOKUP((ROW(L64)-4)&\"_\"&L$4,Schedule!$H:$I,2,FALSE),\"\"))))","v":""},{"$f":"IF($A64=\"\",\"\",IF(OR(M$3=\"Sat\",M$3=\"Sun\"),\"\",IF(COUNTIF(Holidays!$A:$A,M$4)>0,\"H\",IFERROR(VLOOKUP((ROW(M64)-4)&\"_\"&M$4,Schedule!$H:$I,2,FALSE),\"\"))))","v":""},{"$f":"IF($A64=\"\",\"\",IF(OR(N$3=\"Sat\",N$3=\"Sun\"),\"\",IF(COUNTIF(Holidays!$A:$A,N$4)>0,\"H\",IFERROR(VLOOKUP((ROW(N64)-4)&\"_\"&N$4,Schedule!$H:$I,2,FALSE),\"\"))))","v":""},{"$f":"IF($A64=\"\",\"\",IF(OR(O$3=\"Sat\",O$3=\"Sun\"),\"\",IF(COUNTIF(Holidays!$A:$A,O$4)>0,\"H\",IFERROR(VLOOKUP((ROW(O64)-4)&\"_\"&O$4,Schedule!$H:$I,2,FALSE),\"\"))))","v":""},{"$f":"IF($A64=\"\",\"\",IF(OR(P$3=\"Sat\",P$3=\"Sun\"),\"\",IF(COUNTIF(Holidays!$A:$A,P$4)>0,\"H\",IFERROR(VLOOKUP((ROW(P64)-4)&\"_\"&P$4,Schedule!$H:$I,2,FALSE),\"\"))))","v":""},{"$f":"IF($A64=\"\",\"\",IF(OR(Q$3=\"Sat\",Q$3=\"Sun\"),\"\",IF(COUNTIF(Holidays!$A:$A,Q$4)>0,\"H\",IFERROR(VLOOKUP((ROW(Q64)-4)&\"_\"&Q$4,Schedule!$H:$I,2,FALSE),\"\"))))","v":""},{"$f":"IF($A64=\"\",\"\",IF(OR(R$3=\"Sat\",R$3=\"Sun\"),\"\",IF(COUNTIF(Holidays!$A:$A,R$4)>0,\"H\",IFERROR(VLOOKUP((ROW(R64)-4)&\"_\"&R$4,Schedule!$H:$I,2,FALSE),\"\"))))","v":""},{"$f":"IF($A64=\"\",\"\",IF(OR(S$3=\"Sat\",S$3=\"Sun\"),\"\",IF(COUNTIF(Holidays!$A:$A,S$4)>0,\"H\",IFERROR(VLOOKUP((ROW(S64)-4)&\"_\"&S$4,Schedule!$H:$I,2,FALSE),\"\"))))","v":""},{"$f":"IF($A64=\"\",\"\",IF(OR(T$3=\"Sat\",T$3=\"Sun\"),\"\",IF(COUNTIF(Holidays!$A:$A,T$4)>0,\"H\",IFERROR(VLOOKUP((ROW(T64)-4)&\"_\"&T$4,Schedule!$H:$I,2,FALSE),\"\"))))","v":""},{"$f":"IF($A64=\"\",\"\",IF(OR(U$3=\"Sat\",U$3=\"Sun\"),\"\",IF(COUNTIF(Holidays!$A:$A,U$4)>0,\"H\",IFERROR(VLOOKUP((ROW(U64)-4)&\"_\"&U$4,Schedule!$H:$I,2,FALSE),\"\"))))","v":""},{"$f":"IF($A64=\"\",\"\",IF(OR(V$3=\"Sat\",V$3=\"Sun\"),\"\",IF(COUNTIF(Holidays!$A:$A,V$4)>0,\"H\",IFERROR(VLOOKUP((ROW(V64)-4)&\"_\"&V$4,Schedule!$H:$I,2,FALSE),\"\"))))","v":""},{"$f":"IF($A64=\"\",\"\",IF(OR(W$3=\"Sat\",W$3=\"Sun\"),\"\",IF(COUNTIF(Holidays!$A:$A,W$4)>0,\"H\",IFERROR(VLOOKUP((ROW(W64)-4)&\"_\"&W$4,Schedule!$H:$I,2,FALSE),\"\"))))","v":""},{"$f":"IF($A64=\"\",\"\",IF(OR(X$3=\"Sat\",X$3=\"Sun\"),\"\",IF(COUNTIF(Holidays!$A:$A,X$4)>0,\"H\",IFERROR(VLOOKUP((ROW(X64)-4)&\"_\"&X$4,Schedule!$H:$I,2,FALSE),\"\"))))","v":""},{"$f":"IF($A64=\"\",\"\",IF(OR(Y$3=\"Sat\",Y$3=\"Sun\"),\"\",IF(COUNTIF(Holidays!$A:$A,Y$4)>0,\"H\",IFERROR(VLOOKUP((ROW(Y64)-4)&\"_\"&Y$4,Schedule!$H:$I,2,FALSE),\"\"))))","v":""},{"$f":"IF($A64=\"\",\"\",IF(OR(Z$3=\"Sat\",Z$3=\"Sun\"),\"\",IF(COUNTIF(Holidays!$A:$A,Z$4)>0,\"H\",IFERROR(VLOOKUP((ROW(Z64)-4)&\"_\"&Z$4,Schedule!$H:$I,2,FALSE),\"\"))))","v":""},{"$f":"IF($A64=\"\",\"\",IF(OR(AA$3=\"Sat\",AA$3=\"Sun\"),\"\",IF(COUNTIF(Holidays!$A:$A,AA$4)>0,\"H\",IFERROR(VLOOKUP((ROW(AA64)-4)&\"_\"&AA$4,Schedule!$H:$I,2,FALSE),\"\"))))","v":""},{"$f":"IF($A64=\"\",\"\",IF(OR(AB$3=\"Sat\",AB$3=\"Sun\"),\"\",IF(COUNTIF(Holidays!$A:$A,AB$4)>0,\"H\",IFERROR(VLOOKUP((ROW(AB64)-4)&\"_\"&AB$4,Schedule!$H:$I,2,FALSE),\"\"))))","v":""},{"$f":"IF($A64=\"\",\"\",IF(OR(AC$3=\"Sat\",AC$3=\"Sun\"),\"\",IF(COUNTIF(Holidays!$A:$A,AC$4)>0,\"H\",IFERROR(VLOOKUP((ROW(AC64)-4)&\"_\"&AC$4,Schedule!$H:$I,2,FALSE),\"\"))))","v":""},{"$f":"IF($A64=\"\",\"\",IF(OR(AD$3=\"Sat\",AD$3=\"Sun\"),\"\",IF(COUNTIF(Holidays!$A:$A,AD$4)>0,\"H\",IFERROR(VLOOKUP((ROW(AD64)-4)&\"_\"&AD$4,Schedule!$H:$I,2,FALSE),\"\"))))","v":""},{"$f":"IF($A64=\"\",\"\",IF(OR(AE$3=\"Sat\",AE$3=\"Sun\"),\"\",IF(COUNTIF(Holidays!$A:$A,AE$4)>0,\"H\",IFERROR(VLOOKUP((ROW(AE64)-4)&\"_\"&AE$4,Schedule!$H:$I,2,FALSE),\"\"))))","v":""},{"$f":"IF($A64=\"\",\"\",IF(OR(AF$3=\"Sat\",AF$3=\"Sun\"),\"\",IF(COUNTIF(Holidays!$A:$A,AF$4)>0,\"H\",IFERROR(VLOOKUP((ROW(AF64)-4)&\"_\"&AF$4,Schedule!$H:$I,2,FALSE),\"\"))))","v":""},{"$f":"IF($A64=\"\",\"\",IF(OR(AG$3=\"Sat\",AG$3=\"Sun\"),\"\",IF(COUNTIF(Holidays!$A:$A,AG$4)>0,\"H\",IFERROR(VLOOKUP((ROW(AG64)-4)&\"_\"&AG$4,Schedule!$H:$I,2,FALSE),\"\"))))","v":""},{"$f":"IF($A64=\"\",\"\",IF(OR(AH$3=\"Sat\",AH$3=\"Sun\"),\"\",IF(COUNTIF(Holidays!$A:$A,AH$4)>0,\"H\",IFERROR(VLOOKUP((ROW(AH64)-4)&\"_\"&AH$4,Schedule!$H:$I,2,FALSE),\"\"))))","v":""},{"$f":"IF($A64=\"\",\"\",IF(OR(AI$3=\"Sat\",AI$3=\"Sun\"),\"\",IF(COUNTIF(Holidays!$A:$A,AI$4)>0,\"H\",IFERROR(VLOOKUP((ROW(AI64)-4)&\"_\"&AI$4,Schedule!$H:$I,2,FALSE),\"\"))))","v":""},{"$f":"IF($A64=\"\",\"\",IF(OR(AJ$3=\"Sat\",AJ$3=\"Sun\"),\"\",IF(COUNTIF(Holidays!$A:$A,AJ$4)>0,\"H\",IFERROR(VLOOKUP((ROW(AJ64)-4)&\"_\"&AJ$4,Schedule!$H:$I,2,FALSE),\"\"))))","v":""},{"$f":"IF($A64=\"\",\"\",ROUND(SUMIFS(Schedule!$E:$E,Schedule!$A:$A,$A64,Schedule!$D:$D,$AK$3,Schedule!$B:$B,\">=\"&DATE($Q$2,$U$2,1),Schedule!$B:$B,\"<=\"&EOMONTH(DATE($Q$2,$U$2,1),0))/8,2))","v":""},{"$f":"IF($A64=\"\",\"\",ROUND(SUMIFS(Schedule!$E:$E,Schedule!$A:$A,$A64,Schedule!$D:$D,$AK$3,Schedule!$B:$B,\">=\"&DATE($Q$2,1,1),Schedule!$B:$B,\"<=\"&EOMONTH(DATE($Q$2,$U$2,1),0))/8,2))","v":""},{"$f":"IF($A64=\"\",\"\",ROUND(SUMIFS(Schedule!$E:$E,Schedule!$A:$A,$A64,Schedule!$D:$D,$AM$3,Schedule!$B:$B,\">=\"&DATE($Q$2,$U$2,1),Schedule!$B:$B,\"<=\"&EOMONTH(DATE($Q$2,$U$2,1),0))/8,2))","v":""},{"$f":"IF($A64=\"\",\"\",ROUND(SUMIFS(Schedule!$E:$E,Schedule!$A:$A,$A64,Schedule!$D:$D,$AM$3,Schedule!$B:$B,\">=\"&DATE($Q$2,1,1),Schedule!$B:$B,\"<=\"&EOMONTH(DATE($Q$2,$U$2,1),0))/8,2))","v":""}]
[{"$f":"IF(Lookups!A62=\"\",\"\",Lookups!A62)","v":""},{"$f":"IF($A65=\"\",\"\",IF(OR(B$3=\"Sat\",B$3=\"Sun\"),\"\",IF(COUNTIF(Holidays!$A:$A,B$4)>0,\"H\",IFERROR(VLOOKUP((ROW(B65)-4)&\"_\"&B$4,Schedule!$H:$I,2,FALSE),\"\"))))","v":""},{"$f":"IF($A65=\"\",\"\",IF(OR(C$3=\"Sat\",C$3=\"Sun\"),\"\",IF(COUNTIF(Holidays!$A:$A,C$4)>0,\"H\",IFERROR(VLOOKUP((ROW(C65)-4)&\"_\"&C$4,Schedule!$H:$I,2,FALSE),\"\"))))","v":""},{"$f":"IF($A65=\"\",\"\",IF(OR(D$3=\"Sat\",D$3=\"Sun\"),\"\",IF(COUNTIF(Holidays!$A:$A,D$4)>0,\"H\",IFERROR(VLOOKUP((ROW(D65)-4)&\"_\"&D$4,Schedule!$H:$I,2,FALSE),\"\"))))","v":""},{"$f":"IF($A65=\"\",\"\",IF(OR(E$3=\"Sat\",E$3=\"Sun\"),\"\",IF(COUNTIF(Holidays!$A:$A,E$4)>0,\"H\",IFERROR(VLOOKUP((ROW(E65)-4)&\"_\"&E$4,Schedule!$H:$I,2,FALSE),\"\"))))","v":""},{"$f":"IF($A65=\"\",\"\",IF(OR(F$3=\"Sat\",F$3=\"Sun\"),\"\",IF(COUNTIF(Holidays!$A:$A,F$4)>0,\"H\",IFERROR(VLOOKUP((ROW(F65)-4)&\"_\"&F$4,Schedule!$H:$I,2,FALSE),\"\"))))","v":""},{"$f":"IF($A65=\"\",\"\",IF(OR(G$3=\"Sat\",G$3=\"Sun\"),\"\",IF(COUNTIF(Holidays!$A:$A,G$4)>0,\"H\",IFERROR(VLOOKUP((ROW(G65)-4)&\"_\"&G$4,Schedule!$H:$I,2,FALSE),\"\"))))","v":""},{"$f":"IF($A65=\"\",\"\",IF(OR(H$3=\"Sat\",H$3=\"Sun\"),\"\",IF(COUNTIF(Holidays!$A:$A,H$4)>0,\"H\",IFERROR(VLOOKUP((ROW(H65)-4)&\"_\"&H$4,Schedule!$H:$I,2,FALSE),\"\"))))","v":""},{"$f":"IF($A65=\"\",\"\",IF(OR(I$3=\"Sat\",I$3=\"Sun\"),\"\",IF(COUNTIF(Holidays!$A:$A,I$4)>0,\"H\",IFERROR(VLOOKUP((ROW(I65)-4)&\"_\"&I$4,Schedule!$H:$I,2,FALSE),\"\"))))","v":""},{"$f":"IF($A65=\"\",\"\",IF(OR(J$3=\"Sat\",J$3=\"Sun\"),\"\",IF(COUNTIF(Holidays!$A:$A,J$4)>0,\"H\",IFERROR(VLOOKUP((ROW(J65)-4)&\"_\"&J$4,Schedule!$H:$I,2,FALSE),\"\"))))","v":""},{"$f":"IF($A65=\"\",\"\",IF(OR(K$3=\"Sat\",K$3=\"Sun\"),\"\",IF(COUNTIF(Holidays!$A:$A,K$4)>0,\"H\",IFERROR(VLOOKUP((ROW(K65)-4)&\"_\"&K$4,Schedule!$H:$I,2,FALSE),\"\"))))","v":""},{"$f":"IF($A65=\"\",\"\",IF(OR(L$3=\"Sat\",L$3=\"Sun\"),\"\",IF(COUNTIF(Holidays!$A:$A,L$4)>0,\"H\",IFERROR(VLOOKUP((ROW(L65)-4)&\"_\"&L$4,Schedule!$H:$I,2,FALSE),\"\"))))","v":""},{"$f":"IF($A65=\"\",\"\",IF(OR(M$3=\"Sat\",M$3=\"Sun\"),\"\",IF(COUNTIF(Holidays!$A:$A,M$4)>0,\"H\",IFERROR(VLOOKUP((ROW(M65)-4)&\"_\"&M$4,Schedule!$H:$I,2,FALSE),\"\"))))","v":""},{"$f":"IF($A65=\"\",\"\",IF(OR(N$3=\"Sat\",N$3=\"Sun\"),\"\",IF(COUNTIF(Holidays!$A:$A,N$4)>0,\"H\",IFERROR(VLOOKUP((ROW(N65)-4)&\"_\"&N$4,Schedule!$H:$I,2,FALSE),\"\"))))","v":""},{"$f":"IF($A65=\"\",\"\",IF(OR(O$3=\"Sat\",O$3=\"Sun\"),\"\",IF(COUNTIF(Holidays!$A:$A,O$4)>0,\"H\",IFERROR(VLOOKUP((ROW(O65)-4)&\"_\"&O$4,Schedule!$H:$I,2,FALSE),\"\"))))","v":""},{"$f":"IF($A65=\"\",\"\",IF(OR(P$3=\"Sat\",P$3=\"Sun\"),\"\",IF(COUNTIF(Holidays!$A:$A,P$4)>0,\"H\",IFERROR(VLOOKUP((ROW(P65)-4)&\"_\"&P$4,Schedule!$H:$I,2,FALSE),\"\"))))","v":""},{"$f":"IF($A65=\"\",\"\",IF(OR(Q$3=\"Sat\",Q$3=\"Sun\"),\"\",IF(COUNTIF(Holidays!$A:$A,Q$4)>0,\"H\",IFERROR(VLOOKUP((ROW(Q65)-4)&\"_\"&Q$4,Schedule!$H:$I,2,FALSE),\"\"))))","v":""},{"$f":"IF($A65=\"\",\"\",IF(OR(R$3=\"Sat\",R$3=\"Sun\"),\"\",IF(COUNTIF(Holidays!$A:$A,R$4)>0,\"H\",IFERROR(VLOOKUP((ROW(R65)-4)&\"_\"&R$4,Schedule!$H:$I,2,FALSE),\"\"))))","v":""},{"$f":"IF($A65=\"\",\"\",IF(OR(S$3=\"Sat\",S$3=\"Sun\"),\"\",IF(COUNTIF(Holidays!$A:$A,S$4)>0,\"H\",IFERROR(VLOOKUP((ROW(S65)-4)&\"_\"&S$4,Schedule!$H:$I,2,FALSE),\"\"))))","v":""},{"$f":"IF($A65=\"\",\"\",IF(OR(T$3=\"Sat\",T$3=\"Sun\"),\"\",IF(COUNTIF(Holidays!$A:$A,T$4)>0,\"H\",IFERROR(VLOOKUP((ROW(T65)-4)&\"_\"&T$4,Schedule!$H:$I,2,FALSE),\"\"))))","v":""},{"$f":"IF($A65=\"\",\"\",IF(OR(U$3=\"Sat\",U$3=\"Sun\"),\"\",IF(COUNTIF(Holidays!$A:$A,U$4)>0,\"H\",IFERROR(VLOOKUP((ROW(U65)-4)&\"_\"&U$4,Schedule!$H:$I,2,FALSE),\"\"))))","v":""},{"$f":"IF($A65=\"\",\"\",IF(OR(V$3=\"Sat\",V$3=\"Sun\"),\"\",IF(COUNTIF(Holidays!$A:$A,V$4)>0,\"H\",IFERROR(VLOOKUP((ROW(V65)-4)&\"_\"&V$4,Schedule!$H:$I,2,FALSE),\"\"))))","v":""},{"$f":"IF($A65=\"\",\"\",IF(OR(W$3=\"Sat\",W$3=\"Sun\"),\"\",IF(COUNTIF(Holidays!$A:$A,W$4)>0,\"H\",IFERROR(VLOOKUP((ROW(W65)-4)&\"_\"&W$4,Schedule!$H:$I,2,FALSE),\"\"))))","v":""},{"$f":"IF($A65=\"\",\"\",IF(OR(X$3=\"Sat\",X$3=\"Sun\"),\"\",IF(COUNTIF(Holidays!$A:$A,X$4)>0,\"H\",IFERROR(VLOOKUP((ROW(X65)-4)&\"_\"&X$4,Schedule!$H:$I,2,FALSE),\"\"))))","v":""},{"$f":"IF($A65=\"\",\"\",IF(OR(Y$3=\"Sat\",Y$3=\"Sun\"),\"\",IF(COUNTIF(Holidays!$A:$A,Y$4)>0,\"H\",IFERROR(VLOOKUP((ROW(Y65)-4)&\"_\"&Y$4,Schedule!$H:$I,2,FALSE),\"\"))))","v":""},{"$f":"IF($A65=\"\",\"\",IF(OR(Z$3=\"Sat\",Z$3=\"Sun\"),\"\",IF(COUNTIF(Holidays!$A:$A,Z$4)>0,\"H\",IFERROR(VLOOKUP((ROW(Z65)-4)&\"_\"&Z$4,Schedule!$H:$I,2,FALSE),\"\"))))","v":""},{"$f":"IF($A65=\"\",\"\",IF(OR(AA$3=\"Sat\",AA$3=\"Sun\"),\"\",IF(COUNTIF(Holidays!$A:$A,AA$4)>0,\"H\",IFERROR(VLOOKUP((ROW(AA65)-4)&\"_\"&AA$4,Schedule!$H:$I,2,FALSE),\"\"))))","v":""},{"$f":"IF($A65=\"\",\"\",IF(OR(AB$3=\"Sat\",AB$3=\"Sun\"),\"\",IF(COUNTIF(Holidays!$A:$A,AB$4)>0,\"H\",IFERROR(VLOOKUP((ROW(AB65)-4)&\"_\"&AB$4,Schedule!$H:$I,2,FALSE),\"\"))))","v":""},{"$f":"IF($A65=\"\",\"\",IF(OR(AC$3=\"Sat\",AC$3=\"Sun\"),\"\",IF(COUNTIF(Holidays!$A:$A,AC$4)>0,\"H\",IFERROR(VLOOKUP((ROW(AC65)-4)&\"_\"&AC$4,Schedule!$H:$I,2,FALSE),\"\"))))","v":""},{"$f":"IF($A65=\"\",\"\",IF(OR(AD$3=\"Sat\",AD$3=\"Sun\"),\"\",IF(COUNTIF(Holidays!$A:$A,AD$4)>0,\"H\",IFERROR(VLOOKUP((ROW(AD65)-4)&\"_\"&AD$4,Schedule!$H:$I,2,FALSE),\"\"))))","v":""},{"$f":"IF($A65=\"\",\"\",IF(OR(AE$3=\"Sat\",AE$3=\"Sun\"),\"\",IF(COUNTIF(Holidays!$A:$A,AE$4)>0,\"H\",IFERROR(VLOOKUP((ROW(AE65)-4)&\"_\"&AE$4,Schedule!$H:$I,2,FALSE),\"\"))))","v":""},{"$f":"IF($A65=\"\",\"\",IF(OR(AF$3=\"Sat\",AF$3=\"Sun\"),\"\",IF(COUNTIF(Holidays!$A:$A,AF$4)>0,\"H\",IFERROR(VLOOKUP((ROW(AF65)-4)&\"_\"&AF$4,Schedule!$H:$I,2,FALSE),\"\"))))","v":""},{"$f":"IF($A65=\"\",\"\",IF(OR(AG$3=\"Sat\",AG$3=\"Sun\"),\"\",IF(COUNTIF(Holidays!$A:$A,AG$4)>0,\"H\",IFERROR(VLOOKUP((ROW(AG65)-4)&\"_\"&AG$4,Schedule!$H:$I,2,FALSE),\"\"))))","v":""},{"$f":"IF($A65=\"\",\"\",IF(OR(AH$3=\"Sat\",AH$3=\"Sun\"),\"\",IF(COUNTIF(Holidays!$A:$A,AH$4)>0,\"H\",IFERROR(VLOOKUP((ROW(AH65)-4)&\"_\"&AH$4,Schedule!$H:$I,2,FALSE),\"\"))))","v":""},{"$f":"IF($A65=\"\",\"\",IF(OR(AI$3=\"Sat\",AI$3=\"Sun\"),\"\",IF(COUNTIF(Holidays!$A:$A,AI$4)>0,\"H\",IFERROR(VLOOKUP((ROW(AI65)-4)&\"_\"&AI$4,Schedule!$H:$I,2,FALSE),\"\"))))","v":""},{"$f":"IF($A65=\"\",\"\",IF(OR(AJ$3=\"Sat\",AJ$3=\"Sun\"),\"\",IF(COUNTIF(Holidays!$A:$A,AJ$4)>0,\"H\",IFERROR(VLOOKUP((ROW(AJ65)-4)&\"_\"&AJ$4,Schedule!$H:$I,2,FALSE),\"\"))))","v":""},{"$f":"IF($A65=\"\",\"\",ROUND(SUMIFS(Schedule!$E:$E,Schedule!$A:$A,$A65,Schedule!$D:$D,$AK$3,Schedule!$B:$B,\">=\"&DATE($Q$2,$U$2,1),Schedule!$B:$B,\"<=\"&EOMONTH(DATE($Q$2,$U$2,1),0))/8,2))","v":""},{"$f":"IF($A65=\"\",\"\",ROUND(SUMIFS(Schedule!$E:$E,Schedule!$A:$A,$A65,Schedule!$D:$D,$AK$3,Schedule!$B:$B,\">=\"&DATE($Q$2,1,1),Schedule!$B:$B,\"<=\"&EOMONTH(DATE($Q$2,$U$2,1),0))/8,2))","v":""},{"$f":"IF($A65=\"\",\"\",ROUND(SUMIFS(Schedule!$E:$E,Schedule!$A:$A,$A65,Schedule!$D:$D,$AM$3,Schedule!$B:$B,\">=\"&DATE($Q$2,$U$2,1),Schedule!$B:$B,\"<=\"&EOMONTH(DATE($Q$2,$U$2,1),0))/8,2))","v":""},{"$f":"IF($A65=\"\",\"\",ROUND(SUMIFS(Schedule!$E:$E,Schedule!$A:$A,$A65,Schedule!$D:$D,$AM$3,Schedule!$B:$B,\">=\"&DATE($Q$2,1,1),Schedule!$B:$B,\"<=\"&EOMONTH(DATE($Q$2,$U$2,1),0))/8,2))","v":""}]
[{"$f":"IF(Lookups!A63=\"\",\"\",Lookups!A63)","v":""},{"$f":"IF($A66=\"\",\"\",IF(OR(B$3=\"Sat\",B$3=\"Sun\"),\"\",IF(COUNTIF(Holidays!$A:$A,B$4)>0,\"H\",IFERROR(VLOOKUP((ROW(B66)-4)&\"_\"&B$4,Schedule!$H:$I,2,FALSE),\"\"))))","v":""},{"$f":"IF($A66=\"\",\"\",IF(OR(C$3=\"Sat\",C$3=\"Sun\"),\"\",IF(COUNTIF(Holidays!$A:$A,C$4)>0,\"H\",IFERROR(VLOOKUP((ROW(C66)-4)&\"_\"&C$4,Schedule!$H:$I,2,FALSE),\"\"))))","v":""},{"$f":"IF($A66=\"\",\"\",IF(OR(D$3=\"Sat\",D$3=\"Sun\"),\"\",IF(COUNTIF(Holidays!$A:$A,D$4)>0,\"H\",IFERROR(VLOOKUP((ROW(D66)-4)&\"_\"&D$4,Schedule!$H:$I,2,FALSE),\"\"))))","v":""},{"$f":"IF($A66=\"\",\"\",IF(OR(E$3=\"Sat\",E$3=\"Sun\"),\"\",IF(COUNTIF(Holidays!$A:$A,E$4)>0,\"H\",IFERROR(VLOOKUP((ROW(E66)-4)&\"_\"&E$4,Schedule!$H:$I,2,FALSE),\"\"))))","v":""},{"$f":"IF($A66=\"\",\"\",IF(OR(F$3=\"Sat\",F$3=\"Sun\"),\"\",IF(COUNTIF(Holidays!$A:$A,F$4)>0,\"H\",IFERROR(VLOOKUP((ROW(F66)-4)&\"_\"&F$4,Schedule!$H:$I,2,FALSE),\"\"))))","v":""},{"$f":"IF($A66=\"\",\"\",IF(OR(G$3=\"Sat\",G$3=\"Sun\"),\"\",IF(COUNTIF(Holidays!$A:$A,G$4)>0,\"H\",IFERROR(VLOOKUP((ROW(G66)-4)&\"_\"&G$4,Schedule!$H:$I,2,FALSE),\"\"))))","v":""},{"$f":"IF($A66=\"\",\"\",IF(OR(H$3=\"Sat\",H$3=\"Sun\"),\"\",IF(COUNTIF(Holidays!$A:$A,H$4)>0,\"H\",IFERROR(VLOOKUP((ROW(H66)-4)&\"_\"&H$4,Schedule!$H:$I,2,FALSE),\"\"))))","v":""},{"$f":"IF($A66=\"\",\"\",IF(OR(I$3=\"Sat\",I$3=\"Sun\"),\"\",IF(COUNTIF(Holidays!$A:$A,I$4)>0,\"H\",IFERROR(VLOOKUP((ROW(I66)-4)&\"_\"&I$4,Schedule!$H:$I,2,FALSE),\"\"))))","v":""},{"$f":"IF($A66=\"\",\"\",IF(OR(J$3=\"Sat\",J$3=\"Sun\"),\"\",IF(COUNTIF(Holidays!$A:$A,J$4)>0,\"H\",IFERROR(VLOOKUP((ROW(J66)-4)&\"_\"&J$4,Schedule!$H:$I,2,FALSE),\"\"))))","v":""},{"$f":"IF($A66=\"\",\"\",IF(OR(K$3=\"Sat\",K$3=\"Sun\"),\"\",IF(COUNTIF(Holidays!$A:$A,K$4)>0,\"H\",IFERROR(VLOOKUP((ROW(K66)-4)&\"_\"&K$4,Schedule!$H:$I,2,FALSE),\"\"))))","v":""},{"$f":"IF($A66=\"\",\"\",IF(OR(L$3=\"Sat\",L$3=\"Sun\"),\"\",IF(COUNTIF(Holidays!$A:$A,L$4)>0,\"H\",IFERROR(VLOOKUP((ROW(L66)-4)&\"_\"&L$4,Schedule!$H:$I,2,FALSE),\"\"))))","v":""},{"$f":"IF($A66=\"\",\"\",IF(OR(M$3=\"Sat\",M$3=\"Sun\"),\"\",IF(COUNTIF(Holidays!$A:$A,M$4)>0,\"H\",IFERROR(VLOOKUP((ROW(M66)-4)&\"_\"&M$4,Schedule!$H:$I,2,FALSE),\"\"))))","v":""},{"$f":"IF($A66=\"\",\"\",IF(OR(N$3=\"Sat\",N$3=\"Sun\"),\"\",IF(COUNTIF(Holidays!$A:$A,N$4)>0,\"H\",IFERROR(VLOOKUP((ROW(N66)-4)&\"_\"&N$4,Schedule!$H:$I,2,FALSE),\"\"))))","v":""},{"$f":"IF($A66=\"\",\"\",IF(OR(O$3=\"Sat\",O$3=\"Sun\"),\"\",IF(COUNTIF(Holidays!$A:$A,O$4)>0,\"H\",IFERROR(VLOOKUP((ROW(O66)-4)&\"_\"&O$4,Schedule!$H:$I,2,FALSE),\"\"))))","v":""},{"$f":"IF($A66=\"\",\"\",IF(OR(P$3=\"Sat\",P$3=\"Sun\"),\"\",IF(COUNTIF(Holidays!$A:$A,P$4)>0,\"H\",IFERROR(VLOOKUP((ROW(P66)-4)&\"_\"&P$4,Schedule!$H:$I,2,FALSE),\"\"))))","v":""},{"$f":"IF($A66=\"\",\"\",IF(OR(Q$3=\"Sat\",Q$3=\"Sun\"),\"\",IF(COUNTIF(Holidays!$A:$A,Q$4)>0,\"H\",IFERROR(VLOOKUP((ROW(Q66)-4)&\"_\"&Q$4,Schedule!$H:$I,2,FALSE),\"\"))))","v":""},{"$f":"IF($A66=\"\",\"\",IF(OR(R$3=\"Sat\",R$3=\"Sun\"),\"\",IF(COUNTIF(Holidays!$A:$A,R$4)>0,\"H\",IFERROR(VLOOKUP((ROW(R66)-4)&\"_\"&R$4,Schedule!$H:$I,2,FALSE),\"\"))))","v":""},{"$f":"IF($A66=\"\",\"\",IF(OR(S$3=\"Sat\",S$3=\"Sun\"),\"\",IF(COUNTIF(Holidays!$A:$A,S$4)>0,\"H\",IFERROR(VLOOKUP((ROW(S66)-4)&\"_\"&S$4,Schedule!$H:$I,2,FALSE),\"\"))))","v":""},{"$f":"IF($A66=\"\",\"\",IF(OR(T$3=\"Sat\",T$3=\"Sun\"),\"\",IF(COUNTIF(Holidays!$A:$A,T$4)>0,\"H\",IFERROR(VLOOKUP((ROW(T66)-4)&\"_\"&T$4,Schedule!$H:$I,2,FALSE),\"\"))))","v":""},{"$f":"IF($A66=\"\",\"\",IF(OR(U$3=\"Sat\",U$3=\"Sun\"),\"\",IF(COUNTIF(Holidays!$A:$A,U$4)>0,\"H\",IFERROR(VLOOKUP((ROW(U66)-4)&\"_\"&U$4,Schedule!$H:$I,2,FALSE),\"\"))))","v":""},{"$f":"IF($A66=\"\",\"\",IF(OR(V$3=\"Sat\",V$3=\"Sun\"),\"\",IF(COUNTIF(Holidays!$A:$A,V$4)>0,\"H\",IFERROR(VLOOKUP((ROW(V66)-4)&\"_\"&V$4,Schedule!$H:$I,2,FALSE),\"\"))))","v":""},{"$f":"IF($A66=\"\",\"\",IF(OR(W$3=\"Sat\",W$3=\"Sun\"),\"\",IF(COUNTIF(Holidays!$A:$A,W$4)>0,\"H\",IFERROR(VLOOKUP((ROW(W66)-4)&\"_\"&W$4,Schedule!$H:$I,2,FALSE),\"\"))))","v":""},{"$f":"IF($A66=\"\",\"\",IF(OR(X$3=\"Sat\",X$3=\"Sun\"),\"\",IF(COUNTIF(Holidays!$A:$A,X$4)>0,\"H\",IFERROR(VLOOKUP((ROW(X66)-4)&\"_\"&X$4,Schedule!$H:$I,2,FALSE),\"\"))))","v":""},{"$f":"IF($A66=\"\",\"\",IF(OR(Y$3=\"Sat\",Y$3=\"Sun\"),\"\",IF(COUNTIF(Holidays!$A:$A,Y$4)>0,\"H\",IFERROR(VLOOKUP((ROW(Y66)-4)&\"_\"&Y$4,Schedule!$H:$I,2,FALSE),\"\"))))","v":""},{"$f":"IF($A66=\"\",\"\",IF(OR(Z$3=\"Sat\",Z$3=\"Sun\"),\"\",IF(COUNTIF(Holidays!$A:$A,Z$4)>0,\"H\",IFERROR(VLOOKUP((ROW(Z66)-4)&\"_\"&Z$4,Schedule!$H:$I,2,FALSE),\"\"))))","v":""},{"$f":"IF($A66=\"\",\"\",IF(OR(AA$3=\"Sat\",AA$3=\"Sun\"),\"\",IF(COUNTIF(Holidays!$A:$A,AA$4)>0,\"H\",IFERROR(VLOOKUP((ROW(AA66)-4)&\"_\"&AA$4,Schedule!$H:$I,2,FALSE),\"\"))))","v":""},{"$f":"IF($A66=\"\",\"\",IF(OR(AB$3=\"Sat\",AB$3=\"Sun\"),\"\",IF(COUNTIF(Holidays!$A:$A,AB$4)>0,\"H\",IFERROR(VLOOKUP((ROW(AB66)-4)&\"_\"&AB$4,Schedule!$H:$I,2,FALSE),\"\"))))","v":""},{"$f":"IF($A66=\"\",\"\",IF(OR(AC$3=\"Sat\",AC$3=\"Sun\"),\"\",IF(COUNTIF(Holidays!$A:$A,AC$4)>0,\"H\",IFERROR(VLOOKUP((ROW(AC66)-4)&\"_\"&AC$4,Schedule!$H:$I,2,FALSE),\"\"))))","v":""},{"$f":"IF($A66=\"\",\"\",IF(OR(AD$3=\"Sat\",AD$3=\"Sun\"),\"\",IF(COUNTIF(Holidays!$A:$A,AD$4)>0,\"H\",IFERROR(VLOOKUP((ROW(AD66)-4)&\"_\"&AD$4,Schedule!$H:$I,2,FALSE),\"\"))))","v":""},{"$f":"IF($A66=\"\",\"\",IF(OR(AE$3=\"Sat\",AE$3=\"Sun\"),\"\",IF(COUNTIF(Holidays!$A:$A,AE$4)>0,\"H\",IFERROR(VLOOKUP((ROW(AE66)-4)&\"_\"&AE$4,Schedule!$H:$I,2,FALSE),\"\"))))","v":""},{"$f":"IF($A66=\"\",\"\",IF(OR(AF$3=\"Sat\",AF$3=\"Sun\"),\"\",IF(COUNTIF(Holidays!$A:$A,AF$4)>0,\"H\",IFERROR(VLOOKUP((ROW(AF66)-4)&\"_\"&AF$4,Schedule!$H:$I,2,FALSE),\"\"))))","v":""},{"$f":"IF($A66=\"\",\"\",IF(OR(AG$3=\"Sat\",AG$3=\"Sun\"),\"\",IF(COUNTIF(Holidays!$A:$A,AG$4)>0,\"H\",IFERROR(VLOOKUP((ROW(AG66)-4)&\"_\"&AG$4,Schedule!$H:$I,2,FALSE),\"\"))))","v":""},{"$f":"IF($A66=\"\",\"\",IF(OR(AH$3=\"Sat\",AH$3=\"Sun\"),\"\",IF(COUNTIF(Holidays!$A:$A,AH$4)>0,\"H\",IFERROR(VLOOKUP((ROW(AH66)-4)&\"_\"&AH$4,Schedule!$H:$I,2,FALSE),\"\"))))","v":""},{"$f":"IF($A66=\"\",\"\",IF(OR(AI$3=\"Sat\",AI$3=\"Sun\"),\"\",IF(COUNTIF(Holidays!$A:$A,AI$4)>0,\"H\",IFERROR(VLOOKUP((ROW(AI66)-4)&\"_\"&AI$4,Schedule!$H:$I,2,FALSE),\"\"))))","v":""},{"$f":"IF($A66=\"\",\"\",IF(OR(AJ$3=\"Sat\",AJ$3=\"Sun\"),\"\",IF(COUNTIF(Holidays!$A:$A,AJ$4)>0,\"H\",IFERROR(VLOOKUP((ROW(AJ66)-4)&\"_\"&AJ$4,Schedule!$H:$I,2,FALSE),\"\"))))","v":""},{"$f":"IF($A66=\"\",\"\",ROUND(SUMIFS(Schedule!$E:$E,Schedule!$A:$A,$A66,Schedule!$D:$D,$AK$3,Schedule!$B:$B,\">=\"&DATE($Q$2,$U$2,1),Schedule!$B:$B,\"<=\"&EOMONTH(DATE($Q$2,$U$2,1),0))/8,2))","v":""},{"$f":"IF($A66=\"\",\"\",ROUND(SUMIFS(Schedule!$E:$E,Schedule!$A:$A,$A66,Schedule!$D:$D,$AK$3,Schedule!$B:$B,\">=\"&DATE($Q$2,1,1),Schedule!$B:$B,\"<=\"&EOMONTH(DATE($Q$2,$U$2,1),0))/8,2))","v":""},{"$f":"IF($A66=\"\",\"\",ROUND(SUMIFS(Schedule!$E:$E,Schedule!$A:$A,$A66,Schedule!$D:$D,$AM$3,Schedule!$B:$B,\">=\"&DATE($Q$2,$U$2,1),Schedule!$B:$B,\"<=\"&EOMONTH(DATE($Q$2,$U$2,1),0))/8,2))","v":""},{"$f":"IF($A66=\"\",\"\",ROUND(SUMIFS(Schedule!$E:$E,Schedule!$A:$A,$A66,Schedule!$D:$D,$AM$3,Schedule!$B:$B,\">=\"&DATE($Q$2,1,1),Schedule!$B:$B,\"<=\"&EOMONTH(DATE($Q$2,$U$2,1),0))/8,2))","v":""}]
[{"$f":"IF(Lookups!A64=\"\",\"\",Lookups!A64)","v":""},{"$f":"IF($A67=\"\",\"\",IF(OR(B$3=\"Sat\",B$3=\"Sun\"),\"\",IF(COUNTIF(Holidays!$A:$A,B$4)>0,\"H\",IFERROR(VLOOKUP((ROW(B67)-4)&\"_\"&B$4,Schedule!$H:$I,2,FALSE),\"\"))))","v":""},{"$f":"IF($A67=\"\",\"\",IF(OR(C$3=\"Sat\",C$3=\"Sun\"),\"\",IF(COUNTIF(Holidays!$A:$A,C$4)>0,\"H\",IFERROR(VLOOKUP((ROW(C67)-4)&\"_\"&C$4,Schedule!$H:$I,2,FALSE),\"\"))))","v":""},{"$f":"IF($A67=\"\",\"\",IF(OR(D$3=\"Sat\",D$3=\"Sun\"),\"\",IF(COUNTIF(Holidays!$A:$A,D$4)>0,\"H\",IFERROR(VLOOKUP((ROW(D67)-4)&\"_\"&D$4,Schedule!$H:$I,2,FALSE),\"\"))))","v":""},{"$f":"IF($A67=\"\",\"\",IF(OR(E$3=\"Sat\",E$3=\"Sun\"),\"\",IF(COUNTIF(Holidays!$A:$A,E$4)>0,\"H\",IFERROR(VLOOKUP((ROW(E67)-4)&\"_\"&E$4,Schedule!$H:$I,2,FALSE),\"\"))))","v":""},{"$f":"IF($A67=\"\",\"\",IF(OR(F$3=\"Sat\",F$3=\"Sun\"),\"\",IF(COUNTIF(Holidays!$A:$A,F$4)>0,\"H\",IFERROR(VLOOKUP((ROW(F67)-4)&\"_\"&F$4,Schedule!$H:$I,2,FALSE),\"\"))))","v":""},{"$f":"IF($A67=\"\",\"\",IF(OR(G$3=\"Sat\",G$3=\"Sun\"),\"\",IF(COUNTIF(Holidays!$A:$A,G$4)>0,\"H\",IFERROR(VLOOKUP((ROW(G67)-4)&\"_\"&G$4,Schedule!$H:$I,2,FALSE),\"\"))))","v":""},{"$f":"IF($A67=\"\",\"\",IF(OR(H$3=\"Sat\",H$3=\"Sun\"),\"\",IF(COUNTIF(Holidays!$A:$A,H$4)>0,\"H\",IFERROR(VLOOKUP((ROW(H67)-4)&\"_\"&H$4,Schedule!$H:$I,2,FALSE),\"\"))))","v":""},{"$f":"IF($A67=\"\",\"\",IF(OR(I$3=\"Sat\",I$3=\"Sun\"),\"\",IF(COUNTIF(Holidays!$A:$A,I$4)>0,\"H\",IFERROR(VLOOKUP((ROW(I67)-4)&\"_\"&I$4,Schedule!$H:$I,2,FALSE),\"\"))))","v":""},{"$f":"IF($A67=\"\",\"\",IF(OR(J$3=\"Sat\",J$3=\"Sun\"),\"\",IF(COUNTIF(Holidays!$A:$A,J$4)>0,\"H\",IFERROR(VLOOKUP((ROW(J67)-4)&\"_\"&J$4,Schedule!$H:$I,2,FALSE),\"\"))))","v":""},{"$f":"IF($A67=\"\",\"\",IF(OR(K$3=\"Sat\",K$3=\"Sun\"),\"\",IF(COUNTIF(Holidays!$A:$A,K$4)>0,\"H\",IFERROR(VLOOKUP((ROW(K67)-4)&\"_\"&K$4,Schedule!$H:$I,2,FALSE),\"\"))))","v":""},{"$f":"IF($A67=\"\",\"\",IF(OR(L$3=\"Sat\",L$3=\"Sun\"),\"\",IF(COUNTIF(Holidays!$A:$A,L$4)>0,\"H\",IFERROR(VLOOKUP((ROW(L67)-4)&\"_\"&L$4,Schedule!$H:$I,2,FALSE),\"\"))))","v":""},{"$f":"IF($A67=\"\",\"\",IF(OR(M$3=\"Sat\",M$3=\"Sun\"),\"\",IF(COUNTIF(Holidays!$A:$A,M$4)>0,\"H\",IFERROR(VLOOKUP((ROW(M67)-4)&\"_\"&M$4,Schedule!$H:$I,2,FALSE),\"\"))))","v":""},{"$f":"IF($A67=\"\",\"\",IF(OR(N$3=\"Sat\",N$3=\"Sun\"),\"\",IF(COUNTIF(Holidays!$A:$A,N$4)>0,\"H\",IFERROR(VLOOKUP((ROW(N67)-4)&\"_\"&N$4,Schedule!$H:$I,2,FALSE),\"\"))))","v":""},{"$f":"IF($A67=\"\",\"\",IF(OR(O$3=\"Sat\",O$3=\"Sun\"),\"\",IF(COUNTIF(Holidays!$A:$A,O$4)>0,\"H\",IFERROR(VLOOKUP((ROW(O67)-4)&\"_\"&O$4,Schedule!$H:$I,2,FALSE),\"\"))))","v":""},{"$f":"IF($A67=\"\",\"\",IF(OR(P$3=\"Sat\",P$3=\"Sun\"),\"\",IF(COUNTIF(Holidays!$A:$A,P$4)>0,\"H\",IFERROR(VLOOKUP((ROW(P67)-4)&\"_\"&P$4,Schedule!$H:$I,2,FALSE),\"\"))))","v":""},{"$f":"IF($A67=\"\",\"\",IF(OR(Q$3=\"Sat\",Q$3=\"Sun\"),\"\",IF(COUNTIF(Holidays!$A:$A,Q$4)>0,\"H\",IFERROR(VLOOKUP((ROW(Q67)-4)&\"_\"&Q$4,Schedule!$H:$I,2,FALSE),\"\"))))","v":""},{"$f":"IF($A67=\"\",\"\",IF(OR(R$3=\"Sat\",R$3=\"Sun\"),\"\",IF(COUNTIF(Holidays!$A:$A,R$4)>0,\"H\",IFERROR(VLOOKUP((ROW(R67)-4)&\"_\"&R$4,Schedule!$H:$I,2,FALSE),\"\"))))","v":""},{"$f":"IF($A67=\"\",\"\",IF(OR(S$3=\"Sat\",S$3=\"Sun\"),\"\",IF(COUNTIF(Holidays!$A:$A,S$4)>0,\"H\",IFERROR(VLOOKUP((ROW(S67)-4)&\"_\"&S$4,Schedule!$H:$I,2,FALSE),\"\"))))","v":""},{"$f":"IF($A67=\"\",\"\",IF(OR(T$3=\"Sat\",T$3=\"Sun\"),\"\",IF(COUNTIF(Holidays!$A:$A,T$4)>0,\"H\",IFERROR(VLOOKUP((ROW(T67)-4)&\"_\"&T$4,Schedule!$H:$I,2,FALSE),\"\"))))","v":""},{"$f":"IF($A67=\"\",\"\",IF(OR(U$3=\"Sat\",U$3=\"Sun\"),\"\",IF(COUNTIF(Holidays!$A:$A,U$4)>0,\"H\",IFERROR(VLOOKUP((ROW(U67)-4)&\"_\"&U$4,Schedule!$H:$I,2,FALSE),\"\"))))","v":""},{"$f":"IF($A67=\"\",\"\",IF(OR(V$3=\"Sat\",V$3=\"Sun\"),\"\",IF(COUNTIF(Holidays!$A:$A,V$4)>0,\"H\",IFERROR(VLOOKUP((ROW(V67)-4)&\"_\"&V$4,Schedule!$H:$I,2,FALSE),\"\"))))","v":""},{"$f":"IF($A67=\"\",\"\",IF(OR(W$3=\"Sat\",W$3=\"Sun\"),\"\",IF(COUNTIF(Holidays!$A:$A,W$4)>0,\"H\",IFERROR(VLOOKUP((ROW(W67)-4)&\"_\"&W$4,Schedule!$H:$I,2,FALSE),\"\"))))","v":""},{"$f":"IF($A67=\"\",\"\",IF(OR(X$3=\"Sat\",X$3=\"Sun\"),\"\",IF(COUNTIF(Holidays!$A:$A,X$4)>0,\"H\",IFERROR(VLOOKUP((ROW(X67)-4)&\"_\"&X$4,Schedule!$H:$I,2,FALSE),\"\"))))","v":""},{"$f":"IF($A67=\"\",\"\",IF(OR(Y$3=\"Sat\",Y$3=\"Sun\"),\"\",IF(COUNTIF(Holidays!$A:$A,Y$4)>0,\"H\",IFERROR(VLOOKUP((ROW(Y67)-4)&\"_\"&Y$4,Schedule!$H:$I,2,FALSE),\"\"))))","v":""},{"$f":"IF($A67=\"\",\"\",IF(OR(Z$3=\"Sat\",Z$3=\"Sun\"),\"\",IF(COUNTIF(Holidays!$A:$A,Z$4)>0,\"H\",IFERROR(VLOOKUP((ROW(Z67)-4)&\"_\"&Z$4,Schedule!$H:$I,2,FALSE),\"\"))))","v":""},{"$f":"IF($A67=\"\",\"\",IF(OR(AA$3=\"Sat\",AA$3=\"Sun\"),\"\",IF(COUNTIF(Holidays!$A:$A,AA$4)>0,\"H\",IFERROR(VLOOKUP((ROW(AA67)-4)&\"_\"&AA$4,Schedule!$H:$I,2,FALSE),\"\"))))","v":""},{"$f":"IF($A67=\"\",\"\",IF(OR(AB$3=\"Sat\",AB$3=\"Sun\"),\"\",IF(COUNTIF(Holidays!$A:$A,AB$4)>0,\"H\",IFERROR(VLOOKUP((ROW(AB67)-4)&\"_\"&AB$4,Schedule!$H:$I,2,FALSE),\"\"))))","v":""},{"$f":"IF($A67=\"\",\"\",IF(OR(AC$3=\"Sat\",AC$3=\"Sun\"),\"\",IF(COUNTIF(Holidays!$A:$A,AC$4)>0,\"H\",IFERROR(VLOOKUP((ROW(AC67)-4)&\"_\"&AC$4,Schedule!$H:$I,2,FALSE),\"\"))))","v":""},{"$f":"IF($A67=\"\",\"\",IF(OR(AD$3=\"Sat\",AD$3=\"Sun\"),\"\",IF(COUNTIF(Holidays!$A:$A,AD$4)>0,\"H\",IFERROR(VLOOKUP((ROW(AD67)-4)&\"_\"&AD$4,Schedule!$H:$I,2,FALSE),\"\"))))","v":""},{"$f":"IF($A67=\"\",\"\",IF(OR(AE$3=\"Sat\",AE$3=\"Sun\"),\"\",IF(COUNTIF(Holidays!$A:$A,AE$4)>0,\"H\",IFERROR(VLOOKUP((ROW(AE67)-4)&\"_\"&AE$4,Schedule!$H:$I,2,FALSE),\"\"))))","v":""},{"$f":"IF($A67=\"\",\"\",IF(OR(AF$3=\"Sat\",AF$3=\"Sun\"),\"\",IF(COUNTIF(Holidays!$A:$A,AF$4)>0,\"H\",IFERROR(VLOOKUP((ROW(AF67)-4)&\"_\"&AF$4,Schedule!$H:$I,2,FALSE),\"\"))))","v":""},{"$f":"IF($A67=\"\",\"\",IF(OR(AG$3=\"Sat\",AG$3=\"Sun\"),\"\",IF(COUNTIF(Holidays!$A:$A,AG$4)>0,\"H\",IFERROR(VLOOKUP((ROW(AG67)-4)&\"_\"&AG$4,Schedule!$H:$I,2,FALSE),\"\"))))","v":""},{"$f":"IF($A67=\"\",\"\",IF(OR(AH$3=\"Sat\",AH$3=\"Sun\"),\"\",IF(COUNTIF(Holidays!$A:$A,AH$4)>0,\"H\",IFERROR(VLOOKUP((ROW(AH67)-4)&\"_\"&AH$4,Schedule!$H:$I,2,FALSE),\"\"))))","v":""},{"$f":"IF($A67=\"\",\"\",IF(OR(AI$3=\"Sat\",AI$3=\"Sun\"),\"\",IF(COUNTIF(Holidays!$A:$A,AI$4)>0,\"H\",IFERROR(VLOOKUP((ROW(AI67)-4)&\"_\"&AI$4,Schedule!$H:$I,2,FALSE),\"\"))))","v":""},{"$f":"IF($A67=\"\",\"\",IF(OR(AJ$3=\"Sat\",AJ$3=\"Sun\"),\"\",IF(COUNTIF(Holidays!$A:$A,AJ$4)>0,\"H\",IFERROR(VLOOKUP((ROW(AJ67)-4)&\"_\"&AJ$4,Schedule!$H:$I,2,FALSE),\"\"))))","v":""},{"$f":"IF($A67=\"\",\"\",ROUND(SUMIFS(Schedule!$E:$E,Schedule!$A:$A,$A67,Schedule!$D:$D,$AK$3,Schedule!$B:$B,\">=\"&DATE($Q$2,$U$2,1),Schedule!$B:$B,\"<=\"&EOMONTH(DATE($Q$2,$U$2,1),0))/8,2))","v":""},{"$f":"IF($A67=\"\",\"\",ROUND(SUMIFS(Schedule!$E:$E,Schedule!$A:$A,$A67,Schedule!$D:$D,$AK$3,Schedule!$B:$B,\">=\"&DATE($Q$2,1,1),Schedule!$B:$B,\"<=\"&EOMONTH(DATE($Q$2,$U$2,1),0))/8,2))","v":""},{"$f":"IF($A67=\"\",\"\",ROUND(SUMIFS(Schedule!$E:$E,Schedule!$A:$A,$A67,Schedule!$D:$D,$AM$3,Schedule!$B:$B,\">=\"&DATE($Q$2,$U$2,1),Schedule!$B:$B,\"<=\"&EOMONTH(DATE($Q$2,$U$2,1),0))/8,2))","v":""},{"$f":"IF($A67=\"\",\"\",ROUND(SUMIFS(Schedule!$E:$E,Schedule!$A:$A,$A67,Schedule!$D:$D,$AM$3,Schedule!$B:$B,\">=\"&DATE($Q$2,1,1),Schedule!$B:$B,\"<=\"&EOMONTH(DATE($Q$2,$U$2,1),0))/8,2))","v":""}]
[{"$f":"IF(Lookups!A65=\"\",\"\",Lookups!A65)","v":""},{"$f":"IF($A68=\"\",\"\",IF(OR(B$3=\"Sat\",B$3=\"Sun\"),\"\",IF(COUNTIF(Holidays!$A:$A,B$4)>0,\"H\",IFERROR(VLOOKUP((ROW(B68)-4)&\"_\"&B$4,Schedule!$H:$I,2,FALSE),\"\"))))","v":""},{"$f":"IF($A68=\"\",\"\",IF(OR(C$3=\"Sat\",C$3=\"Sun\"),\"\",IF(COUNTIF(Holidays!$A:$A,C$4)>0,\"H\",IFERROR(VLOOKUP((ROW(C68)-4)&\"_\"&C$4,Schedule!$H:$I,2,FALSE),\"\"))))","v":""},{"$f":"IF($A68=\"\",\"\",IF(OR(D$3=\"Sat\",D$3=\"Sun\"),\"\",IF(COUNTIF(Holidays!$A:$A,D$4)>0,\"H\",IFERROR(VLOOKUP((ROW(D68)-4)&\"_\"&D$4,Schedule!$H:$I,2,FALSE),\"\"))))","v":""},{"$f":"IF($A68=\"\",\"\",IF(OR(E$3=\"Sat\",E$3=\"Sun\"),\"\",IF(COUNTIF(Holidays!$A:$A,E$4)>0,\"H\",IFERROR(VLOOKUP((ROW(E68)-4)&\"_\"&E$4,Schedule!$H:$I,2,FALSE),\"\"))))","v":""},{"$f":"IF($A68=\"\",\"\",IF(OR(F$3=\"Sat\",F$3=\"Sun\"),\"\",IF(COUNTIF(Holidays!$A:$A,F$4)>0,\"H\",IFERROR(VLOOKUP((ROW(F68)-4)&\"_\"&F$4,Schedule!$H:$I,2,FALSE),\"\"))))","v":""},{"$f":"IF($A68=\"\",\"\",IF(OR(G$3=\"Sat\",G$3=\"Sun\"),\"\",IF(COUNTIF(Holidays!$A:$A,G$4)>0,\"H\",IFERROR(VLOOKUP((ROW(G68)-4)&\"_\"&G$4,Schedule!$H:$I,2,FALSE),\"\"))))","v":""},{"$f":"IF($A68=\"\",\"\",IF(OR(H$3=\"Sat\",H$3=\"Sun\"),\"\",IF(COUNTIF(Holidays!$A:$A,H$4)>0,\"H\",IFERROR(VLOOKUP((ROW(H68)-4)&\"_\"&H$4,Schedule!$H:$I,2,FALSE),\"\"))))","v":""},{"$f":"IF($A68=\"\",\"\",IF(OR(I$3=\"Sat\",I$3=\"Sun\"),\"\",IF(COUNTIF(Holidays!$A:$A,I$4)>0,\"H\",IFERROR(VLOOKUP((ROW(I68)-4)&\"_\"&I$4,Schedule!$H:$I,2,FALSE),\"\"))))","v":""},{"$f":"IF($A68=\"\",\"\",IF(OR(J$3=\"Sat\",J$3=\"Sun\"),\"\",IF(COUNTIF(Holidays!$A:$A,J$4)>0,\"H\",IFERROR(VLOOKUP((ROW(J68)-4)&\"_\"&J$4,Schedule!$H:$I,2,FALSE),\"\"))))","v":""},{"$f":"IF($A68=\"\",\"\",IF(OR(K$3=\"Sat\",K$3=\"Sun\"),\"\",IF(COUNTIF(Holidays!$A:$A,K$4)>0,\"H\",IFERROR(VLOOKUP((ROW(K68)-4)&\"_\"&K$4,Schedule!$H:$I,2,FALSE),\"\"))))","v":""},{"$f":"IF($A68=\"\",\"\",IF(OR(L$3=\"Sat\",L$3=\"Sun\"),\"\",IF(COUNTIF(Holidays!$A:$A,L$4)>0,\"H\",IFERROR(VLOOKUP((ROW(L68)-4)&\"_\"&L$4,Schedule!$H:$I,2,FALSE),\"\"))))","v":""},{"$f":"IF($A68=\"\",\"\",IF(OR(M$3=\"Sat\",M$3=\"Sun\"),\"\",IF(COUNTIF(Holidays!$A:$A,M$4)>0,\"H\",IFERROR(VLOOKUP((ROW(M68)-4)&\"_\"&M$4,Schedule!$H:$I,2,FALSE),\"\"))))","v":""},{"$f":"IF($A68=\"\",\"\",IF(OR(N$3=\"Sat\",N$3=\"Sun\"),\"\",IF(COUNTIF(Holidays!$A:$A,N$4)>0,\"H\",IFERROR(VLOOKUP((ROW(N68)-4)&\"_\"&N$4,Schedule!$H:$I,2,FALSE),\"\"))))","v":""},{"$f":"IF($A68=\"\",\"\",IF(OR(O$3=\"Sat\",O$3=\"Sun\"),\"\",IF(COUNTIF(Holidays!$A:$A,O$4)>0,\"H\",IFERROR(VLOOKUP((ROW(O68)-4)&\"_\"&O$4,Schedule!$H:$I,2,FALSE),\"\"))))","v":""},{"$f":"IF($A68=\"\",\"\",IF(OR(P$3=\"Sat\",P$3=\"Sun\"),\"\",IF(COUNTIF(Holidays!$A:$A,P$4)>0,\"H\",IFERROR(VLOOKUP((ROW(P68)-4)&\"_\"&P$4,Schedule!$H:$I,2,FALSE),\"\"))))","v":""},{"$f":"IF($A68=\"\",\"\",IF(OR(Q$3=\"Sat\",Q$3=\"Sun\"),\"\",IF(COUNTIF(Holidays!$A:$A,Q$4)>0,\"H\",IFERROR(VLOOKUP((ROW(Q68)-4)&\"_\"&Q$4,Schedule!$H:$I,2,FALSE),\"\"))))","v":""},{"$f":"IF($A68=\"\",\"\",IF(OR(R$3=\"Sat\",R$3=\"Sun\"),\"\",IF(COUNTIF(Holidays!$A:$A,R$4)>0,\"H\",IFERROR(VLOOKUP((ROW(R68)-4)&\"_\"&R$4,Schedule!$H:$I,2,FALSE),\"\"))))","v":""},{"$f":"IF($A68=\"\",\"\",IF(OR(S$3=\"Sat\",S$3=\"Sun\"),\"\",IF(COUNTIF(Holidays!$A:$A,S$4)>0,\"H\",IFERROR(VLOOKUP((ROW(S68)-4)&\"_\"&S$4,Schedule!$H:$I,2,FALSE),\"\"))))","v":""},{"$f":"IF($A68=\"\",\"\",IF(OR(T$3=\"Sat\",T$3=\"Sun\"),\"\",IF(COUNTIF(Holidays!$A:$A,T$4)>0,\"H\",IFERROR(VLOOKUP((ROW(T68)-4)&\"_\"&T$4,Schedule!$H:$I,2,FALSE),\"\"))))","v":""},{"$f":"IF($A68=\"\",\"\",IF(OR(U$3=\"Sat\",U$3=\"Sun\"),\"\",IF(COUNTIF(Holidays!$A:$A,U$4)>0,\"H\",IFERROR(VLOOKUP((ROW(U68)-4)&\"_\"&U$4,Schedule!$H:$I,2,FALSE),\"\"))))","v":""},{"$f":"IF($A68=\"\",\"\",IF(OR(V$3=\"Sat\",V$3=\"Sun\"),\"\",IF(COUNTIF(Holidays!$A:$A,V$4)>0,\"H\",IFERROR(VLOOKUP((ROW(V68)-4)&\"_\"&V$4,Schedule!$H:$I,2,FALSE),\"\"))))","v":""},{"$f":"IF($A68=\"\",\"\",IF(OR(W$3=\"Sat\",W$3=\"Sun\"),\"\",IF(COUNTIF(Holidays!$A:$A,W$4)>0,\"H\",IFERROR(VLOOKUP((ROW(W68)-4)&\"_\"&W$4,Schedule!$H:$I,2,FALSE),\"\"))))","v":""},{"$f":"IF($A68=\"\",\"\",IF(OR(X$3=\"Sat\",X$3=\"Sun\"),\"\",IF(COUNTIF(Holidays!$A:$A,X$4)>0,\"H\",IFERROR(VLOOKUP((ROW(X68)-4)&\"_\"&X$4,Schedule!$H:$I,2,FALSE),\"\"))))","v":""},{"$f":"IF($A68=\"\",\"\",IF(OR(Y$3=\"Sat\",Y$3=\"Sun\"),\"\",IF(COUNTIF(Holidays!$A:$A,Y$4)>0,\"H\",IFERROR(VLOOKUP((ROW(Y68)-4)&\"_\"&Y$4,Schedule!$H:$I,2,FALSE),\"\"))))","v":""},{"$f":"IF($A68=\"\",\"\",IF(OR(Z$3=\"Sat\",Z$3=\"Sun\"),\"\",IF(COUNTIF(Holidays!$A:$A,Z$4)>0,\"H\",IFERROR(VLOOKUP((ROW(Z68)-4)&\"_\"&Z$4,Schedule!$H:$I,2,FALSE),\"\"))))","v":""},{"$f":"IF($A68=\"\",\"\",IF(OR(AA$3=\"Sat\",AA$3=\"Sun\"),\"\",IF(COUNTIF(Holidays!$A:$A,AA$4)>0,\"H\",IFERROR(VLOOKUP((ROW(AA68)-4)&\"_\"&AA$4,Schedule!$H:$I,2,FALSE),\"\"))))","v":""},{"$f":"IF($A68=\"\",\"\",IF(OR(AB$3=\"Sat\",AB$3=\"Sun\"),\"\",IF(COUNTIF(Holidays!$A:$A,AB$4)>0,\"H\",IFERROR(VLOOKUP((ROW(AB68)-4)&\"_\"&AB$4,Schedule!$H:$I,2,FALSE),\"\"))))","v":""},{"$f":"IF($A68=\"\",\"\",IF(OR(AC$3=\"Sat\",AC$3=\"Sun\"),\"\",IF(COUNTIF(Holidays!$A:$A,AC$4)>0,\"H\",IFERROR(VLOOKUP((ROW(AC68)-4)&\"_\"&AC$4,Schedule!$H:$I,2,FALSE),\"\"))))","v":""},{"$f":"IF($A68=\"\",\"\",IF(OR(AD$3=\"Sat\",AD$3=\"Sun\"),\"\",IF(COUNTIF(Holidays!$A:$A,AD$4)>0,\"H\",IFERROR(VLOOKUP((ROW(AD68)-4)&\"_\"&AD$4,Schedule!$H:$I,2,FALSE),\"\"))))","v":""},{"$f":"IF($A68=\"\",\"\",IF(OR(AE$3=\"Sat\",AE$3=\"Sun\"),\"\",IF(COUNTIF(Holidays!$A:$A,AE$4)>0,\"H\",IFERROR(VLOOKUP((ROW(AE68)-4)&\"_\"&AE$4,Schedule!$H:$I,2,FALSE),\"\"))))","v":""},{"$f":"IF($A68=\"\",\"\",IF(OR(AF$3=\"Sat\",AF$3=\"Sun\"),\"\",IF(COUNTIF(Holidays!$A:$A,AF$4)>0,\"H\",IFERROR(VLOOKUP((ROW(AF68)-4)&\"_\"&AF$4,Schedule!$H:$I,2,FALSE),\"\"))))","v":""},{"$f":"IF($A68=\"\",\"\",IF(OR(AG$3=\"Sat\",AG$3=\"Sun\"),\"\",IF(COUNTIF(Holidays!$A:$A,AG$4)>0,\"H\",IFERROR(VLOOKUP((ROW(AG68)-4)&\"_\"&AG$4,Schedule!$H:$I,2,FALSE),\"\"))))","v":""},{"$f":"IF($A68=\"\",\"\",IF(OR(AH$3=\"Sat\",AH$3=\"Sun\"),\"\",IF(COUNTIF(Holidays!$A:$A,AH$4)>0,\"H\",IFERROR(VLOOKUP((ROW(AH68)-4)&\"_\"&AH$4,Schedule!$H:$I,2,FALSE),\"\"))))","v":""},{"$f":"IF($A68=\"\",\"\",IF(OR(AI$3=\"Sat\",AI$3=\"Sun\"),\"\",IF(COUNTIF(Holidays!$A:$A,AI$4)>0,\"H\",IFERROR(VLOOKUP((ROW(AI68)-4)&\"_\"&AI$4,Schedule!$H:$I,2,FALSE),\"\"))))","v":""},{"$f":"IF($A68=\"\",\"\",IF(OR(AJ$3=\"Sat\",AJ$3=\"Sun\"),\"\",IF(COUNTIF(Holidays!$A:$A,AJ$4)>0,\"H\",IFERROR(VLOOKUP((ROW(AJ68)-4)&\"_\"&AJ$4,Schedule!$H:$I,2,FALSE),\"\"))))","v":""},{"$f":"IF($A68=\"\",\"\",ROUND(SUMIFS(Schedule!$E:$E,Schedule!$A:$A,$A68,Schedule!$D:$D,$AK$3,Schedule!$B:$B,\">=\"&DATE($Q$2,$U$2,1),Schedule!$B:$B,\"<=\"&EOMONTH(DATE($Q$2,$U$2,1),0))/8,2))","v":""},{"$f":"IF($A68=\"\",\"\",ROUND(SUMIFS(Schedule!$E:$E,Schedule!$A:$A,$A68,Schedule!$D:$D,$AK$3,Schedule!$B:$B,\">=\"&DATE($Q$2,1,1),Schedule!$B:$B,\"<=\"&EOMONTH(DATE($Q$2,$U$2,1),0))/8,2))","v":""},{"$f":"IF($A68=\"\",\"\",ROUND(SUMIFS(Schedule!$E:$E,Schedule!$A:$A,$A68,Schedule!$D:$D,$AM$3,Schedule!$B:$B,\">=\"&DATE($Q$2,$U$2,1),Schedule!$B:$B,\"<=\"&EOMONTH(DATE($Q$2,$U$2,1),0))/8,2))","v":""},{"$f":"IF($A68=\"\",\"\",ROUND(SUMIFS(Schedule!$E:$E,Schedule!$A:$A,$A68,Schedule!$D:$D,$AM$3,Schedule!$B:$B,\">=\"&DATE($Q$2,1,1),Schedule!$B:$B,\"<=\"&EOMONTH(DATE($Q$2,$U$2,1),0))/8,2))","v":""}]
[{"$f":"IF(Lookups!A66=\"\",\"\",Lookups!A66)","v":""},{"$f":"IF($A69=\"\",\"\",IF(OR(B$3=\"Sat\",B$3=\"Sun\"),\"\",IF(COUNTIF(Holidays!$A:$A,B$4)>0,\"H\",IFERROR(VLOOKUP((ROW(B69)-4)&\"_\"&B$4,Schedule!$H:$I,2,FALSE),\"\"))))","v":""},{"$f":"IF($A69=\"\",\"\",IF(OR(C$3=\"Sat\",C$3=\"Sun\"),\"\",IF(COUNTIF(Holidays!$A:$A,C$4)>0,\"H\",IFERROR(VLOOKUP((ROW(C69)-4)&\"_\"&C$4,Schedule!$H:$I,2,FALSE),\"\"))))","v":""},{"$f":"IF($A69=\"\",\"\",IF(OR(D$3=\"Sat\",D$3=\"Sun\"),\"\",IF(COUNTIF(Holidays!$A:$A,D$4)>0,\"H\",IFERROR(VLOOKUP((ROW(D69)-4)&\"_\"&D$4,Schedule!$H:$I,2,FALSE),\"\"))))","v":""},{"$f":"IF($A69=\"\",\"\",IF(OR(E$3=\"Sat\",E$3=\"Sun\"),\"\",IF(COUNTIF(Holidays!$A:$A,E$4)>0,\"H\",IFERROR(VLOOKUP((ROW(E69)-4)&\"_\"&E$4,Schedule!$H:$I,2,FALSE),\"\"))))","v":""},{"$f":"IF($A69=\"\",\"\",IF(OR(F$3=\"Sat\",F$3=\"Sun\"),\"\",IF(COUNTIF(Holidays!$A:$A,F$4)>0,\"H\",IFERROR(VLOOKUP((ROW(F69)-4)&\"_\"&F$4,Schedule!$H:$I,2,FALSE),\"\"))))","v":""},{"$f":"IF($A69=\"\",\"\",IF(OR(G$3=\"Sat\",G$3=\"Sun\"),\"\",IF(COUNTIF(Holidays!$A:$A,G$4)>0,\"H\",IFERROR(VLOOKUP((ROW(G69)-4)&\"_\"&G$4,Schedule!$H:$I,2,FALSE),\"\"))))","v":""},{"$f":"IF($A69=\"\",\"\",IF(OR(H$3=\"Sat\",H$3=\"Sun\"),\"\",IF(COUNTIF(Holidays!$A:$A,H$4)>0,\"H\",IFERROR(VLOOKUP((ROW(H69)-4)&\"_\"&H$4,Schedule!$H:$I,2,FALSE),\"\"))))","v":""},{"$f":"IF($A69=\"\",\"\",IF(OR(I$3=\"Sat\",I$3=\"Sun\"),\"\",IF(COUNTIF(Holidays!$A:$A,I$4)>0,\"H\",IFERROR(VLOOKUP((ROW(I69)-4)&\"_\"&I$4,Schedule!$H:$I,2,FALSE),\"\"))))","v":""},{"$f":"IF($A69=\"\",\"\",IF(OR(J$3=\"Sat\",J$3=\"Sun\"),\"\",IF(COUNTIF(Holidays!$A:$A,J$4)>0,\"H\",IFERROR(VLOOKUP((ROW(J69)-4)&\"_\"&J$4,Schedule!$H:$I,2,FALSE),\"\"))))","v":""},{"$f":"IF($A69=\"\",\"\",IF(OR(K$3=\"Sat\",K$3=\"Sun\"),\"\",IF(COUNTIF(Holidays!$A:$A,K$4)>0,\"H\",IFERROR(VLOOKUP((ROW(K69)-4)&\"_\"&K$4,Schedule!$H:$I,2,FALSE),\"\"))))","v":""},{"$f":"IF($A69=\"\",\"\",IF(OR(L$3=\"Sat\",L$3=\"Sun\"),\"\",IF(COUNTIF(Holidays!$A:$A,L$4)>0,\"H\",IFERROR(VLOOKUP((ROW(L69)-4)&\"_\"&L$4,Schedule!$H:$I,2,FALSE),\"\"))))","v":""},{"$f":"IF($A69=\"\",\"\",IF(OR(M$3=\"Sat\",M$3=\"Sun\"),\"\",IF(COUNTIF(Holidays!$A:$A,M$4)>0,\"H\",IFERROR(VLOOKUP((ROW(M69)-4)&\"_\"&M$4,Schedule!$H:$I,2,FALSE),\"\"))))","v":""},{"$f":"IF($A69=\"\",\"\",IF(OR(N$3=\"Sat\",N$3=\"Sun\"),\"\",IF(COUNTIF(Holidays!$A:$A,N$4)>0,\"H\",IFERROR(VLOOKUP((ROW(N69)-4)&\"_\"&N$4,Schedule!$H:$I,2,FALSE),\"\"))))","v":""},{"$f":"IF($A69=\"\",\"\",IF(OR(O$3=\"Sat\",O$3=\"Sun\"),\"\",IF(COUNTIF(Holidays!$A:$A,O$4)>0,\"H\",IFERROR(VLOOKUP((ROW(O69)-4)&\"_\"&O$4,Schedule!$H:$I,2,FALSE),\"\"))))","v":""},{"$f":"IF($A69=\"\",\"\",IF(OR(P$3=\"Sat\",P$3=\"Sun\"),\"\",IF(COUNTIF(Holidays!$A:$A,P$4)>0,\"H\",IFERROR(VLOOKUP((ROW(P69)-4)&\"_\"&P$4,Schedule!$H:$I,2,FALSE),\"\"))))","v":""},{"$f":"IF($A69=\"\",\"\",IF(OR(Q$3=\"Sat\",Q$3=\"Sun\"),\"\",IF(COUNTIF(Holidays!$A:$A,Q$4)>0,\"H\",IFERROR(VLOOKUP((ROW(Q69)-4)&\"_\"&Q$4,Schedule!$H:$I,2,FALSE),\"\"))))","v":""},{"$f":"IF($A69=\"\",\"\",IF(OR(R$3=\"Sat\",R$3=\"Sun\"),\"\",IF(COUNTIF(Holidays!$A:$A,R$4)>0,\"H\",IFERROR(VLOOKUP((ROW(R69)-4)&\"_\"&R$4,Schedule!$H:$I,2,FALSE),\"\"))))","v":""},{"$f":"IF($A69=\"\",\"\",IF(OR(S$3=\"Sat\",S$3=\"Sun\"),\"\",IF(COUNTIF(Holidays!$A:$A,S$4)>0,\"H\",IFERROR(VLOOKUP((ROW(S69)-4)&\"_\"&S$4,Schedule!$H:$I,2,FALSE),\"\"))))","v":""},{"$f":"IF($A69=\"\",\"\",IF(OR(T$3=\"Sat\",T$3=\"Sun\"),\"\",IF(COUNTIF(Holidays!$A:$A,T$4)>0,\"H\",IFERROR(VLOOKUP((ROW(T69)-4)&\"_\"&T$4,Schedule!$H:$I,2,FALSE),\"\"))))","v":""},{"$f":"IF($A69=\"\",\"\",IF(OR(U$3=\"Sat\",U$3=\"Sun\"),\"\",IF(COUNTIF(Holidays!$A:$A,U$4)>0,\"H\",IFERROR(VLOOKUP((ROW(U69)-4)&\"_\"&U$4,Schedule!$H:$I,2,FALSE),\"\"))))","v":""},{"$f":"IF($A69=\"\",\"\",IF(OR(V$3=\"Sat\",V$3=\"Sun\"),\"\",IF(COUNTIF(Holidays!$A:$A,V$4)>0,\"H\",IFERROR(VLOOKUP((ROW(V69)-4)&\"_\"&V$4,Schedule!$H:$I,2,FALSE),\"\"))))","v":""},{"$f":"IF($A69=\"\",\"\",IF(OR(W$3=\"Sat\",W$3=\"Sun\"),\"\",IF(COUNTIF(Holidays!$A:$A,W$4)>0,\"H\",IFERROR(VLOOKUP((ROW(W69)-4)&\"_\"&W$4,Schedule!$H:$I,2,FALSE),\"\"))))","v":""},{"$f":"IF($A69=\"\",\"\",IF(OR(X$3=\"Sat\",X$3=\"Sun\"),\"\",IF(COUNTIF(Holidays!$A:$A,X$4)>0,\"H\",IFERROR(VLOOKUP((ROW(X69)-4)&\"_\"&X$4,Schedule!$H:$I,2,FALSE),\"\"))))","v":""},{"$f":"IF($A69=\"\",\"\",IF(OR(Y$3=\"Sat\",Y$3=\"Sun\"),\"\",IF(COUNTIF(Holidays!$A:$A,Y$4)>0,\"H\",IFERROR(VLOOKUP((ROW(Y69)-4)&\"_\"&Y$4,Schedule!$H:$I,2,FALSE),\"\"))))","v":""},{"$f":"IF($A69=\"\",\"\",IF(OR(Z$3=\"Sat\",Z$3=\"Sun\"),\"\",IF(COUNTIF(Holidays!$A:$A,Z$4)>0,\"H\",IFERROR(VLOOKUP((ROW(Z69)-4)&\"_\"&Z$4,Schedule!$H:$I,2,FALSE),\"\"))))","v":""},{"$f":"IF($A69=\"\",\"\",IF(OR(AA$3=\"Sat\",AA$3=\"Sun\"),\"\",IF(COUNTIF(Holidays!$A:$A,AA$4)>0,\"H\",IFERROR(VLOOKUP((ROW(AA69)-4)&\"_\"&AA$4,Schedule!$H:$I,2,FALSE),\"\"))))","v":""},{"$f":"IF($A69=\"\",\"\",IF(OR(AB$3=\"Sat\",AB$3=\"Sun\"),\"\",IF(COUNTIF(Holidays!$A:$A,AB$4)>0,\"H\",IFERROR(VLOOKUP((ROW(AB69)-4)&\"_\"&AB$4,Schedule!$H:$I,2,FALSE),\"\"))))","v":""},{"$f":"IF($A69=\"\",\"\",IF(OR(AC$3=\"Sat\",AC$3=\"Sun\"),\"\",IF(COUNTIF(Holidays!$A:$A,AC$4)>0,\"H\",IFERROR(VLOOKUP((ROW(AC69)-4)&\"_\"&AC$4,Schedule!$H:$I,2,FALSE),\"\"))))","v":""},{"$f":"IF($A69=\"\",\"\",IF(OR(AD$3=\"Sat\",AD$3=\"Sun\"),\"\",IF(COUNTIF(Holidays!$A:$A,AD$4)>0,\"H\",IFERROR(VLOOKUP((ROW(AD69)-4)&\"_\"&AD$4,Schedule!$H:$I,2,FALSE),\"\"))))","v":""},{"$f":"IF($A69=\"\",\"\",IF(OR(AE$3=\"Sat\",AE$3=\"Sun\"),\"\",IF(COUNTIF(Holidays!$A:$A,AE$4)>0,\"H\",IFERROR(VLOOKUP((ROW(AE69)-4)&\"_\"&AE$4,Schedule!$H:$I,2,FALSE),\"\"))))","v":""},{"$f":"IF($A69=\"\",\"\",IF(OR(AF$3=\"Sat\",AF$3=\"Sun\"),\"\",IF(COUNTIF(Holidays!$A:$A,AF$4)>0,\"H\",IFERROR(VLOOKUP((ROW(AF69)-4)&\"_\"&AF$4,Schedule!$H:$I,2,FALSE),\"\"))))","v":""},{"$f":"IF($A69=\"\",\"\",IF(OR(AG$3=\"Sat\",AG$3=\"Sun\"),\"\",IF(COUNTIF(Holidays!$A:$A,AG$4)>0,\"H\",IFERROR(VLOOKUP((ROW(AG69)-4)&\"_\"&AG$4,Schedule!$H:$I,2,FALSE),\"\"))))","v":""},{"$f":"IF($A69=\"\",\"\",IF(OR(AH$3=\"Sat\",AH$3=\"Sun\"),\"\",IF(COUNTIF(Holidays!$A:$A,AH$4)>0,\"H\",IFERROR(VLOOKUP((ROW(AH69)-4)&\"_\"&AH$4,Schedule!$H:$I,2,FALSE),\"\"))))","v":""},{"$f":"IF($A69=\"\",\"\",IF(OR(AI$3=\"Sat\",AI$3=\"Sun\"),\"\",IF(COUNTIF(Holidays!$A:$A,AI$4)>0,\"H\",IFERROR(VLOOKUP((ROW(AI69)-4)&\"_\"&AI$4,Schedule!$H:$I,2,FALSE),\"\"))))","v":""},{"$f":"IF($A69=\"\",\"\",IF(OR(AJ$3=\"Sat\",AJ$3=\"Sun\"),\"\",IF(COUNTIF(Holidays!$A:$A,AJ$4)>0,\"H\",IFERROR(VLOOKUP((ROW(AJ69)-4)&\"_\"&AJ$4,Schedule!$H:$I,2,FALSE),\"\"))))","v":""},{"$f":"IF($A69=\"\",\"\",ROUND(SUMIFS(Schedule!$E:$E,Schedule!$A:$A,$A69,Schedule!$D:$D,$AK$3,Schedule!$B:$B,\">=\"&DATE($Q$2,$U$2,1),Schedule!$B:$B,\"<=\"&EOMONTH(DATE($Q$2,$U$2,1),0))/8,2))","v":""},{"$f":"IF($A69=\"\",\"\",ROUND(SUMIFS(Schedule!$E:$E,Schedule!$A:$A,$A69,Schedule!$D:$D,$AK$3,Schedule!$B:$B,\">=\"&DATE($Q$2,1,1),Schedule!$B:$B,\"<=\"&EOMONTH(DATE($Q$2,$U$2,1),0))/8,2))","v":""},{"$f":"IF($A69=\"\",\"\",ROUND(SUMIFS(Schedule!$E:$E,Schedule!$A:$A,$A69,Schedule!$D:$D,$AM$3,Schedule!$B:$B,\">=\"&DATE($Q$2,$U$2,1),Schedule!$B:$B,\"<=\"&EOMONTH(DATE($Q$2,$U$2,1),0))/8,2))","v":""},{"$f":"IF($A69=\"\",\"\",ROUND(SUMIFS(Schedule!$E:$E,Schedule!$A:$A,$A69,Schedule!$D:$D,$AM$3,Schedule!$B:$B,\">=\"&DATE($Q$2,1,1),Schedule!$B:$B,\"<=\"&EOMONTH(DATE($Q$2,$U$2,1),0))/8,2))","v":""}]
[{"$f":"IF(Lookups!A67=\"\",\"\",Lookups!A67)","v":""},{"$f":"IF($A70=\"\",\"\",IF(OR(B$3=\"Sat\",B$3=\"Sun\"),\"\",IF(COUNTIF(Holidays!$A:$A,B$4)>0,\"H\",IFERROR(VLOOKUP((ROW(B70)-4)&\"_\"&B$4,Schedule!$H:$I,2,FALSE),\"\"))))","v":""},{"$f":"IF($A70=\"\",\"\",IF(OR(C$3=\"Sat\",C$3=\"Sun\"),\"\",IF(COUNTIF(Holidays!$A:$A,C$4)>0,\"H\",IFERROR(VLOOKUP((ROW(C70)-4)&\"_\"&C$4,Schedule!$H:$I,2,FALSE),\"\"))))","v":""},{"$f":"IF($A70=\"\",\"\",IF(OR(D$3=\"Sat\",D$3=\"Sun\"),\"\",IF(COUNTIF(Holidays!$A:$A,D$4)>0,\"H\",IFERROR(VLOOKUP((ROW(D70)-4)&\"_\"&D$4,Schedule!$H:$I,2,FALSE),\"\"))))","v":""},{"$f":"IF($A70=\"\",\"\",IF(OR(E$3=\"Sat\",E$3=\"Sun\"),\"\",IF(COUNTIF(Holidays!$A:$A,E$4)>0,\"H\",IFERROR(VLOOKUP((ROW(E70)-4)&\"_\"&E$4,Schedule!$H:$I,2,FALSE),\"\"))))","v":""},{"$f":"IF($A70=\"\",\"\",IF(OR(F$3=\"Sat\",F$3=\"Sun\"),\"\",IF(COUNTIF(Holidays!$A:$A,F$4)>0,\"H\",IFERROR(VLOOKUP((ROW(F70)-4)&\"_\"&F$4,Schedule!$H:$I,2,FALSE),\"\"))))","v":""},{"$f":"IF($A70=\"\",\"\",IF(OR(G$3=\"Sat\",G$3=\"Sun\"),\"\",IF(COUNTIF(Holidays!$A:$A,G$4)>0,\"H\",IFERROR(VLOOKUP((ROW(G70)-4)&\"_\"&G$4,Schedule!$H:$I,2,FALSE),\"\"))))","v":""},{"$f":"IF($A70=\"\",\"\",IF(OR(H$3=\"Sat\",H$3=\"Sun\"),\"\",IF(COUNTIF(Holidays!$A:$A,H$4)>0,\"H\",IFERROR(VLOOKUP((ROW(H70)-4)&\"_\"&H$4,Schedule!$H:$I,2,FALSE),\"\"))))","v":""},{"$f":"IF($A70=\"\",\"\",IF(OR(I$3=\"Sat\",I$3=\"Sun\"),\"\",IF(COUNTIF(Holidays!$A:$A,I$4)>0,\"H\",IFERROR(VLOOKUP((ROW(I70)-4)&\"_\"&I$4,Schedule!$H:$I,2,FALSE),\"\"))))","v":""},{"$f":"IF($A70=\"\",\"\",IF(OR(J$3=\"Sat\",J$3=\"Sun\"),\"\",IF(COUNTIF(Holidays!$A:$A,J$4)>0,\"H\",IFERROR(VLOOKUP((ROW(J70)-4)&\"_\"&J$4,Schedule!$H:$I,2,FALSE),\"\"))))","v":""},{"$f":"IF($A70=\"\",\"\",IF(OR(K$3=\"Sat\",K$3=\"Sun\"),\"\",IF(COUNTIF(Holidays!$A:$A,K$4)>0,\"H\",IFERROR(VLOOKUP((ROW(K70)-4)&\"_\"&K$4,Schedule!$H:$I,2,FALSE),\"\"))))","v":""},{"$f":"IF($A70=\"\",\"\",IF(OR(L$3=\"Sat\",L$3=\"Sun\"),\"\",IF(COUNTIF(Holidays!$A:$A,L$4)>0,\"H\",IFERROR(VLOOKUP((ROW(L70)-4)&\"_\"&L$4,Schedule!$H:$I,2,FALSE),\"\"))))","v":""},{"$f":"IF($A70=\"\",\"\",IF(OR(M$3=\"Sat\",M$3=\"Sun\"),\"\",IF(COUNTIF(Holidays!$A:$A,M$4)>0,\"H\",IFERROR(VLOOKUP((ROW(M70)-4)&\"_\"&M$4,Schedule!$H:$I,2,FALSE),\"\"))))","v":""},{"$f":"IF($A70=\"\",\"\",IF(OR(N$3=\"Sat\",N$3=\"Sun\"),\"\",IF(COUNTIF(Holidays!$A:$A,N$4)>0,\"H\",IFERROR(VLOOKUP((ROW(N70)-4)&\"_\"&N$4,Schedule!$H:$I,2,FALSE),\"\"))))","v":""},{"$f":"IF($A70=\"\",\"\",IF(OR(O$3=\"Sat\",O$3=\"Sun\"),\"\",IF(COUNTIF(Holidays!$A:$A,O$4)>0,\"H\",IFERROR(VLOOKUP((ROW(O70)-4)&\"_\"&O$4,Schedule!$H:$I,2,FALSE),\"\"))))","v":""},{"$f":"IF($A70=\"\",\"\",IF(OR(P$3=\"Sat\",P$3=\"Sun\"),\"\",IF(COUNTIF(Holidays!$A:$A,P$4)>0,\"H\",IFERROR(VLOOKUP((ROW(P70)-4)&\"_\"&P$4,Schedule!$H:$I,2,FALSE),\"\"))))","v":""},{"$f":"IF($A70=\"\",\"\",IF(OR(Q$3=\"Sat\",Q$3=\"Sun\"),\"\",IF(COUNTIF(Holidays!$A:$A,Q$4)>0,\"H\",IFERROR(VLOOKUP((ROW(Q70)-4)&\"_\"&Q$4,Schedule!$H:$I,2,FALSE),\"\"))))","v":""},{"$f":"IF($A70=\"\",\"\",IF(OR(R$3=\"Sat\",R$3=\"Sun\"),\"\",IF(COUNTIF(Holidays!$A:$A,R$4)>0,\"H\",IFERROR(VLOOKUP((ROW(R70)-4)&\"_\"&R$4,Schedule!$H:$I,2,FALSE),\"\"))))","v":""},{"$f":"IF($A70=\"\",\"\",IF(OR(S$3=\"Sat\",S$3=\"Sun\"),\"\",IF(COUNTIF(Holidays!$A:$A,S$4)>0,\"H\",IFERROR(VLOOKUP((ROW(S70)-4)&\"_\"&S$4,Schedule!$H:$I,2,FALSE),\"\"))))","v":""},{"$f":"IF($A70=\"\",\"\",IF(OR(T$3=\"Sat\",T$3=\"Sun\"),\"\",IF(COUNTIF(Holidays!$A:$A,T$4)>0,\"H\",IFERROR(VLOOKUP((ROW(T70)-4)&\"_\"&T$4,Schedule!$H:$I,2,FALSE),\"\"))))","v":""},{"$f":"IF($A70=\"\",\"\",IF(OR(U$3=\"Sat\",U$3=\"Sun\"),\"\",IF(COUNTIF(Holidays!$A:$A,U$4)>0,\"H\",IFERROR(VLOOKUP((ROW(U70)-4)&\"_\"&U$4,Schedule!$H:$I,2,FALSE),\"\"))))","v":""},{"$f":"IF($A70=\"\",\"\",IF(OR(V$3=\"Sat\",V$3=\"Sun\"),\"\",IF(COUNTIF(Holidays!$A:$A,V$4)>0,\"H\",IFERROR(VLOOKUP((ROW(V70)-4)&\"_\"&V$4,Schedule!$H:$I,2,FALSE),\"\"))))","v":""},{"$f":"IF($A70=\"\",\"\",IF(OR(W$3=\"Sat\",W$3=\"Sun\"),\"\",IF(COUNTIF(Holidays!$A:$A,W$4)>0,\"H\",IFERROR(VLOOKUP((ROW(W70)-4)&\"_\"&W$4,Schedule!$H:$I,2,FALSE),\"\"))))","v":""},{"$f":"IF($A70=\"\",\"\",IF(OR(X$3=\"Sat\",X$3=\"Sun\"),\"\",IF(COUNTIF(Holidays!$A:$A,X$4)>0,\"H\",IFERROR(VLOOKUP((ROW(X70)-4)&\"_\"&X$4,Schedule!$H:$I,2,FALSE),\"\"))))","v":""},{"$f":"IF($A70=\"\",\"\",IF(OR(Y$3=\"Sat\",Y$3=\"Sun\"),\"\",IF(COUNTIF(Holidays!$A:$A,Y$4)>0,\"H\",IFERROR(VLOOKUP((ROW(Y70)-4)&\"_\"&Y$4,Schedule!$H:$I,2,FALSE),\"\"))))","v":""},{"$f":"IF($A70=\"\",\"\",IF(OR(Z$3=\"Sat\",Z$3=\"Sun\"),\"\",IF(COUNTIF(Holidays!$A:$A,Z$4)>0,\"H\",IFERROR(VLOOKUP((ROW(Z70)-4)&\"_\"&Z$4,Schedule!$H:$I,2,FALSE),\"\"))))","v":""},{"$f":"IF($A70=\"\",\"\",IF(OR(AA$3=\"Sat\",AA$3=\"Sun\"),\"\",IF(COUNTIF(Holidays!$A:$A,AA$4)>0,\"H\",IFERROR(VLOOKUP((ROW(AA70)-4)&\"_\"&AA$4,Schedule!$H:$I,2,FALSE),\"\"))))","v":""},{"$f":"IF($A70=\"\",\"\",IF(OR(AB$3=\"Sat\",AB$3=\"Sun\"),\"\",IF(COUNTIF(Holidays!$A:$A,AB$4)>0,\"H\",IFERROR(VLOOKUP((ROW(AB70)-4)&\"_\"&AB$4,Schedule!$H:$I,2,FALSE),\"\"))))","v":""},{"$f":"IF($A70=\"\",\"\",IF(OR(AC$3=\"Sat\",AC$3=\"Sun\"),\"\",IF(COUNTIF(Holidays!$A:$A,AC$4)>0,\"H\",IFERROR(VLOOKUP((ROW(AC70)-4)&\"_\"&AC$4,Schedule!$H:$I,2,FALSE),\"\"))))","v":""},{"$f":"IF($A70=\"\",\"\",IF(OR(AD$3=\"Sat\",AD$3=\"Sun\"),\"\",IF(COUNTIF(Holidays!$A:$A,AD$4)>0,\"H\",IFERROR(VLOOKUP((ROW(AD70)-4)&\"_\"&AD$4,Schedule!$H:$I,2,FALSE),\"\"))))","v":""},{"$f":"IF($A70=\"\",\"\",IF(OR(AE$3=\"Sat\",AE$3=\"Sun\"),\"\",IF(COUNTIF(Holidays!$A:$A,AE$4)>0,\"H\",IFERROR(VLOOKUP((ROW(AE70)-4)&\"_\"&AE$4,Schedule!$H:$I,2,FALSE),\"\"))))","v":""},{"$f":"IF($A70=\"\",\"\",IF(OR(AF$3=\"Sat\",AF$3=\"Sun\"),\"\",IF(COUNTIF(Holidays!$A:$A,AF$4)>0,\"H\",IFERROR(VLOOKUP((ROW(AF70)-4)&\"_\"&AF$4,Schedule!$H:$I,2,FALSE),\"\"))))","v":""},{"$f":"IF($A70=\"\",\"\",IF(OR(AG$3=\"Sat\",AG$3=\"Sun\"),\"\",IF(COUNTIF(Holidays!$A:$A,AG$4)>0,\"H\",IFERROR(VLOOKUP((ROW(AG70)-4)&\"_\"&AG$4,Schedule!$H:$I,2,FALSE),\"\"))))","v":""},{"$f":"IF($A70=\"\",\"\",IF(OR(AH$3=\"Sat\",AH$3=\"Sun\"),\"\",IF(COUNTIF(Holidays!$A:$A,AH$4)>0,\"H\",IFERROR(VLOOKUP((ROW(AH70)-4)&\"_\"&AH$4,Schedule!$H:$I,2,FALSE),\"\"))))","v":""},{"$f":"IF($A70=\"\",\"\",IF(OR(AI$3=\"Sat\",AI$3=\"Sun\"),\"\",IF(COUNTIF(Holidays!$A:$A,AI$4)>0,\"H\",IFERROR(VLOOKUP((ROW(AI70)-4)&\"_\"&AI$4,Schedule!$H:$I,2,FALSE),\"\"))))","v":""},{"$f":"IF($A70=\"\",\"\",IF(OR(AJ$3=\"Sat\",AJ$3=\"Sun\"),\"\",IF(COUNTIF(Holidays!$A:$A,AJ$4)>0,\"H\",IFERROR(VLOOKUP((ROW(AJ70)-4)&\"_\"&AJ$4,Schedule!$H:$I,2,FALSE),\"\"))))","v":""},{"$f":"IF($A70=\"\",\"\",ROUND(SUMIFS(Schedule!$E:$E,Schedule!$A:$A,$A70,Schedule!$D:$D,$AK$3,Schedule!$B:$B,\">=\"&DATE($Q$2,$U$2,1),Schedule!$B:$B,\"<=\"&EOMONTH(DATE($Q$2,$U$2,1),0))/8,2))","v":""},{"$f":"IF($A70=\"\",\"\",ROUND(SUMIFS(Schedule!$E:$E,Schedule!$A:$A,$A70,Schedule!$D:$D,$AK$3,Schedule!$B:$B,\">=\"&DATE($Q$2,1,1),Schedule!$B:$B,\"<=\"&EOMONTH(DATE($Q$2,$U$2,1),0))/8,2))","v":""},{"$f":"IF($A70=\"\",\"\",ROUND(SUMIFS(Schedule!$E:$E,Schedule!$A:$A,$A70,Schedule!$D:$D,$AM$3,Schedule!$B:$B,\">=\"&DATE($Q$2,$U$2,1),Schedule!$B:$B,\"<=\"&EOMONTH(DATE($Q$2,$U$2,1),0))/8,2))","v":""},{"$f":"IF($A70=\"\",\"\",ROUND(SUMIFS(Schedule!$E:$E,Schedule!$A:$A,$A70,Schedule!$D:$D,$AM$3,Schedule!$B:$B,\">=\"&DATE($Q$2,1,1),Schedule!$B:$B,\"<=\"&EOMONTH(DATE($Q$2,$U$2,1),0))/8,2))","v":""}]
[{"$f":"IF(Lookups!A68=\"\",\"\",Lookups!A68)","v":""},{"$f":"IF($A71=\"\",\"\",IF(OR(B$3=\"Sat\",B$3=\"Sun\"),\"\",IF(COUNTIF(Holidays!$A:$A,B$4)>0,\"H\",IFERROR(VLOOKUP((ROW(B71)-4)&\"_\"&B$4,Schedule!$H:$I,2,FALSE),\"\"))))","v":""},{"$f":"IF($A71=\"\",\"\",IF(OR(C$3=\"Sat\",C$3=\"Sun\"),\"\",IF(COUNTIF(Holidays!$A:$A,C$4)>0,\"H\",IFERROR(VLOOKUP((ROW(C71)-4)&\"_\"&C$4,Schedule!$H:$I,2,FALSE),\"\"))))","v":""},{"$f":"IF($A71=\"\",\"\",IF(OR(D$3=\"Sat\",D$3=\"Sun\"),\"\",IF(COUNTIF(Holidays!$A:$A,D$4)>0,\"H\",IFERROR(VLOOKUP((ROW(D71)-4)&\"_\"&D$4,Schedule!$H:$I,2,FALSE),\"\"))))","v":""},{"$f":"IF($A71=\"\",\"\",IF(OR(E$3=\"Sat\",E$3=\"Sun\"),\"\",IF(COUNTIF(Holidays!$A:$A,E$4)>0,\"H\",IFERROR(VLOOKUP((ROW(E71)-4)&\"_\"&E$4,Schedule!$H:$I,2,FALSE),\"\"))))","v":""},{"$f":"IF($A71=\"\",\"\",IF(OR(F$3=\"Sat\",F$3=\"Sun\"),\"\",IF(COUNTIF(Holidays!$A:$A,F$4)>0,\"H\",IFERROR(VLOOKUP((ROW(F71)-4)&\"_\"&F$4,Schedule!$H:$I,2,FALSE),\"\"))))","v":""},{"$f":"IF($A71=\"\",\"\",IF(OR(G$3=\"Sat\",G$3=\"Sun\"),\"\",IF(COUNTIF(Holidays!$A:$A,G$4)>0,\"H\",IFERROR(VLOOKUP((ROW(G71)-4)&\"_\"&G$4,Schedule!$H:$I,2,FALSE),\"\"))))","v":""},{"$f":"IF($A71=\"\",\"\",IF(OR(H$3=\"Sat\",H$3=\"Sun\"),\"\",IF(COUNTIF(Holidays!$A:$A,H$4)>0,\"H\",IFERROR(VLOOKUP((ROW(H71)-4)&\"_\"&H$4,Schedule!$H:$I,2,FALSE),\"\"))))","v":""},{"$f":"IF($A71=\"\",\"\",IF(OR(I$3=\"Sat\",I$3=\"Sun\"),\"\",IF(COUNTIF(Holidays!$A:$A,I$4)>0,\"H\",IFERROR(VLOOKUP((ROW(I71)-4)&\"_\"&I$4,Schedule!$H:$I,2,FALSE),\"\"))))","v":""},{"$f":"IF($A71=\"\",\"\",IF(OR(J$3=\"Sat\",J$3=\"Sun\"),\"\",IF(COUNTIF(Holidays!$A:$A,J$4)>0,\"H\",IFERROR(VLOOKUP((ROW(J71)-4)&\"_\"&J$4,Schedule!$H:$I,2,FALSE),\"\"))))","v":""},{"$f":"IF($A71=\"\",\"\",IF(OR(K$3=\"Sat\",K$3=\"Sun\"),\"\",IF(COUNTIF(Holidays!$A:$A,K$4)>0,\"H\",IFERROR(VLOOKUP((ROW(K71)-4)&\"_\"&K$4,Schedule!$H:$I,2,FALSE),\"\"))))","v":""},{"$f":"IF($A71=\"\",\"\",IF(OR(L$3=\"Sat\",L$3=\"Sun\"),\"\",IF(COUNTIF(Holidays!$A:$A,L$4)>0,\"H\",IFERROR(VLOOKUP((ROW(L71)-4)&\"_\"&L$4,Schedule!$H:$I,2,FALSE),\"\"))))","v":""},{"$f":"IF($A71=\"\",\"\",IF(OR(M$3=\"Sat\",M$3=\"Sun\"),\"\",IF(COUNTIF(Holidays!$A:$A,M$4)>0,\"H\",IFERROR(VLOOKUP((ROW(M71)-4)&\"_\"&M$4,Schedule!$H:$I,2,FALSE),\"\"))))","v":""},{"$f":"IF($A71=\"\",\"\",IF(OR(N$3=\"Sat\",N$3=\"Sun\"),\"\",IF(COUNTIF(Holidays!$A:$A,N$4)>0,\"H\",IFERROR(VLOOKUP((ROW(N71)-4)&\"_\"&N$4,Schedule!$H:$I,2,FALSE),\"\"))))","v":""},{"$f":"IF($A71=\"\",\"\",IF(OR(O$3=\"Sat\",O$3=\"Sun\"),\"\",IF(COUNTIF(Holidays!$A:$A,O$4)>0,\"H\",IFERROR(VLOOKUP((ROW(O71)-4)&\"_\"&O$4,Schedule!$H:$I,2,FALSE),\"\"))))","v":""},{"$f":"IF($A71=\"\",\"\",IF(OR(P$3=\"Sat\",P$3=\"Sun\"),\"\",IF(COUNTIF(Holidays!$A:$A,P$4)>0,\"H\",IFERROR(VLOOKUP((ROW(P71)-4)&\"_\"&P$4,Schedule!$H:$I,2,FALSE),\"\"))))","v":""},{"$f":"IF($A71=\"\",\"\",IF(OR(Q$3=\"Sat\",Q$3=\"Sun\"),\"\",IF(COUNTIF(Holidays!$A:$A,Q$4)>0,\"H\",IFERROR(VLOOKUP((ROW(Q71)-4)&\"_\"&Q$4,Schedule!$H:$I,2,FALSE),\"\"))))","v":""},{"$f":"IF($A71=\"\",\"\",IF(OR(R$3=\"Sat\",R$3=\"Sun\"),\"\",IF(COUNTIF(Holidays!$A:$A,R$4)>0,\"H\",IFERROR(VLOOKUP((ROW(R71)-4)&\"_\"&R$4,Schedule!$H:$I,2,FALSE),\"\"))))","v":""},{"$f":"IF($A71=\"\",\"\",IF(OR(S$3=\"Sat\",S$3=\"Sun\"),\"\",IF(COUNTIF(Holidays!$A:$A,S$4)>0,\"H\",IFERROR(VLOOKUP((ROW(S71)-4)&\"_\"&S$4,Schedule!$H:$I,2,FALSE),\"\"))))","v":""},{"$f":"IF($A71=\"\",\"\",IF(OR(T$3=\"Sat\",T$3=\"Sun\"),\"\",IF(COUNTIF(Holidays!$A:$A,T$4)>0,\"H\",IFERROR(VLOOKUP((ROW(T71)-4)&\"_\"&T$4,Schedule!$H:$I,2,FALSE),\"\"))))","v":""},{"$f":"IF($A71=\"\",\"\",IF(OR(U$3=\"Sat\",U$3=\"Sun\"),\"\",IF(COUNTIF(Holidays!$A:$A,U$4)>0,\"H\",IFERROR(VLOOKUP((ROW(U71)-4)&\"_\"&U$4,Schedule!$H:$I,2,FALSE),\"\"))))","v":""},{"$f":"IF($A71=\"\",\"\",IF(OR(V$3=\"Sat\",V$3=\"Sun\"),\"\",IF(COUNTIF(Holidays!$A:$A,V$4)>0,\"H\",IFERROR(VLOOKUP((ROW(V71)-4)&\"_\"&V$4,Schedule!$H:$I,2,FALSE),\"\"))))","v":""},{"$f":"IF($A71=\"\",\"\",IF(OR(W$3=\"Sat\",W$3=\"Sun\"),\"\",IF(COUNTIF(Holidays!$A:$A,W$4)>0,\"H\",IFERROR(VLOOKUP((ROW(W71)-4)&\"_\"&W$4,Schedule!$H:$I,2,FALSE),\"\"))))","v":""},{"$f":"IF($A71=\"\",\"\",IF(OR(X$3=\"Sat\",X$3=\"Sun\"),\"\",IF(COUNTIF(Holidays!$A:$A,X$4)>0,\"H\",IFERROR(VLOOKUP((ROW(X71)-4)&\"_\"&X$4,Schedule!$H:$I,2,FALSE),\"\"))))","v":""},{"$f":"IF($A71=\"\",\"\",IF(OR(Y$3=\"Sat\",Y$3=\"Sun\"),\"\",IF(COUNTIF(Holidays!$A:$A,Y$4)>0,\"H\",IFERROR(VLOOKUP((ROW(Y71)-4)&\"_\"&Y$4,Schedule!$H:$I,2,FALSE),\"\"))))","v":""},{"$f":"IF($A71=\"\",\"\",IF(OR(Z$3=\"Sat\",Z$3=\"Sun\"),\"\",IF(COUNTIF(Holidays!$A:$A,Z$4)>0,\"H\",IFERROR(VLOOKUP((ROW(Z71)-4)&\"_\"&Z$4,Schedule!$H:$I,2,FALSE),\"\"))))","v":""},{"$f":"IF($A71=\"\",\"\",IF(OR(AA$3=\"Sat\",AA$3=\"Sun\"),\"\",IF(COUNTIF(Holidays!$A:$A,AA$4)>0,\"H\",IFERROR(VLOOKUP((ROW(AA71)-4)&\"_\"&AA$4,Schedule!$H:$I,2,FALSE),\"\"))))","v":""},{"$f":"IF($A71=\"\",\"\",IF(OR(AB$3=\"Sat\",AB$3=\"Sun\"),\"\",IF(COUNTIF(Holidays!$A:$A,AB$4)>0,\"H\",IFERROR(VLOOKUP((ROW(AB71)-4)&\"_\"&AB$4,Schedule!$H:$I,2,FALSE),\"\"))))","v":""},{"$f":"IF($A71=\"\",\"\",IF(OR(AC$3=\"Sat\",AC$3=\"Sun\"),\"\",IF(COUNTIF(Holidays!$A:$A,AC$4)>0,\"H\",IFERROR(VLOOKUP((ROW(AC71)-4)&\"_\"&AC$4,Schedule!$H:$I,2,FALSE),\"\"))))","v":""},{"$f":"IF($A71=\"\",\"\",IF(OR(AD$3=\"Sat\",AD$3=\"Sun\"),\"\",IF(COUNTIF(Holidays!$A:$A,AD$4)>0,\"H\",IFERROR(VLOOKUP((ROW(AD71)-4)&\"_\"&AD$4,Schedule!$H:$I,2,FALSE),\"\"))))","v":""},{"$f":"IF($A71=\"\",\"\",IF(OR(AE$3=\"Sat\",AE$3=\"Sun\"),\"\",IF(COUNTIF(Holidays!$A:$A,AE$4)>0,\"H\",IFERROR(VLOOKUP((ROW(AE71)-4)&\"_\"&AE$4,Schedule!$H:$I,2,FALSE),\"\"))))","v":""},{"$f":"IF($A71=\"\",\"\",IF(OR(AF$3=\"Sat\",AF$3=\"Sun\"),\"\",IF(COUNTIF(Holidays!$A:$A,AF$4)>0,\"H\",IFERROR(VLOOKUP((ROW(AF71)-4)&\"_\"&AF$4,Schedule!$H:$I,2,FALSE),\"\"))))","v":""},{"$f":"IF($A71=\"\",\"\",IF(OR(AG$3=\"Sat\",AG$3=\"Sun\"),\"\",IF(COUNTIF(Holidays!$A:$A,AG$4)>0,\"H\",IFERROR(VLOOKUP((ROW(AG71)-4)&\"_\"&AG$4,Schedule!$H:$I,2,FALSE),\"\"))))","v":""},{"$f":"IF($A71=\"\",\"\",IF(OR(AH$3=\"Sat\",AH$3=\"Sun\"),\"\",IF(COUNTIF(Holidays!$A:$A,AH$4)>0,\"H\",IFERROR(VLOOKUP((ROW(AH71)-4)&\"_\"&AH$4,Schedule!$H:$I,2,FALSE),\"\"))))","v":""},{"$f":"IF($A71=\"\",\"\",IF(OR(AI$3=\"Sat\",AI$3=\"Sun\"),\"\",IF(COUNTIF(Holidays!$A:$A,AI$4)>0,\"H\",IFERROR(VLOOKUP((ROW(AI71)-4)&\"_\"&AI$4,Schedule!$H:$I,2,FALSE),\"\"))))","v":""},{"$f":"IF($A71=\"\",\"\",IF(OR(AJ$3=\"Sat\",AJ$3=\"Sun\"),\"\",IF(COUNTIF(Holidays!$A:$A,AJ$4)>0,\"H\",IFERROR(VLOOKUP((ROW(AJ71)-4)&\"_\"&AJ$4,Schedule!$H:$I,2,FALSE),\"\"))))","v":""},{"$f":"IF($A71=\"\",\"\",ROUND(SUMIFS(Schedule!$E:$E,Schedule!$A:$A,$A71,Schedule!$D:$D,$AK$3,Schedule!$B:$B,\">=\"&DATE($Q$2,$U$2,1),Schedule!$B:$B,\"<=\"&EOMONTH(DATE($Q$2,$U$2,1),0))/8,2))","v":""},{"$f":"IF($A71=\"\",\"\",ROUND(SUMIFS(Schedule!$E:$E,Schedule!$A:$A,$A71,Schedule!$D:$D,$AK$3,Schedule!$B:$B,\">=\"&DATE($Q$2,1,1),Schedule!$B:$B,\"<=\"&EOMONTH(DATE($Q$2,$U$2,1),0))/8,2))","v":""},{"$f":"IF($A71=\"\",\"\",ROUND(SUMIFS(Schedule!$E:$E,Schedule!$A:$A,$A71,Schedule!$D:$D,$AM$3,Schedule!$B:$B,\">=\"&DATE($Q$2,$U$2,1),Schedule!$B:$B,\"<=\"&EOMONTH(DATE($Q$2,$U$2,1),0))/8,2))","v":""},{"$f":"IF($A71=\"\",\"\",ROUND(SUMIFS(Schedule!$E:$E,Schedule!$A:$A,$A71,Schedule!$D:$D,$AM$3,Schedule!$B:$B,\">=\"&DATE($Q$2,1,1),Schedule!$B:$B,\"<=\"&EOMONTH(DATE($Q$2,$U$2,1),0))/8,2))","v":""}]
[{"$f":"IF(Lookups!A69=\"\",\"\",Lookups!A69)","v":""},{"$f":"IF($A72=\"\",\"\",IF(OR(B$3=\"Sat\",B$3=\"Sun\"),\"\",IF(COUNTIF(Holidays!$A:$A,B$4)>0,\"H\",IFERROR(VLOOKUP((ROW(B72)-4)&\"_\"&B$4,Schedule!$H:$I,2,FALSE),\"\"))))","v":""},{"$f":"IF($A72=\"\",\"\",IF(OR(C$3=\"Sat\",C$3=\"Sun\"),\"\",IF(COUNTIF(Holidays!$A:$A,C$4)>0,\"H\",IFERROR(VLOOKUP((ROW(C72)-4)&\"_\"&C$4,Schedule!$H:$I,2,FALSE),\"\"))))","v":""},{"$f":"IF($A72=\"\",\"\",IF(OR(D$3=\"Sat\",D$3=\"Sun\"),\"\",IF(COUNTIF(Holidays!$A:$A,D$4)>0,\"H\",IFERROR(VLOOKUP((ROW(D72)-4)&\"_\"&D$4,Schedule!$H:$I,2,FALSE),\"\"))))","v":""},{"$f":"IF($A72=\"\",\"\",IF(OR(E$3=\"Sat\",E$3=\"Sun\"),\"\",IF(COUNTIF(Holidays!$A:$A,E$4)>0,\"H\",IFERROR(VLOOKUP((ROW(E72)-4)&\"_\"&E$4,Schedule!$H:$I,2,FALSE),\"\"))))","v":""},{"$f":"IF($A72=\"\",\"\",IF(OR(F$3=\"Sat\",F$3=\"Sun\"),\"\",IF(COUNTIF(Holidays!$A:$A,F$4)>0,\"H\",IFERROR(VLOOKUP((ROW(F72)-4)&\"_\"&F$4,Schedule!$H:$I,2,FALSE),\"\"))))","v":""},{"$f":"IF($A72=\"\",\"\",IF(OR(G$3=\"Sat\",G$3=\"Sun\"),\"\",IF(COUNTIF(Holidays!$A:$A,G$4)>0,\"H\",IFERROR(VLOOKUP((ROW(G72)-4)&\"_\"&G$4,Schedule!$H:$I,2,FALSE),\"\"))))","v":""},{"$f":"IF($A72=\"\",\"\",IF(OR(H$3=\"Sat\",H$3=\"Sun\"),\"\",IF(COUNTIF(Holidays!$A:$A,H$4)>0,\"H\",IFERROR(VLOOKUP((ROW(H72)-4)&\"_\"&H$4,Schedule!$H:$I,2,FALSE),\"\"))))","v":""},{"$f":"IF($A72=\"\",\"\",IF(OR(I$3=\"Sat\",I$3=\"Sun\"),\"\",IF(COUNTIF(Holidays!$A:$A,I$4)>0,\"H\",IFERROR(VLOOKUP((ROW(I72)-4)&\"_\"&I$4,Schedule!$H:$I,2,FALSE),\"\"))))","v":""},{"$f":"IF($A72=\"\",\"\",IF(OR(J$3=\"Sat\",J$3=\"Sun\"),\"\",IF(COUNTIF(Holidays!$A:$A,J$4)>0,\"H\",IFERROR(VLOOKUP((ROW(J72)-4)&\"_\"&J$4,Schedule!$H:$I,2,FALSE),\"\"))))","v":""},{"$f":"IF($A72=\"\",\"\",IF(OR(K$3=\"Sat\",K$3=\"Sun\"),\"\",IF(COUNTIF(Holidays!$A:$A,K$4)>0,\"H\",IFERROR(VLOOKUP((ROW(K72)-4)&\"_\"&K$4,Schedule!$H:$I,2,FALSE),\"\"))))","v":""},{"$f":"IF($A72=\"\",\"\",IF(OR(L$3=\"Sat\",L$3=\"Sun\"),\"\",IF(COUNTIF(Holidays!$A:$A,L$4)>0,\"H\",IFERROR(VLOOKUP((ROW(L72)-4)&\"_\"&L$4,Schedule!$H:$I,2,FALSE),\"\"))))","v":""},{"$f":"IF($A72=\"\",\"\",IF(OR(M$3=\"Sat\",M$3=\"Sun\"),\"\",IF(COUNTIF(Holidays!$A:$A,M$4)>0,\"H\",IFERROR(VLOOKUP((ROW(M72)-4)&\"_\"&M$4,Schedule!$H:$I,2,FALSE),\"\"))))","v":""},{"$f":"IF($A72=\"\",\"\",IF(OR(N$3=\"Sat\",N$3=\"Sun\"),\"\",IF(COUNTIF(Holidays!$A:$A,N$4)>0,\"H\",IFERROR(VLOOKUP((ROW(N72)-4)&\"_\"&N$4,Schedule!$H:$I,2,FALSE),\"\"))))","v":""},{"$f":"IF($A72=\"\",\"\",IF(OR(O$3=\"Sat\",O$3=\"Sun\"),\"\",IF(COUNTIF(Holidays!$A:$A,O$4)>0,\"H\",IFERROR(VLOOKUP((ROW(O72)-4)&\"_\"&O$4,Schedule!$H:$I,2,FALSE),\"\"))))","v":""},{"$f":"IF($A72=\"\",\"\",IF(OR(P$3=\"Sat\",P$3=\"Sun\"),\"\",IF(COUNTIF(Holidays!$A:$A,P$4)>0,\"H\",IFERROR(VLOOKUP((ROW(P72)-4)&\"_\"&P$4,Schedule!$H:$I,2,FALSE),\"\"))))","v":""},{"$f":"IF($A72=\"\",\"\",IF(OR(Q$3=\"Sat\",Q$3=\"Sun\"),\"\",IF(COUNTIF(Holidays!$A:$A,Q$4)>0,\"H\",IFERROR(VLOOKUP((ROW(Q72)-4)&\"_\"&Q$4,Schedule!$H:$I,2,FALSE),\"\"))))","v":""},{"$f":"IF($A72=\"\",\"\",IF(OR(R$3=\"Sat\",R$3=\"Sun\"),\"\",IF(COUNTIF(Holidays!$A:$A,R$4)>0,\"H\",IFERROR(VLOOKUP((ROW(R72)-4)&\"_\"&R$4,Schedule!$H:$I,2,FALSE),\"\"))))","v":""},{"$f":"IF($A72=\"\",\"\",IF(OR(S$3=\"Sat\",S$3=\"Sun\"),\"\",IF(COUNTIF(Holidays!$A:$A,S$4)>0,\"H\",IFERROR(VLOOKUP((ROW(S72)-4)&\"_\"&S$4,Schedule!$H:$I,2,FALSE),\"\"))))","v":""},{"$f":"IF($A72=\"\",\"\",IF(OR(T$3=\"Sat\",T$3=\"Sun\"),\"\",IF(COUNTIF(Holidays!$A:$A,T$4)>0,\"H\",IFERROR(VLOOKUP((ROW(T72)-4)&\"_\"&T$4,Schedule!$H:$I,2,FALSE),\"\"))))","v":""},{"$f":"IF($A72=\"\",\"\",IF(OR(U$3=\"Sat\",U$3=\"Sun\"),\"\",IF(COUNTIF(Holidays!$A:$A,U$4)>0,\"H\",IFERROR(VLOOKUP((ROW(U72)-4)&\"_\"&U$4,Schedule!$H:$I,2,FALSE),\"\"))))","v":""},{"$f":"IF($A72=\"\",\"\",IF(OR(V$3=\"Sat\",V$3=\"Sun\"),\"\",IF(COUNTIF(Holidays!$A:$A,V$4)>0,\"H\",IFERROR(VLOOKUP((ROW(V72)-4)&\"_\"&V$4,Schedule!$H:$I,2,FALSE),\"\"))))","v":""},{"$f":"IF($A72=\"\",\"\",IF(OR(W$3=\"Sat\",W$3=\"Sun\"),\"\",IF(COUNTIF(Holidays!$A:$A,W$4)>0,\"H\",IFERROR(VLOOKUP((ROW(W72)-4)&\"_\"&W$4,Schedule!$H:$I,2,FALSE),\"\"))))","v":""},{"$f":"IF($A72=\"\",\"\",IF(OR(X$3=\"Sat\",X$3=\"Sun\"),\"\",IF(COUNTIF(Holidays!$A:$A,X$4)>0,\"H\",IFERROR(VLOOKUP((ROW(X72)-4)&\"_\"&X$4,Schedule!$H:$I,2,FALSE),\"\"))))","v":""},{"$f":"IF($A72=\"\",\"\",IF(OR(Y$3=\"Sat\",Y$3=\"Sun\"),\"\",IF(COUNTIF(Holidays!$A:$A,Y$4)>0,\"H\",IFERROR(VLOOKUP((ROW(Y72)-4)&\"_\"&Y$4,Schedule!$H:$I,2,FALSE),\"\"))))","v":""},{"$f":"IF($A72=\"\",\"\",IF(OR(Z$3=\"Sat\",Z$3=\"Sun\"),\"\",IF(COUNTIF(Holidays!$A:$A,Z$4)>0,\"H\",IFERROR(VLOOKUP((ROW(Z72)-4)&\"_\"&Z$4,Schedule!$H:$I,2,FALSE),\"\"))))","v":""},{"$f":"IF($A72=\"\",\"\",IF(OR(AA$3=\"Sat\",AA$3=\"Sun\"),\"\",IF(COUNTIF(Holidays!$A:$A,AA$4)>0,\"H\",IFERROR(VLOOKUP((ROW(AA72)-4)&\"_\"&AA$4,Schedule!$H:$I,2,FALSE),\"\"))))","v":""},{"$f":"IF($A72=\"\",\"\",IF(OR(AB$3=\"Sat\",AB$3=\"Sun\"),\"\",IF(COUNTIF(Holidays!$A:$A,AB$4)>0,\"H\",IFERROR(VLOOKUP((ROW(AB72)-4)&\"_\"&AB$4,Schedule!$H:$I,2,FALSE),\"\"))))","v":""},{"$f":"IF($A72=\"\",\"\",IF(OR(AC$3=\"Sat\",AC$3=\"Sun\"),\"\",IF(COUNTIF(Holidays!$A:$A,AC$4)>0,\"H\",IFERROR(VLOOKUP((ROW(AC72)-4)&\"_\"&AC$4,Schedule!$H:$I,2,FALSE),\"\"))))","v":""},{"$f":"IF($A72=\"\",\"\",IF(OR(AD$3=\"Sat\",AD$3=\"Sun\"),\"\",IF(COUNTIF(Holidays!$A:$A,AD$4)>0,\"H\",IFERROR(VLOOKUP((ROW(AD72)-4)&\"_\"&AD$4,Schedule!$H:$I,2,FALSE),\"\"))))","v":""},{"$f":"IF($A72=\"\",\"\",IF(OR(AE$3=\"Sat\",AE$3=\"Sun\"),\"\",IF(COUNTIF(Holidays!$A:$A,AE$4)>0,\"H\",IFERROR(VLOOKUP((ROW(AE72)-4)&\"_\"&AE$4,Schedule!$H:$I,2,FALSE),\"\"))))","v":""},{"$f":"IF($A72=\"\",\"\",IF(OR(AF$3=\"Sat\",AF$3=\"Sun\"),\"\",IF(COUNTIF(Holidays!$A:$A,AF$4)>0,\"H\",IFERROR(VLOOKUP((ROW(AF72)-4)&\"_\"&AF$4,Schedule!$H:$I,2,FALSE),\"\"))))","v":""},{"$f":"IF($A72=\"\",\"\",IF(OR(AG$3=\"Sat\",AG$3=\"Sun\"),\"\",IF(COUNTIF(Holidays!$A:$A,AG$4)>0,\"H\",IFERROR(VLOOKUP((ROW(AG72)-4)&\"_\"&AG$4,Schedule!$H:$I,2,FALSE),\"\"))))","v":""},{"$f":"IF($A72=\"\",\"\",IF(OR(AH$3=\"Sat\",AH$3=\"Sun\"),\"\",IF(COUNTIF(Holidays!$A:$A,AH$4)>0,\"H\",IFERROR(VLOOKUP((ROW(AH72)-4)&\"_\"&AH$4,Schedule!$H:$I,2,FALSE),\"\"))))","v":""},{"$f":"IF($A72=\"\",\"\",IF(OR(AI$3=\"Sat\",AI$3=\"Sun\"),\"\",IF(COUNTIF(Holidays!$A:$A,AI$4)>0,\"H\",IFERROR(VLOOKUP((ROW(AI72)-4)&\"_\"&AI$4,Schedule!$H:$I,2,FALSE),\"\"))))","v":""},{"$f":"IF($A72=\"\",\"\",IF(OR(AJ$3=\"Sat\",AJ$3=\"Sun\"),\"\",IF(COUNTIF(Holidays!$A:$A,AJ$4)>0,\"H\",IFERROR(VLOOKUP((ROW(AJ72)-4)&\"_\"&AJ$4,Schedule!$H:$I,2,FALSE),\"\"))))","v":""},{"$f":"IF($A72=\"\",\"\",ROUND(SUMIFS(Schedule!$E:$E,Schedule!$A:$A,$A72,Schedule!$D:$D,$AK$3,Schedule!$B:$B,\">=\"&DATE($Q$2,$U$2,1),Schedule!$B:$B,\"<=\"&EOMONTH(DATE($Q$2,$U$2,1),0))/8,2))","v":""},{"$f":"IF($A72=\"\",\"\",ROUND(SUMIFS(Schedule!$E:$E,Schedule!$A:$A,$A72,Schedule!$D:$D,$AK$3,Schedule!$B:$B,\">=\"&DATE($Q$2,1,1),Schedule!$B:$B,\"<=\"&EOMONTH(DATE($Q$2,$U$2,1),0))/8,2))","v":""},{"$f":"IF($A72=\"\",\"\",ROUND(SUMIFS(Schedule!$E:$E,Schedule!$A:$A,$A72,Schedule!$D:$D,$AM$3,Schedule!$B:$B,\">=\"&DATE($Q$2,$U$2,1),Schedule!$B:$B,\"<=\"&EOMONTH(DATE($Q$2,$U$2,1),0))/8,2))","v":""},{"$f":"IF($A72=\"\",\"\",ROUND(SUMIFS(Schedule!$E:$E,Schedule!$A:$A,$A72,Schedule!$D:$D,$AM$3,Schedule!$B:$B,\">=\"&DATE($Q$2,1,1),Schedule!$B:$B,\"<=\"&EOMONTH(DATE($Q$2,$U$2,1),0))/8,2))","v":""}]
[{"$f":"IF(Lookups!A70=\"\",\"\",Lookups!A70)","v":""},{"$f":"IF($A73=\"\",\"\",IF(OR(B$3=\"Sat\",B$3=\"Sun\"),\"\",IF(COUNTIF(Holidays!$A:$A,B$4)>0,\"H\",IFERROR(VLOOKUP((ROW(B73)-4)&\"_\"&B$4,Schedule!$H:$I,2,FALSE),\"\"))))","v":""},{"$f":"IF($A73=\"\",\"\",IF(OR(C$3=\"Sat\",C$3=\"Sun\"),\"\",IF(COUNTIF(Holidays!$A:$A,C$4)>0,\"H\",IFERROR(VLOOKUP((ROW(C73)-4)&\"_\"&C$4,Schedule!$H:$I,2,FALSE),\"\"))))","v":""},{"$f":"IF($A73=\"\",\"\",IF(OR(D$3=\"Sat\",D$3=\"Sun\"),\"\",IF(COUNTIF(Holidays!$A:$A,D$4)>0,\"H\",IFERROR(VLOOKUP((ROW(D73)-4)&\"_\"&D$4,Schedule!$H:$I,2,FALSE),\"\"))))","v":""},{"$f":"IF($A73=\"\",\"\",IF(OR(E$3=\"Sat\",E$3=\"Sun\"),\"\",IF(COUNTIF(Holidays!$A:$A,E$4)>0,\"H\",IFERROR(VLOOKUP((ROW(E73)-4)&\"_\"&E$4,Schedule!$H:$I,2,FALSE),\"\"))))","v":""},{"$f":"IF($A73=\"\",\"\",IF(OR(F$3=\"Sat\",F$3=\"Sun\"),\"\",IF(COUNTIF(Holidays!$A:$A,F$4)>0,\"H\",IFERROR(VLOOKUP((ROW(F73)-4)&\"_\"&F$4,Schedule!$H:$I,2,FALSE),\"\"))))","v":""},{"$f":"IF($A73=\"\",\"\",IF(OR(G$3=\"Sat\",G$3=\"Sun\"),\"\",IF(COUNTIF(Holidays!$A:$A,G$4)>0,\"H\",IFERROR(VLOOKUP((ROW(G73)-4)&\"_\"&G$4,Schedule!$H:$I,2,FALSE),\"\"))))","v":""},{"$f":"IF($A73=\"\",\"\",IF(OR(H$3=\"Sat\",H$3=\"Sun\"),\"\",IF(COUNTIF(Holidays!$A:$A,H$4)>0,\"H\",IFERROR(VLOOKUP((ROW(H73)-4)&\"_\"&H$4,Schedule!$H:$I,2,FALSE),\"\"))))","v":""},{"$f":"IF($A73=\"\",\"\",IF(OR(I$3=\"Sat\",I$3=\"Sun\"),\"\",IF(COUNTIF(Holidays!$A:$A,I$4)>0,\"H\",IFERROR(VLOOKUP((ROW(I73)-4)&\"_\"&I$4,Schedule!$H:$I,2,FALSE),\"\"))))","v":""},{"$f":"IF($A73=\"\",\"\",IF(OR(J$3=\"Sat\",J$3=\"Sun\"),\"\",IF(COUNTIF(Holidays!$A:$A,J$4)>0,\"H\",IFERROR(VLOOKUP((ROW(J73)-4)&\"_\"&J$4,Schedule!$H:$I,2,FALSE),\"\"))))","v":""},{"$f":"IF($A73=\"\",\"\",IF(OR(K$3=\"Sat\",K$3=\"Sun\"),\"\",IF(COUNTIF(Holidays!$A:$A,K$4)>0,\"H\",IFERROR(VLOOKUP((ROW(K73)-4)&\"_\"&K$4,Schedule!$H:$I,2,FALSE),\"\"))))","v":""},{"$f":"IF($A73=\"\",\"\",IF(OR(L$3=\"Sat\",L$3=\"Sun\"),\"\",IF(COUNTIF(Holidays!$A:$A,L$4)>0,\"H\",IFERROR(VLOOKUP((ROW(L73)-4)&\"_\"&L$4,Schedule!$H:$I,2,FALSE),\"\"))))","v":""},{"$f":"IF($A73=\"\",\"\",IF(OR(M$3=\"Sat\",M$3=\"Sun\"),\"\",IF(COUNTIF(Holidays!$A:$A,M$4)>0,\"H\",IFERROR(VLOOKUP((ROW(M73)-4)&\"_\"&M$4,Schedule!$H:$I,2,FALSE),\"\"))))","v":""},{"$f":"IF($A73=\"\",\"\",IF(OR(N$3=\"Sat\",N$3=\"Sun\"),\"\",IF(COUNTIF(Holidays!$A:$A,N$4)>0,\"H\",IFERROR(VLOOKUP((ROW(N73)-4)&\"_\"&N$4,Schedule!$H:$I,2,FALSE),\"\"))))","v":""},{"$f":"IF($A73=\"\",\"\",IF(OR(O$3=\"Sat\",O$3=\"Sun\"),\"\",IF(COUNTIF(Holidays!$A:$A,O$4)>0,\"H\",IFERROR(VLOOKUP((ROW(O73)-4)&\"_\"&O$4,Schedule!$H:$I,2,FALSE),\"\"))))","v":""},{"$f":"IF($A73=\"\",\"\",IF(OR(P$3=\"Sat\",P$3=\"Sun\"),\"\",IF(COUNTIF(Holidays!$A:$A,P$4)>0,\"H\",IFERROR(VLOOKUP((ROW(P73)-4)&\"_\"&P$4,Schedule!$H:$I,2,FALSE),\"\"))))","v":""},{"$f":"IF($A73=\"\",\"\",IF(OR(Q$3=\"Sat\",Q$3=\"Sun\"),\"\",IF(COUNTIF(Holidays!$A:$A,Q$4)>0,\"H\",IFERROR(VLOOKUP((ROW(Q73)-4)&\"_\"&Q$4,Schedule!$H:$I,2,FALSE),\"\"))))","v":""},{"$f":"IF($A73=\"\",\"\",IF(OR(R$3=\"Sat\",R$3=\"Sun\"),\"\",IF(COUNTIF(Holidays!$A:$A,R$4)>0,\"H\",IFERROR(VLOOKUP((ROW(R73)-4)&\"_\"&R$4,Schedule!$H:$I,2,FALSE),\"\"))))","v":""},{"$f":"IF($A73=\"\",\"\",IF(OR(S$3=\"Sat\",S$3=\"Sun\"),\"\",IF(COUNTIF(Holidays!$A:$A,S$4)>0,\"H\",IFERROR(VLOOKUP((ROW(S73)-4)&\"_\"&S$4,Schedule!$H:$I,2,FALSE),\"\"))))","v":""},{"$f":"IF($A73=\"\",\"\",IF(OR(T$3=\"Sat\",T$3=\"Sun\"),\"\",IF(COUNTIF(Holidays!$A:$A,T$4)>0,\"H\",IFERROR(VLOOKUP((ROW(T73)-4)&\"_\"&T$4,Schedule!$H:$I,2,FALSE),\"\"))))","v":""},{"$f":"IF($A73=\"\",\"\",IF(OR(U$3=\"Sat\",U$3=\"Sun\"),\"\",IF(COUNTIF(Holidays!$A:$A,U$4)>0,\"H\",IFERROR(VLOOKUP((ROW(U73)-4)&\"_\"&U$4,Schedule!$H:$I,2,FALSE),\"\"))))","v":""},{"$f":"IF($A73=\"\",\"\",IF(OR(V$3=\"Sat\",V$3=\"Sun\"),\"\",IF(COUNTIF(Holidays!$A:$A,V$4)>0,\"H\",IFERROR(VLOOKUP((ROW(V73)-4)&\"_\"&V$4,Schedule!$H:$I,2,FALSE),\"\"))))","v":""},{"$f":"IF($A73=\"\",\"\",IF(OR(W$3=\"Sat\",W$3=\"Sun\"),\"\",IF(COUNTIF(Holidays!$A:$A,W$4)>0,\"H\",IFERROR(VLOOKUP((ROW(W73)-4)&\"_\"&W$4,Schedule!$H:$I,2,FALSE),\"\"))))","v":""},{"$f":"IF($A73=\"\",\"\",IF(OR(X$3=\"Sat\",X$3=\"Sun\"),\"\",IF(COUNTIF(Holidays!$A:$A,X$4)>0,\"H\",IFERROR(VLOOKUP((ROW(X73)-4)&\"_\"&X$4,Schedule!$H:$I,2,FALSE),\"\"))))","v":""},{"$f":"IF($A73=\"\",\"\",IF(OR(Y$3=\"Sat\",Y$3=\"Sun\"),\"\",IF(COUNTIF(Holidays!$A:$A,Y$4)>0,\"H\",IFERROR(VLOOKUP((ROW(Y73)-4)&\"_\"&Y$4,Schedule!$H:$I,2,FALSE),\"\"))))","v":""},{"$f":"IF($A73=\"\",\"\",IF(OR(Z$3=\"Sat\",Z$3=\"Sun\"),\"\",IF(COUNTIF(Holidays!$A:$A,Z$4)>0,\"H\",IFERROR(VLOOKUP((ROW(Z73)-4)&\"_\"&Z$4,Schedule!$H:$I,2,FALSE),\"\"))))","v":""},{"$f":"IF($A73=\"\",\"\",IF(OR(AA$3=\"Sat\",AA$3=\"Sun\"),\"\",IF(COUNTIF(Holidays!$A:$A,AA$4)>0,\"H\",IFERROR(VLOOKUP((ROW(AA73)-4)&\"_\"&AA$4,Schedule!$H:$I,2,FALSE),\"\"))))","v":""},{"$f":"IF($A73=\"\",\"\",IF(OR(AB$3=\"Sat\",AB$3=\"Sun\"),\"\",IF(COUNTIF(Holidays!$A:$A,AB$4)>0,\"H\",IFERROR(VLOOKUP((ROW(AB73)-4)&\"_\"&AB$4,Schedule!$H:$I,2,FALSE),\"\"))))","v":""},{"$f":"IF($A73=\"\",\"\",IF(OR(AC$3=\"Sat\",AC$3=\"Sun\"),\"\",IF(COUNTIF(Holidays!$A:$A,AC$4)>0,\"H\",IFERROR(VLOOKUP((ROW(AC73)-4)&\"_\"&AC$4,Schedule!$H:$I,2,FALSE),\"\"))))","v":""},{"$f":"IF($A73=\"\",\"\",IF(OR(AD$3=\"Sat\",AD$3=\"Sun\"),\"\",IF(COUNTIF(Holidays!$A:$A,AD$4)>0,\"H\",IFERROR(VLOOKUP((ROW(AD73)-4)&\"_\"&AD$4,Schedule!$H:$I,2,FALSE),\"\"))))","v":""},{"$f":"IF($A73=\"\",\"\",IF(OR(AE$3=\"Sat\",AE$3=\"Sun\"),\"\",IF(COUNTIF(Holidays!$A:$A,AE$4)>0,\"H\",IFERROR(VLOOKUP((ROW(AE73)-4)&\"_\"&AE$4,Schedule!$H:$I,2,FALSE),\"\"))))","v":""},{"$f":"IF($A73=\"\",\"\",IF(OR(AF$3=\"Sat\",AF$3=\"Sun\"),\"\",IF(COUNTIF(Holidays!$A:$A,AF$4)>0,\"H\",IFERROR(VLOOKUP((ROW(AF73)-4)&\"_\"&AF$4,Schedule!$H:$I,2,FALSE),\"\"))))","v":""},{"$f":"IF($A73=\"\",\"\",IF(OR(AG$3=\"Sat\",AG$3=\"Sun\"),\"\",IF(COUNTIF(Holidays!$A:$A,AG$4)>0,\"H\",IFERROR(VLOOKUP((ROW(AG73)-4)&\"_\"&AG$4,Schedule!$H:$I,2,FALSE),\"\"))))","v":""},{"$f":"IF($A73=\"\",\"\",IF(OR(AH$3=\"Sat\",AH$3=\"Sun\"),\"\",IF(COUNTIF(Holidays!$A:$A,AH$4)>0,\"H\",IFERROR(VLOOKUP((ROW(AH73)-4)&\"_\"&AH$4,Schedule!$H:$I,2,FALSE),\"\"))))","v":""},{"$f":"IF($A73=\"\",\"\",IF(OR(AI$3=\"Sat\",AI$3=\"Sun\"),\"\",IF(COUNTIF(Holidays!$A:$A,AI$4)>0,\"H\",IFERROR(VLOOKUP((ROW(AI73)-4)&\"_\"&AI$4,Schedule!$H:$I,2,FALSE),\"\"))))","v":""},{"$f":"IF($A73=\"\",\"\",IF(OR(AJ$3=\"Sat\",AJ$3=\"Sun\"),\"\",IF(COUNTIF(Holidays!$A:$A,AJ$4)>0,\"H\",IFERROR(VLOOKUP((ROW(AJ73)-4)&\"_\"&AJ$4,Schedule!$H:$I,2,FALSE),\"\"))))","v":""},{"$f":"IF($A73=\"\",\"\",ROUND(SUMIFS(Schedule!$E:$E,Schedule!$A:$A,$A73,Schedule!$D:$D,$AK$3,Schedule!$B:$B,\">=\"&DATE($Q$2,$U$2,1),Schedule!$B:$B,\"<=\"&EOMONTH(DATE($Q$2,$U$2,1),0))/8,2))","v":""},{"$f":"IF($A73=\"\",\"\",ROUND(SUMIFS(Schedule!$E:$E,Schedule!$A:$A,$A73,Schedule!$D:$D,$AK$3,Schedule!$B:$B,\">=\"&DATE($Q$2,1,1),Schedule!$B:$B,\"<=\"&EOMONTH(DATE($Q$2,$U$2,1),0))/8,2))","v":""},{"$f":"IF($A73=\"\",\"\",ROUND(SUMIFS(Schedule!$E:$E,Schedule!$A:$A,$A73,Schedule!$D:$D,$AM$3,Schedule!$B:$B,\">=\"&DATE($Q$2,$U$2,1),Schedule!$B:$B,\"<=\"&EOMONTH(DATE($Q$2,$U$2,1),0))/8,2))","v":""},{"$f":"IF($A73=\"\",\"\",ROUND(SUMIFS(Schedule!$E:$E,Schedule!$A:$A,$A73,Schedule!$D:$D,$AM$3,Schedule!$B:$B,\">=\"&DATE($Q$2,1,1),Schedule!$B:$B,\"<=\"&EOMONTH(DATE($Q$2,$U$2,1),0))/8,2))","v":""}]
[{"$f":"IF(Lookups!A71=\"\",\"\",Lookups!A71)","v":""},{"$f":"IF($A74=\"\",\"\",IF(OR(B$3=\"Sat\",B$3=\"Sun\"),\"\",IF(COUNTIF(Holidays!$A:$A,B$4)>0,\"H\",IFERROR(VLOOKUP((ROW(B74)-4)&\"_\"&B$4,Schedule!$H:$I,2,FALSE),\"\"))))","v":""},{"$f":"IF($A74=\"\",\"\",IF(OR(C$3=\"Sat\",C$3=\"Sun\"),\"\",IF(COUNTIF(Holidays!$A:$A,C$4)>0,\"H\",IFERROR(VLOOKUP((ROW(C74)-4)&\"_\"&C$4,Schedule!$H:$I,2,FALSE),\"\"))))","v":""},{"$f":"IF($A74=\"\",\"\",IF(OR(D$3=\"Sat\",D$3=\"Sun\"),\"\",IF(COUNTIF(Holidays!$A:$A,D$4)>0,\"H\",IFERROR(VLOOKUP((ROW(D74)-4)&\"_\"&D$4,Schedule!$H:$I,2,FALSE),\"\"))))","v":""},{"$f":"IF($A74=\"\",\"\",IF(OR(E$3=\"Sat\",E$3=\"Sun\"),\"\",IF(COUNTIF(Holidays!$A:$A,E$4)>0,\"H\",IFERROR(VLOOKUP((ROW(E74)-4)&\"_\"&E$4,Schedule!$H:$I,2,FALSE),\"\"))))","v":""},{"$f":"IF($A74=\"\",\"\",IF(OR(F$3=\"Sat\",F$3=\"Sun\"),\"\",IF(COUNTIF(Holidays!$A:$A,F$4)>0,\"H\",IFERROR(VLOOKUP((ROW(F74)-4)&\"_\"&F$4,Schedule!$H:$I,2,FALSE),\"\"))))","v":""},{"$f":"IF($A74=\"\",\"\",IF(OR(G$3=\"Sat\",G$3=\"Sun\"),\"\",IF(COUNTIF(Holidays!$A:$A,G$4)>0,\"H\",IFERROR(VLOOKUP((ROW(G74)-4)&\"_\"&G$4,Schedule!$H:$I,2,FALSE),\"\"))))","v":""},{"$f":"IF($A74=\"\",\"\",IF(OR(H$3=\"Sat\",H$3=\"Sun\"),\"\",IF(COUNTIF(Holidays!$A:$A,H$4)>0,\"H\",IFERROR(VLOOKUP((ROW(H74)-4)&\"_\"&H$4,Schedule!$H:$I,2,FALSE),\"\"))))","v":""},{"$f":"IF($A74=\"\",\"\",IF(OR(I$3=\"Sat\",I$3=\"Sun\"),\"\",IF(COUNTIF(Holidays!$A:$A,I$4)>0,\"H\",IFERROR(VLOOKUP((ROW(I74)-4)&\"_\"&I$4,Schedule!$H:$I,2,FALSE),\"\"))))","v":""},{"$f":"IF($A74=\"\",\"\",IF(OR(J$3=\"Sat\",J$3=\"Sun\"),\"\",IF(COUNTIF(Holidays!$A:$A,J$4)>0,\"H\",IFERROR(VLOOKUP((ROW(J74)-4)&\"_\"&J$4,Schedule!$H:$I,2,FALSE),\"\"))))","v":""},{"$f":"IF($A74=\"\",\"\",IF(OR(K$3=\"Sat\",K$3=\"Sun\"),\"\",IF(COUNTIF(Holidays!$A:$A,K$4)>0,\"H\",IFERROR(VLOOKUP((ROW(K74)-4)&\"_\"&K$4,Schedule!$H:$I,2,FALSE),\"\"))))","v":""},{"$f":"IF($A74=\"\",\"\",IF(OR(L$3=\"Sat\",L$3=\"Sun\"),\"\",IF(COUNTIF(Holidays!$A:$A,L$4)>0,\"H\",IFERROR(VLOOKUP((ROW(L74)-4)&\"_\"&L$4,Schedule!$H:$I,2,FALSE),\"\"))))","v":""},{"$f":"IF($A74=\"\",\"\",IF(OR(M$3=\"Sat\",M$3=\"Sun\"),\"\",IF(COUNTIF(Holidays!$A:$A,M$4)>0,\"H\",IFERROR(VLOOKUP((ROW(M74)-4)&\"_\"&M$4,Schedule!$H:$I,2,FALSE),\"\"))))","v":""},{"$f":"IF($A74=\"\",\"\",IF(OR(N$3=\"Sat\",N$3=\"Sun\"),\"\",IF(COUNTIF(Holidays!$A:$A,N$4)>0,\"H\",IFERROR(VLOOKUP((ROW(N74)-4)&\"_\"&N$4,Schedule!$H:$I,2,FALSE),\"\"))))","v":""},{"$f":"IF($A74=\"\",\"\",IF(OR(O$3=\"Sat\",O$3=\"Sun\"),\"\",IF(COUNTIF(Holidays!$A:$A,O$4)>0,\"H\",IFERROR(VLOOKUP((ROW(O74)-4)&\"_\"&O$4,Schedule!$H:$I,2,FALSE),\"\"))))","v":""},{"$f":"IF($A74=\"\",\"\",IF(OR(P$3=\"Sat\",P$3=\"Sun\"),\"\",IF(COUNTIF(Holidays!$A:$A,P$4)>0,\"H\",IFERROR(VLOOKUP((ROW(P74)-4)&\"_\"&P$4,Schedule!$H:$I,2,FALSE),\"\"))))","v":""},{"$f":"IF($A74=\"\",\"\",IF(OR(Q$3=\"Sat\",Q$3=\"Sun\"),\"\",IF(COUNTIF(Holidays!$A:$A,Q$4)>0,\"H\",IFERROR(VLOOKUP((ROW(Q74)-4)&\"_\"&Q$4,Schedule!$H:$I,2,FALSE),\"\"))))","v":""},{"$f":"IF($A74=\"\",\"\",IF(OR(R$3=\"Sat\",R$3=\"Sun\"),\"\",IF(COUNTIF(Holidays!$A:$A,R$4)>0,\"H\",IFERROR(VLOOKUP((ROW(R74)-4)&\"_\"&R$4,Schedule!$H:$I,2,FALSE),\"\"))))","v":""},{"$f":"IF($A74=\"\",\"\",IF(OR(S$3=\"Sat\",S$3=\"Sun\"),\"\",IF(COUNTIF(Holidays!$A:$A,S$4)>0,\"H\",IFERROR(VLOOKUP((ROW(S74)-4)&\"_\"&S$4,Schedule!$H:$I,2,FALSE),\"\"))))","v":""},{"$f":"IF($A74=\"\",\"\",IF(OR(T$3=\"Sat\",T$3=\"Sun\"),\"\",IF(COUNTIF(Holidays!$A:$A,T$4)>0,\"H\",IFERROR(VLOOKUP((ROW(T74)-4)&\"_\"&T$4,Schedule!$H:$I,2,FALSE),\"\"))))","v":""},{"$f":"IF($A74=\"\",\"\",IF(OR(U$3=\"Sat\",U$3=\"Sun\"),\"\",IF(COUNTIF(Holidays!$A:$A,U$4)>0,\"H\",IFERROR(VLOOKUP((ROW(U74)-4)&\"_\"&U$4,Schedule!$H:$I,2,FALSE),\"\"))))","v":""},{"$f":"IF($A74=\"\",\"\",IF(OR(V$3=\"Sat\",V$3=\"Sun\"),\"\",IF(COUNTIF(Holidays!$A:$A,V$4)>0,\"H\",IFERROR(VLOOKUP((ROW(V74)-4)&\"_\"&V$4,Schedule!$H:$I,2,FALSE),\"\"))))","v":""},{"$f":"IF($A74=\"\",\"\",IF(OR(W$3=\"Sat\",W$3=\"Sun\"),\"\",IF(COUNTIF(Holidays!$A:$A,W$4)>0,\"H\",IFERROR(VLOOKUP((ROW(W74)-4)&\"_\"&W$4,Schedule!$H:$I,2,FALSE),\"\"))))","v":""},{"$f":"IF($A74=\"\",\"\",IF(OR(X$3=\"Sat\",X$3=\"Sun\"),\"\",IF(COUNTIF(Holidays!$A:$A,X$4)>0,\"H\",IFERROR(VLOOKUP((ROW(X74)-4)&\"_\"&X$4,Schedule!$H:$I,2,FALSE),\"\"))))","v":""},{"$f":"IF($A74=\"\",\"\",IF(OR(Y$3=\"Sat\",Y$3=\"Sun\"),\"\",IF(COUNTIF(Holidays!$A:$A,Y$4)>0,\"H\",IFERROR(VLOOKUP((ROW(Y74)-4)&\"_\"&Y$4,Schedule!$H:$I,2,FALSE),\"\"))))","v":""},{"$f":"IF($A74=\"\",\"\",IF(OR(Z$3=\"Sat\",Z$3=\"Sun\"),\"\",IF(COUNTIF(Holidays!$A:$A,Z$4)>0,\"H\",IFERROR(VLOOKUP((ROW(Z74)-4)&\"_\"&Z$4,Schedule!$H:$I,2,FALSE),\"\"))))","v":""},{"$f":"IF($A74=\"\",\"\",IF(OR(AA$3=\"Sat\",AA$3=\"Sun\"),\"\",IF(COUNTIF(Holidays!$A:$A,AA$4)>0,\"H\",IFERROR(VLOOKUP((ROW(AA74)-4)&\"_\"&AA$4,Schedule!$H:$I,2,FALSE),\"\"))))","v":""},{"$f":"IF($A74=\"\",\"\",IF(OR(AB$3=\"Sat\",AB$3=\"Sun\"),\"\",IF(COUNTIF(Holidays!$A:$A,AB$4)>0,\"H\",IFERROR(VLOOKUP((ROW(AB74)-4)&\"_\"&AB$4,Schedule!$H:$I,2,FALSE),\"\"))))","v":""},{"$f":"IF($A74=\"\",\"\",IF(OR(AC$3=\"Sat\",AC$3=\"Sun\"),\"\",IF(COUNTIF(Holidays!$A:$A,AC$4)>0,\"H\",IFERROR(VLOOKUP((ROW(AC74)-4)&\"_\"&AC$4,Schedule!$H:$I,2,FALSE),\"\"))))","v":""},{"$f":"IF($A74=\"\",\"\",IF(OR(AD$3=\"Sat\",AD$3=\"Sun\"),\"\",IF(COUNTIF(Holidays!$A:$A,AD$4)>0,\"H\",IFERROR(VLOOKUP((ROW(AD74)-4)&\"_\"&AD$4,Schedule!$H:$I,2,FALSE),\"\"))))","v":""},{"$f":"IF($A74=\"\",\"\",IF(OR(AE$3=\"Sat\",AE$3=\"Sun\"),\"\",IF(COUNTIF(Holidays!$A:$A,AE$4)>0,\"H\",IFERROR(VLOOKUP((ROW(AE74)-4)&\"_\"&AE$4,Schedule!$H:$I,2,FALSE),\"\"))))","v":""},{"$f":"IF($A74=\"\",\"\",IF(OR(AF$3=\"Sat\",AF$3=\"Sun\"),\"\",IF(COUNTIF(Holidays!$A:$A,AF$4)>0,\"H\",IFERROR(VLOOKUP((ROW(AF74)-4)&\"_\"&AF$4,Schedule!$H:$I,2,FALSE),\"\"))))","v":""},{"$f":"IF($A74=\"\",\"\",IF(OR(AG$3=\"Sat\",AG$3=\"Sun\"),\"\",IF(COUNTIF(Holidays!$A:$A,AG$4)>0,\"H\",IFERROR(VLOOKUP((ROW(AG74)-4)&\"_\"&AG$4,Schedule!$H:$I,2,FALSE),\"\"))))","v":""},{"$f":"IF($A74=\"\",\"\",IF(OR(AH$3=\"Sat\",AH$3=\"Sun\"),\"\",IF(COUNTIF(Holidays!$A:$A,AH$4)>0,\"H\",IFERROR(VLOOKUP((ROW(AH74)-4)&\"_\"&AH$4,Schedule!$H:$I,2,FALSE),\"\"))))","v":""},{"$f":"IF($A74=\"\",\"\",IF(OR(AI$3=\"Sat\",AI$3=\"Sun\"),\"\",IF(COUNTIF(Holidays!$A:$A,AI$4)>0,\"H\",IFERROR(VLOOKUP((ROW(AI74)-4)&\"_\"&AI$4,Schedule!$H:$I,2,FALSE),\"\"))))","v":""},{"$f":"IF($A74=\"\",\"\",IF(OR(AJ$3=\"Sat\",AJ$3=\"Sun\"),\"\",IF(COUNTIF(Holidays!$A:$A,AJ$4)>0,\"H\",IFERROR(VLOOKUP((ROW(AJ74)-4)&\"_\"&AJ$4,Schedule!$H:$I,2,FALSE),\"\"))))","v":""},{"$f":"IF($A74=\"\",\"\",ROUND(SUMIFS(Schedule!$E:$E,Schedule!$A:$A,$A74,Schedule!$D:$D,$AK$3,Schedule!$B:$B,\">=\"&DATE($Q$2,$U$2,1),Schedule!$B:$B,\"<=\"&EOMONTH(DATE($Q$2,$U$2,1),0))/8,2))","v":""},{"$f":"IF($A74=\"\",\"\",ROUND(SUMIFS(Schedule!$E:$E,Schedule!$A:$A,$A74,Schedule!$D:$D,$AK$3,Schedule!$B:$B,\">=\"&DATE($Q$2,1,1),Schedule!$B:$B,\"<=\"&EOMONTH(DATE($Q$2,$U$2,1),0))/8,2))","v":""},{"$f":"IF($A74=\"\",\"\",ROUND(SUMIFS(Schedule!$E:$E,Schedule!$A:$A,$A74,Schedule!$D:$D,$AM$3,Schedule!$B:$B,\">=\"&DATE($Q$2,$U$2,1),Schedule!$B:$B,\"<=\"&EOMONTH(DATE($Q$2,$U$2,1),0))/8,2))","v":""},{"$f":"IF($A74=\"\",\"\",ROUND(SUMIFS(Schedule!$E:$E,Schedule!$A:$A,$A74,Schedule!$D:$D,$AM$3,Schedule!$B:$B,\">=\"&DATE($Q$2,1,1),Schedule!$B:$B,\"<=\"&EOMONTH(DATE($Q$2,$U$2,1),0))/8,2))","v":""}]
[{"$f":"IF(Lookups!A72=\"\",\"\",Lookups!A72)","v":""},{"$f":"IF($A75=\"\",\"\",IF(OR(B$3=\"Sat\",B$3=\"Sun\"),\"\",IF(COUNTIF(Holidays!$A:$A,B$4)>0,\"H\",IFERROR(VLOOKUP((ROW(B75)-4)&\"_\"&B$4,Schedule!$H:$I,2,FALSE),\"\"))))","v":""},{"$f":"IF($A75=\"\",\"\",IF(OR(C$3=\"Sat\",C$3=\"Sun\"),\"\",IF(COUNTIF(Holidays!$A:$A,C$4)>0,\"H\",IFERROR(VLOOKUP((ROW(C75)-4)&\"_\"&C$4,Schedule!$H:$I,2,FALSE),\"\"))))","v":""},{"$f":"IF($A75=\"\",\"\",IF(OR(D$3=\"Sat\",D$3=\"Sun\"),\"\",IF(COUNTIF(Holidays!$A:$A,D$4)>0,\"H\",IFERROR(VLOOKUP((ROW(D75)-4)&\"_\"&D$4,Schedule!$H:$I,2,FALSE),\"\"))))","v":""},{"$f":"IF($A75=\"\",\"\",IF(OR(E$3=\"Sat\",E$3=\"Sun\"),\"\",IF(COUNTIF(Holidays!$A:$A,E$4)>0,\"H\",IFERROR(VLOOKUP((ROW(E75)-4)&\"_\"&E$4,Schedule!$H:$I,2,FALSE),\"\"))))","v":""},{"$f":"IF($A75=\"\",\"\",IF(OR(F$3=\"Sat\",F$3=\"Sun\"),\"\",IF(COUNTIF(Holidays!$A:$A,F$4)>0,\"H\",IFERROR(VLOOKUP((ROW(F75)-4)&\"_\"&F$4,Schedule!$H:$I,2,FALSE),\"\"))))","v":""},{"$f":"IF($A75=\"\",\"\",IF(OR(G$3=\"Sat\",G$3=\"Sun\"),\"\",IF(COUNTIF(Holidays!$A:$A,G$4)>0,\"H\",IFERROR(VLOOKUP((ROW(G75)-4)&\"_\"&G$4,Schedule!$H:$I,2,FALSE),\"\"))))","v":""},{"$f":"IF($A75=\"\",\"\",IF(OR(H$3=\"Sat\",H$3=\"Sun\"),\"\",IF(COUNTIF(Holidays!$A:$A,H$4)>0,\"H\",IFERROR(VLOOKUP((ROW(H75)-4)&\"_\"&H$4,Schedule!$H:$I,2,FALSE),\"\"))))","v":""},{"$f":"IF($A75=\"\",\"\",IF(OR(I$3=\"Sat\",I$3=\"Sun\"),\"\",IF(COUNTIF(Holidays!$A:$A,I$4)>0,\"H\",IFERROR(VLOOKUP((ROW(I75)-4)&\"_\"&I$4,Schedule!$H:$I,2,FALSE),\"\"))))","v":""},{"$f":"IF($A75=\"\",\"\",IF(OR(J$3=\"Sat\",J$3=\"Sun\"),\"\",IF(COUNTIF(Holidays!$A:$A,J$4)>0,\"H\",IFERROR(VLOOKUP((ROW(J75)-4)&\"_\"&J$4,Schedule!$H:$I,2,FALSE),\"\"))))","v":""},{"$f":"IF($A75=\"\",\"\",IF(OR(K$3=\"Sat\",K$3=\"Sun\"),\"\",IF(COUNTIF(Holidays!$A:$A,K$4)>0,\"H\",IFERROR(VLOOKUP((ROW(K75)-4)&\"_\"&K$4,Schedule!$H:$I,2,FALSE),\"\"))))","v":""},{"$f":"IF($A75=\"\",\"\",IF(OR(L$3=\"Sat\",L$3=\"Sun\"),\"\",IF(COUNTIF(Holidays!$A:$A,L$4)>0,\"H\",IFERROR(VLOOKUP((ROW(L75)-4)&\"_\"&L$4,Schedule!$H:$I,2,FALSE),\"\"))))","v":""},{"$f":"IF($A75=\"\",\"\",IF(OR(M$3=\"Sat\",M$3=\"Sun\"),\"\",IF(COUNTIF(Holidays!$A:$A,M$4)>0,\"H\",IFERROR(VLOOKUP((ROW(M75)-4)&\"_\"&M$4,Schedule!$H:$I,2,FALSE),\"\"))))","v":""},{"$f":"IF($A75=\"\",\"\",IF(OR(N$3=\"Sat\",N$3=\"Sun\"),\"\",IF(COUNTIF(Holidays!$A:$A,N$4)>0,\"H\",IFERROR(VLOOKUP((ROW(N75)-4)&\"_\"&N$4,Schedule!$H:$I,2,FALSE),\"\"))))","v":""},{"$f":"IF($A75=\"\",\"\",IF(OR(O$3=\"Sat\",O$3=\"Sun\"),\"\",IF(COUNTIF(Holidays!$A:$A,O$4)>0,\"H\",IFERROR(VLOOKUP((ROW(O75)-4)&\"_\"&O$4,Schedule!$H:$I,2,FALSE),\"\"))))","v":""},{"$f":"IF($A75=\"\",\"\",IF(OR(P$3=\"Sat\",P$3=\"Sun\"),\"\",IF(COUNTIF(Holidays!$A:$A,P$4)>0,\"H\",IFERROR(VLOOKUP((ROW(P75)-4)&\"_\"&P$4,Schedule!$H:$I,2,FALSE),\"\"))))","v":""},{"$f":"IF($A75=\"\",\"\",IF(OR(Q$3=\"Sat\",Q$3=\"Sun\"),\"\",IF(COUNTIF(Holidays!$A:$A,Q$4)>0,\"H\",IFERROR(VLOOKUP((ROW(Q75)-4)&\"_\"&Q$4,Schedule!$H:$I,2,FALSE),\"\"))))","v":""},{"$f":"IF($A75=\"\",\"\",IF(OR(R$3=\"Sat\",R$3=\"Sun\"),\"\",IF(COUNTIF(Holidays!$A:$A,R$4)>0,\"H\",IFERROR(VLOOKUP((ROW(R75)-4)&\"_\"&R$4,Schedule!$H:$I,2,FALSE),\"\"))))","v":""},{"$f":"IF($A75=\"\",\"\",IF(OR(S$3=\"Sat\",S$3=\"Sun\"),\"\",IF(COUNTIF(Holidays!$A:$A,S$4)>0,\"H\",IFERROR(VLOOKUP((ROW(S75)-4)&\"_\"&S$4,Schedule!$H:$I,2,FALSE),\"\"))))","v":""},{"$f":"IF($A75=\"\",\"\",IF(OR(T$3=\"Sat\",T$3=\"Sun\"),\"\",IF(COUNTIF(Holidays!$A:$A,T$4)>0,\"H\",IFERROR(VLOOKUP((ROW(T75)-4)&\"_\"&T$4,Schedule!$H:$I,2,FALSE),\"\"))))","v":""},{"$f":"IF($A75=\"\",\"\",IF(OR(U$3=\"Sat\",U$3=\"Sun\"),\"\",IF(COUNTIF(Holidays!$A:$A,U$4)>0,\"H\",IFERROR(VLOOKUP((ROW(U75)-4)&\"_\"&U$4,Schedule!$H:$I,2,FALSE),\"\"))))","v":""},{"$f":"IF($A75=\"\",\"\",IF(OR(V$3=\"Sat\",V$3=\"Sun\"),\"\",IF(COUNTIF(Holidays!$A:$A,V$4)>0,\"H\",IFERROR(VLOOKUP((ROW(V75)-4)&\"_\"&V$4,Schedule!$H:$I,2,FALSE),\"\"))))","v":""},{"$f":"IF($A75=\"\",\"\",IF(OR(W$3=\"Sat\",W$3=\"Sun\"),\"\",IF(COUNTIF(Holidays!$A:$A,W$4)>0,\"H\",IFERROR(VLOOKUP((ROW(W75)-4)&\"_\"&W$4,Schedule!$H:$I,2,FALSE),\"\"))))","v":""},{"$f":"IF($A75=\"\",\"\",IF(OR(X$3=\"Sat\",X$3=\"Sun\"),\"\",IF(COUNTIF(Holidays!$A:$A,X$4)>0,\"H\",IFERROR(VLOOKUP((ROW(X75)-4)&\"_\"&X$4,Schedule!$H:$I,2,FALSE),\"\"))))","v":""},{"$f":"IF($A75=\"\",\"\",IF(OR(Y$3=\"Sat\",Y$3=\"Sun\"),\"\",IF(COUNTIF(Holidays!$A:$A,Y$4)>0,\"H\",IFERROR(VLOOKUP((ROW(Y75)-4)&\"_\"&Y$4,Schedule!$H:$I,2,FALSE),\"\"))))","v":""},{"$f":"IF($A75=\"\",\"\",IF(OR(Z$3=\"Sat\",Z$3=\"Sun\"),\"\",IF(COUNTIF(Holidays!$A:$A,Z$4)>0,\"H\",IFERROR(VLOOKUP((ROW(Z75)-4)&\"_\"&Z$4,Schedule!$H:$I,2,FALSE),\"\"))))","v":""},{"$f":"IF($A75=\"\",\"\",IF(OR(AA$3=\"Sat\",AA$3=\"Sun\"),\"\",IF(COUNTIF(Holidays!$A:$A,AA$4)>0,\"H\",IFERROR(VLOOKUP((ROW(AA75)-4)&\"_\"&AA$4,Schedule!$H:$I,2,FALSE),\"\"))))","v":""},{"$f":"IF($A75=\"\",\"\",IF(OR(AB$3=\"Sat\",AB$3=\"Sun\"),\"\",IF(COUNTIF(Holidays!$A:$A,AB$4)>0,\"H\",IFERROR(VLOOKUP((ROW(AB75)-4)&\"_\"&AB$4,Schedule!$H:$I,2,FALSE),\"\"))))","v":""},{"$f":"IF($A75=\"\",\"\",IF(OR(AC$3=\"Sat\",AC$3=\"Sun\"),\"\",IF(COUNTIF(Holidays!$A:$A,AC$4)>0,\"H\",IFERROR(VLOOKUP((ROW(AC75)-4)&\"_\"&AC$4,Schedule!$H:$I,2,FALSE),\"\"))))","v":""},{"$f":"IF($A75=\"\",\"\",IF(OR(AD$3=\"Sat\",AD$3=\"Sun\"),\"\",IF(COUNTIF(Holidays!$A:$A,AD$4)>0,\"H\",IFERROR(VLOOKUP((ROW(AD75)-4)&\"_\"&AD$4,Schedule!$H:$I,2,FALSE),\"\"))))","v":""},{"$f":"IF($A75=\"\",\"\",IF(OR(AE$3=\"Sat\",AE$3=\"Sun\"),\"\",IF(COUNTIF(Holidays!$A:$A,AE$4)>0,\"H\",IFERROR(VLOOKUP((ROW(AE75)-4)&\"_\"&AE$4,Schedule!$H:$I,2,FALSE),\"\"))))","v":""},{"$f":"IF($A75=\"\",\"\",IF(OR(AF$3=\"Sat\",AF$3=\"Sun\"),\"\",IF(COUNTIF(Holidays!$A:$A,AF$4)>0,\"H\",IFERROR(VLOOKUP((ROW(AF75)-4)&\"_\"&AF$4,Schedule!$H:$I,2,FALSE),\"\"))))","v":""},{"$f":"IF($A75=\"\",\"\",IF(OR(AG$3=\"Sat\",AG$3=\"Sun\"),\"\",IF(COUNTIF(Holidays!$A:$A,AG$4)>0,\"H\",IFERROR(VLOOKUP((ROW(AG75)-4)&\"_\"&AG$4,Schedule!$H:$I,2,FALSE),\"\"))))","v":""},{"$f":"IF($A75=\"\",\"\",IF(OR(AH$3=\"Sat\",AH$3=\"Sun\"),\"\",IF(COUNTIF(Holidays!$A:$A,AH$4)>0,\"H\",IFERROR(VLOOKUP((ROW(AH75)-4)&\"_\"&AH$4,Schedule!$H:$I,2,FALSE),\"\"))))","v":""},{"$f":"IF($A75=\"\",\"\",IF(OR(AI$3=\"Sat\",AI$3=\"Sun\"),\"\",IF(COUNTIF(Holidays!$A:$A,AI$4)>0,\"H\",IFERROR(VLOOKUP((ROW(AI75)-4)&\"_\"&AI$4,Schedule!$H:$I,2,FALSE),\"\"))))","v":""},{"$f":"IF($A75=\"\",\"\",IF(OR(AJ$3=\"Sat\",AJ$3=\"Sun\"),\"\",IF(COUNTIF(Holidays!$A:$A,AJ$4)>0,\"H\",IFERROR(VLOOKUP((ROW(AJ75)-4)&\"_\"&AJ$4,Schedule!$H:$I,2,FALSE),\"\"))))","v":""},{"$f":"IF($A75=\"\",\"\",ROUND(SUMIFS(Schedule!$E:$E,Schedule!$A:$A,$A75,Schedule!$D:$D,$AK$3,Schedule!$B:$B,\">=\"&DATE($Q$2,$U$2,1),Schedule!$B:$B,\"<=\"&EOMONTH(DATE($Q$2,$U$2,1),0))/8,2))","v":""},{"$f":"IF($A75=\"\",\"\",ROUND(SUMIFS(Schedule!$E:$E,Schedule!$A:$A,$A75,Schedule!$D:$D,$AK$3,Schedule!$B:$B,\">=\"&DATE($Q$2,1,1),Schedule!$B:$B,\"<=\"&EOMONTH(DATE($Q$2,$U$2,1),0))/8,2))","v":""},{"$f":"IF($A75=\"\",\"\",ROUND(SUMIFS(Schedule!$E:$E,Schedule!$A:$A,$A75,Schedule!$D:$D,$AM$3,Schedule!$B:$B,\">=\"&DATE($Q$2,$U$2,1),Schedule!$B:$B,\"<=\"&EOMONTH(DATE($Q$2,$U$2,1),0))/8,2))","v":""},{"$f":"IF($A75=\"\",\"\",ROUND(SUMIFS(Schedule!$E:$E,Schedule!$A:$A,$A75,Schedule!$D:$D,$AM$3,Schedule!$B:$B,\">=\"&DATE($Q$2,1,1),Schedule!$B:$B,\"<=\"&EOMONTH(DATE($Q$2,$U$2,1),0))/8,2))","v":""}]
[{"$f":"IF(Lookups!A73=\"\",\"\",Lookups!A73)","v":""},{"$f":"IF($A76=\"\",\"\",IF(OR(B$3=\"Sat\",B$3=\"Sun\"),\"\",IF(COUNTIF(Holidays!$A:$A,B$4)>0,\"H\",IFERROR(VLOOKUP((ROW(B76)-4)&\"_\"&B$4,Schedule!$H:$I,2,FALSE),\"\"))))","v":""},{"$f":"IF($A76=\"\",\"\",IF(OR(C$3=\"Sat\",C$3=\"Sun\"),\"\",IF(COUNTIF(Holidays!$A:$A,C$4)>0,\"H\",IFERROR(VLOOKUP((ROW(C76)-4)&\"_\"&C$4,Schedule!$H:$I,2,FALSE),\"\"))))","v":""},{"$f":"IF($A76=\"\",\"\",IF(OR(D$3=\"Sat\",D$3=\"Sun\"),\"\",IF(COUNTIF(Holidays!$A:$A,D$4)>0,\"H\",IFERROR(VLOOKUP((ROW(D76)-4)&\"_\"&D$4,Schedule!$H:$I,2,FALSE),\"\"))))","v":""},{"$f":"IF($A76=\"\",\"\",IF(OR(E$3=\"Sat\",E$3=\"Sun\"),\"\",IF(COUNTIF(Holidays!$A:$A,E$4)>0,\"H\",IFERROR(VLOOKUP((ROW(E76)-4)&\"_\"&E$4,Schedule!$H:$I,2,FALSE),\"\"))))","v":""},{"$f":"IF($A76=\"\",\"\",IF(OR(F$3=\"Sat\",F$3=\"Sun\"),\"\",IF(COUNTIF(Holidays!$A:$A,F$4)>0,\"H\",IFERROR(VLOOKUP((ROW(F76)-4)&\"_\"&F$4,Schedule!$H:$I,2,FALSE),\"\"))))","v":""},{"$f":"IF($A76=\"\",\"\",IF(OR(G$3=\"Sat\",G$3=\"Sun\"),\"\",IF(COUNTIF(Holidays!$A:$A,G$4)>0,\"H\",IFERROR(VLOOKUP((ROW(G76)-4)&\"_\"&G$4,Schedule!$H:$I,2,FALSE),\"\"))))","v":""},{"$f":"IF($A76=\"\",\"\",IF(OR(H$3=\"Sat\",H$3=\"Sun\"),\"\",IF(COUNTIF(Holidays!$A:$A,H$4)>0,\"H\",IFERROR(VLOOKUP((ROW(H76)-4)&\"_\"&H$4,Schedule!$H:$I,2,FALSE),\"\"))))","v":""},{"$f":"IF($A76=\"\",\"\",IF(OR(I$3=\"Sat\",I$3=\"Sun\"),\"\",IF(COUNTIF(Holidays!$A:$A,I$4)>0,\"H\",IFERROR(VLOOKUP((ROW(I76)-4)&\"_\"&I$4,Schedule!$H:$I,2,FALSE),\"\"))))","v":""},{"$f":"IF($A76=\"\",\"\",IF(OR(J$3=\"Sat\",J$3=\"Sun\"),\"\",IF(COUNTIF(Holidays!$A:$A,J$4)>0,\"H\",IFERROR(VLOOKUP((ROW(J76)-4)&\"_\"&J$4,Schedule!$H:$I,2,FALSE),\"\"))))","v":""},{"$f":"IF($A76=\"\",\"\",IF(OR(K$3=\"Sat\",K$3=\"Sun\"),\"\",IF(COUNTIF(Holidays!$A:$A,K$4)>0,\"H\",IFERROR(VLOOKUP((ROW(K76)-4)&\"_\"&K$4,Schedule!$H:$I,2,FALSE),\"\"))))","v":""},{"$f":"IF($A76=\"\",\"\",IF(OR(L$3=\"Sat\",L$3=\"Sun\"),\"\",IF(COUNTIF(Holidays!$A:$A,L$4)>0,\"H\",IFERROR(VLOOKUP((ROW(L76)-4)&\"_\"&L$4,Schedule!$H:$I,2,FALSE),\"\"))))","v":""},{"$f":"IF($A76=\"\",\"\",IF(OR(M$3=\"Sat\",M$3=\"Sun\"),\"\",IF(COUNTIF(Holidays!$A:$A,M$4)>0,\"H\",IFERROR(VLOOKUP((ROW(M76)-4)&\"_\"&M$4,Schedule!$H:$I,2,FALSE),\"\"))))","v":""},{"$f":"IF($A76=\"\",\"\",IF(OR(N$3=\"Sat\",N$3=\"Sun\"),\"\",IF(COUNTIF(Holidays!$A:$A,N$4)>0,\"H\",IFERROR(VLOOKUP((ROW(N76)-4)&\"_\"&N$4,Schedule!$H:$I,2,FALSE),\"\"))))","v":""},{"$f":"IF($A76=\"\",\"\",IF(OR(O$3=\"Sat\",O$3=\"Sun\"),\"\",IF(COUNTIF(Holidays!$A:$A,O$4)>0,\"H\",IFERROR(VLOOKUP((ROW(O76)-4)&\"_\"&O$4,Schedule!$H:$I,2,FALSE),\"\"))))","v":""},{"$f":"IF($A76=\"\",\"\",IF(OR(P$3=\"Sat\",P$3=\"Sun\"),\"\",IF(COUNTIF(Holidays!$A:$A,P$4)>0,\"H\",IFERROR(VLOOKUP((ROW(P76)-4)&\"_\"&P$4,Schedule!$H:$I,2,FALSE),\"\"))))","v":""},{"$f":"IF($A76=\"\",\"\",IF(OR(Q$3=\"Sat\",Q$3=\"Sun\"),\"\",IF(COUNTIF(Holidays!$A:$A,Q$4)>0,\"H\",IFERROR(VLOOKUP((ROW(Q76)-4)&\"_\"&Q$4,Schedule!$H:$I,2,FALSE),\"\"))))","v":""},{"$f":"IF($A76=\"\",\"\",IF(OR(R$3=\"Sat\",R$3=\"Sun\"),\"\",IF(COUNTIF(Holidays!$A:$A,R$4)>0,\"H\",IFERROR(VLOOKUP((ROW(R76)-4)&\"_\"&R$4,Schedule!$H:$I,2,FALSE),\"\"))))","v":""},{"$f":"IF($A76=\"\",\"\",IF(OR(S$3=\"Sat\",S$3=\"Sun\"),\"\",IF(COUNTIF(Holidays!$A:$A,S$4)>0,\"H\",IFERROR(VLOOKUP((ROW(S76)-4)&\"_\"&S$4,Schedule!$H:$I,2,FALSE),\"\"))))","v":""},{"$f":"IF($A76=\"\",\"\",IF(OR(T$3=\"Sat\",T$3=\"Sun\"),\"\",IF(COUNTIF(Holidays!$A:$A,T$4)>0,\"H\",IFERROR(VLOOKUP((ROW(T76)-4)&\"_\"&T$4,Schedule!$H:$I,2,FALSE),\"\"))))","v":""},{"$f":"IF($A76=\"\",\"\",IF(OR(U$3=\"Sat\",U$3=\"Sun\"),\"\",IF(COUNTIF(Holidays!$A:$A,U$4)>0,\"H\",IFERROR(VLOOKUP((ROW(U76)-4)&\"_\"&U$4,Schedule!$H:$I,2,FALSE),\"\"))))","v":""},{"$f":"IF($A76=\"\",\"\",IF(OR(V$3=\"Sat\",V$3=\"Sun\"),\"\",IF(COUNTIF(Holidays!$A:$A,V$4)>0,\"H\",IFERROR(VLOOKUP((ROW(V76)-4)&\"_\"&V$4,Schedule!$H:$I,2,FALSE),\"\"))))","v":""},{"$f":"IF($A76=\"\",\"\",IF(OR(W$3=\"Sat\",W$3=\"Sun\"),\"\",IF(COUNTIF(Holidays!$A:$A,W$4)>0,\"H\",IFERROR(VLOOKUP((ROW(W76)-4)&\"_\"&W$4,Schedule!$H:$I,2,FALSE),\"\"))))","v":""},{"$f":"IF($A76=\"\",\"\",IF(OR(X$3=\"Sat\",X$3=\"Sun\"),\"\",IF(COUNTIF(Holidays!$A:$A,X$4)>0,\"H\",IFERROR(VLOOKUP((ROW(X76)-4)&\"_\"&X$4,Schedule!$H:$I,2,FALSE),\"\"))))","v":""},{"$f":"IF($A76=\"\",\"\",IF(OR(Y$3=\"Sat\",Y$3=\"Sun\"),\"\",IF(COUNTIF(Holidays!$A:$A,Y$4)>0,\"H\",IFERROR(VLOOKUP((ROW(Y76)-4)&\"_\"&Y$4,Schedule!$H:$I,2,FALSE),\"\"))))","v":""},{"$f":"IF($A76=\"\",\"\",IF(OR(Z$3=\"Sat\",Z$3=\"Sun\"),\"\",IF(COUNTIF(Holidays!$A:$A,Z$4)>0,\"H\",IFERROR(VLOOKUP((ROW(Z76)-4)&\"_\"&Z$4,Schedule!$H:$I,2,FALSE),\"\"))))","v":""},{"$f":"IF($A76=\"\",\"\",IF(OR(AA$3=\"Sat\",AA$3=\"Sun\"),\"\",IF(COUNTIF(Holidays!$A:$A,AA$4)>0,\"H\",IFERROR(VLOOKUP((ROW(AA76)-4)&\"_\"&AA$4,Schedule!$H:$I,2,FALSE),\"\"))))","v":""},{"$f":"IF($A76=\"\",\"\",IF(OR(AB$3=\"Sat\",AB$3=\"Sun\"),\"\",IF(COUNTIF(Holidays!$A:$A,AB$4)>0,\"H\",IFERROR(VLOOKUP((ROW(AB76)-4)&\"_\"&AB$4,Schedule!$H:$I,2,FALSE),\"\"))))","v":""},{"$f":"IF($A76=\"\",\"\",IF(OR(AC$3=\"Sat\",AC$3=\"Sun\"),\"\",IF(COUNTIF(Holidays!$A:$A,AC$4)>0,\"H\",IFERROR(VLOOKUP((ROW(AC76)-4)&\"_\"&AC$4,Schedule!$H:$I,2,FALSE),\"\"))))","v":""},{"$f":"IF($A76=\"\",\"\",IF(OR(AD$3=\"Sat\",AD$3=\"Sun\"),\"\",IF(COUNTIF(Holidays!$A:$A,AD$4)>0,\"H\",IFERROR(VLOOKUP((ROW(AD76)-4)&\"_\"&AD$4,Schedule!$H:$I,2,FALSE),\"\"))))","v":""},{"$f":"IF($A76=\"\",\"\",IF(OR(AE$3=\"Sat\",AE$3=\"Sun\"),\"\",IF(COUNTIF(Holidays!$A:$A,AE$4)>0,\"H\",IFERROR(VLOOKUP((ROW(AE76)-4)&\"_\"&AE$4,Schedule!$H:$I,2,FALSE),\"\"))))","v":""},{"$f":"IF($A76=\"\",\"\",IF(OR(AF$3=\"Sat\",AF$3=\"Sun\"),\"\",IF(COUNTIF(Holidays!$A:$A,AF$4)>0,\"H\",IFERROR(VLOOKUP((ROW(AF76)-4)&\"_\"&AF$4,Schedule!$H:$I,2,FALSE),\"\"))))","v":""},{"$f":"IF($A76=\"\",\"\",IF(OR(AG$3=\"Sat\",AG$3=\"Sun\"),\"\",IF(COUNTIF(Holidays!$A:$A,AG$4)>0,\"H\",IFERROR(VLOOKUP((ROW(AG76)-4)&\"_\"&AG$4,Schedule!$H:$I,2,FALSE),\"\"))))","v":""},{"$f":"IF($A76=\"\",\"\",IF(OR(AH$3=\"Sat\",AH$3=\"Sun\"),\"\",IF(COUNTIF(Holidays!$A:$A,AH$4)>0,\"H\",IFERROR(VLOOKUP((ROW(AH76)-4)&\"_\"&AH$4,Schedule!$H:$I,2,FALSE),\"\"))))","v":""},{"$f":"IF($A76=\"\",\"\",IF(OR(AI$3=\"Sat\",AI$3=\"Sun\"),\"\",IF(COUNTIF(Holidays!$A:$A,AI$4)>0,\"H\",IFERROR(VLOOKUP((ROW(AI76)-4)&\"_\"&AI$4,Schedule!$H:$I,2,FALSE),\"\"))))","v":""},{"$f":"IF($A76=\"\",\"\",IF(OR(AJ$3=\"Sat\",AJ$3=\"Sun\"),\"\",IF(COUNTIF(Holidays!$A:$A,AJ$4)>0,\"H\",IFERROR(VLOOKUP((ROW(AJ76)-4)&\"_\"&AJ$4,Schedule!$H:$I,2,FALSE),\"\"))))","v":""},{"$f":"IF($A76=\"\",\"\",ROUND(SUMIFS(Schedule!$E:$E,Schedule!$A:$A,$A76,Schedule!$D:$D,$AK$3,Schedule!$B:$B,\">=\"&DATE($Q$2,$U$2,1),Schedule!$B:$B,\"<=\"&EOMONTH(DATE($Q$2,$U$2,1),0))/8,2))","v":""},{"$f":"IF($A76=\"\",\"\",ROUND(SUMIFS(Schedule!$E:$E,Schedule!$A:$A,$A76,Schedule!$D:$D,$AK$3,Schedule!$B:$B,\">=\"&DATE($Q$2,1,1),Schedule!$B:$B,\"<=\"&EOMONTH(DATE($Q$2,$U$2,1),0))/8,2))","v":""},{"$f":"IF($A76=\"\",\"\",ROUND(SUMIFS(Schedule!$E:$E,Schedule!$A:$A,$A76,Schedule!$D:$D,$AM$3,Schedule!$B:$B,\">=\"&DATE($Q$2,$U$2,1),Schedule!$B:$B,\"<=\"&EOMONTH(DATE($Q$2,$U$2,1),0))/8,2))","v":""},{"$f":"IF($A76=\"\",\"\",ROUND(SUMIFS(Schedule!$E:$E,Schedule!$A:$A,$A76,Schedule!$D:$D,$AM$3,Schedule!$B:$B,\">=\"&DATE($Q$2,1,1),Schedule!$B:$B,\"<=\"&EOMONTH(DATE($Q$2,$U$2,1),0))/8,2))","v":""}]
[{"$f":"IF(Lookups!A74=\"\",\"\",Lookups!A74)","v":""},{"$f":"IF($A77=\"\",\"\",IF(OR(B$3=\"Sat\",B$3=\"Sun\"),\"\",IF(COUNTIF(Holidays!$A:$A,B$4)>0,\"H\",IFERROR(VLOOKUP((ROW(B77)-4)&\"_\"&B$4,Schedule!$H:$I,2,FALSE),\"\"))))","v":""},{"$f":"IF($A77=\"\",\"\",IF(OR(C$3=\"Sat\",C$3=\"Sun\"),\"\",IF(COUNTIF(Holidays!$A:$A,C$4)>0,\"H\",IFERROR(VLOOKUP((ROW(C77)-4)&\"_\"&C$4,Schedule!$H:$I,2,FALSE),\"\"))))","v":""},{"$f":"IF($A77=\"\",\"\",IF(OR(D$3=\"Sat\",D$3=\"Sun\"),\"\",IF(COUNTIF(Holidays!$A:$A,D$4)>0,\"H\",IFERROR(VLOOKUP((ROW(D77)-4)&\"_\"&D$4,Schedule!$H:$I,2,FALSE),\"\"))))","v":""},{"$f":"IF($A77=\"\",\"\",IF(OR(E$3=\"Sat\",E$3=\"Sun\"),\"\",IF(COUNTIF(Holidays!$A:$A,E$4)>0,\"H\",IFERROR(VLOOKUP((ROW(E77)-4)&\"_\"&E$4,Schedule!$H:$I,2,FALSE),\"\"))))","v":""},{"$f":"IF($A77=\"\",\"\",IF(OR(F$3=\"Sat\",F$3=\"Sun\"),\"\",IF(COUNTIF(Holidays!$A:$A,F$4)>0,\"H\",IFERROR(VLOOKUP((ROW(F77)-4)&\"_\"&F$4,Schedule!$H:$I,2,FALSE),\"\"))))","v":""},{"$f":"IF($A77=\"\",\"\",IF(OR(G$3=\"Sat\",G$3=\"Sun\"),\"\",IF(COUNTIF(Holidays!$A:$A,G$4)>0,\"H\",IFERROR(VLOOKUP((ROW(G77)-4)&\"_\"&G$4,Schedule!$H:$I,2,FALSE),\"\"))))","v":""},{"$f":"IF($A77=\"\",\"\",IF(OR(H$3=\"Sat\",H$3=\"Sun\"),\"\",IF(COUNTIF(Holidays!$A:$A,H$4)>0,\"H\",IFERROR(VLOOKUP((ROW(H77)-4)&\"_\"&H$4,Schedule!$H:$I,2,FALSE),\"\"))))","v":""},{"$f":"IF($A77=\"\",\"\",IF(OR(I$3=\"Sat\",I$3=\"Sun\"),\"\",IF(COUNTIF(Holidays!$A:$A,I$4)>0,\"H\",IFERROR(VLOOKUP((ROW(I77)-4)&\"_\"&I$4,Schedule!$H:$I,2,FALSE),\"\"))))","v":""},{"$f":"IF($A77=\"\",\"\",IF(OR(J$3=\"Sat\",J$3=\"Sun\"),\"\",IF(COUNTIF(Holidays!$A:$A,J$4)>0,\"H\",IFERROR(VLOOKUP((ROW(J77)-4)&\"_\"&J$4,Schedule!$H:$I,2,FALSE),\"\"))))","v":""},{"$f":"IF($A77=\"\",\"\",IF(OR(K$3=\"Sat\",K$3=\"Sun\"),\"\",IF(COUNTIF(Holidays!$A:$A,K$4)>0,\"H\",IFERROR(VLOOKUP((ROW(K77)-4)&\"_\"&K$4,Schedule!$H:$I,2,FALSE),\"\"))))","v":""},{"$f":"IF($A77=\"\",\"\",IF(OR(L$3=\"Sat\",L$3=\"Sun\"),\"\",IF(COUNTIF(Holidays!$A:$A,L$4)>0,\"H\",IFERROR(VLOOKUP((ROW(L77)-4)&\"_\"&L$4,Schedule!$H:$I,2,FALSE),\"\"))))","v":""},{"$f":"IF($A77=\"\",\"\",IF(OR(M$3=\"Sat\",M$3=\"Sun\"),\"\",IF(COUNTIF(Holidays!$A:$A,M$4)>0,\"H\",IFERROR(VLOOKUP((ROW(M77)-4)&\"_\"&M$4,Schedule!$H:$I,2,FALSE),\"\"))))","v":""},{"$f":"IF($A77=\"\",\"\",IF(OR(N$3=\"Sat\",N$3=\"Sun\"),\"\",IF(COUNTIF(Holidays!$A:$A,N$4)>0,\"H\",IFERROR(VLOOKUP((ROW(N77)-4)&\"_\"&N$4,Schedule!$H:$I,2,FALSE),\"\"))))","v":""},{"$f":"IF($A77=\"\",\"\",IF(OR(O$3=\"Sat\",O$3=\"Sun\"),\"\",IF(COUNTIF(Holidays!$A:$A,O$4)>0,\"H\",IFERROR(VLOOKUP((ROW(O77)-4)&\"_\"&O$4,Schedule!$H:$I,2,FALSE),\"\"))))","v":""},{"$f":"IF($A77=\"\",\"\",IF(OR(P$3=\"Sat\",P$3=\"Sun\"),\"\",IF(COUNTIF(Holidays!$A:$A,P$4)>0,\"H\",IFERROR(VLOOKUP((ROW(P77)-4)&\"_\"&P$4,Schedule!$H:$I,2,FALSE),\"\"))))","v":""},{"$f":"IF($A77=\"\",\"\",IF(OR(Q$3=\"Sat\",Q$3=\"Sun\"),\"\",IF(COUNTIF(Holidays!$A:$A,Q$4)>0,\"H\",IFERROR(VLOOKUP((ROW(Q77)-4)&\"_\"&Q$4,Schedule!$H:$I,2,FALSE),\"\"))))","v":""},{"$f":"IF($A77=\"\",\"\",IF(OR(R$3=\"Sat\",R$3=\"Sun\"),\"\",IF(COUNTIF(Holidays!$A:$A,R$4)>0,\"H\",IFERROR(VLOOKUP((ROW(R77)-4)&\"_\"&R$4,Schedule!$H:$I,2,FALSE),\"\"))))","v":""},{"$f":"IF($A77=\"\",\"\",IF(OR(S$3=\"Sat\",S$3=\"Sun\"),\"\",IF(COUNTIF(Holidays!$A:$A,S$4)>0,\"H\",IFERROR(VLOOKUP((ROW(S77)-4)&\"_\"&S$4,Schedule!$H:$I,2,FALSE),\"\"))))","v":""},{"$f":"IF($A77=\"\",\"\",IF(OR(T$3=\"Sat\",T$3=\"Sun\"),\"\",IF(COUNTIF(Holidays!$A:$A,T$4)>0,\"H\",IFERROR(VLOOKUP((ROW(T77)-4)&\"_\"&T$4,Schedule!$H:$I,2,FALSE),\"\"))))","v":""},{"$f":"IF($A77=\"\",\"\",IF(OR(U$3=\"Sat\",U$3=\"Sun\"),\"\",IF(COUNTIF(Holidays!$A:$A,U$4)>0,\"H\",IFERROR(VLOOKUP((ROW(U77)-4)&\"_\"&U$4,Schedule!$H:$I,2,FALSE),\"\"))))","v":""},{"$f":"IF($A77=\"\",\"\",IF(OR(V$3=\"Sat\",V$3=\"Sun\"),\"\",IF(COUNTIF(Holidays!$A:$A,V$4)>0,\"H\",IFERROR(VLOOKUP((ROW(V77)-4)&\"_\"&V$4,Schedule!$H:$I,2,FALSE),\"\"))))","v":""},{"$f":"IF($A77=\"\",\"\",IF(OR(W$3=\"Sat\",W$3=\"Sun\"),\"\",IF(COUNTIF(Holidays!$A:$A,W$4)>0,\"H\",IFERROR(VLOOKUP((ROW(W77)-4)&\"_\"&W$4,Schedule!$H:$I,2,FALSE),\"\"))))","v":""},{"$f":"IF($A77=\"\",\"\",IF(OR(X$3=\"Sat\",X$3=\"Sun\"),\"\",IF(COUNTIF(Holidays!$A:$A,X$4)>0,\"H\",IFERROR(VLOOKUP((ROW(X77)-4)&\"_\"&X$4,Schedule!$H:$I,2,FALSE),\"\"))))","v":""},{"$f":"IF($A77=\"\",\"\",IF(OR(Y$3=\"Sat\",Y$3=\"Sun\"),\"\",IF(COUNTIF(Holidays!$A:$A,Y$4)>0,\"H\",IFERROR(VLOOKUP((ROW(Y77)-4)&\"_\"&Y$4,Schedule!$H:$I,2,FALSE),\"\"))))","v":""},{"$f":"IF($A77=\"\",\"\",IF(OR(Z$3=\"Sat\",Z$3=\"Sun\"),\"\",IF(COUNTIF(Holidays!$A:$A,Z$4)>0,\"H\",IFERROR(VLOOKUP((ROW(Z77)-4)&\"_\"&Z$4,Schedule!$H:$I,2,FALSE),\"\"))))","v":""},{"$f":"IF($A77=\"\",\"\",IF(OR(AA$3=\"Sat\",AA$3=\"Sun\"),\"\",IF(COUNTIF(Holidays!$A:$A,AA$4)>0,\"H\",IFERROR(VLOOKUP((ROW(AA77)-4)&\"_\"&AA$4,Schedule!$H:$I,2,FALSE),\"\"))))","v":""},{"$f":"IF($A77=\"\",\"\",IF(OR(AB$3=\"Sat\",AB$3=\"Sun\"),\"\",IF(COUNTIF(Holidays!$A:$A,AB$4)>0,\"H\",IFERROR(VLOOKUP((ROW(AB77)-4)&\"_\"&AB$4,Schedule!$H:$I,2,FALSE),\"\"))))","v":""},{"$f":"IF($A77=\"\",\"\",IF(OR(AC$3=\"Sat\",AC$3=\"Sun\"),\"\",IF(COUNTIF(Holidays!$A:$A,AC$4)>0,\"H\",IFERROR(VLOOKUP((ROW(AC77)-4)&\"_\"&AC$4,Schedule!$H:$I,2,FALSE),\"\"))))","v":""},{"$f":"IF($A77=\"\",\"\",IF(OR(AD$3=\"Sat\",AD$3=\"Sun\"),\"\",IF(COUNTIF(Holidays!$A:$A,AD$4)>0,\"H\",IFERROR(VLOOKUP((ROW(AD77)-4)&\"_\"&AD$4,Schedule!$H:$I,2,FALSE),\"\"))))","v":""},{"$f":"IF($A77=\"\",\"\",IF(OR(AE$3=\"Sat\",AE$3=\"Sun\"),\"\",IF(COUNTIF(Holidays!$A:$A,AE$4)>0,\"H\",IFERROR(VLOOKUP((ROW(AE77)-4)&\"_\"&AE$4,Schedule!$H:$I,2,FALSE),\"\"))))","v":""},{"$f":"IF($A77=\"\",\"\",IF(OR(AF$3=\"Sat\",AF$3=\"Sun\"),\"\",IF(COUNTIF(Holidays!$A:$A,AF$4)>0,\"H\",IFERROR(VLOOKUP((ROW(AF77)-4)&\"_\"&AF$4,Schedule!$H:$I,2,FALSE),\"\"))))","v":""},{"$f":"IF($A77=\"\",\"\",IF(OR(AG$3=\"Sat\",AG$3=\"Sun\"),\"\",IF(COUNTIF(Holidays!$A:$A,AG$4)>0,\"H\",IFERROR(VLOOKUP((ROW(AG77)-4)&\"_\"&AG$4,Schedule!$H:$I,2,FALSE),\"\"))))","v":""},{"$f":"IF($A77=\"\",\"\",IF(OR(AH$3=\"Sat\",AH$3=\"Sun\"),\"\",IF(COUNTIF(Holidays!$A:$A,AH$4)>0,\"H\",IFERROR(VLOOKUP((ROW(AH77)-4)&\"_\"&AH$4,Schedule!$H:$I,2,FALSE),\"\"))))","v":""},{"$f":"IF($A77=\"\",\"\",IF(OR(AI$3=\"Sat\",AI$3=\"Sun\"),\"\",IF(COUNTIF(Holidays!$A:$A,AI$4)>0,\"H\",IFERROR(VLOOKUP((ROW(AI77)-4)&\"_\"&AI$4,Schedule!$H:$I,2,FALSE),\"\"))))","v":""},{"$f":"IF($A77=\"\",\"\",IF(OR(AJ$3=\"Sat\",AJ$3=\"Sun\"),\"\",IF(COUNTIF(Holidays!$A:$A,AJ$4)>0,\"H\",IFERROR(VLOOKUP((ROW(AJ77)-4)&\"_\"&AJ$4,Schedule!$H:$I,2,FALSE),\"\"))))","v":""},{"$f":"IF($A77=\"\",\"\",ROUND(SUMIFS(Schedule!$E:$E,Schedule!$A:$A,$A77,Schedule!$D:$D,$AK$3,Schedule!$B:$B,\">=\"&DATE($Q$2,$U$2,1),Schedule!$B:$B,\"<=\"&EOMONTH(DATE($Q$2,$U$2,1),0))/8,2))","v":""},{"$f":"IF($A77=\"\",\"\",ROUND(SUMIFS(Schedule!$E:$E,Schedule!$A:$A,$A77,Schedule!$D:$D,$AK$3,Schedule!$B:$B,\">=\"&DATE($Q$2,1,1),Schedule!$B:$B,\"<=\"&EOMONTH(DATE($Q$2,$U$2,1),0))/8,2))","v":""},{"$f":"IF($A77=\"\",\"\",ROUND(SUMIFS(Schedule!$E:$E,Schedule!$A:$A,$A77,Schedule!$D:$D,$AM$3,Schedule!$B:$B,\">=\"&DATE($Q$2,$U$2,1),Schedule!$B:$B,\"<=\"&EOMONTH(DATE($Q$2,$U$2,1),0))/8,2))","v":""},{"$f":"IF($A77=\"\",\"\",ROUND(SUMIFS(Schedule!$E:$E,Schedule!$A:$A,$A77,Schedule!$D:$D,$AM$3,Schedule!$B:$B,\">=\"&DATE($Q$2,1,1),Schedule!$B:$B,\"<=\"&EOMONTH(DATE($Q$2,$U$2,1),0))/8,2))","v":""}]
[{"$f":"IF(Lookups!A75=\"\",\"\",Lookups!A75)","v":""},{"$f":"IF($A78=\"\",\"\",IF(OR(B$3=\"Sat\",B$3=\"Sun\"),\"\",IF(COUNTIF(Holidays!$A:$A,B$4)>0,\"H\",IFERROR(VLOOKUP((ROW(B78)-4)&\"_\"&B$4,Schedule!$H:$I,2,FALSE),\"\"))))","v":""},{"$f":"IF($A78=\"\",\"\",IF(OR(C$3=\"Sat\",C$3=\"Sun\"),\"\",IF(COUNTIF(Holidays!$A:$A,C$4)>0,\"H\",IFERROR(VLOOKUP((ROW(C78)-4)&\"_\"&C$4,Schedule!$H:$I,2,FALSE),\"\"))))","v":""},{"$f":"IF($A78=\"\",\"\",IF(OR(D$3=\"Sat\",D$3=\"Sun\"),\"\",IF(COUNTIF(Holidays!$A:$A,D$4)>0,\"H\",IFERROR(VLOOKUP((ROW(D78)-4)&\"_\"&D$4,Schedule!$H:$I,2,FALSE),\"\"))))","v":""},{"$f":"IF($A78=\"\",\"\",IF(OR(E$3=\"Sat\",E$3=\"Sun\"),\"\",IF(COUNTIF(Holidays!$A:$A,E$4)>0,\"H\",IFERROR(VLOOKUP((ROW(E78)-4)&\"_\"&E$4,Schedule!$H:$I,2,FALSE),\"\"))))","v":""},{"$f":"IF($A78=\"\",\"\",IF(OR(F$3=\"Sat\",F$3=\"Sun\"),\"\",IF(COUNTIF(Holidays!$A:$A,F$4)>0,\"H\",IFERROR(VLOOKUP((ROW(F78)-4)&\"_\"&F$4,Schedule!$H:$I,2,FALSE),\"\"))))","v":""},{"$f":"IF($A78=\"\",\"\",IF(OR(G$3=\"Sat\",G$3=\"Sun\"),\"\",IF(COUNTIF(Holidays!$A:$A,G$4)>0,\"H\",IFERROR(VLOOKUP((ROW(G78)-4)&\"_\"&G$4,Schedule!$H:$I,2,FALSE),\"\"))))","v":""},{"$f":"IF($A78=\"\",\"\",IF(OR(H$3=\"Sat\",H$3=\"Sun\"),\"\",IF(COUNTIF(Holidays!$A:$A,H$4)>0,\"H\",IFERROR(VLOOKUP((ROW(H78)-4)&\"_\"&H$4,Schedule!$H:$I,2,FALSE),\"\"))))","v":""},{"$f":"IF($A78=\"\",\"\",IF(OR(I$3=\"Sat\",I$3=\"Sun\"),\"\",IF(COUNTIF(Holidays!$A:$A,I$4)>0,\"H\",IFERROR(VLOOKUP((ROW(I78)-4)&\"_\"&I$4,Schedule!$H:$I,2,FALSE),\"\"))))","v":""},{"$f":"IF($A78=\"\",\"\",IF(OR(J$3=\"Sat\",J$3=\"Sun\"),\"\",IF(COUNTIF(Holidays!$A:$A,J$4)>0,\"H\",IFERROR(VLOOKUP((ROW(J78)-4)&\"_\"&J$4,Schedule!$H:$I,2,FALSE),\"\"))))","v":""},{"$f":"IF($A78=\"\",\"\",IF(OR(K$3=\"Sat\",K$3=\"Sun\"),\"\",IF(COUNTIF(Holidays!$A:$A,K$4)>0,\"H\",IFERROR(VLOOKUP((ROW(K78)-4)&\"_\"&K$4,Schedule!$H:$I,2,FALSE),\"\"))))","v":""},{"$f":"IF($A78=\"\",\"\",IF(OR(L$3=\"Sat\",L$3=\"Sun\"),\"\",IF(COUNTIF(Holidays!$A:$A,L$4)>0,\"H\",IFERROR(VLOOKUP((ROW(L78)-4)&\"_\"&L$4,Schedule!$H:$I,2,FALSE),\"\"))))","v":""},{"$f":"IF($A78=\"\",\"\",IF(OR(M$3=\"Sat\",M$3=\"Sun\"),\"\",IF(COUNTIF(Holidays!$A:$A,M$4)>0,\"H\",IFERROR(VLOOKUP((ROW(M78)-4)&\"_\"&M$4,Schedule!$H:$I,2,FALSE),\"\"))))","v":""},{"$f":"IF($A78=\"\",\"\",IF(OR(N$3=\"Sat\",N$3=\"Sun\"),\"\",IF(COUNTIF(Holidays!$A:$A,N$4)>0,\"H\",IFERROR(VLOOKUP((ROW(N78)-4)&\"_\"&N$4,Schedule!$H:$I,2,FALSE),\"\"))))","v":""},{"$f":"IF($A78=\"\",\"\",IF(OR(O$3=\"Sat\",O$3=\"Sun\"),\"\",IF(COUNTIF(Holidays!$A:$A,O$4)>0,\"H\",IFERROR(VLOOKUP((ROW(O78)-4)&\"_\"&O$4,Schedule!$H:$I,2,FALSE),\"\"))))","v":""},{"$f":"IF($A78=\"\",\"\",IF(OR(P$3=\"Sat\",P$3=\"Sun\"),\"\",IF(COUNTIF(Holidays!$A:$A,P$4)>0,\"H\",IFERROR(VLOOKUP((ROW(P78)-4)&\"_\"&P$4,Schedule!$H:$I,2,FALSE),\"\"))))","v":""},{"$f":"IF($A78=\"\",\"\",IF(OR(Q$3=\"Sat\",Q$3=\"Sun\"),\"\",IF(COUNTIF(Holidays!$A:$A,Q$4)>0,\"H\",IFERROR(VLOOKUP((ROW(Q78)-4)&\"_\"&Q$4,Schedule!$H:$I,2,FALSE),\"\"))))","v":""},{"$f":"IF($A78=\"\",\"\",IF(OR(R$3=\"Sat\",R$3=\"Sun\"),\"\",IF(COUNTIF(Holidays!$A:$A,R$4)>0,\"H\",IFERROR(VLOOKUP((ROW(R78)-4)&\"_\"&R$4,Schedule!$H:$I,2,FALSE),\"\"))))","v":""},{"$f":"IF($A78=\"\",\"\",IF(OR(S$3=\"Sat\",S$3=\"Sun\"),\"\",IF(COUNTIF(Holidays!$A:$A,S$4)>0,\"H\",IFERROR(VLOOKUP((ROW(S78)-4)&\"_\"&S$4,Schedule!$H:$I,2,FALSE),\"\"))))","v":""},{"$f":"IF($A78=\"\",\"\",IF(OR(T$3=\"Sat\",T$3=\"Sun\"),\"\",IF(COUNTIF(Holidays!$A:$A,T$4)>0,\"H\",IFERROR(VLOOKUP((ROW(T78)-4)&\"_\"&T$4,Schedule!$H:$I,2,FALSE),\"\"))))","v":""},{"$f":"IF($A78=\"\",\"\",IF(OR(U$3=\"Sat\",U$3=\"Sun\"),\"\",IF(COUNTIF(Holidays!$A:$A,U$4)>0,\"H\",IFERROR(VLOOKUP((ROW(U78)-4)&\"_\"&U$4,Schedule!$H:$I,2,FALSE),\"\"))))","v":""},{"$f":"IF($A78=\"\",\"\",IF(OR(V$3=\"Sat\",V$3=\"Sun\"),\"\",IF(COUNTIF(Holidays!$A:$A,V$4)>0,\"H\",IFERROR(VLOOKUP((ROW(V78)-4)&\"_\"&V$4,Schedule!$H:$I,2,FALSE),\"\"))))","v":""},{"$f":"IF($A78=\"\",\"\",IF(OR(W$3=\"Sat\",W$3=\"Sun\"),\"\",IF(COUNTIF(Holidays!$A:$A,W$4)>0,\"H\",IFERROR(VLOOKUP((ROW(W78)-4)&\"_\"&W$4,Schedule!$H:$I,2,FALSE),\"\"))))","v":""},{"$f":"IF($A78=\"\",\"\",IF(OR(X$3=\"Sat\",X$3=\"Sun\"),\"\",IF(COUNTIF(Holidays!$A:$A,X$4)>0,\"H\",IFERROR(VLOOKUP((ROW(X78)-4)&\"_\"&X$4,Schedule!$H:$I,2,FALSE),\"\"))))","v":""},{"$f":"IF($A78=\"\",\"\",IF(OR(Y$3=\"Sat\",Y$3=\"Sun\"),\"\",IF(COUNTIF(Holidays!$A:$A,Y$4)>0,\"H\",IFERROR(VLOOKUP((ROW(Y78)-4)&\"_\"&Y$4,Schedule!$H:$I,2,FALSE),\"\"))))","v":""},{"$f":"IF($A78=\"\",\"\",IF(OR(Z$3=\"Sat\",Z$3=\"Sun\"),\"\",IF(COUNTIF(Holidays!$A:$A,Z$4)>0,\"H\",IFERROR(VLOOKUP((ROW(Z78)-4)&\"_\"&Z$4,Schedule!$H:$I,2,FALSE),\"\"))))","v":""},{"$f":"IF($A78=\"\",\"\",IF(OR(AA$3=\"Sat\",AA$3=\"Sun\"),\"\",IF(COUNTIF(Holidays!$A:$A,AA$4)>0,\"H\",IFERROR(VLOOKUP((ROW(AA78)-4)&\"_\"&AA$4,Schedule!$H:$I,2,FALSE),\"\"))))","v":""},{"$f":"IF($A78=\"\",\"\",IF(OR(AB$3=\"Sat\",AB$3=\"Sun\"),\"\",IF(COUNTIF(Holidays!$A:$A,AB$4)>0,\"H\",IFERROR(VLOOKUP((ROW(AB78)-4)&\"_\"&AB$4,Schedule!$H:$I,2,FALSE),\"\"))))","v":""},{"$f":"IF($A78=\"\",\"\",IF(OR(AC$3=\"Sat\",AC$3=\"Sun\"),\"\",IF(COUNTIF(Holidays!$A:$A,AC$4)>0,\"H\",IFERROR(VLOOKUP((ROW(AC78)-4)&\"_\"&AC$4,Schedule!$H:$I,2,FALSE),\"\"))))","v":""},{"$f":"IF($A78=\"\",\"\",IF(OR(AD$3=\"Sat\",AD$3=\"Sun\"),\"\",IF(COUNTIF(Holidays!$A:$A,AD$4)>0,\"H\",IFERROR(VLOOKUP((ROW(AD78)-4)&\"_\"&AD$4,Schedule!$H:$I,2,FALSE),\"\"))))","v":""},{"$f":"IF($A78=\"\",\"\",IF(OR(AE$3=\"Sat\",AE$3=\"Sun\"),\"\",IF(COUNTIF(Holidays!$A:$A,AE$4)>0,\"H\",IFERROR(VLOOKUP((ROW(AE78)-4)&\"_\"&AE$4,Schedule!$H:$I,2,FALSE),\"\"))))","v":""},{"$f":"IF($A78=\"\",\"\",IF(OR(AF$3=\"Sat\",AF$3=\"Sun\"),\"\",IF(COUNTIF(Holidays!$A:$A,AF$4)>0,\"H\",IFERROR(VLOOKUP((ROW(AF78)-4)&\"_\"&AF$4,Schedule!$H:$I,2,FALSE),\"\"))))","v":""},{"$f":"IF($A78=\"\",\"\",IF(OR(AG$3=\"Sat\",AG$3=\"Sun\"),\"\",IF(COUNTIF(Holidays!$A:$A,AG$4)>0,\"H\",IFERROR(VLOOKUP((ROW(AG78)-4)&\"_\"&AG$4,Schedule!$H:$I,2,FALSE),\"\"))))","v":""},{"$f":"IF($A78=\"\",\"\",IF(OR(AH$3=\"Sat\",AH$3=\"Sun\"),\"\",IF(COUNTIF(Holidays!$A:$A,AH$4)>0,\"H\",IFERROR(VLOOKUP((ROW(AH78)-4)&\"_\"&AH$4,Schedule!$H:$I,2,FALSE),\"\"))))","v":""},{"$f":"IF($A78=\"\",\"\",IF(OR(AI$3=\"Sat\",AI$3=\"Sun\"),\"\",IF(COUNTIF(Holidays!$A:$A,AI$4)>0,\"H\",IFERROR(VLOOKUP((ROW(AI78)-4)&\"_\"&AI$4,Schedule!$H:$I,2,FALSE),\"\"))))","v":""},{"$f":"IF($A78=\"\",\"\",IF(OR(AJ$3=\"Sat\",AJ$3=\"Sun\"),\"\",IF(COUNTIF(Holidays!$A:$A,AJ$4)>0,\"H\",IFERROR(VLOOKUP((ROW(AJ78)-4)&\"_\"&AJ$4,Schedule!$H:$I,2,FALSE),\"\"))))","v":""},{"$f":"IF($A78=\"\",\"\",ROUND(SUMIFS(Schedule!$E:$E,Schedule!$A:$A,$A78,Schedule!$D:$D,$AK$3,Schedule!$B:$B,\">=\"&DATE($Q$2,$U$2,1),Schedule!$B:$B,\"<=\"&EOMONTH(DATE($Q$2,$U$2,1),0))/8,2))","v":""},{"$f":"IF($A78=\"\",\"\",ROUND(SUMIFS(Schedule!$E:$E,Schedule!$A:$A,$A78,Schedule!$D:$D,$AK$3,Schedule!$B:$B,\">=\"&DATE($Q$2,1,1),Schedule!$B:$B,\"<=\"&EOMONTH(DATE($Q$2,$U$2,1),0))/8,2))","v":""},{"$f":"IF($A78=\"\",\"\",ROUND(SUMIFS(Schedule!$E:$E,Schedule!$A:$A,$A78,Schedule!$D:$D,$AM$3,Schedule!$B:$B,\">=\"&DATE($Q$2,$U$2,1),Schedule!$B:$B,\"<=\"&EOMONTH(DATE($Q$2,$U$2,1),0))/8,2))","v":""},{"$f":"IF($A78=\"\",\"\",ROUND(SUMIFS(Schedule!$E:$E,Schedule!$A:$A,$A78,Schedule!$D:$D,$AM$3,Schedule!$B:$B,\">=\"&DATE($Q$2,1,1),Schedule!$B:$B,\"<=\"&EOMONTH(DATE($Q$2,$U$2,1),0))/8,2))","v":""}]
[{"$f":"IF(Lookups!A76=\"\",\"\",Lookups!A76)","v":""},{"$f":"IF($A79=\"\",\"\",IF(OR(B$3=\"Sat\",B$3=\"Sun\"),\"\",IF(COUNTIF(Holidays!$A:$A,B$4)>0,\"H\",IFERROR(VLOOKUP((ROW(B79)-4)&\"_\"&B$4,Schedule!$H:$I,2,FALSE),\"\"))))","v":""},{"$f":"IF($A79=\"\",\"\",IF(OR(C$3=\"Sat\",C$3=\"Sun\"),\"\",IF(COUNTIF(Holidays!$A:$A,C$4)>0,\"H\",IFERROR(VLOOKUP((ROW(C79)-4)&\"_\"&C$4,Schedule!$H:$I,2,FALSE),\"\"))))","v":""},{"$f":"IF($A79=\"\",\"\",IF(OR(D$3=\"Sat\",D$3=\"Sun\"),\"\",IF(COUNTIF(Holidays!$A:$A,D$4)>0,\"H\",IFERROR(VLOOKUP((ROW(D79)-4)&\"_\"&D$4,Schedule!$H:$I,2,FALSE),\"\"))))","v":""},{"$f":"IF($A79=\"\",\"\",IF(OR(E$3=\"Sat\",E$3=\"Sun\"),\"\",IF(COUNTIF(Holidays!$A:$A,E$4)>0,\"H\",IFERROR(VLOOKUP((ROW(E79)-4)&\"_\"&E$4,Schedule!$H:$I,2,FALSE),\"\"))))","v":""},{"$f":"IF($A79=\"\",\"\",IF(OR(F$3=\"Sat\",F$3=\"Sun\"),\"\",IF(COUNTIF(Holidays!$A:$A,F$4)>0,\"H\",IFERROR(VLOOKUP((ROW(F79)-4)&\"_\"&F$4,Schedule!$H:$I,2,FALSE),\"\"))))","v":""},{"$f":"IF($A79=\"\",\"\",IF(OR(G$3=\"Sat\",G$3=\"Sun\"),\"\",IF(COUNTIF(Holidays!$A:$A,G$4)>0,\"H\",IFERROR(VLOOKUP((ROW(G79)-4)&\"_\"&G$4,Schedule!$H:$I,2,FALSE),\"\"))))","v":""},{"$f":"IF($A79=\"\",\"\",IF(OR(H$3=\"Sat\",H$3=\"Sun\"),\"\",IF(COUNTIF(Holidays!$A:$A,H$4)>0,\"H\",IFERROR(VLOOKUP((ROW(H79)-4)&\"_\"&H$4,Schedule!$H:$I,2,FALSE),\"\"))))","v":""},{"$f":"IF($A79=\"\",\"\",IF(OR(I$3=\"Sat\",I$3=\"Sun\"),\"\",IF(COUNTIF(Holidays!$A:$A,I$4)>0,\"H\",IFERROR(VLOOKUP((ROW(I79)-4)&\"_\"&I$4,Schedule!$H:$I,2,FALSE),\"\"))))","v":""},{"$f":"IF($A79=\"\",\"\",IF(OR(J$3=\"Sat\",J$3=\"Sun\"),\"\",IF(COUNTIF(Holidays!$A:$A,J$4)>0,\"H\",IFERROR(VLOOKUP((ROW(J79)-4)&\"_\"&J$4,Schedule!$H:$I,2,FALSE),\"\"))))","v":""},{"$f":"IF($A79=\"\",\"\",IF(OR(K$3=\"Sat\",K$3=\"Sun\"),\"\",IF(COUNTIF(Holidays!$A:$A,K$4)>0,\"H\",IFERROR(VLOOKUP((ROW(K79)-4)&\"_\"&K$4,Schedule!$H:$I,2,FALSE),\"\"))))","v":""},{"$f":"IF($A79=\"\",\"\",IF(OR(L$3=\"Sat\",L$3=\"Sun\"),\"\",IF(COUNTIF(Holidays!$A:$A,L$4)>0,\"H\",IFERROR(VLOOKUP((ROW(L79)-4)&\"_\"&L$4,Schedule!$H:$I,2,FALSE),\"\"))))","v":""},{"$f":"IF($A79=\"\",\"\",IF(OR(M$3=\"Sat\",M$3=\"Sun\"),\"\",IF(COUNTIF(Holidays!$A:$A,M$4)>0,\"H\",IFERROR(VLOOKUP((ROW(M79)-4)&\"_\"&M$4,Schedule!$H:$I,2,FALSE),\"\"))))","v":""},{"$f":"IF($A79=\"\",\"\",IF(OR(N$3=\"Sat\",N$3=\"Sun\"),\"\",IF(COUNTIF(Holidays!$A:$A,N$4)>0,\"H\",IFERROR(VLOOKUP((ROW(N79)-4)&\"_\"&N$4,Schedule!$H:$I,2,FALSE),\"\"))))","v":""},{"$f":"IF($A79=\"\",\"\",IF(OR(O$3=\"Sat\",O$3=\"Sun\"),\"\",IF(COUNTIF(Holidays!$A:$A,O$4)>0,\"H\",IFERROR(VLOOKUP((ROW(O79)-4)&\"_\"&O$4,Schedule!$H:$I,2,FALSE),\"\"))))","v":""},{"$f":"IF($A79=\"\",\"\",IF(OR(P$3=\"Sat\",P$3=\"Sun\"),\"\",IF(COUNTIF(Holidays!$A:$A,P$4)>0,\"H\",IFERROR(VLOOKUP((ROW(P79)-4)&\"_\"&P$4,Schedule!$H:$I,2,FALSE),\"\"))))","v":""},{"$f":"IF($A79=\"\",\"\",IF(OR(Q$3=\"Sat\",Q$3=\"Sun\"),\"\",IF(COUNTIF(Holidays!$A:$A,Q$4)>0,\"H\",IFERROR(VLOOKUP((ROW(Q79)-4)&\"_\"&Q$4,Schedule!$H:$I,2,FALSE),\"\"))))","v":""},{"$f":"IF($A79=\"\",\"\",IF(OR(R$3=\"Sat\",R$3=\"Sun\"),\"\",IF(COUNTIF(Holidays!$A:$A,R$4)>0,\"H\",IFERROR(VLOOKUP((ROW(R79)-4)&\"_\"&R$4,Schedule!$H:$I,2,FALSE),\"\"))))","v":""},{"$f":"IF($A79=\"\",\"\",IF(OR(S$3=\"Sat\",S$3=\"Sun\"),\"\",IF(COUNTIF(Holidays!$A:$A,S$4)>0,\"H\",IFERROR(VLOOKUP((ROW(S79)-4)&\"_\"&S$4,Schedule!$H:$I,2,FALSE),\"\"))))","v":""},{"$f":"IF($A79=\"\",\"\",IF(OR(T$3=\"Sat\",T$3=\"Sun\"),\"\",IF(COUNTIF(Holidays!$A:$A,T$4)>0,\"H\",IFERROR(VLOOKUP((ROW(T79)-4)&\"_\"&T$4,Schedule!$H:$I,2,FALSE),\"\"))))","v":""},{"$f":"IF($A79=\"\",\"\",IF(OR(U$3=\"Sat\",U$3=\"Sun\"),\"\",IF(COUNTIF(Holidays!$A:$A,U$4)>0,\"H\",IFERROR(VLOOKUP((ROW(U79)-4)&\"_\"&U$4,Schedule!$H:$I,2,FALSE),\"\"))))","v":""},{"$f":"IF($A79=\"\",\"\",IF(OR(V$3=\"Sat\",V$3=\"Sun\"),\"\",IF(COUNTIF(Holidays!$A:$A,V$4)>0,\"H\",IFERROR(VLOOKUP((ROW(V79)-4)&\"_\"&V$4,Schedule!$H:$I,2,FALSE),\"\"))))","v":""},{"$f":"IF($A79=\"\",\"\",IF(OR(W$3=\"Sat\",W$3=\"Sun\"),\"\",IF(COUNTIF(Holidays!$A:$A,W$4)>0,\"H\",IFERROR(VLOOKUP((ROW(W79)-4)&\"_\"&W$4,Schedule!$H:$I,2,FALSE),\"\"))))","v":""},{"$f":"IF($A79=\"\",\"\",IF(OR(X$3=\"Sat\",X$3=\"Sun\"),\"\",IF(COUNTIF(Holidays!$A:$A,X$4)>0,\"H\",IFERROR(VLOOKUP((ROW(X79)-4)&\"_\"&X$4,Schedule!$H:$I,2,FALSE),\"\"))))","v":""},{"$f":"IF($A79=\"\",\"\",IF(OR(Y$3=\"Sat\",Y$3=\"Sun\"),\"\",IF(COUNTIF(Holidays!$A:$A,Y$4)>0,\"H\",IFERROR(VLOOKUP((ROW(Y79)-4)&\"_\"&Y$4,Schedule!$H:$I,2,FALSE),\"\"))))","v":""},{"$f":"IF($A79=\"\",\"\",IF(OR(Z$3=\"Sat\",Z$3=\"Sun\"),\"\",IF(COUNTIF(Holidays!$A:$A,Z$4)>0,\"H\",IFERROR(VLOOKUP((ROW(Z79)-4)&\"_\"&Z$4,Schedule!$H:$I,2,FALSE),\"\"))))","v":""},{"$f":"IF($A79=\"\",\"\",IF(OR(AA$3=\"Sat\",AA$3=\"Sun\"),\"\",IF(COUNTIF(Holidays!$A:$A,AA$4)>0,\"H\",IFERROR(VLOOKUP((ROW(AA79)-4)&\"_\"&AA$4,Schedule!$H:$I,2,FALSE),\"\"))))","v":""},{"$f":"IF($A79=\"\",\"\",IF(OR(AB$3=\"Sat\",AB$3=\"Sun\"),\"\",IF(COUNTIF(Holidays!$A:$A,AB$4)>0,\"H\",IFERROR(VLOOKUP((ROW(AB79)-4)&\"_\"&AB$4,Schedule!$H:$I,2,FALSE),\"\"))))","v":""},{"$f":"IF($A79=\"\",\"\",IF(OR(AC$3=\"Sat\",AC$3=\"Sun\"),\"\",IF(COUNTIF(Holidays!$A:$A,AC$4)>0,\"H\",IFERROR(VLOOKUP((ROW(AC79)-4)&\"_\"&AC$4,Schedule!$H:$I,2,FALSE),\"\"))))","v":""},{"$f":"IF($A79=\"\",\"\",IF(OR(AD$3=\"Sat\",AD$3=\"Sun\"),\"\",IF(COUNTIF(Holidays!$A:$A,AD$4)>0,\"H\",IFERROR(VLOOKUP((ROW(AD79)-4)&\"_\"&AD$4,Schedule!$H:$I,2,FALSE),\"\"))))","v":""},{"$f":"IF($A79=\"\",\"\",IF(OR(AE$3=\"Sat\",AE$3=\"Sun\"),\"\",IF(COUNTIF(Holidays!$A:$A,AE$4)>0,\"H\",IFERROR(VLOOKUP((ROW(AE79)-4)&\"_\"&AE$4,Schedule!$H:$I,2,FALSE),\"\"))))","v":""},{"$f":"IF($A79=\"\",\"\",IF(OR(AF$3=\"Sat\",AF$3=\"Sun\"),\"\",IF(COUNTIF(Holidays!$A:$A,AF$4)>0,\"H\",IFERROR(VLOOKUP((ROW(AF79)-4)&\"_\"&AF$4,Schedule!$H:$I,2,FALSE),\"\"))))","v":""},{"$f":"IF($A79=\"\",\"\",IF(OR(AG$3=\"Sat\",AG$3=\"Sun\"),\"\",IF(COUNTIF(Holidays!$A:$A,AG$4)>0,\"H\",IFERROR(VLOOKUP((ROW(AG79)-4)&\"_\"&AG$4,Schedule!$H:$I,2,FALSE),\"\"))))","v":""},{"$f":"IF($A79=\"\",\"\",IF(OR(AH$3=\"Sat\",AH$3=\"Sun\"),\"\",IF(COUNTIF(Holidays!$A:$A,AH$4)>0,\"H\",IFERROR(VLOOKUP((ROW(AH79)-4)&\"_\"&AH$4,Schedule!$H:$I,2,FALSE),\"\"))))","v":""},{"$f":"IF($A79=\"\",\"\",IF(OR(AI$3=\"Sat\",AI$3=\"Sun\"),\"\",IF(COUNTIF(Holidays!$A:$A,AI$4)>0,\"H\",IFERROR(VLOOKUP((ROW(AI79)-4)&\"_\"&AI$4,Schedule!$H:$I,2,FALSE),\"\"))))","v":""},{"$f":"IF($A79=\"\",\"\",IF(OR(AJ$3=\"Sat\",AJ$3=\"Sun\"),\"\",IF(COUNTIF(Holidays!$A:$A,AJ$4)>0,\"H\",IFERROR(VLOOKUP((ROW(AJ79)-4)&\"_\"&AJ$4,Schedule!$H:$I,2,FALSE),\"\"))))","v":""},{"$f":"IF($A79=\"\",\"\",ROUND(SUMIFS(Schedule!$E:$E,Schedule!$A:$A,$A79,Schedule!$D:$D,$AK$3,Schedule!$B:$B,\">=\"&DATE($Q$2,$U$2,1),Schedule!$B:$B,\"<=\"&EOMONTH(DATE($Q$2,$U$2,1),0))/8,2))","v":""},{"$f":"IF($A79=\"\",\"\",ROUND(SUMIFS(Schedule!$E:$E,Schedule!$A:$A,$A79,Schedule!$D:$D,$AK$3,Schedule!$B:$B,\">=\"&DATE($Q$2,1,1),Schedule!$B:$B,\"<=\"&EOMONTH(DATE($Q$2,$U$2,1),0))/8,2))","v":""},{"$f":"IF($A79=\"\",\"\",ROUND(SUMIFS(Schedule!$E:$E,Schedule!$A:$A,$A79,Schedule!$D:$D,$AM$3,Schedule!$B:$B,\">=\"&DATE($Q$2,$U$2,1),Schedule!$B:$B,\"<=\"&EOMONTH(DATE($Q$2,$U$2,1),0))/8,2))","v":""},{"$f":"IF($A79=\"\",\"\",ROUND(SUMIFS(Schedule!$E:$E,Schedule!$A:$A,$A79,Schedule!$D:$D,$AM$3,Schedule!$B:$B,\">=\"&DATE($Q$2,1,1),Schedule!$B:$B,\"<=\"&EOMONTH(DATE($Q$2,$U$2,1),0))/8,2))","v":""}]
[{"$f":"IF(Lookups!A77=\"\",\"\",Lookups!A77)","v":""},{"$f":"IF($A80=\"\",\"\",IF(OR(B$3=\"Sat\",B$3=\"Sun\"),\"\",IF(COUNTIF(Holidays!$A:$A,B$4)>0,\"H\",IFERROR(VLOOKUP((ROW(B80)-4)&\"_\"&B$4,Schedule!$H:$I,2,FALSE),\"\"))))","v":""},{"$f":"IF($A80=\"\",\"\",IF(OR(C$3=\"Sat\",C$3=\"Sun\"),\"\",IF(COUNTIF(Holidays!$A:$A,C$4)>0,\"H\",IFERROR(VLOOKUP((ROW(C80)-4)&\"_\"&C$4,Schedule!$H:$I,2,FALSE),\"\"))))","v":""},{"$f":"IF($A80=\"\",\"\",IF(OR(D$3=\"Sat\",D$3=\"Sun\"),\"\",IF(COUNTIF(Holidays!$A:$A,D$4)>0,\"H\",IFERROR(VLOOKUP((ROW(D80)-4)&\"_\"&D$4,Schedule!$H:$I,2,FALSE),\"\"))))","v":""},{"$f":"IF($A80=\"\",\"\",IF(OR(E$3=\"Sat\",E$3=\"Sun\"),\"\",IF(COUNTIF(Holidays!$A:$A,E$4)>0,\"H\",IFERROR(VLOOKUP((ROW(E80)-4)&\"_\"&E$4,Schedule!$H:$I,2,FALSE),\"\"))))","v":""},{"$f":"IF($A80=\"\",\"\",IF(OR(F$3=\"Sat\",F$3=\"Sun\"),\"\",IF(COUNTIF(Holidays!$A:$A,F$4)>0,\"H\",IFERROR(VLOOKUP((ROW(F80)-4)&\"_\"&F$4,Schedule!$H:$I,2,FALSE),\"\"))))","v":""},{"$f":"IF($A80=\"\",\"\",IF(OR(G$3=\"Sat\",G$3=\"Sun\"),\"\",IF(COUNTIF(Holidays!$A:$A,G$4)>0,\"H\",IFERROR(VLOOKUP((ROW(G80)-4)&\"_\"&G$4,Schedule!$H:$I,2,FALSE),\"\"))))","v":""},{"$f":"IF($A80=\"\",\"\",IF(OR(H$3=\"Sat\",H$3=\"Sun\"),\"\",IF(COUNTIF(Holidays!$A:$A,H$4)>0,\"H\",IFERROR(VLOOKUP((ROW(H80)-4)&\"_\"&H$4,Schedule!$H:$I,2,FALSE),\"\"))))","v":""},{"$f":"IF($A80=\"\",\"\",IF(OR(I$3=\"Sat\",I$3=\"Sun\"),\"\",IF(COUNTIF(Holidays!$A:$A,I$4)>0,\"H\",IFERROR(VLOOKUP((ROW(I80)-4)&\"_\"&I$4,Schedule!$H:$I,2,FALSE),\"\"))))","v":""},{"$f":"IF($A80=\"\",\"\",IF(OR(J$3=\"Sat\",J$3=\"Sun\"),\"\",IF(COUNTIF(Holidays!$A:$A,J$4)>0,\"H\",IFERROR(VLOOKUP((ROW(J80)-4)&\"_\"&J$4,Schedule!$H:$I,2,FALSE),\"\"))))","v":""},{"$f":"IF($A80=\"\",\"\",IF(OR(K$3=\"Sat\",K$3=\"Sun\"),\"\",IF(COUNTIF(Holidays!$A:$A,K$4)>0,\"H\",IFERROR(VLOOKUP((ROW(K80)-4)&\"_\"&K$4,Schedule!$H:$I,2,FALSE),\"\"))))","v":""},{"$f":"IF($A80=\"\",\"\",IF(OR(L$3=\"Sat\",L$3=\"Sun\"),\"\",IF(COUNTIF(Holidays!$A:$A,L$4)>0,\"H\",IFERROR(VLOOKUP((ROW(L80)-4)&\"_\"&L$4,Schedule!$H:$I,2,FALSE),\"\"))))","v":""},{"$f":"IF($A80=\"\",\"\",IF(OR(M$3=\"Sat\",M$3=\"Sun\"),\"\",IF(COUNTIF(Holidays!$A:$A,M$4)>0,\"H\",IFERROR(VLOOKUP((ROW(M80)-4)&\"_\"&M$4,Schedule!$H:$I,2,FALSE),\"\"))))","v":""},{"$f":"IF($A80=\"\",\"\",IF(OR(N$3=\"Sat\",N$3=\"Sun\"),\"\",IF(COUNTIF(Holidays!$A:$A,N$4)>0,\"H\",IFERROR(VLOOKUP((ROW(N80)-4)&\"_\"&N$4,Schedule!$H:$I,2,FALSE),\"\"))))","v":""},{"$f":"IF($A80=\"\",\"\",IF(OR(O$3=\"Sat\",O$3=\"Sun\"),\"\",IF(COUNTIF(Holidays!$A:$A,O$4)>0,\"H\",IFERROR(VLOOKUP((ROW(O80)-4)&\"_\"&O$4,Schedule!$H:$I,2,FALSE),\"\"))))","v":""},{"$f":"IF($A80=\"\",\"\",IF(OR(P$3=\"Sat\",P$3=\"Sun\"),\"\",IF(COUNTIF(Holidays!$A:$A,P$4)>0,\"H\",IFERROR(VLOOKUP((ROW(P80)-4)&\"_\"&P$4,Schedule!$H:$I,2,FALSE),\"\"))))","v":""},{"$f":"IF($A80=\"\",\"\",IF(OR(Q$3=\"Sat\",Q$3=\"Sun\"),\"\",IF(COUNTIF(Holidays!$A:$A,Q$4)>0,\"H\",IFERROR(VLOOKUP((ROW(Q80)-4)&\"_\"&Q$4,Schedule!$H:$I,2,FALSE),\"\"))))","v":""},{"$f":"IF($A80=\"\",\"\",IF(OR(R$3=\"Sat\",R$3=\"Sun\"),\"\",IF(COUNTIF(Holidays!$A:$A,R$4)>0,\"H\",IFERROR(VLOOKUP((ROW(R80)-4)&\"_\"&R$4,Schedule!$H:$I,2,FALSE),\"\"))))","v":""},{"$f":"IF($A80=\"\",\"\",IF(OR(S$3=\"Sat\",S$3=\"Sun\"),\"\",IF(COUNTIF(Holidays!$A:$A,S$4)>0,\"H\",IFERROR(VLOOKUP((ROW(S80)-4)&\"_\"&S$4,Schedule!$H:$I,2,FALSE),\"\"))))","v":""},{"$f":"IF($A80=\"\",\"\",IF(OR(T$3=\"Sat\",T$3=\"Sun\"),\"\",IF(COUNTIF(Holidays!$A:$A,T$4)>0,\"H\",IFERROR(VLOOKUP((ROW(T80)-4)&\"_\"&T$4,Schedule!$H:$I,2,FALSE),\"\"))))","v":""},{"$f":"IF($A80=\"\",\"\",IF(OR(U$3=\"Sat\",U$3=\"Sun\"),\"\",IF(COUNTIF(Holidays!$A:$A,U$4)>0,\"H\",IFERROR(VLOOKUP((ROW(U80)-4)&\"_\"&U$4,Schedule!$H:$I,2,FALSE),\"\"))))","v":""},{"$f":"IF($A80=\"\",\"\",IF(OR(V$3=\"Sat\",V$3=\"Sun\"),\"\",IF(COUNTIF(Holidays!$A:$A,V$4)>0,\"H\",IFERROR(VLOOKUP((ROW(V80)-4)&\"_\"&V$4,Schedule!$H:$I,2,FALSE),\"\"))))","v":""},{"$f":"IF($A80=\"\",\"\",IF(OR(W$3=\"Sat\",W$3=\"Sun\"),\"\",IF(COUNTIF(Holidays!$A:$A,W$4)>0,\"H\",IFERROR(VLOOKUP((ROW(W80)-4)&\"_\"&W$4,Schedule!$H:$I,2,FALSE),\"\"))))","v":""},{"$f":"IF($A80=\"\",\"\",IF(OR(X$3=\"Sat\",X$3=\"Sun\"),\"\",IF(COUNTIF(Holidays!$A:$A,X$4)>0,\"H\",IFERROR(VLOOKUP((ROW(X80)-4)&\"_\"&X$4,Schedule!$H:$I,2,FALSE),\"\"))))","v":""},{"$f":"IF($A80=\"\",\"\",IF(OR(Y$3=\"Sat\",Y$3=\"Sun\"),\"\",IF(COUNTIF(Holidays!$A:$A,Y$4)>0,\"H\",IFERROR(VLOOKUP((ROW(Y80)-4)&\"_\"&Y$4,Schedule!$H:$I,2,FALSE),\"\"))))","v":""},{"$f":"IF($A80=\"\",\"\",IF(OR(Z$3=\"Sat\",Z$3=\"Sun\"),\"\",IF(COUNTIF(Holidays!$A:$A,Z$4)>0,\"H\",IFERROR(VLOOKUP((ROW(Z80)-4)&\"_\"&Z$4,Schedule!$H:$I,2,FALSE),\"\"))))","v":""},{"$f":"IF($A80=\"\",\"\",IF(OR(AA$3=\"Sat\",AA$3=\"Sun\"),\"\",IF(COUNTIF(Holidays!$A:$A,AA$4)>0,\"H\",IFERROR(VLOOKUP((ROW(AA80)-4)&\"_\"&AA$4,Schedule!$H:$I,2,FALSE),\"\"))))","v":""},{"$f":"IF($A80=\"\",\"\",IF(OR(AB$3=\"Sat\",AB$3=\"Sun\"),\"\",IF(COUNTIF(Holidays!$A:$A,AB$4)>0,\"H\",IFERROR(VLOOKUP((ROW(AB80)-4)&\"_\"&AB$4,Schedule!$H:$I,2,FALSE),\"\"))))","v":""},{"$f":"IF($A80=\"\",\"\",IF(OR(AC$3=\"Sat\",AC$3=\"Sun\"),\"\",IF(COUNTIF(Holidays!$A:$A,AC$4)>0,\"H\",IFERROR(VLOOKUP((ROW(AC80)-4)&\"_\"&AC$4,Schedule!$H:$I,2,FALSE),\"\"))))","v":""},{"$f":"IF($A80=\"\",\"\",IF(OR(AD$3=\"Sat\",AD$3=\"Sun\"),\"\",IF(COUNTIF(Holidays!$A:$A,AD$4)>0,\"H\",IFERROR(VLOOKUP((ROW(AD80)-4)&\"_\"&AD$4,Schedule!$H:$I,2,FALSE),\"\"))))","v":""},{"$f":"IF($A80=\"\",\"\",IF(OR(AE$3=\"Sat\",AE$3=\"Sun\"),\"\",IF(COUNTIF(Holidays!$A:$A,AE$4)>0,\"H\",IFERROR(VLOOKUP((ROW(AE80)-4)&\"_\"&AE$4,Schedule!$H:$I,2,FALSE),\"\"))))","v":""},{"$f":"IF($A80=\"\",\"\",IF(OR(AF$3=\"Sat\",AF$3=\"Sun\"),\"\",IF(COUNTIF(Holidays!$A:$A,AF$4)>0,\"H\",IFERROR(VLOOKUP((ROW(AF80)-4)&\"_\"&AF$4,Schedule!$H:$I,2,FALSE),\"\"))))","v":""},{"$f":"IF($A80=\"\",\"\",IF(OR(AG$3=\"Sat\",AG$3=\"Sun\"),\"\",IF(COUNTIF(Holidays!$A:$A,AG$4)>0,\"H\",IFERROR(VLOOKUP((ROW(AG80)-4)&\"_\"&AG$4,Schedule!$H:$I,2,FALSE),\"\"))))","v":""},{"$f":"IF($A80=\"\",\"\",IF(OR(AH$3=\"Sat\",AH$3=\"Sun\"),\"\",IF(COUNTIF(Holidays!$A:$A,AH$4)>0,\"H\",IFERROR(VLOOKUP((ROW(AH80)-4)&\"_\"&AH$4,Schedule!$H:$I,2,FALSE),\"\"))))","v":""},{"$f":"IF($A80=\"\",\"\",IF(OR(AI$3=\"Sat\",AI$3=\"Sun\"),\"\",IF(COUNTIF(Holidays!$A:$A,AI$4)>0,\"H\",IFERROR(VLOOKUP((ROW(AI80)-4)&\"_\"&AI$4,Schedule!$H:$I,2,FALSE),\"\"))))","v":""},{"$f":"IF($A80=\"\",\"\",IF(OR(AJ$3=\"Sat\",AJ$3=\"Sun\"),\"\",IF(COUNTIF(Holidays!$A:$A,AJ$4)>0,\"H\",IFERROR(VLOOKUP((ROW(AJ80)-4)&\"_\"&AJ$4,Schedule!$H:$I,2,FALSE),\"\"))))","v":""},{"$f":"IF($A80=\"\",\"\",ROUND(SUMIFS(Schedule!$E:$E,Schedule!$A:$A,$A80,Schedule!$D:$D,$AK$3,Schedule!$B:$B,\">=\"&DATE($Q$2,$U$2,1),Schedule!$B:$B,\"<=\"&EOMONTH(DATE($Q$2,$U$2,1),0))/8,2))","v":""},{"$f":"IF($A80=\"\",\"\",ROUND(SUMIFS(Schedule!$E:$E,Schedule!$A:$A,$A80,Schedule!$D:$D,$AK$3,Schedule!$B:$B,\">=\"&DATE($Q$2,1,1),Schedule!$B:$B,\"<=\"&EOMONTH(DATE($Q$2,$U$2,1),0))/8,2))","v":""},{"$f":"IF($A80=\"\",\"\",ROUND(SUMIFS(Schedule!$E:$E,Schedule!$A:$A,$A80,Schedule!$D:$D,$AM$3,Schedule!$B:$B,\">=\"&DATE($Q$2,$U$2,1),Schedule!$B:$B,\"<=\"&EOMONTH(DATE($Q$2,$U$2,1),0))/8,2))","v":""},{"$f":"IF($A80=\"\",\"\",ROUND(SUMIFS(Schedule!$E:$E,Schedule!$A:$A,$A80,Schedule!$D:$D,$AM$3,Schedule!$B:$B,\">=\"&DATE($Q$2,1,1),Schedule!$B:$B,\"<=\"&EOMONTH(DATE($Q$2,$U$2,1),0))/8,2))","v":""}]

{"sheet":"Holidays","index":3,"n_rows":1000,"n_cols":3,"rows_kept":1000,"cut":false,"hidden":false,"merged":[]}
["Date","Holiday","Day"]
["2017-01-01","New Year's Day",{"$f":"IF(A2=\"\",\"\",TEXT(WEEKDAY(A2),\"aaaa\"))","v":"Sunday"}]
["2017-04-14","Good Friday",{"$f":"IF(A3=\"\",\"\",TEXT(WEEKDAY(A3),\"aaaa\"))","v":"Friday"}]
["2017-05-29","Memorial Day","Monday"]
["2017-07-04","Independence Day","Tuesday"]
["2017-09-04","Labor Day","Monday"]
["2017-11-23","Thanksgiving 1","Thursday"]
["2017-11-24","Thanksgiving 2","Friday"]
["2017-12-22","Christmas Eve","Friday"]
["2017-12-25","Christmas","Monday"]
["2018-01-01","New Year's Day","Monday"]
[null,null,""]
[null,null,""]
[null,null,""]
[null,null,""]
[null,null,""]
[null,null,""]
[null,null,""]
[null,null,""]
[null,null,""]
[null,null,""]
[null,null,""]
[null,null,""]
[null,null,""]
[null,null,""]
[null,null,""]
[null,null,""]
[null,null,""]
[null,null,""]
[null,null,""]
[null,null,""]
[null,null,""]
[null,null,""]
[null,null,""]
[null,null,""]
[null,null,""]
[null,null,""]
[null,null,""]
[null,null,""]
[null,null,""]
[null,null,""]
[null,null,""]
[null,null,""]
[null,null,""]
[null,null,""]
[null,null,""]
[null,null,""]
[null,null,""]
[null,null,""]
[null,null,""]
[null,null,""]
[null,null,""]
[null,null,""]
[null,null,""]
[null,null,""]
[null,null,""]
[null,null,""]
[null,null,""]
[null,null,""]
[null,null,""]
[null,null,""]
[null,null,""]
[null,null,""]
[null,null,""]
[null,null,""]
[null,null,""]
[null,null,{"$f":"IF(A67=\"\",\"\",TEXT(WEEKDAY(A67),\"aaaa\"))","v":""}]
[null,null,""]
[null,null,""]
[null,null,""]
[null,null,""]
[null,null,""]
[null,null,""]
[null,null,""]
[null,null,""]
[null,null,""]
[null,null,""]
[null,null,""]
[null,null,""]
[null,null,""]
[null,null,""]
[null,null,""]
[null,null,""]
[null,null,""]
[null,null,""]
[null,null,""]
[null,null,""]
[null,null,""]
[null,null,""]
[null,null,""]
[null,null,""]
[null,null,""]
[null,null,""]
[null,null,""]
[null,null,""]
[null,null,""]
[null,null,""]
[null,null,""]
[null,null,""]
[null,null,""]
[null,null,""]
[null,null,""]
[null,null,""]
[null,null,""]
[null,null,""]
[null,null,""]
[null,null,""]
[null,null,""]
[null,null,""]
[null,null,""]
[null,null,""]
[null,null,""]
[null,null,""]
[null,null,""]
[null,null,""]
[null,null,""]
[null,null,""]
[null,null,""]
[null,null,""]
[null,null,""]
[null,null,""]
[null,null,""]
[null,null,""]
[null,null,""]
[null,null,""]
[null,null,""]
[null,null,""]
[null,null,""]
[null,null,""]
[null,null,""]
[null,null,{"$f":"IF(A131=\"\",\"\",TEXT(WEEKDAY(A131),\"aaaa\"))","v":""}]
[null,null,""]
[null,null,""]
[null,null,""]
[null,null,""]
[null,null,""]
[null,null,""]
[null,null,""]
[null,null,""]
[null,null,""]
[null,null,""]
[null,null,""]
[null,null,""]
[null,null,""]
[null,null,""]
[null,null,""]
[null,null,""]
[null,null,""]
[null,null,""]
[null,null,""]
[null,null,""]
[null,null,""]
[null,null,""]
[null,null,""]
[null,null,""]
[null,null,""]
[null,null,""]
[null,null,""]
[null,null,""]
[null,null,""]
[null,null,""]
[null,null,""]
[null,null,""]
[null,null,""]
[null,null,""]
[null,null,""]
[null,null,""]
[null,null,""]
[null,null,""]
[null,null,""]
[null,null,""]
[null,null,""]
[null,null,""]
[null,null,""]
[null,null,""]
[null,null,""]
[null,null,""]
[null,null,""]
[null,null,""]
[null,null,""]
[null,null,""]
[null,null,""]
[null,null,""]
[null,null,""]
[null,null,""]
[null,null,""]
[null,null,""]
[null,null,""]
[null,null,""]
[null,null,""]
[null,null,""]
[null,null,""]
[null,null,""]
[null,null,""]
[null,null,{"$f":"IF(A195=\"\",\"\",TEXT(WEEKDAY(A195),\"aaaa\"))","v":""}]
[null,null,""]
[null,null,""]
[null,null,""]
[null,null,""]
[null,null,""]
[null,null,""]
[null,null,""]
[null,null,""]
[null,null,""]
[null,null,""]
[null,null,""]
[null,null,""]
[null,null,""]
[null,null,""]
[null,null,""]
[null,null,""]
[null,null,""]
[null,null,""]
[null,null,""]
[null,null,""]
[null,null,""]
[null,null,""]
[null,null,""]
[null,null,""]
[null,null,""]
[null,null,""]
[null,null,""]
[null,null,""]
[null,null,""]
[null,null,""]
[null,null,""]
[null,null,""]
[null,null,""]
[null,null,""]
[null,null,""]
[null,null,""]
[null,null,""]
[null,null,""]
[null,null,""]
[null,null,""]
[null,null,""]
[null,null,""]
[null,null,""]
[null,null,""]
[null,null,""]
[null,null,""]
[null,null,""]
[null,null,""]
[null,null,""]
[null,null,""]
[null,null,""]
[null,null,""]
[null,null,""]
[null,null,""]
[null,null,""]
[null,null,""]
[null,null,""]
[null,null,""]
[null,null,""]
[null,null,""]
[null,null,""]
[null,null,""]
[null,null,""]
[null,null,{"$f":"IF(A259=\"\",\"\",TEXT(WEEKDAY(A259),\"aaaa\"))","v":""}]
[null,null,""]
[null,null,""]
[null,null,""]
[null,null,""]
[null,null,""]
[null,null,""]
[null,null,""]
[null,null,""]
[null,null,""]
[null,null,""]
[null,null,""]
[null,null,""]
[null,null,""]
[null,null,""]
[null,null,""]
[null,null,""]
[null,null,""]
[null,null,""]
[null,null,""]
[null,null,""]
[null,null,""]
[null,null,""]
[null,null,""]
[null,null,""]
[null,null,""]
[null,null,""]
[null,null,""]
[null,null,""]
[null,null,""]
[null,null,""]
[null,null,""]
[null,null,""]
[null,null,""]
[null,null,""]
[null,null,""]
[null,null,""]
[null,null,""]
[null,null,""]
[null,null,""]
[null,null,""]
[null,null,""]
[null,null,""]
[null,null,""]
[null,null,""]
[null,null,""]
[null,null,""]
[null,null,""]
[null,null,""]
[null,null,""]
[null,null,""]
[null,null,""]
[null,null,""]
[null,null,""]
[null,null,""]
[null,null,""]
[null,null,""]
[null,null,""]
[null,null,""]
[null,null,""]
[null,null,""]
[null,null,""]
[null,null,""]
[null,null,""]
[null,null,{"$f":"IF(A323=\"\",\"\",TEXT(WEEKDAY(A323),\"aaaa\"))","v":""}]
[null,null,""]
[null,null,""]
[null,null,""]
[null,null,""]
[null,null,""]
[null,null,""]
[null,null,""]
[null,null,""]
[null,null,""]
[null,null,""]
[null,null,""]
[null,null,""]
[null,null,""]
[null,null,""]
[null,null,""]
[null,null,""]
[null,null,""]
[null,null,""]
[null,null,""]
[null,null,""]
[null,null,""]
[null,null,""]
[null,null,""]
[null,null,""]
[null,null,""]
[null,null,""]
[null,null,""]
[null,null,""]
[null,null,""]
[null,null,""]
[null,null,""]
[null,null,""]
[null,null,""]
[null,null,""]
[null,null,""]
[null,null,""]
[null,null,""]
[null,null,""]
[null,null,""]
[null,null,""]
[null,null,""]
[null,null,""]
[null,null,""]
[null,null,""]
[null,null,""]
[null,null,""]
[null,null,""]
[null,null,""]
[null,null,""]
[null,null,""]
[null,null,""]
[null,null,""]
[null,null,""]
[null,null,""]
[null,null,""]
[null,null,""]
[null,null,""]
[null,null,""]
[null,null,""]
[null,null,""]
[null,null,""]
[null,null,""]
[null,null,""]
[null,null,{"$f":"IF(A387=\"\",\"\",TEXT(WEEKDAY(A387),\"aaaa\"))","v":""}]
[null,null,""]
[null,null,""]
[null,null,""]
[null,null,""]
[null,null,""]
[null,null,""]
[null,null,""]
[null,null,""]
[null,null,""]
[null,null,""]
[null,null,""]
[null,null,""]
[null,null,""]
[null,null,""]
[null,null,""]
[null,null,""]
[null,null,""]
[null,null,""]
[null,null,""]
[null,null,""]
[null,null,""]
[null,null,""]
[null,null,""]
[null,null,""]
[null,null,""]
[null,null,""]
[null,null,""]
[null,null,""]
[null,null,""]
[null,null,""]
[null,null,""]
[null,null,""]
[null,null,""]
[null,null,""]
[null,null,""]
[null,null,""]
[null,null,""]
[null,null,""]
[null,null,""]
[null,null,""]
[null,null,""]
[null,null,""]
[null,null,""]
[null,null,""]
[null,null,""]
[null,null,""]
[null,null,""]
[null,null,""]
[null,null,""]
[null,null,""]
[null,null,""]
[null,null,""]
[null,null,""]
[null,null,""]
[null,null,""]
[null,null,""]
[null,null,""]
[null,null,""]
[null,null,""]
[null,null,""]
[null,null,""]
[null,null,""]
[null,null,""]
[null,null,{"$f":"IF(A451=\"\",\"\",TEXT(WEEKDAY(A451),\"aaaa\"))","v":""}]
[null,null,""]
[null,null,""]
[null,null,""]
[null,null,""]
[null,null,""]
[null,null,""]
[null,null,""]
[null,null,""]
[null,null,""]
[null,null,""]
[null,null,""]
[null,null,""]
[null,null,""]
[null,null,""]
[null,null,""]
[null,null,""]
[null,null,""]
[null,null,""]
[null,null,""]
[null,null,""]
[null,null,""]
[null,null,""]
[null,null,""]
[null,null,""]
[null,null,""]
[null,null,""]
[null,null,""]
[null,null,""]
[null,null,""]
[null,null,""]
[null,null,""]
[null,null,""]
[null,null,""]
[null,null,""]
[null,null,""]
[null,null,""]
[null,null,""]
[null,null,""]
[null,null,""]
[null,null,""]
[null,null,""]
[null,null,""]
[null,null,""]
[null,null,""]
[null,null,""]
[null,null,""]
[null,null,""]
[null,null,""]
[null,null,""]
[null,null,""]
[null,null,""]
[null,null,""]
[null,null,""]
[null,null,""]
[null,null,""]
[null,null,""]
[null,null,""]
[null,null,""]
[null,null,""]
[null,null,""]
[null,null,""]
[null,null,""]
[null,null,""]
[null,null,{"$f":"IF(A515=\"\",\"\",TEXT(WEEKDAY(A515),\"aaaa\"))","v":""}]
[null,null,""]
[null,null,""]
[null,null,""]
[null,null,""]
[null,null,""]
[null,null,""]
[null,null,""]
[null,null,""]
[null,null,""]
[null,null,""]
[null,null,""]
[null,null,""]
[null,null,""]
[null,null,""]
[null,null,""]
[null,null,""]
[null,null,""]
[null,null,""]
[null,null,""]
[null,null,""]
[null,null,""]
[null,null,""]
[null,null,""]
[null,null,""]
[null,null,""]
[null,null,""]
[null,null,""]
[null,null,""]
[null,null,""]
[null,null,""]
[null,null,""]
[null,null,""]
[null,null,""]
[null,null,""]
[null,null,""]
[null,null,""]
[null,null,""]
[null,null,""]
[null,null,""]
[null,null,""]
[null,null,""]
[null,null,""]
[null,null,""]
[null,null,""]
[null,null,""]
[null,null,""]
[null,null,""]
[null,null,""]
[null,null,""]
[null,null,""]
[null,null,""]
[null,null,""]
[null,null,""]
[null,null,""]
[null,null,""]
[null,null,""]
[null,null,""]
[null,null,""]
[null,null,""]
[null,null,""]
[null,null,""]
[null,null,""]
[null,null,""]
[null,null,{"$f":"IF(A579=\"\",\"\",TEXT(WEEKDAY(A579),\"aaaa\"))","v":""}]
[null,null,""]
[null,null,""]
[null,null,""]
[null,null,""]
[null,null,""]
[null,null,""]
[null,null,""]
[null,null,""]
[null,null,""]
[null,null,""]
[null,null,""]
[null,null,""]
[null,null,""]
[null,null,""]
[null,null,""]
[null,null,""]
[null,null,""]
[null,null,""]
[null,null,""]
[null,null,""]
[null,null,""]
[null,null,""]
[null,null,""]
[null,null,""]
[null,null,""]
[null,null,""]
[null,null,""]
[null,null,""]
[null,null,""]
[null,null,""]
[null,null,""]
[null,null,""]
[null,null,""]
[null,null,""]
[null,null,""]
[null,null,""]
[null,null,""]
[null,null,""]
[null,null,""]
[null,null,""]
[null,null,""]
[null,null,""]
[null,null,""]
[null,null,""]
[null,null,""]
[null,null,""]
[null,null,""]
[null,null,""]
[null,null,""]
[null,null,""]
[null,null,""]
[null,null,""]
[null,null,""]
[null,null,""]
[null,null,""]
[null,null,""]
[null,null,""]
[null,null,""]
[null,null,""]
[null,null,""]
[null,null,""]
[null,null,""]
[null,null,""]
[null,null,{"$f":"IF(A643=\"\",\"\",TEXT(WEEKDAY(A643),\"aaaa\"))","v":""}]
[null,null,""]
[null,null,""]
[null,null,""]
[null,null,""]
[null,null,""]
[null,null,""]
[null,null,""]
[null,null,""]
[null,null,""]
[null,null,""]
[null,null,""]
[null,null,""]
[null,null,""]
[null,null,""]
[null,null,""]
[null,null,""]
[null,null,""]
[null,null,""]
[null,null,""]
[null,null,""]
[null,null,""]
[null,null,""]
[null,null,""]
[null,null,""]
[null,null,""]
[null,null,""]
[null,null,""]
[null,null,""]
[null,null,""]
[null,null,""]
[null,null,""]
[null,null,""]
[null,null,""]
[null,null,""]
[null,null,""]
[null,null,""]
[null,null,""]
[null,null,""]
[null,null,""]
[null,null,""]
[null,null,""]
[null,null,""]
[null,null,""]
[null,null,""]
[null,null,""]
[null,null,""]
[null,null,""]
[null,null,""]
[null,null,""]
[null,null,""]
[null,null,""]
[null,null,""]
[null,null,""]
[null,null,""]
[null,null,""]
[null,null,""]
[null,null,""]
[null,null,""]
[null,null,""]
[null,null,""]
[null,null,""]
[null,null,""]
[null,null,""]
[null,null,{"$f":"IF(A707=\"\",\"\",TEXT(WEEKDAY(A707),\"aaaa\"))","v":""}]
[null,null,""]
[null,null,""]
[null,null,""]
[null,null,""]
[null,null,""]
[null,null,""]
[null,null,""]
[null,null,""]
[null,null,""]
[null,null,""]
[null,null,""]
[null,null,""]
[null,null,""]
[null,null,""]
[null,null,""]
[null,null,""]
[null,null,""]
[null,null,""]
[null,null,""]
[null,null,""]
[null,null,""]
[null,null,""]
[null,null,""]
[null,null,""]
[null,null,""]
[null,null,""]
[null,null,""]
[null,null,""]
[null,null,""]
[null,null,""]
[null,null,""]
[null,null,""]
[null,null,""]
[null,null,""]
[null,null,""]
[null,null,""]
[null,null,""]
[null,null,""]
[null,null,""]
[null,null,""]
[null,null,""]
[null,null,""]
[null,null,""]
[null,null,""]
[null,null,""]
[null,null,""]
[null,null,""]
[null,null,""]
[null,null,""]
[null,null,""]
[null,null,""]
[null,null,""]
[null,null,""]
[null,null,""]
[null,null,""]
[null,null,""]
[null,null,""]
[null,null,""]
[null,null,""]
[null,null,""]
[null,null,""]
[null,null,""]
[null,null,""]
[null,null,{"$f":"IF(A771=\"\",\"\",TEXT(WEEKDAY(A771),\"aaaa\"))","v":""}]
[null,null,""]
[null,null,""]
[null,null,""]
[null,null,""]
[null,null,""]
[null,null,""]
[null,null,""]
[null,null,""]
[null,null,""]
[null,null,""]
[null,null,""]
[null,null,""]
[null,null,""]
[null,null,""]
[null,null,""]
[null,null,""]
[null,null,""]
[null,null,""]
[null,null,""]
[null,null,""]
[null,null,""]
[null,null,""]
[null,null,""]
[null,null,""]
[null,null,""]
[null,null,""]
[null,null,""]
[null,null,""]
[null,null,""]
[null,null,""]
[null,null,""]
[null,null,""]
[null,null,""]
[null,null,""]
[null,null,""]
[null,null,""]
[null,null,""]
[null,null,""]
[null,null,""]
[null,null,""]
[null,null,""]
[null,null,""]
[null,null,""]
[null,null,""]
[null,null,""]
[null,null,""]
[null,null,""]
[null,null,""]
[null,null,""]
[null,null,""]
[null,null,""]
[null,null,""]
[null,null,""]
[null,null,""]
[null,null,""]
[null,null,""]
[null,null,""]
[null,null,""]
[null,null,""]
[null,null,""]
[null,null,""]
[null,null,""]
[null,null,""]
[null,null,{"$f":"IF(A835=\"\",\"\",TEXT(WEEKDAY(A835),\"aaaa\"))","v":""}]
[null,null,""]
[null,null,""]
[null,null,""]
[null,null,""]
[null,null,""]
[null,null,""]
[null,null,""]
[null,null,""]
[null,null,""]
[null,null,""]
[null,null,""]
[null,null,""]
[null,null,""]
[null,null,""]
[null,null,""]
[null,null,""]
[null,null,""]
[null,null,""]
[null,null,""]
[null,null,""]
[null,null,""]
[null,null,""]
[null,null,""]
[null,null,""]
[null,null,""]
[null,null,""]
[null,null,""]
[null,null,""]
[null,null,""]
[null,null,""]
[null,null,""]
[null,null,""]
[null,null,""]
[null,null,""]
[null,null,""]
[null,null,""]
[null,null,""]
[null,null,""]
[null,null,""]
[null,null,""]
[null,null,""]
[null,null,""]
[null,null,""]
[null,null,""]
[null,null,""]
[null,null,""]
[null,null,""]
[null,null,""]
[null,null,""]
[null,null,""]
[null,null,""]
[null,null,""]
[null,null,""]
[null,null,""]
[null,null,""]
[null,null,""]
[null,null,""]
[null,null,""]
[null,null,""]
[null,null,""]
[null,null,""]
[null,null,""]
[null,null,""]
[null,null,{"$f":"IF(A899=\"\",\"\",TEXT(WEEKDAY(A899),\"aaaa\"))","v":""}]
[null,null,""]
[null,null,""]
[null,null,""]
[null,null,""]
[null,null,""]
[null,null,""]
[null,null,""]
[null,null,""]
[null,null,""]
[null,null,""]
[null,null,""]
[null,null,""]
[null,null,""]
[null,null,""]
[null,null,""]
[null,null,""]
[null,null,""]
[null,null,""]
[null,null,""]
[null,null,""]
[null,null,""]
[null,null,""]
[null,null,""]
[null,null,""]
[null,null,""]
[null,null,""]
[null,null,""]
[null,null,""]
[null,null,""]
[null,null,""]
[null,null,""]
[null,null,""]
[null,null,""]
[null,null,""]
[null,null,""]
[null,null,""]
[null,null,""]
[null,null,""]
[null,null,""]
[null,null,""]
[null,null,""]
[null,null,""]
[null,null,""]
[null,null,""]
[null,null,""]
[null,null,""]
[null,null,""]
[null,null,""]
[null,null,""]
[null,null,""]
[null,null,""]
[null,null,""]
[null,null,""]
[null,null,""]
[null,null,""]
[null,null,""]
[null,null,""]
[null,null,""]
[null,null,""]
[null,null,""]
[null,null,""]
[null,null,""]
[null,null,""]
[null,null,{"$f":"IF(A963=\"\",\"\",TEXT(WEEKDAY(A963),\"aaaa\"))","v":""}]
[null,null,""]
[null,null,""]
[null,null,""]
[null,null,""]
[null,null,""]
[null,null,""]
[null,null,""]
[null,null,""]
[null,null,""]
[null,null,""]
[null,null,""]
[null,null,""]
[null,null,""]
[null,null,""]
[null,null,""]
[null,null,""]
[null,null,""]
[null,null,""]
[null,null,""]
[null,null,""]
[null,null,""]
[null,null,""]
[null,null,""]
[null,null,""]
[null,null,""]
[null,null,""]
[null,null,""]
[null,null,""]
[null,null,""]
[null,null,""]
[null,null,""]
[null,null,""]
[null,null,""]
[null,null,""]
[null,null,""]
[null,null,""]
[null,null,""]

{"sheet":"Lookups","index":4,"n_rows":250,"n_cols":12,"rows_kept":250,"cut":false,"hidden":false,"merged":[]}
["Employee Name","E#","Employee Name (formula)",null,"Type","Code",null,"Type (formula)","Code (formula)",null,"Months","M#"]
["Bob Baker",{"$f":"IF(A2=\"\",\"\",1)","v":1},{"$f":"VLOOKUP(A2,$A$2:$A$250,1,FALSE)","v":"Bob Baker"},null,"Vacation","V",null,{"$f":"VLOOKUP(E2,$E$2:$E$22,1,FALSE)","v":"Vacation"},{"$f":"VLOOKUP(F2,$F$2:$F$22,1,FALSE)","v":"V"},null,"January",1]
["Tim Thompson",{"$f":"IF(A3=\"\",\"\",B2+1)","v":2},{"$f":"VLOOKUP(A3,$A$2:$A$250,1,FALSE)","v":"Tim Thompson"},null,"Personal day","P",null,{"$f":"VLOOKUP(E3,$E$2:$E$22,1,FALSE)","v":"Personal day"},{"$f":"VLOOKUP(F3,$F$2:$F$22,1,FALSE)","v":"P"},null,"February",{"$f":"+L2+1","v":2}]
["Jim Jones",{"$f":"IF(A4=\"\",\"\",B3+1)","v":3},"Jim Jones",null,"CPE","C",null,"CPE","C",null,"March",{"$f":"+L3+1","v":3}]
["Steve Smith",4,"Steve Smith",null,"Doctor","D",null,"Doctor","D",null,"April",4]
[null,"",{"$error":"#N/A"},null,"Offsite","O",null,"Offsite","O",null,"May",5]
[null,"",{"$error":"#N/A"},null,"Working at home","W",null,"Working at home","W",null,"June",6]
[null,"",{"$error":"#N/A"},null,"Sick","S",null,"Sick","S",null,"July",7]
[null,"",{"$error":"#N/A"},null,"Holiday","H",null,"Holiday","H",null,"August",8]
[null,"",{"$error":"#N/A"},null,null,null,null,{"$error":"#N/A"},{"$error":"#N/A"},null,"September",9]
[null,"",{"$error":"#N/A"},null,null,null,null,{"$error":"#N/A"},{"$error":"#N/A"},null,"October",10]
[null,"",{"$error":"#N/A"},null,null,null,null,{"$error":"#N/A"},{"$error":"#N/A"},null,"November",11]
[null,"",{"$error":"#N/A"},null,null,null,null,{"$error":"#N/A"},{"$error":"#N/A"},null,"December",12]
[null,"",{"$error":"#N/A"},null,null,null,null,{"$error":"#N/A"},{"$error":"#N/A"}]
[null,"",{"$error":"#N/A"},null,null,null,null,{"$error":"#N/A"},{"$error":"#N/A"}]
[null,"",{"$error":"#N/A"},null,null,null,null,{"$error":"#N/A"},{"$error":"#N/A"}]
[null,"",{"$error":"#N/A"},null,null,null,null,{"$error":"#N/A"},{"$error":"#N/A"}]
[null,"",{"$error":"#N/A"},null,null,null,null,{"$error":"#N/A"},{"$error":"#N/A"}]
[null,"",{"$error":"#N/A"},null,null,null,null,{"$error":"#N/A"},{"$error":"#N/A"}]
[null,"",{"$error":"#N/A"},null,null,null,null,{"$error":"#N/A"},{"$error":"#N/A"}]
[null,"",{"$error":"#N/A"},null,null,null,null,{"$error":"#N/A"},{"$error":"#N/A"}]
[null,"",{"$error":"#N/A"}]
[null,"",{"$error":"#N/A"}]
[null,"",{"$error":"#N/A"}]
[null,"",{"$error":"#N/A"}]
[null,"",{"$error":"#N/A"}]
[null,"",{"$error":"#N/A"}]
[null,"",{"$error":"#N/A"}]
[null,"",{"$error":"#N/A"}]
[null,"",{"$error":"#N/A"}]
[null,"",{"$error":"#N/A"}]
[null,"",{"$error":"#N/A"}]
[null,"",{"$error":"#N/A"}]
[null,"",{"$error":"#N/A"}]
[null,"",{"$error":"#N/A"}]
[null,"",{"$error":"#N/A"}]
[null,"",{"$error":"#N/A"}]
[null,"",{"$error":"#N/A"}]
[null,"",{"$error":"#N/A"}]
[null,"",{"$error":"#N/A"}]
[null,"",{"$error":"#N/A"}]
[null,"",{"$error":"#N/A"}]
[null,"",{"$error":"#N/A"}]
[null,"",{"$error":"#N/A"}]
[null,"",{"$error":"#N/A"}]
[null,"",{"$error":"#N/A"}]
[null,"",{"$error":"#N/A"}]
[null,"",{"$error":"#N/A"}]
[null,"",{"$error":"#N/A"}]
[null,"",{"$error":"#N/A"}]
[null,"",{"$error":"#N/A"}]
[null,"",{"$error":"#N/A"}]
[null,"",{"$error":"#N/A"}]
[null,"",{"$error":"#N/A"}]
[null,"",{"$error":"#N/A"}]
[null,"",{"$error":"#N/A"}]
[null,"",{"$error":"#N/A"}]
[null,"",{"$error":"#N/A"}]
[null,"",{"$error":"#N/A"}]
[null,"",{"$error":"#N/A"}]
[null,"",{"$error":"#N/A"}]
[null,"",{"$error":"#N/A"}]
[null,"",{"$error":"#N/A"}]
[null,"",{"$error":"#N/A"}]
[null,"",{"$error":"#N/A"}]
[null,"",{"$error":"#N/A"}]
[null,"",{"$f":"VLOOKUP(A67,$A$2:$A$250,1,FALSE)","v":{"$error":"#N/A"}}]
[null,{"$f":"IF(A68=\"\",\"\",B67+1)","v":""},{"$error":"#N/A"}]
[null,"",{"$error":"#N/A"}]
[null,"",{"$error":"#N/A"}]
[null,"",{"$error":"#N/A"}]
[null,"",{"$error":"#N/A"}]
[null,"",{"$error":"#N/A"}]
[null,"",{"$error":"#N/A"}]
[null,"",{"$error":"#N/A"}]
[null,"",{"$error":"#N/A"}]
[null,"",{"$error":"#N/A"}]
[null,"",{"$error":"#N/A"}]
[null,"",{"$error":"#N/A"}]
[null,"",{"$error":"#N/A"}]
[null,"",{"$error":"#N/A"}]
[null,"",{"$error":"#N/A"}]
[null,"",{"$error":"#N/A"}]
[null,"",{"$error":"#N/A"}]
[null,"",{"$error":"#N/A"}]
[null,"",{"$error":"#N/A"}]
[null,"",{"$error":"#N/A"}]
[null,"",{"$error":"#N/A"}]
[null,"",{"$error":"#N/A"}]
[null,"",{"$error":"#N/A"}]
[null,"",{"$error":"#N/A"}]
[null,"",{"$error":"#N/A"}]
[null,"",{"$error":"#N/A"}]
[null,"",{"$error":"#N/A"}]
[null,"",{"$error":"#N/A"}]
[null,"",{"$error":"#N/A"}]
[null,"",{"$error":"#N/A"}]
[null,"",{"$error":"#N/A"}]
[null,"",{"$error":"#N/A"}]
[null,"",{"$error":"#N/A"}]
[null,"",{"$error":"#N/A"}]
[null,"",{"$error":"#N/A"}]
[null,"",{"$error":"#N/A"}]
[null,"",{"$error":"#N/A"}]
[null,"",{"$error":"#N/A"}]
[null,"",{"$error":"#N/A"}]
[null,"",{"$error":"#N/A"}]
[null,"",{"$error":"#N/A"}]
[null,"",{"$error":"#N/A"}]
[null,"",{"$error":"#N/A"}]
[null,"",{"$error":"#N/A"}]
[null,"",{"$error":"#N/A"}]
[null,"",{"$error":"#N/A"}]
[null,"",{"$error":"#N/A"}]
[null,"",{"$error":"#N/A"}]
[null,"",{"$error":"#N/A"}]
[null,"",{"$error":"#N/A"}]
[null,"",{"$error":"#N/A"}]
[null,"",{"$error":"#N/A"}]
[null,"",{"$error":"#N/A"}]
[null,"",{"$error":"#N/A"}]
[null,"",{"$error":"#N/A"}]
[null,"",{"$error":"#N/A"}]
[null,"",{"$error":"#N/A"}]
[null,"",{"$error":"#N/A"}]
[null,"",{"$error":"#N/A"}]
[null,"",{"$error":"#N/A"}]
[null,"",{"$error":"#N/A"}]
[null,"",{"$error":"#N/A"}]
[null,"",{"$error":"#N/A"}]
[null,"",{"$f":"VLOOKUP(A131,$A$2:$A$250,1,FALSE)","v":{"$error":"#N/A"}}]
[null,{"$f":"IF(A132=\"\",\"\",B131+1)","v":""},{"$error":"#N/A"}]
[null,"",{"$error":"#N/A"}]
[null,"",{"$error":"#N/A"}]
[null,"",{"$error":"#N/A"}]
[null,"",{"$error":"#N/A"}]
[null,"",{"$error":"#N/A"}]
[null,"",{"$error":"#N/A"}]
[null,"",{"$error":"#N/A"}]
[null,"",{"$error":"#N/A"}]
[null,"",{"$error":"#N/A"}]
[null,"",{"$error":"#N/A"}]
[null,"",{"$error":"#N/A"}]
[null,"",{"$error":"#N/A"}]
[null,"",{"$error":"#N/A"}]
[null,"",{"$error":"#N/A"}]
[null,"",{"$error":"#N/A"}]
[null,"",{"$error":"#N/A"}]
[null,"",{"$error":"#N/A"}]
[null,"",{"$error":"#N/A"}]
[null,"",{"$error":"#N/A"}]
[null,"",{"$error":"#N/A"}]
[null,"",{"$error":"#N/A"}]
[null,"",{"$error":"#N/A"}]
[null,"",{"$error":"#N/A"}]
[null,"",{"$error":"#N/A"}]
[null,"",{"$error":"#N/A"}]
[null,"",{"$error":"#N/A"}]
[null,"",{"$error":"#N/A"}]
[null,"",{"$error":"#N/A"}]
[null,"",{"$error":"#N/A"}]
[null,"",{"$error":"#N/A"}]
[null,"",{"$error":"#N/A"}]
[null,"",{"$error":"#N/A"}]
[null,"",{"$error":"#N/A"}]
[null,"",{"$error":"#N/A"}]
[null,"",{"$error":"#N/A"}]
[null,"",{"$error":"#N/A"}]
[null,"",{"$error":"#N/A"}]
[null,"",{"$error":"#N/A"}]
[null,"",{"$error":"#N/A"}]
[null,"",{"$error":"#N/A"}]
[null,"",{"$error":"#N/A"}]
[null,"",{"$error":"#N/A"}]
[null,"",{"$error":"#N/A"}]
[null,"",{"$error":"#N/A"}]
[null,"",{"$error":"#N/A"}]
[null,"",{"$error":"#N/A"}]
[null,"",{"$error":"#N/A"}]
[null,"",{"$error":"#N/A"}]
[null,"",{"$error":"#N/A"}]
[null,"",{"$error":"#N/A"}]
[null,"",{"$error":"#N/A"}]
[null,"",{"$error":"#N/A"}]
[null,"",{"$error":"#N/A"}]
[null,"",{"$error":"#N/A"}]
[null,"",{"$error":"#N/A"}]
[null,"",{"$error":"#N/A"}]
[null,"",{"$error":"#N/A"}]
[null,"",{"$error":"#N/A"}]
[null,"",{"$error":"#N/A"}]
[null,"",{"$error":"#N/A"}]
[null,"",{"$error":"#N/A"}]
[null,"",{"$error":"#N/A"}]
[null,"",{"$f":"VLOOKUP(A195,$A$2:$A$250,1,FALSE)","v":{"$error":"#N/A"}}]
[null,{"$f":"IF(A196=\"\",\"\",B195+1)","v":""},{"$error":"#N/A"}]
[null,"",{"$error":"#N/A"}]
[null,"",{"$error":"#N/A"}]
[null,"",{"$error":"#N/A"}]
[null,"",{"$error":"#N/A"}]
[null,"",{"$error":"#N/A"}]
[null,"",{"$error":"#N/A"}]
[null,"",{"$error":"#N/A"}]
[null,"",{"$error":"#N/A"}]
[null,"",{"$error":"#N/A"}]
[null,"",{"$error":"#N/A"}]
[null,"",{"$error":"#N/A"}]
[null,"",{"$error":"#N/A"}]
[null,"",{"$error":"#N/A"}]
[null,"",{"$error":"#N/A"}]
[null,"",{"$error":"#N/A"}]
[null,"",{"$error":"#N/A"}]
[null,"",{"$error":"#N/A"}]
[null,"",{"$error":"#N/A"}]
[null,"",{"$error":"#N/A"}]
[null,"",{"$error":"#N/A"}]
[null,"",{"$error":"#N/A"}]
[null,"",{"$error":"#N/A"}]
[null,"",{"$error":"#N/A"}]
[null,"",{"$error":"#N/A"}]
[null,"",{"$error":"#N/A"}]
[null,"",{"$error":"#N/A"}]
[null,"",{"$error":"#N/A"}]
[null,"",{"$error":"#N/A"}]
[null,"",{"$error":"#N/A"}]
[null,"",{"$error":"#N/A"}]
[null,"",{"$error":"#N/A"}]
[null,"",{"$error":"#N/A"}]
[null,"",{"$error":"#N/A"}]
[null,"",{"$error":"#N/A"}]
[null,"",{"$error":"#N/A"}]
[null,"",{"$error":"#N/A"}]
[null,"",{"$error":"#N/A"}]
[null,"",{"$error":"#N/A"}]
[null,"",{"$error":"#N/A"}]
[null,"",{"$error":"#N/A"}]
[null,"",{"$error":"#N/A"}]
[null,"",{"$error":"#N/A"}]
[null,"",{"$error":"#N/A"}]
[null,"",{"$error":"#N/A"}]
[null,"",{"$error":"#N/A"}]
[null,"",{"$error":"#N/A"}]
[null,"",{"$error":"#N/A"}]
[null,"",{"$error":"#N/A"}]
[null,"",{"$error":"#N/A"}]
[null,"",{"$error":"#N/A"}]
[null,"",{"$error":"#N/A"}]
[null,"",{"$error":"#N/A"}]
[null,"",{"$error":"#N/A"}]
[null,"",{"$error":"#N/A"}]